{"text_format":"1","workbook":"xlsx","n_sheets":7,"sheets":["Mainframe","Scoresheet","Answers","Results","Options","Summary","PM"],"not_rendered":{"charts":0,"images":0,"macros":1,"external_links":1,"defined_names":16,"comments":0,"pivot_tables":0},"unopened":[],"bounds":{"document_bytes":16777216,"sheet_cells":100000,"rows_first":2000,"rows_last":500,"rows_between":2000,"halvings":0,"cell_chars":16384,"cell_head_chars":4096},"cells_cut":0,"cells_raw":0,"read":"whole","date_system":"1900"}

{"sheet":"Mainframe","index":0,"n_rows":74,"n_cols":22,"rows_kept":74,"cut":false,"hidden":false,"merged":[]}
["Timestamp","Handle","Q1","Q2","Q3","Q4","Q5","Q6","Q7","Q8","Q9","Q10","Q11","Q12","TB","FOX","PM",null,null,null,null,{"$f":"COUNTA(B:B)-1","v":73}]
["2015-11-21T16:39:47","MollyQMurphy",3,121,16,1861,1,22,42,202,75,76,11,40,324,"12. Religion","Yes, please PM me"]
["2015-11-21T17:20:59","MarkBarrett",1,121,34,1860,8,7,20,202,80,67,40,12,666,"4. War","No, thanks"]
["2015-11-21T17:42:13","Peggles",3,100,2001,1415,11,451,42,9,66,76,11,95400,400,"8. American Politics","Yes, please PM me"]
["2015-11-21T17:46:38","gamawire",96,121,101,1815,6,22,76,1974,35,61,5,66,654,"9. Interstate Highways","Yes, please PM me"]
["2015-11-21T18:33:22","ZachTheRiah",1,21,101,1861,2,451,75,18,5,65,50,150,650,"11. Idioms","Yes, please PM me"]
["2015-11-21T19:04:45","9021amyers",10000,38,10,1415,92,7,42,1850,76,94,11,95,396,"7. Musicals","No, thanks"]
["2015-11-21T19:07:09","Rackme32",20,108,16,1815,16,22,76,49,84,42,5,10,665,"5. Chemistry","Yes, please PM me"]
["2015-11-21T19:21:48","caknuck",98,22,10,1815,5,451,4,18,35,5,3,666,480,"7. Musicals","No, thanks"]
["2015-11-21T21:35:56","Dlinn83",5000,11,12,1762,2,22,20,11,5,42,2,10,500,"4. War","Yes, please PM me"]
["2015-11-22T15:17:28","MitchO",3,38,16,1940,36,6,64,9,9,76,5,10,733,"12. Religion","Yes, please PM me"]
["2015-11-22T16:31:43","dinghammer",65,1326,300,1815,5,12,76,34,84,49,5,613,587,"4. War","No, thanks"]
["2015-11-22T17:35:35","RichmondJ",40,22,7,1777,11,80,525600,1850,94,5,8,150,412,"1. Pop Music","No, thanks"]
["2015-11-22T21:31:02","geolawyerman",1,21,2012,312,2,4,8,18,84,61,8,5000,500,"7. Musicals","No, thanks"]
["2015-11-22T22:00:27","Blue Lion",40,23,400,1066,36,47,42,538,88,61,40,95,542,"2. Games","Yes, please PM me"]
["2015-11-22T22:15:35","Abraxas",5000,775,3000,2003,47,49,525600,1974,35,2130,10,666,497,"10. Sports","Yes, please PM me"]
["2015-11-23T11:22:07","quarterrican",20,19,300,1863,5,80,19,1974,95,49,5,95,612,"4. War","Yes, please PM me"]
["2015-11-23T11:51:37","mitchparov",65,775,300,1964,2,4,25,9,95,42,6,613,500,"2. Games","No, thanks"]
["2015-11-23T13:29:00","immaf",5,100,2001,1512,2,22,42,9,84,49,9,10,500,"1. Pop Music","Yes, please PM me"]
["2015-11-23T14:51:40","clprez",5,61,34,1940,20,451,42,49,94,67,9,622,369,"10. Sports","Yes, please PM me"]
["2015-11-23T15:39:30","mikeyb",40,108,34,2003,5,1000,11,1974,20,49,9,27,667,"4. War","No, thanks"]
["2015-11-23T17:00:34","ElendilPickle",20,21,34,1815,5,7,20,1974,8,49,8,150,500,"5. Chemistry","Yes, please PM me"]
["2015-11-23T17:59:36","MinnesotaMyron",5000,22,16,1861,5,1000,11,49,35,61,1000,150,500,"9. Interstate Highways","Yes, please PM me"]
["2015-11-23T18:15:08","BigDaddyMatty",9,121,34,2003,8,22,64,34,84,67,3,27,500,"6. Books","Yes, please PM me"]
["2015-11-24T02:36:42","Category 13",3,38,16,1940,18,61,76,1789,94,42,5,12,455,"7. Musicals","Yes, please PM me"]
["2015-11-24T11:07:34","Lampy",65,1326,10,312,92,49,20,47,4,20,19,622,412,"5. Chemistry","Yes, please PM me"]
["2015-11-24T15:38:10","Magna",1,2652,16,1968,6,80,20,9,8,76,11,27,618,"4. War","Yes, please PM me"]
["2015-11-24T16:25:54","BerneseMountainDogLover",65,42,10,1415,17,1000,25,15,80,5,1000,5000,123,"11. Idioms","No, thanks"]
["2015-11-24T16:58:42","CoachP",9,21,300,2003,11,22,6,202,84,22,5,10,500,"4. War","Yes, please PM me"]
["2015-11-24T17:42:18","BennyBXB",1,775,300,1942,6,66,525600,538,95,20,2,10,502,"9. Interstate Highways","No, thanks"]
["2015-11-24T22:58:11","Holocene Hero",65,775,12,1815,5,20000,20,18,95,76,50,613,499,"4. War","No, thanks"]
["2015-11-24T23:30:36","tjconn728",311,775,10,1861,2,7,20,538,99,22,50,10,533,"4. War","No, thanks"]
["2015-11-25T01:54:30","dhkendall",40,100,10,9,6,66,76,202,35,42,40,622,623,"6. Books","No, thanks"]
["2015-11-25T02:24:34","Rusty's in the club",40,108,101,1964,5,52,42,18,4,100,5,10,495,"12. Religion","Yes, please PM me"]
["2015-11-25T02:54:26","groovitude",5000,21,2001,1861,5,4,20,1974,80,5,2,4,438,"3. Film","Yes, please PM me"]
["2015-11-25T14:51:43","cmp146",40,21,10,1861,16,4,11,18,76,49,6,10,502,"12. Religion","No, thanks"]
["2015-11-26T02:16:55","psgola",5,21,300,2003,5,22,76,538,5,67,1000,5000,365,"1. Pop Music","Yes, please PM me"]
["2015-11-26T10:35:14","mennoknight",10000,22,300,1964,8,66,76,9,5,60,6,40,500,"4. War","No, thanks"]
["2015-11-26T21:41:22","econgator",3,121,101,1066,92,451,8,49,75,5,1000000,666,295,"12. Religion","No, thanks"]
["2015-11-27T03:39:24","Caboom",1,21,300,1815,106,22,16,9,3,22,50,10,501,"9. Interstate Highways","Yes, please PM me"]
["2015-11-27T08:24:50","dnbguy",20,31,10,2003,6,12,6,202,84,67,8,10,500,"4. War","No, thanks"]
["2015-11-27T08:40:22","chmmr",182,21,300,1861,6,22,42,9,5,49,5,666,500,"3. Film","Yes, please PM me"]
["2015-11-27T10:23:37","Ryno",3,38,2012,1815,5,66,42,49,5,42,3,27,500,"4. War","Yes, please PM me"]
["2015-11-27T10:59:58","patkav",5,38,34,1777,5,49,25,18,35,61,5,12,23,"10. Sports","Yes, please PM me"]
["2015-11-27T11:42:20","Bamaman",3,22,34,1815,8,22,76,1850,20,67,5,27,513,"5. Chemistry","Yes, please PM me"]
["2015-11-27T12:04:33","nightlove1200",20,664,34,1777,18,22,25,1974,80,42,5,27,442,"2. Games","No, thanks"]
["2015-11-27T16:35:15","ouachiouat",3,21,16,1861,8,22,76,9,75,22,50,27,500,"7. Musicals","Yes, please PM me"]
["2015-11-27T17:01:31","RyanWillDestroySofia",5000,22,16,1861,6,1000,19,18,4,67,5,95,401,"4. War","Yes, please PM me"]
["2015-11-27T17:44:00","Pickle",10000,186,2001,2003,18,12,20,1791,95,2130,1000,10,343,"12. Religion","Yes, please PM me"]
["2015-11-27T22:04:38","BobF",182,49,300,476,6,1000,42,34,4,67,11,632,500,"3. Film","Yes, please PM me"]
["2015-11-29T08:44:05","Peachbox",1,21,34,1861,2,12,76,1974,80,60,9,95,528,"5. Chemistry","No, thanks"]
["2015-11-29T13:45:45","RandyG",10000,38,34,1965,47,17,42,202,8,94,5,613,100,"6. Books","Yes, please PM me"]
["2015-11-29T15:03:10","Armandillo",65,22,101,1861,1,451,6,9,5,22,9,10,864,"12. Religion","No, thanks"]
["2015-11-29T18:58:16","dott888",40,121,2001,2006,2,1984,18,9,75,67,9,10,665,"4. War","No, thanks"]
["2015-11-29T20:13:48","jgamer",65,100,400,312,18,7,33,49,8,94,6,4,501,"11. Idioms","Yes, please PM me"]
["2015-11-29T21:42:03","ihavejeoprosy",65,121,10,1940,36,52,25,49,35,20,5,4,500,"2. Games","Yes, please PM me"]
["2015-11-30T01:41:16","DadofTwins",40,42,34,312,17,22,20,46,8,40,5,150,500,"8. American Politics","No, thanks"]
["2015-11-30T04:26:48","cool_hand",98,22,10,1940,2,20000,64,49,84,63,6,4,212,"6. Books","No, thanks"]
["2015-11-30T14:15:20","kettledrum",1,108,16,2003,106,451,20,18,94,94,9,95,333,"4. War","Yes, please PM me"]
["2015-11-30T14:39:11","Woppy T",10000,22,16,1861,2,4,76,202,84,60,5,5000,505,"12. Religion","Yes, please PM me"]
["2015-11-30T16:22:28","goforthetie",10000,56,3000,1940,18,7,20,1850,99,60,6,12,500,"4. War","No, thanks"]
["2015-11-30T17:57:47","EricaofTwins",7,64,5,1452,11,53,76,19,36,22,9,40,537,"3. Film","No, thanks"]
["2015-11-30T18:13:51","KatieofTwins",27,64,451,1451,47,20000,76,1783,36,96,6,5000,777,"8. American Politics","No, thanks"]
["2015-11-30T18:24:14","Dick Butkus",40,22,47,1453,2,22,525600,47,80,5,9,4,666,"8. American Politics","No, thanks"]
["2015-11-30T18:27:03","Big Bear",3,38,12,1076,6,1000,76,202,60,5,8,5000,676,"5. Chemistry"]
["2015-11-30T20:00:39","naurae29",40,21,34,2002,5,80,6,202,1,76,1000,27,325,"2. Games","Yes, please PM me"]
["2015-11-30T20:20:16","JonathanHenke",40,121,16,1415,8,3,25,535,35,24,3,666,420,"5. Chemistry","No, thanks"]
["2015-11-30T20:45:24","goatman",40,108,2001,1415,26,451,42,202,94,100,8,622,542,"1. Pop Music","No, thanks"]
["2015-11-30T20:55:55","deano",5,56,47,1415,2,1984,42,49,5,42,1000,5000,442,"6. Books","Yes, please PM me"]
["2015-11-30T21:00:45","schoe",20,22,101,1453,36,1984,11,15,76,72,3,5000,500,"4. War","Yes, please PM me"]
["2015-11-30T21:59:32","Ivoirians",65,56,300,1415,5,4,525600,34,5,49,2,95,496,"12. Religion","Yes, please PM me"]
["2015-11-30T22:25:29","yossarian",40,42,16,1861,2,49,20,18,95,100,6,40,333,"5. Chemistry","No, thanks"]
["2015-11-30T22:34:08","Steppenwolf",3,56,34,1815,18,80,12,49,76,100,3,27,500,"1. Pop Music"]
["2015-12-01T00:04:15","barandall800",3,21,101,1940,2,12,25,9,10,49,5,5000,500,"10. Sports","Yes, please PM me"]

{"sheet":"Scoresheet","index":1,"n_rows":103,"n_cols":92,"rows_kept":103,"cut":false,"hidden":false,"merged":[[0,51,0,53]]}
[null,null,1,"1. POP MUSIC",null,{"$f":"LEFT(MAX(G3:G200,1))","v":"1"},{"$f":"Answers!D3","v":13},"2. GAMES",null,{"$f":"LEFT(MAX(K3:K200,1))","v":"2"},{"$f":"Answers!H3","v":13},"3. FILM",null,{"$f":"LEFT(MAX(O3:O200,1))","v":"2"},{"$f":"Answers!L3","v":13},"4. WAR",null,{"$f":"LEFT(MAX(S3:S200,1))","v":"3"},{"$f":"Answers!P3","v":13},"5. CHEMISTRY",null,{"$f":"LEFT(MAX(W3:W200,1))","v":"4"},{"$f":"Answers!T3","v":14},"6. BOOKS",null,{"$f":"LEFT(MAX(AA3:AA200,1))","v":"4"},{"$f":"Answers!X3","v":15},"7. MUSICALS",null,{"$f":"LEFT(MAX(AE3:AE200,1))","v":"5"},{"$f":"Answers!AB3","v":14},"8. POLITICS",null,{"$f":"LEFT(MAX(AI3:AI200,1))","v":"5"},{"$f":"Answers!AF3","v":12},"9. INTERSTATES",null,{"$f":"LEFT(MAX(AM3:AM200,1))","v":"6"},{"$f":"Answers!AJ3","v":9},"10. SPORTS",null,{"$f":"LEFT(MAX(AQ3:AQ200,1))","v":"7"},{"$f":"Answers!AN3","v":9},"11. IDIOMS",null,{"$f":"LEFT(MAX(AU3:AU200,1))","v":"7"},{"$f":"Answers!AR3","v":18},"12. RELIGION",null,{"$f":"LEFT(MAX(AY3:AY200,1))","v":"7"},{"$f":"Answers!AV3","v":14},"tiebreaker",null,null,null,"Question 14",null,null,null,"Question 15",null,null,null,"Question 16",null,null,null,"Question 17",null,null,null,"Question 18",null,null,null,"Question 19",null,null,null,"Question 20",null,null,null,null,null,null,"Automated answer compilation",null,null,"Automated standings"]
[null,"Player","Order","Response","Resp","Adj","Total","Response","Resp","Adj","Total","Response","Resp","Adj","Total","Response","Resp","Adj","Total","Response","Resp","Adj","Total","Response","Resp","Adj","Total","Response","Resp","Adj","Total","Response","Resp","Adj","Total","Response","Resp","Adj","Total","Response","Resp","Adj","Total","Response","Resp","Adj","Total","Response","Resp","Adj","Total",{"$f":"AVERAGE(AZ3:AZ500)","v":488.47945205479454},"Resp",null,"FOX","Response","Resp","Adj","Total","Response","Resp","Adj","Total","Response","Resp","Adj","Total","Response","Resp","Adj","Total","Response","Resp","Adj","Total","Response","Resp","Adj","Total","Response","Resp","Adj","Total",null,null,"Rank",null,"Resp list","Filter","Standings","Rank","Change"]
["[*]",{"$f":"IF(Mainframe!B2=\"\",\"\",INDEX(Mainframe!$B:$B,C3+1,1))","v":"MollyQMurphy"},1,{"$f":"IF($B3=\"\",\"\",0+UPPER(Mainframe!C2))","v":3},{"$f":"IF(D3=\"\",\"\",IF(NOT(ISNA(VLOOKUP(D3,Answers!A:D,4,FALSE))),VLOOKUP(D3,Answers!A:D,4,FALSE),\"Help!\"))","v":11},null,{"$f":"IF(E3=\"\",\"\",IF(E3=\"XX\",VLOOKUP(\"WRONG\",Answers!A:D,4,FALSE),E3)+F3)","v":11},{"$f":"IF($B3=\"\",\"\",0+UPPER(Mainframe!D2))","v":121},{"$f":"IF(H3=\"\",\"\",IF(NOT(ISNA(VLOOKUP(H3,Answers!E:H,4,FALSE))),VLOOKUP(H3,Answers!E:H,4,FALSE),\"Help!\"))","v":8},null,{"$f":"IF(I3=\"\",\"\",G3+IF(I3=\"XX\",VLOOKUP(\"WRONG\",Answers!E:H,4,FALSE),I3)+J3)","v":19},{"$f":"IF($B3=\"\",\"\",0+UPPER(Mainframe!E2))","v":16},{"$f":"IF(L3=\"\",\"\",IF(NOT(ISNA(VLOOKUP(L3,Answers!I:L,4,FALSE))),VLOOKUP(L3,Answers!I:L,4,FALSE),\"Help!\"))","v":12},null,{"$f":"IF(M3=\"\",\"\",K3+IF(M3=\"XX\",VLOOKUP(\"WRONG\",Answers!I:L,4,FALSE),M3)+N3)","v":31},{"$f":"IF($B3=\"\",\"\",0+UPPER(Mainframe!F2))","v":1861},{"$f":"IF(P3=\"\",\"\",IF(NOT(ISNA(VLOOKUP(P3,Answers!M:P,4,FALSE))),VLOOKUP(P3,Answers!M:P,4,FALSE),\"Help!\"))","v":1000},null,{"$f":"IF(Q3=\"\",\"\",O3+IF(Q3=\"XX\",VLOOKUP(\"WRONG\",Answers!M:P,4,FALSE),Q3)+R3)","v":1031},{"$f":"IF($B3=\"\",\"\",0+UPPER(Mainframe!G2))","v":1},"XX",null,{"$f":"IF(U3=\"\",\"\",S3+IF(U3=\"XX\",VLOOKUP(\"WRONG\",Answers!Q:T,4,FALSE),U3)+V3)","v":2038},{"$f":"IF($B3=\"\",\"\",0+UPPER(Mainframe!H2))","v":22},{"$f":"IF(X3=\"\",\"\",IF(NOT(ISNA(VLOOKUP(X3,Answers!U:X,4,FALSE))),VLOOKUP(X3,Answers!U:X,4,FALSE),\"Help!\"))","v":1000},null,{"$f":"IF(Y3=\"\",\"\",W3+IF(Y3=\"XX\",VLOOKUP(\"WRONG\",Answers!U:X,4,FALSE),Y3)+Z3)","v":3038},{"$f":"IF($B3=\"\",\"\",0+UPPER(Mainframe!I2))","v":42},{"$f":"IF(AB3=\"\",\"\",IF(NOT(ISNA(VLOOKUP(AB3,Answers!Y:AB,4,FALSE))),VLOOKUP(AB3,Answers!Y:AB,4,FALSE),\"Help!\"))","v":13},null,{"$f":"IF(AC3=\"\",\"\",AA3+IF(AC3=\"XX\",VLOOKUP(\"WRONG\",Answers!Y:AB,4,FALSE),AC3)+AD3)","v":3051},{"$f":"IF($B3=\"\",\"\",0+UPPER(Mainframe!J2))","v":202},{"$f":"IF(AF3=\"\",\"\",IF(NOT(ISNA(VLOOKUP(AF3,Answers!AC:AF,4,FALSE))),VLOOKUP(AF3,Answers!AC:AF,4,FALSE),\"Help!\"))","v":10},null,{"$f":"IF(AG3=\"\",\"\",AE3+IF(AG3=\"XX\",VLOOKUP(\"WRONG\",Answers!AC:AF,4,FALSE),AG3)+AH3)","v":3061},{"$f":"IF($B3=\"\",\"\",0+UPPER(Mainframe!K2))","v":75},{"$f":"IF(AJ3=\"\",\"\",IF(NOT(ISNA(VLOOKUP(AJ3,Answers!AG:AJ,4,FALSE))),VLOOKUP(AJ3,Answers!AG:AJ,4,FALSE),\"Help!\"))","v":4},null,{"$f":"IF(AK3=\"\",\"\",AI3+IF(AK3=\"XX\",VLOOKUP(\"WRONG\",Answers!AG:AJ,4,FALSE),AK3)+AL3)","v":3065},{"$f":"IF($B3=\"\",\"\",0+UPPER(Mainframe!L2))","v":76},{"$f":"IF(AN3=\"\",\"\",IF(NOT(ISNA(VLOOKUP(AN3,Answers!AK:AN,4,FALSE))),VLOOKUP(AN3,Answers!AK:AN,4,FALSE),\"Help!\"))","v":6},null,{"$f":"IF(AO3=\"\",\"\",AM3+IF(AO3=\"XX\",VLOOKUP(\"WRONG\",Answers!AK:AN,4,FALSE),AO3)+AP3)","v":3071},{"$f":"IF($B3=\"\",\"\",0+UPPER(Mainframe!M2))","v":11},{"$f":"IF(AR3=\"\",\"\",IF(NOT(ISNA(VLOOKUP(AR3,Answers!AO:AR,4,FALSE))),VLOOKUP(AR3,Answers!AO:AR,4,FALSE),\"Help!\"))","v":5},null,{"$f":"IF(AS3=\"\",\"\",AQ3+IF(AS3=\"XX\",VLOOKUP(\"WRONG\",Answers!AO:AR,4,FALSE),AS3)+AT3)","v":3076},{"$f":"IF($B3=\"\",\"\",0+UPPER(Mainframe!N2))","v":40},{"$f":"IF(AV3=\"\",\"\",IF(NOT(ISNA(VLOOKUP(AV3,Answers!AS:AV,4,FALSE))),VLOOKUP(AV3,Answers!AS:AV,4,FALSE),\"Help!\"))","v":4},{"$f":"IF(AW3>500,-1000,0)","v":0},{"$f":"IF(AW3=\"\",\"\",AU3+IF(AW3=\"XX\",VLOOKUP(\"WRONG\",Answers!AS:AV,4,FALSE),AW3)+AX3)","v":3080},{"$f":"IF($B3=\"\",\"\",0+UPPER(Mainframe!O2))","v":324},{"$f":"IF(AZ3=\"\",\"\",ABS(AZ3-AVERAGE(AZ$3:AZ$101)))","v":164.47945205479454},{"$f":"IF(BA3=\"\",\"\",COUNTA(F3,J3,N3,R3,V3,Z3,AD3,AH3,AL3,AP3,AT3,AX3))","v":1},{"$f":"IF($B3=\"\",\"\",LEFT(Mainframe!P2,SEARCH(\".\",Mainframe!P2)-1))","v":"12"},null,null,null,null,null,null,null,null,null,null,null,null,null,null,null,null,null,null,null,null,null,null,null,null,null,null,null,null,null,null,{"$f":"IF(B3=0,\"\",IF(INDEX($B:$CE,ROW(),1)=0,\"\",IF(INDEX($B:$CE,ROW(),4*QNO+2)=INDEX($B:$CE,ROW()-1,4*QNO+2),$CH2,ROW()-2)))","v":1},{"$f":"IF(INDEX($B:$CE,ROW(),QNO*4)=\"XX\",\"[b][u]\"&INDEX($B:$CE,ROW(),QNO*4-1)&\"[/u][/b]\",\"[color=#BF0040]\"&INDEX(OFFSET(Answers!C:C,0,(QNO-1)*4),MATCH(INDEX($A:$CB,ROW(),QNO*4),OFFSET(Answers!A:A,0,(QNO-1)*4),0))&\"[/color]//[b]\"&INDEX(OFFSET(Answers!B:B,0,(QNO-1)*4),MATCH(INDEX($A:$CB,ROW(),QNO*4),OFFSET(Answers!A:A,0,(QNO-1)*4),0))&\"[/b] — [b]\"&IF(INDEX($B:$CE,ROW(),QNO*4)=1,\"Singleton!\",CONCATENATE(INDEX($B:$CE,ROW(),QNO*4),\" responses\"))&\"[/b]\")","v":"[color=#BF0040]\"Mama Told Me (Not to Come)\", \"Joy to the World\", \"Black and White\"[/color]//[b][u]THREE[/u] DOG NIGHT[/b] — [b]11 responses[/b]"},{"$f":"IF(INDEX($B:$CE,ROW(),1)=0,\"\",IF(INDEX($B:$CE,ROW(),QNO*4-1)=INDEX($B:$CE,ROW()+1,QNO*4-1),CONCATENATE(INDEX($B:$CE,ROW(),1),IF(BC3-0=QNO-0,\" [[b][color=#8000BF]FOX[/color][/b]]\",\"\"),\"//\",INDEX($CJ:$CJ,ROW()+1,1)),INDEX($B:$CE,ROW(),1)&IF(BC3-0=QNO-0,\" [[b][color=#8000BF]FOX[/color][/b]]\",\"\")))","v":"MollyQMurphy"},{"$f":"IF(INDEX($B:$CE,ROW(),1)=0,\"\",IF(ISNUMBER(SEARCH(\"//\",INDEX($CJ:$CJ,ROW()-1,1))),\"No\",\"Yes\"))","v":"Yes"},{"$f":"IF(B3=0,\"\",CONCATENATE(INDEX($CH:$CL,ROW(),1),\". \",INDEX($B:$CE,ROW(),1),\" — \")&IF(QNO=1,CONCATENATE(\"[b]\",TEXT(INDEX($B:$CE,ROW(),QNO*4+2),\"#,##0\"),\"[/b] pts\"),CONCATENATE(\"[color=#BBBBBB]\",TEXT(INDEX($B:$CE,ROW(),QNO*4-2),\"#,##0\"),\" + \",IF(INDEX($B:$CE,ROW(),QNO*4)=\"XX\",\"[/color][color=#BF8000][b]\"&TEXT(WRONGSCORE,\"#,##0\")&\"[/b][/color][color=#BBBBBB]\",IF(INDEX($B:$CE,ROW(),QNO*4)=1000,\"[/color][color=#BF8000][b]1,000[/b][/color][color=#BBBBBB]\",INDEX($B:$CE,ROW(),QNO*4))),IF(INDEX($C:$CE,ROW(),QNO*4)<0,\" [/color][b][color=#8000BF]- 1,000[/color][/b][color=#BBBBBB]\",\"\"),\" → [/color][b]\",TEXT(INDEX($B:$CE,ROW(),QNO*4+2),\"#,##0\"),\"[/b] pts \"&\"[[b]\"&IF(CN3>0,\"[color=#00BF00]↑\"&CN3,IF(CN3<0,\"[color=#FF0000]↓\"&ABS(CN3),\"[color=#0000FF]unch\"))&\"[/b][/color]]\")))","v":"1. MollyQMurphy — [b]11[/b] pts"},49,{"$f":"CM3-CH3","v":48}]
["[*]",{"$f":"IF(Mainframe!B3=\"\",\"\",INDEX(Mainframe!$B:$B,C4+1,1))","v":"MarkBarrett"},2,{"$f":"IF($B4=\"\",\"\",0+UPPER(Mainframe!C3))","v":1},{"$f":"IF(D4=\"\",\"\",IF(NOT(ISNA(VLOOKUP(D4,Answers!A:D,4,FALSE))),VLOOKUP(D4,Answers!A:D,4,FALSE),\"Help!\"))","v":8},null,{"$f":"IF(E4=\"\",\"\",IF(E4=\"XX\",VLOOKUP(\"WRONG\",Answers!A:D,4,FALSE),E4)+F4)","v":8},{"$f":"IF($B4=\"\",\"\",0+UPPER(Mainframe!D3))","v":121},{"$f":"IF(H4=\"\",\"\",IF(NOT(ISNA(VLOOKUP(H4,Answers!E:H,4,FALSE))),VLOOKUP(H4,Answers!E:H,4,FALSE),\"Help!\"))","v":8},null,{"$f":"IF(I4=\"\",\"\",G4+IF(I4=\"XX\",VLOOKUP(\"WRONG\",Answers!E:H,4,FALSE),I4)+J4)","v":16},{"$f":"IF($B4=\"\",\"\",0+UPPER(Mainframe!E3))","v":34},{"$f":"IF(L4=\"\",\"\",IF(NOT(ISNA(VLOOKUP(L4,Answers!I:L,4,FALSE))),VLOOKUP(L4,Answers!I:L,4,FALSE),\"Help!\"))","v":1000},null,{"$f":"IF(M4=\"\",\"\",K4+IF(M4=\"XX\",VLOOKUP(\"WRONG\",Answers!I:L,4,FALSE),M4)+N4)","v":1016},{"$f":"IF($B4=\"\",\"\",0+UPPER(Mainframe!F3))","v":1860},"XX",{"$f":"IF(Q4>500,-1000,0)","v":-1000},{"$f":"IF(Q4=\"\",\"\",O4+IF(Q4=\"XX\",VLOOKUP(\"WRONG\",Answers!M:P,4,FALSE),Q4)+R4)","v":1023},{"$f":"IF($B4=\"\",\"\",0+UPPER(Mainframe!G3))","v":8},{"$f":"IF(T4=\"\",\"\",IF(NOT(ISNA(VLOOKUP(T4,Answers!Q:T,4,FALSE))),VLOOKUP(T4,Answers!Q:T,4,FALSE),\"Help!\"))","v":6},null,{"$f":"IF(U4=\"\",\"\",S4+IF(U4=\"XX\",VLOOKUP(\"WRONG\",Answers!Q:T,4,FALSE),U4)+V4)","v":1029},{"$f":"IF($B4=\"\",\"\",0+UPPER(Mainframe!H3))","v":7},{"$f":"IF(X4=\"\",\"\",IF(NOT(ISNA(VLOOKUP(X4,Answers!U:X,4,FALSE))),VLOOKUP(X4,Answers!U:X,4,FALSE),\"Help!\"))","v":6},null,{"$f":"IF(Y4=\"\",\"\",W4+IF(Y4=\"XX\",VLOOKUP(\"WRONG\",Answers!U:X,4,FALSE),Y4)+Z4)","v":1035},{"$f":"IF($B4=\"\",\"\",0+UPPER(Mainframe!I3))","v":20},{"$f":"IF(AB4=\"\",\"\",IF(NOT(ISNA(VLOOKUP(AB4,Answers!Y:AB,4,FALSE))),VLOOKUP(AB4,Answers!Y:AB,4,FALSE),\"Help!\"))","v":13},null,{"$f":"IF(AC4=\"\",\"\",AA4+IF(AC4=\"XX\",VLOOKUP(\"WRONG\",Answers!Y:AB,4,FALSE),AC4)+AD4)","v":1048},{"$f":"IF($B4=\"\",\"\",0+UPPER(Mainframe!J3))","v":202},{"$f":"IF(AF4=\"\",\"\",IF(NOT(ISNA(VLOOKUP(AF4,Answers!AC:AF,4,FALSE))),VLOOKUP(AF4,Answers!AC:AF,4,FALSE),\"Help!\"))","v":10},null,{"$f":"IF(AG4=\"\",\"\",AE4+IF(AG4=\"XX\",VLOOKUP(\"WRONG\",Answers!AC:AF,4,FALSE),AG4)+AH4)","v":1058},{"$f":"IF($B4=\"\",\"\",0+UPPER(Mainframe!K3))","v":80},{"$f":"IF(AJ4=\"\",\"\",IF(NOT(ISNA(VLOOKUP(AJ4,Answers!AG:AJ,4,FALSE))),VLOOKUP(AJ4,Answers!AG:AJ,4,FALSE),\"Help!\"))","v":6},null,{"$f":"IF(AK4=\"\",\"\",AI4+IF(AK4=\"XX\",VLOOKUP(\"WRONG\",Answers!AG:AJ,4,FALSE),AK4)+AL4)","v":1064},{"$f":"IF($B4=\"\",\"\",0+UPPER(Mainframe!L3))","v":67},{"$f":"IF(AN4=\"\",\"\",IF(NOT(ISNA(VLOOKUP(AN4,Answers!AK:AN,4,FALSE))),VLOOKUP(AN4,Answers!AK:AN,4,FALSE),\"Help!\"))","v":1000},null,{"$f":"IF(AO4=\"\",\"\",AM4+IF(AO4=\"XX\",VLOOKUP(\"WRONG\",Answers!AK:AN,4,FALSE),AO4)+AP4)","v":2064},{"$f":"IF($B4=\"\",\"\",0+UPPER(Mainframe!M3))","v":40},{"$f":"IF(AR4=\"\",\"\",IF(NOT(ISNA(VLOOKUP(AR4,Answers!AO:AR,4,FALSE))),VLOOKUP(AR4,Answers!AO:AR,4,FALSE),\"Help!\"))","v":3},null,{"$f":"IF(AS4=\"\",\"\",AQ4+IF(AS4=\"XX\",VLOOKUP(\"WRONG\",Answers!AO:AR,4,FALSE),AS4)+AT4)","v":2067},{"$f":"IF($B4=\"\",\"\",0+UPPER(Mainframe!N3))","v":12},{"$f":"IF(AV4=\"\",\"\",IF(NOT(ISNA(VLOOKUP(AV4,Answers!AS:AV,4,FALSE))),VLOOKUP(AV4,Answers!AS:AV,4,FALSE),\"Help!\"))","v":4},null,{"$f":"IF(AW4=\"\",\"\",AU4+IF(AW4=\"XX\",VLOOKUP(\"WRONG\",Answers!AS:AV,4,FALSE),AW4)+AX4)","v":2071},{"$f":"IF($B4=\"\",\"\",0+UPPER(Mainframe!O3))","v":666},177.52054794520546,1,{"$f":"IF($B4=\"\",\"\",LEFT(Mainframe!P3,SEARCH(\".\",Mainframe!P3)-1))","v":"4"},null,null,null,null,null,null,null,null,null,null,null,null,null,null,null,null,null,null,null,null,null,null,null,null,null,null,null,null,null,null,2,{"$f":"IF(INDEX($B:$CE,ROW(),QNO*4)=\"XX\",\"[b][u]\"&INDEX($B:$CE,ROW(),QNO*4-1)&\"[/u][/b]\",\"[color=#BF0040]\"&INDEX(OFFSET(Answers!C:C,0,(QNO-1)*4),MATCH(INDEX($A:$CB,ROW(),QNO*4),OFFSET(Answers!A:A,0,(QNO-1)*4),0))&\"[/color]//[b]\"&INDEX(OFFSET(Answers!B:B,0,(QNO-1)*4),MATCH(INDEX($A:$CB,ROW(),QNO*4),OFFSET(Answers!A:A,0,(QNO-1)*4),0))&\"[/b] — [b]\"&IF(INDEX($B:$CE,ROW(),QNO*4)=1,\"Singleton!\",CONCATENATE(INDEX($B:$CE,ROW(),QNO*4),\" responses\"))&\"[/b]\")","v":"[color=#BF0040]\"What Makes You Beautiful\", \"Little Things\", \"Best Song Ever\"[/color]//[b][u]ONE[/u] DIRECTION[/b] — [b]8 responses[/b]"},"MarkBarrett","Yes","2. MarkBarrett — [b]8[/b] pts",25,23]
["[*]",{"$f":"IF(Mainframe!B4=\"\",\"\",INDEX(Mainframe!$B:$B,C5+1,1))","v":"Peggles"},3,{"$f":"IF($B5=\"\",\"\",0+UPPER(Mainframe!C4))","v":3},{"$f":"IF(D5=\"\",\"\",IF(NOT(ISNA(VLOOKUP(D5,Answers!A:D,4,FALSE))),VLOOKUP(D5,Answers!A:D,4,FALSE),\"Help!\"))","v":11},null,{"$f":"IF(E5=\"\",\"\",IF(E5=\"XX\",VLOOKUP(\"WRONG\",Answers!A:D,4,FALSE),E5)+F5)","v":11},{"$f":"IF($B5=\"\",\"\",0+UPPER(Mainframe!D4))","v":100},{"$f":"IF(H5=\"\",\"\",IF(NOT(ISNA(VLOOKUP(H5,Answers!E:H,4,FALSE))),VLOOKUP(H5,Answers!E:H,4,FALSE),\"Help!\"))","v":4},null,{"$f":"IF(I5=\"\",\"\",G5+IF(I5=\"XX\",VLOOKUP(\"WRONG\",Answers!E:H,4,FALSE),I5)+J5)","v":15},{"$f":"IF($B5=\"\",\"\",0+UPPER(Mainframe!E4))","v":2001},{"$f":"IF(L5=\"\",\"\",IF(NOT(ISNA(VLOOKUP(L5,Answers!I:L,4,FALSE))),VLOOKUP(L5,Answers!I:L,4,FALSE),\"Help!\"))","v":6},null,{"$f":"IF(M5=\"\",\"\",K5+IF(M5=\"XX\",VLOOKUP(\"WRONG\",Answers!I:L,4,FALSE),M5)+N5)","v":21},{"$f":"IF($B5=\"\",\"\",0+UPPER(Mainframe!F4))","v":1415},{"$f":"IF(P5=\"\",\"\",IF(NOT(ISNA(VLOOKUP(P5,Answers!M:P,4,FALSE))),VLOOKUP(P5,Answers!M:P,4,FALSE),\"Help!\"))","v":7},null,{"$f":"IF(Q5=\"\",\"\",O5+IF(Q5=\"XX\",VLOOKUP(\"WRONG\",Answers!M:P,4,FALSE),Q5)+R5)","v":28},{"$f":"IF($B5=\"\",\"\",0+UPPER(Mainframe!G4))","v":11},{"$f":"IF(T5=\"\",\"\",IF(NOT(ISNA(VLOOKUP(T5,Answers!Q:T,4,FALSE))),VLOOKUP(T5,Answers!Q:T,4,FALSE),\"Help!\"))","v":4},null,{"$f":"IF(U5=\"\",\"\",S5+IF(U5=\"XX\",VLOOKUP(\"WRONG\",Answers!Q:T,4,FALSE),U5)+V5)","v":32},{"$f":"IF($B5=\"\",\"\",0+UPPER(Mainframe!H4))","v":451},{"$f":"IF(X5=\"\",\"\",IF(NOT(ISNA(VLOOKUP(X5,Answers!U:X,4,FALSE))),VLOOKUP(X5,Answers!U:X,4,FALSE),\"Help!\"))","v":8},null,{"$f":"IF(Y5=\"\",\"\",W5+IF(Y5=\"XX\",VLOOKUP(\"WRONG\",Answers!U:X,4,FALSE),Y5)+Z5)","v":40},{"$f":"IF($B5=\"\",\"\",0+UPPER(Mainframe!I4))","v":42},{"$f":"IF(AB5=\"\",\"\",IF(NOT(ISNA(VLOOKUP(AB5,Answers!Y:AB,4,FALSE))),VLOOKUP(AB5,Answers!Y:AB,4,FALSE),\"Help!\"))","v":13},null,{"$f":"IF(AC5=\"\",\"\",AA5+IF(AC5=\"XX\",VLOOKUP(\"WRONG\",Answers!Y:AB,4,FALSE),AC5)+AD5)","v":53},{"$f":"IF($B5=\"\",\"\",0+UPPER(Mainframe!J4))","v":9},{"$f":"IF(AF5=\"\",\"\",IF(NOT(ISNA(VLOOKUP(AF5,Answers!AC:AF,4,FALSE))),VLOOKUP(AF5,Answers!AC:AF,4,FALSE),\"Help!\"))","v":1000},{"$f":"IF(AG5>500,-1000,0)","v":-1000},{"$f":"IF(AG5=\"\",\"\",AE5+IF(AG5=\"XX\",VLOOKUP(\"WRONG\",Answers!AC:AF,4,FALSE),AG5)+AH5)","v":53},{"$f":"IF($B5=\"\",\"\",0+UPPER(Mainframe!K4))","v":66},"XX",null,{"$f":"IF(AK5=\"\",\"\",AI5+IF(AK5=\"XX\",VLOOKUP(\"WRONG\",Answers!AG:AJ,4,FALSE),AK5)+AL5)","v":1060},{"$f":"IF($B5=\"\",\"\",0+UPPER(Mainframe!L4))","v":76},{"$f":"IF(AN5=\"\",\"\",IF(NOT(ISNA(VLOOKUP(AN5,Answers!AK:AN,4,FALSE))),VLOOKUP(AN5,Answers!AK:AN,4,FALSE),\"Help!\"))","v":6},null,{"$f":"IF(AO5=\"\",\"\",AM5+IF(AO5=\"XX\",VLOOKUP(\"WRONG\",Answers!AK:AN,4,FALSE),AO5)+AP5)","v":1066},{"$f":"IF($B5=\"\",\"\",0+UPPER(Mainframe!M4))","v":11},{"$f":"IF(AR5=\"\",\"\",IF(NOT(ISNA(VLOOKUP(AR5,Answers!AO:AR,4,FALSE))),VLOOKUP(AR5,Answers!AO:AR,4,FALSE),\"Help!\"))","v":5},null,{"$f":"IF(AS5=\"\",\"\",AQ5+IF(AS5=\"XX\",VLOOKUP(\"WRONG\",Answers!AO:AR,4,FALSE),AS5)+AT5)","v":1071},{"$f":"IF($B5=\"\",\"\",0+UPPER(Mainframe!N4))","v":95400},"XX",null,{"$f":"IF(AW5=\"\",\"\",AU5+IF(AW5=\"XX\",VLOOKUP(\"WRONG\",Answers!AS:AV,4,FALSE),AW5)+AX5)","v":2078},{"$f":"IF($B5=\"\",\"\",0+UPPER(Mainframe!O4))","v":400},88.479452054794535,1,{"$f":"IF($B5=\"\",\"\",LEFT(Mainframe!P4,SEARCH(\".\",Mainframe!P4)-1))","v":"8"},null,null,null,null,null,null,null,null,null,null,null,null,null,null,null,null,null,null,null,null,null,null,null,null,null,null,null,null,null,null,3,{"$f":"IF(INDEX($B:$CE,ROW(),QNO*4)=\"XX\",\"[b][u]\"&INDEX($B:$CE,ROW(),QNO*4-1)&\"[/u][/b]\",\"[color=#BF0040]\"&INDEX(OFFSET(Answers!C:C,0,(QNO-1)*4),MATCH(INDEX($A:$CB,ROW(),QNO*4),OFFSET(Answers!A:A,0,(QNO-1)*4),0))&\"[/color]//[b]\"&INDEX(OFFSET(Answers!B:B,0,(QNO-1)*4),MATCH(INDEX($A:$CB,ROW(),QNO*4),OFFSET(Answers!A:A,0,(QNO-1)*4),0))&\"[/b] — [b]\"&IF(INDEX($B:$CE,ROW(),QNO*4)=1,\"Singleton!\",CONCATENATE(INDEX($B:$CE,ROW(),QNO*4),\" responses\"))&\"[/b]\")","v":"[color=#BF0040]\"Mama Told Me (Not to Come)\", \"Joy to the World\", \"Black and White\"[/color]//[b][u]THREE[/u] DOG NIGHT[/b] — [b]11 responses[/b]"},"Peggles","Yes","3. Peggles — [b]11[/b] pts",29,26]
["[*]",{"$f":"IF(Mainframe!B5=\"\",\"\",INDEX(Mainframe!$B:$B,C6+1,1))","v":"gamawire"},4,{"$f":"IF($B6=\"\",\"\",0+UPPER(Mainframe!C5))","v":96},"XX",null,{"$f":"IF(E6=\"\",\"\",IF(E6=\"XX\",VLOOKUP(\"WRONG\",Answers!A:D,4,FALSE),E6)+F6)","v":1007},{"$f":"IF($B6=\"\",\"\",0+UPPER(Mainframe!D5))","v":121},{"$f":"IF(H6=\"\",\"\",IF(NOT(ISNA(VLOOKUP(H6,Answers!E:H,4,FALSE))),VLOOKUP(H6,Answers!E:H,4,FALSE),\"Help!\"))","v":8},null,{"$f":"IF(I6=\"\",\"\",G6+IF(I6=\"XX\",VLOOKUP(\"WRONG\",Answers!E:H,4,FALSE),I6)+J6)","v":1015},{"$f":"IF($B6=\"\",\"\",0+UPPER(Mainframe!E5))","v":101},{"$f":"IF(L6=\"\",\"\",IF(NOT(ISNA(VLOOKUP(L6,Answers!I:L,4,FALSE))),VLOOKUP(L6,Answers!I:L,4,FALSE),\"Help!\"))","v":7},null,{"$f":"IF(M6=\"\",\"\",K6+IF(M6=\"XX\",VLOOKUP(\"WRONG\",Answers!I:L,4,FALSE),M6)+N6)","v":1022},{"$f":"IF($B6=\"\",\"\",0+UPPER(Mainframe!F5))","v":1815},{"$f":"IF(P6=\"\",\"\",IF(NOT(ISNA(VLOOKUP(P6,Answers!M:P,4,FALSE))),VLOOKUP(P6,Answers!M:P,4,FALSE),\"Help!\"))","v":10},null,{"$f":"IF(Q6=\"\",\"\",O6+IF(Q6=\"XX\",VLOOKUP(\"WRONG\",Answers!M:P,4,FALSE),Q6)+R6)","v":1032},{"$f":"IF($B6=\"\",\"\",0+UPPER(Mainframe!G5))","v":6},{"$f":"IF(T6=\"\",\"\",IF(NOT(ISNA(VLOOKUP(T6,Answers!Q:T,4,FALSE))),VLOOKUP(T6,Answers!Q:T,4,FALSE),\"Help!\"))","v":9},null,{"$f":"IF(U6=\"\",\"\",S6+IF(U6=\"XX\",VLOOKUP(\"WRONG\",Answers!Q:T,4,FALSE),U6)+V6)","v":1041},{"$f":"IF($B6=\"\",\"\",0+UPPER(Mainframe!H5))","v":22},{"$f":"IF(X6=\"\",\"\",IF(NOT(ISNA(VLOOKUP(X6,Answers!U:X,4,FALSE))),VLOOKUP(X6,Answers!U:X,4,FALSE),\"Help!\"))","v":1000},null,{"$f":"IF(Y6=\"\",\"\",W6+IF(Y6=\"XX\",VLOOKUP(\"WRONG\",Answers!U:X,4,FALSE),Y6)+Z6)","v":2041},{"$f":"IF($B6=\"\",\"\",0+UPPER(Mainframe!I5))","v":76},{"$f":"IF(AB6=\"\",\"\",IF(NOT(ISNA(VLOOKUP(AB6,Answers!Y:AB,4,FALSE))),VLOOKUP(AB6,Answers!Y:AB,4,FALSE),\"Help!\"))","v":1000},null,{"$f":"IF(AC6=\"\",\"\",AA6+IF(AC6=\"XX\",VLOOKUP(\"WRONG\",Answers!Y:AB,4,FALSE),AC6)+AD6)","v":3041},{"$f":"IF($B6=\"\",\"\",0+UPPER(Mainframe!J5))","v":1974},{"$f":"IF(AF6=\"\",\"\",IF(NOT(ISNA(VLOOKUP(AF6,Answers!AC:AF,4,FALSE))),VLOOKUP(AF6,Answers!AC:AF,4,FALSE),\"Help!\"))","v":8},null,{"$f":"IF(AG6=\"\",\"\",AE6+IF(AG6=\"XX\",VLOOKUP(\"WRONG\",Answers!AC:AF,4,FALSE),AG6)+AH6)","v":3049},{"$f":"IF($B6=\"\",\"\",0+UPPER(Mainframe!K5))","v":35},{"$f":"IF(AJ6=\"\",\"\",IF(NOT(ISNA(VLOOKUP(AJ6,Answers!AG:AJ,4,FALSE))),VLOOKUP(AJ6,Answers!AG:AJ,4,FALSE),\"Help!\"))","v":8},{"$f":"IF(AK6>500,-1000,0)","v":0},{"$f":"IF(AK6=\"\",\"\",AI6+IF(AK6=\"XX\",VLOOKUP(\"WRONG\",Answers!AG:AJ,4,FALSE),AK6)+AL6)","v":3057},{"$f":"IF($B6=\"\",\"\",0+UPPER(Mainframe!L5))","v":61},{"$f":"IF(AN6=\"\",\"\",IF(NOT(ISNA(VLOOKUP(AN6,Answers!AK:AN,4,FALSE))),VLOOKUP(AN6,Answers!AK:AN,4,FALSE),\"Help!\"))","v":5},null,{"$f":"IF(AO6=\"\",\"\",AM6+IF(AO6=\"XX\",VLOOKUP(\"WRONG\",Answers!AK:AN,4,FALSE),AO6)+AP6)","v":3062},{"$f":"IF($B6=\"\",\"\",0+UPPER(Mainframe!M5))","v":5},{"$f":"IF(AR6=\"\",\"\",IF(NOT(ISNA(VLOOKUP(AR6,Answers!AO:AR,4,FALSE))),VLOOKUP(AR6,Answers!AO:AR,4,FALSE),\"Help!\"))","v":1000},null,{"$f":"IF(AS6=\"\",\"\",AQ6+IF(AS6=\"XX\",VLOOKUP(\"WRONG\",Answers!AO:AR,4,FALSE),AS6)+AT6)","v":4062},{"$f":"IF($B6=\"\",\"\",0+UPPER(Mainframe!N5))","v":66},"XX",null,{"$f":"IF(AW6=\"\",\"\",AU6+IF(AW6=\"XX\",VLOOKUP(\"WRONG\",Answers!AS:AV,4,FALSE),AW6)+AX6)","v":5069},{"$f":"IF($B6=\"\",\"\",0+UPPER(Mainframe!O5))","v":654},165.52054794520546,1,{"$f":"IF($B6=\"\",\"\",LEFT(Mainframe!P5,SEARCH(\".\",Mainframe!P5)-1))","v":"9"},null,null,null,null,null,null,null,null,null,null,null,null,null,null,null,null,null,null,null,null,null,null,null,null,null,null,null,null,null,null,4,{"$f":"IF(INDEX($B:$CE,ROW(),QNO*4)=\"XX\",\"[b][u]\"&INDEX($B:$CE,ROW(),QNO*4-1)&\"[/u][/b]\",\"[color=#BF0040]\"&INDEX(OFFSET(Answers!C:C,0,(QNO-1)*4),MATCH(INDEX($A:$CB,ROW(),QNO*4),OFFSET(Answers!A:A,0,(QNO-1)*4),0))&\"[/color]//[b]\"&INDEX(OFFSET(Answers!B:B,0,(QNO-1)*4),MATCH(INDEX($A:$CB,ROW(),QNO*4),OFFSET(Answers!A:A,0,(QNO-1)*4),0))&\"[/b] — [b]\"&IF(INDEX($B:$CE,ROW(),QNO*4)=1,\"Singleton!\",CONCATENATE(INDEX($B:$CE,ROW(),QNO*4),\" responses\"))&\"[/b]\")","v":"[b][u]96[/u][/b]"},"gamawire","Yes","4. gamawire — [b]1,007[/b] pts",71,67]
["[*]",{"$f":"IF(Mainframe!B6=\"\",\"\",INDEX(Mainframe!$B:$B,C7+1,1))","v":"ZachTheRiah"},5,{"$f":"IF($B7=\"\",\"\",0+UPPER(Mainframe!C6))","v":1},{"$f":"IF(D7=\"\",\"\",IF(NOT(ISNA(VLOOKUP(D7,Answers!A:D,4,FALSE))),VLOOKUP(D7,Answers!A:D,4,FALSE),\"Help!\"))","v":8},null,{"$f":"IF(E7=\"\",\"\",IF(E7=\"XX\",VLOOKUP(\"WRONG\",Answers!A:D,4,FALSE),E7)+F7)","v":8},{"$f":"IF($B7=\"\",\"\",0+UPPER(Mainframe!D6))","v":21},{"$f":"IF(H7=\"\",\"\",IF(NOT(ISNA(VLOOKUP(H7,Answers!E:H,4,FALSE))),VLOOKUP(H7,Answers!E:H,4,FALSE),\"Help!\"))","v":1000},null,{"$f":"IF(I7=\"\",\"\",G7+IF(I7=\"XX\",VLOOKUP(\"WRONG\",Answers!E:H,4,FALSE),I7)+J7)","v":1008},{"$f":"IF($B7=\"\",\"\",0+UPPER(Mainframe!E6))","v":101},{"$f":"IF(L7=\"\",\"\",IF(NOT(ISNA(VLOOKUP(L7,Answers!I:L,4,FALSE))),VLOOKUP(L7,Answers!I:L,4,FALSE),\"Help!\"))","v":7},null,{"$f":"IF(M7=\"\",\"\",K7+IF(M7=\"XX\",VLOOKUP(\"WRONG\",Answers!I:L,4,FALSE),M7)+N7)","v":1015},{"$f":"IF($B7=\"\",\"\",0+UPPER(Mainframe!F6))","v":1861},{"$f":"IF(P7=\"\",\"\",IF(NOT(ISNA(VLOOKUP(P7,Answers!M:P,4,FALSE))),VLOOKUP(P7,Answers!M:P,4,FALSE),\"Help!\"))","v":1000},null,{"$f":"IF(Q7=\"\",\"\",O7+IF(Q7=\"XX\",VLOOKUP(\"WRONG\",Answers!M:P,4,FALSE),Q7)+R7)","v":2015},{"$f":"IF($B7=\"\",\"\",0+UPPER(Mainframe!G6))","v":2},{"$f":"IF(T7=\"\",\"\",IF(NOT(ISNA(VLOOKUP(T7,Answers!Q:T,4,FALSE))),VLOOKUP(T7,Answers!Q:T,4,FALSE),\"Help!\"))","v":14},null,{"$f":"IF(U7=\"\",\"\",S7+IF(U7=\"XX\",VLOOKUP(\"WRONG\",Answers!Q:T,4,FALSE),U7)+V7)","v":2029},{"$f":"IF($B7=\"\",\"\",0+UPPER(Mainframe!H6))","v":451},{"$f":"IF(X7=\"\",\"\",IF(NOT(ISNA(VLOOKUP(X7,Answers!U:X,4,FALSE))),VLOOKUP(X7,Answers!U:X,4,FALSE),\"Help!\"))","v":8},null,{"$f":"IF(Y7=\"\",\"\",W7+IF(Y7=\"XX\",VLOOKUP(\"WRONG\",Answers!U:X,4,FALSE),Y7)+Z7)","v":2037},{"$f":"IF($B7=\"\",\"\",0+UPPER(Mainframe!I6))","v":75},{"$f":"IF(AB7=\"\",\"\",IF(NOT(ISNA(VLOOKUP(AB7,Answers!Y:AB,4,FALSE))),VLOOKUP(AB7,Answers!Y:AB,4,FALSE),\"Help!\"))","v":1},null,{"$f":"IF(AC7=\"\",\"\",AA7+IF(AC7=\"XX\",VLOOKUP(\"WRONG\",Answers!Y:AB,4,FALSE),AC7)+AD7)","v":2038},{"$f":"IF($B7=\"\",\"\",0+UPPER(Mainframe!J6))","v":18},{"$f":"IF(AF7=\"\",\"\",IF(NOT(ISNA(VLOOKUP(AF7,Answers!AC:AF,4,FALSE))),VLOOKUP(AF7,Answers!AC:AF,4,FALSE),\"Help!\"))","v":10},null,{"$f":"IF(AG7=\"\",\"\",AE7+IF(AG7=\"XX\",VLOOKUP(\"WRONG\",Answers!AC:AF,4,FALSE),AG7)+AH7)","v":2048},{"$f":"IF($B7=\"\",\"\",0+UPPER(Mainframe!K6))","v":5},{"$f":"IF(AJ7=\"\",\"\",IF(NOT(ISNA(VLOOKUP(AJ7,Answers!AG:AJ,4,FALSE))),VLOOKUP(AJ7,Answers!AG:AJ,4,FALSE),\"Help!\"))","v":9},null,{"$f":"IF(AK7=\"\",\"\",AI7+IF(AK7=\"XX\",VLOOKUP(\"WRONG\",Answers!AG:AJ,4,FALSE),AK7)+AL7)","v":2057},{"$f":"IF($B7=\"\",\"\",0+UPPER(Mainframe!L6))","v":65},"XX",null,{"$f":"IF(AO7=\"\",\"\",AM7+IF(AO7=\"XX\",VLOOKUP(\"WRONG\",Answers!AK:AN,4,FALSE),AO7)+AP7)","v":3064},{"$f":"IF($B7=\"\",\"\",0+UPPER(Mainframe!M6))","v":50},{"$f":"IF(AR7=\"\",\"\",IF(NOT(ISNA(VLOOKUP(AR7,Answers!AO:AR,4,FALSE))),VLOOKUP(AR7,Answers!AO:AR,4,FALSE),\"Help!\"))","v":5},{"$f":"IF(AS7>500,-1000,0)","v":0},{"$f":"IF(AS7=\"\",\"\",AQ7+IF(AS7=\"XX\",VLOOKUP(\"WRONG\",Answers!AO:AR,4,FALSE),AS7)+AT7)","v":3069},{"$f":"IF($B7=\"\",\"\",0+UPPER(Mainframe!N6))","v":150},{"$f":"IF(AV7=\"\",\"\",IF(NOT(ISNA(VLOOKUP(AV7,Answers!AS:AV,4,FALSE))),VLOOKUP(AV7,Answers!AS:AV,4,FALSE),\"Help!\"))","v":5},null,{"$f":"IF(AW7=\"\",\"\",AU7+IF(AW7=\"XX\",VLOOKUP(\"WRONG\",Answers!AS:AV,4,FALSE),AW7)+AX7)","v":3074},{"$f":"IF($B7=\"\",\"\",0+UPPER(Mainframe!O6))","v":650},161.52054794520546,1,{"$f":"IF($B7=\"\",\"\",LEFT(Mainframe!P6,SEARCH(\".\",Mainframe!P6)-1))","v":"11"},null,null,null,null,null,null,null,null,null,null,null,null,null,null,null,null,null,null,null,null,null,null,null,null,null,null,null,null,null,null,5,{"$f":"IF(INDEX($B:$CE,ROW(),QNO*4)=\"XX\",\"[b][u]\"&INDEX($B:$CE,ROW(),QNO*4-1)&\"[/u][/b]\",\"[color=#BF0040]\"&INDEX(OFFSET(Answers!C:C,0,(QNO-1)*4),MATCH(INDEX($A:$CB,ROW(),QNO*4),OFFSET(Answers!A:A,0,(QNO-1)*4),0))&\"[/color]//[b]\"&INDEX(OFFSET(Answers!B:B,0,(QNO-1)*4),MATCH(INDEX($A:$CB,ROW(),QNO*4),OFFSET(Answers!A:A,0,(QNO-1)*4),0))&\"[/b] — [b]\"&IF(INDEX($B:$CE,ROW(),QNO*4)=1,\"Singleton!\",CONCATENATE(INDEX($B:$CE,ROW(),QNO*4),\" responses\"))&\"[/b]\")","v":"[color=#BF0040]\"What Makes You Beautiful\", \"Little Things\", \"Best Song Ever\"[/color]//[b][u]ONE[/u] DIRECTION[/b] — [b]8 responses[/b]"},"ZachTheRiah","Yes","5. ZachTheRiah — [b]8[/b] pts",47,42]
["[*]",{"$f":"IF(Mainframe!B7=\"\",\"\",INDEX(Mainframe!$B:$B,C8+1,1))","v":"9021amyers"},6,{"$f":"IF($B8=\"\",\"\",0+UPPER(Mainframe!C7))","v":10000},{"$f":"IF(D8=\"\",\"\",IF(NOT(ISNA(VLOOKUP(D8,Answers!A:D,4,FALSE))),VLOOKUP(D8,Answers!A:D,4,FALSE),\"Help!\"))","v":6},null,{"$f":"IF(E8=\"\",\"\",IF(E8=\"XX\",VLOOKUP(\"WRONG\",Answers!A:D,4,FALSE),E8)+F8)","v":6},{"$f":"IF($B8=\"\",\"\",0+UPPER(Mainframe!D7))","v":38},{"$f":"IF(H8=\"\",\"\",IF(NOT(ISNA(VLOOKUP(H8,Answers!E:H,4,FALSE))),VLOOKUP(H8,Answers!E:H,4,FALSE),\"Help!\"))","v":7},null,{"$f":"IF(I8=\"\",\"\",G8+IF(I8=\"XX\",VLOOKUP(\"WRONG\",Answers!E:H,4,FALSE),I8)+J8)","v":13},{"$f":"IF($B8=\"\",\"\",0+UPPER(Mainframe!E7))","v":10},{"$f":"IF(L8=\"\",\"\",IF(NOT(ISNA(VLOOKUP(L8,Answers!I:L,4,FALSE))),VLOOKUP(L8,Answers!I:L,4,FALSE),\"Help!\"))","v":10},null,{"$f":"IF(M8=\"\",\"\",K8+IF(M8=\"XX\",VLOOKUP(\"WRONG\",Answers!I:L,4,FALSE),M8)+N8)","v":23},{"$f":"IF($B8=\"\",\"\",0+UPPER(Mainframe!F7))","v":1415},{"$f":"IF(P8=\"\",\"\",IF(NOT(ISNA(VLOOKUP(P8,Answers!M:P,4,FALSE))),VLOOKUP(P8,Answers!M:P,4,FALSE),\"Help!\"))","v":7},null,{"$f":"IF(Q8=\"\",\"\",O8+IF(Q8=\"XX\",VLOOKUP(\"WRONG\",Answers!M:P,4,FALSE),Q8)+R8)","v":30},{"$f":"IF($B8=\"\",\"\",0+UPPER(Mainframe!G7))","v":92},{"$f":"IF(T8=\"\",\"\",IF(NOT(ISNA(VLOOKUP(T8,Answers!Q:T,4,FALSE))),VLOOKUP(T8,Answers!Q:T,4,FALSE),\"Help!\"))","v":3},null,{"$f":"IF(U8=\"\",\"\",S8+IF(U8=\"XX\",VLOOKUP(\"WRONG\",Answers!Q:T,4,FALSE),U8)+V8)","v":33},{"$f":"IF($B8=\"\",\"\",0+UPPER(Mainframe!H7))","v":7},{"$f":"IF(X8=\"\",\"\",IF(NOT(ISNA(VLOOKUP(X8,Answers!U:X,4,FALSE))),VLOOKUP(X8,Answers!U:X,4,FALSE),\"Help!\"))","v":6},null,{"$f":"IF(Y8=\"\",\"\",W8+IF(Y8=\"XX\",VLOOKUP(\"WRONG\",Answers!U:X,4,FALSE),Y8)+Z8)","v":39},{"$f":"IF($B8=\"\",\"\",0+UPPER(Mainframe!I7))","v":42},{"$f":"IF(AB8=\"\",\"\",IF(NOT(ISNA(VLOOKUP(AB8,Answers!Y:AB,4,FALSE))),VLOOKUP(AB8,Answers!Y:AB,4,FALSE),\"Help!\"))","v":13},{"$f":"IF(AC8>500,-1000,0)","v":0},{"$f":"IF(AC8=\"\",\"\",AA8+IF(AC8=\"XX\",VLOOKUP(\"WRONG\",Answers!Y:AB,4,FALSE),AC8)+AD8)","v":52},{"$f":"IF($B8=\"\",\"\",0+UPPER(Mainframe!J7))","v":1850},{"$f":"IF(AF8=\"\",\"\",IF(NOT(ISNA(VLOOKUP(AF8,Answers!AC:AF,4,FALSE))),VLOOKUP(AF8,Answers!AC:AF,4,FALSE),\"Help!\"))","v":4},null,{"$f":"IF(AG8=\"\",\"\",AE8+IF(AG8=\"XX\",VLOOKUP(\"WRONG\",Answers!AC:AF,4,FALSE),AG8)+AH8)","v":56},{"$f":"IF($B8=\"\",\"\",0+UPPER(Mainframe!K7))","v":76},{"$f":"IF(AJ8=\"\",\"\",IF(NOT(ISNA(VLOOKUP(AJ8,Answers!AG:AJ,4,FALSE))),VLOOKUP(AJ8,Answers!AG:AJ,4,FALSE),\"Help!\"))","v":4},null,{"$f":"IF(AK8=\"\",\"\",AI8+IF(AK8=\"XX\",VLOOKUP(\"WRONG\",Answers!AG:AJ,4,FALSE),AK8)+AL8)","v":60},{"$f":"IF($B8=\"\",\"\",0+UPPER(Mainframe!L7))","v":94},{"$f":"IF(AN8=\"\",\"\",IF(NOT(ISNA(VLOOKUP(AN8,Answers!AK:AN,4,FALSE))),VLOOKUP(AN8,Answers!AK:AN,4,FALSE),\"Help!\"))","v":4},null,{"$f":"IF(AO8=\"\",\"\",AM8+IF(AO8=\"XX\",VLOOKUP(\"WRONG\",Answers!AK:AN,4,FALSE),AO8)+AP8)","v":64},{"$f":"IF($B8=\"\",\"\",0+UPPER(Mainframe!M7))","v":11},{"$f":"IF(AR8=\"\",\"\",IF(NOT(ISNA(VLOOKUP(AR8,Answers!AO:AR,4,FALSE))),VLOOKUP(AR8,Answers!AO:AR,4,FALSE),\"Help!\"))","v":5},null,{"$f":"IF(AS8=\"\",\"\",AQ8+IF(AS8=\"XX\",VLOOKUP(\"WRONG\",Answers!AO:AR,4,FALSE),AS8)+AT8)","v":69},{"$f":"IF($B8=\"\",\"\",0+UPPER(Mainframe!N7))","v":95},{"$f":"IF(AV8=\"\",\"\",IF(NOT(ISNA(VLOOKUP(AV8,Answers!AS:AV,4,FALSE))),VLOOKUP(AV8,Answers!AS:AV,4,FALSE),\"Help!\"))","v":7},null,{"$f":"IF(AW8=\"\",\"\",AU8+IF(AW8=\"XX\",VLOOKUP(\"WRONG\",Answers!AS:AV,4,FALSE),AW8)+AX8)","v":76},{"$f":"IF($B8=\"\",\"\",0+UPPER(Mainframe!O7))","v":396},92.479452054794535,1,{"$f":"IF($B8=\"\",\"\",LEFT(Mainframe!P7,SEARCH(\".\",Mainframe!P7)-1))","v":"7"},null,null,null,null,null,null,null,null,null,null,null,null,null,null,null,null,null,null,null,null,null,null,null,null,null,null,null,null,null,null,6,{"$f":"IF(INDEX($B:$CE,ROW(),QNO*4)=\"XX\",\"[b][u]\"&INDEX($B:$CE,ROW(),QNO*4-1)&\"[/u][/b]\",\"[color=#BF0040]\"&INDEX(OFFSET(Answers!C:C,0,(QNO-1)*4),MATCH(INDEX($A:$CB,ROW(),QNO*4),OFFSET(Answers!A:A,0,(QNO-1)*4),0))&\"[/color]//[b]\"&INDEX(OFFSET(Answers!B:B,0,(QNO-1)*4),MATCH(INDEX($A:$CB,ROW(),QNO*4),OFFSET(Answers!A:A,0,(QNO-1)*4),0))&\"[/b] — [b]\"&IF(INDEX($B:$CE,ROW(),QNO*4)=1,\"Singleton!\",CONCATENATE(INDEX($B:$CE,ROW(),QNO*4),\" responses\"))&\"[/b]\")","v":"[color=#BF0040]\"What's the Matter Here?\", \"Trouble Me\", \"Because the Night\" (on [i]MTV Unplugged[/i])[/color]//[b][u]10,000[/u] MANIACS[/b] — [b]6 responses[/b]"},"9021amyers","Yes","6. 9021amyers — [b]6[/b] pts",7,1]
["[*]",{"$f":"IF(Mainframe!B8=\"\",\"\",INDEX(Mainframe!$B:$B,C9+1,1))","v":"Rackme32"},7,{"$f":"IF($B9=\"\",\"\",0+UPPER(Mainframe!C8))","v":20},{"$f":"IF(D9=\"\",\"\",IF(NOT(ISNA(VLOOKUP(D9,Answers!A:D,4,FALSE))),VLOOKUP(D9,Answers!A:D,4,FALSE),\"Help!\"))","v":6},null,{"$f":"IF(E9=\"\",\"\",IF(E9=\"XX\",VLOOKUP(\"WRONG\",Answers!A:D,4,FALSE),E9)+F9)","v":6},{"$f":"IF($B9=\"\",\"\",0+UPPER(Mainframe!D8))","v":108},{"$f":"IF(H9=\"\",\"\",IF(NOT(ISNA(VLOOKUP(H9,Answers!E:H,4,FALSE))),VLOOKUP(H9,Answers!E:H,4,FALSE),\"Help!\"))","v":5},null,{"$f":"IF(I9=\"\",\"\",G9+IF(I9=\"XX\",VLOOKUP(\"WRONG\",Answers!E:H,4,FALSE),I9)+J9)","v":11},{"$f":"IF($B9=\"\",\"\",0+UPPER(Mainframe!E8))","v":16},{"$f":"IF(L9=\"\",\"\",IF(NOT(ISNA(VLOOKUP(L9,Answers!I:L,4,FALSE))),VLOOKUP(L9,Answers!I:L,4,FALSE),\"Help!\"))","v":12},null,{"$f":"IF(M9=\"\",\"\",K9+IF(M9=\"XX\",VLOOKUP(\"WRONG\",Answers!I:L,4,FALSE),M9)+N9)","v":23},{"$f":"IF($B9=\"\",\"\",0+UPPER(Mainframe!F8))","v":1815},{"$f":"IF(P9=\"\",\"\",IF(NOT(ISNA(VLOOKUP(P9,Answers!M:P,4,FALSE))),VLOOKUP(P9,Answers!M:P,4,FALSE),\"Help!\"))","v":10},null,{"$f":"IF(Q9=\"\",\"\",O9+IF(Q9=\"XX\",VLOOKUP(\"WRONG\",Answers!M:P,4,FALSE),Q9)+R9)","v":33},{"$f":"IF($B9=\"\",\"\",0+UPPER(Mainframe!G8))","v":16},"XX",{"$f":"IF(U9>500,-1000,0)","v":-1000},{"$f":"IF(U9=\"\",\"\",S9+IF(U9=\"XX\",VLOOKUP(\"WRONG\",Answers!Q:T,4,FALSE),U9)+V9)","v":40},{"$f":"IF($B9=\"\",\"\",0+UPPER(Mainframe!H8))","v":22},{"$f":"IF(X9=\"\",\"\",IF(NOT(ISNA(VLOOKUP(X9,Answers!U:X,4,FALSE))),VLOOKUP(X9,Answers!U:X,4,FALSE),\"Help!\"))","v":1000},null,{"$f":"IF(Y9=\"\",\"\",W9+IF(Y9=\"XX\",VLOOKUP(\"WRONG\",Answers!U:X,4,FALSE),Y9)+Z9)","v":1040},{"$f":"IF($B9=\"\",\"\",0+UPPER(Mainframe!I8))","v":76},{"$f":"IF(AB9=\"\",\"\",IF(NOT(ISNA(VLOOKUP(AB9,Answers!Y:AB,4,FALSE))),VLOOKUP(AB9,Answers!Y:AB,4,FALSE),\"Help!\"))","v":1000},null,{"$f":"IF(AC9=\"\",\"\",AA9+IF(AC9=\"XX\",VLOOKUP(\"WRONG\",Answers!Y:AB,4,FALSE),AC9)+AD9)","v":2040},{"$f":"IF($B9=\"\",\"\",0+UPPER(Mainframe!J8))","v":49},{"$f":"IF(AF9=\"\",\"\",IF(NOT(ISNA(VLOOKUP(AF9,Answers!AC:AF,4,FALSE))),VLOOKUP(AF9,Answers!AC:AF,4,FALSE),\"Help!\"))","v":10},null,{"$f":"IF(AG9=\"\",\"\",AE9+IF(AG9=\"XX\",VLOOKUP(\"WRONG\",Answers!AC:AF,4,FALSE),AG9)+AH9)","v":2050},{"$f":"IF($B9=\"\",\"\",0+UPPER(Mainframe!K8))","v":84},{"$f":"IF(AJ9=\"\",\"\",IF(NOT(ISNA(VLOOKUP(AJ9,Answers!AG:AJ,4,FALSE))),VLOOKUP(AJ9,Answers!AG:AJ,4,FALSE),\"Help!\"))","v":1000},null,{"$f":"IF(AK9=\"\",\"\",AI9+IF(AK9=\"XX\",VLOOKUP(\"WRONG\",Answers!AG:AJ,4,FALSE),AK9)+AL9)","v":3050},{"$f":"IF($B9=\"\",\"\",0+UPPER(Mainframe!L8))","v":42},{"$f":"IF(AN9=\"\",\"\",IF(NOT(ISNA(VLOOKUP(AN9,Answers!AK:AN,4,FALSE))),VLOOKUP(AN9,Answers!AK:AN,4,FALSE),\"Help!\"))","v":8},null,{"$f":"IF(AO9=\"\",\"\",AM9+IF(AO9=\"XX\",VLOOKUP(\"WRONG\",Answers!AK:AN,4,FALSE),AO9)+AP9)","v":3058},{"$f":"IF($B9=\"\",\"\",0+UPPER(Mainframe!M8))","v":5},{"$f":"IF(AR9=\"\",\"\",IF(NOT(ISNA(VLOOKUP(AR9,Answers!AO:AR,4,FALSE))),VLOOKUP(AR9,Answers!AO:AR,4,FALSE),\"Help!\"))","v":1000},null,{"$f":"IF(AS9=\"\",\"\",AQ9+IF(AS9=\"XX\",VLOOKUP(\"WRONG\",Answers!AO:AR,4,FALSE),AS9)+AT9)","v":4058},{"$f":"IF($B9=\"\",\"\",0+UPPER(Mainframe!N8))","v":10},{"$f":"IF(AV9=\"\",\"\",IF(NOT(ISNA(VLOOKUP(AV9,Answers!AS:AV,4,FALSE))),VLOOKUP(AV9,Answers!AS:AV,4,FALSE),\"Help!\"))","v":1000},null,{"$f":"IF(AW9=\"\",\"\",AU9+IF(AW9=\"XX\",VLOOKUP(\"WRONG\",Answers!AS:AV,4,FALSE),AW9)+AX9)","v":5058},{"$f":"IF($B9=\"\",\"\",0+UPPER(Mainframe!O8))","v":665},176.52054794520546,1,{"$f":"IF($B9=\"\",\"\",LEFT(Mainframe!P8,SEARCH(\".\",Mainframe!P8)-1))","v":"5"},null,null,null,null,null,null,null,null,null,null,null,null,null,null,null,null,null,null,null,null,null,null,null,null,null,null,null,null,null,null,6,{"$f":"IF(INDEX($B:$CE,ROW(),QNO*4)=\"XX\",\"[b][u]\"&INDEX($B:$CE,ROW(),QNO*4-1)&\"[/u][/b]\",\"[color=#BF0040]\"&INDEX(OFFSET(Answers!C:C,0,(QNO-1)*4),MATCH(INDEX($A:$CB,ROW(),QNO*4),OFFSET(Answers!A:A,0,(QNO-1)*4),0))&\"[/color]//[b]\"&INDEX(OFFSET(Answers!B:B,0,(QNO-1)*4),MATCH(INDEX($A:$CB,ROW(),QNO*4),OFFSET(Answers!A:A,0,(QNO-1)*4),0))&\"[/b] — [b]\"&IF(INDEX($B:$CE,ROW(),QNO*4)=1,\"Singleton!\",CONCATENATE(INDEX($B:$CE,ROW(),QNO*4),\" responses\"))&\"[/b]\")","v":"[color=#BF0040]\"Push\", \"Bent\", \"Unwell\"[/color]//[b]MATCHBOX [u]20[/u][/b] — [b]6 responses[/b]"},"Rackme32","Yes","6. Rackme32 — [b]6[/b] pts",66,60]
["[*]",{"$f":"IF(Mainframe!B9=\"\",\"\",INDEX(Mainframe!$B:$B,C10+1,1))","v":"caknuck"},8,{"$f":"IF($B10=\"\",\"\",0+UPPER(Mainframe!C9))","v":98},{"$f":"IF(D10=\"\",\"\",IF(NOT(ISNA(VLOOKUP(D10,Answers!A:D,4,FALSE))),VLOOKUP(D10,Answers!A:D,4,FALSE),\"Help!\"))","v":2},null,{"$f":"IF(E10=\"\",\"\",IF(E10=\"XX\",VLOOKUP(\"WRONG\",Answers!A:D,4,FALSE),E10)+F10)","v":2},{"$f":"IF($B10=\"\",\"\",0+UPPER(Mainframe!D9))","v":22},{"$f":"IF(H10=\"\",\"\",IF(NOT(ISNA(VLOOKUP(H10,Answers!E:H,4,FALSE))),VLOOKUP(H10,Answers!E:H,4,FALSE),\"Help!\"))","v":11},null,{"$f":"IF(I10=\"\",\"\",G10+IF(I10=\"XX\",VLOOKUP(\"WRONG\",Answers!E:H,4,FALSE),I10)+J10)","v":13},{"$f":"IF($B10=\"\",\"\",0+UPPER(Mainframe!E9))","v":10},{"$f":"IF(L10=\"\",\"\",IF(NOT(ISNA(VLOOKUP(L10,Answers!I:L,4,FALSE))),VLOOKUP(L10,Answers!I:L,4,FALSE),\"Help!\"))","v":10},null,{"$f":"IF(M10=\"\",\"\",K10+IF(M10=\"XX\",VLOOKUP(\"WRONG\",Answers!I:L,4,FALSE),M10)+N10)","v":23},{"$f":"IF($B10=\"\",\"\",0+UPPER(Mainframe!F9))","v":1815},{"$f":"IF(P10=\"\",\"\",IF(NOT(ISNA(VLOOKUP(P10,Answers!M:P,4,FALSE))),VLOOKUP(P10,Answers!M:P,4,FALSE),\"Help!\"))","v":10},null,{"$f":"IF(Q10=\"\",\"\",O10+IF(Q10=\"XX\",VLOOKUP(\"WRONG\",Answers!M:P,4,FALSE),Q10)+R10)","v":33},{"$f":"IF($B10=\"\",\"\",0+UPPER(Mainframe!G9))","v":5},{"$f":"IF(T10=\"\",\"\",IF(NOT(ISNA(VLOOKUP(T10,Answers!Q:T,4,FALSE))),VLOOKUP(T10,Answers!Q:T,4,FALSE),\"Help!\"))","v":1000},null,{"$f":"IF(U10=\"\",\"\",S10+IF(U10=\"XX\",VLOOKUP(\"WRONG\",Answers!Q:T,4,FALSE),U10)+V10)","v":1033},{"$f":"IF($B10=\"\",\"\",0+UPPER(Mainframe!H9))","v":451},{"$f":"IF(X10=\"\",\"\",IF(NOT(ISNA(VLOOKUP(X10,Answers!U:X,4,FALSE))),VLOOKUP(X10,Answers!U:X,4,FALSE),\"Help!\"))","v":8},null,{"$f":"IF(Y10=\"\",\"\",W10+IF(Y10=\"XX\",VLOOKUP(\"WRONG\",Answers!U:X,4,FALSE),Y10)+Z10)","v":1041},{"$f":"IF($B10=\"\",\"\",0+UPPER(Mainframe!I9))","v":4},"XX",{"$f":"IF(AC10>500,-1000,0)","v":-1000},{"$f":"IF(AC10=\"\",\"\",AA10+IF(AC10=\"XX\",VLOOKUP(\"WRONG\",Answers!Y:AB,4,FALSE),AC10)+AD10)","v":1048},{"$f":"IF($B10=\"\",\"\",0+UPPER(Mainframe!J9))","v":18},{"$f":"IF(AF10=\"\",\"\",IF(NOT(ISNA(VLOOKUP(AF10,Answers!AC:AF,4,FALSE))),VLOOKUP(AF10,Answers!AC:AF,4,FALSE),\"Help!\"))","v":10},null,{"$f":"IF(AG10=\"\",\"\",AE10+IF(AG10=\"XX\",VLOOKUP(\"WRONG\",Answers!AC:AF,4,FALSE),AG10)+AH10)","v":1058},{"$f":"IF($B10=\"\",\"\",0+UPPER(Mainframe!K9))","v":35},{"$f":"IF(AJ10=\"\",\"\",IF(NOT(ISNA(VLOOKUP(AJ10,Answers!AG:AJ,4,FALSE))),VLOOKUP(AJ10,Answers!AG:AJ,4,FALSE),\"Help!\"))","v":8},null,{"$f":"IF(AK10=\"\",\"\",AI10+IF(AK10=\"XX\",VLOOKUP(\"WRONG\",Answers!AG:AJ,4,FALSE),AK10)+AL10)","v":1066},{"$f":"IF($B10=\"\",\"\",0+UPPER(Mainframe!L9))","v":5},{"$f":"IF(AN10=\"\",\"\",IF(NOT(ISNA(VLOOKUP(AN10,Answers!AK:AN,4,FALSE))),VLOOKUP(AN10,Answers!AK:AN,4,FALSE),\"Help!\"))","v":7},null,{"$f":"IF(AO10=\"\",\"\",AM10+IF(AO10=\"XX\",VLOOKUP(\"WRONG\",Answers!AK:AN,4,FALSE),AO10)+AP10)","v":1073},{"$f":"IF($B10=\"\",\"\",0+UPPER(Mainframe!M9))","v":3},{"$f":"IF(AR10=\"\",\"\",IF(NOT(ISNA(VLOOKUP(AR10,Answers!AO:AR,4,FALSE))),VLOOKUP(AR10,Answers!AO:AR,4,FALSE),\"Help!\"))","v":6},null,{"$f":"IF(AS10=\"\",\"\",AQ10+IF(AS10=\"XX\",VLOOKUP(\"WRONG\",Answers!AO:AR,4,FALSE),AS10)+AT10)","v":1079},{"$f":"IF($B10=\"\",\"\",0+UPPER(Mainframe!N9))","v":666},{"$f":"IF(AV10=\"\",\"\",IF(NOT(ISNA(VLOOKUP(AV10,Answers!AS:AV,4,FALSE))),VLOOKUP(AV10,Answers!AS:AV,4,FALSE),\"Help!\"))","v":5},null,{"$f":"IF(AW10=\"\",\"\",AU10+IF(AW10=\"XX\",VLOOKUP(\"WRONG\",Answers!AS:AV,4,FALSE),AW10)+AX10)","v":1084},{"$f":"IF($B10=\"\",\"\",0+UPPER(Mainframe!O9))","v":480},8.4794520547945353,1,{"$f":"IF($B10=\"\",\"\",LEFT(Mainframe!P9,SEARCH(\".\",Mainframe!P9)-1))","v":"7"},null,null,null,null,null,null,null,null,null,null,null,null,null,null,null,null,null,null,null,null,null,null,null,null,null,null,null,null,null,null,8,{"$f":"IF(INDEX($B:$CE,ROW(),QNO*4)=\"XX\",\"[b][u]\"&INDEX($B:$CE,ROW(),QNO*4-1)&\"[/u][/b]\",\"[color=#BF0040]\"&INDEX(OFFSET(Answers!C:C,0,(QNO-1)*4),MATCH(INDEX($A:$CB,ROW(),QNO*4),OFFSET(Answers!A:A,0,(QNO-1)*4),0))&\"[/color]//[b]\"&INDEX(OFFSET(Answers!B:B,0,(QNO-1)*4),MATCH(INDEX($A:$CB,ROW(),QNO*4),OFFSET(Answers!A:A,0,(QNO-1)*4),0))&\"[/b] — [b]\"&IF(INDEX($B:$CE,ROW(),QNO*4)=1,\"Singleton!\",CONCATENATE(INDEX($B:$CE,ROW(),QNO*4),\" responses\"))&\"[/b]\")","v":"[color=#BF0040]\"Because of You\", \"The Hardest Thing\", \"Thank God I Found You\"[/color]//[b][u]98[/u] DEGREES[/b] — [b]2 responses[/b]"},"caknuck","Yes","8. caknuck — [b]2[/b] pts",18,10]
["[*]",{"$f":"IF(Mainframe!B10=\"\",\"\",INDEX(Mainframe!$B:$B,C11+1,1))","v":"Dlinn83"},9,{"$f":"IF($B11=\"\",\"\",0+UPPER(Mainframe!C10))","v":5000},{"$f":"IF(D11=\"\",\"\",IF(NOT(ISNA(VLOOKUP(D11,Answers!A:D,4,FALSE))),VLOOKUP(D11,Answers!A:D,4,FALSE),\"Help!\"))","v":5},null,{"$f":"IF(E11=\"\",\"\",IF(E11=\"XX\",VLOOKUP(\"WRONG\",Answers!A:D,4,FALSE),E11)+F11)","v":5},{"$f":"IF($B11=\"\",\"\",0+UPPER(Mainframe!D10))","v":11},{"$f":"IF(H11=\"\",\"\",IF(NOT(ISNA(VLOOKUP(H11,Answers!E:H,4,FALSE))),VLOOKUP(H11,Answers!E:H,4,FALSE),\"Help!\"))","v":1},null,{"$f":"IF(I11=\"\",\"\",G11+IF(I11=\"XX\",VLOOKUP(\"WRONG\",Answers!E:H,4,FALSE),I11)+J11)","v":6},{"$f":"IF($B11=\"\",\"\",0+UPPER(Mainframe!E10))","v":12},{"$f":"IF(L11=\"\",\"\",IF(NOT(ISNA(VLOOKUP(L11,Answers!I:L,4,FALSE))),VLOOKUP(L11,Answers!I:L,4,FALSE),\"Help!\"))","v":3},null,{"$f":"IF(M11=\"\",\"\",K11+IF(M11=\"XX\",VLOOKUP(\"WRONG\",Answers!I:L,4,FALSE),M11)+N11)","v":9},{"$f":"IF($B11=\"\",\"\",0+UPPER(Mainframe!F10))","v":1762},"XX",{"$f":"IF(Q11>500,-1000,0)","v":-1000},{"$f":"IF(Q11=\"\",\"\",O11+IF(Q11=\"XX\",VLOOKUP(\"WRONG\",Answers!M:P,4,FALSE),Q11)+R11)","v":16},{"$f":"IF($B11=\"\",\"\",0+UPPER(Mainframe!G10))","v":2},{"$f":"IF(T11=\"\",\"\",IF(NOT(ISNA(VLOOKUP(T11,Answers!Q:T,4,FALSE))),VLOOKUP(T11,Answers!Q:T,4,FALSE),\"Help!\"))","v":14},null,{"$f":"IF(U11=\"\",\"\",S11+IF(U11=\"XX\",VLOOKUP(\"WRONG\",Answers!Q:T,4,FALSE),U11)+V11)","v":30},{"$f":"IF($B11=\"\",\"\",0+UPPER(Mainframe!H10))","v":22},{"$f":"IF(X11=\"\",\"\",IF(NOT(ISNA(VLOOKUP(X11,Answers!U:X,4,FALSE))),VLOOKUP(X11,Answers!U:X,4,FALSE),\"Help!\"))","v":1000},null,{"$f":"IF(Y11=\"\",\"\",W11+IF(Y11=\"XX\",VLOOKUP(\"WRONG\",Answers!U:X,4,FALSE),Y11)+Z11)","v":1030},{"$f":"IF($B11=\"\",\"\",0+UPPER(Mainframe!I10))","v":20},{"$f":"IF(AB11=\"\",\"\",IF(NOT(ISNA(VLOOKUP(AB11,Answers!Y:AB,4,FALSE))),VLOOKUP(AB11,Answers!Y:AB,4,FALSE),\"Help!\"))","v":13},null,{"$f":"IF(AC11=\"\",\"\",AA11+IF(AC11=\"XX\",VLOOKUP(\"WRONG\",Answers!Y:AB,4,FALSE),AC11)+AD11)","v":1043},{"$f":"IF($B11=\"\",\"\",0+UPPER(Mainframe!J10))","v":11},"XX",null,{"$f":"IF(AG11=\"\",\"\",AE11+IF(AG11=\"XX\",VLOOKUP(\"WRONG\",Answers!AC:AF,4,FALSE),AG11)+AH11)","v":2050},{"$f":"IF($B11=\"\",\"\",0+UPPER(Mainframe!K10))","v":5},{"$f":"IF(AJ11=\"\",\"\",IF(NOT(ISNA(VLOOKUP(AJ11,Answers!AG:AJ,4,FALSE))),VLOOKUP(AJ11,Answers!AG:AJ,4,FALSE),\"Help!\"))","v":9},null,{"$f":"IF(AK11=\"\",\"\",AI11+IF(AK11=\"XX\",VLOOKUP(\"WRONG\",Answers!AG:AJ,4,FALSE),AK11)+AL11)","v":2059},{"$f":"IF($B11=\"\",\"\",0+UPPER(Mainframe!L10))","v":42},{"$f":"IF(AN11=\"\",\"\",IF(NOT(ISNA(VLOOKUP(AN11,Answers!AK:AN,4,FALSE))),VLOOKUP(AN11,Answers!AK:AN,4,FALSE),\"Help!\"))","v":8},null,{"$f":"IF(AO11=\"\",\"\",AM11+IF(AO11=\"XX\",VLOOKUP(\"WRONG\",Answers!AK:AN,4,FALSE),AO11)+AP11)","v":2067},{"$f":"IF($B11=\"\",\"\",0+UPPER(Mainframe!M10))","v":2},{"$f":"IF(AR11=\"\",\"\",IF(NOT(ISNA(VLOOKUP(AR11,Answers!AO:AR,4,FALSE))),VLOOKUP(AR11,Answers!AO:AR,4,FALSE),\"Help!\"))","v":4},null,{"$f":"IF(AS11=\"\",\"\",AQ11+IF(AS11=\"XX\",VLOOKUP(\"WRONG\",Answers!AO:AR,4,FALSE),AS11)+AT11)","v":2071},{"$f":"IF($B11=\"\",\"\",0+UPPER(Mainframe!N10))","v":10},{"$f":"IF(AV11=\"\",\"\",IF(NOT(ISNA(VLOOKUP(AV11,Answers!AS:AV,4,FALSE))),VLOOKUP(AV11,Answers!AS:AV,4,FALSE),\"Help!\"))","v":1000},null,{"$f":"IF(AW11=\"\",\"\",AU11+IF(AW11=\"XX\",VLOOKUP(\"WRONG\",Answers!AS:AV,4,FALSE),AW11)+AX11)","v":3071},{"$f":"IF($B11=\"\",\"\",0+UPPER(Mainframe!O10))","v":500},11.520547945205465,1,{"$f":"IF($B11=\"\",\"\",LEFT(Mainframe!P10,SEARCH(\".\",Mainframe!P10)-1))","v":"4"},null,null,null,null,null,null,null,null,null,null,null,null,null,null,null,null,null,null,null,null,null,null,null,null,null,null,null,null,null,null,9,{"$f":"IF(INDEX($B:$CE,ROW(),QNO*4)=\"XX\",\"[b][u]\"&INDEX($B:$CE,ROW(),QNO*4-1)&\"[/u][/b]\",\"[color=#BF0040]\"&INDEX(OFFSET(Answers!C:C,0,(QNO-1)*4),MATCH(INDEX($A:$CB,ROW(),QNO*4),OFFSET(Answers!A:A,0,(QNO-1)*4),0))&\"[/color]//[b]\"&INDEX(OFFSET(Answers!B:B,0,(QNO-1)*4),MATCH(INDEX($A:$CB,ROW(),QNO*4),OFFSET(Answers!A:A,0,(QNO-1)*4),0))&\"[/b] — [b]\"&IF(INDEX($B:$CE,ROW(),QNO*4)=1,\"Singleton!\",CONCATENATE(INDEX($B:$CE,ROW(),QNO*4),\" responses\"))&\"[/b]\")","v":"[color=#BF0040]\"When Worlds Collide\", \"Free\", \"How To Be a Human\"[/color]//[b]POWERMAN [u]5000[/u][/b] — [b]5 responses[/b]"},"Dlinn83","Yes","9. Dlinn83 — [b]5[/b] pts",46,37]
["[*]",{"$f":"IF(Mainframe!B11=\"\",\"\",INDEX(Mainframe!$B:$B,C12+1,1))","v":"MitchO"},10,{"$f":"IF($B12=\"\",\"\",0+UPPER(Mainframe!C11))","v":3},{"$f":"IF(D12=\"\",\"\",IF(NOT(ISNA(VLOOKUP(D12,Answers!A:D,4,FALSE))),VLOOKUP(D12,Answers!A:D,4,FALSE),\"Help!\"))","v":11},null,{"$f":"IF(E12=\"\",\"\",IF(E12=\"XX\",VLOOKUP(\"WRONG\",Answers!A:D,4,FALSE),E12)+F12)","v":11},{"$f":"IF($B12=\"\",\"\",0+UPPER(Mainframe!D11))","v":38},{"$f":"IF(H12=\"\",\"\",IF(NOT(ISNA(VLOOKUP(H12,Answers!E:H,4,FALSE))),VLOOKUP(H12,Answers!E:H,4,FALSE),\"Help!\"))","v":7},null,{"$f":"IF(I12=\"\",\"\",G12+IF(I12=\"XX\",VLOOKUP(\"WRONG\",Answers!E:H,4,FALSE),I12)+J12)","v":18},{"$f":"IF($B12=\"\",\"\",0+UPPER(Mainframe!E11))","v":16},{"$f":"IF(L12=\"\",\"\",IF(NOT(ISNA(VLOOKUP(L12,Answers!I:L,4,FALSE))),VLOOKUP(L12,Answers!I:L,4,FALSE),\"Help!\"))","v":12},null,{"$f":"IF(M12=\"\",\"\",K12+IF(M12=\"XX\",VLOOKUP(\"WRONG\",Answers!I:L,4,FALSE),M12)+N12)","v":30},{"$f":"IF($B12=\"\",\"\",0+UPPER(Mainframe!F11))","v":1940},{"$f":"IF(P12=\"\",\"\",IF(NOT(ISNA(VLOOKUP(P12,Answers!M:P,4,FALSE))),VLOOKUP(P12,Answers!M:P,4,FALSE),\"Help!\"))","v":7},null,{"$f":"IF(Q12=\"\",\"\",O12+IF(Q12=\"XX\",VLOOKUP(\"WRONG\",Answers!M:P,4,FALSE),Q12)+R12)","v":37},{"$f":"IF($B12=\"\",\"\",0+UPPER(Mainframe!G11))","v":36},{"$f":"IF(T12=\"\",\"\",IF(NOT(ISNA(VLOOKUP(T12,Answers!Q:T,4,FALSE))),VLOOKUP(T12,Answers!Q:T,4,FALSE),\"Help!\"))","v":4},null,{"$f":"IF(U12=\"\",\"\",S12+IF(U12=\"XX\",VLOOKUP(\"WRONG\",Answers!Q:T,4,FALSE),U12)+V12)","v":41},{"$f":"IF($B12=\"\",\"\",0+UPPER(Mainframe!H11))","v":6},"XX",null,{"$f":"IF(Y12=\"\",\"\",W12+IF(Y12=\"XX\",VLOOKUP(\"WRONG\",Answers!U:X,4,FALSE),Y12)+Z12)","v":1048},{"$f":"IF($B12=\"\",\"\",0+UPPER(Mainframe!I11))","v":64},{"$f":"IF(AB12=\"\",\"\",IF(NOT(ISNA(VLOOKUP(AB12,Answers!Y:AB,4,FALSE))),VLOOKUP(AB12,Answers!Y:AB,4,FALSE),\"Help!\"))","v":3},null,{"$f":"IF(AC12=\"\",\"\",AA12+IF(AC12=\"XX\",VLOOKUP(\"WRONG\",Answers!Y:AB,4,FALSE),AC12)+AD12)","v":1051},{"$f":"IF($B12=\"\",\"\",0+UPPER(Mainframe!J11))","v":9},{"$f":"IF(AF12=\"\",\"\",IF(NOT(ISNA(VLOOKUP(AF12,Answers!AC:AF,4,FALSE))),VLOOKUP(AF12,Answers!AC:AF,4,FALSE),\"Help!\"))","v":1000},null,{"$f":"IF(AG12=\"\",\"\",AE12+IF(AG12=\"XX\",VLOOKUP(\"WRONG\",Answers!AC:AF,4,FALSE),AG12)+AH12)","v":2051},{"$f":"IF($B12=\"\",\"\",0+UPPER(Mainframe!K11))","v":9},"XX",null,{"$f":"IF(AK12=\"\",\"\",AI12+IF(AK12=\"XX\",VLOOKUP(\"WRONG\",Answers!AG:AJ,4,FALSE),AK12)+AL12)","v":3058},{"$f":"IF($B12=\"\",\"\",0+UPPER(Mainframe!L11))","v":76},{"$f":"IF(AN12=\"\",\"\",IF(NOT(ISNA(VLOOKUP(AN12,Answers!AK:AN,4,FALSE))),VLOOKUP(AN12,Answers!AK:AN,4,FALSE),\"Help!\"))","v":6},null,{"$f":"IF(AO12=\"\",\"\",AM12+IF(AO12=\"XX\",VLOOKUP(\"WRONG\",Answers!AK:AN,4,FALSE),AO12)+AP12)","v":3064},{"$f":"IF($B12=\"\",\"\",0+UPPER(Mainframe!M11))","v":5},{"$f":"IF(AR12=\"\",\"\",IF(NOT(ISNA(VLOOKUP(AR12,Answers!AO:AR,4,FALSE))),VLOOKUP(AR12,Answers!AO:AR,4,FALSE),\"Help!\"))","v":1000},null,{"$f":"IF(AS12=\"\",\"\",AQ12+IF(AS12=\"XX\",VLOOKUP(\"WRONG\",Answers!AO:AR,4,FALSE),AS12)+AT12)","v":4064},{"$f":"IF($B12=\"\",\"\",0+UPPER(Mainframe!N11))","v":10},{"$f":"IF(AV12=\"\",\"\",IF(NOT(ISNA(VLOOKUP(AV12,Answers!AS:AV,4,FALSE))),VLOOKUP(AV12,Answers!AS:AV,4,FALSE),\"Help!\"))","v":1000},{"$f":"IF(AW12>500,-1000,0)","v":-1000},{"$f":"IF(AW12=\"\",\"\",AU12+IF(AW12=\"XX\",VLOOKUP(\"WRONG\",Answers!AS:AV,4,FALSE),AW12)+AX12)","v":4064},{"$f":"IF($B12=\"\",\"\",0+UPPER(Mainframe!O11))","v":733},244.52054794520546,1,{"$f":"IF($B12=\"\",\"\",LEFT(Mainframe!P11,SEARCH(\".\",Mainframe!P11)-1))","v":"12"},null,null,null,null,null,null,null,null,null,null,null,null,null,null,null,null,null,null,null,null,null,null,null,null,null,null,null,null,null,null,10,{"$f":"IF(INDEX($B:$CE,ROW(),QNO*4)=\"XX\",\"[b][u]\"&INDEX($B:$CE,ROW(),QNO*4-1)&\"[/u][/b]\",\"[color=#BF0040]\"&INDEX(OFFSET(Answers!C:C,0,(QNO-1)*4),MATCH(INDEX($A:$CB,ROW(),QNO*4),OFFSET(Answers!A:A,0,(QNO-1)*4),0))&\"[/color]//[b]\"&INDEX(OFFSET(Answers!B:B,0,(QNO-1)*4),MATCH(INDEX($A:$CB,ROW(),QNO*4),OFFSET(Answers!A:A,0,(QNO-1)*4),0))&\"[/b] — [b]\"&IF(INDEX($B:$CE,ROW(),QNO*4)=1,\"Singleton!\",CONCATENATE(INDEX($B:$CE,ROW(),QNO*4),\" responses\"))&\"[/b]\")","v":"[color=#BF0040]\"Mama Told Me (Not to Come)\", \"Joy to the World\", \"Black and White\"[/color]//[b][u]THREE[/u] DOG NIGHT[/b] — [b]11 responses[/b]"},"MitchO","Yes","10. MitchO — [b]11[/b] pts",55,45]
["[*]",{"$f":"IF(Mainframe!B12=\"\",\"\",INDEX(Mainframe!$B:$B,C13+1,1))","v":"dinghammer"},11,{"$f":"IF($B13=\"\",\"\",0+UPPER(Mainframe!C12))","v":65},{"$f":"IF(D13=\"\",\"\",IF(NOT(ISNA(VLOOKUP(D13,Answers!A:D,4,FALSE))),VLOOKUP(D13,Answers!A:D,4,FALSE),\"Help!\"))","v":9},null,{"$f":"IF(E13=\"\",\"\",IF(E13=\"XX\",VLOOKUP(\"WRONG\",Answers!A:D,4,FALSE),E13)+F13)","v":9},{"$f":"IF($B13=\"\",\"\",0+UPPER(Mainframe!D12))","v":1326},{"$f":"IF(H13=\"\",\"\",IF(NOT(ISNA(VLOOKUP(H13,Answers!E:H,4,FALSE))),VLOOKUP(H13,Answers!E:H,4,FALSE),\"Help!\"))","v":2},null,{"$f":"IF(I13=\"\",\"\",G13+IF(I13=\"XX\",VLOOKUP(\"WRONG\",Answers!E:H,4,FALSE),I13)+J13)","v":11},{"$f":"IF($B13=\"\",\"\",0+UPPER(Mainframe!E12))","v":300},{"$f":"IF(L13=\"\",\"\",IF(NOT(ISNA(VLOOKUP(L13,Answers!I:L,4,FALSE))),VLOOKUP(L13,Answers!I:L,4,FALSE),\"Help!\"))","v":11},null,{"$f":"IF(M13=\"\",\"\",K13+IF(M13=\"XX\",VLOOKUP(\"WRONG\",Answers!I:L,4,FALSE),M13)+N13)","v":22},{"$f":"IF($B13=\"\",\"\",0+UPPER(Mainframe!F12))","v":1815},{"$f":"IF(P13=\"\",\"\",IF(NOT(ISNA(VLOOKUP(P13,Answers!M:P,4,FALSE))),VLOOKUP(P13,Answers!M:P,4,FALSE),\"Help!\"))","v":10},{"$f":"IF(Q13>500,-1000,0)","v":0},{"$f":"IF(Q13=\"\",\"\",O13+IF(Q13=\"XX\",VLOOKUP(\"WRONG\",Answers!M:P,4,FALSE),Q13)+R13)","v":32},{"$f":"IF($B13=\"\",\"\",0+UPPER(Mainframe!G12))","v":5},{"$f":"IF(T13=\"\",\"\",IF(NOT(ISNA(VLOOKUP(T13,Answers!Q:T,4,FALSE))),VLOOKUP(T13,Answers!Q:T,4,FALSE),\"Help!\"))","v":1000},null,{"$f":"IF(U13=\"\",\"\",S13+IF(U13=\"XX\",VLOOKUP(\"WRONG\",Answers!Q:T,4,FALSE),U13)+V13)","v":1032},{"$f":"IF($B13=\"\",\"\",0+UPPER(Mainframe!H12))","v":12},{"$f":"IF(X13=\"\",\"\",IF(NOT(ISNA(VLOOKUP(X13,Answers!U:X,4,FALSE))),VLOOKUP(X13,Answers!U:X,4,FALSE),\"Help!\"))","v":5},null,{"$f":"IF(Y13=\"\",\"\",W13+IF(Y13=\"XX\",VLOOKUP(\"WRONG\",Answers!U:X,4,FALSE),Y13)+Z13)","v":1037},{"$f":"IF($B13=\"\",\"\",0+UPPER(Mainframe!I12))","v":76},{"$f":"IF(AB13=\"\",\"\",IF(NOT(ISNA(VLOOKUP(AB13,Answers!Y:AB,4,FALSE))),VLOOKUP(AB13,Answers!Y:AB,4,FALSE),\"Help!\"))","v":1000},null,{"$f":"IF(AC13=\"\",\"\",AA13+IF(AC13=\"XX\",VLOOKUP(\"WRONG\",Answers!Y:AB,4,FALSE),AC13)+AD13)","v":2037},{"$f":"IF($B13=\"\",\"\",0+UPPER(Mainframe!J12))","v":34},{"$f":"IF(AF13=\"\",\"\",IF(NOT(ISNA(VLOOKUP(AF13,Answers!AC:AF,4,FALSE))),VLOOKUP(AF13,Answers!AC:AF,4,FALSE),\"Help!\"))","v":4},null,{"$f":"IF(AG13=\"\",\"\",AE13+IF(AG13=\"XX\",VLOOKUP(\"WRONG\",Answers!AC:AF,4,FALSE),AG13)+AH13)","v":2041},{"$f":"IF($B13=\"\",\"\",0+UPPER(Mainframe!K12))","v":84},{"$f":"IF(AJ13=\"\",\"\",IF(NOT(ISNA(VLOOKUP(AJ13,Answers!AG:AJ,4,FALSE))),VLOOKUP(AJ13,Answers!AG:AJ,4,FALSE),\"Help!\"))","v":1000},null,{"$f":"IF(AK13=\"\",\"\",AI13+IF(AK13=\"XX\",VLOOKUP(\"WRONG\",Answers!AG:AJ,4,FALSE),AK13)+AL13)","v":3041},{"$f":"IF($B13=\"\",\"\",0+UPPER(Mainframe!L12))","v":49},{"$f":"IF(AN13=\"\",\"\",IF(NOT(ISNA(VLOOKUP(AN13,Answers!AK:AN,4,FALSE))),VLOOKUP(AN13,Answers!AK:AN,4,FALSE),\"Help!\"))","v":9},null,{"$f":"IF(AO13=\"\",\"\",AM13+IF(AO13=\"XX\",VLOOKUP(\"WRONG\",Answers!AK:AN,4,FALSE),AO13)+AP13)","v":3050},{"$f":"IF($B13=\"\",\"\",0+UPPER(Mainframe!M12))","v":5},{"$f":"IF(AR13=\"\",\"\",IF(NOT(ISNA(VLOOKUP(AR13,Answers!AO:AR,4,FALSE))),VLOOKUP(AR13,Answers!AO:AR,4,FALSE),\"Help!\"))","v":1000},null,{"$f":"IF(AS13=\"\",\"\",AQ13+IF(AS13=\"XX\",VLOOKUP(\"WRONG\",Answers!AO:AR,4,FALSE),AS13)+AT13)","v":4050},{"$f":"IF($B13=\"\",\"\",0+UPPER(Mainframe!N12))","v":613},{"$f":"IF(AV13=\"\",\"\",IF(NOT(ISNA(VLOOKUP(AV13,Answers!AS:AV,4,FALSE))),VLOOKUP(AV13,Answers!AS:AV,4,FALSE),\"Help!\"))","v":4},null,{"$f":"IF(AW13=\"\",\"\",AU13+IF(AW13=\"XX\",VLOOKUP(\"WRONG\",Answers!AS:AV,4,FALSE),AW13)+AX13)","v":4054},{"$f":"IF($B13=\"\",\"\",0+UPPER(Mainframe!O12))","v":587},98.520547945205465,1,{"$f":"IF($B13=\"\",\"\",LEFT(Mainframe!P12,SEARCH(\".\",Mainframe!P12)-1))","v":"4"},null,null,null,null,null,null,null,null,null,null,null,null,null,null,null,null,null,null,null,null,null,null,null,null,null,null,null,null,null,null,11,{"$f":"IF(INDEX($B:$CE,ROW(),QNO*4)=\"XX\",\"[b][u]\"&INDEX($B:$CE,ROW(),QNO*4-1)&\"[/u][/b]\",\"[color=#BF0040]\"&INDEX(OFFSET(Answers!C:C,0,(QNO-1)*4),MATCH(INDEX($A:$CB,ROW(),QNO*4),OFFSET(Answers!A:A,0,(QNO-1)*4),0))&\"[/color]//[b]\"&INDEX(OFFSET(Answers!B:B,0,(QNO-1)*4),MATCH(INDEX($A:$CB,ROW(),QNO*4),OFFSET(Answers!A:A,0,(QNO-1)*4),0))&\"[/b] — [b]\"&IF(INDEX($B:$CE,ROW(),QNO*4)=1,\"Singleton!\",CONCATENATE(INDEX($B:$CE,ROW(),QNO*4),\" responses\"))&\"[/b]\")","v":"[color=#BF0040]\"Blue (Da Ba Dee)\", \"Move Your Body\", \"Lucky (In My Life)\"[/color]//[b]EIFFEL [u]65[/u][/b] — [b]9 responses[/b]"},"dinghammer","Yes","11. dinghammer — [b]9[/b] pts",52,41]
["[*]",{"$f":"IF(Mainframe!B13=\"\",\"\",INDEX(Mainframe!$B:$B,C14+1,1))","v":"RichmondJ"},12,{"$f":"IF($B14=\"\",\"\",0+UPPER(Mainframe!C13))","v":40},{"$f":"IF(D14=\"\",\"\",IF(NOT(ISNA(VLOOKUP(D14,Answers!A:D,4,FALSE))),VLOOKUP(D14,Answers!A:D,4,FALSE),\"Help!\"))","v":1000},{"$f":"IF(E14>500,-1000,0)","v":-1000},{"$f":"IF(E14=\"\",\"\",IF(E14=\"XX\",VLOOKUP(\"WRONG\",Answers!A:D,4,FALSE),E14)+F14)","v":0},{"$f":"IF($B14=\"\",\"\",0+UPPER(Mainframe!D13))","v":22},{"$f":"IF(H14=\"\",\"\",IF(NOT(ISNA(VLOOKUP(H14,Answers!E:H,4,FALSE))),VLOOKUP(H14,Answers!E:H,4,FALSE),\"Help!\"))","v":11},null,{"$f":"IF(I14=\"\",\"\",G14+IF(I14=\"XX\",VLOOKUP(\"WRONG\",Answers!E:H,4,FALSE),I14)+J14)","v":11},{"$f":"IF($B14=\"\",\"\",0+UPPER(Mainframe!E13))","v":7},"XX",null,{"$f":"IF(M14=\"\",\"\",K14+IF(M14=\"XX\",VLOOKUP(\"WRONG\",Answers!I:L,4,FALSE),M14)+N14)","v":1018},{"$f":"IF($B14=\"\",\"\",0+UPPER(Mainframe!F13))","v":1777},{"$f":"IF(P14=\"\",\"\",IF(NOT(ISNA(VLOOKUP(P14,Answers!M:P,4,FALSE))),VLOOKUP(P14,Answers!M:P,4,FALSE),\"Help!\"))","v":3},null,{"$f":"IF(Q14=\"\",\"\",O14+IF(Q14=\"XX\",VLOOKUP(\"WRONG\",Answers!M:P,4,FALSE),Q14)+R14)","v":1021},{"$f":"IF($B14=\"\",\"\",0+UPPER(Mainframe!G13))","v":11},{"$f":"IF(T14=\"\",\"\",IF(NOT(ISNA(VLOOKUP(T14,Answers!Q:T,4,FALSE))),VLOOKUP(T14,Answers!Q:T,4,FALSE),\"Help!\"))","v":4},null,{"$f":"IF(U14=\"\",\"\",S14+IF(U14=\"XX\",VLOOKUP(\"WRONG\",Answers!Q:T,4,FALSE),U14)+V14)","v":1025},{"$f":"IF($B14=\"\",\"\",0+UPPER(Mainframe!H13))","v":80},{"$f":"IF(X14=\"\",\"\",IF(NOT(ISNA(VLOOKUP(X14,Answers!U:X,4,FALSE))),VLOOKUP(X14,Answers!U:X,4,FALSE),\"Help!\"))","v":5},null,{"$f":"IF(Y14=\"\",\"\",W14+IF(Y14=\"XX\",VLOOKUP(\"WRONG\",Answers!U:X,4,FALSE),Y14)+Z14)","v":1030},{"$f":"IF($B14=\"\",\"\",0+UPPER(Mainframe!I13))","v":525600},{"$f":"IF(AB14=\"\",\"\",IF(NOT(ISNA(VLOOKUP(AB14,Answers!Y:AB,4,FALSE))),VLOOKUP(AB14,Answers!Y:AB,4,FALSE),\"Help!\"))","v":5},null,{"$f":"IF(AC14=\"\",\"\",AA14+IF(AC14=\"XX\",VLOOKUP(\"WRONG\",Answers!Y:AB,4,FALSE),AC14)+AD14)","v":1035},{"$f":"IF($B14=\"\",\"\",0+UPPER(Mainframe!J13))","v":1850},{"$f":"IF(AF14=\"\",\"\",IF(NOT(ISNA(VLOOKUP(AF14,Answers!AC:AF,4,FALSE))),VLOOKUP(AF14,Answers!AC:AF,4,FALSE),\"Help!\"))","v":4},null,{"$f":"IF(AG14=\"\",\"\",AE14+IF(AG14=\"XX\",VLOOKUP(\"WRONG\",Answers!AC:AF,4,FALSE),AG14)+AH14)","v":1039},{"$f":"IF($B14=\"\",\"\",0+UPPER(Mainframe!K13))","v":94},{"$f":"IF(AJ14=\"\",\"\",IF(NOT(ISNA(VLOOKUP(AJ14,Answers!AG:AJ,4,FALSE))),VLOOKUP(AJ14,Answers!AG:AJ,4,FALSE),\"Help!\"))","v":5},null,{"$f":"IF(AK14=\"\",\"\",AI14+IF(AK14=\"XX\",VLOOKUP(\"WRONG\",Answers!AG:AJ,4,FALSE),AK14)+AL14)","v":1044},{"$f":"IF($B14=\"\",\"\",0+UPPER(Mainframe!L13))","v":5},{"$f":"IF(AN14=\"\",\"\",IF(NOT(ISNA(VLOOKUP(AN14,Answers!AK:AN,4,FALSE))),VLOOKUP(AN14,Answers!AK:AN,4,FALSE),\"Help!\"))","v":7},null,{"$f":"IF(AO14=\"\",\"\",AM14+IF(AO14=\"XX\",VLOOKUP(\"WRONG\",Answers!AK:AN,4,FALSE),AO14)+AP14)","v":1051},{"$f":"IF($B14=\"\",\"\",0+UPPER(Mainframe!M13))","v":8},{"$f":"IF(AR14=\"\",\"\",IF(NOT(ISNA(VLOOKUP(AR14,Answers!AO:AR,4,FALSE))),VLOOKUP(AR14,Answers!AO:AR,4,FALSE),\"Help!\"))","v":6},null,{"$f":"IF(AS14=\"\",\"\",AQ14+IF(AS14=\"XX\",VLOOKUP(\"WRONG\",Answers!AO:AR,4,FALSE),AS14)+AT14)","v":1057},{"$f":"IF($B14=\"\",\"\",0+UPPER(Mainframe!N13))","v":150},{"$f":"IF(AV14=\"\",\"\",IF(NOT(ISNA(VLOOKUP(AV14,Answers!AS:AV,4,FALSE))),VLOOKUP(AV14,Answers!AS:AV,4,FALSE),\"Help!\"))","v":5},null,{"$f":"IF(AW14=\"\",\"\",AU14+IF(AW14=\"XX\",VLOOKUP(\"WRONG\",Answers!AS:AV,4,FALSE),AW14)+AX14)","v":1062},{"$f":"IF($B14=\"\",\"\",0+UPPER(Mainframe!O13))","v":412},76.479452054794535,1,{"$f":"IF($B14=\"\",\"\",LEFT(Mainframe!P13,SEARCH(\".\",Mainframe!P13)-1))","v":"1"},null,null,null,null,null,null,null,null,null,null,null,null,null,null,null,null,null,null,null,null,null,null,null,null,null,null,null,null,null,null,12,{"$f":"IF(INDEX($B:$CE,ROW(),QNO*4)=\"XX\",\"[b][u]\"&INDEX($B:$CE,ROW(),QNO*4-1)&\"[/u][/b]\",\"[color=#BF0040]\"&INDEX(OFFSET(Answers!C:C,0,(QNO-1)*4),MATCH(INDEX($A:$CB,ROW(),QNO*4),OFFSET(Answers!A:A,0,(QNO-1)*4),0))&\"[/color]//[b]\"&INDEX(OFFSET(Answers!B:B,0,(QNO-1)*4),MATCH(INDEX($A:$CB,ROW(),QNO*4),OFFSET(Answers!A:A,0,(QNO-1)*4),0))&\"[/b] — [b]\"&IF(INDEX($B:$CE,ROW(),QNO*4)=1,\"Singleton!\",CONCATENATE(INDEX($B:$CE,ROW(),QNO*4),\" responses\"))&\"[/b]\")","v":"[color=#BF0040]\"King\", \"Red Red Wine\", \"(I Can't Help) Falling in Love With You\"[/color]//[b]UB[u]40[/u][/b] — [b]1000 responses[/b]"},"RichmondJ [[b][color=#8000BF]FOX[/color][/b]]","Yes","12. RichmondJ — [b]0[/b] pts",10,-2]
["[*]",{"$f":"IF(Mainframe!B14=\"\",\"\",INDEX(Mainframe!$B:$B,C15+1,1))","v":"geolawyerman"},13,{"$f":"IF($B15=\"\",\"\",0+UPPER(Mainframe!C14))","v":1},{"$f":"IF(D15=\"\",\"\",IF(NOT(ISNA(VLOOKUP(D15,Answers!A:D,4,FALSE))),VLOOKUP(D15,Answers!A:D,4,FALSE),\"Help!\"))","v":8},null,{"$f":"IF(E15=\"\",\"\",IF(E15=\"XX\",VLOOKUP(\"WRONG\",Answers!A:D,4,FALSE),E15)+F15)","v":8},{"$f":"IF($B15=\"\",\"\",0+UPPER(Mainframe!D14))","v":21},{"$f":"IF(H15=\"\",\"\",IF(NOT(ISNA(VLOOKUP(H15,Answers!E:H,4,FALSE))),VLOOKUP(H15,Answers!E:H,4,FALSE),\"Help!\"))","v":1000},null,{"$f":"IF(I15=\"\",\"\",G15+IF(I15=\"XX\",VLOOKUP(\"WRONG\",Answers!E:H,4,FALSE),I15)+J15)","v":1008},{"$f":"IF($B15=\"\",\"\",0+UPPER(Mainframe!E14))","v":2012},{"$f":"IF(L15=\"\",\"\",IF(NOT(ISNA(VLOOKUP(L15,Answers!I:L,4,FALSE))),VLOOKUP(L15,Answers!I:L,4,FALSE),\"Help!\"))","v":2},null,{"$f":"IF(M15=\"\",\"\",K15+IF(M15=\"XX\",VLOOKUP(\"WRONG\",Answers!I:L,4,FALSE),M15)+N15)","v":1010},{"$f":"IF($B15=\"\",\"\",0+UPPER(Mainframe!F14))","v":312},{"$f":"IF(P15=\"\",\"\",IF(NOT(ISNA(VLOOKUP(P15,Answers!M:P,4,FALSE))),VLOOKUP(P15,Answers!M:P,4,FALSE),\"Help!\"))","v":4},null,{"$f":"IF(Q15=\"\",\"\",O15+IF(Q15=\"XX\",VLOOKUP(\"WRONG\",Answers!M:P,4,FALSE),Q15)+R15)","v":1014},{"$f":"IF($B15=\"\",\"\",0+UPPER(Mainframe!G14))","v":2},{"$f":"IF(T15=\"\",\"\",IF(NOT(ISNA(VLOOKUP(T15,Answers!Q:T,4,FALSE))),VLOOKUP(T15,Answers!Q:T,4,FALSE),\"Help!\"))","v":14},null,{"$f":"IF(U15=\"\",\"\",S15+IF(U15=\"XX\",VLOOKUP(\"WRONG\",Answers!Q:T,4,FALSE),U15)+V15)","v":1028},{"$f":"IF($B15=\"\",\"\",0+UPPER(Mainframe!H14))","v":4},{"$f":"IF(X15=\"\",\"\",IF(NOT(ISNA(VLOOKUP(X15,Answers!U:X,4,FALSE))),VLOOKUP(X15,Answers!U:X,4,FALSE),\"Help!\"))","v":6},null,{"$f":"IF(Y15=\"\",\"\",W15+IF(Y15=\"XX\",VLOOKUP(\"WRONG\",Answers!U:X,4,FALSE),Y15)+Z15)","v":1034},{"$f":"IF($B15=\"\",\"\",0+UPPER(Mainframe!I14))","v":8},{"$f":"IF(AB15=\"\",\"\",IF(NOT(ISNA(VLOOKUP(AB15,Answers!Y:AB,4,FALSE))),VLOOKUP(AB15,Answers!Y:AB,4,FALSE),\"Help!\"))","v":2},{"$f":"IF(AC15>500,-1000,0)","v":0},{"$f":"IF(AC15=\"\",\"\",AA15+IF(AC15=\"XX\",VLOOKUP(\"WRONG\",Answers!Y:AB,4,FALSE),AC15)+AD15)","v":1036},{"$f":"IF($B15=\"\",\"\",0+UPPER(Mainframe!J14))","v":18},{"$f":"IF(AF15=\"\",\"\",IF(NOT(ISNA(VLOOKUP(AF15,Answers!AC:AF,4,FALSE))),VLOOKUP(AF15,Answers!AC:AF,4,FALSE),\"Help!\"))","v":10},null,{"$f":"IF(AG15=\"\",\"\",AE15+IF(AG15=\"XX\",VLOOKUP(\"WRONG\",Answers!AC:AF,4,FALSE),AG15)+AH15)","v":1046},{"$f":"IF($B15=\"\",\"\",0+UPPER(Mainframe!K14))","v":84},{"$f":"IF(AJ15=\"\",\"\",IF(NOT(ISNA(VLOOKUP(AJ15,Answers!AG:AJ,4,FALSE))),VLOOKUP(AJ15,Answers!AG:AJ,4,FALSE),\"Help!\"))","v":1000},null,{"$f":"IF(AK15=\"\",\"\",AI15+IF(AK15=\"XX\",VLOOKUP(\"WRONG\",Answers!AG:AJ,4,FALSE),AK15)+AL15)","v":2046},{"$f":"IF($B15=\"\",\"\",0+UPPER(Mainframe!L14))","v":61},{"$f":"IF(AN15=\"\",\"\",IF(NOT(ISNA(VLOOKUP(AN15,Answers!AK:AN,4,FALSE))),VLOOKUP(AN15,Answers!AK:AN,4,FALSE),\"Help!\"))","v":5},null,{"$f":"IF(AO15=\"\",\"\",AM15+IF(AO15=\"XX\",VLOOKUP(\"WRONG\",Answers!AK:AN,4,FALSE),AO15)+AP15)","v":2051},{"$f":"IF($B15=\"\",\"\",0+UPPER(Mainframe!M14))","v":8},{"$f":"IF(AR15=\"\",\"\",IF(NOT(ISNA(VLOOKUP(AR15,Answers!AO:AR,4,FALSE))),VLOOKUP(AR15,Answers!AO:AR,4,FALSE),\"Help!\"))","v":6},null,{"$f":"IF(AS15=\"\",\"\",AQ15+IF(AS15=\"XX\",VLOOKUP(\"WRONG\",Answers!AO:AR,4,FALSE),AS15)+AT15)","v":2057},{"$f":"IF($B15=\"\",\"\",0+UPPER(Mainframe!N14))","v":5000},{"$f":"IF(AV15=\"\",\"\",IF(NOT(ISNA(VLOOKUP(AV15,Answers!AS:AV,4,FALSE))),VLOOKUP(AV15,Answers!AS:AV,4,FALSE),\"Help!\"))","v":9},null,{"$f":"IF(AW15=\"\",\"\",AU15+IF(AW15=\"XX\",VLOOKUP(\"WRONG\",Answers!AS:AV,4,FALSE),AW15)+AX15)","v":2066},{"$f":"IF($B15=\"\",\"\",0+UPPER(Mainframe!O14))","v":500},11.520547945205465,1,{"$f":"IF($B15=\"\",\"\",LEFT(Mainframe!P14,SEARCH(\".\",Mainframe!P14)-1))","v":"7"},null,null,null,null,null,null,null,null,null,null,null,null,null,null,null,null,null,null,null,null,null,null,null,null,null,null,null,null,null,null,13,{"$f":"IF(INDEX($B:$CE,ROW(),QNO*4)=\"XX\",\"[b][u]\"&INDEX($B:$CE,ROW(),QNO*4-1)&\"[/u][/b]\",\"[color=#BF0040]\"&INDEX(OFFSET(Answers!C:C,0,(QNO-1)*4),MATCH(INDEX($A:$CB,ROW(),QNO*4),OFFSET(Answers!A:A,0,(QNO-1)*4),0))&\"[/color]//[b]\"&INDEX(OFFSET(Answers!B:B,0,(QNO-1)*4),MATCH(INDEX($A:$CB,ROW(),QNO*4),OFFSET(Answers!A:A,0,(QNO-1)*4),0))&\"[/b] — [b]\"&IF(INDEX($B:$CE,ROW(),QNO*4)=1,\"Singleton!\",CONCATENATE(INDEX($B:$CE,ROW(),QNO*4),\" responses\"))&\"[/b]\")","v":"[color=#BF0040]\"What Makes You Beautiful\", \"Little Things\", \"Best Song Ever\"[/color]//[b][u]ONE[/u] DIRECTION[/b] — [b]8 responses[/b]"},"geolawyerman","Yes","13. geolawyerman — [b]8[/b] pts",22,9]
["[*]",{"$f":"IF(Mainframe!B15=\"\",\"\",INDEX(Mainframe!$B:$B,C16+1,1))","v":"Blue Lion"},14,{"$f":"IF($B16=\"\",\"\",0+UPPER(Mainframe!C15))","v":40},{"$f":"IF(D16=\"\",\"\",IF(NOT(ISNA(VLOOKUP(D16,Answers!A:D,4,FALSE))),VLOOKUP(D16,Answers!A:D,4,FALSE),\"Help!\"))","v":1000},null,{"$f":"IF(E16=\"\",\"\",IF(E16=\"XX\",VLOOKUP(\"WRONG\",Answers!A:D,4,FALSE),E16)+F16)","v":1000},{"$f":"IF($B16=\"\",\"\",0+UPPER(Mainframe!D15))","v":23},"XX",{"$f":"IF(I16>500,-1000,0)","v":-1000},{"$f":"IF(I16=\"\",\"\",G16+IF(I16=\"XX\",VLOOKUP(\"WRONG\",Answers!E:H,4,FALSE),I16)+J16)","v":1007},{"$f":"IF($B16=\"\",\"\",0+UPPER(Mainframe!E15))","v":400},{"$f":"IF(L16=\"\",\"\",IF(NOT(ISNA(VLOOKUP(L16,Answers!I:L,4,FALSE))),VLOOKUP(L16,Answers!I:L,4,FALSE),\"Help!\"))","v":2},null,{"$f":"IF(M16=\"\",\"\",K16+IF(M16=\"XX\",VLOOKUP(\"WRONG\",Answers!I:L,4,FALSE),M16)+N16)","v":1009},{"$f":"IF($B16=\"\",\"\",0+UPPER(Mainframe!F15))","v":1066},{"$f":"IF(P16=\"\",\"\",IF(NOT(ISNA(VLOOKUP(P16,Answers!M:P,4,FALSE))),VLOOKUP(P16,Answers!M:P,4,FALSE),\"Help!\"))","v":2},null,{"$f":"IF(Q16=\"\",\"\",O16+IF(Q16=\"XX\",VLOOKUP(\"WRONG\",Answers!M:P,4,FALSE),Q16)+R16)","v":1011},{"$f":"IF($B16=\"\",\"\",0+UPPER(Mainframe!G15))","v":36},{"$f":"IF(T16=\"\",\"\",IF(NOT(ISNA(VLOOKUP(T16,Answers!Q:T,4,FALSE))),VLOOKUP(T16,Answers!Q:T,4,FALSE),\"Help!\"))","v":4},null,{"$f":"IF(U16=\"\",\"\",S16+IF(U16=\"XX\",VLOOKUP(\"WRONG\",Answers!Q:T,4,FALSE),U16)+V16)","v":1015},{"$f":"IF($B16=\"\",\"\",0+UPPER(Mainframe!H15))","v":47},"XX",null,{"$f":"IF(Y16=\"\",\"\",W16+IF(Y16=\"XX\",VLOOKUP(\"WRONG\",Answers!U:X,4,FALSE),Y16)+Z16)","v":2022},{"$f":"IF($B16=\"\",\"\",0+UPPER(Mainframe!I15))","v":42},{"$f":"IF(AB16=\"\",\"\",IF(NOT(ISNA(VLOOKUP(AB16,Answers!Y:AB,4,FALSE))),VLOOKUP(AB16,Answers!Y:AB,4,FALSE),\"Help!\"))","v":13},null,{"$f":"IF(AC16=\"\",\"\",AA16+IF(AC16=\"XX\",VLOOKUP(\"WRONG\",Answers!Y:AB,4,FALSE),AC16)+AD16)","v":2035},{"$f":"IF($B16=\"\",\"\",0+UPPER(Mainframe!J15))","v":538},{"$f":"IF(AF16=\"\",\"\",IF(NOT(ISNA(VLOOKUP(AF16,Answers!AC:AF,4,FALSE))),VLOOKUP(AF16,Answers!AC:AF,4,FALSE),\"Help!\"))","v":4},null,{"$f":"IF(AG16=\"\",\"\",AE16+IF(AG16=\"XX\",VLOOKUP(\"WRONG\",Answers!AC:AF,4,FALSE),AG16)+AH16)","v":2039},{"$f":"IF($B16=\"\",\"\",0+UPPER(Mainframe!K15))","v":88},"XX",null,{"$f":"IF(AK16=\"\",\"\",AI16+IF(AK16=\"XX\",VLOOKUP(\"WRONG\",Answers!AG:AJ,4,FALSE),AK16)+AL16)","v":3046},{"$f":"IF($B16=\"\",\"\",0+UPPER(Mainframe!L15))","v":61},{"$f":"IF(AN16=\"\",\"\",IF(NOT(ISNA(VLOOKUP(AN16,Answers!AK:AN,4,FALSE))),VLOOKUP(AN16,Answers!AK:AN,4,FALSE),\"Help!\"))","v":5},null,{"$f":"IF(AO16=\"\",\"\",AM16+IF(AO16=\"XX\",VLOOKUP(\"WRONG\",Answers!AK:AN,4,FALSE),AO16)+AP16)","v":3051},{"$f":"IF($B16=\"\",\"\",0+UPPER(Mainframe!M15))","v":40},{"$f":"IF(AR16=\"\",\"\",IF(NOT(ISNA(VLOOKUP(AR16,Answers!AO:AR,4,FALSE))),VLOOKUP(AR16,Answers!AO:AR,4,FALSE),\"Help!\"))","v":3},null,{"$f":"IF(AS16=\"\",\"\",AQ16+IF(AS16=\"XX\",VLOOKUP(\"WRONG\",Answers!AO:AR,4,FALSE),AS16)+AT16)","v":3054},{"$f":"IF($B16=\"\",\"\",0+UPPER(Mainframe!N15))","v":95},{"$f":"IF(AV16=\"\",\"\",IF(NOT(ISNA(VLOOKUP(AV16,Answers!AS:AV,4,FALSE))),VLOOKUP(AV16,Answers!AS:AV,4,FALSE),\"Help!\"))","v":7},null,{"$f":"IF(AW16=\"\",\"\",AU16+IF(AW16=\"XX\",VLOOKUP(\"WRONG\",Answers!AS:AV,4,FALSE),AW16)+AX16)","v":3061},{"$f":"IF($B16=\"\",\"\",0+UPPER(Mainframe!O15))","v":542},53.520547945205465,1,{"$f":"IF($B16=\"\",\"\",LEFT(Mainframe!P15,SEARCH(\".\",Mainframe!P15)-1))","v":"2"},null,null,null,null,null,null,null,null,null,null,null,null,null,null,null,null,null,null,null,null,null,null,null,null,null,null,null,null,null,null,14,{"$f":"IF(INDEX($B:$CE,ROW(),QNO*4)=\"XX\",\"[b][u]\"&INDEX($B:$CE,ROW(),QNO*4-1)&\"[/u][/b]\",\"[color=#BF0040]\"&INDEX(OFFSET(Answers!C:C,0,(QNO-1)*4),MATCH(INDEX($A:$CB,ROW(),QNO*4),OFFSET(Answers!A:A,0,(QNO-1)*4),0))&\"[/color]//[b]\"&INDEX(OFFSET(Answers!B:B,0,(QNO-1)*4),MATCH(INDEX($A:$CB,ROW(),QNO*4),OFFSET(Answers!A:A,0,(QNO-1)*4),0))&\"[/b] — [b]\"&IF(INDEX($B:$CE,ROW(),QNO*4)=1,\"Singleton!\",CONCATENATE(INDEX($B:$CE,ROW(),QNO*4),\" responses\"))&\"[/b]\")","v":"[color=#BF0040]\"King\", \"Red Red Wine\", \"(I Can't Help) Falling in Love With You\"[/color]//[b]UB[u]40[/u][/b] — [b]1000 responses[/b]"},"Blue Lion","Yes","14. Blue Lion — [b]1,000[/b] pts",41,27]
["[*]",{"$f":"IF(Mainframe!B16=\"\",\"\",INDEX(Mainframe!$B:$B,C17+1,1))","v":"Abraxas"},15,{"$f":"IF($B17=\"\",\"\",0+UPPER(Mainframe!C16))","v":5000},{"$f":"IF(D17=\"\",\"\",IF(NOT(ISNA(VLOOKUP(D17,Answers!A:D,4,FALSE))),VLOOKUP(D17,Answers!A:D,4,FALSE),\"Help!\"))","v":5},null,{"$f":"IF(E17=\"\",\"\",IF(E17=\"XX\",VLOOKUP(\"WRONG\",Answers!A:D,4,FALSE),E17)+F17)","v":5},{"$f":"IF($B17=\"\",\"\",0+UPPER(Mainframe!D16))","v":775},{"$f":"IF(H17=\"\",\"\",IF(NOT(ISNA(VLOOKUP(H17,Answers!E:H,4,FALSE))),VLOOKUP(H17,Answers!E:H,4,FALSE),\"Help!\"))","v":5},null,{"$f":"IF(I17=\"\",\"\",G17+IF(I17=\"XX\",VLOOKUP(\"WRONG\",Answers!E:H,4,FALSE),I17)+J17)","v":10},{"$f":"IF($B17=\"\",\"\",0+UPPER(Mainframe!E16))","v":3000},{"$f":"IF(L17=\"\",\"\",IF(NOT(ISNA(VLOOKUP(L17,Answers!I:L,4,FALSE))),VLOOKUP(L17,Answers!I:L,4,FALSE),\"Help!\"))","v":2},null,{"$f":"IF(M17=\"\",\"\",K17+IF(M17=\"XX\",VLOOKUP(\"WRONG\",Answers!I:L,4,FALSE),M17)+N17)","v":12},{"$f":"IF($B17=\"\",\"\",0+UPPER(Mainframe!F16))","v":2003},{"$f":"IF(P17=\"\",\"\",IF(NOT(ISNA(VLOOKUP(P17,Answers!M:P,4,FALSE))),VLOOKUP(P17,Answers!M:P,4,FALSE),\"Help!\"))","v":8},null,{"$f":"IF(Q17=\"\",\"\",O17+IF(Q17=\"XX\",VLOOKUP(\"WRONG\",Answers!M:P,4,FALSE),Q17)+R17)","v":20},{"$f":"IF($B17=\"\",\"\",0+UPPER(Mainframe!G16))","v":47},{"$f":"IF(T17=\"\",\"\",IF(NOT(ISNA(VLOOKUP(T17,Answers!Q:T,4,FALSE))),VLOOKUP(T17,Answers!Q:T,4,FALSE),\"Help!\"))","v":3},null,{"$f":"IF(U17=\"\",\"\",S17+IF(U17=\"XX\",VLOOKUP(\"WRONG\",Answers!Q:T,4,FALSE),U17)+V17)","v":23},{"$f":"IF($B17=\"\",\"\",0+UPPER(Mainframe!H16))","v":49},{"$f":"IF(X17=\"\",\"\",IF(NOT(ISNA(VLOOKUP(X17,Answers!U:X,4,FALSE))),VLOOKUP(X17,Answers!U:X,4,FALSE),\"Help!\"))","v":4},null,{"$f":"IF(Y17=\"\",\"\",W17+IF(Y17=\"XX\",VLOOKUP(\"WRONG\",Answers!U:X,4,FALSE),Y17)+Z17)","v":27},{"$f":"IF($B17=\"\",\"\",0+UPPER(Mainframe!I16))","v":525600},{"$f":"IF(AB17=\"\",\"\",IF(NOT(ISNA(VLOOKUP(AB17,Answers!Y:AB,4,FALSE))),VLOOKUP(AB17,Answers!Y:AB,4,FALSE),\"Help!\"))","v":5},null,{"$f":"IF(AC17=\"\",\"\",AA17+IF(AC17=\"XX\",VLOOKUP(\"WRONG\",Answers!Y:AB,4,FALSE),AC17)+AD17)","v":32},{"$f":"IF($B17=\"\",\"\",0+UPPER(Mainframe!J16))","v":1974},{"$f":"IF(AF17=\"\",\"\",IF(NOT(ISNA(VLOOKUP(AF17,Answers!AC:AF,4,FALSE))),VLOOKUP(AF17,Answers!AC:AF,4,FALSE),\"Help!\"))","v":8},null,{"$f":"IF(AG17=\"\",\"\",AE17+IF(AG17=\"XX\",VLOOKUP(\"WRONG\",Answers!AC:AF,4,FALSE),AG17)+AH17)","v":40},{"$f":"IF($B17=\"\",\"\",0+UPPER(Mainframe!K16))","v":35},{"$f":"IF(AJ17=\"\",\"\",IF(NOT(ISNA(VLOOKUP(AJ17,Answers!AG:AJ,4,FALSE))),VLOOKUP(AJ17,Answers!AG:AJ,4,FALSE),\"Help!\"))","v":8},null,{"$f":"IF(AK17=\"\",\"\",AI17+IF(AK17=\"XX\",VLOOKUP(\"WRONG\",Answers!AG:AJ,4,FALSE),AK17)+AL17)","v":48},{"$f":"IF($B17=\"\",\"\",0+UPPER(Mainframe!L16))","v":2130},{"$f":"IF(AN17=\"\",\"\",IF(NOT(ISNA(VLOOKUP(AN17,Answers!AK:AN,4,FALSE))),VLOOKUP(AN17,Answers!AK:AN,4,FALSE),\"Help!\"))","v":2},{"$f":"IF(AO17>500,-1000,0)","v":0},{"$f":"IF(AO17=\"\",\"\",AM17+IF(AO17=\"XX\",VLOOKUP(\"WRONG\",Answers!AK:AN,4,FALSE),AO17)+AP17)","v":50},{"$f":"IF($B17=\"\",\"\",0+UPPER(Mainframe!M16))","v":10},"XX",null,{"$f":"IF(AS17=\"\",\"\",AQ17+IF(AS17=\"XX\",VLOOKUP(\"WRONG\",Answers!AO:AR,4,FALSE),AS17)+AT17)","v":1057},{"$f":"IF($B17=\"\",\"\",0+UPPER(Mainframe!N16))","v":666},{"$f":"IF(AV17=\"\",\"\",IF(NOT(ISNA(VLOOKUP(AV17,Answers!AS:AV,4,FALSE))),VLOOKUP(AV17,Answers!AS:AV,4,FALSE),\"Help!\"))","v":5},null,{"$f":"IF(AW17=\"\",\"\",AU17+IF(AW17=\"XX\",VLOOKUP(\"WRONG\",Answers!AS:AV,4,FALSE),AW17)+AX17)","v":1062},{"$f":"IF($B17=\"\",\"\",0+UPPER(Mainframe!O16))","v":497},8.5205479452054647,1,{"$f":"IF($B17=\"\",\"\",LEFT(Mainframe!P16,SEARCH(\".\",Mainframe!P16)-1))","v":"10"},null,null,null,null,null,null,null,null,null,null,null,null,null,null,null,null,null,null,null,null,null,null,null,null,null,null,null,null,null,null,15,{"$f":"IF(INDEX($B:$CE,ROW(),QNO*4)=\"XX\",\"[b][u]\"&INDEX($B:$CE,ROW(),QNO*4-1)&\"[/u][/b]\",\"[color=#BF0040]\"&INDEX(OFFSET(Answers!C:C,0,(QNO-1)*4),MATCH(INDEX($A:$CB,ROW(),QNO*4),OFFSET(Answers!A:A,0,(QNO-1)*4),0))&\"[/color]//[b]\"&INDEX(OFFSET(Answers!B:B,0,(QNO-1)*4),MATCH(INDEX($A:$CB,ROW(),QNO*4),OFFSET(Answers!A:A,0,(QNO-1)*4),0))&\"[/b] — [b]\"&IF(INDEX($B:$CE,ROW(),QNO*4)=1,\"Singleton!\",CONCATENATE(INDEX($B:$CE,ROW(),QNO*4),\" responses\"))&\"[/b]\")","v":"[color=#BF0040]\"When Worlds Collide\", \"Free\", \"How To Be a Human\"[/color]//[b]POWERMAN [u]5000[/u][/b] — [b]5 responses[/b]"},"Abraxas","Yes","15. Abraxas — [b]5[/b] pts",10,-5]
["[*]",{"$f":"IF(Mainframe!B17=\"\",\"\",INDEX(Mainframe!$B:$B,C18+1,1))","v":"quarterrican"},16,{"$f":"IF($B18=\"\",\"\",0+UPPER(Mainframe!C17))","v":20},{"$f":"IF(D18=\"\",\"\",IF(NOT(ISNA(VLOOKUP(D18,Answers!A:D,4,FALSE))),VLOOKUP(D18,Answers!A:D,4,FALSE),\"Help!\"))","v":6},null,{"$f":"IF(E18=\"\",\"\",IF(E18=\"XX\",VLOOKUP(\"WRONG\",Answers!A:D,4,FALSE),E18)+F18)","v":6},{"$f":"IF($B18=\"\",\"\",0+UPPER(Mainframe!D17))","v":19},{"$f":"IF(H18=\"\",\"\",IF(NOT(ISNA(VLOOKUP(H18,Answers!E:H,4,FALSE))),VLOOKUP(H18,Answers!E:H,4,FALSE),\"Help!\"))","v":1},null,{"$f":"IF(I18=\"\",\"\",G18+IF(I18=\"XX\",VLOOKUP(\"WRONG\",Answers!E:H,4,FALSE),I18)+J18)","v":7},{"$f":"IF($B18=\"\",\"\",0+UPPER(Mainframe!E17))","v":300},{"$f":"IF(L18=\"\",\"\",IF(NOT(ISNA(VLOOKUP(L18,Answers!I:L,4,FALSE))),VLOOKUP(L18,Answers!I:L,4,FALSE),\"Help!\"))","v":11},null,{"$f":"IF(M18=\"\",\"\",K18+IF(M18=\"XX\",VLOOKUP(\"WRONG\",Answers!I:L,4,FALSE),M18)+N18)","v":18},{"$f":"IF($B18=\"\",\"\",0+UPPER(Mainframe!F17))","v":1863},"XX",{"$f":"IF(Q18>500,-1000,0)","v":-1000},{"$f":"IF(Q18=\"\",\"\",O18+IF(Q18=\"XX\",VLOOKUP(\"WRONG\",Answers!M:P,4,FALSE),Q18)+R18)","v":25},{"$f":"IF($B18=\"\",\"\",0+UPPER(Mainframe!G17))","v":5},{"$f":"IF(T18=\"\",\"\",IF(NOT(ISNA(VLOOKUP(T18,Answers!Q:T,4,FALSE))),VLOOKUP(T18,Answers!Q:T,4,FALSE),\"Help!\"))","v":1000},null,{"$f":"IF(U18=\"\",\"\",S18+IF(U18=\"XX\",VLOOKUP(\"WRONG\",Answers!Q:T,4,FALSE),U18)+V18)","v":1025},{"$f":"IF($B18=\"\",\"\",0+UPPER(Mainframe!H17))","v":80},{"$f":"IF(X18=\"\",\"\",IF(NOT(ISNA(VLOOKUP(X18,Answers!U:X,4,FALSE))),VLOOKUP(X18,Answers!U:X,4,FALSE),\"Help!\"))","v":5},null,{"$f":"IF(Y18=\"\",\"\",W18+IF(Y18=\"XX\",VLOOKUP(\"WRONG\",Answers!U:X,4,FALSE),Y18)+Z18)","v":1030},{"$f":"IF($B18=\"\",\"\",0+UPPER(Mainframe!I17))","v":19},{"$f":"IF(AB18=\"\",\"\",IF(NOT(ISNA(VLOOKUP(AB18,Answers!Y:AB,4,FALSE))),VLOOKUP(AB18,Answers!Y:AB,4,FALSE),\"Help!\"))","v":2},null,{"$f":"IF(AC18=\"\",\"\",AA18+IF(AC18=\"XX\",VLOOKUP(\"WRONG\",Answers!Y:AB,4,FALSE),AC18)+AD18)","v":1032},{"$f":"IF($B18=\"\",\"\",0+UPPER(Mainframe!J17))","v":1974},{"$f":"IF(AF18=\"\",\"\",IF(NOT(ISNA(VLOOKUP(AF18,Answers!AC:AF,4,FALSE))),VLOOKUP(AF18,Answers!AC:AF,4,FALSE),\"Help!\"))","v":8},null,{"$f":"IF(AG18=\"\",\"\",AE18+IF(AG18=\"XX\",VLOOKUP(\"WRONG\",Answers!AC:AF,4,FALSE),AG18)+AH18)","v":1040},{"$f":"IF($B18=\"\",\"\",0+UPPER(Mainframe!K17))","v":95},{"$f":"IF(AJ18=\"\",\"\",IF(NOT(ISNA(VLOOKUP(AJ18,Answers!AG:AJ,4,FALSE))),VLOOKUP(AJ18,Answers!AG:AJ,4,FALSE),\"Help!\"))","v":6},null,{"$f":"IF(AK18=\"\",\"\",AI18+IF(AK18=\"XX\",VLOOKUP(\"WRONG\",Answers!AG:AJ,4,FALSE),AK18)+AL18)","v":1046},{"$f":"IF($B18=\"\",\"\",0+UPPER(Mainframe!L17))","v":49},{"$f":"IF(AN18=\"\",\"\",IF(NOT(ISNA(VLOOKUP(AN18,Answers!AK:AN,4,FALSE))),VLOOKUP(AN18,Answers!AK:AN,4,FALSE),\"Help!\"))","v":9},null,{"$f":"IF(AO18=\"\",\"\",AM18+IF(AO18=\"XX\",VLOOKUP(\"WRONG\",Answers!AK:AN,4,FALSE),AO18)+AP18)","v":1055},{"$f":"IF($B18=\"\",\"\",0+UPPER(Mainframe!M17))","v":5},{"$f":"IF(AR18=\"\",\"\",IF(NOT(ISNA(VLOOKUP(AR18,Answers!AO:AR,4,FALSE))),VLOOKUP(AR18,Answers!AO:AR,4,FALSE),\"Help!\"))","v":1000},null,{"$f":"IF(AS18=\"\",\"\",AQ18+IF(AS18=\"XX\",VLOOKUP(\"WRONG\",Answers!AO:AR,4,FALSE),AS18)+AT18)","v":2055},{"$f":"IF($B18=\"\",\"\",0+UPPER(Mainframe!N17))","v":95},{"$f":"IF(AV18=\"\",\"\",IF(NOT(ISNA(VLOOKUP(AV18,Answers!AS:AV,4,FALSE))),VLOOKUP(AV18,Answers!AS:AV,4,FALSE),\"Help!\"))","v":7},null,{"$f":"IF(AW18=\"\",\"\",AU18+IF(AW18=\"XX\",VLOOKUP(\"WRONG\",Answers!AS:AV,4,FALSE),AW18)+AX18)","v":2062},{"$f":"IF($B18=\"\",\"\",0+UPPER(Mainframe!O17))","v":612},123.52054794520546,1,{"$f":"IF($B18=\"\",\"\",LEFT(Mainframe!P17,SEARCH(\".\",Mainframe!P17)-1))","v":"4"},null,null,null,null,null,null,null,null,null,null,null,null,null,null,null,null,null,null,null,null,null,null,null,null,null,null,null,null,null,null,16,{"$f":"IF(INDEX($B:$CE,ROW(),QNO*4)=\"XX\",\"[b][u]\"&INDEX($B:$CE,ROW(),QNO*4-1)&\"[/u][/b]\",\"[color=#BF0040]\"&INDEX(OFFSET(Answers!C:C,0,(QNO-1)*4),MATCH(INDEX($A:$CB,ROW(),QNO*4),OFFSET(Answers!A:A,0,(QNO-1)*4),0))&\"[/color]//[b]\"&INDEX(OFFSET(Answers!B:B,0,(QNO-1)*4),MATCH(INDEX($A:$CB,ROW(),QNO*4),OFFSET(Answers!A:A,0,(QNO-1)*4),0))&\"[/b] — [b]\"&IF(INDEX($B:$CE,ROW(),QNO*4)=1,\"Singleton!\",CONCATENATE(INDEX($B:$CE,ROW(),QNO*4),\" responses\"))&\"[/b]\")","v":"[color=#BF0040]\"Push\", \"Bent\", \"Unwell\"[/color]//[b]MATCHBOX [u]20[/u][/b] — [b]6 responses[/b]"},"quarterrican","Yes","16. quarterrican — [b]6[/b] pts",19,3]
["[*]",{"$f":"IF(Mainframe!B18=\"\",\"\",INDEX(Mainframe!$B:$B,C19+1,1))","v":"mitchparov"},17,{"$f":"IF($B19=\"\",\"\",0+UPPER(Mainframe!C18))","v":65},{"$f":"IF(D19=\"\",\"\",IF(NOT(ISNA(VLOOKUP(D19,Answers!A:D,4,FALSE))),VLOOKUP(D19,Answers!A:D,4,FALSE),\"Help!\"))","v":9},null,{"$f":"IF(E19=\"\",\"\",IF(E19=\"XX\",VLOOKUP(\"WRONG\",Answers!A:D,4,FALSE),E19)+F19)","v":9},{"$f":"IF($B19=\"\",\"\",0+UPPER(Mainframe!D18))","v":775},{"$f":"IF(H19=\"\",\"\",IF(NOT(ISNA(VLOOKUP(H19,Answers!E:H,4,FALSE))),VLOOKUP(H19,Answers!E:H,4,FALSE),\"Help!\"))","v":5},{"$f":"IF(I19>500,-1000,0)","v":0},{"$f":"IF(I19=\"\",\"\",G19+IF(I19=\"XX\",VLOOKUP(\"WRONG\",Answers!E:H,4,FALSE),I19)+J19)","v":14},{"$f":"IF($B19=\"\",\"\",0+UPPER(Mainframe!E18))","v":300},{"$f":"IF(L19=\"\",\"\",IF(NOT(ISNA(VLOOKUP(L19,Answers!I:L,4,FALSE))),VLOOKUP(L19,Answers!I:L,4,FALSE),\"Help!\"))","v":11},null,{"$f":"IF(M19=\"\",\"\",K19+IF(M19=\"XX\",VLOOKUP(\"WRONG\",Answers!I:L,4,FALSE),M19)+N19)","v":25},{"$f":"IF($B19=\"\",\"\",0+UPPER(Mainframe!F18))","v":1964},{"$f":"IF(P19=\"\",\"\",IF(NOT(ISNA(VLOOKUP(P19,Answers!M:P,4,FALSE))),VLOOKUP(P19,Answers!M:P,4,FALSE),\"Help!\"))","v":3},null,{"$f":"IF(Q19=\"\",\"\",O19+IF(Q19=\"XX\",VLOOKUP(\"WRONG\",Answers!M:P,4,FALSE),Q19)+R19)","v":28},{"$f":"IF($B19=\"\",\"\",0+UPPER(Mainframe!G18))","v":2},{"$f":"IF(T19=\"\",\"\",IF(NOT(ISNA(VLOOKUP(T19,Answers!Q:T,4,FALSE))),VLOOKUP(T19,Answers!Q:T,4,FALSE),\"Help!\"))","v":14},null,{"$f":"IF(U19=\"\",\"\",S19+IF(U19=\"XX\",VLOOKUP(\"WRONG\",Answers!Q:T,4,FALSE),U19)+V19)","v":42},{"$f":"IF($B19=\"\",\"\",0+UPPER(Mainframe!H18))","v":4},{"$f":"IF(X19=\"\",\"\",IF(NOT(ISNA(VLOOKUP(X19,Answers!U:X,4,FALSE))),VLOOKUP(X19,Answers!U:X,4,FALSE),\"Help!\"))","v":6},null,{"$f":"IF(Y19=\"\",\"\",W19+IF(Y19=\"XX\",VLOOKUP(\"WRONG\",Answers!U:X,4,FALSE),Y19)+Z19)","v":48},{"$f":"IF($B19=\"\",\"\",0+UPPER(Mainframe!I18))","v":25},{"$f":"IF(AB19=\"\",\"\",IF(NOT(ISNA(VLOOKUP(AB19,Answers!Y:AB,4,FALSE))),VLOOKUP(AB19,Answers!Y:AB,4,FALSE),\"Help!\"))","v":7},null,{"$f":"IF(AC19=\"\",\"\",AA19+IF(AC19=\"XX\",VLOOKUP(\"WRONG\",Answers!Y:AB,4,FALSE),AC19)+AD19)","v":55},{"$f":"IF($B19=\"\",\"\",0+UPPER(Mainframe!J18))","v":9},{"$f":"IF(AF19=\"\",\"\",IF(NOT(ISNA(VLOOKUP(AF19,Answers!AC:AF,4,FALSE))),VLOOKUP(AF19,Answers!AC:AF,4,FALSE),\"Help!\"))","v":1000},null,{"$f":"IF(AG19=\"\",\"\",AE19+IF(AG19=\"XX\",VLOOKUP(\"WRONG\",Answers!AC:AF,4,FALSE),AG19)+AH19)","v":1055},{"$f":"IF($B19=\"\",\"\",0+UPPER(Mainframe!K18))","v":95},{"$f":"IF(AJ19=\"\",\"\",IF(NOT(ISNA(VLOOKUP(AJ19,Answers!AG:AJ,4,FALSE))),VLOOKUP(AJ19,Answers!AG:AJ,4,FALSE),\"Help!\"))","v":6},null,{"$f":"IF(AK19=\"\",\"\",AI19+IF(AK19=\"XX\",VLOOKUP(\"WRONG\",Answers!AG:AJ,4,FALSE),AK19)+AL19)","v":1061},{"$f":"IF($B19=\"\",\"\",0+UPPER(Mainframe!L18))","v":42},{"$f":"IF(AN19=\"\",\"\",IF(NOT(ISNA(VLOOKUP(AN19,Answers!AK:AN,4,FALSE))),VLOOKUP(AN19,Answers!AK:AN,4,FALSE),\"Help!\"))","v":8},null,{"$f":"IF(AO19=\"\",\"\",AM19+IF(AO19=\"XX\",VLOOKUP(\"WRONG\",Answers!AK:AN,4,FALSE),AO19)+AP19)","v":1069},{"$f":"IF($B19=\"\",\"\",0+UPPER(Mainframe!M18))","v":6},{"$f":"IF(AR19=\"\",\"\",IF(NOT(ISNA(VLOOKUP(AR19,Answers!AO:AR,4,FALSE))),VLOOKUP(AR19,Answers!AO:AR,4,FALSE),\"Help!\"))","v":8},null,{"$f":"IF(AS19=\"\",\"\",AQ19+IF(AS19=\"XX\",VLOOKUP(\"WRONG\",Answers!AO:AR,4,FALSE),AS19)+AT19)","v":1077},{"$f":"IF($B19=\"\",\"\",0+UPPER(Mainframe!N18))","v":613},{"$f":"IF(AV19=\"\",\"\",IF(NOT(ISNA(VLOOKUP(AV19,Answers!AS:AV,4,FALSE))),VLOOKUP(AV19,Answers!AS:AV,4,FALSE),\"Help!\"))","v":4},null,{"$f":"IF(AW19=\"\",\"\",AU19+IF(AW19=\"XX\",VLOOKUP(\"WRONG\",Answers!AS:AV,4,FALSE),AW19)+AX19)","v":1081},{"$f":"IF($B19=\"\",\"\",0+UPPER(Mainframe!O18))","v":500},11.520547945205465,1,{"$f":"IF($B19=\"\",\"\",LEFT(Mainframe!P18,SEARCH(\".\",Mainframe!P18)-1))","v":"2"},null,null,null,null,null,null,null,null,null,null,null,null,null,null,null,null,null,null,null,null,null,null,null,null,null,null,null,null,null,null,17,{"$f":"IF(INDEX($B:$CE,ROW(),QNO*4)=\"XX\",\"[b][u]\"&INDEX($B:$CE,ROW(),QNO*4-1)&\"[/u][/b]\",\"[color=#BF0040]\"&INDEX(OFFSET(Answers!C:C,0,(QNO-1)*4),MATCH(INDEX($A:$CB,ROW(),QNO*4),OFFSET(Answers!A:A,0,(QNO-1)*4),0))&\"[/color]//[b]\"&INDEX(OFFSET(Answers!B:B,0,(QNO-1)*4),MATCH(INDEX($A:$CB,ROW(),QNO*4),OFFSET(Answers!A:A,0,(QNO-1)*4),0))&\"[/b] — [b]\"&IF(INDEX($B:$CE,ROW(),QNO*4)=1,\"Singleton!\",CONCATENATE(INDEX($B:$CE,ROW(),QNO*4),\" responses\"))&\"[/b]\")","v":"[color=#BF0040]\"Blue (Da Ba Dee)\", \"Move Your Body\", \"Lucky (In My Life)\"[/color]//[b]EIFFEL [u]65[/u][/b] — [b]9 responses[/b]"},"mitchparov","Yes","17. mitchparov — [b]9[/b] pts",17,0]
["[*]",{"$f":"IF(Mainframe!B19=\"\",\"\",INDEX(Mainframe!$B:$B,C20+1,1))","v":"immaf"},18,{"$f":"IF($B20=\"\",\"\",0+UPPER(Mainframe!C19))","v":5},{"$f":"IF(D20=\"\",\"\",IF(NOT(ISNA(VLOOKUP(D20,Answers!A:D,4,FALSE))),VLOOKUP(D20,Answers!A:D,4,FALSE),\"Help!\"))","v":5},{"$f":"IF(E20>500,-1000,0)","v":0},{"$f":"IF(E20=\"\",\"\",IF(E20=\"XX\",VLOOKUP(\"WRONG\",Answers!A:D,4,FALSE),E20)+F20)","v":5},{"$f":"IF($B20=\"\",\"\",0+UPPER(Mainframe!D19))","v":100},{"$f":"IF(H20=\"\",\"\",IF(NOT(ISNA(VLOOKUP(H20,Answers!E:H,4,FALSE))),VLOOKUP(H20,Answers!E:H,4,FALSE),\"Help!\"))","v":4},null,{"$f":"IF(I20=\"\",\"\",G20+IF(I20=\"XX\",VLOOKUP(\"WRONG\",Answers!E:H,4,FALSE),I20)+J20)","v":9},{"$f":"IF($B20=\"\",\"\",0+UPPER(Mainframe!E19))","v":2001},{"$f":"IF(L20=\"\",\"\",IF(NOT(ISNA(VLOOKUP(L20,Answers!I:L,4,FALSE))),VLOOKUP(L20,Answers!I:L,4,FALSE),\"Help!\"))","v":6},null,{"$f":"IF(M20=\"\",\"\",K20+IF(M20=\"XX\",VLOOKUP(\"WRONG\",Answers!I:L,4,FALSE),M20)+N20)","v":15},{"$f":"IF($B20=\"\",\"\",0+UPPER(Mainframe!F19))","v":1512},"XX",null,{"$f":"IF(Q20=\"\",\"\",O20+IF(Q20=\"XX\",VLOOKUP(\"WRONG\",Answers!M:P,4,FALSE),Q20)+R20)","v":1022},{"$f":"IF($B20=\"\",\"\",0+UPPER(Mainframe!G19))","v":2},{"$f":"IF(T20=\"\",\"\",IF(NOT(ISNA(VLOOKUP(T20,Answers!Q:T,4,FALSE))),VLOOKUP(T20,Answers!Q:T,4,FALSE),\"Help!\"))","v":14},null,{"$f":"IF(U20=\"\",\"\",S20+IF(U20=\"XX\",VLOOKUP(\"WRONG\",Answers!Q:T,4,FALSE),U20)+V20)","v":1036},{"$f":"IF($B20=\"\",\"\",0+UPPER(Mainframe!H19))","v":22},{"$f":"IF(X20=\"\",\"\",IF(NOT(ISNA(VLOOKUP(X20,Answers!U:X,4,FALSE))),VLOOKUP(X20,Answers!U:X,4,FALSE),\"Help!\"))","v":1000},null,{"$f":"IF(Y20=\"\",\"\",W20+IF(Y20=\"XX\",VLOOKUP(\"WRONG\",Answers!U:X,4,FALSE),Y20)+Z20)","v":2036},{"$f":"IF($B20=\"\",\"\",0+UPPER(Mainframe!I19))","v":42},{"$f":"IF(AB20=\"\",\"\",IF(NOT(ISNA(VLOOKUP(AB20,Answers!Y:AB,4,FALSE))),VLOOKUP(AB20,Answers!Y:AB,4,FALSE),\"Help!\"))","v":13},null,{"$f":"IF(AC20=\"\",\"\",AA20+IF(AC20=\"XX\",VLOOKUP(\"WRONG\",Answers!Y:AB,4,FALSE),AC20)+AD20)","v":2049},{"$f":"IF($B20=\"\",\"\",0+UPPER(Mainframe!J19))","v":9},{"$f":"IF(AF20=\"\",\"\",IF(NOT(ISNA(VLOOKUP(AF20,Answers!AC:AF,4,FALSE))),VLOOKUP(AF20,Answers!AC:AF,4,FALSE),\"Help!\"))","v":1000},null,{"$f":"IF(AG20=\"\",\"\",AE20+IF(AG20=\"XX\",VLOOKUP(\"WRONG\",Answers!AC:AF,4,FALSE),AG20)+AH20)","v":3049},{"$f":"IF($B20=\"\",\"\",0+UPPER(Mainframe!K19))","v":84},{"$f":"IF(AJ20=\"\",\"\",IF(NOT(ISNA(VLOOKUP(AJ20,Answers!AG:AJ,4,FALSE))),VLOOKUP(AJ20,Answers!AG:AJ,4,FALSE),\"Help!\"))","v":1000},null,{"$f":"IF(AK20=\"\",\"\",AI20+IF(AK20=\"XX\",VLOOKUP(\"WRONG\",Answers!AG:AJ,4,FALSE),AK20)+AL20)","v":4049},{"$f":"IF($B20=\"\",\"\",0+UPPER(Mainframe!L19))","v":49},{"$f":"IF(AN20=\"\",\"\",IF(NOT(ISNA(VLOOKUP(AN20,Answers!AK:AN,4,FALSE))),VLOOKUP(AN20,Answers!AK:AN,4,FALSE),\"Help!\"))","v":9},null,{"$f":"IF(AO20=\"\",\"\",AM20+IF(AO20=\"XX\",VLOOKUP(\"WRONG\",Answers!AK:AN,4,FALSE),AO20)+AP20)","v":4058},{"$f":"IF($B20=\"\",\"\",0+UPPER(Mainframe!M19))","v":9},{"$f":"IF(AR20=\"\",\"\",IF(NOT(ISNA(VLOOKUP(AR20,Answers!AO:AR,4,FALSE))),VLOOKUP(AR20,Answers!AO:AR,4,FALSE),\"Help!\"))","v":9},null,{"$f":"IF(AS20=\"\",\"\",AQ20+IF(AS20=\"XX\",VLOOKUP(\"WRONG\",Answers!AO:AR,4,FALSE),AS20)+AT20)","v":4067},{"$f":"IF($B20=\"\",\"\",0+UPPER(Mainframe!N19))","v":10},{"$f":"IF(AV20=\"\",\"\",IF(NOT(ISNA(VLOOKUP(AV20,Answers!AS:AV,4,FALSE))),VLOOKUP(AV20,Answers!AS:AV,4,FALSE),\"Help!\"))","v":1000},null,{"$f":"IF(AW20=\"\",\"\",AU20+IF(AW20=\"XX\",VLOOKUP(\"WRONG\",Answers!AS:AV,4,FALSE),AW20)+AX20)","v":5067},{"$f":"IF($B20=\"\",\"\",0+UPPER(Mainframe!O19))","v":500},11.520547945205465,1,{"$f":"IF($B20=\"\",\"\",LEFT(Mainframe!P19,SEARCH(\".\",Mainframe!P19)-1))","v":"1"},null,null,null,null,null,null,null,null,null,null,null,null,null,null,null,null,null,null,null,null,null,null,null,null,null,null,null,null,null,null,18,{"$f":"IF(INDEX($B:$CE,ROW(),QNO*4)=\"XX\",\"[b][u]\"&INDEX($B:$CE,ROW(),QNO*4-1)&\"[/u][/b]\",\"[color=#BF0040]\"&INDEX(OFFSET(Answers!C:C,0,(QNO-1)*4),MATCH(INDEX($A:$CB,ROW(),QNO*4),OFFSET(Answers!A:A,0,(QNO-1)*4),0))&\"[/color]//[b]\"&INDEX(OFFSET(Answers!B:B,0,(QNO-1)*4),MATCH(INDEX($A:$CB,ROW(),QNO*4),OFFSET(Answers!A:A,0,(QNO-1)*4),0))&\"[/b] — [b]\"&IF(INDEX($B:$CE,ROW(),QNO*4)=1,\"Singleton!\",CONCATENATE(INDEX($B:$CE,ROW(),QNO*4),\" responses\"))&\"[/b]\")","v":"[color=#BF0040]\"She Will Be Loved\", \"Makes Me Wonder\", \"Moves like Jagger\"[/color]//[b]MAROON [u]5[/u][/b] — [b]5 responses[/b]"},"immaf [[b][color=#8000BF]FOX[/color][/b]]//clprez","Yes","18. immaf — [b]5[/b] pts",70,52]
["[*]",{"$f":"IF(Mainframe!B20=\"\",\"\",INDEX(Mainframe!$B:$B,C21+1,1))","v":"clprez"},19,{"$f":"IF($B21=\"\",\"\",0+UPPER(Mainframe!C20))","v":5},{"$f":"IF(D21=\"\",\"\",IF(NOT(ISNA(VLOOKUP(D21,Answers!A:D,4,FALSE))),VLOOKUP(D21,Answers!A:D,4,FALSE),\"Help!\"))","v":5},null,{"$f":"IF(E21=\"\",\"\",IF(E21=\"XX\",VLOOKUP(\"WRONG\",Answers!A:D,4,FALSE),E21)+F21)","v":5},{"$f":"IF($B21=\"\",\"\",0+UPPER(Mainframe!D20))","v":61},"XX",null,{"$f":"IF(I21=\"\",\"\",G21+IF(I21=\"XX\",VLOOKUP(\"WRONG\",Answers!E:H,4,FALSE),I21)+J21)","v":1012},{"$f":"IF($B21=\"\",\"\",0+UPPER(Mainframe!E20))","v":34},{"$f":"IF(L21=\"\",\"\",IF(NOT(ISNA(VLOOKUP(L21,Answers!I:L,4,FALSE))),VLOOKUP(L21,Answers!I:L,4,FALSE),\"Help!\"))","v":1000},null,{"$f":"IF(M21=\"\",\"\",K21+IF(M21=\"XX\",VLOOKUP(\"WRONG\",Answers!I:L,4,FALSE),M21)+N21)","v":2012},{"$f":"IF($B21=\"\",\"\",0+UPPER(Mainframe!F20))","v":1940},{"$f":"IF(P21=\"\",\"\",IF(NOT(ISNA(VLOOKUP(P21,Answers!M:P,4,FALSE))),VLOOKUP(P21,Answers!M:P,4,FALSE),\"Help!\"))","v":7},null,{"$f":"IF(Q21=\"\",\"\",O21+IF(Q21=\"XX\",VLOOKUP(\"WRONG\",Answers!M:P,4,FALSE),Q21)+R21)","v":2019},{"$f":"IF($B21=\"\",\"\",0+UPPER(Mainframe!G20))","v":20},"XX",null,{"$f":"IF(U21=\"\",\"\",S21+IF(U21=\"XX\",VLOOKUP(\"WRONG\",Answers!Q:T,4,FALSE),U21)+V21)","v":3026},{"$f":"IF($B21=\"\",\"\",0+UPPER(Mainframe!H20))","v":451},{"$f":"IF(X21=\"\",\"\",IF(NOT(ISNA(VLOOKUP(X21,Answers!U:X,4,FALSE))),VLOOKUP(X21,Answers!U:X,4,FALSE),\"Help!\"))","v":8},null,{"$f":"IF(Y21=\"\",\"\",W21+IF(Y21=\"XX\",VLOOKUP(\"WRONG\",Answers!U:X,4,FALSE),Y21)+Z21)","v":3034},{"$f":"IF($B21=\"\",\"\",0+UPPER(Mainframe!I20))","v":42},{"$f":"IF(AB21=\"\",\"\",IF(NOT(ISNA(VLOOKUP(AB21,Answers!Y:AB,4,FALSE))),VLOOKUP(AB21,Answers!Y:AB,4,FALSE),\"Help!\"))","v":13},null,{"$f":"IF(AC21=\"\",\"\",AA21+IF(AC21=\"XX\",VLOOKUP(\"WRONG\",Answers!Y:AB,4,FALSE),AC21)+AD21)","v":3047},{"$f":"IF($B21=\"\",\"\",0+UPPER(Mainframe!J20))","v":49},{"$f":"IF(AF21=\"\",\"\",IF(NOT(ISNA(VLOOKUP(AF21,Answers!AC:AF,4,FALSE))),VLOOKUP(AF21,Answers!AC:AF,4,FALSE),\"Help!\"))","v":10},null,{"$f":"IF(AG21=\"\",\"\",AE21+IF(AG21=\"XX\",VLOOKUP(\"WRONG\",Answers!AC:AF,4,FALSE),AG21)+AH21)","v":3057},{"$f":"IF($B21=\"\",\"\",0+UPPER(Mainframe!K20))","v":94},{"$f":"IF(AJ21=\"\",\"\",IF(NOT(ISNA(VLOOKUP(AJ21,Answers!AG:AJ,4,FALSE))),VLOOKUP(AJ21,Answers!AG:AJ,4,FALSE),\"Help!\"))","v":5},null,{"$f":"IF(AK21=\"\",\"\",AI21+IF(AK21=\"XX\",VLOOKUP(\"WRONG\",Answers!AG:AJ,4,FALSE),AK21)+AL21)","v":3062},{"$f":"IF($B21=\"\",\"\",0+UPPER(Mainframe!L20))","v":67},{"$f":"IF(AN21=\"\",\"\",IF(NOT(ISNA(VLOOKUP(AN21,Answers!AK:AN,4,FALSE))),VLOOKUP(AN21,Answers!AK:AN,4,FALSE),\"Help!\"))","v":1000},{"$f":"IF(AO21>500,-1000,0)","v":-1000},{"$f":"IF(AO21=\"\",\"\",AM21+IF(AO21=\"XX\",VLOOKUP(\"WRONG\",Answers!AK:AN,4,FALSE),AO21)+AP21)","v":3062},{"$f":"IF($B21=\"\",\"\",0+UPPER(Mainframe!M20))","v":9},{"$f":"IF(AR21=\"\",\"\",IF(NOT(ISNA(VLOOKUP(AR21,Answers!AO:AR,4,FALSE))),VLOOKUP(AR21,Answers!AO:AR,4,FALSE),\"Help!\"))","v":9},null,{"$f":"IF(AS21=\"\",\"\",AQ21+IF(AS21=\"XX\",VLOOKUP(\"WRONG\",Answers!AO:AR,4,FALSE),AS21)+AT21)","v":3071},{"$f":"IF($B21=\"\",\"\",0+UPPER(Mainframe!N20))","v":622},{"$f":"IF(AV21=\"\",\"\",IF(NOT(ISNA(VLOOKUP(AV21,Answers!AS:AV,4,FALSE))),VLOOKUP(AV21,Answers!AS:AV,4,FALSE),\"Help!\"))","v":4},null,{"$f":"IF(AW21=\"\",\"\",AU21+IF(AW21=\"XX\",VLOOKUP(\"WRONG\",Answers!AS:AV,4,FALSE),AW21)+AX21)","v":3075},{"$f":"IF($B21=\"\",\"\",0+UPPER(Mainframe!O20))","v":369},119.47945205479454,1,{"$f":"IF($B21=\"\",\"\",LEFT(Mainframe!P20,SEARCH(\".\",Mainframe!P20)-1))","v":"10"},null,null,null,null,null,null,null,null,null,null,null,null,null,null,null,null,null,null,null,null,null,null,null,null,null,null,null,null,null,null,18,{"$f":"IF(INDEX($B:$CE,ROW(),QNO*4)=\"XX\",\"[b][u]\"&INDEX($B:$CE,ROW(),QNO*4-1)&\"[/u][/b]\",\"[color=#BF0040]\"&INDEX(OFFSET(Answers!C:C,0,(QNO-1)*4),MATCH(INDEX($A:$CB,ROW(),QNO*4),OFFSET(Answers!A:A,0,(QNO-1)*4),0))&\"[/color]//[b]\"&INDEX(OFFSET(Answers!B:B,0,(QNO-1)*4),MATCH(INDEX($A:$CB,ROW(),QNO*4),OFFSET(Answers!A:A,0,(QNO-1)*4),0))&\"[/b] — [b]\"&IF(INDEX($B:$CE,ROW(),QNO*4)=1,\"Singleton!\",CONCATENATE(INDEX($B:$CE,ROW(),QNO*4),\" responses\"))&\"[/b]\")","v":"[color=#BF0040]\"She Will Be Loved\", \"Makes Me Wonder\", \"Moves like Jagger\"[/color]//[b]MAROON [u]5[/u][/b] — [b]5 responses[/b]"},"clprez","No","18. clprez — [b]5[/b] pts",48,30]
["[*]",{"$f":"IF(Mainframe!B21=\"\",\"\",INDEX(Mainframe!$B:$B,C22+1,1))","v":"mikeyb"},20,{"$f":"IF($B22=\"\",\"\",0+UPPER(Mainframe!C21))","v":40},{"$f":"IF(D22=\"\",\"\",IF(NOT(ISNA(VLOOKUP(D22,Answers!A:D,4,FALSE))),VLOOKUP(D22,Answers!A:D,4,FALSE),\"Help!\"))","v":1000},null,{"$f":"IF(E22=\"\",\"\",IF(E22=\"XX\",VLOOKUP(\"WRONG\",Answers!A:D,4,FALSE),E22)+F22)","v":1000},{"$f":"IF($B22=\"\",\"\",0+UPPER(Mainframe!D21))","v":108},{"$f":"IF(H22=\"\",\"\",IF(NOT(ISNA(VLOOKUP(H22,Answers!E:H,4,FALSE))),VLOOKUP(H22,Answers!E:H,4,FALSE),\"Help!\"))","v":5},null,{"$f":"IF(I22=\"\",\"\",G22+IF(I22=\"XX\",VLOOKUP(\"WRONG\",Answers!E:H,4,FALSE),I22)+J22)","v":1005},{"$f":"IF($B22=\"\",\"\",0+UPPER(Mainframe!E21))","v":34},{"$f":"IF(L22=\"\",\"\",IF(NOT(ISNA(VLOOKUP(L22,Answers!I:L,4,FALSE))),VLOOKUP(L22,Answers!I:L,4,FALSE),\"Help!\"))","v":1000},null,{"$f":"IF(M22=\"\",\"\",K22+IF(M22=\"XX\",VLOOKUP(\"WRONG\",Answers!I:L,4,FALSE),M22)+N22)","v":2005},{"$f":"IF($B22=\"\",\"\",0+UPPER(Mainframe!F21))","v":2003},{"$f":"IF(P22=\"\",\"\",IF(NOT(ISNA(VLOOKUP(P22,Answers!M:P,4,FALSE))),VLOOKUP(P22,Answers!M:P,4,FALSE),\"Help!\"))","v":8},{"$f":"IF(Q22>500,-1000,0)","v":0},{"$f":"IF(Q22=\"\",\"\",O22+IF(Q22=\"XX\",VLOOKUP(\"WRONG\",Answers!M:P,4,FALSE),Q22)+R22)","v":2013},{"$f":"IF($B22=\"\",\"\",0+UPPER(Mainframe!G21))","v":5},{"$f":"IF(T22=\"\",\"\",IF(NOT(ISNA(VLOOKUP(T22,Answers!Q:T,4,FALSE))),VLOOKUP(T22,Answers!Q:T,4,FALSE),\"Help!\"))","v":1000},null,{"$f":"IF(U22=\"\",\"\",S22+IF(U22=\"XX\",VLOOKUP(\"WRONG\",Answers!Q:T,4,FALSE),U22)+V22)","v":3013},{"$f":"IF($B22=\"\",\"\",0+UPPER(Mainframe!H21))","v":1000},{"$f":"IF(X22=\"\",\"\",IF(NOT(ISNA(VLOOKUP(X22,Answers!U:X,4,FALSE))),VLOOKUP(X22,Answers!U:X,4,FALSE),\"Help!\"))","v":6},null,{"$f":"IF(Y22=\"\",\"\",W22+IF(Y22=\"XX\",VLOOKUP(\"WRONG\",Answers!U:X,4,FALSE),Y22)+Z22)","v":3019},{"$f":"IF($B22=\"\",\"\",0+UPPER(Mainframe!I21))","v":11},{"$f":"IF(AB22=\"\",\"\",IF(NOT(ISNA(VLOOKUP(AB22,Answers!Y:AB,4,FALSE))),VLOOKUP(AB22,Answers!Y:AB,4,FALSE),\"Help!\"))","v":4},null,{"$f":"IF(AC22=\"\",\"\",AA22+IF(AC22=\"XX\",VLOOKUP(\"WRONG\",Answers!Y:AB,4,FALSE),AC22)+AD22)","v":3023},{"$f":"IF($B22=\"\",\"\",0+UPPER(Mainframe!J21))","v":1974},{"$f":"IF(AF22=\"\",\"\",IF(NOT(ISNA(VLOOKUP(AF22,Answers!AC:AF,4,FALSE))),VLOOKUP(AF22,Answers!AC:AF,4,FALSE),\"Help!\"))","v":8},null,{"$f":"IF(AG22=\"\",\"\",AE22+IF(AG22=\"XX\",VLOOKUP(\"WRONG\",Answers!AC:AF,4,FALSE),AG22)+AH22)","v":3031},{"$f":"IF($B22=\"\",\"\",0+UPPER(Mainframe!K21))","v":20},{"$f":"IF(AJ22=\"\",\"\",IF(NOT(ISNA(VLOOKUP(AJ22,Answers!AG:AJ,4,FALSE))),VLOOKUP(AJ22,Answers!AG:AJ,4,FALSE),\"Help!\"))","v":2},null,{"$f":"IF(AK22=\"\",\"\",AI22+IF(AK22=\"XX\",VLOOKUP(\"WRONG\",Answers!AG:AJ,4,FALSE),AK22)+AL22)","v":3033},{"$f":"IF($B22=\"\",\"\",0+UPPER(Mainframe!L21))","v":49},{"$f":"IF(AN22=\"\",\"\",IF(NOT(ISNA(VLOOKUP(AN22,Answers!AK:AN,4,FALSE))),VLOOKUP(AN22,Answers!AK:AN,4,FALSE),\"Help!\"))","v":9},null,{"$f":"IF(AO22=\"\",\"\",AM22+IF(AO22=\"XX\",VLOOKUP(\"WRONG\",Answers!AK:AN,4,FALSE),AO22)+AP22)","v":3042},{"$f":"IF($B22=\"\",\"\",0+UPPER(Mainframe!M21))","v":9},{"$f":"IF(AR22=\"\",\"\",IF(NOT(ISNA(VLOOKUP(AR22,Answers!AO:AR,4,FALSE))),VLOOKUP(AR22,Answers!AO:AR,4,FALSE),\"Help!\"))","v":9},null,{"$f":"IF(AS22=\"\",\"\",AQ22+IF(AS22=\"XX\",VLOOKUP(\"WRONG\",Answers!AO:AR,4,FALSE),AS22)+AT22)","v":3051},{"$f":"IF($B22=\"\",\"\",0+UPPER(Mainframe!N21))","v":27},{"$f":"IF(AV22=\"\",\"\",IF(NOT(ISNA(VLOOKUP(AV22,Answers!AS:AV,4,FALSE))),VLOOKUP(AV22,Answers!AS:AV,4,FALSE),\"Help!\"))","v":9},null,{"$f":"IF(AW22=\"\",\"\",AU22+IF(AW22=\"XX\",VLOOKUP(\"WRONG\",Answers!AS:AV,4,FALSE),AW22)+AX22)","v":3060},{"$f":"IF($B22=\"\",\"\",0+UPPER(Mainframe!O21))","v":667},178.52054794520546,1,{"$f":"IF($B22=\"\",\"\",LEFT(Mainframe!P21,SEARCH(\".\",Mainframe!P21)-1))","v":"4"},null,null,null,null,null,null,null,null,null,null,null,null,null,null,null,null,null,null,null,null,null,null,null,null,null,null,null,null,null,null,20,{"$f":"IF(INDEX($B:$CE,ROW(),QNO*4)=\"XX\",\"[b][u]\"&INDEX($B:$CE,ROW(),QNO*4-1)&\"[/u][/b]\",\"[color=#BF0040]\"&INDEX(OFFSET(Answers!C:C,0,(QNO-1)*4),MATCH(INDEX($A:$CB,ROW(),QNO*4),OFFSET(Answers!A:A,0,(QNO-1)*4),0))&\"[/color]//[b]\"&INDEX(OFFSET(Answers!B:B,0,(QNO-1)*4),MATCH(INDEX($A:$CB,ROW(),QNO*4),OFFSET(Answers!A:A,0,(QNO-1)*4),0))&\"[/b] — [b]\"&IF(INDEX($B:$CE,ROW(),QNO*4)=1,\"Singleton!\",CONCATENATE(INDEX($B:$CE,ROW(),QNO*4),\" responses\"))&\"[/b]\")","v":"[color=#BF0040]\"King\", \"Red Red Wine\", \"(I Can't Help) Falling in Love With You\"[/color]//[b]UB[u]40[/u][/b] — [b]1000 responses[/b]"},"mikeyb","Yes","20. mikeyb — [b]1,000[/b] pts",38,18]
["[*]",{"$f":"IF(Mainframe!B22=\"\",\"\",INDEX(Mainframe!$B:$B,C23+1,1))","v":"ElendilPickle"},21,{"$f":"IF($B23=\"\",\"\",0+UPPER(Mainframe!C22))","v":20},{"$f":"IF(D23=\"\",\"\",IF(NOT(ISNA(VLOOKUP(D23,Answers!A:D,4,FALSE))),VLOOKUP(D23,Answers!A:D,4,FALSE),\"Help!\"))","v":6},null,{"$f":"IF(E23=\"\",\"\",IF(E23=\"XX\",VLOOKUP(\"WRONG\",Answers!A:D,4,FALSE),E23)+F23)","v":6},{"$f":"IF($B23=\"\",\"\",0+UPPER(Mainframe!D22))","v":21},{"$f":"IF(H23=\"\",\"\",IF(NOT(ISNA(VLOOKUP(H23,Answers!E:H,4,FALSE))),VLOOKUP(H23,Answers!E:H,4,FALSE),\"Help!\"))","v":1000},null,{"$f":"IF(I23=\"\",\"\",G23+IF(I23=\"XX\",VLOOKUP(\"WRONG\",Answers!E:H,4,FALSE),I23)+J23)","v":1006},{"$f":"IF($B23=\"\",\"\",0+UPPER(Mainframe!E22))","v":34},{"$f":"IF(L23=\"\",\"\",IF(NOT(ISNA(VLOOKUP(L23,Answers!I:L,4,FALSE))),VLOOKUP(L23,Answers!I:L,4,FALSE),\"Help!\"))","v":1000},null,{"$f":"IF(M23=\"\",\"\",K23+IF(M23=\"XX\",VLOOKUP(\"WRONG\",Answers!I:L,4,FALSE),M23)+N23)","v":2006},{"$f":"IF($B23=\"\",\"\",0+UPPER(Mainframe!F22))","v":1815},{"$f":"IF(P23=\"\",\"\",IF(NOT(ISNA(VLOOKUP(P23,Answers!M:P,4,FALSE))),VLOOKUP(P23,Answers!M:P,4,FALSE),\"Help!\"))","v":10},null,{"$f":"IF(Q23=\"\",\"\",O23+IF(Q23=\"XX\",VLOOKUP(\"WRONG\",Answers!M:P,4,FALSE),Q23)+R23)","v":2016},{"$f":"IF($B23=\"\",\"\",0+UPPER(Mainframe!G22))","v":5},{"$f":"IF(T23=\"\",\"\",IF(NOT(ISNA(VLOOKUP(T23,Answers!Q:T,4,FALSE))),VLOOKUP(T23,Answers!Q:T,4,FALSE),\"Help!\"))","v":1000},{"$f":"IF(U23>500,-1000,0)","v":-1000},{"$f":"IF(U23=\"\",\"\",S23+IF(U23=\"XX\",VLOOKUP(\"WRONG\",Answers!Q:T,4,FALSE),U23)+V23)","v":2016},{"$f":"IF($B23=\"\",\"\",0+UPPER(Mainframe!H22))","v":7},{"$f":"IF(X23=\"\",\"\",IF(NOT(ISNA(VLOOKUP(X23,Answers!U:X,4,FALSE))),VLOOKUP(X23,Answers!U:X,4,FALSE),\"Help!\"))","v":6},null,{"$f":"IF(Y23=\"\",\"\",W23+IF(Y23=\"XX\",VLOOKUP(\"WRONG\",Answers!U:X,4,FALSE),Y23)+Z23)","v":2022},{"$f":"IF($B23=\"\",\"\",0+UPPER(Mainframe!I22))","v":20},{"$f":"IF(AB23=\"\",\"\",IF(NOT(ISNA(VLOOKUP(AB23,Answers!Y:AB,4,FALSE))),VLOOKUP(AB23,Answers!Y:AB,4,FALSE),\"Help!\"))","v":13},null,{"$f":"IF(AC23=\"\",\"\",AA23+IF(AC23=\"XX\",VLOOKUP(\"WRONG\",Answers!Y:AB,4,FALSE),AC23)+AD23)","v":2035},{"$f":"IF($B23=\"\",\"\",0+UPPER(Mainframe!J22))","v":1974},{"$f":"IF(AF23=\"\",\"\",IF(NOT(ISNA(VLOOKUP(AF23,Answers!AC:AF,4,FALSE))),VLOOKUP(AF23,Answers!AC:AF,4,FALSE),\"Help!\"))","v":8},null,{"$f":"IF(AG23=\"\",\"\",AE23+IF(AG23=\"XX\",VLOOKUP(\"WRONG\",Answers!AC:AF,4,FALSE),AG23)+AH23)","v":2043},{"$f":"IF($B23=\"\",\"\",0+UPPER(Mainframe!K22))","v":8},{"$f":"IF(AJ23=\"\",\"\",IF(NOT(ISNA(VLOOKUP(AJ23,Answers!AG:AJ,4,FALSE))),VLOOKUP(AJ23,Answers!AG:AJ,4,FALSE),\"Help!\"))","v":5},null,{"$f":"IF(AK23=\"\",\"\",AI23+IF(AK23=\"XX\",VLOOKUP(\"WRONG\",Answers!AG:AJ,4,FALSE),AK23)+AL23)","v":2048},{"$f":"IF($B23=\"\",\"\",0+UPPER(Mainframe!L22))","v":49},{"$f":"IF(AN23=\"\",\"\",IF(NOT(ISNA(VLOOKUP(AN23,Answers!AK:AN,4,FALSE))),VLOOKUP(AN23,Answers!AK:AN,4,FALSE),\"Help!\"))","v":9},null,{"$f":"IF(AO23=\"\",\"\",AM23+IF(AO23=\"XX\",VLOOKUP(\"WRONG\",Answers!AK:AN,4,FALSE),AO23)+AP23)","v":2057},{"$f":"IF($B23=\"\",\"\",0+UPPER(Mainframe!M22))","v":8},{"$f":"IF(AR23=\"\",\"\",IF(NOT(ISNA(VLOOKUP(AR23,Answers!AO:AR,4,FALSE))),VLOOKUP(AR23,Answers!AO:AR,4,FALSE),\"Help!\"))","v":6},null,{"$f":"IF(AS23=\"\",\"\",AQ23+IF(AS23=\"XX\",VLOOKUP(\"WRONG\",Answers!AO:AR,4,FALSE),AS23)+AT23)","v":2063},{"$f":"IF($B23=\"\",\"\",0+UPPER(Mainframe!N22))","v":150},{"$f":"IF(AV23=\"\",\"\",IF(NOT(ISNA(VLOOKUP(AV23,Answers!AS:AV,4,FALSE))),VLOOKUP(AV23,Answers!AS:AV,4,FALSE),\"Help!\"))","v":5},null,{"$f":"IF(AW23=\"\",\"\",AU23+IF(AW23=\"XX\",VLOOKUP(\"WRONG\",Answers!AS:AV,4,FALSE),AW23)+AX23)","v":2068},{"$f":"IF($B23=\"\",\"\",0+UPPER(Mainframe!O22))","v":500},11.520547945205465,1,{"$f":"IF($B23=\"\",\"\",LEFT(Mainframe!P22,SEARCH(\".\",Mainframe!P22)-1))","v":"5"},null,null,null,null,null,null,null,null,null,null,null,null,null,null,null,null,null,null,null,null,null,null,null,null,null,null,null,null,null,null,21,{"$f":"IF(INDEX($B:$CE,ROW(),QNO*4)=\"XX\",\"[b][u]\"&INDEX($B:$CE,ROW(),QNO*4-1)&\"[/u][/b]\",\"[color=#BF0040]\"&INDEX(OFFSET(Answers!C:C,0,(QNO-1)*4),MATCH(INDEX($A:$CB,ROW(),QNO*4),OFFSET(Answers!A:A,0,(QNO-1)*4),0))&\"[/color]//[b]\"&INDEX(OFFSET(Answers!B:B,0,(QNO-1)*4),MATCH(INDEX($A:$CB,ROW(),QNO*4),OFFSET(Answers!A:A,0,(QNO-1)*4),0))&\"[/b] — [b]\"&IF(INDEX($B:$CE,ROW(),QNO*4)=1,\"Singleton!\",CONCATENATE(INDEX($B:$CE,ROW(),QNO*4),\" responses\"))&\"[/b]\")","v":"[color=#BF0040]\"Push\", \"Bent\", \"Unwell\"[/color]//[b]MATCHBOX [u]20[/u][/b] — [b]6 responses[/b]"},"ElendilPickle","Yes","21. ElendilPickle — [b]6[/b] pts",24,3]
["[*]",{"$f":"IF(Mainframe!B23=\"\",\"\",INDEX(Mainframe!$B:$B,C24+1,1))","v":"MinnesotaMyron"},22,{"$f":"IF($B24=\"\",\"\",0+UPPER(Mainframe!C23))","v":5000},{"$f":"IF(D24=\"\",\"\",IF(NOT(ISNA(VLOOKUP(D24,Answers!A:D,4,FALSE))),VLOOKUP(D24,Answers!A:D,4,FALSE),\"Help!\"))","v":5},null,{"$f":"IF(E24=\"\",\"\",IF(E24=\"XX\",VLOOKUP(\"WRONG\",Answers!A:D,4,FALSE),E24)+F24)","v":5},{"$f":"IF($B24=\"\",\"\",0+UPPER(Mainframe!D23))","v":22},{"$f":"IF(H24=\"\",\"\",IF(NOT(ISNA(VLOOKUP(H24,Answers!E:H,4,FALSE))),VLOOKUP(H24,Answers!E:H,4,FALSE),\"Help!\"))","v":11},null,{"$f":"IF(I24=\"\",\"\",G24+IF(I24=\"XX\",VLOOKUP(\"WRONG\",Answers!E:H,4,FALSE),I24)+J24)","v":16},{"$f":"IF($B24=\"\",\"\",0+UPPER(Mainframe!E23))","v":16},{"$f":"IF(L24=\"\",\"\",IF(NOT(ISNA(VLOOKUP(L24,Answers!I:L,4,FALSE))),VLOOKUP(L24,Answers!I:L,4,FALSE),\"Help!\"))","v":12},null,{"$f":"IF(M24=\"\",\"\",K24+IF(M24=\"XX\",VLOOKUP(\"WRONG\",Answers!I:L,4,FALSE),M24)+N24)","v":28},{"$f":"IF($B24=\"\",\"\",0+UPPER(Mainframe!F23))","v":1861},{"$f":"IF(P24=\"\",\"\",IF(NOT(ISNA(VLOOKUP(P24,Answers!M:P,4,FALSE))),VLOOKUP(P24,Answers!M:P,4,FALSE),\"Help!\"))","v":1000},null,{"$f":"IF(Q24=\"\",\"\",O24+IF(Q24=\"XX\",VLOOKUP(\"WRONG\",Answers!M:P,4,FALSE),Q24)+R24)","v":1028},{"$f":"IF($B24=\"\",\"\",0+UPPER(Mainframe!G23))","v":5},{"$f":"IF(T24=\"\",\"\",IF(NOT(ISNA(VLOOKUP(T24,Answers!Q:T,4,FALSE))),VLOOKUP(T24,Answers!Q:T,4,FALSE),\"Help!\"))","v":1000},null,{"$f":"IF(U24=\"\",\"\",S24+IF(U24=\"XX\",VLOOKUP(\"WRONG\",Answers!Q:T,4,FALSE),U24)+V24)","v":2028},{"$f":"IF($B24=\"\",\"\",0+UPPER(Mainframe!H23))","v":1000},{"$f":"IF(X24=\"\",\"\",IF(NOT(ISNA(VLOOKUP(X24,Answers!U:X,4,FALSE))),VLOOKUP(X24,Answers!U:X,4,FALSE),\"Help!\"))","v":6},null,{"$f":"IF(Y24=\"\",\"\",W24+IF(Y24=\"XX\",VLOOKUP(\"WRONG\",Answers!U:X,4,FALSE),Y24)+Z24)","v":2034},{"$f":"IF($B24=\"\",\"\",0+UPPER(Mainframe!I23))","v":11},{"$f":"IF(AB24=\"\",\"\",IF(NOT(ISNA(VLOOKUP(AB24,Answers!Y:AB,4,FALSE))),VLOOKUP(AB24,Answers!Y:AB,4,FALSE),\"Help!\"))","v":4},null,{"$f":"IF(AC24=\"\",\"\",AA24+IF(AC24=\"XX\",VLOOKUP(\"WRONG\",Answers!Y:AB,4,FALSE),AC24)+AD24)","v":2038},{"$f":"IF($B24=\"\",\"\",0+UPPER(Mainframe!J23))","v":49},{"$f":"IF(AF24=\"\",\"\",IF(NOT(ISNA(VLOOKUP(AF24,Answers!AC:AF,4,FALSE))),VLOOKUP(AF24,Answers!AC:AF,4,FALSE),\"Help!\"))","v":10},null,{"$f":"IF(AG24=\"\",\"\",AE24+IF(AG24=\"XX\",VLOOKUP(\"WRONG\",Answers!AC:AF,4,FALSE),AG24)+AH24)","v":2048},{"$f":"IF($B24=\"\",\"\",0+UPPER(Mainframe!K23))","v":35},{"$f":"IF(AJ24=\"\",\"\",IF(NOT(ISNA(VLOOKUP(AJ24,Answers!AG:AJ,4,FALSE))),VLOOKUP(AJ24,Answers!AG:AJ,4,FALSE),\"Help!\"))","v":8},{"$f":"IF(AK24>500,-1000,0)","v":0},{"$f":"IF(AK24=\"\",\"\",AI24+IF(AK24=\"XX\",VLOOKUP(\"WRONG\",Answers!AG:AJ,4,FALSE),AK24)+AL24)","v":2056},{"$f":"IF($B24=\"\",\"\",0+UPPER(Mainframe!L23))","v":61},{"$f":"IF(AN24=\"\",\"\",IF(NOT(ISNA(VLOOKUP(AN24,Answers!AK:AN,4,FALSE))),VLOOKUP(AN24,Answers!AK:AN,4,FALSE),\"Help!\"))","v":5},null,{"$f":"IF(AO24=\"\",\"\",AM24+IF(AO24=\"XX\",VLOOKUP(\"WRONG\",Answers!AK:AN,4,FALSE),AO24)+AP24)","v":2061},{"$f":"IF($B24=\"\",\"\",0+UPPER(Mainframe!M23))","v":1000},{"$f":"IF(AR24=\"\",\"\",IF(NOT(ISNA(VLOOKUP(AR24,Answers!AO:AR,4,FALSE))),VLOOKUP(AR24,Answers!AO:AR,4,FALSE),\"Help!\"))","v":6},null,{"$f":"IF(AS24=\"\",\"\",AQ24+IF(AS24=\"XX\",VLOOKUP(\"WRONG\",Answers!AO:AR,4,FALSE),AS24)+AT24)","v":2067},{"$f":"IF($B24=\"\",\"\",0+UPPER(Mainframe!N23))","v":150},{"$f":"IF(AV24=\"\",\"\",IF(NOT(ISNA(VLOOKUP(AV24,Answers!AS:AV,4,FALSE))),VLOOKUP(AV24,Answers!AS:AV,4,FALSE),\"Help!\"))","v":5},null,{"$f":"IF(AW24=\"\",\"\",AU24+IF(AW24=\"XX\",VLOOKUP(\"WRONG\",Answers!AS:AV,4,FALSE),AW24)+AX24)","v":2072},{"$f":"IF($B24=\"\",\"\",0+UPPER(Mainframe!O23))","v":500},11.520547945205465,1,{"$f":"IF($B24=\"\",\"\",LEFT(Mainframe!P23,SEARCH(\".\",Mainframe!P23)-1))","v":"9"},null,null,null,null,null,null,null,null,null,null,null,null,null,null,null,null,null,null,null,null,null,null,null,null,null,null,null,null,null,null,22,{"$f":"IF(INDEX($B:$CE,ROW(),QNO*4)=\"XX\",\"[b][u]\"&INDEX($B:$CE,ROW(),QNO*4-1)&\"[/u][/b]\",\"[color=#BF0040]\"&INDEX(OFFSET(Answers!C:C,0,(QNO-1)*4),MATCH(INDEX($A:$CB,ROW(),QNO*4),OFFSET(Answers!A:A,0,(QNO-1)*4),0))&\"[/color]//[b]\"&INDEX(OFFSET(Answers!B:B,0,(QNO-1)*4),MATCH(INDEX($A:$CB,ROW(),QNO*4),OFFSET(Answers!A:A,0,(QNO-1)*4),0))&\"[/b] — [b]\"&IF(INDEX($B:$CE,ROW(),QNO*4)=1,\"Singleton!\",CONCATENATE(INDEX($B:$CE,ROW(),QNO*4),\" responses\"))&\"[/b]\")","v":"[color=#BF0040]\"When Worlds Collide\", \"Free\", \"How To Be a Human\"[/color]//[b]POWERMAN [u]5000[/u][/b] — [b]5 responses[/b]"},"MinnesotaMyron","Yes","22. MinnesotaMyron — [b]5[/b] pts",26,4]
["[*]",{"$f":"IF(Mainframe!B24=\"\",\"\",INDEX(Mainframe!$B:$B,C25+1,1))","v":"BigDaddyMatty"},23,{"$f":"IF($B25=\"\",\"\",0+UPPER(Mainframe!C24))","v":9},{"$f":"IF(D25=\"\",\"\",IF(NOT(ISNA(VLOOKUP(D25,Answers!A:D,4,FALSE))),VLOOKUP(D25,Answers!A:D,4,FALSE),\"Help!\"))","v":2},null,{"$f":"IF(E25=\"\",\"\",IF(E25=\"XX\",VLOOKUP(\"WRONG\",Answers!A:D,4,FALSE),E25)+F25)","v":2},{"$f":"IF($B25=\"\",\"\",0+UPPER(Mainframe!D24))","v":121},{"$f":"IF(H25=\"\",\"\",IF(NOT(ISNA(VLOOKUP(H25,Answers!E:H,4,FALSE))),VLOOKUP(H25,Answers!E:H,4,FALSE),\"Help!\"))","v":8},null,{"$f":"IF(I25=\"\",\"\",G25+IF(I25=\"XX\",VLOOKUP(\"WRONG\",Answers!E:H,4,FALSE),I25)+J25)","v":10},{"$f":"IF($B25=\"\",\"\",0+UPPER(Mainframe!E24))","v":34},{"$f":"IF(L25=\"\",\"\",IF(NOT(ISNA(VLOOKUP(L25,Answers!I:L,4,FALSE))),VLOOKUP(L25,Answers!I:L,4,FALSE),\"Help!\"))","v":1000},null,{"$f":"IF(M25=\"\",\"\",K25+IF(M25=\"XX\",VLOOKUP(\"WRONG\",Answers!I:L,4,FALSE),M25)+N25)","v":1010},{"$f":"IF($B25=\"\",\"\",0+UPPER(Mainframe!F24))","v":2003},{"$f":"IF(P25=\"\",\"\",IF(NOT(ISNA(VLOOKUP(P25,Answers!M:P,4,FALSE))),VLOOKUP(P25,Answers!M:P,4,FALSE),\"Help!\"))","v":8},null,{"$f":"IF(Q25=\"\",\"\",O25+IF(Q25=\"XX\",VLOOKUP(\"WRONG\",Answers!M:P,4,FALSE),Q25)+R25)","v":1018},{"$f":"IF($B25=\"\",\"\",0+UPPER(Mainframe!G24))","v":8},{"$f":"IF(T25=\"\",\"\",IF(NOT(ISNA(VLOOKUP(T25,Answers!Q:T,4,FALSE))),VLOOKUP(T25,Answers!Q:T,4,FALSE),\"Help!\"))","v":6},null,{"$f":"IF(U25=\"\",\"\",S25+IF(U25=\"XX\",VLOOKUP(\"WRONG\",Answers!Q:T,4,FALSE),U25)+V25)","v":1024},{"$f":"IF($B25=\"\",\"\",0+UPPER(Mainframe!H24))","v":22},{"$f":"IF(X25=\"\",\"\",IF(NOT(ISNA(VLOOKUP(X25,Answers!U:X,4,FALSE))),VLOOKUP(X25,Answers!U:X,4,FALSE),\"Help!\"))","v":1000},{"$f":"IF(Y25>500,-1000,0)","v":-1000},{"$f":"IF(Y25=\"\",\"\",W25+IF(Y25=\"XX\",VLOOKUP(\"WRONG\",Answers!U:X,4,FALSE),Y25)+Z25)","v":1024},{"$f":"IF($B25=\"\",\"\",0+UPPER(Mainframe!I24))","v":64},{"$f":"IF(AB25=\"\",\"\",IF(NOT(ISNA(VLOOKUP(AB25,Answers!Y:AB,4,FALSE))),VLOOKUP(AB25,Answers!Y:AB,4,FALSE),\"Help!\"))","v":3},null,{"$f":"IF(AC25=\"\",\"\",AA25+IF(AC25=\"XX\",VLOOKUP(\"WRONG\",Answers!Y:AB,4,FALSE),AC25)+AD25)","v":1027},{"$f":"IF($B25=\"\",\"\",0+UPPER(Mainframe!J24))","v":34},{"$f":"IF(AF25=\"\",\"\",IF(NOT(ISNA(VLOOKUP(AF25,Answers!AC:AF,4,FALSE))),VLOOKUP(AF25,Answers!AC:AF,4,FALSE),\"Help!\"))","v":4},null,{"$f":"IF(AG25=\"\",\"\",AE25+IF(AG25=\"XX\",VLOOKUP(\"WRONG\",Answers!AC:AF,4,FALSE),AG25)+AH25)","v":1031},{"$f":"IF($B25=\"\",\"\",0+UPPER(Mainframe!K24))","v":84},{"$f":"IF(AJ25=\"\",\"\",IF(NOT(ISNA(VLOOKUP(AJ25,Answers!AG:AJ,4,FALSE))),VLOOKUP(AJ25,Answers!AG:AJ,4,FALSE),\"Help!\"))","v":1000},null,{"$f":"IF(AK25=\"\",\"\",AI25+IF(AK25=\"XX\",VLOOKUP(\"WRONG\",Answers!AG:AJ,4,FALSE),AK25)+AL25)","v":2031},{"$f":"IF($B25=\"\",\"\",0+UPPER(Mainframe!L24))","v":67},{"$f":"IF(AN25=\"\",\"\",IF(NOT(ISNA(VLOOKUP(AN25,Answers!AK:AN,4,FALSE))),VLOOKUP(AN25,Answers!AK:AN,4,FALSE),\"Help!\"))","v":1000},null,{"$f":"IF(AO25=\"\",\"\",AM25+IF(AO25=\"XX\",VLOOKUP(\"WRONG\",Answers!AK:AN,4,FALSE),AO25)+AP25)","v":3031},{"$f":"IF($B25=\"\",\"\",0+UPPER(Mainframe!M24))","v":3},{"$f":"IF(AR25=\"\",\"\",IF(NOT(ISNA(VLOOKUP(AR25,Answers!AO:AR,4,FALSE))),VLOOKUP(AR25,Answers!AO:AR,4,FALSE),\"Help!\"))","v":6},null,{"$f":"IF(AS25=\"\",\"\",AQ25+IF(AS25=\"XX\",VLOOKUP(\"WRONG\",Answers!AO:AR,4,FALSE),AS25)+AT25)","v":3037},{"$f":"IF($B25=\"\",\"\",0+UPPER(Mainframe!N24))","v":27},{"$f":"IF(AV25=\"\",\"\",IF(NOT(ISNA(VLOOKUP(AV25,Answers!AS:AV,4,FALSE))),VLOOKUP(AV25,Answers!AS:AV,4,FALSE),\"Help!\"))","v":9},null,{"$f":"IF(AW25=\"\",\"\",AU25+IF(AW25=\"XX\",VLOOKUP(\"WRONG\",Answers!AS:AV,4,FALSE),AW25)+AX25)","v":3046},{"$f":"IF($B25=\"\",\"\",0+UPPER(Mainframe!O24))","v":500},11.520547945205465,1,{"$f":"IF($B25=\"\",\"\",LEFT(Mainframe!P24,SEARCH(\".\",Mainframe!P24)-1))","v":"6"},null,null,null,null,null,null,null,null,null,null,null,null,null,null,null,null,null,null,null,null,null,null,null,null,null,null,null,null,null,null,23,{"$f":"IF(INDEX($B:$CE,ROW(),QNO*4)=\"XX\",\"[b][u]\"&INDEX($B:$CE,ROW(),QNO*4-1)&\"[/u][/b]\",\"[color=#BF0040]\"&INDEX(OFFSET(Answers!C:C,0,(QNO-1)*4),MATCH(INDEX($A:$CB,ROW(),QNO*4),OFFSET(Answers!A:A,0,(QNO-1)*4),0))&\"[/color]//[b]\"&INDEX(OFFSET(Answers!B:B,0,(QNO-1)*4),MATCH(INDEX($A:$CB,ROW(),QNO*4),OFFSET(Answers!A:A,0,(QNO-1)*4),0))&\"[/b] — [b]\"&IF(INDEX($B:$CE,ROW(),QNO*4)=1,\"Singleton!\",CONCATENATE(INDEX($B:$CE,ROW(),QNO*4),\" responses\"))&\"[/b]\")","v":"[color=#BF0040]\"Down in It\", \"The Hand That Feeds\", \"Came Back Haunted\"[/color]//[b][u]NINE[/u] INCH NAILS[/b] — [b]2 responses[/b]"},"BigDaddyMatty","Yes","23. BigDaddyMatty — [b]2[/b] pts",35,12]
["[*]",{"$f":"IF(Mainframe!B25=\"\",\"\",INDEX(Mainframe!$B:$B,C26+1,1))","v":"Category 13"},24,{"$f":"IF($B26=\"\",\"\",0+UPPER(Mainframe!C25))","v":3},{"$f":"IF(D26=\"\",\"\",IF(NOT(ISNA(VLOOKUP(D26,Answers!A:D,4,FALSE))),VLOOKUP(D26,Answers!A:D,4,FALSE),\"Help!\"))","v":11},null,{"$f":"IF(E26=\"\",\"\",IF(E26=\"XX\",VLOOKUP(\"WRONG\",Answers!A:D,4,FALSE),E26)+F26)","v":11},{"$f":"IF($B26=\"\",\"\",0+UPPER(Mainframe!D25))","v":38},{"$f":"IF(H26=\"\",\"\",IF(NOT(ISNA(VLOOKUP(H26,Answers!E:H,4,FALSE))),VLOOKUP(H26,Answers!E:H,4,FALSE),\"Help!\"))","v":7},null,{"$f":"IF(I26=\"\",\"\",G26+IF(I26=\"XX\",VLOOKUP(\"WRONG\",Answers!E:H,4,FALSE),I26)+J26)","v":18},{"$f":"IF($B26=\"\",\"\",0+UPPER(Mainframe!E25))","v":16},{"$f":"IF(L26=\"\",\"\",IF(NOT(ISNA(VLOOKUP(L26,Answers!I:L,4,FALSE))),VLOOKUP(L26,Answers!I:L,4,FALSE),\"Help!\"))","v":12},null,{"$f":"IF(M26=\"\",\"\",K26+IF(M26=\"XX\",VLOOKUP(\"WRONG\",Answers!I:L,4,FALSE),M26)+N26)","v":30},{"$f":"IF($B26=\"\",\"\",0+UPPER(Mainframe!F25))","v":1940},{"$f":"IF(P26=\"\",\"\",IF(NOT(ISNA(VLOOKUP(P26,Answers!M:P,4,FALSE))),VLOOKUP(P26,Answers!M:P,4,FALSE),\"Help!\"))","v":7},null,{"$f":"IF(Q26=\"\",\"\",O26+IF(Q26=\"XX\",VLOOKUP(\"WRONG\",Answers!M:P,4,FALSE),Q26)+R26)","v":37},{"$f":"IF($B26=\"\",\"\",0+UPPER(Mainframe!G25))","v":18},{"$f":"IF(T26=\"\",\"\",IF(NOT(ISNA(VLOOKUP(T26,Answers!Q:T,4,FALSE))),VLOOKUP(T26,Answers!Q:T,4,FALSE),\"Help!\"))","v":6},null,{"$f":"IF(U26=\"\",\"\",S26+IF(U26=\"XX\",VLOOKUP(\"WRONG\",Answers!Q:T,4,FALSE),U26)+V26)","v":43},{"$f":"IF($B26=\"\",\"\",0+UPPER(Mainframe!H25))","v":61},{"$f":"IF(X26=\"\",\"\",IF(NOT(ISNA(VLOOKUP(X26,Answers!U:X,4,FALSE))),VLOOKUP(X26,Answers!U:X,4,FALSE),\"Help!\"))","v":1},null,{"$f":"IF(Y26=\"\",\"\",W26+IF(Y26=\"XX\",VLOOKUP(\"WRONG\",Answers!U:X,4,FALSE),Y26)+Z26)","v":44},{"$f":"IF($B26=\"\",\"\",0+UPPER(Mainframe!I25))","v":76},{"$f":"IF(AB26=\"\",\"\",IF(NOT(ISNA(VLOOKUP(AB26,Answers!Y:AB,4,FALSE))),VLOOKUP(AB26,Answers!Y:AB,4,FALSE),\"Help!\"))","v":1000},{"$f":"IF(AC26>500,-1000,0)","v":-1000},{"$f":"IF(AC26=\"\",\"\",AA26+IF(AC26=\"XX\",VLOOKUP(\"WRONG\",Answers!Y:AB,4,FALSE),AC26)+AD26)","v":44},{"$f":"IF($B26=\"\",\"\",0+UPPER(Mainframe!J25))","v":1789},{"$f":"IF(AF26=\"\",\"\",IF(NOT(ISNA(VLOOKUP(AF26,Answers!AC:AF,4,FALSE))),VLOOKUP(AF26,Answers!AC:AF,4,FALSE),\"Help!\"))","v":1},null,{"$f":"IF(AG26=\"\",\"\",AE26+IF(AG26=\"XX\",VLOOKUP(\"WRONG\",Answers!AC:AF,4,FALSE),AG26)+AH26)","v":45},{"$f":"IF($B26=\"\",\"\",0+UPPER(Mainframe!K25))","v":94},{"$f":"IF(AJ26=\"\",\"\",IF(NOT(ISNA(VLOOKUP(AJ26,Answers!AG:AJ,4,FALSE))),VLOOKUP(AJ26,Answers!AG:AJ,4,FALSE),\"Help!\"))","v":5},null,{"$f":"IF(AK26=\"\",\"\",AI26+IF(AK26=\"XX\",VLOOKUP(\"WRONG\",Answers!AG:AJ,4,FALSE),AK26)+AL26)","v":50},{"$f":"IF($B26=\"\",\"\",0+UPPER(Mainframe!L25))","v":42},{"$f":"IF(AN26=\"\",\"\",IF(NOT(ISNA(VLOOKUP(AN26,Answers!AK:AN,4,FALSE))),VLOOKUP(AN26,Answers!AK:AN,4,FALSE),\"Help!\"))","v":8},null,{"$f":"IF(AO26=\"\",\"\",AM26+IF(AO26=\"XX\",VLOOKUP(\"WRONG\",Answers!AK:AN,4,FALSE),AO26)+AP26)","v":58},{"$f":"IF($B26=\"\",\"\",0+UPPER(Mainframe!M25))","v":5},{"$f":"IF(AR26=\"\",\"\",IF(NOT(ISNA(VLOOKUP(AR26,Answers!AO:AR,4,FALSE))),VLOOKUP(AR26,Answers!AO:AR,4,FALSE),\"Help!\"))","v":1000},null,{"$f":"IF(AS26=\"\",\"\",AQ26+IF(AS26=\"XX\",VLOOKUP(\"WRONG\",Answers!AO:AR,4,FALSE),AS26)+AT26)","v":1058},{"$f":"IF($B26=\"\",\"\",0+UPPER(Mainframe!N25))","v":12},{"$f":"IF(AV26=\"\",\"\",IF(NOT(ISNA(VLOOKUP(AV26,Answers!AS:AV,4,FALSE))),VLOOKUP(AV26,Answers!AS:AV,4,FALSE),\"Help!\"))","v":4},null,{"$f":"IF(AW26=\"\",\"\",AU26+IF(AW26=\"XX\",VLOOKUP(\"WRONG\",Answers!AS:AV,4,FALSE),AW26)+AX26)","v":1062},{"$f":"IF($B26=\"\",\"\",0+UPPER(Mainframe!O25))","v":455},33.479452054794535,1,{"$f":"IF($B26=\"\",\"\",LEFT(Mainframe!P25,SEARCH(\".\",Mainframe!P25)-1))","v":"7"},null,null,null,null,null,null,null,null,null,null,null,null,null,null,null,null,null,null,null,null,null,null,null,null,null,null,null,null,null,null,24,{"$f":"IF(INDEX($B:$CE,ROW(),QNO*4)=\"XX\",\"[b][u]\"&INDEX($B:$CE,ROW(),QNO*4-1)&\"[/u][/b]\",\"[color=#BF0040]\"&INDEX(OFFSET(Answers!C:C,0,(QNO-1)*4),MATCH(INDEX($A:$CB,ROW(),QNO*4),OFFSET(Answers!A:A,0,(QNO-1)*4),0))&\"[/color]//[b]\"&INDEX(OFFSET(Answers!B:B,0,(QNO-1)*4),MATCH(INDEX($A:$CB,ROW(),QNO*4),OFFSET(Answers!A:A,0,(QNO-1)*4),0))&\"[/b] — [b]\"&IF(INDEX($B:$CE,ROW(),QNO*4)=1,\"Singleton!\",CONCATENATE(INDEX($B:$CE,ROW(),QNO*4),\" responses\"))&\"[/b]\")","v":"[color=#BF0040]\"Mama Told Me (Not to Come)\", \"Joy to the World\", \"Black and White\"[/color]//[b][u]THREE[/u] DOG NIGHT[/b] — [b]11 responses[/b]"},"Category 13","Yes","24. Category 13 — [b]11[/b] pts",10,-14]
["[*]",{"$f":"IF(Mainframe!B26=\"\",\"\",INDEX(Mainframe!$B:$B,C27+1,1))","v":"Lampy"},25,{"$f":"IF($B27=\"\",\"\",0+UPPER(Mainframe!C26))","v":65},{"$f":"IF(D27=\"\",\"\",IF(NOT(ISNA(VLOOKUP(D27,Answers!A:D,4,FALSE))),VLOOKUP(D27,Answers!A:D,4,FALSE),\"Help!\"))","v":9},null,{"$f":"IF(E27=\"\",\"\",IF(E27=\"XX\",VLOOKUP(\"WRONG\",Answers!A:D,4,FALSE),E27)+F27)","v":9},{"$f":"IF($B27=\"\",\"\",0+UPPER(Mainframe!D26))","v":1326},{"$f":"IF(H27=\"\",\"\",IF(NOT(ISNA(VLOOKUP(H27,Answers!E:H,4,FALSE))),VLOOKUP(H27,Answers!E:H,4,FALSE),\"Help!\"))","v":2},null,{"$f":"IF(I27=\"\",\"\",G27+IF(I27=\"XX\",VLOOKUP(\"WRONG\",Answers!E:H,4,FALSE),I27)+J27)","v":11},{"$f":"IF($B27=\"\",\"\",0+UPPER(Mainframe!E26))","v":10},{"$f":"IF(L27=\"\",\"\",IF(NOT(ISNA(VLOOKUP(L27,Answers!I:L,4,FALSE))),VLOOKUP(L27,Answers!I:L,4,FALSE),\"Help!\"))","v":10},null,{"$f":"IF(M27=\"\",\"\",K27+IF(M27=\"XX\",VLOOKUP(\"WRONG\",Answers!I:L,4,FALSE),M27)+N27)","v":21},{"$f":"IF($B27=\"\",\"\",0+UPPER(Mainframe!F26))","v":312},{"$f":"IF(P27=\"\",\"\",IF(NOT(ISNA(VLOOKUP(P27,Answers!M:P,4,FALSE))),VLOOKUP(P27,Answers!M:P,4,FALSE),\"Help!\"))","v":4},null,{"$f":"IF(Q27=\"\",\"\",O27+IF(Q27=\"XX\",VLOOKUP(\"WRONG\",Answers!M:P,4,FALSE),Q27)+R27)","v":25},{"$f":"IF($B27=\"\",\"\",0+UPPER(Mainframe!G26))","v":92},{"$f":"IF(T27=\"\",\"\",IF(NOT(ISNA(VLOOKUP(T27,Answers!Q:T,4,FALSE))),VLOOKUP(T27,Answers!Q:T,4,FALSE),\"Help!\"))","v":3},{"$f":"IF(U27>500,-1000,0)","v":0},{"$f":"IF(U27=\"\",\"\",S27+IF(U27=\"XX\",VLOOKUP(\"WRONG\",Answers!Q:T,4,FALSE),U27)+V27)","v":28},{"$f":"IF($B27=\"\",\"\",0+UPPER(Mainframe!H26))","v":49},{"$f":"IF(X27=\"\",\"\",IF(NOT(ISNA(VLOOKUP(X27,Answers!U:X,4,FALSE))),VLOOKUP(X27,Answers!U:X,4,FALSE),\"Help!\"))","v":4},null,{"$f":"IF(Y27=\"\",\"\",W27+IF(Y27=\"XX\",VLOOKUP(\"WRONG\",Answers!U:X,4,FALSE),Y27)+Z27)","v":32},{"$f":"IF($B27=\"\",\"\",0+UPPER(Mainframe!I26))","v":20},{"$f":"IF(AB27=\"\",\"\",IF(NOT(ISNA(VLOOKUP(AB27,Answers!Y:AB,4,FALSE))),VLOOKUP(AB27,Answers!Y:AB,4,FALSE),\"Help!\"))","v":13},null,{"$f":"IF(AC27=\"\",\"\",AA27+IF(AC27=\"XX\",VLOOKUP(\"WRONG\",Answers!Y:AB,4,FALSE),AC27)+AD27)","v":45},{"$f":"IF($B27=\"\",\"\",0+UPPER(Mainframe!J26))","v":47},{"$f":"IF(AF27=\"\",\"\",IF(NOT(ISNA(VLOOKUP(AF27,Answers!AC:AF,4,FALSE))),VLOOKUP(AF27,Answers!AC:AF,4,FALSE),\"Help!\"))","v":2},null,{"$f":"IF(AG27=\"\",\"\",AE27+IF(AG27=\"XX\",VLOOKUP(\"WRONG\",Answers!AC:AF,4,FALSE),AG27)+AH27)","v":47},{"$f":"IF($B27=\"\",\"\",0+UPPER(Mainframe!K26))","v":4},{"$f":"IF(AJ27=\"\",\"\",IF(NOT(ISNA(VLOOKUP(AJ27,Answers!AG:AJ,4,FALSE))),VLOOKUP(AJ27,Answers!AG:AJ,4,FALSE),\"Help!\"))","v":4},null,{"$f":"IF(AK27=\"\",\"\",AI27+IF(AK27=\"XX\",VLOOKUP(\"WRONG\",Answers!AG:AJ,4,FALSE),AK27)+AL27)","v":51},{"$f":"IF($B27=\"\",\"\",0+UPPER(Mainframe!L26))","v":20},{"$f":"IF(AN27=\"\",\"\",IF(NOT(ISNA(VLOOKUP(AN27,Answers!AK:AN,4,FALSE))),VLOOKUP(AN27,Answers!AK:AN,4,FALSE),\"Help!\"))","v":3},null,{"$f":"IF(AO27=\"\",\"\",AM27+IF(AO27=\"XX\",VLOOKUP(\"WRONG\",Answers!AK:AN,4,FALSE),AO27)+AP27)","v":54},{"$f":"IF($B27=\"\",\"\",0+UPPER(Mainframe!M26))","v":19},{"$f":"IF(AR27=\"\",\"\",IF(NOT(ISNA(VLOOKUP(AR27,Answers!AO:AR,4,FALSE))),VLOOKUP(AR27,Answers!AO:AR,4,FALSE),\"Help!\"))","v":1},null,{"$f":"IF(AS27=\"\",\"\",AQ27+IF(AS27=\"XX\",VLOOKUP(\"WRONG\",Answers!AO:AR,4,FALSE),AS27)+AT27)","v":55},{"$f":"IF($B27=\"\",\"\",0+UPPER(Mainframe!N26))","v":622},{"$f":"IF(AV27=\"\",\"\",IF(NOT(ISNA(VLOOKUP(AV27,Answers!AS:AV,4,FALSE))),VLOOKUP(AV27,Answers!AS:AV,4,FALSE),\"Help!\"))","v":4},null,{"$f":"IF(AW27=\"\",\"\",AU27+IF(AW27=\"XX\",VLOOKUP(\"WRONG\",Answers!AS:AV,4,FALSE),AW27)+AX27)","v":59},{"$f":"IF($B27=\"\",\"\",0+UPPER(Mainframe!O26))","v":412},76.479452054794535,1,{"$f":"IF($B27=\"\",\"\",LEFT(Mainframe!P26,SEARCH(\".\",Mainframe!P26)-1))","v":"5"},null,null,null,null,null,null,null,null,null,null,null,null,null,null,null,null,null,null,null,null,null,null,null,null,null,null,null,null,null,null,25,{"$f":"IF(INDEX($B:$CE,ROW(),QNO*4)=\"XX\",\"[b][u]\"&INDEX($B:$CE,ROW(),QNO*4-1)&\"[/u][/b]\",\"[color=#BF0040]\"&INDEX(OFFSET(Answers!C:C,0,(QNO-1)*4),MATCH(INDEX($A:$CB,ROW(),QNO*4),OFFSET(Answers!A:A,0,(QNO-1)*4),0))&\"[/color]//[b]\"&INDEX(OFFSET(Answers!B:B,0,(QNO-1)*4),MATCH(INDEX($A:$CB,ROW(),QNO*4),OFFSET(Answers!A:A,0,(QNO-1)*4),0))&\"[/b] — [b]\"&IF(INDEX($B:$CE,ROW(),QNO*4)=1,\"Singleton!\",CONCATENATE(INDEX($B:$CE,ROW(),QNO*4),\" responses\"))&\"[/b]\")","v":"[color=#BF0040]\"Blue (Da Ba Dee)\", \"Move Your Body\", \"Lucky (In My Life)\"[/color]//[b]EIFFEL [u]65[/u][/b] — [b]9 responses[/b]"},"Lampy","Yes","25. Lampy — [b]9[/b] pts",1,-24]
["[*]",{"$f":"IF(Mainframe!B27=\"\",\"\",INDEX(Mainframe!$B:$B,C28+1,1))","v":"Magna"},26,{"$f":"IF($B28=\"\",\"\",0+UPPER(Mainframe!C27))","v":1},{"$f":"IF(D28=\"\",\"\",IF(NOT(ISNA(VLOOKUP(D28,Answers!A:D,4,FALSE))),VLOOKUP(D28,Answers!A:D,4,FALSE),\"Help!\"))","v":8},null,{"$f":"IF(E28=\"\",\"\",IF(E28=\"XX\",VLOOKUP(\"WRONG\",Answers!A:D,4,FALSE),E28)+F28)","v":8},{"$f":"IF($B28=\"\",\"\",0+UPPER(Mainframe!D27))","v":2652},"XX",null,{"$f":"IF(I28=\"\",\"\",G28+IF(I28=\"XX\",VLOOKUP(\"WRONG\",Answers!E:H,4,FALSE),I28)+J28)","v":1015},{"$f":"IF($B28=\"\",\"\",0+UPPER(Mainframe!E27))","v":16},{"$f":"IF(L28=\"\",\"\",IF(NOT(ISNA(VLOOKUP(L28,Answers!I:L,4,FALSE))),VLOOKUP(L28,Answers!I:L,4,FALSE),\"Help!\"))","v":12},null,{"$f":"IF(M28=\"\",\"\",K28+IF(M28=\"XX\",VLOOKUP(\"WRONG\",Answers!I:L,4,FALSE),M28)+N28)","v":1027},{"$f":"IF($B28=\"\",\"\",0+UPPER(Mainframe!F27))","v":1968},"XX",{"$f":"IF(Q28>500,-1000,0)","v":-1000},{"$f":"IF(Q28=\"\",\"\",O28+IF(Q28=\"XX\",VLOOKUP(\"WRONG\",Answers!M:P,4,FALSE),Q28)+R28)","v":1034},{"$f":"IF($B28=\"\",\"\",0+UPPER(Mainframe!G27))","v":6},{"$f":"IF(T28=\"\",\"\",IF(NOT(ISNA(VLOOKUP(T28,Answers!Q:T,4,FALSE))),VLOOKUP(T28,Answers!Q:T,4,FALSE),\"Help!\"))","v":9},null,{"$f":"IF(U28=\"\",\"\",S28+IF(U28=\"XX\",VLOOKUP(\"WRONG\",Answers!Q:T,4,FALSE),U28)+V28)","v":1043},{"$f":"IF($B28=\"\",\"\",0+UPPER(Mainframe!H27))","v":80},{"$f":"IF(X28=\"\",\"\",IF(NOT(ISNA(VLOOKUP(X28,Answers!U:X,4,FALSE))),VLOOKUP(X28,Answers!U:X,4,FALSE),\"Help!\"))","v":5},null,{"$f":"IF(Y28=\"\",\"\",W28+IF(Y28=\"XX\",VLOOKUP(\"WRONG\",Answers!U:X,4,FALSE),Y28)+Z28)","v":1048},{"$f":"IF($B28=\"\",\"\",0+UPPER(Mainframe!I27))","v":20},{"$f":"IF(AB28=\"\",\"\",IF(NOT(ISNA(VLOOKUP(AB28,Answers!Y:AB,4,FALSE))),VLOOKUP(AB28,Answers!Y:AB,4,FALSE),\"Help!\"))","v":13},null,{"$f":"IF(AC28=\"\",\"\",AA28+IF(AC28=\"XX\",VLOOKUP(\"WRONG\",Answers!Y:AB,4,FALSE),AC28)+AD28)","v":1061},{"$f":"IF($B28=\"\",\"\",0+UPPER(Mainframe!J27))","v":9},{"$f":"IF(AF28=\"\",\"\",IF(NOT(ISNA(VLOOKUP(AF28,Answers!AC:AF,4,FALSE))),VLOOKUP(AF28,Answers!AC:AF,4,FALSE),\"Help!\"))","v":1000},null,{"$f":"IF(AG28=\"\",\"\",AE28+IF(AG28=\"XX\",VLOOKUP(\"WRONG\",Answers!AC:AF,4,FALSE),AG28)+AH28)","v":2061},{"$f":"IF($B28=\"\",\"\",0+UPPER(Mainframe!K27))","v":8},{"$f":"IF(AJ28=\"\",\"\",IF(NOT(ISNA(VLOOKUP(AJ28,Answers!AG:AJ,4,FALSE))),VLOOKUP(AJ28,Answers!AG:AJ,4,FALSE),\"Help!\"))","v":5},null,{"$f":"IF(AK28=\"\",\"\",AI28+IF(AK28=\"XX\",VLOOKUP(\"WRONG\",Answers!AG:AJ,4,FALSE),AK28)+AL28)","v":2066},{"$f":"IF($B28=\"\",\"\",0+UPPER(Mainframe!L27))","v":76},{"$f":"IF(AN28=\"\",\"\",IF(NOT(ISNA(VLOOKUP(AN28,Answers!AK:AN,4,FALSE))),VLOOKUP(AN28,Answers!AK:AN,4,FALSE),\"Help!\"))","v":6},null,{"$f":"IF(AO28=\"\",\"\",AM28+IF(AO28=\"XX\",VLOOKUP(\"WRONG\",Answers!AK:AN,4,FALSE),AO28)+AP28)","v":2072},{"$f":"IF($B28=\"\",\"\",0+UPPER(Mainframe!M27))","v":11},{"$f":"IF(AR28=\"\",\"\",IF(NOT(ISNA(VLOOKUP(AR28,Answers!AO:AR,4,FALSE))),VLOOKUP(AR28,Answers!AO:AR,4,FALSE),\"Help!\"))","v":5},null,{"$f":"IF(AS28=\"\",\"\",AQ28+IF(AS28=\"XX\",VLOOKUP(\"WRONG\",Answers!AO:AR,4,FALSE),AS28)+AT28)","v":2077},{"$f":"IF($B28=\"\",\"\",0+UPPER(Mainframe!N27))","v":27},{"$f":"IF(AV28=\"\",\"\",IF(NOT(ISNA(VLOOKUP(AV28,Answers!AS:AV,4,FALSE))),VLOOKUP(AV28,Answers!AS:AV,4,FALSE),\"Help!\"))","v":9},null,{"$f":"IF(AW28=\"\",\"\",AU28+IF(AW28=\"XX\",VLOOKUP(\"WRONG\",Answers!AS:AV,4,FALSE),AW28)+AX28)","v":2086},{"$f":"IF($B28=\"\",\"\",0+UPPER(Mainframe!O27))","v":618},129.52054794520546,1,{"$f":"IF($B28=\"\",\"\",LEFT(Mainframe!P27,SEARCH(\".\",Mainframe!P27)-1))","v":"4"},null,null,null,null,null,null,null,null,null,null,null,null,null,null,null,null,null,null,null,null,null,null,null,null,null,null,null,null,null,null,26,{"$f":"IF(INDEX($B:$CE,ROW(),QNO*4)=\"XX\",\"[b][u]\"&INDEX($B:$CE,ROW(),QNO*4-1)&\"[/u][/b]\",\"[color=#BF0040]\"&INDEX(OFFSET(Answers!C:C,0,(QNO-1)*4),MATCH(INDEX($A:$CB,ROW(),QNO*4),OFFSET(Answers!A:A,0,(QNO-1)*4),0))&\"[/color]//[b]\"&INDEX(OFFSET(Answers!B:B,0,(QNO-1)*4),MATCH(INDEX($A:$CB,ROW(),QNO*4),OFFSET(Answers!A:A,0,(QNO-1)*4),0))&\"[/b] — [b]\"&IF(INDEX($B:$CE,ROW(),QNO*4)=1,\"Singleton!\",CONCATENATE(INDEX($B:$CE,ROW(),QNO*4),\" responses\"))&\"[/b]\")","v":"[color=#BF0040]\"What Makes You Beautiful\", \"Little Things\", \"Best Song Ever\"[/color]//[b][u]ONE[/u] DIRECTION[/b] — [b]8 responses[/b]"},"Magna","Yes","26. Magna — [b]8[/b] pts",33,7]
["[*]",{"$f":"IF(Mainframe!B28=\"\",\"\",INDEX(Mainframe!$B:$B,C29+1,1))","v":"BerneseMountainDogLover"},27,{"$f":"IF($B29=\"\",\"\",0+UPPER(Mainframe!C28))","v":65},{"$f":"IF(D29=\"\",\"\",IF(NOT(ISNA(VLOOKUP(D29,Answers!A:D,4,FALSE))),VLOOKUP(D29,Answers!A:D,4,FALSE),\"Help!\"))","v":9},null,{"$f":"IF(E29=\"\",\"\",IF(E29=\"XX\",VLOOKUP(\"WRONG\",Answers!A:D,4,FALSE),E29)+F29)","v":9},{"$f":"IF($B29=\"\",\"\",0+UPPER(Mainframe!D28))","v":42},{"$f":"IF(H29=\"\",\"\",IF(NOT(ISNA(VLOOKUP(H29,Answers!E:H,4,FALSE))),VLOOKUP(H29,Answers!E:H,4,FALSE),\"Help!\"))","v":3},null,{"$f":"IF(I29=\"\",\"\",G29+IF(I29=\"XX\",VLOOKUP(\"WRONG\",Answers!E:H,4,FALSE),I29)+J29)","v":12},{"$f":"IF($B29=\"\",\"\",0+UPPER(Mainframe!E28))","v":10},{"$f":"IF(L29=\"\",\"\",IF(NOT(ISNA(VLOOKUP(L29,Answers!I:L,4,FALSE))),VLOOKUP(L29,Answers!I:L,4,FALSE),\"Help!\"))","v":10},null,{"$f":"IF(M29=\"\",\"\",K29+IF(M29=\"XX\",VLOOKUP(\"WRONG\",Answers!I:L,4,FALSE),M29)+N29)","v":22},{"$f":"IF($B29=\"\",\"\",0+UPPER(Mainframe!F28))","v":1415},{"$f":"IF(P29=\"\",\"\",IF(NOT(ISNA(VLOOKUP(P29,Answers!M:P,4,FALSE))),VLOOKUP(P29,Answers!M:P,4,FALSE),\"Help!\"))","v":7},null,{"$f":"IF(Q29=\"\",\"\",O29+IF(Q29=\"XX\",VLOOKUP(\"WRONG\",Answers!M:P,4,FALSE),Q29)+R29)","v":29},{"$f":"IF($B29=\"\",\"\",0+UPPER(Mainframe!G28))","v":17},{"$f":"IF(T29=\"\",\"\",IF(NOT(ISNA(VLOOKUP(T29,Answers!Q:T,4,FALSE))),VLOOKUP(T29,Answers!Q:T,4,FALSE),\"Help!\"))","v":2},null,{"$f":"IF(U29=\"\",\"\",S29+IF(U29=\"XX\",VLOOKUP(\"WRONG\",Answers!Q:T,4,FALSE),U29)+V29)","v":31},{"$f":"IF($B29=\"\",\"\",0+UPPER(Mainframe!H28))","v":1000},{"$f":"IF(X29=\"\",\"\",IF(NOT(ISNA(VLOOKUP(X29,Answers!U:X,4,FALSE))),VLOOKUP(X29,Answers!U:X,4,FALSE),\"Help!\"))","v":6},null,{"$f":"IF(Y29=\"\",\"\",W29+IF(Y29=\"XX\",VLOOKUP(\"WRONG\",Answers!U:X,4,FALSE),Y29)+Z29)","v":37},{"$f":"IF($B29=\"\",\"\",0+UPPER(Mainframe!I28))","v":25},{"$f":"IF(AB29=\"\",\"\",IF(NOT(ISNA(VLOOKUP(AB29,Answers!Y:AB,4,FALSE))),VLOOKUP(AB29,Answers!Y:AB,4,FALSE),\"Help!\"))","v":7},null,{"$f":"IF(AC29=\"\",\"\",AA29+IF(AC29=\"XX\",VLOOKUP(\"WRONG\",Answers!Y:AB,4,FALSE),AC29)+AD29)","v":44},{"$f":"IF($B29=\"\",\"\",0+UPPER(Mainframe!J28))","v":15},{"$f":"IF(AF29=\"\",\"\",IF(NOT(ISNA(VLOOKUP(AF29,Answers!AC:AF,4,FALSE))),VLOOKUP(AF29,Answers!AC:AF,4,FALSE),\"Help!\"))","v":2},null,{"$f":"IF(AG29=\"\",\"\",AE29+IF(AG29=\"XX\",VLOOKUP(\"WRONG\",Answers!AC:AF,4,FALSE),AG29)+AH29)","v":46},{"$f":"IF($B29=\"\",\"\",0+UPPER(Mainframe!K28))","v":80},{"$f":"IF(AJ29=\"\",\"\",IF(NOT(ISNA(VLOOKUP(AJ29,Answers!AG:AJ,4,FALSE))),VLOOKUP(AJ29,Answers!AG:AJ,4,FALSE),\"Help!\"))","v":6},null,{"$f":"IF(AK29=\"\",\"\",AI29+IF(AK29=\"XX\",VLOOKUP(\"WRONG\",Answers!AG:AJ,4,FALSE),AK29)+AL29)","v":52},{"$f":"IF($B29=\"\",\"\",0+UPPER(Mainframe!L28))","v":5},{"$f":"IF(AN29=\"\",\"\",IF(NOT(ISNA(VLOOKUP(AN29,Answers!AK:AN,4,FALSE))),VLOOKUP(AN29,Answers!AK:AN,4,FALSE),\"Help!\"))","v":7},null,{"$f":"IF(AO29=\"\",\"\",AM29+IF(AO29=\"XX\",VLOOKUP(\"WRONG\",Answers!AK:AN,4,FALSE),AO29)+AP29)","v":59},{"$f":"IF($B29=\"\",\"\",0+UPPER(Mainframe!M28))","v":1000},{"$f":"IF(AR29=\"\",\"\",IF(NOT(ISNA(VLOOKUP(AR29,Answers!AO:AR,4,FALSE))),VLOOKUP(AR29,Answers!AO:AR,4,FALSE),\"Help!\"))","v":6},{"$f":"IF(AS29>500,-1000,0)","v":0},{"$f":"IF(AS29=\"\",\"\",AQ29+IF(AS29=\"XX\",VLOOKUP(\"WRONG\",Answers!AO:AR,4,FALSE),AS29)+AT29)","v":65},{"$f":"IF($B29=\"\",\"\",0+UPPER(Mainframe!N28))","v":5000},{"$f":"IF(AV29=\"\",\"\",IF(NOT(ISNA(VLOOKUP(AV29,Answers!AS:AV,4,FALSE))),VLOOKUP(AV29,Answers!AS:AV,4,FALSE),\"Help!\"))","v":9},null,{"$f":"IF(AW29=\"\",\"\",AU29+IF(AW29=\"XX\",VLOOKUP(\"WRONG\",Answers!AS:AV,4,FALSE),AW29)+AX29)","v":74},{"$f":"IF($B29=\"\",\"\",0+UPPER(Mainframe!O28))","v":123},365.47945205479454,1,{"$f":"IF($B29=\"\",\"\",LEFT(Mainframe!P28,SEARCH(\".\",Mainframe!P28)-1))","v":"11"},null,null,null,null,null,null,null,null,null,null,null,null,null,null,null,null,null,null,null,null,null,null,null,null,null,null,null,null,null,null,27,{"$f":"IF(INDEX($B:$CE,ROW(),QNO*4)=\"XX\",\"[b][u]\"&INDEX($B:$CE,ROW(),QNO*4-1)&\"[/u][/b]\",\"[color=#BF0040]\"&INDEX(OFFSET(Answers!C:C,0,(QNO-1)*4),MATCH(INDEX($A:$CB,ROW(),QNO*4),OFFSET(Answers!A:A,0,(QNO-1)*4),0))&\"[/color]//[b]\"&INDEX(OFFSET(Answers!B:B,0,(QNO-1)*4),MATCH(INDEX($A:$CB,ROW(),QNO*4),OFFSET(Answers!A:A,0,(QNO-1)*4),0))&\"[/b] — [b]\"&IF(INDEX($B:$CE,ROW(),QNO*4)=1,\"Singleton!\",CONCATENATE(INDEX($B:$CE,ROW(),QNO*4),\" responses\"))&\"[/b]\")","v":"[color=#BF0040]\"Blue (Da Ba Dee)\", \"Move Your Body\", \"Lucky (In My Life)\"[/color]//[b]EIFFEL [u]65[/u][/b] — [b]9 responses[/b]"},"BerneseMountainDogLover","Yes","27. BerneseMountainDogLover — [b]9[/b] pts",6,-21]
["[*]",{"$f":"IF(Mainframe!B29=\"\",\"\",INDEX(Mainframe!$B:$B,C30+1,1))","v":"CoachP"},28,{"$f":"IF($B30=\"\",\"\",0+UPPER(Mainframe!C29))","v":9},{"$f":"IF(D30=\"\",\"\",IF(NOT(ISNA(VLOOKUP(D30,Answers!A:D,4,FALSE))),VLOOKUP(D30,Answers!A:D,4,FALSE),\"Help!\"))","v":2},null,{"$f":"IF(E30=\"\",\"\",IF(E30=\"XX\",VLOOKUP(\"WRONG\",Answers!A:D,4,FALSE),E30)+F30)","v":2},{"$f":"IF($B30=\"\",\"\",0+UPPER(Mainframe!D29))","v":21},{"$f":"IF(H30=\"\",\"\",IF(NOT(ISNA(VLOOKUP(H30,Answers!E:H,4,FALSE))),VLOOKUP(H30,Answers!E:H,4,FALSE),\"Help!\"))","v":1000},null,{"$f":"IF(I30=\"\",\"\",G30+IF(I30=\"XX\",VLOOKUP(\"WRONG\",Answers!E:H,4,FALSE),I30)+J30)","v":1002},{"$f":"IF($B30=\"\",\"\",0+UPPER(Mainframe!E29))","v":300},{"$f":"IF(L30=\"\",\"\",IF(NOT(ISNA(VLOOKUP(L30,Answers!I:L,4,FALSE))),VLOOKUP(L30,Answers!I:L,4,FALSE),\"Help!\"))","v":11},null,{"$f":"IF(M30=\"\",\"\",K30+IF(M30=\"XX\",VLOOKUP(\"WRONG\",Answers!I:L,4,FALSE),M30)+N30)","v":1013},{"$f":"IF($B30=\"\",\"\",0+UPPER(Mainframe!F29))","v":2003},{"$f":"IF(P30=\"\",\"\",IF(NOT(ISNA(VLOOKUP(P30,Answers!M:P,4,FALSE))),VLOOKUP(P30,Answers!M:P,4,FALSE),\"Help!\"))","v":8},{"$f":"IF(Q30>500,-1000,0)","v":0},{"$f":"IF(Q30=\"\",\"\",O30+IF(Q30=\"XX\",VLOOKUP(\"WRONG\",Answers!M:P,4,FALSE),Q30)+R30)","v":1021},{"$f":"IF($B30=\"\",\"\",0+UPPER(Mainframe!G29))","v":11},{"$f":"IF(T30=\"\",\"\",IF(NOT(ISNA(VLOOKUP(T30,Answers!Q:T,4,FALSE))),VLOOKUP(T30,Answers!Q:T,4,FALSE),\"Help!\"))","v":4},null,{"$f":"IF(U30=\"\",\"\",S30+IF(U30=\"XX\",VLOOKUP(\"WRONG\",Answers!Q:T,4,FALSE),U30)+V30)","v":1025},{"$f":"IF($B30=\"\",\"\",0+UPPER(Mainframe!H29))","v":22},{"$f":"IF(X30=\"\",\"\",IF(NOT(ISNA(VLOOKUP(X30,Answers!U:X,4,FALSE))),VLOOKUP(X30,Answers!U:X,4,FALSE),\"Help!\"))","v":1000},null,{"$f":"IF(Y30=\"\",\"\",W30+IF(Y30=\"XX\",VLOOKUP(\"WRONG\",Answers!U:X,4,FALSE),Y30)+Z30)","v":2025},{"$f":"IF($B30=\"\",\"\",0+UPPER(Mainframe!I29))","v":6},{"$f":"IF(AB30=\"\",\"\",IF(NOT(ISNA(VLOOKUP(AB30,Answers!Y:AB,4,FALSE))),VLOOKUP(AB30,Answers!Y:AB,4,FALSE),\"Help!\"))","v":4},null,{"$f":"IF(AC30=\"\",\"\",AA30+IF(AC30=\"XX\",VLOOKUP(\"WRONG\",Answers!Y:AB,4,FALSE),AC30)+AD30)","v":2029},{"$f":"IF($B30=\"\",\"\",0+UPPER(Mainframe!J29))","v":202},{"$f":"IF(AF30=\"\",\"\",IF(NOT(ISNA(VLOOKUP(AF30,Answers!AC:AF,4,FALSE))),VLOOKUP(AF30,Answers!AC:AF,4,FALSE),\"Help!\"))","v":10},null,{"$f":"IF(AG30=\"\",\"\",AE30+IF(AG30=\"XX\",VLOOKUP(\"WRONG\",Answers!AC:AF,4,FALSE),AG30)+AH30)","v":2039},{"$f":"IF($B30=\"\",\"\",0+UPPER(Mainframe!K29))","v":84},{"$f":"IF(AJ30=\"\",\"\",IF(NOT(ISNA(VLOOKUP(AJ30,Answers!AG:AJ,4,FALSE))),VLOOKUP(AJ30,Answers!AG:AJ,4,FALSE),\"Help!\"))","v":1000},null,{"$f":"IF(AK30=\"\",\"\",AI30+IF(AK30=\"XX\",VLOOKUP(\"WRONG\",Answers!AG:AJ,4,FALSE),AK30)+AL30)","v":3039},{"$f":"IF($B30=\"\",\"\",0+UPPER(Mainframe!L29))","v":22},{"$f":"IF(AN30=\"\",\"\",IF(NOT(ISNA(VLOOKUP(AN30,Answers!AK:AN,4,FALSE))),VLOOKUP(AN30,Answers!AK:AN,4,FALSE),\"Help!\"))","v":6},null,{"$f":"IF(AO30=\"\",\"\",AM30+IF(AO30=\"XX\",VLOOKUP(\"WRONG\",Answers!AK:AN,4,FALSE),AO30)+AP30)","v":3045},{"$f":"IF($B30=\"\",\"\",0+UPPER(Mainframe!M29))","v":5},{"$f":"IF(AR30=\"\",\"\",IF(NOT(ISNA(VLOOKUP(AR30,Answers!AO:AR,4,FALSE))),VLOOKUP(AR30,Answers!AO:AR,4,FALSE),\"Help!\"))","v":1000},null,{"$f":"IF(AS30=\"\",\"\",AQ30+IF(AS30=\"XX\",VLOOKUP(\"WRONG\",Answers!AO:AR,4,FALSE),AS30)+AT30)","v":4045},{"$f":"IF($B30=\"\",\"\",0+UPPER(Mainframe!N29))","v":10},{"$f":"IF(AV30=\"\",\"\",IF(NOT(ISNA(VLOOKUP(AV30,Answers!AS:AV,4,FALSE))),VLOOKUP(AV30,Answers!AS:AV,4,FALSE),\"Help!\"))","v":1000},null,{"$f":"IF(AW30=\"\",\"\",AU30+IF(AW30=\"XX\",VLOOKUP(\"WRONG\",Answers!AS:AV,4,FALSE),AW30)+AX30)","v":5045},{"$f":"IF($B30=\"\",\"\",0+UPPER(Mainframe!O29))","v":500},11.520547945205465,1,{"$f":"IF($B30=\"\",\"\",LEFT(Mainframe!P29,SEARCH(\".\",Mainframe!P29)-1))","v":"4"},null,null,null,null,null,null,null,null,null,null,null,null,null,null,null,null,null,null,null,null,null,null,null,null,null,null,null,null,null,null,28,{"$f":"IF(INDEX($B:$CE,ROW(),QNO*4)=\"XX\",\"[b][u]\"&INDEX($B:$CE,ROW(),QNO*4-1)&\"[/u][/b]\",\"[color=#BF0040]\"&INDEX(OFFSET(Answers!C:C,0,(QNO-1)*4),MATCH(INDEX($A:$CB,ROW(),QNO*4),OFFSET(Answers!A:A,0,(QNO-1)*4),0))&\"[/color]//[b]\"&INDEX(OFFSET(Answers!B:B,0,(QNO-1)*4),MATCH(INDEX($A:$CB,ROW(),QNO*4),OFFSET(Answers!A:A,0,(QNO-1)*4),0))&\"[/b] — [b]\"&IF(INDEX($B:$CE,ROW(),QNO*4)=1,\"Singleton!\",CONCATENATE(INDEX($B:$CE,ROW(),QNO*4),\" responses\"))&\"[/b]\")","v":"[color=#BF0040]\"Down in It\", \"The Hand That Feeds\", \"Came Back Haunted\"[/color]//[b][u]NINE[/u] INCH NAILS[/b] — [b]2 responses[/b]"},"CoachP","Yes","28. CoachP — [b]2[/b] pts",61,33]
["[*]",{"$f":"IF(Mainframe!B30=\"\",\"\",INDEX(Mainframe!$B:$B,C31+1,1))","v":"BennyBXB"},29,{"$f":"IF($B31=\"\",\"\",0+UPPER(Mainframe!C30))","v":1},{"$f":"IF(D31=\"\",\"\",IF(NOT(ISNA(VLOOKUP(D31,Answers!A:D,4,FALSE))),VLOOKUP(D31,Answers!A:D,4,FALSE),\"Help!\"))","v":8},null,{"$f":"IF(E31=\"\",\"\",IF(E31=\"XX\",VLOOKUP(\"WRONG\",Answers!A:D,4,FALSE),E31)+F31)","v":8},{"$f":"IF($B31=\"\",\"\",0+UPPER(Mainframe!D30))","v":775},{"$f":"IF(H31=\"\",\"\",IF(NOT(ISNA(VLOOKUP(H31,Answers!E:H,4,FALSE))),VLOOKUP(H31,Answers!E:H,4,FALSE),\"Help!\"))","v":5},null,{"$f":"IF(I31=\"\",\"\",G31+IF(I31=\"XX\",VLOOKUP(\"WRONG\",Answers!E:H,4,FALSE),I31)+J31)","v":13},{"$f":"IF($B31=\"\",\"\",0+UPPER(Mainframe!E30))","v":300},{"$f":"IF(L31=\"\",\"\",IF(NOT(ISNA(VLOOKUP(L31,Answers!I:L,4,FALSE))),VLOOKUP(L31,Answers!I:L,4,FALSE),\"Help!\"))","v":11},null,{"$f":"IF(M31=\"\",\"\",K31+IF(M31=\"XX\",VLOOKUP(\"WRONG\",Answers!I:L,4,FALSE),M31)+N31)","v":24},{"$f":"IF($B31=\"\",\"\",0+UPPER(Mainframe!F30))","v":1942},"XX",null,{"$f":"IF(Q31=\"\",\"\",O31+IF(Q31=\"XX\",VLOOKUP(\"WRONG\",Answers!M:P,4,FALSE),Q31)+R31)","v":1031},{"$f":"IF($B31=\"\",\"\",0+UPPER(Mainframe!G30))","v":6},{"$f":"IF(T31=\"\",\"\",IF(NOT(ISNA(VLOOKUP(T31,Answers!Q:T,4,FALSE))),VLOOKUP(T31,Answers!Q:T,4,FALSE),\"Help!\"))","v":9},null,{"$f":"IF(U31=\"\",\"\",S31+IF(U31=\"XX\",VLOOKUP(\"WRONG\",Answers!Q:T,4,FALSE),U31)+V31)","v":1040},{"$f":"IF($B31=\"\",\"\",0+UPPER(Mainframe!H30))","v":66},"XX",null,{"$f":"IF(Y31=\"\",\"\",W31+IF(Y31=\"XX\",VLOOKUP(\"WRONG\",Answers!U:X,4,FALSE),Y31)+Z31)","v":2047},{"$f":"IF($B31=\"\",\"\",0+UPPER(Mainframe!I30))","v":525600},{"$f":"IF(AB31=\"\",\"\",IF(NOT(ISNA(VLOOKUP(AB31,Answers!Y:AB,4,FALSE))),VLOOKUP(AB31,Answers!Y:AB,4,FALSE),\"Help!\"))","v":5},null,{"$f":"IF(AC31=\"\",\"\",AA31+IF(AC31=\"XX\",VLOOKUP(\"WRONG\",Answers!Y:AB,4,FALSE),AC31)+AD31)","v":2052},{"$f":"IF($B31=\"\",\"\",0+UPPER(Mainframe!J30))","v":538},{"$f":"IF(AF31=\"\",\"\",IF(NOT(ISNA(VLOOKUP(AF31,Answers!AC:AF,4,FALSE))),VLOOKUP(AF31,Answers!AC:AF,4,FALSE),\"Help!\"))","v":4},null,{"$f":"IF(AG31=\"\",\"\",AE31+IF(AG31=\"XX\",VLOOKUP(\"WRONG\",Answers!AC:AF,4,FALSE),AG31)+AH31)","v":2056},{"$f":"IF($B31=\"\",\"\",0+UPPER(Mainframe!K30))","v":95},{"$f":"IF(AJ31=\"\",\"\",IF(NOT(ISNA(VLOOKUP(AJ31,Answers!AG:AJ,4,FALSE))),VLOOKUP(AJ31,Answers!AG:AJ,4,FALSE),\"Help!\"))","v":6},{"$f":"IF(AK31>500,-1000,0)","v":0},{"$f":"IF(AK31=\"\",\"\",AI31+IF(AK31=\"XX\",VLOOKUP(\"WRONG\",Answers!AG:AJ,4,FALSE),AK31)+AL31)","v":2062},{"$f":"IF($B31=\"\",\"\",0+UPPER(Mainframe!L30))","v":20},{"$f":"IF(AN31=\"\",\"\",IF(NOT(ISNA(VLOOKUP(AN31,Answers!AK:AN,4,FALSE))),VLOOKUP(AN31,Answers!AK:AN,4,FALSE),\"Help!\"))","v":3},null,{"$f":"IF(AO31=\"\",\"\",AM31+IF(AO31=\"XX\",VLOOKUP(\"WRONG\",Answers!AK:AN,4,FALSE),AO31)+AP31)","v":2065},{"$f":"IF($B31=\"\",\"\",0+UPPER(Mainframe!M30))","v":2},{"$f":"IF(AR31=\"\",\"\",IF(NOT(ISNA(VLOOKUP(AR31,Answers!AO:AR,4,FALSE))),VLOOKUP(AR31,Answers!AO:AR,4,FALSE),\"Help!\"))","v":4},null,{"$f":"IF(AS31=\"\",\"\",AQ31+IF(AS31=\"XX\",VLOOKUP(\"WRONG\",Answers!AO:AR,4,FALSE),AS31)+AT31)","v":2069},{"$f":"IF($B31=\"\",\"\",0+UPPER(Mainframe!N30))","v":10},{"$f":"IF(AV31=\"\",\"\",IF(NOT(ISNA(VLOOKUP(AV31,Answers!AS:AV,4,FALSE))),VLOOKUP(AV31,Answers!AS:AV,4,FALSE),\"Help!\"))","v":1000},null,{"$f":"IF(AW31=\"\",\"\",AU31+IF(AW31=\"XX\",VLOOKUP(\"WRONG\",Answers!AS:AV,4,FALSE),AW31)+AX31)","v":3069},{"$f":"IF($B31=\"\",\"\",0+UPPER(Mainframe!O30))","v":502},13.520547945205465,1,{"$f":"IF($B31=\"\",\"\",LEFT(Mainframe!P30,SEARCH(\".\",Mainframe!P30)-1))","v":"9"},null,null,null,null,null,null,null,null,null,null,null,null,null,null,null,null,null,null,null,null,null,null,null,null,null,null,null,null,null,null,29,{"$f":"IF(INDEX($B:$CE,ROW(),QNO*4)=\"XX\",\"[b][u]\"&INDEX($B:$CE,ROW(),QNO*4-1)&\"[/u][/b]\",\"[color=#BF0040]\"&INDEX(OFFSET(Answers!C:C,0,(QNO-1)*4),MATCH(INDEX($A:$CB,ROW(),QNO*4),OFFSET(Answers!A:A,0,(QNO-1)*4),0))&\"[/color]//[b]\"&INDEX(OFFSET(Answers!B:B,0,(QNO-1)*4),MATCH(INDEX($A:$CB,ROW(),QNO*4),OFFSET(Answers!A:A,0,(QNO-1)*4),0))&\"[/b] — [b]\"&IF(INDEX($B:$CE,ROW(),QNO*4)=1,\"Singleton!\",CONCATENATE(INDEX($B:$CE,ROW(),QNO*4),\" responses\"))&\"[/b]\")","v":"[color=#BF0040]\"What Makes You Beautiful\", \"Little Things\", \"Best Song Ever\"[/color]//[b][u]ONE[/u] DIRECTION[/b] — [b]8 responses[/b]"},"BennyBXB","Yes","29. BennyBXB — [b]8[/b] pts",43,14]
["[*]",{"$f":"IF(Mainframe!B31=\"\",\"\",INDEX(Mainframe!$B:$B,C32+1,1))","v":"Holocene Hero"},30,{"$f":"IF($B32=\"\",\"\",0+UPPER(Mainframe!C31))","v":65},{"$f":"IF(D32=\"\",\"\",IF(NOT(ISNA(VLOOKUP(D32,Answers!A:D,4,FALSE))),VLOOKUP(D32,Answers!A:D,4,FALSE),\"Help!\"))","v":9},null,{"$f":"IF(E32=\"\",\"\",IF(E32=\"XX\",VLOOKUP(\"WRONG\",Answers!A:D,4,FALSE),E32)+F32)","v":9},{"$f":"IF($B32=\"\",\"\",0+UPPER(Mainframe!D31))","v":775},{"$f":"IF(H32=\"\",\"\",IF(NOT(ISNA(VLOOKUP(H32,Answers!E:H,4,FALSE))),VLOOKUP(H32,Answers!E:H,4,FALSE),\"Help!\"))","v":5},null,{"$f":"IF(I32=\"\",\"\",G32+IF(I32=\"XX\",VLOOKUP(\"WRONG\",Answers!E:H,4,FALSE),I32)+J32)","v":14},{"$f":"IF($B32=\"\",\"\",0+UPPER(Mainframe!E31))","v":12},{"$f":"IF(L32=\"\",\"\",IF(NOT(ISNA(VLOOKUP(L32,Answers!I:L,4,FALSE))),VLOOKUP(L32,Answers!I:L,4,FALSE),\"Help!\"))","v":3},null,{"$f":"IF(M32=\"\",\"\",K32+IF(M32=\"XX\",VLOOKUP(\"WRONG\",Answers!I:L,4,FALSE),M32)+N32)","v":17},{"$f":"IF($B32=\"\",\"\",0+UPPER(Mainframe!F31))","v":1815},{"$f":"IF(P32=\"\",\"\",IF(NOT(ISNA(VLOOKUP(P32,Answers!M:P,4,FALSE))),VLOOKUP(P32,Answers!M:P,4,FALSE),\"Help!\"))","v":10},{"$f":"IF(Q32>500,-1000,0)","v":0},{"$f":"IF(Q32=\"\",\"\",O32+IF(Q32=\"XX\",VLOOKUP(\"WRONG\",Answers!M:P,4,FALSE),Q32)+R32)","v":27},{"$f":"IF($B32=\"\",\"\",0+UPPER(Mainframe!G31))","v":5},{"$f":"IF(T32=\"\",\"\",IF(NOT(ISNA(VLOOKUP(T32,Answers!Q:T,4,FALSE))),VLOOKUP(T32,Answers!Q:T,4,FALSE),\"Help!\"))","v":1000},null,{"$f":"IF(U32=\"\",\"\",S32+IF(U32=\"XX\",VLOOKUP(\"WRONG\",Answers!Q:T,4,FALSE),U32)+V32)","v":1027},{"$f":"IF($B32=\"\",\"\",0+UPPER(Mainframe!H31))","v":20000},"XX",null,{"$f":"IF(Y32=\"\",\"\",W32+IF(Y32=\"XX\",VLOOKUP(\"WRONG\",Answers!U:X,4,FALSE),Y32)+Z32)","v":2034},{"$f":"IF($B32=\"\",\"\",0+UPPER(Mainframe!I31))","v":20},{"$f":"IF(AB32=\"\",\"\",IF(NOT(ISNA(VLOOKUP(AB32,Answers!Y:AB,4,FALSE))),VLOOKUP(AB32,Answers!Y:AB,4,FALSE),\"Help!\"))","v":13},null,{"$f":"IF(AC32=\"\",\"\",AA32+IF(AC32=\"XX\",VLOOKUP(\"WRONG\",Answers!Y:AB,4,FALSE),AC32)+AD32)","v":2047},{"$f":"IF($B32=\"\",\"\",0+UPPER(Mainframe!J31))","v":18},{"$f":"IF(AF32=\"\",\"\",IF(NOT(ISNA(VLOOKUP(AF32,Answers!AC:AF,4,FALSE))),VLOOKUP(AF32,Answers!AC:AF,4,FALSE),\"Help!\"))","v":10},null,{"$f":"IF(AG32=\"\",\"\",AE32+IF(AG32=\"XX\",VLOOKUP(\"WRONG\",Answers!AC:AF,4,FALSE),AG32)+AH32)","v":2057},{"$f":"IF($B32=\"\",\"\",0+UPPER(Mainframe!K31))","v":95},{"$f":"IF(AJ32=\"\",\"\",IF(NOT(ISNA(VLOOKUP(AJ32,Answers!AG:AJ,4,FALSE))),VLOOKUP(AJ32,Answers!AG:AJ,4,FALSE),\"Help!\"))","v":6},null,{"$f":"IF(AK32=\"\",\"\",AI32+IF(AK32=\"XX\",VLOOKUP(\"WRONG\",Answers!AG:AJ,4,FALSE),AK32)+AL32)","v":2063},{"$f":"IF($B32=\"\",\"\",0+UPPER(Mainframe!L31))","v":76},{"$f":"IF(AN32=\"\",\"\",IF(NOT(ISNA(VLOOKUP(AN32,Answers!AK:AN,4,FALSE))),VLOOKUP(AN32,Answers!AK:AN,4,FALSE),\"Help!\"))","v":6},null,{"$f":"IF(AO32=\"\",\"\",AM32+IF(AO32=\"XX\",VLOOKUP(\"WRONG\",Answers!AK:AN,4,FALSE),AO32)+AP32)","v":2069},{"$f":"IF($B32=\"\",\"\",0+UPPER(Mainframe!M31))","v":50},{"$f":"IF(AR32=\"\",\"\",IF(NOT(ISNA(VLOOKUP(AR32,Answers!AO:AR,4,FALSE))),VLOOKUP(AR32,Answers!AO:AR,4,FALSE),\"Help!\"))","v":5},null,{"$f":"IF(AS32=\"\",\"\",AQ32+IF(AS32=\"XX\",VLOOKUP(\"WRONG\",Answers!AO:AR,4,FALSE),AS32)+AT32)","v":2074},{"$f":"IF($B32=\"\",\"\",0+UPPER(Mainframe!N31))","v":613},{"$f":"IF(AV32=\"\",\"\",IF(NOT(ISNA(VLOOKUP(AV32,Answers!AS:AV,4,FALSE))),VLOOKUP(AV32,Answers!AS:AV,4,FALSE),\"Help!\"))","v":4},null,{"$f":"IF(AW32=\"\",\"\",AU32+IF(AW32=\"XX\",VLOOKUP(\"WRONG\",Answers!AS:AV,4,FALSE),AW32)+AX32)","v":2078},{"$f":"IF($B32=\"\",\"\",0+UPPER(Mainframe!O31))","v":499},10.520547945205465,1,{"$f":"IF($B32=\"\",\"\",LEFT(Mainframe!P31,SEARCH(\".\",Mainframe!P31)-1))","v":"4"},null,null,null,null,null,null,null,null,null,null,null,null,null,null,null,null,null,null,null,null,null,null,null,null,null,null,null,null,null,null,30,{"$f":"IF(INDEX($B:$CE,ROW(),QNO*4)=\"XX\",\"[b][u]\"&INDEX($B:$CE,ROW(),QNO*4-1)&\"[/u][/b]\",\"[color=#BF0040]\"&INDEX(OFFSET(Answers!C:C,0,(QNO-1)*4),MATCH(INDEX($A:$CB,ROW(),QNO*4),OFFSET(Answers!A:A,0,(QNO-1)*4),0))&\"[/color]//[b]\"&INDEX(OFFSET(Answers!B:B,0,(QNO-1)*4),MATCH(INDEX($A:$CB,ROW(),QNO*4),OFFSET(Answers!A:A,0,(QNO-1)*4),0))&\"[/b] — [b]\"&IF(INDEX($B:$CE,ROW(),QNO*4)=1,\"Singleton!\",CONCATENATE(INDEX($B:$CE,ROW(),QNO*4),\" responses\"))&\"[/b]\")","v":"[color=#BF0040]\"Blue (Da Ba Dee)\", \"Move Your Body\", \"Lucky (In My Life)\"[/color]//[b]EIFFEL [u]65[/u][/b] — [b]9 responses[/b]"},"Holocene Hero","Yes","30. Holocene Hero — [b]9[/b] pts",29,-1]
["[*]",{"$f":"IF(Mainframe!B32=\"\",\"\",INDEX(Mainframe!$B:$B,C33+1,1))","v":"tjconn728"},31,{"$f":"IF($B33=\"\",\"\",0+UPPER(Mainframe!C32))","v":311},{"$f":"IF(D33=\"\",\"\",IF(NOT(ISNA(VLOOKUP(D33,Answers!A:D,4,FALSE))),VLOOKUP(D33,Answers!A:D,4,FALSE),\"Help!\"))","v":1},null,{"$f":"IF(E33=\"\",\"\",IF(E33=\"XX\",VLOOKUP(\"WRONG\",Answers!A:D,4,FALSE),E33)+F33)","v":1},{"$f":"IF($B33=\"\",\"\",0+UPPER(Mainframe!D32))","v":775},{"$f":"IF(H33=\"\",\"\",IF(NOT(ISNA(VLOOKUP(H33,Answers!E:H,4,FALSE))),VLOOKUP(H33,Answers!E:H,4,FALSE),\"Help!\"))","v":5},null,{"$f":"IF(I33=\"\",\"\",G33+IF(I33=\"XX\",VLOOKUP(\"WRONG\",Answers!E:H,4,FALSE),I33)+J33)","v":6},{"$f":"IF($B33=\"\",\"\",0+UPPER(Mainframe!E32))","v":10},{"$f":"IF(L33=\"\",\"\",IF(NOT(ISNA(VLOOKUP(L33,Answers!I:L,4,FALSE))),VLOOKUP(L33,Answers!I:L,4,FALSE),\"Help!\"))","v":10},null,{"$f":"IF(M33=\"\",\"\",K33+IF(M33=\"XX\",VLOOKUP(\"WRONG\",Answers!I:L,4,FALSE),M33)+N33)","v":16},{"$f":"IF($B33=\"\",\"\",0+UPPER(Mainframe!F32))","v":1861},{"$f":"IF(P33=\"\",\"\",IF(NOT(ISNA(VLOOKUP(P33,Answers!M:P,4,FALSE))),VLOOKUP(P33,Answers!M:P,4,FALSE),\"Help!\"))","v":1000},{"$f":"IF(Q33>500,-1000,0)","v":-1000},{"$f":"IF(Q33=\"\",\"\",O33+IF(Q33=\"XX\",VLOOKUP(\"WRONG\",Answers!M:P,4,FALSE),Q33)+R33)","v":16},{"$f":"IF($B33=\"\",\"\",0+UPPER(Mainframe!G32))","v":2},{"$f":"IF(T33=\"\",\"\",IF(NOT(ISNA(VLOOKUP(T33,Answers!Q:T,4,FALSE))),VLOOKUP(T33,Answers!Q:T,4,FALSE),\"Help!\"))","v":14},null,{"$f":"IF(U33=\"\",\"\",S33+IF(U33=\"XX\",VLOOKUP(\"WRONG\",Answers!Q:T,4,FALSE),U33)+V33)","v":30},{"$f":"IF($B33=\"\",\"\",0+UPPER(Mainframe!H32))","v":7},{"$f":"IF(X33=\"\",\"\",IF(NOT(ISNA(VLOOKUP(X33,Answers!U:X,4,FALSE))),VLOOKUP(X33,Answers!U:X,4,FALSE),\"Help!\"))","v":6},null,{"$f":"IF(Y33=\"\",\"\",W33+IF(Y33=\"XX\",VLOOKUP(\"WRONG\",Answers!U:X,4,FALSE),Y33)+Z33)","v":36},{"$f":"IF($B33=\"\",\"\",0+UPPER(Mainframe!I32))","v":20},{"$f":"IF(AB33=\"\",\"\",IF(NOT(ISNA(VLOOKUP(AB33,Answers!Y:AB,4,FALSE))),VLOOKUP(AB33,Answers!Y:AB,4,FALSE),\"Help!\"))","v":13},null,{"$f":"IF(AC33=\"\",\"\",AA33+IF(AC33=\"XX\",VLOOKUP(\"WRONG\",Answers!Y:AB,4,FALSE),AC33)+AD33)","v":49},{"$f":"IF($B33=\"\",\"\",0+UPPER(Mainframe!J32))","v":538},{"$f":"IF(AF33=\"\",\"\",IF(NOT(ISNA(VLOOKUP(AF33,Answers!AC:AF,4,FALSE))),VLOOKUP(AF33,Answers!AC:AF,4,FALSE),\"Help!\"))","v":4},null,{"$f":"IF(AG33=\"\",\"\",AE33+IF(AG33=\"XX\",VLOOKUP(\"WRONG\",Answers!AC:AF,4,FALSE),AG33)+AH33)","v":53},{"$f":"IF($B33=\"\",\"\",0+UPPER(Mainframe!K32))","v":99},{"$f":"IF(AJ33=\"\",\"\",IF(NOT(ISNA(VLOOKUP(AJ33,Answers!AG:AJ,4,FALSE))),VLOOKUP(AJ33,Answers!AG:AJ,4,FALSE),\"Help!\"))","v":2},null,{"$f":"IF(AK33=\"\",\"\",AI33+IF(AK33=\"XX\",VLOOKUP(\"WRONG\",Answers!AG:AJ,4,FALSE),AK33)+AL33)","v":55},{"$f":"IF($B33=\"\",\"\",0+UPPER(Mainframe!L32))","v":22},{"$f":"IF(AN33=\"\",\"\",IF(NOT(ISNA(VLOOKUP(AN33,Answers!AK:AN,4,FALSE))),VLOOKUP(AN33,Answers!AK:AN,4,FALSE),\"Help!\"))","v":6},null,{"$f":"IF(AO33=\"\",\"\",AM33+IF(AO33=\"XX\",VLOOKUP(\"WRONG\",Answers!AK:AN,4,FALSE),AO33)+AP33)","v":61},{"$f":"IF($B33=\"\",\"\",0+UPPER(Mainframe!M32))","v":50},{"$f":"IF(AR33=\"\",\"\",IF(NOT(ISNA(VLOOKUP(AR33,Answers!AO:AR,4,FALSE))),VLOOKUP(AR33,Answers!AO:AR,4,FALSE),\"Help!\"))","v":5},null,{"$f":"IF(AS33=\"\",\"\",AQ33+IF(AS33=\"XX\",VLOOKUP(\"WRONG\",Answers!AO:AR,4,FALSE),AS33)+AT33)","v":66},{"$f":"IF($B33=\"\",\"\",0+UPPER(Mainframe!N32))","v":10},{"$f":"IF(AV33=\"\",\"\",IF(NOT(ISNA(VLOOKUP(AV33,Answers!AS:AV,4,FALSE))),VLOOKUP(AV33,Answers!AS:AV,4,FALSE),\"Help!\"))","v":1000},null,{"$f":"IF(AW33=\"\",\"\",AU33+IF(AW33=\"XX\",VLOOKUP(\"WRONG\",Answers!AS:AV,4,FALSE),AW33)+AX33)","v":1066},{"$f":"IF($B33=\"\",\"\",0+UPPER(Mainframe!O32))","v":533},44.520547945205465,1,{"$f":"IF($B33=\"\",\"\",LEFT(Mainframe!P32,SEARCH(\".\",Mainframe!P32)-1))","v":"4"},null,null,null,null,null,null,null,null,null,null,null,null,null,null,null,null,null,null,null,null,null,null,null,null,null,null,null,null,null,null,31,{"$f":"IF(INDEX($B:$CE,ROW(),QNO*4)=\"XX\",\"[b][u]\"&INDEX($B:$CE,ROW(),QNO*4-1)&\"[/u][/b]\",\"[color=#BF0040]\"&INDEX(OFFSET(Answers!C:C,0,(QNO-1)*4),MATCH(INDEX($A:$CB,ROW(),QNO*4),OFFSET(Answers!A:A,0,(QNO-1)*4),0))&\"[/color]//[b]\"&INDEX(OFFSET(Answers!B:B,0,(QNO-1)*4),MATCH(INDEX($A:$CB,ROW(),QNO*4),OFFSET(Answers!A:A,0,(QNO-1)*4),0))&\"[/b] — [b]\"&IF(INDEX($B:$CE,ROW(),QNO*4)=1,\"Singleton!\",CONCATENATE(INDEX($B:$CE,ROW(),QNO*4),\" responses\"))&\"[/b]\")","v":"[color=#BF0040]\"Down\", \"Amber\", \"Sunset in July\"[/color]//[b][u]311[/u][/b] — [b]Singleton![/b]"},"tjconn728","Yes","31. tjconn728 — [b]1[/b] pts",14,-17]
["[*]",{"$f":"IF(Mainframe!B33=\"\",\"\",INDEX(Mainframe!$B:$B,C34+1,1))","v":"dhkendall"},32,{"$f":"IF($B34=\"\",\"\",0+UPPER(Mainframe!C33))","v":40},{"$f":"IF(D34=\"\",\"\",IF(NOT(ISNA(VLOOKUP(D34,Answers!A:D,4,FALSE))),VLOOKUP(D34,Answers!A:D,4,FALSE),\"Help!\"))","v":1000},null,{"$f":"IF(E34=\"\",\"\",IF(E34=\"XX\",VLOOKUP(\"WRONG\",Answers!A:D,4,FALSE),E34)+F34)","v":1000},{"$f":"IF($B34=\"\",\"\",0+UPPER(Mainframe!D33))","v":100},{"$f":"IF(H34=\"\",\"\",IF(NOT(ISNA(VLOOKUP(H34,Answers!E:H,4,FALSE))),VLOOKUP(H34,Answers!E:H,4,FALSE),\"Help!\"))","v":4},null,{"$f":"IF(I34=\"\",\"\",G34+IF(I34=\"XX\",VLOOKUP(\"WRONG\",Answers!E:H,4,FALSE),I34)+J34)","v":1004},{"$f":"IF($B34=\"\",\"\",0+UPPER(Mainframe!E33))","v":10},{"$f":"IF(L34=\"\",\"\",IF(NOT(ISNA(VLOOKUP(L34,Answers!I:L,4,FALSE))),VLOOKUP(L34,Answers!I:L,4,FALSE),\"Help!\"))","v":10},null,{"$f":"IF(M34=\"\",\"\",K34+IF(M34=\"XX\",VLOOKUP(\"WRONG\",Answers!I:L,4,FALSE),M34)+N34)","v":1014},{"$f":"IF($B34=\"\",\"\",0+UPPER(Mainframe!F33))","v":9},{"$f":"IF(P34=\"\",\"\",IF(NOT(ISNA(VLOOKUP(P34,Answers!M:P,4,FALSE))),VLOOKUP(P34,Answers!M:P,4,FALSE),\"Help!\"))","v":1},null,{"$f":"IF(Q34=\"\",\"\",O34+IF(Q34=\"XX\",VLOOKUP(\"WRONG\",Answers!M:P,4,FALSE),Q34)+R34)","v":1015},{"$f":"IF($B34=\"\",\"\",0+UPPER(Mainframe!G33))","v":6},{"$f":"IF(T34=\"\",\"\",IF(NOT(ISNA(VLOOKUP(T34,Answers!Q:T,4,FALSE))),VLOOKUP(T34,Answers!Q:T,4,FALSE),\"Help!\"))","v":9},null,{"$f":"IF(U34=\"\",\"\",S34+IF(U34=\"XX\",VLOOKUP(\"WRONG\",Answers!Q:T,4,FALSE),U34)+V34)","v":1024},{"$f":"IF($B34=\"\",\"\",0+UPPER(Mainframe!H33))","v":66},"XX",{"$f":"IF(Y34>500,-1000,0)","v":-1000},{"$f":"IF(Y34=\"\",\"\",W34+IF(Y34=\"XX\",VLOOKUP(\"WRONG\",Answers!U:X,4,FALSE),Y34)+Z34)","v":1031},{"$f":"IF($B34=\"\",\"\",0+UPPER(Mainframe!I33))","v":76},{"$f":"IF(AB34=\"\",\"\",IF(NOT(ISNA(VLOOKUP(AB34,Answers!Y:AB,4,FALSE))),VLOOKUP(AB34,Answers!Y:AB,4,FALSE),\"Help!\"))","v":1000},null,{"$f":"IF(AC34=\"\",\"\",AA34+IF(AC34=\"XX\",VLOOKUP(\"WRONG\",Answers!Y:AB,4,FALSE),AC34)+AD34)","v":2031},{"$f":"IF($B34=\"\",\"\",0+UPPER(Mainframe!J33))","v":202},{"$f":"IF(AF34=\"\",\"\",IF(NOT(ISNA(VLOOKUP(AF34,Answers!AC:AF,4,FALSE))),VLOOKUP(AF34,Answers!AC:AF,4,FALSE),\"Help!\"))","v":10},null,{"$f":"IF(AG34=\"\",\"\",AE34+IF(AG34=\"XX\",VLOOKUP(\"WRONG\",Answers!AC:AF,4,FALSE),AG34)+AH34)","v":2041},{"$f":"IF($B34=\"\",\"\",0+UPPER(Mainframe!K33))","v":35},{"$f":"IF(AJ34=\"\",\"\",IF(NOT(ISNA(VLOOKUP(AJ34,Answers!AG:AJ,4,FALSE))),VLOOKUP(AJ34,Answers!AG:AJ,4,FALSE),\"Help!\"))","v":8},null,{"$f":"IF(AK34=\"\",\"\",AI34+IF(AK34=\"XX\",VLOOKUP(\"WRONG\",Answers!AG:AJ,4,FALSE),AK34)+AL34)","v":2049},{"$f":"IF($B34=\"\",\"\",0+UPPER(Mainframe!L33))","v":42},{"$f":"IF(AN34=\"\",\"\",IF(NOT(ISNA(VLOOKUP(AN34,Answers!AK:AN,4,FALSE))),VLOOKUP(AN34,Answers!AK:AN,4,FALSE),\"Help!\"))","v":8},null,{"$f":"IF(AO34=\"\",\"\",AM34+IF(AO34=\"XX\",VLOOKUP(\"WRONG\",Answers!AK:AN,4,FALSE),AO34)+AP34)","v":2057},{"$f":"IF($B34=\"\",\"\",0+UPPER(Mainframe!M33))","v":40},{"$f":"IF(AR34=\"\",\"\",IF(NOT(ISNA(VLOOKUP(AR34,Answers!AO:AR,4,FALSE))),VLOOKUP(AR34,Answers!AO:AR,4,FALSE),\"Help!\"))","v":3},null,{"$f":"IF(AS34=\"\",\"\",AQ34+IF(AS34=\"XX\",VLOOKUP(\"WRONG\",Answers!AO:AR,4,FALSE),AS34)+AT34)","v":2060},{"$f":"IF($B34=\"\",\"\",0+UPPER(Mainframe!N33))","v":622},{"$f":"IF(AV34=\"\",\"\",IF(NOT(ISNA(VLOOKUP(AV34,Answers!AS:AV,4,FALSE))),VLOOKUP(AV34,Answers!AS:AV,4,FALSE),\"Help!\"))","v":4},null,{"$f":"IF(AW34=\"\",\"\",AU34+IF(AW34=\"XX\",VLOOKUP(\"WRONG\",Answers!AS:AV,4,FALSE),AW34)+AX34)","v":2064},{"$f":"IF($B34=\"\",\"\",0+UPPER(Mainframe!O33))","v":623},134.52054794520546,1,{"$f":"IF($B34=\"\",\"\",LEFT(Mainframe!P33,SEARCH(\".\",Mainframe!P33)-1))","v":"6"},null,null,null,null,null,null,null,null,null,null,null,null,null,null,null,null,null,null,null,null,null,null,null,null,null,null,null,null,null,null,32,{"$f":"IF(INDEX($B:$CE,ROW(),QNO*4)=\"XX\",\"[b][u]\"&INDEX($B:$CE,ROW(),QNO*4-1)&\"[/u][/b]\",\"[color=#BF0040]\"&INDEX(OFFSET(Answers!C:C,0,(QNO-1)*4),MATCH(INDEX($A:$CB,ROW(),QNO*4),OFFSET(Answers!A:A,0,(QNO-1)*4),0))&\"[/color]//[b]\"&INDEX(OFFSET(Answers!B:B,0,(QNO-1)*4),MATCH(INDEX($A:$CB,ROW(),QNO*4),OFFSET(Answers!A:A,0,(QNO-1)*4),0))&\"[/b] — [b]\"&IF(INDEX($B:$CE,ROW(),QNO*4)=1,\"Singleton!\",CONCATENATE(INDEX($B:$CE,ROW(),QNO*4),\" responses\"))&\"[/b]\")","v":"[color=#BF0040]\"King\", \"Red Red Wine\", \"(I Can't Help) Falling in Love With You\"[/color]//[b]UB[u]40[/u][/b] — [b]1000 responses[/b]"},"dhkendall//Rusty's in the club","Yes","32. dhkendall — [b]1,000[/b] pts",21,-11]
["[*]",{"$f":"IF(Mainframe!B34=\"\",\"\",INDEX(Mainframe!$B:$B,C35+1,1))","v":"Rusty's in the club"},33,{"$f":"IF($B35=\"\",\"\",0+UPPER(Mainframe!C34))","v":40},{"$f":"IF(D35=\"\",\"\",IF(NOT(ISNA(VLOOKUP(D35,Answers!A:D,4,FALSE))),VLOOKUP(D35,Answers!A:D,4,FALSE),\"Help!\"))","v":1000},null,{"$f":"IF(E35=\"\",\"\",IF(E35=\"XX\",VLOOKUP(\"WRONG\",Answers!A:D,4,FALSE),E35)+F35)","v":1000},{"$f":"IF($B35=\"\",\"\",0+UPPER(Mainframe!D34))","v":108},{"$f":"IF(H35=\"\",\"\",IF(NOT(ISNA(VLOOKUP(H35,Answers!E:H,4,FALSE))),VLOOKUP(H35,Answers!E:H,4,FALSE),\"Help!\"))","v":5},null,{"$f":"IF(I35=\"\",\"\",G35+IF(I35=\"XX\",VLOOKUP(\"WRONG\",Answers!E:H,4,FALSE),I35)+J35)","v":1005},{"$f":"IF($B35=\"\",\"\",0+UPPER(Mainframe!E34))","v":101},{"$f":"IF(L35=\"\",\"\",IF(NOT(ISNA(VLOOKUP(L35,Answers!I:L,4,FALSE))),VLOOKUP(L35,Answers!I:L,4,FALSE),\"Help!\"))","v":7},null,{"$f":"IF(M35=\"\",\"\",K35+IF(M35=\"XX\",VLOOKUP(\"WRONG\",Answers!I:L,4,FALSE),M35)+N35)","v":1012},{"$f":"IF($B35=\"\",\"\",0+UPPER(Mainframe!F34))","v":1964},{"$f":"IF(P35=\"\",\"\",IF(NOT(ISNA(VLOOKUP(P35,Answers!M:P,4,FALSE))),VLOOKUP(P35,Answers!M:P,4,FALSE),\"Help!\"))","v":3},null,{"$f":"IF(Q35=\"\",\"\",O35+IF(Q35=\"XX\",VLOOKUP(\"WRONG\",Answers!M:P,4,FALSE),Q35)+R35)","v":1015},{"$f":"IF($B35=\"\",\"\",0+UPPER(Mainframe!G34))","v":5},{"$f":"IF(T35=\"\",\"\",IF(NOT(ISNA(VLOOKUP(T35,Answers!Q:T,4,FALSE))),VLOOKUP(T35,Answers!Q:T,4,FALSE),\"Help!\"))","v":1000},null,{"$f":"IF(U35=\"\",\"\",S35+IF(U35=\"XX\",VLOOKUP(\"WRONG\",Answers!Q:T,4,FALSE),U35)+V35)","v":2015},{"$f":"IF($B35=\"\",\"\",0+UPPER(Mainframe!H34))","v":52},{"$f":"IF(X35=\"\",\"\",IF(NOT(ISNA(VLOOKUP(X35,Answers!U:X,4,FALSE))),VLOOKUP(X35,Answers!U:X,4,FALSE),\"Help!\"))","v":2},null,{"$f":"IF(Y35=\"\",\"\",W35+IF(Y35=\"XX\",VLOOKUP(\"WRONG\",Answers!U:X,4,FALSE),Y35)+Z35)","v":2017},{"$f":"IF($B35=\"\",\"\",0+UPPER(Mainframe!I34))","v":42},{"$f":"IF(AB35=\"\",\"\",IF(NOT(ISNA(VLOOKUP(AB35,Answers!Y:AB,4,FALSE))),VLOOKUP(AB35,Answers!Y:AB,4,FALSE),\"Help!\"))","v":13},null,{"$f":"IF(AC35=\"\",\"\",AA35+IF(AC35=\"XX\",VLOOKUP(\"WRONG\",Answers!Y:AB,4,FALSE),AC35)+AD35)","v":2030},{"$f":"IF($B35=\"\",\"\",0+UPPER(Mainframe!J34))","v":18},{"$f":"IF(AF35=\"\",\"\",IF(NOT(ISNA(VLOOKUP(AF35,Answers!AC:AF,4,FALSE))),VLOOKUP(AF35,Answers!AC:AF,4,FALSE),\"Help!\"))","v":10},null,{"$f":"IF(AG35=\"\",\"\",AE35+IF(AG35=\"XX\",VLOOKUP(\"WRONG\",Answers!AC:AF,4,FALSE),AG35)+AH35)","v":2040},{"$f":"IF($B35=\"\",\"\",0+UPPER(Mainframe!K34))","v":4},{"$f":"IF(AJ35=\"\",\"\",IF(NOT(ISNA(VLOOKUP(AJ35,Answers!AG:AJ,4,FALSE))),VLOOKUP(AJ35,Answers!AG:AJ,4,FALSE),\"Help!\"))","v":4},null,{"$f":"IF(AK35=\"\",\"\",AI35+IF(AK35=\"XX\",VLOOKUP(\"WRONG\",Answers!AG:AJ,4,FALSE),AK35)+AL35)","v":2044},{"$f":"IF($B35=\"\",\"\",0+UPPER(Mainframe!L34))","v":100},{"$f":"IF(AN35=\"\",\"\",IF(NOT(ISNA(VLOOKUP(AN35,Answers!AK:AN,4,FALSE))),VLOOKUP(AN35,Answers!AK:AN,4,FALSE),\"Help!\"))","v":4},null,{"$f":"IF(AO35=\"\",\"\",AM35+IF(AO35=\"XX\",VLOOKUP(\"WRONG\",Answers!AK:AN,4,FALSE),AO35)+AP35)","v":2048},{"$f":"IF($B35=\"\",\"\",0+UPPER(Mainframe!M34))","v":5},{"$f":"IF(AR35=\"\",\"\",IF(NOT(ISNA(VLOOKUP(AR35,Answers!AO:AR,4,FALSE))),VLOOKUP(AR35,Answers!AO:AR,4,FALSE),\"Help!\"))","v":1000},null,{"$f":"IF(AS35=\"\",\"\",AQ35+IF(AS35=\"XX\",VLOOKUP(\"WRONG\",Answers!AO:AR,4,FALSE),AS35)+AT35)","v":3048},{"$f":"IF($B35=\"\",\"\",0+UPPER(Mainframe!N34))","v":10},{"$f":"IF(AV35=\"\",\"\",IF(NOT(ISNA(VLOOKUP(AV35,Answers!AS:AV,4,FALSE))),VLOOKUP(AV35,Answers!AS:AV,4,FALSE),\"Help!\"))","v":1000},{"$f":"IF(AW35>500,-1000,0)","v":-1000},{"$f":"IF(AW35=\"\",\"\",AU35+IF(AW35=\"XX\",VLOOKUP(\"WRONG\",Answers!AS:AV,4,FALSE),AW35)+AX35)","v":3048},{"$f":"IF($B35=\"\",\"\",0+UPPER(Mainframe!O34))","v":495},{"$f":"IF(AZ35=\"\",\"\",ABS(AZ35-AVERAGE(AZ$3:AZ$101)))","v":6.5205479452054647},{"$f":"IF(BA35=\"\",\"\",COUNTA(F35,J35,N35,R35,V35,Z35,AD35,AH35,AL35,AP35,AT35,AX35))","v":1},{"$f":"IF($B35=\"\",\"\",LEFT(Mainframe!P34,SEARCH(\".\",Mainframe!P34)-1))","v":"12"},null,null,null,null,null,null,null,null,null,null,null,null,null,null,null,null,null,null,null,null,null,null,null,null,null,null,null,null,null,null,{"$f":"IF(B35=0,\"\",IF(INDEX($B:$CE,ROW(),1)=0,\"\",IF(INDEX($B:$CE,ROW(),4*QNO+2)=INDEX($B:$CE,ROW()-1,4*QNO+2),$CH34,ROW()-2)))","v":32},{"$f":"IF(INDEX($B:$CE,ROW(),QNO*4)=\"XX\",\"[b][u]\"&INDEX($B:$CE,ROW(),QNO*4-1)&\"[/u][/b]\",\"[color=#BF0040]\"&INDEX(OFFSET(Answers!C:C,0,(QNO-1)*4),MATCH(INDEX($A:$CB,ROW(),QNO*4),OFFSET(Answers!A:A,0,(QNO-1)*4),0))&\"[/color]//[b]\"&INDEX(OFFSET(Answers!B:B,0,(QNO-1)*4),MATCH(INDEX($A:$CB,ROW(),QNO*4),OFFSET(Answers!A:A,0,(QNO-1)*4),0))&\"[/b] — [b]\"&IF(INDEX($B:$CE,ROW(),QNO*4)=1,\"Singleton!\",CONCATENATE(INDEX($B:$CE,ROW(),QNO*4),\" responses\"))&\"[/b]\")","v":"[color=#BF0040]\"King\", \"Red Red Wine\", \"(I Can't Help) Falling in Love With You\"[/color]//[b]UB[u]40[/u][/b] — [b]1000 responses[/b]"},{"$f":"IF(INDEX($B:$CE,ROW(),1)=0,\"\",IF(INDEX($B:$CE,ROW(),QNO*4-1)=INDEX($B:$CE,ROW()+1,QNO*4-1),CONCATENATE(INDEX($B:$CE,ROW(),1),IF(BC35-0=QNO-0,\" [[b][color=#8000BF]FOX[/color][/b]]\",\"\"),\"//\",INDEX($CJ:$CJ,ROW()+1,1)),INDEX($B:$CE,ROW(),1)&IF(BC35-0=QNO-0,\" [[b][color=#8000BF]FOX[/color][/b]]\",\"\")))","v":"Rusty's in the club"},{"$f":"IF(INDEX($B:$CE,ROW(),1)=0,\"\",IF(ISNUMBER(SEARCH(\"//\",INDEX($CJ:$CJ,ROW()-1,1))),\"No\",\"Yes\"))","v":"No"},{"$f":"IF(B35=0,\"\",CONCATENATE(INDEX($CH:$CL,ROW(),1),\". \",INDEX($B:$CE,ROW(),1),\" — \")&IF(QNO=1,CONCATENATE(\"[b]\",TEXT(INDEX($B:$CE,ROW(),QNO*4+2),\"#,##0\"),\"[/b] pts\"),CONCATENATE(\"[color=#BBBBBB]\",TEXT(INDEX($B:$CE,ROW(),QNO*4-2),\"#,##0\"),\" + \",IF(INDEX($B:$CE,ROW(),QNO*4)=\"XX\",\"[/color][color=#BF8000][b]\"&TEXT(WRONGSCORE,\"#,##0\")&\"[/b][/color][color=#BBBBBB]\",IF(INDEX($B:$CE,ROW(),QNO*4)=1000,\"[/color][color=#BF8000][b]1,000[/b][/color][color=#BBBBBB]\",INDEX($B:$CE,ROW(),QNO*4))),IF(INDEX($C:$CE,ROW(),QNO*4)<0,\" [/color][b][color=#8000BF]- 1,000[/color][/b][color=#BBBBBB]\",\"\"),\" → [/color][b]\",TEXT(INDEX($B:$CE,ROW(),QNO*4+2),\"#,##0\"),\"[/b] pts \"&\"[[b]\"&IF(CN35>0,\"[color=#00BF00]↑\"&CN35,IF(CN35<0,\"[color=#FF0000]↓\"&ABS(CN35),\"[color=#0000FF]unch\"))&\"[/b][/color]]\")))","v":"32. Rusty's in the club — [b]1,000[/b] pts"},36,{"$f":"CM35-CH35","v":4}]
["[*]",{"$f":"IF(Mainframe!B35=\"\",\"\",INDEX(Mainframe!$B:$B,C36+1,1))","v":"groovitude"},34,{"$f":"IF($B36=\"\",\"\",0+UPPER(Mainframe!C35))","v":5000},{"$f":"IF(D36=\"\",\"\",IF(NOT(ISNA(VLOOKUP(D36,Answers!A:D,4,FALSE))),VLOOKUP(D36,Answers!A:D,4,FALSE),\"Help!\"))","v":5},null,{"$f":"IF(E36=\"\",\"\",IF(E36=\"XX\",VLOOKUP(\"WRONG\",Answers!A:D,4,FALSE),E36)+F36)","v":5},{"$f":"IF($B36=\"\",\"\",0+UPPER(Mainframe!D35))","v":21},{"$f":"IF(H36=\"\",\"\",IF(NOT(ISNA(VLOOKUP(H36,Answers!E:H,4,FALSE))),VLOOKUP(H36,Answers!E:H,4,FALSE),\"Help!\"))","v":1000},null,{"$f":"IF(I36=\"\",\"\",G36+IF(I36=\"XX\",VLOOKUP(\"WRONG\",Answers!E:H,4,FALSE),I36)+J36)","v":1005},{"$f":"IF($B36=\"\",\"\",0+UPPER(Mainframe!E35))","v":2001},{"$f":"IF(L36=\"\",\"\",IF(NOT(ISNA(VLOOKUP(L36,Answers!I:L,4,FALSE))),VLOOKUP(L36,Answers!I:L,4,FALSE),\"Help!\"))","v":6},{"$f":"IF(M36>500,-1000,0)","v":0},{"$f":"IF(M36=\"\",\"\",K36+IF(M36=\"XX\",VLOOKUP(\"WRONG\",Answers!I:L,4,FALSE),M36)+N36)","v":1011},{"$f":"IF($B36=\"\",\"\",0+UPPER(Mainframe!F35))","v":1861},{"$f":"IF(P36=\"\",\"\",IF(NOT(ISNA(VLOOKUP(P36,Answers!M:P,4,FALSE))),VLOOKUP(P36,Answers!M:P,4,FALSE),\"Help!\"))","v":1000},null,{"$f":"IF(Q36=\"\",\"\",O36+IF(Q36=\"XX\",VLOOKUP(\"WRONG\",Answers!M:P,4,FALSE),Q36)+R36)","v":2011},{"$f":"IF($B36=\"\",\"\",0+UPPER(Mainframe!G35))","v":5},{"$f":"IF(T36=\"\",\"\",IF(NOT(ISNA(VLOOKUP(T36,Answers!Q:T,4,FALSE))),VLOOKUP(T36,Answers!Q:T,4,FALSE),\"Help!\"))","v":1000},null,{"$f":"IF(U36=\"\",\"\",S36+IF(U36=\"XX\",VLOOKUP(\"WRONG\",Answers!Q:T,4,FALSE),U36)+V36)","v":3011},{"$f":"IF($B36=\"\",\"\",0+UPPER(Mainframe!H35))","v":4},{"$f":"IF(X36=\"\",\"\",IF(NOT(ISNA(VLOOKUP(X36,Answers!U:X,4,FALSE))),VLOOKUP(X36,Answers!U:X,4,FALSE),\"Help!\"))","v":6},null,{"$f":"IF(Y36=\"\",\"\",W36+IF(Y36=\"XX\",VLOOKUP(\"WRONG\",Answers!U:X,4,FALSE),Y36)+Z36)","v":3017},{"$f":"IF($B36=\"\",\"\",0+UPPER(Mainframe!I35))","v":20},{"$f":"IF(AB36=\"\",\"\",IF(NOT(ISNA(VLOOKUP(AB36,Answers!Y:AB,4,FALSE))),VLOOKUP(AB36,Answers!Y:AB,4,FALSE),\"Help!\"))","v":13},null,{"$f":"IF(AC36=\"\",\"\",AA36+IF(AC36=\"XX\",VLOOKUP(\"WRONG\",Answers!Y:AB,4,FALSE),AC36)+AD36)","v":3030},{"$f":"IF($B36=\"\",\"\",0+UPPER(Mainframe!J35))","v":1974},{"$f":"IF(AF36=\"\",\"\",IF(NOT(ISNA(VLOOKUP(AF36,Answers!AC:AF,4,FALSE))),VLOOKUP(AF36,Answers!AC:AF,4,FALSE),\"Help!\"))","v":8},null,{"$f":"IF(AG36=\"\",\"\",AE36+IF(AG36=\"XX\",VLOOKUP(\"WRONG\",Answers!AC:AF,4,FALSE),AG36)+AH36)","v":3038},{"$f":"IF($B36=\"\",\"\",0+UPPER(Mainframe!K35))","v":80},{"$f":"IF(AJ36=\"\",\"\",IF(NOT(ISNA(VLOOKUP(AJ36,Answers!AG:AJ,4,FALSE))),VLOOKUP(AJ36,Answers!AG:AJ,4,FALSE),\"Help!\"))","v":6},null,{"$f":"IF(AK36=\"\",\"\",AI36+IF(AK36=\"XX\",VLOOKUP(\"WRONG\",Answers!AG:AJ,4,FALSE),AK36)+AL36)","v":3044},{"$f":"IF($B36=\"\",\"\",0+UPPER(Mainframe!L35))","v":5},{"$f":"IF(AN36=\"\",\"\",IF(NOT(ISNA(VLOOKUP(AN36,Answers!AK:AN,4,FALSE))),VLOOKUP(AN36,Answers!AK:AN,4,FALSE),\"Help!\"))","v":7},null,{"$f":"IF(AO36=\"\",\"\",AM36+IF(AO36=\"XX\",VLOOKUP(\"WRONG\",Answers!AK:AN,4,FALSE),AO36)+AP36)","v":3051},{"$f":"IF($B36=\"\",\"\",0+UPPER(Mainframe!M35))","v":2},{"$f":"IF(AR36=\"\",\"\",IF(NOT(ISNA(VLOOKUP(AR36,Answers!AO:AR,4,FALSE))),VLOOKUP(AR36,Answers!AO:AR,4,FALSE),\"Help!\"))","v":4},null,{"$f":"IF(AS36=\"\",\"\",AQ36+IF(AS36=\"XX\",VLOOKUP(\"WRONG\",Answers!AO:AR,4,FALSE),AS36)+AT36)","v":3055},{"$f":"IF($B36=\"\",\"\",0+UPPER(Mainframe!N35))","v":4},{"$f":"IF(AV36=\"\",\"\",IF(NOT(ISNA(VLOOKUP(AV36,Answers!AS:AV,4,FALSE))),VLOOKUP(AV36,Answers!AS:AV,4,FALSE),\"Help!\"))","v":5},null,{"$f":"IF(AW36=\"\",\"\",AU36+IF(AW36=\"XX\",VLOOKUP(\"WRONG\",Answers!AS:AV,4,FALSE),AW36)+AX36)","v":3060},{"$f":"IF($B36=\"\",\"\",0+UPPER(Mainframe!O35))","v":438},50.479452054794535,1,{"$f":"IF($B36=\"\",\"\",LEFT(Mainframe!P35,SEARCH(\".\",Mainframe!P35)-1))","v":"3"},null,null,null,null,null,null,null,null,null,null,null,null,null,null,null,null,null,null,null,null,null,null,null,null,null,null,null,null,null,null,34,{"$f":"IF(INDEX($B:$CE,ROW(),QNO*4)=\"XX\",\"[b][u]\"&INDEX($B:$CE,ROW(),QNO*4-1)&\"[/u][/b]\",\"[color=#BF0040]\"&INDEX(OFFSET(Answers!C:C,0,(QNO-1)*4),MATCH(INDEX($A:$CB,ROW(),QNO*4),OFFSET(Answers!A:A,0,(QNO-1)*4),0))&\"[/color]//[b]\"&INDEX(OFFSET(Answers!B:B,0,(QNO-1)*4),MATCH(INDEX($A:$CB,ROW(),QNO*4),OFFSET(Answers!A:A,0,(QNO-1)*4),0))&\"[/b] — [b]\"&IF(INDEX($B:$CE,ROW(),QNO*4)=1,\"Singleton!\",CONCATENATE(INDEX($B:$CE,ROW(),QNO*4),\" responses\"))&\"[/b]\")","v":"[color=#BF0040]\"When Worlds Collide\", \"Free\", \"How To Be a Human\"[/color]//[b]POWERMAN [u]5000[/u][/b] — [b]5 responses[/b]"},"groovitude","Yes","34. groovitude — [b]5[/b] pts",38,4]
["[*]",{"$f":"IF(Mainframe!B36=\"\",\"\",INDEX(Mainframe!$B:$B,C37+1,1))","v":"cmp146"},35,{"$f":"IF($B37=\"\",\"\",0+UPPER(Mainframe!C36))","v":40},{"$f":"IF(D37=\"\",\"\",IF(NOT(ISNA(VLOOKUP(D37,Answers!A:D,4,FALSE))),VLOOKUP(D37,Answers!A:D,4,FALSE),\"Help!\"))","v":1000},null,{"$f":"IF(E37=\"\",\"\",IF(E37=\"XX\",VLOOKUP(\"WRONG\",Answers!A:D,4,FALSE),E37)+F37)","v":1000},{"$f":"IF($B37=\"\",\"\",0+UPPER(Mainframe!D36))","v":21},{"$f":"IF(H37=\"\",\"\",IF(NOT(ISNA(VLOOKUP(H37,Answers!E:H,4,FALSE))),VLOOKUP(H37,Answers!E:H,4,FALSE),\"Help!\"))","v":1000},null,{"$f":"IF(I37=\"\",\"\",G37+IF(I37=\"XX\",VLOOKUP(\"WRONG\",Answers!E:H,4,FALSE),I37)+J37)","v":2000},{"$f":"IF($B37=\"\",\"\",0+UPPER(Mainframe!E36))","v":10},{"$f":"IF(L37=\"\",\"\",IF(NOT(ISNA(VLOOKUP(L37,Answers!I:L,4,FALSE))),VLOOKUP(L37,Answers!I:L,4,FALSE),\"Help!\"))","v":10},null,{"$f":"IF(M37=\"\",\"\",K37+IF(M37=\"XX\",VLOOKUP(\"WRONG\",Answers!I:L,4,FALSE),M37)+N37)","v":2010},{"$f":"IF($B37=\"\",\"\",0+UPPER(Mainframe!F36))","v":1861},{"$f":"IF(P37=\"\",\"\",IF(NOT(ISNA(VLOOKUP(P37,Answers!M:P,4,FALSE))),VLOOKUP(P37,Answers!M:P,4,FALSE),\"Help!\"))","v":1000},null,{"$f":"IF(Q37=\"\",\"\",O37+IF(Q37=\"XX\",VLOOKUP(\"WRONG\",Answers!M:P,4,FALSE),Q37)+R37)","v":3010},{"$f":"IF($B37=\"\",\"\",0+UPPER(Mainframe!G36))","v":16},"XX",null,{"$f":"IF(U37=\"\",\"\",S37+IF(U37=\"XX\",VLOOKUP(\"WRONG\",Answers!Q:T,4,FALSE),U37)+V37)","v":4017},{"$f":"IF($B37=\"\",\"\",0+UPPER(Mainframe!H36))","v":4},{"$f":"IF(X37=\"\",\"\",IF(NOT(ISNA(VLOOKUP(X37,Answers!U:X,4,FALSE))),VLOOKUP(X37,Answers!U:X,4,FALSE),\"Help!\"))","v":6},null,{"$f":"IF(Y37=\"\",\"\",W37+IF(Y37=\"XX\",VLOOKUP(\"WRONG\",Answers!U:X,4,FALSE),Y37)+Z37)","v":4023},{"$f":"IF($B37=\"\",\"\",0+UPPER(Mainframe!I36))","v":11},{"$f":"IF(AB37=\"\",\"\",IF(NOT(ISNA(VLOOKUP(AB37,Answers!Y:AB,4,FALSE))),VLOOKUP(AB37,Answers!Y:AB,4,FALSE),\"Help!\"))","v":4},null,{"$f":"IF(AC37=\"\",\"\",AA37+IF(AC37=\"XX\",VLOOKUP(\"WRONG\",Answers!Y:AB,4,FALSE),AC37)+AD37)","v":4027},{"$f":"IF($B37=\"\",\"\",0+UPPER(Mainframe!J36))","v":18},{"$f":"IF(AF37=\"\",\"\",IF(NOT(ISNA(VLOOKUP(AF37,Answers!AC:AF,4,FALSE))),VLOOKUP(AF37,Answers!AC:AF,4,FALSE),\"Help!\"))","v":10},null,{"$f":"IF(AG37=\"\",\"\",AE37+IF(AG37=\"XX\",VLOOKUP(\"WRONG\",Answers!AC:AF,4,FALSE),AG37)+AH37)","v":4037},{"$f":"IF($B37=\"\",\"\",0+UPPER(Mainframe!K36))","v":76},{"$f":"IF(AJ37=\"\",\"\",IF(NOT(ISNA(VLOOKUP(AJ37,Answers!AG:AJ,4,FALSE))),VLOOKUP(AJ37,Answers!AG:AJ,4,FALSE),\"Help!\"))","v":4},null,{"$f":"IF(AK37=\"\",\"\",AI37+IF(AK37=\"XX\",VLOOKUP(\"WRONG\",Answers!AG:AJ,4,FALSE),AK37)+AL37)","v":4041},{"$f":"IF($B37=\"\",\"\",0+UPPER(Mainframe!L36))","v":49},{"$f":"IF(AN37=\"\",\"\",IF(NOT(ISNA(VLOOKUP(AN37,Answers!AK:AN,4,FALSE))),VLOOKUP(AN37,Answers!AK:AN,4,FALSE),\"Help!\"))","v":9},null,{"$f":"IF(AO37=\"\",\"\",AM37+IF(AO37=\"XX\",VLOOKUP(\"WRONG\",Answers!AK:AN,4,FALSE),AO37)+AP37)","v":4050},{"$f":"IF($B37=\"\",\"\",0+UPPER(Mainframe!M36))","v":6},{"$f":"IF(AR37=\"\",\"\",IF(NOT(ISNA(VLOOKUP(AR37,Answers!AO:AR,4,FALSE))),VLOOKUP(AR37,Answers!AO:AR,4,FALSE),\"Help!\"))","v":8},null,{"$f":"IF(AS37=\"\",\"\",AQ37+IF(AS37=\"XX\",VLOOKUP(\"WRONG\",Answers!AO:AR,4,FALSE),AS37)+AT37)","v":4058},{"$f":"IF($B37=\"\",\"\",0+UPPER(Mainframe!N36))","v":10},{"$f":"IF(AV37=\"\",\"\",IF(NOT(ISNA(VLOOKUP(AV37,Answers!AS:AV,4,FALSE))),VLOOKUP(AV37,Answers!AS:AV,4,FALSE),\"Help!\"))","v":1000},{"$f":"IF(AW37>500,-1000,0)","v":-1000},{"$f":"IF(AW37=\"\",\"\",AU37+IF(AW37=\"XX\",VLOOKUP(\"WRONG\",Answers!AS:AV,4,FALSE),AW37)+AX37)","v":4058},{"$f":"IF($B37=\"\",\"\",0+UPPER(Mainframe!O36))","v":502},13.520547945205465,1,{"$f":"IF($B37=\"\",\"\",LEFT(Mainframe!P36,SEARCH(\".\",Mainframe!P36)-1))","v":"12"},null,null,null,null,null,null,null,null,null,null,null,null,null,null,null,null,null,null,null,null,null,null,null,null,null,null,null,null,null,null,35,{"$f":"IF(INDEX($B:$CE,ROW(),QNO*4)=\"XX\",\"[b][u]\"&INDEX($B:$CE,ROW(),QNO*4-1)&\"[/u][/b]\",\"[color=#BF0040]\"&INDEX(OFFSET(Answers!C:C,0,(QNO-1)*4),MATCH(INDEX($A:$CB,ROW(),QNO*4),OFFSET(Answers!A:A,0,(QNO-1)*4),0))&\"[/color]//[b]\"&INDEX(OFFSET(Answers!B:B,0,(QNO-1)*4),MATCH(INDEX($A:$CB,ROW(),QNO*4),OFFSET(Answers!A:A,0,(QNO-1)*4),0))&\"[/b] — [b]\"&IF(INDEX($B:$CE,ROW(),QNO*4)=1,\"Singleton!\",CONCATENATE(INDEX($B:$CE,ROW(),QNO*4),\" responses\"))&\"[/b]\")","v":"[color=#BF0040]\"King\", \"Red Red Wine\", \"(I Can't Help) Falling in Love With You\"[/color]//[b]UB[u]40[/u][/b] — [b]1000 responses[/b]"},"cmp146","Yes","35. cmp146 — [b]1,000[/b] pts",53,18]
["[*]",{"$f":"IF(Mainframe!B37=\"\",\"\",INDEX(Mainframe!$B:$B,C38+1,1))","v":"psgola"},36,{"$f":"IF($B38=\"\",\"\",0+UPPER(Mainframe!C37))","v":5},{"$f":"IF(D38=\"\",\"\",IF(NOT(ISNA(VLOOKUP(D38,Answers!A:D,4,FALSE))),VLOOKUP(D38,Answers!A:D,4,FALSE),\"Help!\"))","v":5},{"$f":"IF(E38>500,-1000,0)","v":0},{"$f":"IF(E38=\"\",\"\",IF(E38=\"XX\",VLOOKUP(\"WRONG\",Answers!A:D,4,FALSE),E38)+F38)","v":5},{"$f":"IF($B38=\"\",\"\",0+UPPER(Mainframe!D37))","v":21},{"$f":"IF(H38=\"\",\"\",IF(NOT(ISNA(VLOOKUP(H38,Answers!E:H,4,FALSE))),VLOOKUP(H38,Answers!E:H,4,FALSE),\"Help!\"))","v":1000},null,{"$f":"IF(I38=\"\",\"\",G38+IF(I38=\"XX\",VLOOKUP(\"WRONG\",Answers!E:H,4,FALSE),I38)+J38)","v":1005},{"$f":"IF($B38=\"\",\"\",0+UPPER(Mainframe!E37))","v":300},{"$f":"IF(L38=\"\",\"\",IF(NOT(ISNA(VLOOKUP(L38,Answers!I:L,4,FALSE))),VLOOKUP(L38,Answers!I:L,4,FALSE),\"Help!\"))","v":11},null,{"$f":"IF(M38=\"\",\"\",K38+IF(M38=\"XX\",VLOOKUP(\"WRONG\",Answers!I:L,4,FALSE),M38)+N38)","v":1016},{"$f":"IF($B38=\"\",\"\",0+UPPER(Mainframe!F37))","v":2003},{"$f":"IF(P38=\"\",\"\",IF(NOT(ISNA(VLOOKUP(P38,Answers!M:P,4,FALSE))),VLOOKUP(P38,Answers!M:P,4,FALSE),\"Help!\"))","v":8},null,{"$f":"IF(Q38=\"\",\"\",O38+IF(Q38=\"XX\",VLOOKUP(\"WRONG\",Answers!M:P,4,FALSE),Q38)+R38)","v":1024},{"$f":"IF($B38=\"\",\"\",0+UPPER(Mainframe!G37))","v":5},{"$f":"IF(T38=\"\",\"\",IF(NOT(ISNA(VLOOKUP(T38,Answers!Q:T,4,FALSE))),VLOOKUP(T38,Answers!Q:T,4,FALSE),\"Help!\"))","v":1000},null,{"$f":"IF(U38=\"\",\"\",S38+IF(U38=\"XX\",VLOOKUP(\"WRONG\",Answers!Q:T,4,FALSE),U38)+V38)","v":2024},{"$f":"IF($B38=\"\",\"\",0+UPPER(Mainframe!H37))","v":22},{"$f":"IF(X38=\"\",\"\",IF(NOT(ISNA(VLOOKUP(X38,Answers!U:X,4,FALSE))),VLOOKUP(X38,Answers!U:X,4,FALSE),\"Help!\"))","v":1000},null,{"$f":"IF(Y38=\"\",\"\",W38+IF(Y38=\"XX\",VLOOKUP(\"WRONG\",Answers!U:X,4,FALSE),Y38)+Z38)","v":3024},{"$f":"IF($B38=\"\",\"\",0+UPPER(Mainframe!I37))","v":76},{"$f":"IF(AB38=\"\",\"\",IF(NOT(ISNA(VLOOKUP(AB38,Answers!Y:AB,4,FALSE))),VLOOKUP(AB38,Answers!Y:AB,4,FALSE),\"Help!\"))","v":1000},null,{"$f":"IF(AC38=\"\",\"\",AA38+IF(AC38=\"XX\",VLOOKUP(\"WRONG\",Answers!Y:AB,4,FALSE),AC38)+AD38)","v":4024},{"$f":"IF($B38=\"\",\"\",0+UPPER(Mainframe!J37))","v":538},{"$f":"IF(AF38=\"\",\"\",IF(NOT(ISNA(VLOOKUP(AF38,Answers!AC:AF,4,FALSE))),VLOOKUP(AF38,Answers!AC:AF,4,FALSE),\"Help!\"))","v":4},null,{"$f":"IF(AG38=\"\",\"\",AE38+IF(AG38=\"XX\",VLOOKUP(\"WRONG\",Answers!AC:AF,4,FALSE),AG38)+AH38)","v":4028},{"$f":"IF($B38=\"\",\"\",0+UPPER(Mainframe!K37))","v":5},{"$f":"IF(AJ38=\"\",\"\",IF(NOT(ISNA(VLOOKUP(AJ38,Answers!AG:AJ,4,FALSE))),VLOOKUP(AJ38,Answers!AG:AJ,4,FALSE),\"Help!\"))","v":9},null,{"$f":"IF(AK38=\"\",\"\",AI38+IF(AK38=\"XX\",VLOOKUP(\"WRONG\",Answers!AG:AJ,4,FALSE),AK38)+AL38)","v":4037},{"$f":"IF($B38=\"\",\"\",0+UPPER(Mainframe!L37))","v":67},{"$f":"IF(AN38=\"\",\"\",IF(NOT(ISNA(VLOOKUP(AN38,Answers!AK:AN,4,FALSE))),VLOOKUP(AN38,Answers!AK:AN,4,FALSE),\"Help!\"))","v":1000},null,{"$f":"IF(AO38=\"\",\"\",AM38+IF(AO38=\"XX\",VLOOKUP(\"WRONG\",Answers!AK:AN,4,FALSE),AO38)+AP38)","v":5037},{"$f":"IF($B38=\"\",\"\",0+UPPER(Mainframe!M37))","v":1000},{"$f":"IF(AR38=\"\",\"\",IF(NOT(ISNA(VLOOKUP(AR38,Answers!AO:AR,4,FALSE))),VLOOKUP(AR38,Answers!AO:AR,4,FALSE),\"Help!\"))","v":6},null,{"$f":"IF(AS38=\"\",\"\",AQ38+IF(AS38=\"XX\",VLOOKUP(\"WRONG\",Answers!AO:AR,4,FALSE),AS38)+AT38)","v":5043},{"$f":"IF($B38=\"\",\"\",0+UPPER(Mainframe!N37))","v":5000},{"$f":"IF(AV38=\"\",\"\",IF(NOT(ISNA(VLOOKUP(AV38,Answers!AS:AV,4,FALSE))),VLOOKUP(AV38,Answers!AS:AV,4,FALSE),\"Help!\"))","v":9},null,{"$f":"IF(AW38=\"\",\"\",AU38+IF(AW38=\"XX\",VLOOKUP(\"WRONG\",Answers!AS:AV,4,FALSE),AW38)+AX38)","v":5052},{"$f":"IF($B38=\"\",\"\",0+UPPER(Mainframe!O37))","v":365},123.47945205479454,1,{"$f":"IF($B38=\"\",\"\",LEFT(Mainframe!P37,SEARCH(\".\",Mainframe!P37)-1))","v":"1"},null,null,null,null,null,null,null,null,null,null,null,null,null,null,null,null,null,null,null,null,null,null,null,null,null,null,null,null,null,null,36,{"$f":"IF(INDEX($B:$CE,ROW(),QNO*4)=\"XX\",\"[b][u]\"&INDEX($B:$CE,ROW(),QNO*4-1)&\"[/u][/b]\",\"[color=#BF0040]\"&INDEX(OFFSET(Answers!C:C,0,(QNO-1)*4),MATCH(INDEX($A:$CB,ROW(),QNO*4),OFFSET(Answers!A:A,0,(QNO-1)*4),0))&\"[/color]//[b]\"&INDEX(OFFSET(Answers!B:B,0,(QNO-1)*4),MATCH(INDEX($A:$CB,ROW(),QNO*4),OFFSET(Answers!A:A,0,(QNO-1)*4),0))&\"[/b] — [b]\"&IF(INDEX($B:$CE,ROW(),QNO*4)=1,\"Singleton!\",CONCATENATE(INDEX($B:$CE,ROW(),QNO*4),\" responses\"))&\"[/b]\")","v":"[color=#BF0040]\"She Will Be Loved\", \"Makes Me Wonder\", \"Moves like Jagger\"[/color]//[b]MAROON [u]5[/u][/b] — [b]5 responses[/b]"},"psgola [[b][color=#8000BF]FOX[/color][/b]]","Yes","36. psgola — [b]5[/b] pts",63,27]
["[*]",{"$f":"IF(Mainframe!B38=\"\",\"\",INDEX(Mainframe!$B:$B,C39+1,1))","v":"mennoknight"},37,{"$f":"IF($B39=\"\",\"\",0+UPPER(Mainframe!C38))","v":10000},{"$f":"IF(D39=\"\",\"\",IF(NOT(ISNA(VLOOKUP(D39,Answers!A:D,4,FALSE))),VLOOKUP(D39,Answers!A:D,4,FALSE),\"Help!\"))","v":6},null,{"$f":"IF(E39=\"\",\"\",IF(E39=\"XX\",VLOOKUP(\"WRONG\",Answers!A:D,4,FALSE),E39)+F39)","v":6},{"$f":"IF($B39=\"\",\"\",0+UPPER(Mainframe!D38))","v":22},{"$f":"IF(H39=\"\",\"\",IF(NOT(ISNA(VLOOKUP(H39,Answers!E:H,4,FALSE))),VLOOKUP(H39,Answers!E:H,4,FALSE),\"Help!\"))","v":11},null,{"$f":"IF(I39=\"\",\"\",G39+IF(I39=\"XX\",VLOOKUP(\"WRONG\",Answers!E:H,4,FALSE),I39)+J39)","v":17},{"$f":"IF($B39=\"\",\"\",0+UPPER(Mainframe!E38))","v":300},{"$f":"IF(L39=\"\",\"\",IF(NOT(ISNA(VLOOKUP(L39,Answers!I:L,4,FALSE))),VLOOKUP(L39,Answers!I:L,4,FALSE),\"Help!\"))","v":11},null,{"$f":"IF(M39=\"\",\"\",K39+IF(M39=\"XX\",VLOOKUP(\"WRONG\",Answers!I:L,4,FALSE),M39)+N39)","v":28},{"$f":"IF($B39=\"\",\"\",0+UPPER(Mainframe!F38))","v":1964},{"$f":"IF(P39=\"\",\"\",IF(NOT(ISNA(VLOOKUP(P39,Answers!M:P,4,FALSE))),VLOOKUP(P39,Answers!M:P,4,FALSE),\"Help!\"))","v":3},{"$f":"IF(Q39>500,-1000,0)","v":0},{"$f":"IF(Q39=\"\",\"\",O39+IF(Q39=\"XX\",VLOOKUP(\"WRONG\",Answers!M:P,4,FALSE),Q39)+R39)","v":31},{"$f":"IF($B39=\"\",\"\",0+UPPER(Mainframe!G38))","v":8},{"$f":"IF(T39=\"\",\"\",IF(NOT(ISNA(VLOOKUP(T39,Answers!Q:T,4,FALSE))),VLOOKUP(T39,Answers!Q:T,4,FALSE),\"Help!\"))","v":6},null,{"$f":"IF(U39=\"\",\"\",S39+IF(U39=\"XX\",VLOOKUP(\"WRONG\",Answers!Q:T,4,FALSE),U39)+V39)","v":37},{"$f":"IF($B39=\"\",\"\",0+UPPER(Mainframe!H38))","v":66},"XX",null,{"$f":"IF(Y39=\"\",\"\",W39+IF(Y39=\"XX\",VLOOKUP(\"WRONG\",Answers!U:X,4,FALSE),Y39)+Z39)","v":1044},{"$f":"IF($B39=\"\",\"\",0+UPPER(Mainframe!I38))","v":76},{"$f":"IF(AB39=\"\",\"\",IF(NOT(ISNA(VLOOKUP(AB39,Answers!Y:AB,4,FALSE))),VLOOKUP(AB39,Answers!Y:AB,4,FALSE),\"Help!\"))","v":1000},null,{"$f":"IF(AC39=\"\",\"\",AA39+IF(AC39=\"XX\",VLOOKUP(\"WRONG\",Answers!Y:AB,4,FALSE),AC39)+AD39)","v":2044},{"$f":"IF($B39=\"\",\"\",0+UPPER(Mainframe!J38))","v":9},{"$f":"IF(AF39=\"\",\"\",IF(NOT(ISNA(VLOOKUP(AF39,Answers!AC:AF,4,FALSE))),VLOOKUP(AF39,Answers!AC:AF,4,FALSE),\"Help!\"))","v":1000},null,{"$f":"IF(AG39=\"\",\"\",AE39+IF(AG39=\"XX\",VLOOKUP(\"WRONG\",Answers!AC:AF,4,FALSE),AG39)+AH39)","v":3044},{"$f":"IF($B39=\"\",\"\",0+UPPER(Mainframe!K38))","v":5},{"$f":"IF(AJ39=\"\",\"\",IF(NOT(ISNA(VLOOKUP(AJ39,Answers!AG:AJ,4,FALSE))),VLOOKUP(AJ39,Answers!AG:AJ,4,FALSE),\"Help!\"))","v":9},null,{"$f":"IF(AK39=\"\",\"\",AI39+IF(AK39=\"XX\",VLOOKUP(\"WRONG\",Answers!AG:AJ,4,FALSE),AK39)+AL39)","v":3053},{"$f":"IF($B39=\"\",\"\",0+UPPER(Mainframe!L38))","v":60},{"$f":"IF(AN39=\"\",\"\",IF(NOT(ISNA(VLOOKUP(AN39,Answers!AK:AN,4,FALSE))),VLOOKUP(AN39,Answers!AK:AN,4,FALSE),\"Help!\"))","v":4},null,{"$f":"IF(AO39=\"\",\"\",AM39+IF(AO39=\"XX\",VLOOKUP(\"WRONG\",Answers!AK:AN,4,FALSE),AO39)+AP39)","v":3057},{"$f":"IF($B39=\"\",\"\",0+UPPER(Mainframe!M38))","v":6},{"$f":"IF(AR39=\"\",\"\",IF(NOT(ISNA(VLOOKUP(AR39,Answers!AO:AR,4,FALSE))),VLOOKUP(AR39,Answers!AO:AR,4,FALSE),\"Help!\"))","v":8},null,{"$f":"IF(AS39=\"\",\"\",AQ39+IF(AS39=\"XX\",VLOOKUP(\"WRONG\",Answers!AO:AR,4,FALSE),AS39)+AT39)","v":3065},{"$f":"IF($B39=\"\",\"\",0+UPPER(Mainframe!N38))","v":40},{"$f":"IF(AV39=\"\",\"\",IF(NOT(ISNA(VLOOKUP(AV39,Answers!AS:AV,4,FALSE))),VLOOKUP(AV39,Answers!AS:AV,4,FALSE),\"Help!\"))","v":4},null,{"$f":"IF(AW39=\"\",\"\",AU39+IF(AW39=\"XX\",VLOOKUP(\"WRONG\",Answers!AS:AV,4,FALSE),AW39)+AX39)","v":3069},{"$f":"IF($B39=\"\",\"\",0+UPPER(Mainframe!O38))","v":500},11.520547945205465,1,{"$f":"IF($B39=\"\",\"\",LEFT(Mainframe!P38,SEARCH(\".\",Mainframe!P38)-1))","v":"4"},null,null,null,null,null,null,null,null,null,null,null,null,null,null,null,null,null,null,null,null,null,null,null,null,null,null,null,null,null,null,37,{"$f":"IF(INDEX($B:$CE,ROW(),QNO*4)=\"XX\",\"[b][u]\"&INDEX($B:$CE,ROW(),QNO*4-1)&\"[/u][/b]\",\"[color=#BF0040]\"&INDEX(OFFSET(Answers!C:C,0,(QNO-1)*4),MATCH(INDEX($A:$CB,ROW(),QNO*4),OFFSET(Answers!A:A,0,(QNO-1)*4),0))&\"[/color]//[b]\"&INDEX(OFFSET(Answers!B:B,0,(QNO-1)*4),MATCH(INDEX($A:$CB,ROW(),QNO*4),OFFSET(Answers!A:A,0,(QNO-1)*4),0))&\"[/b] — [b]\"&IF(INDEX($B:$CE,ROW(),QNO*4)=1,\"Singleton!\",CONCATENATE(INDEX($B:$CE,ROW(),QNO*4),\" responses\"))&\"[/b]\")","v":"[color=#BF0040]\"What's the Matter Here?\", \"Trouble Me\", \"Because the Night\" (on [i]MTV Unplugged[/i])[/color]//[b][u]10,000[/u] MANIACS[/b] — [b]6 responses[/b]"},"mennoknight","Yes","37. mennoknight — [b]6[/b] pts",43,6]
["[*]",{"$f":"IF(Mainframe!B39=\"\",\"\",INDEX(Mainframe!$B:$B,C40+1,1))","v":"econgator"},38,{"$f":"IF($B40=\"\",\"\",0+UPPER(Mainframe!C39))","v":3},{"$f":"IF(D40=\"\",\"\",IF(NOT(ISNA(VLOOKUP(D40,Answers!A:D,4,FALSE))),VLOOKUP(D40,Answers!A:D,4,FALSE),\"Help!\"))","v":11},null,{"$f":"IF(E40=\"\",\"\",IF(E40=\"XX\",VLOOKUP(\"WRONG\",Answers!A:D,4,FALSE),E40)+F40)","v":11},{"$f":"IF($B40=\"\",\"\",0+UPPER(Mainframe!D39))","v":121},{"$f":"IF(H40=\"\",\"\",IF(NOT(ISNA(VLOOKUP(H40,Answers!E:H,4,FALSE))),VLOOKUP(H40,Answers!E:H,4,FALSE),\"Help!\"))","v":8},null,{"$f":"IF(I40=\"\",\"\",G40+IF(I40=\"XX\",VLOOKUP(\"WRONG\",Answers!E:H,4,FALSE),I40)+J40)","v":19},{"$f":"IF($B40=\"\",\"\",0+UPPER(Mainframe!E39))","v":101},{"$f":"IF(L40=\"\",\"\",IF(NOT(ISNA(VLOOKUP(L40,Answers!I:L,4,FALSE))),VLOOKUP(L40,Answers!I:L,4,FALSE),\"Help!\"))","v":7},null,{"$f":"IF(M40=\"\",\"\",K40+IF(M40=\"XX\",VLOOKUP(\"WRONG\",Answers!I:L,4,FALSE),M40)+N40)","v":26},{"$f":"IF($B40=\"\",\"\",0+UPPER(Mainframe!F39))","v":1066},{"$f":"IF(P40=\"\",\"\",IF(NOT(ISNA(VLOOKUP(P40,Answers!M:P,4,FALSE))),VLOOKUP(P40,Answers!M:P,4,FALSE),\"Help!\"))","v":2},null,{"$f":"IF(Q40=\"\",\"\",O40+IF(Q40=\"XX\",VLOOKUP(\"WRONG\",Answers!M:P,4,FALSE),Q40)+R40)","v":28},{"$f":"IF($B40=\"\",\"\",0+UPPER(Mainframe!G39))","v":92},{"$f":"IF(T40=\"\",\"\",IF(NOT(ISNA(VLOOKUP(T40,Answers!Q:T,4,FALSE))),VLOOKUP(T40,Answers!Q:T,4,FALSE),\"Help!\"))","v":3},null,{"$f":"IF(U40=\"\",\"\",S40+IF(U40=\"XX\",VLOOKUP(\"WRONG\",Answers!Q:T,4,FALSE),U40)+V40)","v":31},{"$f":"IF($B40=\"\",\"\",0+UPPER(Mainframe!H39))","v":451},{"$f":"IF(X40=\"\",\"\",IF(NOT(ISNA(VLOOKUP(X40,Answers!U:X,4,FALSE))),VLOOKUP(X40,Answers!U:X,4,FALSE),\"Help!\"))","v":8},null,{"$f":"IF(Y40=\"\",\"\",W40+IF(Y40=\"XX\",VLOOKUP(\"WRONG\",Answers!U:X,4,FALSE),Y40)+Z40)","v":39},{"$f":"IF($B40=\"\",\"\",0+UPPER(Mainframe!I39))","v":8},{"$f":"IF(AB40=\"\",\"\",IF(NOT(ISNA(VLOOKUP(AB40,Answers!Y:AB,4,FALSE))),VLOOKUP(AB40,Answers!Y:AB,4,FALSE),\"Help!\"))","v":2},null,{"$f":"IF(AC40=\"\",\"\",AA40+IF(AC40=\"XX\",VLOOKUP(\"WRONG\",Answers!Y:AB,4,FALSE),AC40)+AD40)","v":41},{"$f":"IF($B40=\"\",\"\",0+UPPER(Mainframe!J39))","v":49},{"$f":"IF(AF40=\"\",\"\",IF(NOT(ISNA(VLOOKUP(AF40,Answers!AC:AF,4,FALSE))),VLOOKUP(AF40,Answers!AC:AF,4,FALSE),\"Help!\"))","v":10},null,{"$f":"IF(AG40=\"\",\"\",AE40+IF(AG40=\"XX\",VLOOKUP(\"WRONG\",Answers!AC:AF,4,FALSE),AG40)+AH40)","v":51},{"$f":"IF($B40=\"\",\"\",0+UPPER(Mainframe!K39))","v":75},{"$f":"IF(AJ40=\"\",\"\",IF(NOT(ISNA(VLOOKUP(AJ40,Answers!AG:AJ,4,FALSE))),VLOOKUP(AJ40,Answers!AG:AJ,4,FALSE),\"Help!\"))","v":4},null,{"$f":"IF(AK40=\"\",\"\",AI40+IF(AK40=\"XX\",VLOOKUP(\"WRONG\",Answers!AG:AJ,4,FALSE),AK40)+AL40)","v":55},{"$f":"IF($B40=\"\",\"\",0+UPPER(Mainframe!L39))","v":5},{"$f":"IF(AN40=\"\",\"\",IF(NOT(ISNA(VLOOKUP(AN40,Answers!AK:AN,4,FALSE))),VLOOKUP(AN40,Answers!AK:AN,4,FALSE),\"Help!\"))","v":7},null,{"$f":"IF(AO40=\"\",\"\",AM40+IF(AO40=\"XX\",VLOOKUP(\"WRONG\",Answers!AK:AN,4,FALSE),AO40)+AP40)","v":62},{"$f":"IF($B40=\"\",\"\",0+UPPER(Mainframe!M39))","v":1000000},{"$f":"IF(AR40=\"\",\"\",IF(NOT(ISNA(VLOOKUP(AR40,Answers!AO:AR,4,FALSE))),VLOOKUP(AR40,Answers!AO:AR,4,FALSE),\"Help!\"))","v":1},null,{"$f":"IF(AS40=\"\",\"\",AQ40+IF(AS40=\"XX\",VLOOKUP(\"WRONG\",Answers!AO:AR,4,FALSE),AS40)+AT40)","v":63},{"$f":"IF($B40=\"\",\"\",0+UPPER(Mainframe!N39))","v":666},{"$f":"IF(AV40=\"\",\"\",IF(NOT(ISNA(VLOOKUP(AV40,Answers!AS:AV,4,FALSE))),VLOOKUP(AV40,Answers!AS:AV,4,FALSE),\"Help!\"))","v":5},{"$f":"IF(AW40>500,-1000,0)","v":0},{"$f":"IF(AW40=\"\",\"\",AU40+IF(AW40=\"XX\",VLOOKUP(\"WRONG\",Answers!AS:AV,4,FALSE),AW40)+AX40)","v":68},{"$f":"IF($B40=\"\",\"\",0+UPPER(Mainframe!O39))","v":295},193.47945205479454,1,{"$f":"IF($B40=\"\",\"\",LEFT(Mainframe!P39,SEARCH(\".\",Mainframe!P39)-1))","v":"12"},null,null,null,null,null,null,null,null,null,null,null,null,null,null,null,null,null,null,null,null,null,null,null,null,null,null,null,null,null,null,38,{"$f":"IF(INDEX($B:$CE,ROW(),QNO*4)=\"XX\",\"[b][u]\"&INDEX($B:$CE,ROW(),QNO*4-1)&\"[/u][/b]\",\"[color=#BF0040]\"&INDEX(OFFSET(Answers!C:C,0,(QNO-1)*4),MATCH(INDEX($A:$CB,ROW(),QNO*4),OFFSET(Answers!A:A,0,(QNO-1)*4),0))&\"[/color]//[b]\"&INDEX(OFFSET(Answers!B:B,0,(QNO-1)*4),MATCH(INDEX($A:$CB,ROW(),QNO*4),OFFSET(Answers!A:A,0,(QNO-1)*4),0))&\"[/b] — [b]\"&IF(INDEX($B:$CE,ROW(),QNO*4)=1,\"Singleton!\",CONCATENATE(INDEX($B:$CE,ROW(),QNO*4),\" responses\"))&\"[/b]\")","v":"[color=#BF0040]\"Mama Told Me (Not to Come)\", \"Joy to the World\", \"Black and White\"[/color]//[b][u]THREE[/u] DOG NIGHT[/b] — [b]11 responses[/b]"},"econgator","Yes","38. econgator — [b]11[/b] pts",4,-34]
["[*]",{"$f":"IF(Mainframe!B40=\"\",\"\",INDEX(Mainframe!$B:$B,C41+1,1))","v":"Caboom"},39,{"$f":"IF($B41=\"\",\"\",0+UPPER(Mainframe!C40))","v":1},{"$f":"IF(D41=\"\",\"\",IF(NOT(ISNA(VLOOKUP(D41,Answers!A:D,4,FALSE))),VLOOKUP(D41,Answers!A:D,4,FALSE),\"Help!\"))","v":8},null,{"$f":"IF(E41=\"\",\"\",IF(E41=\"XX\",VLOOKUP(\"WRONG\",Answers!A:D,4,FALSE),E41)+F41)","v":8},{"$f":"IF($B41=\"\",\"\",0+UPPER(Mainframe!D40))","v":21},{"$f":"IF(H41=\"\",\"\",IF(NOT(ISNA(VLOOKUP(H41,Answers!E:H,4,FALSE))),VLOOKUP(H41,Answers!E:H,4,FALSE),\"Help!\"))","v":1000},null,{"$f":"IF(I41=\"\",\"\",G41+IF(I41=\"XX\",VLOOKUP(\"WRONG\",Answers!E:H,4,FALSE),I41)+J41)","v":1008},{"$f":"IF($B41=\"\",\"\",0+UPPER(Mainframe!E40))","v":300},{"$f":"IF(L41=\"\",\"\",IF(NOT(ISNA(VLOOKUP(L41,Answers!I:L,4,FALSE))),VLOOKUP(L41,Answers!I:L,4,FALSE),\"Help!\"))","v":11},null,{"$f":"IF(M41=\"\",\"\",K41+IF(M41=\"XX\",VLOOKUP(\"WRONG\",Answers!I:L,4,FALSE),M41)+N41)","v":1019},{"$f":"IF($B41=\"\",\"\",0+UPPER(Mainframe!F40))","v":1815},{"$f":"IF(P41=\"\",\"\",IF(NOT(ISNA(VLOOKUP(P41,Answers!M:P,4,FALSE))),VLOOKUP(P41,Answers!M:P,4,FALSE),\"Help!\"))","v":10},null,{"$f":"IF(Q41=\"\",\"\",O41+IF(Q41=\"XX\",VLOOKUP(\"WRONG\",Answers!M:P,4,FALSE),Q41)+R41)","v":1029},{"$f":"IF($B41=\"\",\"\",0+UPPER(Mainframe!G40))","v":106},{"$f":"IF(T41=\"\",\"\",IF(NOT(ISNA(VLOOKUP(T41,Answers!Q:T,4,FALSE))),VLOOKUP(T41,Answers!Q:T,4,FALSE),\"Help!\"))","v":2},null,{"$f":"IF(U41=\"\",\"\",S41+IF(U41=\"XX\",VLOOKUP(\"WRONG\",Answers!Q:T,4,FALSE),U41)+V41)","v":1031},{"$f":"IF($B41=\"\",\"\",0+UPPER(Mainframe!H40))","v":22},{"$f":"IF(X41=\"\",\"\",IF(NOT(ISNA(VLOOKUP(X41,Answers!U:X,4,FALSE))),VLOOKUP(X41,Answers!U:X,4,FALSE),\"Help!\"))","v":1000},null,{"$f":"IF(Y41=\"\",\"\",W41+IF(Y41=\"XX\",VLOOKUP(\"WRONG\",Answers!U:X,4,FALSE),Y41)+Z41)","v":2031},{"$f":"IF($B41=\"\",\"\",0+UPPER(Mainframe!I40))","v":16},"XX",null,{"$f":"IF(AC41=\"\",\"\",AA41+IF(AC41=\"XX\",VLOOKUP(\"WRONG\",Answers!Y:AB,4,FALSE),AC41)+AD41)","v":3038},{"$f":"IF($B41=\"\",\"\",0+UPPER(Mainframe!J40))","v":9},{"$f":"IF(AF41=\"\",\"\",IF(NOT(ISNA(VLOOKUP(AF41,Answers!AC:AF,4,FALSE))),VLOOKUP(AF41,Answers!AC:AF,4,FALSE),\"Help!\"))","v":1000},null,{"$f":"IF(AG41=\"\",\"\",AE41+IF(AG41=\"XX\",VLOOKUP(\"WRONG\",Answers!AC:AF,4,FALSE),AG41)+AH41)","v":4038},{"$f":"IF($B41=\"\",\"\",0+UPPER(Mainframe!K40))","v":3},"XX",{"$f":"IF(AK41>500,-1000,0)","v":-1000},{"$f":"IF(AK41=\"\",\"\",AI41+IF(AK41=\"XX\",VLOOKUP(\"WRONG\",Answers!AG:AJ,4,FALSE),AK41)+AL41)","v":4045},{"$f":"IF($B41=\"\",\"\",0+UPPER(Mainframe!L40))","v":22},{"$f":"IF(AN41=\"\",\"\",IF(NOT(ISNA(VLOOKUP(AN41,Answers!AK:AN,4,FALSE))),VLOOKUP(AN41,Answers!AK:AN,4,FALSE),\"Help!\"))","v":6},null,{"$f":"IF(AO41=\"\",\"\",AM41+IF(AO41=\"XX\",VLOOKUP(\"WRONG\",Answers!AK:AN,4,FALSE),AO41)+AP41)","v":4051},{"$f":"IF($B41=\"\",\"\",0+UPPER(Mainframe!M40))","v":50},{"$f":"IF(AR41=\"\",\"\",IF(NOT(ISNA(VLOOKUP(AR41,Answers!AO:AR,4,FALSE))),VLOOKUP(AR41,Answers!AO:AR,4,FALSE),\"Help!\"))","v":5},null,{"$f":"IF(AS41=\"\",\"\",AQ41+IF(AS41=\"XX\",VLOOKUP(\"WRONG\",Answers!AO:AR,4,FALSE),AS41)+AT41)","v":4056},{"$f":"IF($B41=\"\",\"\",0+UPPER(Mainframe!N40))","v":10},{"$f":"IF(AV41=\"\",\"\",IF(NOT(ISNA(VLOOKUP(AV41,Answers!AS:AV,4,FALSE))),VLOOKUP(AV41,Answers!AS:AV,4,FALSE),\"Help!\"))","v":1000},null,{"$f":"IF(AW41=\"\",\"\",AU41+IF(AW41=\"XX\",VLOOKUP(\"WRONG\",Answers!AS:AV,4,FALSE),AW41)+AX41)","v":5056},{"$f":"IF($B41=\"\",\"\",0+UPPER(Mainframe!O40))","v":501},12.520547945205465,1,{"$f":"IF($B41=\"\",\"\",LEFT(Mainframe!P40,SEARCH(\".\",Mainframe!P40)-1))","v":"9"},null,null,null,null,null,null,null,null,null,null,null,null,null,null,null,null,null,null,null,null,null,null,null,null,null,null,null,null,null,null,39,{"$f":"IF(INDEX($B:$CE,ROW(),QNO*4)=\"XX\",\"[b][u]\"&INDEX($B:$CE,ROW(),QNO*4-1)&\"[/u][/b]\",\"[color=#BF0040]\"&INDEX(OFFSET(Answers!C:C,0,(QNO-1)*4),MATCH(INDEX($A:$CB,ROW(),QNO*4),OFFSET(Answers!A:A,0,(QNO-1)*4),0))&\"[/color]//[b]\"&INDEX(OFFSET(Answers!B:B,0,(QNO-1)*4),MATCH(INDEX($A:$CB,ROW(),QNO*4),OFFSET(Answers!A:A,0,(QNO-1)*4),0))&\"[/b] — [b]\"&IF(INDEX($B:$CE,ROW(),QNO*4)=1,\"Singleton!\",CONCATENATE(INDEX($B:$CE,ROW(),QNO*4),\" responses\"))&\"[/b]\")","v":"[color=#BF0040]\"What Makes You Beautiful\", \"Little Things\", \"Best Song Ever\"[/color]//[b][u]ONE[/u] DIRECTION[/b] — [b]8 responses[/b]"},"Caboom","Yes","39. Caboom — [b]8[/b] pts",65,26]
["[*]",{"$f":"IF(Mainframe!B41=\"\",\"\",INDEX(Mainframe!$B:$B,C42+1,1))","v":"dnbguy"},40,{"$f":"IF($B42=\"\",\"\",0+UPPER(Mainframe!C41))","v":20},{"$f":"IF(D42=\"\",\"\",IF(NOT(ISNA(VLOOKUP(D42,Answers!A:D,4,FALSE))),VLOOKUP(D42,Answers!A:D,4,FALSE),\"Help!\"))","v":6},null,{"$f":"IF(E42=\"\",\"\",IF(E42=\"XX\",VLOOKUP(\"WRONG\",Answers!A:D,4,FALSE),E42)+F42)","v":6},{"$f":"IF($B42=\"\",\"\",0+UPPER(Mainframe!D41))","v":31},"XX",null,{"$f":"IF(I42=\"\",\"\",G42+IF(I42=\"XX\",VLOOKUP(\"WRONG\",Answers!E:H,4,FALSE),I42)+J42)","v":1013},{"$f":"IF($B42=\"\",\"\",0+UPPER(Mainframe!E41))","v":10},{"$f":"IF(L42=\"\",\"\",IF(NOT(ISNA(VLOOKUP(L42,Answers!I:L,4,FALSE))),VLOOKUP(L42,Answers!I:L,4,FALSE),\"Help!\"))","v":10},null,{"$f":"IF(M42=\"\",\"\",K42+IF(M42=\"XX\",VLOOKUP(\"WRONG\",Answers!I:L,4,FALSE),M42)+N42)","v":1023},{"$f":"IF($B42=\"\",\"\",0+UPPER(Mainframe!F41))","v":2003},{"$f":"IF(P42=\"\",\"\",IF(NOT(ISNA(VLOOKUP(P42,Answers!M:P,4,FALSE))),VLOOKUP(P42,Answers!M:P,4,FALSE),\"Help!\"))","v":8},{"$f":"IF(Q42>500,-1000,0)","v":0},{"$f":"IF(Q42=\"\",\"\",O42+IF(Q42=\"XX\",VLOOKUP(\"WRONG\",Answers!M:P,4,FALSE),Q42)+R42)","v":1031},{"$f":"IF($B42=\"\",\"\",0+UPPER(Mainframe!G41))","v":6},{"$f":"IF(T42=\"\",\"\",IF(NOT(ISNA(VLOOKUP(T42,Answers!Q:T,4,FALSE))),VLOOKUP(T42,Answers!Q:T,4,FALSE),\"Help!\"))","v":9},null,{"$f":"IF(U42=\"\",\"\",S42+IF(U42=\"XX\",VLOOKUP(\"WRONG\",Answers!Q:T,4,FALSE),U42)+V42)","v":1040},{"$f":"IF($B42=\"\",\"\",0+UPPER(Mainframe!H41))","v":12},{"$f":"IF(X42=\"\",\"\",IF(NOT(ISNA(VLOOKUP(X42,Answers!U:X,4,FALSE))),VLOOKUP(X42,Answers!U:X,4,FALSE),\"Help!\"))","v":5},null,{"$f":"IF(Y42=\"\",\"\",W42+IF(Y42=\"XX\",VLOOKUP(\"WRONG\",Answers!U:X,4,FALSE),Y42)+Z42)","v":1045},{"$f":"IF($B42=\"\",\"\",0+UPPER(Mainframe!I41))","v":6},{"$f":"IF(AB42=\"\",\"\",IF(NOT(ISNA(VLOOKUP(AB42,Answers!Y:AB,4,FALSE))),VLOOKUP(AB42,Answers!Y:AB,4,FALSE),\"Help!\"))","v":4},null,{"$f":"IF(AC42=\"\",\"\",AA42+IF(AC42=\"XX\",VLOOKUP(\"WRONG\",Answers!Y:AB,4,FALSE),AC42)+AD42)","v":1049},{"$f":"IF($B42=\"\",\"\",0+UPPER(Mainframe!J41))","v":202},{"$f":"IF(AF42=\"\",\"\",IF(NOT(ISNA(VLOOKUP(AF42,Answers!AC:AF,4,FALSE))),VLOOKUP(AF42,Answers!AC:AF,4,FALSE),\"Help!\"))","v":10},null,{"$f":"IF(AG42=\"\",\"\",AE42+IF(AG42=\"XX\",VLOOKUP(\"WRONG\",Answers!AC:AF,4,FALSE),AG42)+AH42)","v":1059},{"$f":"IF($B42=\"\",\"\",0+UPPER(Mainframe!K41))","v":84},{"$f":"IF(AJ42=\"\",\"\",IF(NOT(ISNA(VLOOKUP(AJ42,Answers!AG:AJ,4,FALSE))),VLOOKUP(AJ42,Answers!AG:AJ,4,FALSE),\"Help!\"))","v":1000},null,{"$f":"IF(AK42=\"\",\"\",AI42+IF(AK42=\"XX\",VLOOKUP(\"WRONG\",Answers!AG:AJ,4,FALSE),AK42)+AL42)","v":2059},{"$f":"IF($B42=\"\",\"\",0+UPPER(Mainframe!L41))","v":67},{"$f":"IF(AN42=\"\",\"\",IF(NOT(ISNA(VLOOKUP(AN42,Answers!AK:AN,4,FALSE))),VLOOKUP(AN42,Answers!AK:AN,4,FALSE),\"Help!\"))","v":1000},null,{"$f":"IF(AO42=\"\",\"\",AM42+IF(AO42=\"XX\",VLOOKUP(\"WRONG\",Answers!AK:AN,4,FALSE),AO42)+AP42)","v":3059},{"$f":"IF($B42=\"\",\"\",0+UPPER(Mainframe!M41))","v":8},{"$f":"IF(AR42=\"\",\"\",IF(NOT(ISNA(VLOOKUP(AR42,Answers!AO:AR,4,FALSE))),VLOOKUP(AR42,Answers!AO:AR,4,FALSE),\"Help!\"))","v":6},null,{"$f":"IF(AS42=\"\",\"\",AQ42+IF(AS42=\"XX\",VLOOKUP(\"WRONG\",Answers!AO:AR,4,FALSE),AS42)+AT42)","v":3065},{"$f":"IF($B42=\"\",\"\",0+UPPER(Mainframe!N41))","v":10},{"$f":"IF(AV42=\"\",\"\",IF(NOT(ISNA(VLOOKUP(AV42,Answers!AS:AV,4,FALSE))),VLOOKUP(AV42,Answers!AS:AV,4,FALSE),\"Help!\"))","v":1000},null,{"$f":"IF(AW42=\"\",\"\",AU42+IF(AW42=\"XX\",VLOOKUP(\"WRONG\",Answers!AS:AV,4,FALSE),AW42)+AX42)","v":4065},{"$f":"IF($B42=\"\",\"\",0+UPPER(Mainframe!O41))","v":500},11.520547945205465,1,{"$f":"IF($B42=\"\",\"\",LEFT(Mainframe!P41,SEARCH(\".\",Mainframe!P41)-1))","v":"4"},null,null,null,null,null,null,null,null,null,null,null,null,null,null,null,null,null,null,null,null,null,null,null,null,null,null,null,null,null,null,40,{"$f":"IF(INDEX($B:$CE,ROW(),QNO*4)=\"XX\",\"[b][u]\"&INDEX($B:$CE,ROW(),QNO*4-1)&\"[/u][/b]\",\"[color=#BF0040]\"&INDEX(OFFSET(Answers!C:C,0,(QNO-1)*4),MATCH(INDEX($A:$CB,ROW(),QNO*4),OFFSET(Answers!A:A,0,(QNO-1)*4),0))&\"[/color]//[b]\"&INDEX(OFFSET(Answers!B:B,0,(QNO-1)*4),MATCH(INDEX($A:$CB,ROW(),QNO*4),OFFSET(Answers!A:A,0,(QNO-1)*4),0))&\"[/b] — [b]\"&IF(INDEX($B:$CE,ROW(),QNO*4)=1,\"Singleton!\",CONCATENATE(INDEX($B:$CE,ROW(),QNO*4),\" responses\"))&\"[/b]\")","v":"[color=#BF0040]\"Push\", \"Bent\", \"Unwell\"[/color]//[b]MATCHBOX [u]20[/u][/b] — [b]6 responses[/b]"},"dnbguy","Yes","40. dnbguy — [b]6[/b] pts",56,16]
["[*]",{"$f":"IF(Mainframe!B42=\"\",\"\",INDEX(Mainframe!$B:$B,C43+1,1))","v":"chmmr"},41,{"$f":"IF($B43=\"\",\"\",0+UPPER(Mainframe!C42))","v":182},{"$f":"IF(D43=\"\",\"\",IF(NOT(ISNA(VLOOKUP(D43,Answers!A:D,4,FALSE))),VLOOKUP(D43,Answers!A:D,4,FALSE),\"Help!\"))","v":2},null,{"$f":"IF(E43=\"\",\"\",IF(E43=\"XX\",VLOOKUP(\"WRONG\",Answers!A:D,4,FALSE),E43)+F43)","v":2},{"$f":"IF($B43=\"\",\"\",0+UPPER(Mainframe!D42))","v":21},{"$f":"IF(H43=\"\",\"\",IF(NOT(ISNA(VLOOKUP(H43,Answers!E:H,4,FALSE))),VLOOKUP(H43,Answers!E:H,4,FALSE),\"Help!\"))","v":1000},null,{"$f":"IF(I43=\"\",\"\",G43+IF(I43=\"XX\",VLOOKUP(\"WRONG\",Answers!E:H,4,FALSE),I43)+J43)","v":1002},{"$f":"IF($B43=\"\",\"\",0+UPPER(Mainframe!E42))","v":300},{"$f":"IF(L43=\"\",\"\",IF(NOT(ISNA(VLOOKUP(L43,Answers!I:L,4,FALSE))),VLOOKUP(L43,Answers!I:L,4,FALSE),\"Help!\"))","v":11},{"$f":"IF(M43>500,-1000,0)","v":0},{"$f":"IF(M43=\"\",\"\",K43+IF(M43=\"XX\",VLOOKUP(\"WRONG\",Answers!I:L,4,FALSE),M43)+N43)","v":1013},{"$f":"IF($B43=\"\",\"\",0+UPPER(Mainframe!F42))","v":1861},{"$f":"IF(P43=\"\",\"\",IF(NOT(ISNA(VLOOKUP(P43,Answers!M:P,4,FALSE))),VLOOKUP(P43,Answers!M:P,4,FALSE),\"Help!\"))","v":1000},null,{"$f":"IF(Q43=\"\",\"\",O43+IF(Q43=\"XX\",VLOOKUP(\"WRONG\",Answers!M:P,4,FALSE),Q43)+R43)","v":2013},{"$f":"IF($B43=\"\",\"\",0+UPPER(Mainframe!G42))","v":6},{"$f":"IF(T43=\"\",\"\",IF(NOT(ISNA(VLOOKUP(T43,Answers!Q:T,4,FALSE))),VLOOKUP(T43,Answers!Q:T,4,FALSE),\"Help!\"))","v":9},null,{"$f":"IF(U43=\"\",\"\",S43+IF(U43=\"XX\",VLOOKUP(\"WRONG\",Answers!Q:T,4,FALSE),U43)+V43)","v":2022},{"$f":"IF($B43=\"\",\"\",0+UPPER(Mainframe!H42))","v":22},{"$f":"IF(X43=\"\",\"\",IF(NOT(ISNA(VLOOKUP(X43,Answers!U:X,4,FALSE))),VLOOKUP(X43,Answers!U:X,4,FALSE),\"Help!\"))","v":1000},null,{"$f":"IF(Y43=\"\",\"\",W43+IF(Y43=\"XX\",VLOOKUP(\"WRONG\",Answers!U:X,4,FALSE),Y43)+Z43)","v":3022},{"$f":"IF($B43=\"\",\"\",0+UPPER(Mainframe!I42))","v":42},{"$f":"IF(AB43=\"\",\"\",IF(NOT(ISNA(VLOOKUP(AB43,Answers!Y:AB,4,FALSE))),VLOOKUP(AB43,Answers!Y:AB,4,FALSE),\"Help!\"))","v":13},null,{"$f":"IF(AC43=\"\",\"\",AA43+IF(AC43=\"XX\",VLOOKUP(\"WRONG\",Answers!Y:AB,4,FALSE),AC43)+AD43)","v":3035},{"$f":"IF($B43=\"\",\"\",0+UPPER(Mainframe!J42))","v":9},{"$f":"IF(AF43=\"\",\"\",IF(NOT(ISNA(VLOOKUP(AF43,Answers!AC:AF,4,FALSE))),VLOOKUP(AF43,Answers!AC:AF,4,FALSE),\"Help!\"))","v":1000},null,{"$f":"IF(AG43=\"\",\"\",AE43+IF(AG43=\"XX\",VLOOKUP(\"WRONG\",Answers!AC:AF,4,FALSE),AG43)+AH43)","v":4035},{"$f":"IF($B43=\"\",\"\",0+UPPER(Mainframe!K42))","v":5},{"$f":"IF(AJ43=\"\",\"\",IF(NOT(ISNA(VLOOKUP(AJ43,Answers!AG:AJ,4,FALSE))),VLOOKUP(AJ43,Answers!AG:AJ,4,FALSE),\"Help!\"))","v":9},null,{"$f":"IF(AK43=\"\",\"\",AI43+IF(AK43=\"XX\",VLOOKUP(\"WRONG\",Answers!AG:AJ,4,FALSE),AK43)+AL43)","v":4044},{"$f":"IF($B43=\"\",\"\",0+UPPER(Mainframe!L42))","v":49},{"$f":"IF(AN43=\"\",\"\",IF(NOT(ISNA(VLOOKUP(AN43,Answers!AK:AN,4,FALSE))),VLOOKUP(AN43,Answers!AK:AN,4,FALSE),\"Help!\"))","v":9},null,{"$f":"IF(AO43=\"\",\"\",AM43+IF(AO43=\"XX\",VLOOKUP(\"WRONG\",Answers!AK:AN,4,FALSE),AO43)+AP43)","v":4053},{"$f":"IF($B43=\"\",\"\",0+UPPER(Mainframe!M42))","v":5},{"$f":"IF(AR43=\"\",\"\",IF(NOT(ISNA(VLOOKUP(AR43,Answers!AO:AR,4,FALSE))),VLOOKUP(AR43,Answers!AO:AR,4,FALSE),\"Help!\"))","v":1000},null,{"$f":"IF(AS43=\"\",\"\",AQ43+IF(AS43=\"XX\",VLOOKUP(\"WRONG\",Answers!AO:AR,4,FALSE),AS43)+AT43)","v":5053},{"$f":"IF($B43=\"\",\"\",0+UPPER(Mainframe!N42))","v":666},{"$f":"IF(AV43=\"\",\"\",IF(NOT(ISNA(VLOOKUP(AV43,Answers!AS:AV,4,FALSE))),VLOOKUP(AV43,Answers!AS:AV,4,FALSE),\"Help!\"))","v":5},null,{"$f":"IF(AW43=\"\",\"\",AU43+IF(AW43=\"XX\",VLOOKUP(\"WRONG\",Answers!AS:AV,4,FALSE),AW43)+AX43)","v":5058},{"$f":"IF($B43=\"\",\"\",0+UPPER(Mainframe!O42))","v":500},11.520547945205465,1,{"$f":"IF($B43=\"\",\"\",LEFT(Mainframe!P42,SEARCH(\".\",Mainframe!P42)-1))","v":"3"},null,null,null,null,null,null,null,null,null,null,null,null,null,null,null,null,null,null,null,null,null,null,null,null,null,null,null,null,null,null,41,{"$f":"IF(INDEX($B:$CE,ROW(),QNO*4)=\"XX\",\"[b][u]\"&INDEX($B:$CE,ROW(),QNO*4-1)&\"[/u][/b]\",\"[color=#BF0040]\"&INDEX(OFFSET(Answers!C:C,0,(QNO-1)*4),MATCH(INDEX($A:$CB,ROW(),QNO*4),OFFSET(Answers!A:A,0,(QNO-1)*4),0))&\"[/color]//[b]\"&INDEX(OFFSET(Answers!B:B,0,(QNO-1)*4),MATCH(INDEX($A:$CB,ROW(),QNO*4),OFFSET(Answers!A:A,0,(QNO-1)*4),0))&\"[/b] — [b]\"&IF(INDEX($B:$CE,ROW(),QNO*4)=1,\"Singleton!\",CONCATENATE(INDEX($B:$CE,ROW(),QNO*4),\" responses\"))&\"[/b]\")","v":"[color=#BF0040]\"Dammit (Growing Up)\", \"What's My Age Again?\", \"All the Small Things\"[/color]//[b]BLINK [u]182[/u][/b] — [b]2 responses[/b]"},"chmmr","Yes","41. chmmr — [b]2[/b] pts",66,25]
["[*]",{"$f":"IF(Mainframe!B43=\"\",\"\",INDEX(Mainframe!$B:$B,C44+1,1))","v":"Ryno"},42,{"$f":"IF($B44=\"\",\"\",0+UPPER(Mainframe!C43))","v":3},{"$f":"IF(D44=\"\",\"\",IF(NOT(ISNA(VLOOKUP(D44,Answers!A:D,4,FALSE))),VLOOKUP(D44,Answers!A:D,4,FALSE),\"Help!\"))","v":11},null,{"$f":"IF(E44=\"\",\"\",IF(E44=\"XX\",VLOOKUP(\"WRONG\",Answers!A:D,4,FALSE),E44)+F44)","v":11},{"$f":"IF($B44=\"\",\"\",0+UPPER(Mainframe!D43))","v":38},{"$f":"IF(H44=\"\",\"\",IF(NOT(ISNA(VLOOKUP(H44,Answers!E:H,4,FALSE))),VLOOKUP(H44,Answers!E:H,4,FALSE),\"Help!\"))","v":7},null,{"$f":"IF(I44=\"\",\"\",G44+IF(I44=\"XX\",VLOOKUP(\"WRONG\",Answers!E:H,4,FALSE),I44)+J44)","v":18},{"$f":"IF($B44=\"\",\"\",0+UPPER(Mainframe!E43))","v":2012},{"$f":"IF(L44=\"\",\"\",IF(NOT(ISNA(VLOOKUP(L44,Answers!I:L,4,FALSE))),VLOOKUP(L44,Answers!I:L,4,FALSE),\"Help!\"))","v":2},null,{"$f":"IF(M44=\"\",\"\",K44+IF(M44=\"XX\",VLOOKUP(\"WRONG\",Answers!I:L,4,FALSE),M44)+N44)","v":20},{"$f":"IF($B44=\"\",\"\",0+UPPER(Mainframe!F43))","v":1815},{"$f":"IF(P44=\"\",\"\",IF(NOT(ISNA(VLOOKUP(P44,Answers!M:P,4,FALSE))),VLOOKUP(P44,Answers!M:P,4,FALSE),\"Help!\"))","v":10},{"$f":"IF(Q44>500,-1000,0)","v":0},{"$f":"IF(Q44=\"\",\"\",O44+IF(Q44=\"XX\",VLOOKUP(\"WRONG\",Answers!M:P,4,FALSE),Q44)+R44)","v":30},{"$f":"IF($B44=\"\",\"\",0+UPPER(Mainframe!G43))","v":5},{"$f":"IF(T44=\"\",\"\",IF(NOT(ISNA(VLOOKUP(T44,Answers!Q:T,4,FALSE))),VLOOKUP(T44,Answers!Q:T,4,FALSE),\"Help!\"))","v":1000},null,{"$f":"IF(U44=\"\",\"\",S44+IF(U44=\"XX\",VLOOKUP(\"WRONG\",Answers!Q:T,4,FALSE),U44)+V44)","v":1030},{"$f":"IF($B44=\"\",\"\",0+UPPER(Mainframe!H43))","v":66},"XX",null,{"$f":"IF(Y44=\"\",\"\",W44+IF(Y44=\"XX\",VLOOKUP(\"WRONG\",Answers!U:X,4,FALSE),Y44)+Z44)","v":2037},{"$f":"IF($B44=\"\",\"\",0+UPPER(Mainframe!I43))","v":42},{"$f":"IF(AB44=\"\",\"\",IF(NOT(ISNA(VLOOKUP(AB44,Answers!Y:AB,4,FALSE))),VLOOKUP(AB44,Answers!Y:AB,4,FALSE),\"Help!\"))","v":13},null,{"$f":"IF(AC44=\"\",\"\",AA44+IF(AC44=\"XX\",VLOOKUP(\"WRONG\",Answers!Y:AB,4,FALSE),AC44)+AD44)","v":2050},{"$f":"IF($B44=\"\",\"\",0+UPPER(Mainframe!J43))","v":49},{"$f":"IF(AF44=\"\",\"\",IF(NOT(ISNA(VLOOKUP(AF44,Answers!AC:AF,4,FALSE))),VLOOKUP(AF44,Answers!AC:AF,4,FALSE),\"Help!\"))","v":10},null,{"$f":"IF(AG44=\"\",\"\",AE44+IF(AG44=\"XX\",VLOOKUP(\"WRONG\",Answers!AC:AF,4,FALSE),AG44)+AH44)","v":2060},{"$f":"IF($B44=\"\",\"\",0+UPPER(Mainframe!K43))","v":5},{"$f":"IF(AJ44=\"\",\"\",IF(NOT(ISNA(VLOOKUP(AJ44,Answers!AG:AJ,4,FALSE))),VLOOKUP(AJ44,Answers!AG:AJ,4,FALSE),\"Help!\"))","v":9},null,{"$f":"IF(AK44=\"\",\"\",AI44+IF(AK44=\"XX\",VLOOKUP(\"WRONG\",Answers!AG:AJ,4,FALSE),AK44)+AL44)","v":2069},{"$f":"IF($B44=\"\",\"\",0+UPPER(Mainframe!L43))","v":42},{"$f":"IF(AN44=\"\",\"\",IF(NOT(ISNA(VLOOKUP(AN44,Answers!AK:AN,4,FALSE))),VLOOKUP(AN44,Answers!AK:AN,4,FALSE),\"Help!\"))","v":8},null,{"$f":"IF(AO44=\"\",\"\",AM44+IF(AO44=\"XX\",VLOOKUP(\"WRONG\",Answers!AK:AN,4,FALSE),AO44)+AP44)","v":2077},{"$f":"IF($B44=\"\",\"\",0+UPPER(Mainframe!M43))","v":3},{"$f":"IF(AR44=\"\",\"\",IF(NOT(ISNA(VLOOKUP(AR44,Answers!AO:AR,4,FALSE))),VLOOKUP(AR44,Answers!AO:AR,4,FALSE),\"Help!\"))","v":6},null,{"$f":"IF(AS44=\"\",\"\",AQ44+IF(AS44=\"XX\",VLOOKUP(\"WRONG\",Answers!AO:AR,4,FALSE),AS44)+AT44)","v":2083},{"$f":"IF($B44=\"\",\"\",0+UPPER(Mainframe!N43))","v":27},{"$f":"IF(AV44=\"\",\"\",IF(NOT(ISNA(VLOOKUP(AV44,Answers!AS:AV,4,FALSE))),VLOOKUP(AV44,Answers!AS:AV,4,FALSE),\"Help!\"))","v":9},null,{"$f":"IF(AW44=\"\",\"\",AU44+IF(AW44=\"XX\",VLOOKUP(\"WRONG\",Answers!AS:AV,4,FALSE),AW44)+AX44)","v":2092},{"$f":"IF($B44=\"\",\"\",0+UPPER(Mainframe!O43))","v":500},11.520547945205465,1,{"$f":"IF($B44=\"\",\"\",LEFT(Mainframe!P43,SEARCH(\".\",Mainframe!P43)-1))","v":"4"},null,null,null,null,null,null,null,null,null,null,null,null,null,null,null,null,null,null,null,null,null,null,null,null,null,null,null,null,null,null,42,{"$f":"IF(INDEX($B:$CE,ROW(),QNO*4)=\"XX\",\"[b][u]\"&INDEX($B:$CE,ROW(),QNO*4-1)&\"[/u][/b]\",\"[color=#BF0040]\"&INDEX(OFFSET(Answers!C:C,0,(QNO-1)*4),MATCH(INDEX($A:$CB,ROW(),QNO*4),OFFSET(Answers!A:A,0,(QNO-1)*4),0))&\"[/color]//[b]\"&INDEX(OFFSET(Answers!B:B,0,(QNO-1)*4),MATCH(INDEX($A:$CB,ROW(),QNO*4),OFFSET(Answers!A:A,0,(QNO-1)*4),0))&\"[/b] — [b]\"&IF(INDEX($B:$CE,ROW(),QNO*4)=1,\"Singleton!\",CONCATENATE(INDEX($B:$CE,ROW(),QNO*4),\" responses\"))&\"[/b]\")","v":"[color=#BF0040]\"Mama Told Me (Not to Come)\", \"Joy to the World\", \"Black and White\"[/color]//[b][u]THREE[/u] DOG NIGHT[/b] — [b]11 responses[/b]"},"Ryno","Yes","42. Ryno — [b]11[/b] pts",34,-8]
["[*]",{"$f":"IF(Mainframe!B44=\"\",\"\",INDEX(Mainframe!$B:$B,C45+1,1))","v":"patkav"},43,{"$f":"IF($B45=\"\",\"\",0+UPPER(Mainframe!C44))","v":5},{"$f":"IF(D45=\"\",\"\",IF(NOT(ISNA(VLOOKUP(D45,Answers!A:D,4,FALSE))),VLOOKUP(D45,Answers!A:D,4,FALSE),\"Help!\"))","v":5},null,{"$f":"IF(E45=\"\",\"\",IF(E45=\"XX\",VLOOKUP(\"WRONG\",Answers!A:D,4,FALSE),E45)+F45)","v":5},{"$f":"IF($B45=\"\",\"\",0+UPPER(Mainframe!D44))","v":38},{"$f":"IF(H45=\"\",\"\",IF(NOT(ISNA(VLOOKUP(H45,Answers!E:H,4,FALSE))),VLOOKUP(H45,Answers!E:H,4,FALSE),\"Help!\"))","v":7},null,{"$f":"IF(I45=\"\",\"\",G45+IF(I45=\"XX\",VLOOKUP(\"WRONG\",Answers!E:H,4,FALSE),I45)+J45)","v":12},{"$f":"IF($B45=\"\",\"\",0+UPPER(Mainframe!E44))","v":34},{"$f":"IF(L45=\"\",\"\",IF(NOT(ISNA(VLOOKUP(L45,Answers!I:L,4,FALSE))),VLOOKUP(L45,Answers!I:L,4,FALSE),\"Help!\"))","v":1000},null,{"$f":"IF(M45=\"\",\"\",K45+IF(M45=\"XX\",VLOOKUP(\"WRONG\",Answers!I:L,4,FALSE),M45)+N45)","v":1012},{"$f":"IF($B45=\"\",\"\",0+UPPER(Mainframe!F44))","v":1777},{"$f":"IF(P45=\"\",\"\",IF(NOT(ISNA(VLOOKUP(P45,Answers!M:P,4,FALSE))),VLOOKUP(P45,Answers!M:P,4,FALSE),\"Help!\"))","v":3},null,{"$f":"IF(Q45=\"\",\"\",O45+IF(Q45=\"XX\",VLOOKUP(\"WRONG\",Answers!M:P,4,FALSE),Q45)+R45)","v":1015},{"$f":"IF($B45=\"\",\"\",0+UPPER(Mainframe!G44))","v":5},{"$f":"IF(T45=\"\",\"\",IF(NOT(ISNA(VLOOKUP(T45,Answers!Q:T,4,FALSE))),VLOOKUP(T45,Answers!Q:T,4,FALSE),\"Help!\"))","v":1000},null,{"$f":"IF(U45=\"\",\"\",S45+IF(U45=\"XX\",VLOOKUP(\"WRONG\",Answers!Q:T,4,FALSE),U45)+V45)","v":2015},{"$f":"IF($B45=\"\",\"\",0+UPPER(Mainframe!H44))","v":49},{"$f":"IF(X45=\"\",\"\",IF(NOT(ISNA(VLOOKUP(X45,Answers!U:X,4,FALSE))),VLOOKUP(X45,Answers!U:X,4,FALSE),\"Help!\"))","v":4},null,{"$f":"IF(Y45=\"\",\"\",W45+IF(Y45=\"XX\",VLOOKUP(\"WRONG\",Answers!U:X,4,FALSE),Y45)+Z45)","v":2019},{"$f":"IF($B45=\"\",\"\",0+UPPER(Mainframe!I44))","v":25},{"$f":"IF(AB45=\"\",\"\",IF(NOT(ISNA(VLOOKUP(AB45,Answers!Y:AB,4,FALSE))),VLOOKUP(AB45,Answers!Y:AB,4,FALSE),\"Help!\"))","v":7},null,{"$f":"IF(AC45=\"\",\"\",AA45+IF(AC45=\"XX\",VLOOKUP(\"WRONG\",Answers!Y:AB,4,FALSE),AC45)+AD45)","v":2026},{"$f":"IF($B45=\"\",\"\",0+UPPER(Mainframe!J44))","v":18},{"$f":"IF(AF45=\"\",\"\",IF(NOT(ISNA(VLOOKUP(AF45,Answers!AC:AF,4,FALSE))),VLOOKUP(AF45,Answers!AC:AF,4,FALSE),\"Help!\"))","v":10},null,{"$f":"IF(AG45=\"\",\"\",AE45+IF(AG45=\"XX\",VLOOKUP(\"WRONG\",Answers!AC:AF,4,FALSE),AG45)+AH45)","v":2036},{"$f":"IF($B45=\"\",\"\",0+UPPER(Mainframe!K44))","v":35},{"$f":"IF(AJ45=\"\",\"\",IF(NOT(ISNA(VLOOKUP(AJ45,Answers!AG:AJ,4,FALSE))),VLOOKUP(AJ45,Answers!AG:AJ,4,FALSE),\"Help!\"))","v":8},null,{"$f":"IF(AK45=\"\",\"\",AI45+IF(AK45=\"XX\",VLOOKUP(\"WRONG\",Answers!AG:AJ,4,FALSE),AK45)+AL45)","v":2044},{"$f":"IF($B45=\"\",\"\",0+UPPER(Mainframe!L44))","v":61},{"$f":"IF(AN45=\"\",\"\",IF(NOT(ISNA(VLOOKUP(AN45,Answers!AK:AN,4,FALSE))),VLOOKUP(AN45,Answers!AK:AN,4,FALSE),\"Help!\"))","v":5},{"$f":"IF(AO45>500,-1000,0)","v":0},{"$f":"IF(AO45=\"\",\"\",AM45+IF(AO45=\"XX\",VLOOKUP(\"WRONG\",Answers!AK:AN,4,FALSE),AO45)+AP45)","v":2049},{"$f":"IF($B45=\"\",\"\",0+UPPER(Mainframe!M44))","v":5},{"$f":"IF(AR45=\"\",\"\",IF(NOT(ISNA(VLOOKUP(AR45,Answers!AO:AR,4,FALSE))),VLOOKUP(AR45,Answers!AO:AR,4,FALSE),\"Help!\"))","v":1000},null,{"$f":"IF(AS45=\"\",\"\",AQ45+IF(AS45=\"XX\",VLOOKUP(\"WRONG\",Answers!AO:AR,4,FALSE),AS45)+AT45)","v":3049},{"$f":"IF($B45=\"\",\"\",0+UPPER(Mainframe!N44))","v":12},{"$f":"IF(AV45=\"\",\"\",IF(NOT(ISNA(VLOOKUP(AV45,Answers!AS:AV,4,FALSE))),VLOOKUP(AV45,Answers!AS:AV,4,FALSE),\"Help!\"))","v":4},null,{"$f":"IF(AW45=\"\",\"\",AU45+IF(AW45=\"XX\",VLOOKUP(\"WRONG\",Answers!AS:AV,4,FALSE),AW45)+AX45)","v":3053},{"$f":"IF($B45=\"\",\"\",0+UPPER(Mainframe!O44))","v":23},465.47945205479454,1,{"$f":"IF($B45=\"\",\"\",LEFT(Mainframe!P44,SEARCH(\".\",Mainframe!P44)-1))","v":"10"},null,null,null,null,null,null,null,null,null,null,null,null,null,null,null,null,null,null,null,null,null,null,null,null,null,null,null,null,null,null,43,{"$f":"IF(INDEX($B:$CE,ROW(),QNO*4)=\"XX\",\"[b][u]\"&INDEX($B:$CE,ROW(),QNO*4-1)&\"[/u][/b]\",\"[color=#BF0040]\"&INDEX(OFFSET(Answers!C:C,0,(QNO-1)*4),MATCH(INDEX($A:$CB,ROW(),QNO*4),OFFSET(Answers!A:A,0,(QNO-1)*4),0))&\"[/color]//[b]\"&INDEX(OFFSET(Answers!B:B,0,(QNO-1)*4),MATCH(INDEX($A:$CB,ROW(),QNO*4),OFFSET(Answers!A:A,0,(QNO-1)*4),0))&\"[/b] — [b]\"&IF(INDEX($B:$CE,ROW(),QNO*4)=1,\"Singleton!\",CONCATENATE(INDEX($B:$CE,ROW(),QNO*4),\" responses\"))&\"[/b]\")","v":"[color=#BF0040]\"She Will Be Loved\", \"Makes Me Wonder\", \"Moves like Jagger\"[/color]//[b]MAROON [u]5[/u][/b] — [b]5 responses[/b]"},"patkav","Yes","43. patkav — [b]5[/b] pts",37,-6]
["[*]",{"$f":"IF(Mainframe!B45=\"\",\"\",INDEX(Mainframe!$B:$B,C46+1,1))","v":"Bamaman"},44,{"$f":"IF($B46=\"\",\"\",0+UPPER(Mainframe!C45))","v":3},{"$f":"IF(D46=\"\",\"\",IF(NOT(ISNA(VLOOKUP(D46,Answers!A:D,4,FALSE))),VLOOKUP(D46,Answers!A:D,4,FALSE),\"Help!\"))","v":11},null,{"$f":"IF(E46=\"\",\"\",IF(E46=\"XX\",VLOOKUP(\"WRONG\",Answers!A:D,4,FALSE),E46)+F46)","v":11},{"$f":"IF($B46=\"\",\"\",0+UPPER(Mainframe!D45))","v":22},{"$f":"IF(H46=\"\",\"\",IF(NOT(ISNA(VLOOKUP(H46,Answers!E:H,4,FALSE))),VLOOKUP(H46,Answers!E:H,4,FALSE),\"Help!\"))","v":11},null,{"$f":"IF(I46=\"\",\"\",G46+IF(I46=\"XX\",VLOOKUP(\"WRONG\",Answers!E:H,4,FALSE),I46)+J46)","v":22},{"$f":"IF($B46=\"\",\"\",0+UPPER(Mainframe!E45))","v":34},{"$f":"IF(L46=\"\",\"\",IF(NOT(ISNA(VLOOKUP(L46,Answers!I:L,4,FALSE))),VLOOKUP(L46,Answers!I:L,4,FALSE),\"Help!\"))","v":1000},null,{"$f":"IF(M46=\"\",\"\",K46+IF(M46=\"XX\",VLOOKUP(\"WRONG\",Answers!I:L,4,FALSE),M46)+N46)","v":1022},{"$f":"IF($B46=\"\",\"\",0+UPPER(Mainframe!F45))","v":1815},{"$f":"IF(P46=\"\",\"\",IF(NOT(ISNA(VLOOKUP(P46,Answers!M:P,4,FALSE))),VLOOKUP(P46,Answers!M:P,4,FALSE),\"Help!\"))","v":10},null,{"$f":"IF(Q46=\"\",\"\",O46+IF(Q46=\"XX\",VLOOKUP(\"WRONG\",Answers!M:P,4,FALSE),Q46)+R46)","v":1032},{"$f":"IF($B46=\"\",\"\",0+UPPER(Mainframe!G45))","v":8},{"$f":"IF(T46=\"\",\"\",IF(NOT(ISNA(VLOOKUP(T46,Answers!Q:T,4,FALSE))),VLOOKUP(T46,Answers!Q:T,4,FALSE),\"Help!\"))","v":6},{"$f":"IF(U46>500,-1000,0)","v":0},{"$f":"IF(U46=\"\",\"\",S46+IF(U46=\"XX\",VLOOKUP(\"WRONG\",Answers!Q:T,4,FALSE),U46)+V46)","v":1038},{"$f":"IF($B46=\"\",\"\",0+UPPER(Mainframe!H45))","v":22},{"$f":"IF(X46=\"\",\"\",IF(NOT(ISNA(VLOOKUP(X46,Answers!U:X,4,FALSE))),VLOOKUP(X46,Answers!U:X,4,FALSE),\"Help!\"))","v":1000},null,{"$f":"IF(Y46=\"\",\"\",W46+IF(Y46=\"XX\",VLOOKUP(\"WRONG\",Answers!U:X,4,FALSE),Y46)+Z46)","v":2038},{"$f":"IF($B46=\"\",\"\",0+UPPER(Mainframe!I45))","v":76},{"$f":"IF(AB46=\"\",\"\",IF(NOT(ISNA(VLOOKUP(AB46,Answers!Y:AB,4,FALSE))),VLOOKUP(AB46,Answers!Y:AB,4,FALSE),\"Help!\"))","v":1000},null,{"$f":"IF(AC46=\"\",\"\",AA46+IF(AC46=\"XX\",VLOOKUP(\"WRONG\",Answers!Y:AB,4,FALSE),AC46)+AD46)","v":3038},{"$f":"IF($B46=\"\",\"\",0+UPPER(Mainframe!J45))","v":1850},{"$f":"IF(AF46=\"\",\"\",IF(NOT(ISNA(VLOOKUP(AF46,Answers!AC:AF,4,FALSE))),VLOOKUP(AF46,Answers!AC:AF,4,FALSE),\"Help!\"))","v":4},null,{"$f":"IF(AG46=\"\",\"\",AE46+IF(AG46=\"XX\",VLOOKUP(\"WRONG\",Answers!AC:AF,4,FALSE),AG46)+AH46)","v":3042},{"$f":"IF($B46=\"\",\"\",0+UPPER(Mainframe!K45))","v":20},{"$f":"IF(AJ46=\"\",\"\",IF(NOT(ISNA(VLOOKUP(AJ46,Answers!AG:AJ,4,FALSE))),VLOOKUP(AJ46,Answers!AG:AJ,4,FALSE),\"Help!\"))","v":2},null,{"$f":"IF(AK46=\"\",\"\",AI46+IF(AK46=\"XX\",VLOOKUP(\"WRONG\",Answers!AG:AJ,4,FALSE),AK46)+AL46)","v":3044},{"$f":"IF($B46=\"\",\"\",0+UPPER(Mainframe!L45))","v":67},{"$f":"IF(AN46=\"\",\"\",IF(NOT(ISNA(VLOOKUP(AN46,Answers!AK:AN,4,FALSE))),VLOOKUP(AN46,Answers!AK:AN,4,FALSE),\"Help!\"))","v":1000},null,{"$f":"IF(AO46=\"\",\"\",AM46+IF(AO46=\"XX\",VLOOKUP(\"WRONG\",Answers!AK:AN,4,FALSE),AO46)+AP46)","v":4044},{"$f":"IF($B46=\"\",\"\",0+UPPER(Mainframe!M45))","v":5},{"$f":"IF(AR46=\"\",\"\",IF(NOT(ISNA(VLOOKUP(AR46,Answers!AO:AR,4,FALSE))),VLOOKUP(AR46,Answers!AO:AR,4,FALSE),\"Help!\"))","v":1000},null,{"$f":"IF(AS46=\"\",\"\",AQ46+IF(AS46=\"XX\",VLOOKUP(\"WRONG\",Answers!AO:AR,4,FALSE),AS46)+AT46)","v":5044},{"$f":"IF($B46=\"\",\"\",0+UPPER(Mainframe!N45))","v":27},{"$f":"IF(AV46=\"\",\"\",IF(NOT(ISNA(VLOOKUP(AV46,Answers!AS:AV,4,FALSE))),VLOOKUP(AV46,Answers!AS:AV,4,FALSE),\"Help!\"))","v":9},null,{"$f":"IF(AW46=\"\",\"\",AU46+IF(AW46=\"XX\",VLOOKUP(\"WRONG\",Answers!AS:AV,4,FALSE),AW46)+AX46)","v":5053},{"$f":"IF($B46=\"\",\"\",0+UPPER(Mainframe!O45))","v":513},24.520547945205465,1,{"$f":"IF($B46=\"\",\"\",LEFT(Mainframe!P45,SEARCH(\".\",Mainframe!P45)-1))","v":"5"},null,null,null,null,null,null,null,null,null,null,null,null,null,null,null,null,null,null,null,null,null,null,null,null,null,null,null,null,null,null,44,{"$f":"IF(INDEX($B:$CE,ROW(),QNO*4)=\"XX\",\"[b][u]\"&INDEX($B:$CE,ROW(),QNO*4-1)&\"[/u][/b]\",\"[color=#BF0040]\"&INDEX(OFFSET(Answers!C:C,0,(QNO-1)*4),MATCH(INDEX($A:$CB,ROW(),QNO*4),OFFSET(Answers!A:A,0,(QNO-1)*4),0))&\"[/color]//[b]\"&INDEX(OFFSET(Answers!B:B,0,(QNO-1)*4),MATCH(INDEX($A:$CB,ROW(),QNO*4),OFFSET(Answers!A:A,0,(QNO-1)*4),0))&\"[/b] — [b]\"&IF(INDEX($B:$CE,ROW(),QNO*4)=1,\"Singleton!\",CONCATENATE(INDEX($B:$CE,ROW(),QNO*4),\" responses\"))&\"[/b]\")","v":"[color=#BF0040]\"Mama Told Me (Not to Come)\", \"Joy to the World\", \"Black and White\"[/color]//[b][u]THREE[/u] DOG NIGHT[/b] — [b]11 responses[/b]"},"Bamaman","Yes","44. Bamaman — [b]11[/b] pts",69,25]
["[*]",{"$f":"IF(Mainframe!B46=\"\",\"\",INDEX(Mainframe!$B:$B,C47+1,1))","v":"nightlove1200"},45,{"$f":"IF($B47=\"\",\"\",0+UPPER(Mainframe!C46))","v":20},{"$f":"IF(D47=\"\",\"\",IF(NOT(ISNA(VLOOKUP(D47,Answers!A:D,4,FALSE))),VLOOKUP(D47,Answers!A:D,4,FALSE),\"Help!\"))","v":6},null,{"$f":"IF(E47=\"\",\"\",IF(E47=\"XX\",VLOOKUP(\"WRONG\",Answers!A:D,4,FALSE),E47)+F47)","v":6},{"$f":"IF($B47=\"\",\"\",0+UPPER(Mainframe!D46))","v":664},"XX",{"$f":"IF(I47>500,-1000,0)","v":-1000},{"$f":"IF(I47=\"\",\"\",G47+IF(I47=\"XX\",VLOOKUP(\"WRONG\",Answers!E:H,4,FALSE),I47)+J47)","v":13},{"$f":"IF($B47=\"\",\"\",0+UPPER(Mainframe!E46))","v":34},{"$f":"IF(L47=\"\",\"\",IF(NOT(ISNA(VLOOKUP(L47,Answers!I:L,4,FALSE))),VLOOKUP(L47,Answers!I:L,4,FALSE),\"Help!\"))","v":1000},null,{"$f":"IF(M47=\"\",\"\",K47+IF(M47=\"XX\",VLOOKUP(\"WRONG\",Answers!I:L,4,FALSE),M47)+N47)","v":1013},{"$f":"IF($B47=\"\",\"\",0+UPPER(Mainframe!F46))","v":1777},{"$f":"IF(P47=\"\",\"\",IF(NOT(ISNA(VLOOKUP(P47,Answers!M:P,4,FALSE))),VLOOKUP(P47,Answers!M:P,4,FALSE),\"Help!\"))","v":3},null,{"$f":"IF(Q47=\"\",\"\",O47+IF(Q47=\"XX\",VLOOKUP(\"WRONG\",Answers!M:P,4,FALSE),Q47)+R47)","v":1016},{"$f":"IF($B47=\"\",\"\",0+UPPER(Mainframe!G46))","v":18},{"$f":"IF(T47=\"\",\"\",IF(NOT(ISNA(VLOOKUP(T47,Answers!Q:T,4,FALSE))),VLOOKUP(T47,Answers!Q:T,4,FALSE),\"Help!\"))","v":6},null,{"$f":"IF(U47=\"\",\"\",S47+IF(U47=\"XX\",VLOOKUP(\"WRONG\",Answers!Q:T,4,FALSE),U47)+V47)","v":1022},{"$f":"IF($B47=\"\",\"\",0+UPPER(Mainframe!H46))","v":22},{"$f":"IF(X47=\"\",\"\",IF(NOT(ISNA(VLOOKUP(X47,Answers!U:X,4,FALSE))),VLOOKUP(X47,Answers!U:X,4,FALSE),\"Help!\"))","v":1000},null,{"$f":"IF(Y47=\"\",\"\",W47+IF(Y47=\"XX\",VLOOKUP(\"WRONG\",Answers!U:X,4,FALSE),Y47)+Z47)","v":2022},{"$f":"IF($B47=\"\",\"\",0+UPPER(Mainframe!I46))","v":25},{"$f":"IF(AB47=\"\",\"\",IF(NOT(ISNA(VLOOKUP(AB47,Answers!Y:AB,4,FALSE))),VLOOKUP(AB47,Answers!Y:AB,4,FALSE),\"Help!\"))","v":7},null,{"$f":"IF(AC47=\"\",\"\",AA47+IF(AC47=\"XX\",VLOOKUP(\"WRONG\",Answers!Y:AB,4,FALSE),AC47)+AD47)","v":2029},{"$f":"IF($B47=\"\",\"\",0+UPPER(Mainframe!J46))","v":1974},{"$f":"IF(AF47=\"\",\"\",IF(NOT(ISNA(VLOOKUP(AF47,Answers!AC:AF,4,FALSE))),VLOOKUP(AF47,Answers!AC:AF,4,FALSE),\"Help!\"))","v":8},null,{"$f":"IF(AG47=\"\",\"\",AE47+IF(AG47=\"XX\",VLOOKUP(\"WRONG\",Answers!AC:AF,4,FALSE),AG47)+AH47)","v":2037},{"$f":"IF($B47=\"\",\"\",0+UPPER(Mainframe!K46))","v":80},{"$f":"IF(AJ47=\"\",\"\",IF(NOT(ISNA(VLOOKUP(AJ47,Answers!AG:AJ,4,FALSE))),VLOOKUP(AJ47,Answers!AG:AJ,4,FALSE),\"Help!\"))","v":6},null,{"$f":"IF(AK47=\"\",\"\",AI47+IF(AK47=\"XX\",VLOOKUP(\"WRONG\",Answers!AG:AJ,4,FALSE),AK47)+AL47)","v":2043},{"$f":"IF($B47=\"\",\"\",0+UPPER(Mainframe!L46))","v":42},{"$f":"IF(AN47=\"\",\"\",IF(NOT(ISNA(VLOOKUP(AN47,Answers!AK:AN,4,FALSE))),VLOOKUP(AN47,Answers!AK:AN,4,FALSE),\"Help!\"))","v":8},null,{"$f":"IF(AO47=\"\",\"\",AM47+IF(AO47=\"XX\",VLOOKUP(\"WRONG\",Answers!AK:AN,4,FALSE),AO47)+AP47)","v":2051},{"$f":"IF($B47=\"\",\"\",0+UPPER(Mainframe!M46))","v":5},{"$f":"IF(AR47=\"\",\"\",IF(NOT(ISNA(VLOOKUP(AR47,Answers!AO:AR,4,FALSE))),VLOOKUP(AR47,Answers!AO:AR,4,FALSE),\"Help!\"))","v":1000},null,{"$f":"IF(AS47=\"\",\"\",AQ47+IF(AS47=\"XX\",VLOOKUP(\"WRONG\",Answers!AO:AR,4,FALSE),AS47)+AT47)","v":3051},{"$f":"IF($B47=\"\",\"\",0+UPPER(Mainframe!N46))","v":27},{"$f":"IF(AV47=\"\",\"\",IF(NOT(ISNA(VLOOKUP(AV47,Answers!AS:AV,4,FALSE))),VLOOKUP(AV47,Answers!AS:AV,4,FALSE),\"Help!\"))","v":9},null,{"$f":"IF(AW47=\"\",\"\",AU47+IF(AW47=\"XX\",VLOOKUP(\"WRONG\",Answers!AS:AV,4,FALSE),AW47)+AX47)","v":3060},{"$f":"IF($B47=\"\",\"\",0+UPPER(Mainframe!O46))","v":442},46.479452054794535,1,{"$f":"IF($B47=\"\",\"\",LEFT(Mainframe!P46,SEARCH(\".\",Mainframe!P46)-1))","v":"2"},null,null,null,null,null,null,null,null,null,null,null,null,null,null,null,null,null,null,null,null,null,null,null,null,null,null,null,null,null,null,45,{"$f":"IF(INDEX($B:$CE,ROW(),QNO*4)=\"XX\",\"[b][u]\"&INDEX($B:$CE,ROW(),QNO*4-1)&\"[/u][/b]\",\"[color=#BF0040]\"&INDEX(OFFSET(Answers!C:C,0,(QNO-1)*4),MATCH(INDEX($A:$CB,ROW(),QNO*4),OFFSET(Answers!A:A,0,(QNO-1)*4),0))&\"[/color]//[b]\"&INDEX(OFFSET(Answers!B:B,0,(QNO-1)*4),MATCH(INDEX($A:$CB,ROW(),QNO*4),OFFSET(Answers!A:A,0,(QNO-1)*4),0))&\"[/b] — [b]\"&IF(INDEX($B:$CE,ROW(),QNO*4)=1,\"Singleton!\",CONCATENATE(INDEX($B:$CE,ROW(),QNO*4),\" responses\"))&\"[/b]\")","v":"[color=#BF0040]\"Push\", \"Bent\", \"Unwell\"[/color]//[b]MATCHBOX [u]20[/u][/b] — [b]6 responses[/b]"},"nightlove1200","Yes","45. nightlove1200 — [b]6[/b] pts",38,-7]
["[*]",{"$f":"IF(Mainframe!B47=\"\",\"\",INDEX(Mainframe!$B:$B,C48+1,1))","v":"ouachiouat"},46,{"$f":"IF($B48=\"\",\"\",0+UPPER(Mainframe!C47))","v":3},{"$f":"IF(D48=\"\",\"\",IF(NOT(ISNA(VLOOKUP(D48,Answers!A:D,4,FALSE))),VLOOKUP(D48,Answers!A:D,4,FALSE),\"Help!\"))","v":11},null,{"$f":"IF(E48=\"\",\"\",IF(E48=\"XX\",VLOOKUP(\"WRONG\",Answers!A:D,4,FALSE),E48)+F48)","v":11},{"$f":"IF($B48=\"\",\"\",0+UPPER(Mainframe!D47))","v":21},{"$f":"IF(H48=\"\",\"\",IF(NOT(ISNA(VLOOKUP(H48,Answers!E:H,4,FALSE))),VLOOKUP(H48,Answers!E:H,4,FALSE),\"Help!\"))","v":1000},null,{"$f":"IF(I48=\"\",\"\",G48+IF(I48=\"XX\",VLOOKUP(\"WRONG\",Answers!E:H,4,FALSE),I48)+J48)","v":1011},{"$f":"IF($B48=\"\",\"\",0+UPPER(Mainframe!E47))","v":16},{"$f":"IF(L48=\"\",\"\",IF(NOT(ISNA(VLOOKUP(L48,Answers!I:L,4,FALSE))),VLOOKUP(L48,Answers!I:L,4,FALSE),\"Help!\"))","v":12},null,{"$f":"IF(M48=\"\",\"\",K48+IF(M48=\"XX\",VLOOKUP(\"WRONG\",Answers!I:L,4,FALSE),M48)+N48)","v":1023},{"$f":"IF($B48=\"\",\"\",0+UPPER(Mainframe!F47))","v":1861},{"$f":"IF(P48=\"\",\"\",IF(NOT(ISNA(VLOOKUP(P48,Answers!M:P,4,FALSE))),VLOOKUP(P48,Answers!M:P,4,FALSE),\"Help!\"))","v":1000},null,{"$f":"IF(Q48=\"\",\"\",O48+IF(Q48=\"XX\",VLOOKUP(\"WRONG\",Answers!M:P,4,FALSE),Q48)+R48)","v":2023},{"$f":"IF($B48=\"\",\"\",0+UPPER(Mainframe!G47))","v":8},{"$f":"IF(T48=\"\",\"\",IF(NOT(ISNA(VLOOKUP(T48,Answers!Q:T,4,FALSE))),VLOOKUP(T48,Answers!Q:T,4,FALSE),\"Help!\"))","v":6},null,{"$f":"IF(U48=\"\",\"\",S48+IF(U48=\"XX\",VLOOKUP(\"WRONG\",Answers!Q:T,4,FALSE),U48)+V48)","v":2029},{"$f":"IF($B48=\"\",\"\",0+UPPER(Mainframe!H47))","v":22},{"$f":"IF(X48=\"\",\"\",IF(NOT(ISNA(VLOOKUP(X48,Answers!U:X,4,FALSE))),VLOOKUP(X48,Answers!U:X,4,FALSE),\"Help!\"))","v":1000},null,{"$f":"IF(Y48=\"\",\"\",W48+IF(Y48=\"XX\",VLOOKUP(\"WRONG\",Answers!U:X,4,FALSE),Y48)+Z48)","v":3029},{"$f":"IF($B48=\"\",\"\",0+UPPER(Mainframe!I47))","v":76},{"$f":"IF(AB48=\"\",\"\",IF(NOT(ISNA(VLOOKUP(AB48,Answers!Y:AB,4,FALSE))),VLOOKUP(AB48,Answers!Y:AB,4,FALSE),\"Help!\"))","v":1000},{"$f":"IF(AC48>500,-1000,0)","v":-1000},{"$f":"IF(AC48=\"\",\"\",AA48+IF(AC48=\"XX\",VLOOKUP(\"WRONG\",Answers!Y:AB,4,FALSE),AC48)+AD48)","v":3029},{"$f":"IF($B48=\"\",\"\",0+UPPER(Mainframe!J47))","v":9},{"$f":"IF(AF48=\"\",\"\",IF(NOT(ISNA(VLOOKUP(AF48,Answers!AC:AF,4,FALSE))),VLOOKUP(AF48,Answers!AC:AF,4,FALSE),\"Help!\"))","v":1000},null,{"$f":"IF(AG48=\"\",\"\",AE48+IF(AG48=\"XX\",VLOOKUP(\"WRONG\",Answers!AC:AF,4,FALSE),AG48)+AH48)","v":4029},{"$f":"IF($B48=\"\",\"\",0+UPPER(Mainframe!K47))","v":75},{"$f":"IF(AJ48=\"\",\"\",IF(NOT(ISNA(VLOOKUP(AJ48,Answers!AG:AJ,4,FALSE))),VLOOKUP(AJ48,Answers!AG:AJ,4,FALSE),\"Help!\"))","v":4},null,{"$f":"IF(AK48=\"\",\"\",AI48+IF(AK48=\"XX\",VLOOKUP(\"WRONG\",Answers!AG:AJ,4,FALSE),AK48)+AL48)","v":4033},{"$f":"IF($B48=\"\",\"\",0+UPPER(Mainframe!L47))","v":22},{"$f":"IF(AN48=\"\",\"\",IF(NOT(ISNA(VLOOKUP(AN48,Answers!AK:AN,4,FALSE))),VLOOKUP(AN48,Answers!AK:AN,4,FALSE),\"Help!\"))","v":6},null,{"$f":"IF(AO48=\"\",\"\",AM48+IF(AO48=\"XX\",VLOOKUP(\"WRONG\",Answers!AK:AN,4,FALSE),AO48)+AP48)","v":4039},{"$f":"IF($B48=\"\",\"\",0+UPPER(Mainframe!M47))","v":50},{"$f":"IF(AR48=\"\",\"\",IF(NOT(ISNA(VLOOKUP(AR48,Answers!AO:AR,4,FALSE))),VLOOKUP(AR48,Answers!AO:AR,4,FALSE),\"Help!\"))","v":5},null,{"$f":"IF(AS48=\"\",\"\",AQ48+IF(AS48=\"XX\",VLOOKUP(\"WRONG\",Answers!AO:AR,4,FALSE),AS48)+AT48)","v":4044},{"$f":"IF($B48=\"\",\"\",0+UPPER(Mainframe!N47))","v":27},{"$f":"IF(AV48=\"\",\"\",IF(NOT(ISNA(VLOOKUP(AV48,Answers!AS:AV,4,FALSE))),VLOOKUP(AV48,Answers!AS:AV,4,FALSE),\"Help!\"))","v":9},null,{"$f":"IF(AW48=\"\",\"\",AU48+IF(AW48=\"XX\",VLOOKUP(\"WRONG\",Answers!AS:AV,4,FALSE),AW48)+AX48)","v":4053},{"$f":"IF($B48=\"\",\"\",0+UPPER(Mainframe!O47))","v":500},11.520547945205465,1,{"$f":"IF($B48=\"\",\"\",LEFT(Mainframe!P47,SEARCH(\".\",Mainframe!P47)-1))","v":"7"},null,null,null,null,null,null,null,null,null,null,null,null,null,null,null,null,null,null,null,null,null,null,null,null,null,null,null,null,null,null,46,{"$f":"IF(INDEX($B:$CE,ROW(),QNO*4)=\"XX\",\"[b][u]\"&INDEX($B:$CE,ROW(),QNO*4-1)&\"[/u][/b]\",\"[color=#BF0040]\"&INDEX(OFFSET(Answers!C:C,0,(QNO-1)*4),MATCH(INDEX($A:$CB,ROW(),QNO*4),OFFSET(Answers!A:A,0,(QNO-1)*4),0))&\"[/color]//[b]\"&INDEX(OFFSET(Answers!B:B,0,(QNO-1)*4),MATCH(INDEX($A:$CB,ROW(),QNO*4),OFFSET(Answers!A:A,0,(QNO-1)*4),0))&\"[/b] — [b]\"&IF(INDEX($B:$CE,ROW(),QNO*4)=1,\"Singleton!\",CONCATENATE(INDEX($B:$CE,ROW(),QNO*4),\" responses\"))&\"[/b]\")","v":"[color=#BF0040]\"Mama Told Me (Not to Come)\", \"Joy to the World\", \"Black and White\"[/color]//[b][u]THREE[/u] DOG NIGHT[/b] — [b]11 responses[/b]"},"ouachiouat","Yes","46. ouachiouat — [b]11[/b] pts",51,5]
["[*]",{"$f":"IF(Mainframe!B48=\"\",\"\",INDEX(Mainframe!$B:$B,C49+1,1))","v":"RyanWillDestroySofia"},47,{"$f":"IF($B49=\"\",\"\",0+UPPER(Mainframe!C48))","v":5000},{"$f":"IF(D49=\"\",\"\",IF(NOT(ISNA(VLOOKUP(D49,Answers!A:D,4,FALSE))),VLOOKUP(D49,Answers!A:D,4,FALSE),\"Help!\"))","v":5},null,{"$f":"IF(E49=\"\",\"\",IF(E49=\"XX\",VLOOKUP(\"WRONG\",Answers!A:D,4,FALSE),E49)+F49)","v":5},{"$f":"IF($B49=\"\",\"\",0+UPPER(Mainframe!D48))","v":22},{"$f":"IF(H49=\"\",\"\",IF(NOT(ISNA(VLOOKUP(H49,Answers!E:H,4,FALSE))),VLOOKUP(H49,Answers!E:H,4,FALSE),\"Help!\"))","v":11},null,{"$f":"IF(I49=\"\",\"\",G49+IF(I49=\"XX\",VLOOKUP(\"WRONG\",Answers!E:H,4,FALSE),I49)+J49)","v":16},{"$f":"IF($B49=\"\",\"\",0+UPPER(Mainframe!E48))","v":16},{"$f":"IF(L49=\"\",\"\",IF(NOT(ISNA(VLOOKUP(L49,Answers!I:L,4,FALSE))),VLOOKUP(L49,Answers!I:L,4,FALSE),\"Help!\"))","v":12},null,{"$f":"IF(M49=\"\",\"\",K49+IF(M49=\"XX\",VLOOKUP(\"WRONG\",Answers!I:L,4,FALSE),M49)+N49)","v":28},{"$f":"IF($B49=\"\",\"\",0+UPPER(Mainframe!F48))","v":1861},{"$f":"IF(P49=\"\",\"\",IF(NOT(ISNA(VLOOKUP(P49,Answers!M:P,4,FALSE))),VLOOKUP(P49,Answers!M:P,4,FALSE),\"Help!\"))","v":1000},{"$f":"IF(Q49>500,-1000,0)","v":-1000},{"$f":"IF(Q49=\"\",\"\",O49+IF(Q49=\"XX\",VLOOKUP(\"WRONG\",Answers!M:P,4,FALSE),Q49)+R49)","v":28},{"$f":"IF($B49=\"\",\"\",0+UPPER(Mainframe!G48))","v":6},{"$f":"IF(T49=\"\",\"\",IF(NOT(ISNA(VLOOKUP(T49,Answers!Q:T,4,FALSE))),VLOOKUP(T49,Answers!Q:T,4,FALSE),\"Help!\"))","v":9},null,{"$f":"IF(U49=\"\",\"\",S49+IF(U49=\"XX\",VLOOKUP(\"WRONG\",Answers!Q:T,4,FALSE),U49)+V49)","v":37},{"$f":"IF($B49=\"\",\"\",0+UPPER(Mainframe!H48))","v":1000},{"$f":"IF(X49=\"\",\"\",IF(NOT(ISNA(VLOOKUP(X49,Answers!U:X,4,FALSE))),VLOOKUP(X49,Answers!U:X,4,FALSE),\"Help!\"))","v":6},null,{"$f":"IF(Y49=\"\",\"\",W49+IF(Y49=\"XX\",VLOOKUP(\"WRONG\",Answers!U:X,4,FALSE),Y49)+Z49)","v":43},{"$f":"IF($B49=\"\",\"\",0+UPPER(Mainframe!I48))","v":19},{"$f":"IF(AB49=\"\",\"\",IF(NOT(ISNA(VLOOKUP(AB49,Answers!Y:AB,4,FALSE))),VLOOKUP(AB49,Answers!Y:AB,4,FALSE),\"Help!\"))","v":2},null,{"$f":"IF(AC49=\"\",\"\",AA49+IF(AC49=\"XX\",VLOOKUP(\"WRONG\",Answers!Y:AB,4,FALSE),AC49)+AD49)","v":45},{"$f":"IF($B49=\"\",\"\",0+UPPER(Mainframe!J48))","v":18},{"$f":"IF(AF49=\"\",\"\",IF(NOT(ISNA(VLOOKUP(AF49,Answers!AC:AF,4,FALSE))),VLOOKUP(AF49,Answers!AC:AF,4,FALSE),\"Help!\"))","v":10},null,{"$f":"IF(AG49=\"\",\"\",AE49+IF(AG49=\"XX\",VLOOKUP(\"WRONG\",Answers!AC:AF,4,FALSE),AG49)+AH49)","v":55},{"$f":"IF($B49=\"\",\"\",0+UPPER(Mainframe!K48))","v":4},{"$f":"IF(AJ49=\"\",\"\",IF(NOT(ISNA(VLOOKUP(AJ49,Answers!AG:AJ,4,FALSE))),VLOOKUP(AJ49,Answers!AG:AJ,4,FALSE),\"Help!\"))","v":4},null,{"$f":"IF(AK49=\"\",\"\",AI49+IF(AK49=\"XX\",VLOOKUP(\"WRONG\",Answers!AG:AJ,4,FALSE),AK49)+AL49)","v":59},{"$f":"IF($B49=\"\",\"\",0+UPPER(Mainframe!L48))","v":67},{"$f":"IF(AN49=\"\",\"\",IF(NOT(ISNA(VLOOKUP(AN49,Answers!AK:AN,4,FALSE))),VLOOKUP(AN49,Answers!AK:AN,4,FALSE),\"Help!\"))","v":1000},null,{"$f":"IF(AO49=\"\",\"\",AM49+IF(AO49=\"XX\",VLOOKUP(\"WRONG\",Answers!AK:AN,4,FALSE),AO49)+AP49)","v":1059},{"$f":"IF($B49=\"\",\"\",0+UPPER(Mainframe!M48))","v":5},{"$f":"IF(AR49=\"\",\"\",IF(NOT(ISNA(VLOOKUP(AR49,Answers!AO:AR,4,FALSE))),VLOOKUP(AR49,Answers!AO:AR,4,FALSE),\"Help!\"))","v":1000},null,{"$f":"IF(AS49=\"\",\"\",AQ49+IF(AS49=\"XX\",VLOOKUP(\"WRONG\",Answers!AO:AR,4,FALSE),AS49)+AT49)","v":2059},{"$f":"IF($B49=\"\",\"\",0+UPPER(Mainframe!N48))","v":95},{"$f":"IF(AV49=\"\",\"\",IF(NOT(ISNA(VLOOKUP(AV49,Answers!AS:AV,4,FALSE))),VLOOKUP(AV49,Answers!AS:AV,4,FALSE),\"Help!\"))","v":7},null,{"$f":"IF(AW49=\"\",\"\",AU49+IF(AW49=\"XX\",VLOOKUP(\"WRONG\",Answers!AS:AV,4,FALSE),AW49)+AX49)","v":2066},{"$f":"IF($B49=\"\",\"\",0+UPPER(Mainframe!O48))","v":401},87.479452054794535,1,{"$f":"IF($B49=\"\",\"\",LEFT(Mainframe!P48,SEARCH(\".\",Mainframe!P48)-1))","v":"4"},null,null,null,null,null,null,null,null,null,null,null,null,null,null,null,null,null,null,null,null,null,null,null,null,null,null,null,null,null,null,47,{"$f":"IF(INDEX($B:$CE,ROW(),QNO*4)=\"XX\",\"[b][u]\"&INDEX($B:$CE,ROW(),QNO*4-1)&\"[/u][/b]\",\"[color=#BF0040]\"&INDEX(OFFSET(Answers!C:C,0,(QNO-1)*4),MATCH(INDEX($A:$CB,ROW(),QNO*4),OFFSET(Answers!A:A,0,(QNO-1)*4),0))&\"[/color]//[b]\"&INDEX(OFFSET(Answers!B:B,0,(QNO-1)*4),MATCH(INDEX($A:$CB,ROW(),QNO*4),OFFSET(Answers!A:A,0,(QNO-1)*4),0))&\"[/b] — [b]\"&IF(INDEX($B:$CE,ROW(),QNO*4)=1,\"Singleton!\",CONCATENATE(INDEX($B:$CE,ROW(),QNO*4),\" responses\"))&\"[/b]\")","v":"[color=#BF0040]\"When Worlds Collide\", \"Free\", \"How To Be a Human\"[/color]//[b]POWERMAN [u]5000[/u][/b] — [b]5 responses[/b]"},"RyanWillDestroySofia","Yes","47. RyanWillDestroySofia — [b]5[/b] pts",22,-25]
["[*]",{"$f":"IF(Mainframe!B49=\"\",\"\",INDEX(Mainframe!$B:$B,C50+1,1))","v":"Pickle"},48,{"$f":"IF($B50=\"\",\"\",0+UPPER(Mainframe!C49))","v":10000},{"$f":"IF(D50=\"\",\"\",IF(NOT(ISNA(VLOOKUP(D50,Answers!A:D,4,FALSE))),VLOOKUP(D50,Answers!A:D,4,FALSE),\"Help!\"))","v":6},null,{"$f":"IF(E50=\"\",\"\",IF(E50=\"XX\",VLOOKUP(\"WRONG\",Answers!A:D,4,FALSE),E50)+F50)","v":6},{"$f":"IF($B50=\"\",\"\",0+UPPER(Mainframe!D49))","v":186},"XX",null,{"$f":"IF(I50=\"\",\"\",G50+IF(I50=\"XX\",VLOOKUP(\"WRONG\",Answers!E:H,4,FALSE),I50)+J50)","v":1013},{"$f":"IF($B50=\"\",\"\",0+UPPER(Mainframe!E49))","v":2001},{"$f":"IF(L50=\"\",\"\",IF(NOT(ISNA(VLOOKUP(L50,Answers!I:L,4,FALSE))),VLOOKUP(L50,Answers!I:L,4,FALSE),\"Help!\"))","v":6},null,{"$f":"IF(M50=\"\",\"\",K50+IF(M50=\"XX\",VLOOKUP(\"WRONG\",Answers!I:L,4,FALSE),M50)+N50)","v":1019},{"$f":"IF($B50=\"\",\"\",0+UPPER(Mainframe!F49))","v":2003},{"$f":"IF(P50=\"\",\"\",IF(NOT(ISNA(VLOOKUP(P50,Answers!M:P,4,FALSE))),VLOOKUP(P50,Answers!M:P,4,FALSE),\"Help!\"))","v":8},null,{"$f":"IF(Q50=\"\",\"\",O50+IF(Q50=\"XX\",VLOOKUP(\"WRONG\",Answers!M:P,4,FALSE),Q50)+R50)","v":1027},{"$f":"IF($B50=\"\",\"\",0+UPPER(Mainframe!G49))","v":18},{"$f":"IF(T50=\"\",\"\",IF(NOT(ISNA(VLOOKUP(T50,Answers!Q:T,4,FALSE))),VLOOKUP(T50,Answers!Q:T,4,FALSE),\"Help!\"))","v":6},null,{"$f":"IF(U50=\"\",\"\",S50+IF(U50=\"XX\",VLOOKUP(\"WRONG\",Answers!Q:T,4,FALSE),U50)+V50)","v":1033},{"$f":"IF($B50=\"\",\"\",0+UPPER(Mainframe!H49))","v":12},{"$f":"IF(X50=\"\",\"\",IF(NOT(ISNA(VLOOKUP(X50,Answers!U:X,4,FALSE))),VLOOKUP(X50,Answers!U:X,4,FALSE),\"Help!\"))","v":5},null,{"$f":"IF(Y50=\"\",\"\",W50+IF(Y50=\"XX\",VLOOKUP(\"WRONG\",Answers!U:X,4,FALSE),Y50)+Z50)","v":1038},{"$f":"IF($B50=\"\",\"\",0+UPPER(Mainframe!I49))","v":20},{"$f":"IF(AB50=\"\",\"\",IF(NOT(ISNA(VLOOKUP(AB50,Answers!Y:AB,4,FALSE))),VLOOKUP(AB50,Answers!Y:AB,4,FALSE),\"Help!\"))","v":13},null,{"$f":"IF(AC50=\"\",\"\",AA50+IF(AC50=\"XX\",VLOOKUP(\"WRONG\",Answers!Y:AB,4,FALSE),AC50)+AD50)","v":1051},{"$f":"IF($B50=\"\",\"\",0+UPPER(Mainframe!J49))","v":1791},"XX",null,{"$f":"IF(AG50=\"\",\"\",AE50+IF(AG50=\"XX\",VLOOKUP(\"WRONG\",Answers!AC:AF,4,FALSE),AG50)+AH50)","v":2058},{"$f":"IF($B50=\"\",\"\",0+UPPER(Mainframe!K49))","v":95},{"$f":"IF(AJ50=\"\",\"\",IF(NOT(ISNA(VLOOKUP(AJ50,Answers!AG:AJ,4,FALSE))),VLOOKUP(AJ50,Answers!AG:AJ,4,FALSE),\"Help!\"))","v":6},null,{"$f":"IF(AK50=\"\",\"\",AI50+IF(AK50=\"XX\",VLOOKUP(\"WRONG\",Answers!AG:AJ,4,FALSE),AK50)+AL50)","v":2064},{"$f":"IF($B50=\"\",\"\",0+UPPER(Mainframe!L49))","v":2130},{"$f":"IF(AN50=\"\",\"\",IF(NOT(ISNA(VLOOKUP(AN50,Answers!AK:AN,4,FALSE))),VLOOKUP(AN50,Answers!AK:AN,4,FALSE),\"Help!\"))","v":2},null,{"$f":"IF(AO50=\"\",\"\",AM50+IF(AO50=\"XX\",VLOOKUP(\"WRONG\",Answers!AK:AN,4,FALSE),AO50)+AP50)","v":2066},{"$f":"IF($B50=\"\",\"\",0+UPPER(Mainframe!M49))","v":1000},{"$f":"IF(AR50=\"\",\"\",IF(NOT(ISNA(VLOOKUP(AR50,Answers!AO:AR,4,FALSE))),VLOOKUP(AR50,Answers!AO:AR,4,FALSE),\"Help!\"))","v":6},null,{"$f":"IF(AS50=\"\",\"\",AQ50+IF(AS50=\"XX\",VLOOKUP(\"WRONG\",Answers!AO:AR,4,FALSE),AS50)+AT50)","v":2072},{"$f":"IF($B50=\"\",\"\",0+UPPER(Mainframe!N49))","v":10},{"$f":"IF(AV50=\"\",\"\",IF(NOT(ISNA(VLOOKUP(AV50,Answers!AS:AV,4,FALSE))),VLOOKUP(AV50,Answers!AS:AV,4,FALSE),\"Help!\"))","v":1000},{"$f":"IF(AW50>500,-1000,0)","v":-1000},{"$f":"IF(AW50=\"\",\"\",AU50+IF(AW50=\"XX\",VLOOKUP(\"WRONG\",Answers!AS:AV,4,FALSE),AW50)+AX50)","v":2072},{"$f":"IF($B50=\"\",\"\",0+UPPER(Mainframe!O49))","v":343},145.47945205479454,1,{"$f":"IF($B50=\"\",\"\",LEFT(Mainframe!P49,SEARCH(\".\",Mainframe!P49)-1))","v":"12"},null,null,null,null,null,null,null,null,null,null,null,null,null,null,null,null,null,null,null,null,null,null,null,null,null,null,null,null,null,null,48,{"$f":"IF(INDEX($B:$CE,ROW(),QNO*4)=\"XX\",\"[b][u]\"&INDEX($B:$CE,ROW(),QNO*4-1)&\"[/u][/b]\",\"[color=#BF0040]\"&INDEX(OFFSET(Answers!C:C,0,(QNO-1)*4),MATCH(INDEX($A:$CB,ROW(),QNO*4),OFFSET(Answers!A:A,0,(QNO-1)*4),0))&\"[/color]//[b]\"&INDEX(OFFSET(Answers!B:B,0,(QNO-1)*4),MATCH(INDEX($A:$CB,ROW(),QNO*4),OFFSET(Answers!A:A,0,(QNO-1)*4),0))&\"[/b] — [b]\"&IF(INDEX($B:$CE,ROW(),QNO*4)=1,\"Singleton!\",CONCATENATE(INDEX($B:$CE,ROW(),QNO*4),\" responses\"))&\"[/b]\")","v":"[color=#BF0040]\"What's the Matter Here?\", \"Trouble Me\", \"Because the Night\" (on [i]MTV Unplugged[/i])[/color]//[b][u]10,000[/u] MANIACS[/b] — [b]6 responses[/b]"},"Pickle","Yes","48. Pickle — [b]6[/b] pts",26,-22]
["[*]",{"$f":"IF(Mainframe!B50=\"\",\"\",INDEX(Mainframe!$B:$B,C51+1,1))","v":"BobF"},49,{"$f":"IF($B51=\"\",\"\",0+UPPER(Mainframe!C50))","v":182},{"$f":"IF(D51=\"\",\"\",IF(NOT(ISNA(VLOOKUP(D51,Answers!A:D,4,FALSE))),VLOOKUP(D51,Answers!A:D,4,FALSE),\"Help!\"))","v":2},null,{"$f":"IF(E51=\"\",\"\",IF(E51=\"XX\",VLOOKUP(\"WRONG\",Answers!A:D,4,FALSE),E51)+F51)","v":2},{"$f":"IF($B51=\"\",\"\",0+UPPER(Mainframe!D50))","v":49},"XX",null,{"$f":"IF(I51=\"\",\"\",G51+IF(I51=\"XX\",VLOOKUP(\"WRONG\",Answers!E:H,4,FALSE),I51)+J51)","v":1009},{"$f":"IF($B51=\"\",\"\",0+UPPER(Mainframe!E50))","v":300},{"$f":"IF(L51=\"\",\"\",IF(NOT(ISNA(VLOOKUP(L51,Answers!I:L,4,FALSE))),VLOOKUP(L51,Answers!I:L,4,FALSE),\"Help!\"))","v":11},{"$f":"IF(M51>500,-1000,0)","v":0},{"$f":"IF(M51=\"\",\"\",K51+IF(M51=\"XX\",VLOOKUP(\"WRONG\",Answers!I:L,4,FALSE),M51)+N51)","v":1020},{"$f":"IF($B51=\"\",\"\",0+UPPER(Mainframe!F50))","v":476},"XX",null,{"$f":"IF(Q51=\"\",\"\",O51+IF(Q51=\"XX\",VLOOKUP(\"WRONG\",Answers!M:P,4,FALSE),Q51)+R51)","v":2027},{"$f":"IF($B51=\"\",\"\",0+UPPER(Mainframe!G50))","v":6},{"$f":"IF(T51=\"\",\"\",IF(NOT(ISNA(VLOOKUP(T51,Answers!Q:T,4,FALSE))),VLOOKUP(T51,Answers!Q:T,4,FALSE),\"Help!\"))","v":9},null,{"$f":"IF(U51=\"\",\"\",S51+IF(U51=\"XX\",VLOOKUP(\"WRONG\",Answers!Q:T,4,FALSE),U51)+V51)","v":2036},{"$f":"IF($B51=\"\",\"\",0+UPPER(Mainframe!H50))","v":1000},{"$f":"IF(X51=\"\",\"\",IF(NOT(ISNA(VLOOKUP(X51,Answers!U:X,4,FALSE))),VLOOKUP(X51,Answers!U:X,4,FALSE),\"Help!\"))","v":6},null,{"$f":"IF(Y51=\"\",\"\",W51+IF(Y51=\"XX\",VLOOKUP(\"WRONG\",Answers!U:X,4,FALSE),Y51)+Z51)","v":2042},{"$f":"IF($B51=\"\",\"\",0+UPPER(Mainframe!I50))","v":42},{"$f":"IF(AB51=\"\",\"\",IF(NOT(ISNA(VLOOKUP(AB51,Answers!Y:AB,4,FALSE))),VLOOKUP(AB51,Answers!Y:AB,4,FALSE),\"Help!\"))","v":13},null,{"$f":"IF(AC51=\"\",\"\",AA51+IF(AC51=\"XX\",VLOOKUP(\"WRONG\",Answers!Y:AB,4,FALSE),AC51)+AD51)","v":2055},{"$f":"IF($B51=\"\",\"\",0+UPPER(Mainframe!J50))","v":34},{"$f":"IF(AF51=\"\",\"\",IF(NOT(ISNA(VLOOKUP(AF51,Answers!AC:AF,4,FALSE))),VLOOKUP(AF51,Answers!AC:AF,4,FALSE),\"Help!\"))","v":4},null,{"$f":"IF(AG51=\"\",\"\",AE51+IF(AG51=\"XX\",VLOOKUP(\"WRONG\",Answers!AC:AF,4,FALSE),AG51)+AH51)","v":2059},{"$f":"IF($B51=\"\",\"\",0+UPPER(Mainframe!K50))","v":4},{"$f":"IF(AJ51=\"\",\"\",IF(NOT(ISNA(VLOOKUP(AJ51,Answers!AG:AJ,4,FALSE))),VLOOKUP(AJ51,Answers!AG:AJ,4,FALSE),\"Help!\"))","v":4},null,{"$f":"IF(AK51=\"\",\"\",AI51+IF(AK51=\"XX\",VLOOKUP(\"WRONG\",Answers!AG:AJ,4,FALSE),AK51)+AL51)","v":2063},{"$f":"IF($B51=\"\",\"\",0+UPPER(Mainframe!L50))","v":67},{"$f":"IF(AN51=\"\",\"\",IF(NOT(ISNA(VLOOKUP(AN51,Answers!AK:AN,4,FALSE))),VLOOKUP(AN51,Answers!AK:AN,4,FALSE),\"Help!\"))","v":1000},null,{"$f":"IF(AO51=\"\",\"\",AM51+IF(AO51=\"XX\",VLOOKUP(\"WRONG\",Answers!AK:AN,4,FALSE),AO51)+AP51)","v":3063},{"$f":"IF($B51=\"\",\"\",0+UPPER(Mainframe!M50))","v":11},{"$f":"IF(AR51=\"\",\"\",IF(NOT(ISNA(VLOOKUP(AR51,Answers!AO:AR,4,FALSE))),VLOOKUP(AR51,Answers!AO:AR,4,FALSE),\"Help!\"))","v":5},null,{"$f":"IF(AS51=\"\",\"\",AQ51+IF(AS51=\"XX\",VLOOKUP(\"WRONG\",Answers!AO:AR,4,FALSE),AS51)+AT51)","v":3068},{"$f":"IF($B51=\"\",\"\",0+UPPER(Mainframe!N50))","v":632},"XX",null,{"$f":"IF(AW51=\"\",\"\",AU51+IF(AW51=\"XX\",VLOOKUP(\"WRONG\",Answers!AS:AV,4,FALSE),AW51)+AX51)","v":4075},{"$f":"IF($B51=\"\",\"\",0+UPPER(Mainframe!O50))","v":500},11.520547945205465,1,{"$f":"IF($B51=\"\",\"\",LEFT(Mainframe!P50,SEARCH(\".\",Mainframe!P50)-1))","v":"3"},null,null,null,null,null,null,null,null,null,null,null,null,null,null,null,null,null,null,null,null,null,null,null,null,null,null,null,null,null,null,49,{"$f":"IF(INDEX($B:$CE,ROW(),QNO*4)=\"XX\",\"[b][u]\"&INDEX($B:$CE,ROW(),QNO*4-1)&\"[/u][/b]\",\"[color=#BF0040]\"&INDEX(OFFSET(Answers!C:C,0,(QNO-1)*4),MATCH(INDEX($A:$CB,ROW(),QNO*4),OFFSET(Answers!A:A,0,(QNO-1)*4),0))&\"[/color]//[b]\"&INDEX(OFFSET(Answers!B:B,0,(QNO-1)*4),MATCH(INDEX($A:$CB,ROW(),QNO*4),OFFSET(Answers!A:A,0,(QNO-1)*4),0))&\"[/b] — [b]\"&IF(INDEX($B:$CE,ROW(),QNO*4)=1,\"Singleton!\",CONCATENATE(INDEX($B:$CE,ROW(),QNO*4),\" responses\"))&\"[/b]\")","v":"[color=#BF0040]\"Dammit (Growing Up)\", \"What's My Age Again?\", \"All the Small Things\"[/color]//[b]BLINK [u]182[/u][/b] — [b]2 responses[/b]"},"BobF","Yes","49. BobF — [b]2[/b] pts",58,9]
["[*]",{"$f":"IF(Mainframe!B51=\"\",\"\",INDEX(Mainframe!$B:$B,C52+1,1))","v":"Peachbox"},50,{"$f":"IF($B52=\"\",\"\",0+UPPER(Mainframe!C51))","v":1},{"$f":"IF(D52=\"\",\"\",IF(NOT(ISNA(VLOOKUP(D52,Answers!A:D,4,FALSE))),VLOOKUP(D52,Answers!A:D,4,FALSE),\"Help!\"))","v":8},null,{"$f":"IF(E52=\"\",\"\",IF(E52=\"XX\",VLOOKUP(\"WRONG\",Answers!A:D,4,FALSE),E52)+F52)","v":8},{"$f":"IF($B52=\"\",\"\",0+UPPER(Mainframe!D51))","v":21},{"$f":"IF(H52=\"\",\"\",IF(NOT(ISNA(VLOOKUP(H52,Answers!E:H,4,FALSE))),VLOOKUP(H52,Answers!E:H,4,FALSE),\"Help!\"))","v":1000},null,{"$f":"IF(I52=\"\",\"\",G52+IF(I52=\"XX\",VLOOKUP(\"WRONG\",Answers!E:H,4,FALSE),I52)+J52)","v":1008},{"$f":"IF($B52=\"\",\"\",0+UPPER(Mainframe!E51))","v":34},{"$f":"IF(L52=\"\",\"\",IF(NOT(ISNA(VLOOKUP(L52,Answers!I:L,4,FALSE))),VLOOKUP(L52,Answers!I:L,4,FALSE),\"Help!\"))","v":1000},null,{"$f":"IF(M52=\"\",\"\",K52+IF(M52=\"XX\",VLOOKUP(\"WRONG\",Answers!I:L,4,FALSE),M52)+N52)","v":2008},{"$f":"IF($B52=\"\",\"\",0+UPPER(Mainframe!F51))","v":1861},{"$f":"IF(P52=\"\",\"\",IF(NOT(ISNA(VLOOKUP(P52,Answers!M:P,4,FALSE))),VLOOKUP(P52,Answers!M:P,4,FALSE),\"Help!\"))","v":1000},null,{"$f":"IF(Q52=\"\",\"\",O52+IF(Q52=\"XX\",VLOOKUP(\"WRONG\",Answers!M:P,4,FALSE),Q52)+R52)","v":3008},{"$f":"IF($B52=\"\",\"\",0+UPPER(Mainframe!G51))","v":2},{"$f":"IF(T52=\"\",\"\",IF(NOT(ISNA(VLOOKUP(T52,Answers!Q:T,4,FALSE))),VLOOKUP(T52,Answers!Q:T,4,FALSE),\"Help!\"))","v":14},{"$f":"IF(U52>500,-1000,0)","v":0},{"$f":"IF(U52=\"\",\"\",S52+IF(U52=\"XX\",VLOOKUP(\"WRONG\",Answers!Q:T,4,FALSE),U52)+V52)","v":3022},{"$f":"IF($B52=\"\",\"\",0+UPPER(Mainframe!H51))","v":12},{"$f":"IF(X52=\"\",\"\",IF(NOT(ISNA(VLOOKUP(X52,Answers!U:X,4,FALSE))),VLOOKUP(X52,Answers!U:X,4,FALSE),\"Help!\"))","v":5},null,{"$f":"IF(Y52=\"\",\"\",W52+IF(Y52=\"XX\",VLOOKUP(\"WRONG\",Answers!U:X,4,FALSE),Y52)+Z52)","v":3027},{"$f":"IF($B52=\"\",\"\",0+UPPER(Mainframe!I51))","v":76},{"$f":"IF(AB52=\"\",\"\",IF(NOT(ISNA(VLOOKUP(AB52,Answers!Y:AB,4,FALSE))),VLOOKUP(AB52,Answers!Y:AB,4,FALSE),\"Help!\"))","v":1000},null,{"$f":"IF(AC52=\"\",\"\",AA52+IF(AC52=\"XX\",VLOOKUP(\"WRONG\",Answers!Y:AB,4,FALSE),AC52)+AD52)","v":4027},{"$f":"IF($B52=\"\",\"\",0+UPPER(Mainframe!J51))","v":1974},{"$f":"IF(AF52=\"\",\"\",IF(NOT(ISNA(VLOOKUP(AF52,Answers!AC:AF,4,FALSE))),VLOOKUP(AF52,Answers!AC:AF,4,FALSE),\"Help!\"))","v":8},null,{"$f":"IF(AG52=\"\",\"\",AE52+IF(AG52=\"XX\",VLOOKUP(\"WRONG\",Answers!AC:AF,4,FALSE),AG52)+AH52)","v":4035},{"$f":"IF($B52=\"\",\"\",0+UPPER(Mainframe!K51))","v":80},{"$f":"IF(AJ52=\"\",\"\",IF(NOT(ISNA(VLOOKUP(AJ52,Answers!AG:AJ,4,FALSE))),VLOOKUP(AJ52,Answers!AG:AJ,4,FALSE),\"Help!\"))","v":6},null,{"$f":"IF(AK52=\"\",\"\",AI52+IF(AK52=\"XX\",VLOOKUP(\"WRONG\",Answers!AG:AJ,4,FALSE),AK52)+AL52)","v":4041},{"$f":"IF($B52=\"\",\"\",0+UPPER(Mainframe!L51))","v":60},{"$f":"IF(AN52=\"\",\"\",IF(NOT(ISNA(VLOOKUP(AN52,Answers!AK:AN,4,FALSE))),VLOOKUP(AN52,Answers!AK:AN,4,FALSE),\"Help!\"))","v":4},null,{"$f":"IF(AO52=\"\",\"\",AM52+IF(AO52=\"XX\",VLOOKUP(\"WRONG\",Answers!AK:AN,4,FALSE),AO52)+AP52)","v":4045},{"$f":"IF($B52=\"\",\"\",0+UPPER(Mainframe!M51))","v":9},{"$f":"IF(AR52=\"\",\"\",IF(NOT(ISNA(VLOOKUP(AR52,Answers!AO:AR,4,FALSE))),VLOOKUP(AR52,Answers!AO:AR,4,FALSE),\"Help!\"))","v":9},null,{"$f":"IF(AS52=\"\",\"\",AQ52+IF(AS52=\"XX\",VLOOKUP(\"WRONG\",Answers!AO:AR,4,FALSE),AS52)+AT52)","v":4054},{"$f":"IF($B52=\"\",\"\",0+UPPER(Mainframe!N51))","v":95},{"$f":"IF(AV52=\"\",\"\",IF(NOT(ISNA(VLOOKUP(AV52,Answers!AS:AV,4,FALSE))),VLOOKUP(AV52,Answers!AS:AV,4,FALSE),\"Help!\"))","v":7},null,{"$f":"IF(AW52=\"\",\"\",AU52+IF(AW52=\"XX\",VLOOKUP(\"WRONG\",Answers!AS:AV,4,FALSE),AW52)+AX52)","v":4061},{"$f":"IF($B52=\"\",\"\",0+UPPER(Mainframe!O51))","v":528},39.520547945205465,1,{"$f":"IF($B52=\"\",\"\",LEFT(Mainframe!P51,SEARCH(\".\",Mainframe!P51)-1))","v":"5"},null,null,null,null,null,null,null,null,null,null,null,null,null,null,null,null,null,null,null,null,null,null,null,null,null,null,null,null,null,null,50,{"$f":"IF(INDEX($B:$CE,ROW(),QNO*4)=\"XX\",\"[b][u]\"&INDEX($B:$CE,ROW(),QNO*4-1)&\"[/u][/b]\",\"[color=#BF0040]\"&INDEX(OFFSET(Answers!C:C,0,(QNO-1)*4),MATCH(INDEX($A:$CB,ROW(),QNO*4),OFFSET(Answers!A:A,0,(QNO-1)*4),0))&\"[/color]//[b]\"&INDEX(OFFSET(Answers!B:B,0,(QNO-1)*4),MATCH(INDEX($A:$CB,ROW(),QNO*4),OFFSET(Answers!A:A,0,(QNO-1)*4),0))&\"[/b] — [b]\"&IF(INDEX($B:$CE,ROW(),QNO*4)=1,\"Singleton!\",CONCATENATE(INDEX($B:$CE,ROW(),QNO*4),\" responses\"))&\"[/b]\")","v":"[color=#BF0040]\"What Makes You Beautiful\", \"Little Things\", \"Best Song Ever\"[/color]//[b][u]ONE[/u] DIRECTION[/b] — [b]8 responses[/b]"},"Peachbox","Yes","50. Peachbox — [b]8[/b] pts",54,4]
["[*]",{"$f":"IF(Mainframe!B52=\"\",\"\",INDEX(Mainframe!$B:$B,C53+1,1))","v":"RandyG"},51,{"$f":"IF($B53=\"\",\"\",0+UPPER(Mainframe!C52))","v":10000},{"$f":"IF(D53=\"\",\"\",IF(NOT(ISNA(VLOOKUP(D53,Answers!A:D,4,FALSE))),VLOOKUP(D53,Answers!A:D,4,FALSE),\"Help!\"))","v":6},null,{"$f":"IF(E53=\"\",\"\",IF(E53=\"XX\",VLOOKUP(\"WRONG\",Answers!A:D,4,FALSE),E53)+F53)","v":6},{"$f":"IF($B53=\"\",\"\",0+UPPER(Mainframe!D52))","v":38},{"$f":"IF(H53=\"\",\"\",IF(NOT(ISNA(VLOOKUP(H53,Answers!E:H,4,FALSE))),VLOOKUP(H53,Answers!E:H,4,FALSE),\"Help!\"))","v":7},null,{"$f":"IF(I53=\"\",\"\",G53+IF(I53=\"XX\",VLOOKUP(\"WRONG\",Answers!E:H,4,FALSE),I53)+J53)","v":13},{"$f":"IF($B53=\"\",\"\",0+UPPER(Mainframe!E52))","v":34},{"$f":"IF(L53=\"\",\"\",IF(NOT(ISNA(VLOOKUP(L53,Answers!I:L,4,FALSE))),VLOOKUP(L53,Answers!I:L,4,FALSE),\"Help!\"))","v":1000},null,{"$f":"IF(M53=\"\",\"\",K53+IF(M53=\"XX\",VLOOKUP(\"WRONG\",Answers!I:L,4,FALSE),M53)+N53)","v":1013},{"$f":"IF($B53=\"\",\"\",0+UPPER(Mainframe!F52))","v":1965},"XX",null,{"$f":"IF(Q53=\"\",\"\",O53+IF(Q53=\"XX\",VLOOKUP(\"WRONG\",Answers!M:P,4,FALSE),Q53)+R53)","v":2020},{"$f":"IF($B53=\"\",\"\",0+UPPER(Mainframe!G52))","v":47},{"$f":"IF(T53=\"\",\"\",IF(NOT(ISNA(VLOOKUP(T53,Answers!Q:T,4,FALSE))),VLOOKUP(T53,Answers!Q:T,4,FALSE),\"Help!\"))","v":3},null,{"$f":"IF(U53=\"\",\"\",S53+IF(U53=\"XX\",VLOOKUP(\"WRONG\",Answers!Q:T,4,FALSE),U53)+V53)","v":2023},{"$f":"IF($B53=\"\",\"\",0+UPPER(Mainframe!H52))","v":17},"XX",{"$f":"IF(Y53>500,-1000,0)","v":-1000},{"$f":"IF(Y53=\"\",\"\",W53+IF(Y53=\"XX\",VLOOKUP(\"WRONG\",Answers!U:X,4,FALSE),Y53)+Z53)","v":2030},{"$f":"IF($B53=\"\",\"\",0+UPPER(Mainframe!I52))","v":42},{"$f":"IF(AB53=\"\",\"\",IF(NOT(ISNA(VLOOKUP(AB53,Answers!Y:AB,4,FALSE))),VLOOKUP(AB53,Answers!Y:AB,4,FALSE),\"Help!\"))","v":13},null,{"$f":"IF(AC53=\"\",\"\",AA53+IF(AC53=\"XX\",VLOOKUP(\"WRONG\",Answers!Y:AB,4,FALSE),AC53)+AD53)","v":2043},{"$f":"IF($B53=\"\",\"\",0+UPPER(Mainframe!J52))","v":202},{"$f":"IF(AF53=\"\",\"\",IF(NOT(ISNA(VLOOKUP(AF53,Answers!AC:AF,4,FALSE))),VLOOKUP(AF53,Answers!AC:AF,4,FALSE),\"Help!\"))","v":10},null,{"$f":"IF(AG53=\"\",\"\",AE53+IF(AG53=\"XX\",VLOOKUP(\"WRONG\",Answers!AC:AF,4,FALSE),AG53)+AH53)","v":2053},{"$f":"IF($B53=\"\",\"\",0+UPPER(Mainframe!K52))","v":8},{"$f":"IF(AJ53=\"\",\"\",IF(NOT(ISNA(VLOOKUP(AJ53,Answers!AG:AJ,4,FALSE))),VLOOKUP(AJ53,Answers!AG:AJ,4,FALSE),\"Help!\"))","v":5},null,{"$f":"IF(AK53=\"\",\"\",AI53+IF(AK53=\"XX\",VLOOKUP(\"WRONG\",Answers!AG:AJ,4,FALSE),AK53)+AL53)","v":2058},{"$f":"IF($B53=\"\",\"\",0+UPPER(Mainframe!L52))","v":94},{"$f":"IF(AN53=\"\",\"\",IF(NOT(ISNA(VLOOKUP(AN53,Answers!AK:AN,4,FALSE))),VLOOKUP(AN53,Answers!AK:AN,4,FALSE),\"Help!\"))","v":4},null,{"$f":"IF(AO53=\"\",\"\",AM53+IF(AO53=\"XX\",VLOOKUP(\"WRONG\",Answers!AK:AN,4,FALSE),AO53)+AP53)","v":2062},{"$f":"IF($B53=\"\",\"\",0+UPPER(Mainframe!M52))","v":5},{"$f":"IF(AR53=\"\",\"\",IF(NOT(ISNA(VLOOKUP(AR53,Answers!AO:AR,4,FALSE))),VLOOKUP(AR53,Answers!AO:AR,4,FALSE),\"Help!\"))","v":1000},null,{"$f":"IF(AS53=\"\",\"\",AQ53+IF(AS53=\"XX\",VLOOKUP(\"WRONG\",Answers!AO:AR,4,FALSE),AS53)+AT53)","v":3062},{"$f":"IF($B53=\"\",\"\",0+UPPER(Mainframe!N52))","v":613},{"$f":"IF(AV53=\"\",\"\",IF(NOT(ISNA(VLOOKUP(AV53,Answers!AS:AV,4,FALSE))),VLOOKUP(AV53,Answers!AS:AV,4,FALSE),\"Help!\"))","v":4},null,{"$f":"IF(AW53=\"\",\"\",AU53+IF(AW53=\"XX\",VLOOKUP(\"WRONG\",Answers!AS:AV,4,FALSE),AW53)+AX53)","v":3066},{"$f":"IF($B53=\"\",\"\",0+UPPER(Mainframe!O52))","v":100},388.47945205479454,1,{"$f":"IF($B53=\"\",\"\",LEFT(Mainframe!P52,SEARCH(\".\",Mainframe!P52)-1))","v":"6"},null,null,null,null,null,null,null,null,null,null,null,null,null,null,null,null,null,null,null,null,null,null,null,null,null,null,null,null,null,null,51,{"$f":"IF(INDEX($B:$CE,ROW(),QNO*4)=\"XX\",\"[b][u]\"&INDEX($B:$CE,ROW(),QNO*4-1)&\"[/u][/b]\",\"[color=#BF0040]\"&INDEX(OFFSET(Answers!C:C,0,(QNO-1)*4),MATCH(INDEX($A:$CB,ROW(),QNO*4),OFFSET(Answers!A:A,0,(QNO-1)*4),0))&\"[/color]//[b]\"&INDEX(OFFSET(Answers!B:B,0,(QNO-1)*4),MATCH(INDEX($A:$CB,ROW(),QNO*4),OFFSET(Answers!A:A,0,(QNO-1)*4),0))&\"[/b] — [b]\"&IF(INDEX($B:$CE,ROW(),QNO*4)=1,\"Singleton!\",CONCATENATE(INDEX($B:$CE,ROW(),QNO*4),\" responses\"))&\"[/b]\")","v":"[color=#BF0040]\"What's the Matter Here?\", \"Trouble Me\", \"Because the Night\" (on [i]MTV Unplugged[/i])[/color]//[b][u]10,000[/u] MANIACS[/b] — [b]6 responses[/b]"},"RandyG","Yes","51. RandyG — [b]6[/b] pts",42,-9]
["[*]",{"$f":"IF(Mainframe!B53=\"\",\"\",INDEX(Mainframe!$B:$B,C54+1,1))","v":"Armandillo"},52,{"$f":"IF($B54=\"\",\"\",0+UPPER(Mainframe!C53))","v":65},{"$f":"IF(D54=\"\",\"\",IF(NOT(ISNA(VLOOKUP(D54,Answers!A:D,4,FALSE))),VLOOKUP(D54,Answers!A:D,4,FALSE),\"Help!\"))","v":9},null,{"$f":"IF(E54=\"\",\"\",IF(E54=\"XX\",VLOOKUP(\"WRONG\",Answers!A:D,4,FALSE),E54)+F54)","v":9},{"$f":"IF($B54=\"\",\"\",0+UPPER(Mainframe!D53))","v":22},{"$f":"IF(H54=\"\",\"\",IF(NOT(ISNA(VLOOKUP(H54,Answers!E:H,4,FALSE))),VLOOKUP(H54,Answers!E:H,4,FALSE),\"Help!\"))","v":11},null,{"$f":"IF(I54=\"\",\"\",G54+IF(I54=\"XX\",VLOOKUP(\"WRONG\",Answers!E:H,4,FALSE),I54)+J54)","v":20},{"$f":"IF($B54=\"\",\"\",0+UPPER(Mainframe!E53))","v":101},{"$f":"IF(L54=\"\",\"\",IF(NOT(ISNA(VLOOKUP(L54,Answers!I:L,4,FALSE))),VLOOKUP(L54,Answers!I:L,4,FALSE),\"Help!\"))","v":7},null,{"$f":"IF(M54=\"\",\"\",K54+IF(M54=\"XX\",VLOOKUP(\"WRONG\",Answers!I:L,4,FALSE),M54)+N54)","v":27},{"$f":"IF($B54=\"\",\"\",0+UPPER(Mainframe!F53))","v":1861},{"$f":"IF(P54=\"\",\"\",IF(NOT(ISNA(VLOOKUP(P54,Answers!M:P,4,FALSE))),VLOOKUP(P54,Answers!M:P,4,FALSE),\"Help!\"))","v":1000},null,{"$f":"IF(Q54=\"\",\"\",O54+IF(Q54=\"XX\",VLOOKUP(\"WRONG\",Answers!M:P,4,FALSE),Q54)+R54)","v":1027},{"$f":"IF($B54=\"\",\"\",0+UPPER(Mainframe!G53))","v":1},"XX",null,{"$f":"IF(U54=\"\",\"\",S54+IF(U54=\"XX\",VLOOKUP(\"WRONG\",Answers!Q:T,4,FALSE),U54)+V54)","v":2034},{"$f":"IF($B54=\"\",\"\",0+UPPER(Mainframe!H53))","v":451},{"$f":"IF(X54=\"\",\"\",IF(NOT(ISNA(VLOOKUP(X54,Answers!U:X,4,FALSE))),VLOOKUP(X54,Answers!U:X,4,FALSE),\"Help!\"))","v":8},null,{"$f":"IF(Y54=\"\",\"\",W54+IF(Y54=\"XX\",VLOOKUP(\"WRONG\",Answers!U:X,4,FALSE),Y54)+Z54)","v":2042},{"$f":"IF($B54=\"\",\"\",0+UPPER(Mainframe!I53))","v":6},{"$f":"IF(AB54=\"\",\"\",IF(NOT(ISNA(VLOOKUP(AB54,Answers!Y:AB,4,FALSE))),VLOOKUP(AB54,Answers!Y:AB,4,FALSE),\"Help!\"))","v":4},null,{"$f":"IF(AC54=\"\",\"\",AA54+IF(AC54=\"XX\",VLOOKUP(\"WRONG\",Answers!Y:AB,4,FALSE),AC54)+AD54)","v":2046},{"$f":"IF($B54=\"\",\"\",0+UPPER(Mainframe!J53))","v":9},{"$f":"IF(AF54=\"\",\"\",IF(NOT(ISNA(VLOOKUP(AF54,Answers!AC:AF,4,FALSE))),VLOOKUP(AF54,Answers!AC:AF,4,FALSE),\"Help!\"))","v":1000},null,{"$f":"IF(AG54=\"\",\"\",AE54+IF(AG54=\"XX\",VLOOKUP(\"WRONG\",Answers!AC:AF,4,FALSE),AG54)+AH54)","v":3046},{"$f":"IF($B54=\"\",\"\",0+UPPER(Mainframe!K53))","v":5},{"$f":"IF(AJ54=\"\",\"\",IF(NOT(ISNA(VLOOKUP(AJ54,Answers!AG:AJ,4,FALSE))),VLOOKUP(AJ54,Answers!AG:AJ,4,FALSE),\"Help!\"))","v":9},null,{"$f":"IF(AK54=\"\",\"\",AI54+IF(AK54=\"XX\",VLOOKUP(\"WRONG\",Answers!AG:AJ,4,FALSE),AK54)+AL54)","v":3055},{"$f":"IF($B54=\"\",\"\",0+UPPER(Mainframe!L53))","v":22},{"$f":"IF(AN54=\"\",\"\",IF(NOT(ISNA(VLOOKUP(AN54,Answers!AK:AN,4,FALSE))),VLOOKUP(AN54,Answers!AK:AN,4,FALSE),\"Help!\"))","v":6},null,{"$f":"IF(AO54=\"\",\"\",AM54+IF(AO54=\"XX\",VLOOKUP(\"WRONG\",Answers!AK:AN,4,FALSE),AO54)+AP54)","v":3061},{"$f":"IF($B54=\"\",\"\",0+UPPER(Mainframe!M53))","v":9},{"$f":"IF(AR54=\"\",\"\",IF(NOT(ISNA(VLOOKUP(AR54,Answers!AO:AR,4,FALSE))),VLOOKUP(AR54,Answers!AO:AR,4,FALSE),\"Help!\"))","v":9},null,{"$f":"IF(AS54=\"\",\"\",AQ54+IF(AS54=\"XX\",VLOOKUP(\"WRONG\",Answers!AO:AR,4,FALSE),AS54)+AT54)","v":3070},{"$f":"IF($B54=\"\",\"\",0+UPPER(Mainframe!N53))","v":10},{"$f":"IF(AV54=\"\",\"\",IF(NOT(ISNA(VLOOKUP(AV54,Answers!AS:AV,4,FALSE))),VLOOKUP(AV54,Answers!AS:AV,4,FALSE),\"Help!\"))","v":1000},{"$f":"IF(AW54>500,-1000,0)","v":-1000},{"$f":"IF(AW54=\"\",\"\",AU54+IF(AW54=\"XX\",VLOOKUP(\"WRONG\",Answers!AS:AV,4,FALSE),AW54)+AX54)","v":3070},{"$f":"IF($B54=\"\",\"\",0+UPPER(Mainframe!O53))","v":864},375.52054794520546,1,{"$f":"IF($B54=\"\",\"\",LEFT(Mainframe!P53,SEARCH(\".\",Mainframe!P53)-1))","v":"12"},null,null,null,null,null,null,null,null,null,null,null,null,null,null,null,null,null,null,null,null,null,null,null,null,null,null,null,null,null,null,52,{"$f":"IF(INDEX($B:$CE,ROW(),QNO*4)=\"XX\",\"[b][u]\"&INDEX($B:$CE,ROW(),QNO*4-1)&\"[/u][/b]\",\"[color=#BF0040]\"&INDEX(OFFSET(Answers!C:C,0,(QNO-1)*4),MATCH(INDEX($A:$CB,ROW(),QNO*4),OFFSET(Answers!A:A,0,(QNO-1)*4),0))&\"[/color]//[b]\"&INDEX(OFFSET(Answers!B:B,0,(QNO-1)*4),MATCH(INDEX($A:$CB,ROW(),QNO*4),OFFSET(Answers!A:A,0,(QNO-1)*4),0))&\"[/b] — [b]\"&IF(INDEX($B:$CE,ROW(),QNO*4)=1,\"Singleton!\",CONCATENATE(INDEX($B:$CE,ROW(),QNO*4),\" responses\"))&\"[/b]\")","v":"[color=#BF0040]\"Blue (Da Ba Dee)\", \"Move Your Body\", \"Lucky (In My Life)\"[/color]//[b]EIFFEL [u]65[/u][/b] — [b]9 responses[/b]"},"Armandillo","Yes","52. Armandillo — [b]9[/b] pts",45,-7]
["[*]",{"$f":"IF(Mainframe!B54=\"\",\"\",INDEX(Mainframe!$B:$B,C55+1,1))","v":"dott888"},53,{"$f":"IF($B55=\"\",\"\",0+UPPER(Mainframe!C54))","v":40},{"$f":"IF(D55=\"\",\"\",IF(NOT(ISNA(VLOOKUP(D55,Answers!A:D,4,FALSE))),VLOOKUP(D55,Answers!A:D,4,FALSE),\"Help!\"))","v":1000},null,{"$f":"IF(E55=\"\",\"\",IF(E55=\"XX\",VLOOKUP(\"WRONG\",Answers!A:D,4,FALSE),E55)+F55)","v":1000},{"$f":"IF($B55=\"\",\"\",0+UPPER(Mainframe!D54))","v":121},{"$f":"IF(H55=\"\",\"\",IF(NOT(ISNA(VLOOKUP(H55,Answers!E:H,4,FALSE))),VLOOKUP(H55,Answers!E:H,4,FALSE),\"Help!\"))","v":8},null,{"$f":"IF(I55=\"\",\"\",G55+IF(I55=\"XX\",VLOOKUP(\"WRONG\",Answers!E:H,4,FALSE),I55)+J55)","v":1008},{"$f":"IF($B55=\"\",\"\",0+UPPER(Mainframe!E54))","v":2001},{"$f":"IF(L55=\"\",\"\",IF(NOT(ISNA(VLOOKUP(L55,Answers!I:L,4,FALSE))),VLOOKUP(L55,Answers!I:L,4,FALSE),\"Help!\"))","v":6},null,{"$f":"IF(M55=\"\",\"\",K55+IF(M55=\"XX\",VLOOKUP(\"WRONG\",Answers!I:L,4,FALSE),M55)+N55)","v":1014},{"$f":"IF($B55=\"\",\"\",0+UPPER(Mainframe!F54))","v":2006},"XX",{"$f":"IF(Q55>500,-1000,0)","v":-1000},{"$f":"IF(Q55=\"\",\"\",O55+IF(Q55=\"XX\",VLOOKUP(\"WRONG\",Answers!M:P,4,FALSE),Q55)+R55)","v":1021},{"$f":"IF($B55=\"\",\"\",0+UPPER(Mainframe!G54))","v":2},{"$f":"IF(T55=\"\",\"\",IF(NOT(ISNA(VLOOKUP(T55,Answers!Q:T,4,FALSE))),VLOOKUP(T55,Answers!Q:T,4,FALSE),\"Help!\"))","v":14},null,{"$f":"IF(U55=\"\",\"\",S55+IF(U55=\"XX\",VLOOKUP(\"WRONG\",Answers!Q:T,4,FALSE),U55)+V55)","v":1035},{"$f":"IF($B55=\"\",\"\",0+UPPER(Mainframe!H54))","v":1984},{"$f":"IF(X55=\"\",\"\",IF(NOT(ISNA(VLOOKUP(X55,Answers!U:X,4,FALSE))),VLOOKUP(X55,Answers!U:X,4,FALSE),\"Help!\"))","v":3},null,{"$f":"IF(Y55=\"\",\"\",W55+IF(Y55=\"XX\",VLOOKUP(\"WRONG\",Answers!U:X,4,FALSE),Y55)+Z55)","v":1038},{"$f":"IF($B55=\"\",\"\",0+UPPER(Mainframe!I54))","v":18},"XX",null,{"$f":"IF(AC55=\"\",\"\",AA55+IF(AC55=\"XX\",VLOOKUP(\"WRONG\",Answers!Y:AB,4,FALSE),AC55)+AD55)","v":2045},{"$f":"IF($B55=\"\",\"\",0+UPPER(Mainframe!J54))","v":9},{"$f":"IF(AF55=\"\",\"\",IF(NOT(ISNA(VLOOKUP(AF55,Answers!AC:AF,4,FALSE))),VLOOKUP(AF55,Answers!AC:AF,4,FALSE),\"Help!\"))","v":1000},null,{"$f":"IF(AG55=\"\",\"\",AE55+IF(AG55=\"XX\",VLOOKUP(\"WRONG\",Answers!AC:AF,4,FALSE),AG55)+AH55)","v":3045},{"$f":"IF($B55=\"\",\"\",0+UPPER(Mainframe!K54))","v":75},{"$f":"IF(AJ55=\"\",\"\",IF(NOT(ISNA(VLOOKUP(AJ55,Answers!AG:AJ,4,FALSE))),VLOOKUP(AJ55,Answers!AG:AJ,4,FALSE),\"Help!\"))","v":4},null,{"$f":"IF(AK55=\"\",\"\",AI55+IF(AK55=\"XX\",VLOOKUP(\"WRONG\",Answers!AG:AJ,4,FALSE),AK55)+AL55)","v":3049},{"$f":"IF($B55=\"\",\"\",0+UPPER(Mainframe!L54))","v":67},{"$f":"IF(AN55=\"\",\"\",IF(NOT(ISNA(VLOOKUP(AN55,Answers!AK:AN,4,FALSE))),VLOOKUP(AN55,Answers!AK:AN,4,FALSE),\"Help!\"))","v":1000},null,{"$f":"IF(AO55=\"\",\"\",AM55+IF(AO55=\"XX\",VLOOKUP(\"WRONG\",Answers!AK:AN,4,FALSE),AO55)+AP55)","v":4049},{"$f":"IF($B55=\"\",\"\",0+UPPER(Mainframe!M54))","v":9},{"$f":"IF(AR55=\"\",\"\",IF(NOT(ISNA(VLOOKUP(AR55,Answers!AO:AR,4,FALSE))),VLOOKUP(AR55,Answers!AO:AR,4,FALSE),\"Help!\"))","v":9},null,{"$f":"IF(AS55=\"\",\"\",AQ55+IF(AS55=\"XX\",VLOOKUP(\"WRONG\",Answers!AO:AR,4,FALSE),AS55)+AT55)","v":4058},{"$f":"IF($B55=\"\",\"\",0+UPPER(Mainframe!N54))","v":10},{"$f":"IF(AV55=\"\",\"\",IF(NOT(ISNA(VLOOKUP(AV55,Answers!AS:AV,4,FALSE))),VLOOKUP(AV55,Answers!AS:AV,4,FALSE),\"Help!\"))","v":1000},null,{"$f":"IF(AW55=\"\",\"\",AU55+IF(AW55=\"XX\",VLOOKUP(\"WRONG\",Answers!AS:AV,4,FALSE),AW55)+AX55)","v":5058},{"$f":"IF($B55=\"\",\"\",0+UPPER(Mainframe!O54))","v":665},176.52054794520546,1,{"$f":"IF($B55=\"\",\"\",LEFT(Mainframe!P54,SEARCH(\".\",Mainframe!P54)-1))","v":"4"},null,null,null,null,null,null,null,null,null,null,null,null,null,null,null,null,null,null,null,null,null,null,null,null,null,null,null,null,null,null,53,{"$f":"IF(INDEX($B:$CE,ROW(),QNO*4)=\"XX\",\"[b][u]\"&INDEX($B:$CE,ROW(),QNO*4-1)&\"[/u][/b]\",\"[color=#BF0040]\"&INDEX(OFFSET(Answers!C:C,0,(QNO-1)*4),MATCH(INDEX($A:$CB,ROW(),QNO*4),OFFSET(Answers!A:A,0,(QNO-1)*4),0))&\"[/color]//[b]\"&INDEX(OFFSET(Answers!B:B,0,(QNO-1)*4),MATCH(INDEX($A:$CB,ROW(),QNO*4),OFFSET(Answers!A:A,0,(QNO-1)*4),0))&\"[/b] — [b]\"&IF(INDEX($B:$CE,ROW(),QNO*4)=1,\"Singleton!\",CONCATENATE(INDEX($B:$CE,ROW(),QNO*4),\" responses\"))&\"[/b]\")","v":"[color=#BF0040]\"King\", \"Red Red Wine\", \"(I Can't Help) Falling in Love With You\"[/color]//[b]UB[u]40[/u][/b] — [b]1000 responses[/b]"},"dott888","Yes","53. dott888 — [b]1,000[/b] pts",66,13]
["[*]",{"$f":"IF(Mainframe!B55=\"\",\"\",INDEX(Mainframe!$B:$B,C56+1,1))","v":"jgamer"},54,{"$f":"IF($B56=\"\",\"\",0+UPPER(Mainframe!C55))","v":65},{"$f":"IF(D56=\"\",\"\",IF(NOT(ISNA(VLOOKUP(D56,Answers!A:D,4,FALSE))),VLOOKUP(D56,Answers!A:D,4,FALSE),\"Help!\"))","v":9},null,{"$f":"IF(E56=\"\",\"\",IF(E56=\"XX\",VLOOKUP(\"WRONG\",Answers!A:D,4,FALSE),E56)+F56)","v":9},{"$f":"IF($B56=\"\",\"\",0+UPPER(Mainframe!D55))","v":100},{"$f":"IF(H56=\"\",\"\",IF(NOT(ISNA(VLOOKUP(H56,Answers!E:H,4,FALSE))),VLOOKUP(H56,Answers!E:H,4,FALSE),\"Help!\"))","v":4},null,{"$f":"IF(I56=\"\",\"\",G56+IF(I56=\"XX\",VLOOKUP(\"WRONG\",Answers!E:H,4,FALSE),I56)+J56)","v":13},{"$f":"IF($B56=\"\",\"\",0+UPPER(Mainframe!E55))","v":400},{"$f":"IF(L56=\"\",\"\",IF(NOT(ISNA(VLOOKUP(L56,Answers!I:L,4,FALSE))),VLOOKUP(L56,Answers!I:L,4,FALSE),\"Help!\"))","v":2},null,{"$f":"IF(M56=\"\",\"\",K56+IF(M56=\"XX\",VLOOKUP(\"WRONG\",Answers!I:L,4,FALSE),M56)+N56)","v":15},{"$f":"IF($B56=\"\",\"\",0+UPPER(Mainframe!F55))","v":312},{"$f":"IF(P56=\"\",\"\",IF(NOT(ISNA(VLOOKUP(P56,Answers!M:P,4,FALSE))),VLOOKUP(P56,Answers!M:P,4,FALSE),\"Help!\"))","v":4},null,{"$f":"IF(Q56=\"\",\"\",O56+IF(Q56=\"XX\",VLOOKUP(\"WRONG\",Answers!M:P,4,FALSE),Q56)+R56)","v":19},{"$f":"IF($B56=\"\",\"\",0+UPPER(Mainframe!G55))","v":18},{"$f":"IF(T56=\"\",\"\",IF(NOT(ISNA(VLOOKUP(T56,Answers!Q:T,4,FALSE))),VLOOKUP(T56,Answers!Q:T,4,FALSE),\"Help!\"))","v":6},null,{"$f":"IF(U56=\"\",\"\",S56+IF(U56=\"XX\",VLOOKUP(\"WRONG\",Answers!Q:T,4,FALSE),U56)+V56)","v":25},{"$f":"IF($B56=\"\",\"\",0+UPPER(Mainframe!H55))","v":7},{"$f":"IF(X56=\"\",\"\",IF(NOT(ISNA(VLOOKUP(X56,Answers!U:X,4,FALSE))),VLOOKUP(X56,Answers!U:X,4,FALSE),\"Help!\"))","v":6},null,{"$f":"IF(Y56=\"\",\"\",W56+IF(Y56=\"XX\",VLOOKUP(\"WRONG\",Answers!U:X,4,FALSE),Y56)+Z56)","v":31},{"$f":"IF($B56=\"\",\"\",0+UPPER(Mainframe!I55))","v":33},{"$f":"IF(AB56=\"\",\"\",IF(NOT(ISNA(VLOOKUP(AB56,Answers!Y:AB,4,FALSE))),VLOOKUP(AB56,Answers!Y:AB,4,FALSE),\"Help!\"))","v":1},null,{"$f":"IF(AC56=\"\",\"\",AA56+IF(AC56=\"XX\",VLOOKUP(\"WRONG\",Answers!Y:AB,4,FALSE),AC56)+AD56)","v":32},{"$f":"IF($B56=\"\",\"\",0+UPPER(Mainframe!J55))","v":49},{"$f":"IF(AF56=\"\",\"\",IF(NOT(ISNA(VLOOKUP(AF56,Answers!AC:AF,4,FALSE))),VLOOKUP(AF56,Answers!AC:AF,4,FALSE),\"Help!\"))","v":10},null,{"$f":"IF(AG56=\"\",\"\",AE56+IF(AG56=\"XX\",VLOOKUP(\"WRONG\",Answers!AC:AF,4,FALSE),AG56)+AH56)","v":42},{"$f":"IF($B56=\"\",\"\",0+UPPER(Mainframe!K55))","v":8},{"$f":"IF(AJ56=\"\",\"\",IF(NOT(ISNA(VLOOKUP(AJ56,Answers!AG:AJ,4,FALSE))),VLOOKUP(AJ56,Answers!AG:AJ,4,FALSE),\"Help!\"))","v":5},null,{"$f":"IF(AK56=\"\",\"\",AI56+IF(AK56=\"XX\",VLOOKUP(\"WRONG\",Answers!AG:AJ,4,FALSE),AK56)+AL56)","v":47},{"$f":"IF($B56=\"\",\"\",0+UPPER(Mainframe!L55))","v":94},{"$f":"IF(AN56=\"\",\"\",IF(NOT(ISNA(VLOOKUP(AN56,Answers!AK:AN,4,FALSE))),VLOOKUP(AN56,Answers!AK:AN,4,FALSE),\"Help!\"))","v":4},null,{"$f":"IF(AO56=\"\",\"\",AM56+IF(AO56=\"XX\",VLOOKUP(\"WRONG\",Answers!AK:AN,4,FALSE),AO56)+AP56)","v":51},{"$f":"IF($B56=\"\",\"\",0+UPPER(Mainframe!M55))","v":6},{"$f":"IF(AR56=\"\",\"\",IF(NOT(ISNA(VLOOKUP(AR56,Answers!AO:AR,4,FALSE))),VLOOKUP(AR56,Answers!AO:AR,4,FALSE),\"Help!\"))","v":8},null,{"$f":"IF(AS56=\"\",\"\",AQ56+IF(AS56=\"XX\",VLOOKUP(\"WRONG\",Answers!AO:AR,4,FALSE),AS56)+AT56)","v":59},{"$f":"IF($B56=\"\",\"\",0+UPPER(Mainframe!N55))","v":4},{"$f":"IF(AV56=\"\",\"\",IF(NOT(ISNA(VLOOKUP(AV56,Answers!AS:AV,4,FALSE))),VLOOKUP(AV56,Answers!AS:AV,4,FALSE),\"Help!\"))","v":5},{"$f":"IF(AW56>500,-1000,0)","v":0},{"$f":"IF(AW56=\"\",\"\",AU56+IF(AW56=\"XX\",VLOOKUP(\"WRONG\",Answers!AS:AV,4,FALSE),AW56)+AX56)","v":64},{"$f":"IF($B56=\"\",\"\",0+UPPER(Mainframe!O55))","v":501},12.520547945205465,1,{"$f":"IF($B56=\"\",\"\",LEFT(Mainframe!P55,SEARCH(\".\",Mainframe!P55)-1))","v":"11"},null,null,null,null,null,null,null,null,null,null,null,null,null,null,null,null,null,null,null,null,null,null,null,null,null,null,null,null,null,null,54,{"$f":"IF(INDEX($B:$CE,ROW(),QNO*4)=\"XX\",\"[b][u]\"&INDEX($B:$CE,ROW(),QNO*4-1)&\"[/u][/b]\",\"[color=#BF0040]\"&INDEX(OFFSET(Answers!C:C,0,(QNO-1)*4),MATCH(INDEX($A:$CB,ROW(),QNO*4),OFFSET(Answers!A:A,0,(QNO-1)*4),0))&\"[/color]//[b]\"&INDEX(OFFSET(Answers!B:B,0,(QNO-1)*4),MATCH(INDEX($A:$CB,ROW(),QNO*4),OFFSET(Answers!A:A,0,(QNO-1)*4),0))&\"[/b] — [b]\"&IF(INDEX($B:$CE,ROW(),QNO*4)=1,\"Singleton!\",CONCATENATE(INDEX($B:$CE,ROW(),QNO*4),\" responses\"))&\"[/b]\")","v":"[color=#BF0040]\"Blue (Da Ba Dee)\", \"Move Your Body\", \"Lucky (In My Life)\"[/color]//[b]EIFFEL [u]65[/u][/b] — [b]9 responses[/b]"},"jgamer//ihavejeoprosy","Yes","54. jgamer — [b]9[/b] pts",2,-52]
["[*]",{"$f":"IF(Mainframe!B56=\"\",\"\",INDEX(Mainframe!$B:$B,C57+1,1))","v":"ihavejeoprosy"},55,{"$f":"IF($B57=\"\",\"\",0+UPPER(Mainframe!C56))","v":65},{"$f":"IF(D57=\"\",\"\",IF(NOT(ISNA(VLOOKUP(D57,Answers!A:D,4,FALSE))),VLOOKUP(D57,Answers!A:D,4,FALSE),\"Help!\"))","v":9},null,{"$f":"IF(E57=\"\",\"\",IF(E57=\"XX\",VLOOKUP(\"WRONG\",Answers!A:D,4,FALSE),E57)+F57)","v":9},{"$f":"IF($B57=\"\",\"\",0+UPPER(Mainframe!D56))","v":121},{"$f":"IF(H57=\"\",\"\",IF(NOT(ISNA(VLOOKUP(H57,Answers!E:H,4,FALSE))),VLOOKUP(H57,Answers!E:H,4,FALSE),\"Help!\"))","v":8},{"$f":"IF(I57>500,-1000,0)","v":0},{"$f":"IF(I57=\"\",\"\",G57+IF(I57=\"XX\",VLOOKUP(\"WRONG\",Answers!E:H,4,FALSE),I57)+J57)","v":17},{"$f":"IF($B57=\"\",\"\",0+UPPER(Mainframe!E56))","v":10},{"$f":"IF(L57=\"\",\"\",IF(NOT(ISNA(VLOOKUP(L57,Answers!I:L,4,FALSE))),VLOOKUP(L57,Answers!I:L,4,FALSE),\"Help!\"))","v":10},null,{"$f":"IF(M57=\"\",\"\",K57+IF(M57=\"XX\",VLOOKUP(\"WRONG\",Answers!I:L,4,FALSE),M57)+N57)","v":27},{"$f":"IF($B57=\"\",\"\",0+UPPER(Mainframe!F56))","v":1940},{"$f":"IF(P57=\"\",\"\",IF(NOT(ISNA(VLOOKUP(P57,Answers!M:P,4,FALSE))),VLOOKUP(P57,Answers!M:P,4,FALSE),\"Help!\"))","v":7},null,{"$f":"IF(Q57=\"\",\"\",O57+IF(Q57=\"XX\",VLOOKUP(\"WRONG\",Answers!M:P,4,FALSE),Q57)+R57)","v":34},{"$f":"IF($B57=\"\",\"\",0+UPPER(Mainframe!G56))","v":36},{"$f":"IF(T57=\"\",\"\",IF(NOT(ISNA(VLOOKUP(T57,Answers!Q:T,4,FALSE))),VLOOKUP(T57,Answers!Q:T,4,FALSE),\"Help!\"))","v":4},null,{"$f":"IF(U57=\"\",\"\",S57+IF(U57=\"XX\",VLOOKUP(\"WRONG\",Answers!Q:T,4,FALSE),U57)+V57)","v":38},{"$f":"IF($B57=\"\",\"\",0+UPPER(Mainframe!H56))","v":52},{"$f":"IF(X57=\"\",\"\",IF(NOT(ISNA(VLOOKUP(X57,Answers!U:X,4,FALSE))),VLOOKUP(X57,Answers!U:X,4,FALSE),\"Help!\"))","v":2},null,{"$f":"IF(Y57=\"\",\"\",W57+IF(Y57=\"XX\",VLOOKUP(\"WRONG\",Answers!U:X,4,FALSE),Y57)+Z57)","v":40},{"$f":"IF($B57=\"\",\"\",0+UPPER(Mainframe!I56))","v":25},{"$f":"IF(AB57=\"\",\"\",IF(NOT(ISNA(VLOOKUP(AB57,Answers!Y:AB,4,FALSE))),VLOOKUP(AB57,Answers!Y:AB,4,FALSE),\"Help!\"))","v":7},null,{"$f":"IF(AC57=\"\",\"\",AA57+IF(AC57=\"XX\",VLOOKUP(\"WRONG\",Answers!Y:AB,4,FALSE),AC57)+AD57)","v":47},{"$f":"IF($B57=\"\",\"\",0+UPPER(Mainframe!J56))","v":49},{"$f":"IF(AF57=\"\",\"\",IF(NOT(ISNA(VLOOKUP(AF57,Answers!AC:AF,4,FALSE))),VLOOKUP(AF57,Answers!AC:AF,4,FALSE),\"Help!\"))","v":10},null,{"$f":"IF(AG57=\"\",\"\",AE57+IF(AG57=\"XX\",VLOOKUP(\"WRONG\",Answers!AC:AF,4,FALSE),AG57)+AH57)","v":57},{"$f":"IF($B57=\"\",\"\",0+UPPER(Mainframe!K56))","v":35},{"$f":"IF(AJ57=\"\",\"\",IF(NOT(ISNA(VLOOKUP(AJ57,Answers!AG:AJ,4,FALSE))),VLOOKUP(AJ57,Answers!AG:AJ,4,FALSE),\"Help!\"))","v":8},null,{"$f":"IF(AK57=\"\",\"\",AI57+IF(AK57=\"XX\",VLOOKUP(\"WRONG\",Answers!AG:AJ,4,FALSE),AK57)+AL57)","v":65},{"$f":"IF($B57=\"\",\"\",0+UPPER(Mainframe!L56))","v":20},{"$f":"IF(AN57=\"\",\"\",IF(NOT(ISNA(VLOOKUP(AN57,Answers!AK:AN,4,FALSE))),VLOOKUP(AN57,Answers!AK:AN,4,FALSE),\"Help!\"))","v":3},null,{"$f":"IF(AO57=\"\",\"\",AM57+IF(AO57=\"XX\",VLOOKUP(\"WRONG\",Answers!AK:AN,4,FALSE),AO57)+AP57)","v":68},{"$f":"IF($B57=\"\",\"\",0+UPPER(Mainframe!M56))","v":5},{"$f":"IF(AR57=\"\",\"\",IF(NOT(ISNA(VLOOKUP(AR57,Answers!AO:AR,4,FALSE))),VLOOKUP(AR57,Answers!AO:AR,4,FALSE),\"Help!\"))","v":1000},null,{"$f":"IF(AS57=\"\",\"\",AQ57+IF(AS57=\"XX\",VLOOKUP(\"WRONG\",Answers!AO:AR,4,FALSE),AS57)+AT57)","v":1068},{"$f":"IF($B57=\"\",\"\",0+UPPER(Mainframe!N56))","v":4},{"$f":"IF(AV57=\"\",\"\",IF(NOT(ISNA(VLOOKUP(AV57,Answers!AS:AV,4,FALSE))),VLOOKUP(AV57,Answers!AS:AV,4,FALSE),\"Help!\"))","v":5},null,{"$f":"IF(AW57=\"\",\"\",AU57+IF(AW57=\"XX\",VLOOKUP(\"WRONG\",Answers!AS:AV,4,FALSE),AW57)+AX57)","v":1073},{"$f":"IF($B57=\"\",\"\",0+UPPER(Mainframe!O56))","v":500},11.520547945205465,1,{"$f":"IF($B57=\"\",\"\",LEFT(Mainframe!P56,SEARCH(\".\",Mainframe!P56)-1))","v":"2"},null,null,null,null,null,null,null,null,null,null,null,null,null,null,null,null,null,null,null,null,null,null,null,null,null,null,null,null,null,null,54,{"$f":"IF(INDEX($B:$CE,ROW(),QNO*4)=\"XX\",\"[b][u]\"&INDEX($B:$CE,ROW(),QNO*4-1)&\"[/u][/b]\",\"[color=#BF0040]\"&INDEX(OFFSET(Answers!C:C,0,(QNO-1)*4),MATCH(INDEX($A:$CB,ROW(),QNO*4),OFFSET(Answers!A:A,0,(QNO-1)*4),0))&\"[/color]//[b]\"&INDEX(OFFSET(Answers!B:B,0,(QNO-1)*4),MATCH(INDEX($A:$CB,ROW(),QNO*4),OFFSET(Answers!A:A,0,(QNO-1)*4),0))&\"[/b] — [b]\"&IF(INDEX($B:$CE,ROW(),QNO*4)=1,\"Singleton!\",CONCATENATE(INDEX($B:$CE,ROW(),QNO*4),\" responses\"))&\"[/b]\")","v":"[color=#BF0040]\"Blue (Da Ba Dee)\", \"Move Your Body\", \"Lucky (In My Life)\"[/color]//[b]EIFFEL [u]65[/u][/b] — [b]9 responses[/b]"},"ihavejeoprosy","No","54. ihavejeoprosy — [b]9[/b] pts",15,-39]
["[*]",{"$f":"IF(Mainframe!B57=\"\",\"\",INDEX(Mainframe!$B:$B,C58+1,1))","v":"DadofTwins"},56,{"$f":"IF($B58=\"\",\"\",0+UPPER(Mainframe!C57))","v":40},{"$f":"IF(D58=\"\",\"\",IF(NOT(ISNA(VLOOKUP(D58,Answers!A:D,4,FALSE))),VLOOKUP(D58,Answers!A:D,4,FALSE),\"Help!\"))","v":1000},null,{"$f":"IF(E58=\"\",\"\",IF(E58=\"XX\",VLOOKUP(\"WRONG\",Answers!A:D,4,FALSE),E58)+F58)","v":1000},{"$f":"IF($B58=\"\",\"\",0+UPPER(Mainframe!D57))","v":42},{"$f":"IF(H58=\"\",\"\",IF(NOT(ISNA(VLOOKUP(H58,Answers!E:H,4,FALSE))),VLOOKUP(H58,Answers!E:H,4,FALSE),\"Help!\"))","v":3},null,{"$f":"IF(I58=\"\",\"\",G58+IF(I58=\"XX\",VLOOKUP(\"WRONG\",Answers!E:H,4,FALSE),I58)+J58)","v":1003},{"$f":"IF($B58=\"\",\"\",0+UPPER(Mainframe!E57))","v":34},{"$f":"IF(L58=\"\",\"\",IF(NOT(ISNA(VLOOKUP(L58,Answers!I:L,4,FALSE))),VLOOKUP(L58,Answers!I:L,4,FALSE),\"Help!\"))","v":1000},null,{"$f":"IF(M58=\"\",\"\",K58+IF(M58=\"XX\",VLOOKUP(\"WRONG\",Answers!I:L,4,FALSE),M58)+N58)","v":2003},{"$f":"IF($B58=\"\",\"\",0+UPPER(Mainframe!F57))","v":312},{"$f":"IF(P58=\"\",\"\",IF(NOT(ISNA(VLOOKUP(P58,Answers!M:P,4,FALSE))),VLOOKUP(P58,Answers!M:P,4,FALSE),\"Help!\"))","v":4},null,{"$f":"IF(Q58=\"\",\"\",O58+IF(Q58=\"XX\",VLOOKUP(\"WRONG\",Answers!M:P,4,FALSE),Q58)+R58)","v":2007},{"$f":"IF($B58=\"\",\"\",0+UPPER(Mainframe!G57))","v":17},{"$f":"IF(T58=\"\",\"\",IF(NOT(ISNA(VLOOKUP(T58,Answers!Q:T,4,FALSE))),VLOOKUP(T58,Answers!Q:T,4,FALSE),\"Help!\"))","v":2},null,{"$f":"IF(U58=\"\",\"\",S58+IF(U58=\"XX\",VLOOKUP(\"WRONG\",Answers!Q:T,4,FALSE),U58)+V58)","v":2009},{"$f":"IF($B58=\"\",\"\",0+UPPER(Mainframe!H57))","v":22},{"$f":"IF(X58=\"\",\"\",IF(NOT(ISNA(VLOOKUP(X58,Answers!U:X,4,FALSE))),VLOOKUP(X58,Answers!U:X,4,FALSE),\"Help!\"))","v":1000},null,{"$f":"IF(Y58=\"\",\"\",W58+IF(Y58=\"XX\",VLOOKUP(\"WRONG\",Answers!U:X,4,FALSE),Y58)+Z58)","v":3009},{"$f":"IF($B58=\"\",\"\",0+UPPER(Mainframe!I57))","v":20},{"$f":"IF(AB58=\"\",\"\",IF(NOT(ISNA(VLOOKUP(AB58,Answers!Y:AB,4,FALSE))),VLOOKUP(AB58,Answers!Y:AB,4,FALSE),\"Help!\"))","v":13},null,{"$f":"IF(AC58=\"\",\"\",AA58+IF(AC58=\"XX\",VLOOKUP(\"WRONG\",Answers!Y:AB,4,FALSE),AC58)+AD58)","v":3022},{"$f":"IF($B58=\"\",\"\",0+UPPER(Mainframe!J57))","v":46},"XX",{"$f":"IF(AG58>500,-1000,0)","v":-1000},{"$f":"IF(AG58=\"\",\"\",AE58+IF(AG58=\"XX\",VLOOKUP(\"WRONG\",Answers!AC:AF,4,FALSE),AG58)+AH58)","v":3029},{"$f":"IF($B58=\"\",\"\",0+UPPER(Mainframe!K57))","v":8},{"$f":"IF(AJ58=\"\",\"\",IF(NOT(ISNA(VLOOKUP(AJ58,Answers!AG:AJ,4,FALSE))),VLOOKUP(AJ58,Answers!AG:AJ,4,FALSE),\"Help!\"))","v":5},null,{"$f":"IF(AK58=\"\",\"\",AI58+IF(AK58=\"XX\",VLOOKUP(\"WRONG\",Answers!AG:AJ,4,FALSE),AK58)+AL58)","v":3034},{"$f":"IF($B58=\"\",\"\",0+UPPER(Mainframe!L57))","v":40},"XX",null,{"$f":"IF(AO58=\"\",\"\",AM58+IF(AO58=\"XX\",VLOOKUP(\"WRONG\",Answers!AK:AN,4,FALSE),AO58)+AP58)","v":4041},{"$f":"IF($B58=\"\",\"\",0+UPPER(Mainframe!M57))","v":5},{"$f":"IF(AR58=\"\",\"\",IF(NOT(ISNA(VLOOKUP(AR58,Answers!AO:AR,4,FALSE))),VLOOKUP(AR58,Answers!AO:AR,4,FALSE),\"Help!\"))","v":1000},null,{"$f":"IF(AS58=\"\",\"\",AQ58+IF(AS58=\"XX\",VLOOKUP(\"WRONG\",Answers!AO:AR,4,FALSE),AS58)+AT58)","v":5041},{"$f":"IF($B58=\"\",\"\",0+UPPER(Mainframe!N57))","v":150},{"$f":"IF(AV58=\"\",\"\",IF(NOT(ISNA(VLOOKUP(AV58,Answers!AS:AV,4,FALSE))),VLOOKUP(AV58,Answers!AS:AV,4,FALSE),\"Help!\"))","v":5},null,{"$f":"IF(AW58=\"\",\"\",AU58+IF(AW58=\"XX\",VLOOKUP(\"WRONG\",Answers!AS:AV,4,FALSE),AW58)+AX58)","v":5046},{"$f":"IF($B58=\"\",\"\",0+UPPER(Mainframe!O57))","v":500},11.520547945205465,1,{"$f":"IF($B58=\"\",\"\",LEFT(Mainframe!P57,SEARCH(\".\",Mainframe!P57)-1))","v":"8"},null,null,null,null,null,null,null,null,null,null,null,null,null,null,null,null,null,null,null,null,null,null,null,null,null,null,null,null,null,null,56,{"$f":"IF(INDEX($B:$CE,ROW(),QNO*4)=\"XX\",\"[b][u]\"&INDEX($B:$CE,ROW(),QNO*4-1)&\"[/u][/b]\",\"[color=#BF0040]\"&INDEX(OFFSET(Answers!C:C,0,(QNO-1)*4),MATCH(INDEX($A:$CB,ROW(),QNO*4),OFFSET(Answers!A:A,0,(QNO-1)*4),0))&\"[/color]//[b]\"&INDEX(OFFSET(Answers!B:B,0,(QNO-1)*4),MATCH(INDEX($A:$CB,ROW(),QNO*4),OFFSET(Answers!A:A,0,(QNO-1)*4),0))&\"[/b] — [b]\"&IF(INDEX($B:$CE,ROW(),QNO*4)=1,\"Singleton!\",CONCATENATE(INDEX($B:$CE,ROW(),QNO*4),\" responses\"))&\"[/b]\")","v":"[color=#BF0040]\"King\", \"Red Red Wine\", \"(I Can't Help) Falling in Love With You\"[/color]//[b]UB[u]40[/u][/b] — [b]1000 responses[/b]"},"DadofTwins","Yes","56. DadofTwins — [b]1,000[/b] pts",62,6]
["[*]",{"$f":"IF(Mainframe!B58=\"\",\"\",INDEX(Mainframe!$B:$B,C59+1,1))","v":"cool_hand"},57,{"$f":"IF($B59=\"\",\"\",0+UPPER(Mainframe!C58))","v":98},{"$f":"IF(D59=\"\",\"\",IF(NOT(ISNA(VLOOKUP(D59,Answers!A:D,4,FALSE))),VLOOKUP(D59,Answers!A:D,4,FALSE),\"Help!\"))","v":2},null,{"$f":"IF(E59=\"\",\"\",IF(E59=\"XX\",VLOOKUP(\"WRONG\",Answers!A:D,4,FALSE),E59)+F59)","v":2},{"$f":"IF($B59=\"\",\"\",0+UPPER(Mainframe!D58))","v":22},{"$f":"IF(H59=\"\",\"\",IF(NOT(ISNA(VLOOKUP(H59,Answers!E:H,4,FALSE))),VLOOKUP(H59,Answers!E:H,4,FALSE),\"Help!\"))","v":11},null,{"$f":"IF(I59=\"\",\"\",G59+IF(I59=\"XX\",VLOOKUP(\"WRONG\",Answers!E:H,4,FALSE),I59)+J59)","v":13},{"$f":"IF($B59=\"\",\"\",0+UPPER(Mainframe!E58))","v":10},{"$f":"IF(L59=\"\",\"\",IF(NOT(ISNA(VLOOKUP(L59,Answers!I:L,4,FALSE))),VLOOKUP(L59,Answers!I:L,4,FALSE),\"Help!\"))","v":10},null,{"$f":"IF(M59=\"\",\"\",K59+IF(M59=\"XX\",VLOOKUP(\"WRONG\",Answers!I:L,4,FALSE),M59)+N59)","v":23},{"$f":"IF($B59=\"\",\"\",0+UPPER(Mainframe!F58))","v":1940},{"$f":"IF(P59=\"\",\"\",IF(NOT(ISNA(VLOOKUP(P59,Answers!M:P,4,FALSE))),VLOOKUP(P59,Answers!M:P,4,FALSE),\"Help!\"))","v":7},null,{"$f":"IF(Q59=\"\",\"\",O59+IF(Q59=\"XX\",VLOOKUP(\"WRONG\",Answers!M:P,4,FALSE),Q59)+R59)","v":30},{"$f":"IF($B59=\"\",\"\",0+UPPER(Mainframe!G58))","v":2},{"$f":"IF(T59=\"\",\"\",IF(NOT(ISNA(VLOOKUP(T59,Answers!Q:T,4,FALSE))),VLOOKUP(T59,Answers!Q:T,4,FALSE),\"Help!\"))","v":14},null,{"$f":"IF(U59=\"\",\"\",S59+IF(U59=\"XX\",VLOOKUP(\"WRONG\",Answers!Q:T,4,FALSE),U59)+V59)","v":44},{"$f":"IF($B59=\"\",\"\",0+UPPER(Mainframe!H58))","v":20000},"XX",{"$f":"IF(Y59>500,-1000,0)","v":-1000},{"$f":"IF(Y59=\"\",\"\",W59+IF(Y59=\"XX\",VLOOKUP(\"WRONG\",Answers!U:X,4,FALSE),Y59)+Z59)","v":51},{"$f":"IF($B59=\"\",\"\",0+UPPER(Mainframe!I58))","v":64},{"$f":"IF(AB59=\"\",\"\",IF(NOT(ISNA(VLOOKUP(AB59,Answers!Y:AB,4,FALSE))),VLOOKUP(AB59,Answers!Y:AB,4,FALSE),\"Help!\"))","v":3},null,{"$f":"IF(AC59=\"\",\"\",AA59+IF(AC59=\"XX\",VLOOKUP(\"WRONG\",Answers!Y:AB,4,FALSE),AC59)+AD59)","v":54},{"$f":"IF($B59=\"\",\"\",0+UPPER(Mainframe!J58))","v":49},{"$f":"IF(AF59=\"\",\"\",IF(NOT(ISNA(VLOOKUP(AF59,Answers!AC:AF,4,FALSE))),VLOOKUP(AF59,Answers!AC:AF,4,FALSE),\"Help!\"))","v":10},null,{"$f":"IF(AG59=\"\",\"\",AE59+IF(AG59=\"XX\",VLOOKUP(\"WRONG\",Answers!AC:AF,4,FALSE),AG59)+AH59)","v":64},{"$f":"IF($B59=\"\",\"\",0+UPPER(Mainframe!K58))","v":84},{"$f":"IF(AJ59=\"\",\"\",IF(NOT(ISNA(VLOOKUP(AJ59,Answers!AG:AJ,4,FALSE))),VLOOKUP(AJ59,Answers!AG:AJ,4,FALSE),\"Help!\"))","v":1000},null,{"$f":"IF(AK59=\"\",\"\",AI59+IF(AK59=\"XX\",VLOOKUP(\"WRONG\",Answers!AG:AJ,4,FALSE),AK59)+AL59)","v":1064},{"$f":"IF($B59=\"\",\"\",0+UPPER(Mainframe!L58))","v":63},"XX",null,{"$f":"IF(AO59=\"\",\"\",AM59+IF(AO59=\"XX\",VLOOKUP(\"WRONG\",Answers!AK:AN,4,FALSE),AO59)+AP59)","v":2071},{"$f":"IF($B59=\"\",\"\",0+UPPER(Mainframe!M58))","v":6},{"$f":"IF(AR59=\"\",\"\",IF(NOT(ISNA(VLOOKUP(AR59,Answers!AO:AR,4,FALSE))),VLOOKUP(AR59,Answers!AO:AR,4,FALSE),\"Help!\"))","v":8},null,{"$f":"IF(AS59=\"\",\"\",AQ59+IF(AS59=\"XX\",VLOOKUP(\"WRONG\",Answers!AO:AR,4,FALSE),AS59)+AT59)","v":2079},{"$f":"IF($B59=\"\",\"\",0+UPPER(Mainframe!N58))","v":4},{"$f":"IF(AV59=\"\",\"\",IF(NOT(ISNA(VLOOKUP(AV59,Answers!AS:AV,4,FALSE))),VLOOKUP(AV59,Answers!AS:AV,4,FALSE),\"Help!\"))","v":5},null,{"$f":"IF(AW59=\"\",\"\",AU59+IF(AW59=\"XX\",VLOOKUP(\"WRONG\",Answers!AS:AV,4,FALSE),AW59)+AX59)","v":2084},{"$f":"IF($B59=\"\",\"\",0+UPPER(Mainframe!O58))","v":212},276.47945205479454,1,{"$f":"IF($B59=\"\",\"\",LEFT(Mainframe!P58,SEARCH(\".\",Mainframe!P58)-1))","v":"6"},null,null,null,null,null,null,null,null,null,null,null,null,null,null,null,null,null,null,null,null,null,null,null,null,null,null,null,null,null,null,57,{"$f":"IF(INDEX($B:$CE,ROW(),QNO*4)=\"XX\",\"[b][u]\"&INDEX($B:$CE,ROW(),QNO*4-1)&\"[/u][/b]\",\"[color=#BF0040]\"&INDEX(OFFSET(Answers!C:C,0,(QNO-1)*4),MATCH(INDEX($A:$CB,ROW(),QNO*4),OFFSET(Answers!A:A,0,(QNO-1)*4),0))&\"[/color]//[b]\"&INDEX(OFFSET(Answers!B:B,0,(QNO-1)*4),MATCH(INDEX($A:$CB,ROW(),QNO*4),OFFSET(Answers!A:A,0,(QNO-1)*4),0))&\"[/b] — [b]\"&IF(INDEX($B:$CE,ROW(),QNO*4)=1,\"Singleton!\",CONCATENATE(INDEX($B:$CE,ROW(),QNO*4),\" responses\"))&\"[/b]\")","v":"[color=#BF0040]\"Because of You\", \"The Hardest Thing\", \"Thank God I Found You\"[/color]//[b][u]98[/u] DEGREES[/b] — [b]2 responses[/b]"},"cool_hand","Yes","57. cool_hand — [b]2[/b] pts",32,-25]
["[*]",{"$f":"IF(Mainframe!B59=\"\",\"\",INDEX(Mainframe!$B:$B,C60+1,1))","v":"kettledrum"},58,{"$f":"IF($B60=\"\",\"\",0+UPPER(Mainframe!C59))","v":1},{"$f":"IF(D60=\"\",\"\",IF(NOT(ISNA(VLOOKUP(D60,Answers!A:D,4,FALSE))),VLOOKUP(D60,Answers!A:D,4,FALSE),\"Help!\"))","v":8},null,{"$f":"IF(E60=\"\",\"\",IF(E60=\"XX\",VLOOKUP(\"WRONG\",Answers!A:D,4,FALSE),E60)+F60)","v":8},{"$f":"IF($B60=\"\",\"\",0+UPPER(Mainframe!D59))","v":108},{"$f":"IF(H60=\"\",\"\",IF(NOT(ISNA(VLOOKUP(H60,Answers!E:H,4,FALSE))),VLOOKUP(H60,Answers!E:H,4,FALSE),\"Help!\"))","v":5},null,{"$f":"IF(I60=\"\",\"\",G60+IF(I60=\"XX\",VLOOKUP(\"WRONG\",Answers!E:H,4,FALSE),I60)+J60)","v":13},{"$f":"IF($B60=\"\",\"\",0+UPPER(Mainframe!E59))","v":16},{"$f":"IF(L60=\"\",\"\",IF(NOT(ISNA(VLOOKUP(L60,Answers!I:L,4,FALSE))),VLOOKUP(L60,Answers!I:L,4,FALSE),\"Help!\"))","v":12},null,{"$f":"IF(M60=\"\",\"\",K60+IF(M60=\"XX\",VLOOKUP(\"WRONG\",Answers!I:L,4,FALSE),M60)+N60)","v":25},{"$f":"IF($B60=\"\",\"\",0+UPPER(Mainframe!F59))","v":2003},{"$f":"IF(P60=\"\",\"\",IF(NOT(ISNA(VLOOKUP(P60,Answers!M:P,4,FALSE))),VLOOKUP(P60,Answers!M:P,4,FALSE),\"Help!\"))","v":8},{"$f":"IF(Q60>500,-1000,0)","v":0},{"$f":"IF(Q60=\"\",\"\",O60+IF(Q60=\"XX\",VLOOKUP(\"WRONG\",Answers!M:P,4,FALSE),Q60)+R60)","v":33},{"$f":"IF($B60=\"\",\"\",0+UPPER(Mainframe!G59))","v":106},{"$f":"IF(T60=\"\",\"\",IF(NOT(ISNA(VLOOKUP(T60,Answers!Q:T,4,FALSE))),VLOOKUP(T60,Answers!Q:T,4,FALSE),\"Help!\"))","v":2},null,{"$f":"IF(U60=\"\",\"\",S60+IF(U60=\"XX\",VLOOKUP(\"WRONG\",Answers!Q:T,4,FALSE),U60)+V60)","v":35},{"$f":"IF($B60=\"\",\"\",0+UPPER(Mainframe!H59))","v":451},{"$f":"IF(X60=\"\",\"\",IF(NOT(ISNA(VLOOKUP(X60,Answers!U:X,4,FALSE))),VLOOKUP(X60,Answers!U:X,4,FALSE),\"Help!\"))","v":8},null,{"$f":"IF(Y60=\"\",\"\",W60+IF(Y60=\"XX\",VLOOKUP(\"WRONG\",Answers!U:X,4,FALSE),Y60)+Z60)","v":43},{"$f":"IF($B60=\"\",\"\",0+UPPER(Mainframe!I59))","v":20},{"$f":"IF(AB60=\"\",\"\",IF(NOT(ISNA(VLOOKUP(AB60,Answers!Y:AB,4,FALSE))),VLOOKUP(AB60,Answers!Y:AB,4,FALSE),\"Help!\"))","v":13},null,{"$f":"IF(AC60=\"\",\"\",AA60+IF(AC60=\"XX\",VLOOKUP(\"WRONG\",Answers!Y:AB,4,FALSE),AC60)+AD60)","v":56},{"$f":"IF($B60=\"\",\"\",0+UPPER(Mainframe!J59))","v":18},{"$f":"IF(AF60=\"\",\"\",IF(NOT(ISNA(VLOOKUP(AF60,Answers!AC:AF,4,FALSE))),VLOOKUP(AF60,Answers!AC:AF,4,FALSE),\"Help!\"))","v":10},null,{"$f":"IF(AG60=\"\",\"\",AE60+IF(AG60=\"XX\",VLOOKUP(\"WRONG\",Answers!AC:AF,4,FALSE),AG60)+AH60)","v":66},{"$f":"IF($B60=\"\",\"\",0+UPPER(Mainframe!K59))","v":94},{"$f":"IF(AJ60=\"\",\"\",IF(NOT(ISNA(VLOOKUP(AJ60,Answers!AG:AJ,4,FALSE))),VLOOKUP(AJ60,Answers!AG:AJ,4,FALSE),\"Help!\"))","v":5},null,{"$f":"IF(AK60=\"\",\"\",AI60+IF(AK60=\"XX\",VLOOKUP(\"WRONG\",Answers!AG:AJ,4,FALSE),AK60)+AL60)","v":71},{"$f":"IF($B60=\"\",\"\",0+UPPER(Mainframe!L59))","v":94},{"$f":"IF(AN60=\"\",\"\",IF(NOT(ISNA(VLOOKUP(AN60,Answers!AK:AN,4,FALSE))),VLOOKUP(AN60,Answers!AK:AN,4,FALSE),\"Help!\"))","v":4},null,{"$f":"IF(AO60=\"\",\"\",AM60+IF(AO60=\"XX\",VLOOKUP(\"WRONG\",Answers!AK:AN,4,FALSE),AO60)+AP60)","v":75},{"$f":"IF($B60=\"\",\"\",0+UPPER(Mainframe!M59))","v":9},{"$f":"IF(AR60=\"\",\"\",IF(NOT(ISNA(VLOOKUP(AR60,Answers!AO:AR,4,FALSE))),VLOOKUP(AR60,Answers!AO:AR,4,FALSE),\"Help!\"))","v":9},null,{"$f":"IF(AS60=\"\",\"\",AQ60+IF(AS60=\"XX\",VLOOKUP(\"WRONG\",Answers!AO:AR,4,FALSE),AS60)+AT60)","v":84},{"$f":"IF($B60=\"\",\"\",0+UPPER(Mainframe!N59))","v":95},{"$f":"IF(AV60=\"\",\"\",IF(NOT(ISNA(VLOOKUP(AV60,Answers!AS:AV,4,FALSE))),VLOOKUP(AV60,Answers!AS:AV,4,FALSE),\"Help!\"))","v":7},null,{"$f":"IF(AW60=\"\",\"\",AU60+IF(AW60=\"XX\",VLOOKUP(\"WRONG\",Answers!AS:AV,4,FALSE),AW60)+AX60)","v":91},{"$f":"IF($B60=\"\",\"\",0+UPPER(Mainframe!O59))","v":333},155.47945205479454,1,{"$f":"IF($B60=\"\",\"\",LEFT(Mainframe!P59,SEARCH(\".\",Mainframe!P59)-1))","v":"4"},null,null,null,null,null,null,null,null,null,null,null,null,null,null,null,null,null,null,null,null,null,null,null,null,null,null,null,null,null,null,58,{"$f":"IF(INDEX($B:$CE,ROW(),QNO*4)=\"XX\",\"[b][u]\"&INDEX($B:$CE,ROW(),QNO*4-1)&\"[/u][/b]\",\"[color=#BF0040]\"&INDEX(OFFSET(Answers!C:C,0,(QNO-1)*4),MATCH(INDEX($A:$CB,ROW(),QNO*4),OFFSET(Answers!A:A,0,(QNO-1)*4),0))&\"[/color]//[b]\"&INDEX(OFFSET(Answers!B:B,0,(QNO-1)*4),MATCH(INDEX($A:$CB,ROW(),QNO*4),OFFSET(Answers!A:A,0,(QNO-1)*4),0))&\"[/b] — [b]\"&IF(INDEX($B:$CE,ROW(),QNO*4)=1,\"Singleton!\",CONCATENATE(INDEX($B:$CE,ROW(),QNO*4),\" responses\"))&\"[/b]\")","v":"[color=#BF0040]\"What Makes You Beautiful\", \"Little Things\", \"Best Song Ever\"[/color]//[b][u]ONE[/u] DIRECTION[/b] — [b]8 responses[/b]"},"kettledrum","Yes","58. kettledrum — [b]8[/b] pts",9,-49]
["[*]",{"$f":"IF(Mainframe!B60=\"\",\"\",INDEX(Mainframe!$B:$B,C61+1,1))","v":"Woppy T"},59,{"$f":"IF($B61=\"\",\"\",0+UPPER(Mainframe!C60))","v":10000},{"$f":"IF(D61=\"\",\"\",IF(NOT(ISNA(VLOOKUP(D61,Answers!A:D,4,FALSE))),VLOOKUP(D61,Answers!A:D,4,FALSE),\"Help!\"))","v":6},null,{"$f":"IF(E61=\"\",\"\",IF(E61=\"XX\",VLOOKUP(\"WRONG\",Answers!A:D,4,FALSE),E61)+F61)","v":6},{"$f":"IF($B61=\"\",\"\",0+UPPER(Mainframe!D60))","v":22},{"$f":"IF(H61=\"\",\"\",IF(NOT(ISNA(VLOOKUP(H61,Answers!E:H,4,FALSE))),VLOOKUP(H61,Answers!E:H,4,FALSE),\"Help!\"))","v":11},null,{"$f":"IF(I61=\"\",\"\",G61+IF(I61=\"XX\",VLOOKUP(\"WRONG\",Answers!E:H,4,FALSE),I61)+J61)","v":17},{"$f":"IF($B61=\"\",\"\",0+UPPER(Mainframe!E60))","v":16},{"$f":"IF(L61=\"\",\"\",IF(NOT(ISNA(VLOOKUP(L61,Answers!I:L,4,FALSE))),VLOOKUP(L61,Answers!I:L,4,FALSE),\"Help!\"))","v":12},null,{"$f":"IF(M61=\"\",\"\",K61+IF(M61=\"XX\",VLOOKUP(\"WRONG\",Answers!I:L,4,FALSE),M61)+N61)","v":29},{"$f":"IF($B61=\"\",\"\",0+UPPER(Mainframe!F60))","v":1861},{"$f":"IF(P61=\"\",\"\",IF(NOT(ISNA(VLOOKUP(P61,Answers!M:P,4,FALSE))),VLOOKUP(P61,Answers!M:P,4,FALSE),\"Help!\"))","v":1000},null,{"$f":"IF(Q61=\"\",\"\",O61+IF(Q61=\"XX\",VLOOKUP(\"WRONG\",Answers!M:P,4,FALSE),Q61)+R61)","v":1029},{"$f":"IF($B61=\"\",\"\",0+UPPER(Mainframe!G60))","v":2},{"$f":"IF(T61=\"\",\"\",IF(NOT(ISNA(VLOOKUP(T61,Answers!Q:T,4,FALSE))),VLOOKUP(T61,Answers!Q:T,4,FALSE),\"Help!\"))","v":14},null,{"$f":"IF(U61=\"\",\"\",S61+IF(U61=\"XX\",VLOOKUP(\"WRONG\",Answers!Q:T,4,FALSE),U61)+V61)","v":1043},{"$f":"IF($B61=\"\",\"\",0+UPPER(Mainframe!H60))","v":4},{"$f":"IF(X61=\"\",\"\",IF(NOT(ISNA(VLOOKUP(X61,Answers!U:X,4,FALSE))),VLOOKUP(X61,Answers!U:X,4,FALSE),\"Help!\"))","v":6},null,{"$f":"IF(Y61=\"\",\"\",W61+IF(Y61=\"XX\",VLOOKUP(\"WRONG\",Answers!U:X,4,FALSE),Y61)+Z61)","v":1049},{"$f":"IF($B61=\"\",\"\",0+UPPER(Mainframe!I60))","v":76},{"$f":"IF(AB61=\"\",\"\",IF(NOT(ISNA(VLOOKUP(AB61,Answers!Y:AB,4,FALSE))),VLOOKUP(AB61,Answers!Y:AB,4,FALSE),\"Help!\"))","v":1000},null,{"$f":"IF(AC61=\"\",\"\",AA61+IF(AC61=\"XX\",VLOOKUP(\"WRONG\",Answers!Y:AB,4,FALSE),AC61)+AD61)","v":2049},{"$f":"IF($B61=\"\",\"\",0+UPPER(Mainframe!J60))","v":202},{"$f":"IF(AF61=\"\",\"\",IF(NOT(ISNA(VLOOKUP(AF61,Answers!AC:AF,4,FALSE))),VLOOKUP(AF61,Answers!AC:AF,4,FALSE),\"Help!\"))","v":10},null,{"$f":"IF(AG61=\"\",\"\",AE61+IF(AG61=\"XX\",VLOOKUP(\"WRONG\",Answers!AC:AF,4,FALSE),AG61)+AH61)","v":2059},{"$f":"IF($B61=\"\",\"\",0+UPPER(Mainframe!K60))","v":84},{"$f":"IF(AJ61=\"\",\"\",IF(NOT(ISNA(VLOOKUP(AJ61,Answers!AG:AJ,4,FALSE))),VLOOKUP(AJ61,Answers!AG:AJ,4,FALSE),\"Help!\"))","v":1000},null,{"$f":"IF(AK61=\"\",\"\",AI61+IF(AK61=\"XX\",VLOOKUP(\"WRONG\",Answers!AG:AJ,4,FALSE),AK61)+AL61)","v":3059},{"$f":"IF($B61=\"\",\"\",0+UPPER(Mainframe!L60))","v":60},{"$f":"IF(AN61=\"\",\"\",IF(NOT(ISNA(VLOOKUP(AN61,Answers!AK:AN,4,FALSE))),VLOOKUP(AN61,Answers!AK:AN,4,FALSE),\"Help!\"))","v":4},null,{"$f":"IF(AO61=\"\",\"\",AM61+IF(AO61=\"XX\",VLOOKUP(\"WRONG\",Answers!AK:AN,4,FALSE),AO61)+AP61)","v":3063},{"$f":"IF($B61=\"\",\"\",0+UPPER(Mainframe!M60))","v":5},{"$f":"IF(AR61=\"\",\"\",IF(NOT(ISNA(VLOOKUP(AR61,Answers!AO:AR,4,FALSE))),VLOOKUP(AR61,Answers!AO:AR,4,FALSE),\"Help!\"))","v":1000},null,{"$f":"IF(AS61=\"\",\"\",AQ61+IF(AS61=\"XX\",VLOOKUP(\"WRONG\",Answers!AO:AR,4,FALSE),AS61)+AT61)","v":4063},{"$f":"IF($B61=\"\",\"\",0+UPPER(Mainframe!N60))","v":5000},{"$f":"IF(AV61=\"\",\"\",IF(NOT(ISNA(VLOOKUP(AV61,Answers!AS:AV,4,FALSE))),VLOOKUP(AV61,Answers!AS:AV,4,FALSE),\"Help!\"))","v":9},{"$f":"IF(AW61>500,-1000,0)","v":0},{"$f":"IF(AW61=\"\",\"\",AU61+IF(AW61=\"XX\",VLOOKUP(\"WRONG\",Answers!AS:AV,4,FALSE),AW61)+AX61)","v":4072},{"$f":"IF($B61=\"\",\"\",0+UPPER(Mainframe!O60))","v":505},16.520547945205465,1,{"$f":"IF($B61=\"\",\"\",LEFT(Mainframe!P60,SEARCH(\".\",Mainframe!P60)-1))","v":"12"},null,null,null,null,null,null,null,null,null,null,null,null,null,null,null,null,null,null,null,null,null,null,null,null,null,null,null,null,null,null,59,{"$f":"IF(INDEX($B:$CE,ROW(),QNO*4)=\"XX\",\"[b][u]\"&INDEX($B:$CE,ROW(),QNO*4-1)&\"[/u][/b]\",\"[color=#BF0040]\"&INDEX(OFFSET(Answers!C:C,0,(QNO-1)*4),MATCH(INDEX($A:$CB,ROW(),QNO*4),OFFSET(Answers!A:A,0,(QNO-1)*4),0))&\"[/color]//[b]\"&INDEX(OFFSET(Answers!B:B,0,(QNO-1)*4),MATCH(INDEX($A:$CB,ROW(),QNO*4),OFFSET(Answers!A:A,0,(QNO-1)*4),0))&\"[/b] — [b]\"&IF(INDEX($B:$CE,ROW(),QNO*4)=1,\"Singleton!\",CONCATENATE(INDEX($B:$CE,ROW(),QNO*4),\" responses\"))&\"[/b]\")","v":"[color=#BF0040]\"What's the Matter Here?\", \"Trouble Me\", \"Because the Night\" (on [i]MTV Unplugged[/i])[/color]//[b][u]10,000[/u] MANIACS[/b] — [b]6 responses[/b]"},"Woppy T//goforthetie","Yes","59. Woppy T — [b]6[/b] pts",57,-2]
["[*]",{"$f":"IF(Mainframe!B61=\"\",\"\",INDEX(Mainframe!$B:$B,C62+1,1))","v":"goforthetie"},60,{"$f":"IF($B62=\"\",\"\",0+UPPER(Mainframe!C61))","v":10000},{"$f":"IF(D62=\"\",\"\",IF(NOT(ISNA(VLOOKUP(D62,Answers!A:D,4,FALSE))),VLOOKUP(D62,Answers!A:D,4,FALSE),\"Help!\"))","v":6},null,{"$f":"IF(E62=\"\",\"\",IF(E62=\"XX\",VLOOKUP(\"WRONG\",Answers!A:D,4,FALSE),E62)+F62)","v":6},{"$f":"IF($B62=\"\",\"\",0+UPPER(Mainframe!D61))","v":56},{"$f":"IF(H62=\"\",\"\",IF(NOT(ISNA(VLOOKUP(H62,Answers!E:H,4,FALSE))),VLOOKUP(H62,Answers!E:H,4,FALSE),\"Help!\"))","v":4},null,{"$f":"IF(I62=\"\",\"\",G62+IF(I62=\"XX\",VLOOKUP(\"WRONG\",Answers!E:H,4,FALSE),I62)+J62)","v":10},{"$f":"IF($B62=\"\",\"\",0+UPPER(Mainframe!E61))","v":3000},{"$f":"IF(L62=\"\",\"\",IF(NOT(ISNA(VLOOKUP(L62,Answers!I:L,4,FALSE))),VLOOKUP(L62,Answers!I:L,4,FALSE),\"Help!\"))","v":2},null,{"$f":"IF(M62=\"\",\"\",K62+IF(M62=\"XX\",VLOOKUP(\"WRONG\",Answers!I:L,4,FALSE),M62)+N62)","v":12},{"$f":"IF($B62=\"\",\"\",0+UPPER(Mainframe!F61))","v":1940},{"$f":"IF(P62=\"\",\"\",IF(NOT(ISNA(VLOOKUP(P62,Answers!M:P,4,FALSE))),VLOOKUP(P62,Answers!M:P,4,FALSE),\"Help!\"))","v":7},{"$f":"IF(Q62>500,-1000,0)","v":0},{"$f":"IF(Q62=\"\",\"\",O62+IF(Q62=\"XX\",VLOOKUP(\"WRONG\",Answers!M:P,4,FALSE),Q62)+R62)","v":19},{"$f":"IF($B62=\"\",\"\",0+UPPER(Mainframe!G61))","v":18},{"$f":"IF(T62=\"\",\"\",IF(NOT(ISNA(VLOOKUP(T62,Answers!Q:T,4,FALSE))),VLOOKUP(T62,Answers!Q:T,4,FALSE),\"Help!\"))","v":6},null,{"$f":"IF(U62=\"\",\"\",S62+IF(U62=\"XX\",VLOOKUP(\"WRONG\",Answers!Q:T,4,FALSE),U62)+V62)","v":25},{"$f":"IF($B62=\"\",\"\",0+UPPER(Mainframe!H61))","v":7},{"$f":"IF(X62=\"\",\"\",IF(NOT(ISNA(VLOOKUP(X62,Answers!U:X,4,FALSE))),VLOOKUP(X62,Answers!U:X,4,FALSE),\"Help!\"))","v":6},null,{"$f":"IF(Y62=\"\",\"\",W62+IF(Y62=\"XX\",VLOOKUP(\"WRONG\",Answers!U:X,4,FALSE),Y62)+Z62)","v":31},{"$f":"IF($B62=\"\",\"\",0+UPPER(Mainframe!I61))","v":20},{"$f":"IF(AB62=\"\",\"\",IF(NOT(ISNA(VLOOKUP(AB62,Answers!Y:AB,4,FALSE))),VLOOKUP(AB62,Answers!Y:AB,4,FALSE),\"Help!\"))","v":13},null,{"$f":"IF(AC62=\"\",\"\",AA62+IF(AC62=\"XX\",VLOOKUP(\"WRONG\",Answers!Y:AB,4,FALSE),AC62)+AD62)","v":44},{"$f":"IF($B62=\"\",\"\",0+UPPER(Mainframe!J61))","v":1850},{"$f":"IF(AF62=\"\",\"\",IF(NOT(ISNA(VLOOKUP(AF62,Answers!AC:AF,4,FALSE))),VLOOKUP(AF62,Answers!AC:AF,4,FALSE),\"Help!\"))","v":4},null,{"$f":"IF(AG62=\"\",\"\",AE62+IF(AG62=\"XX\",VLOOKUP(\"WRONG\",Answers!AC:AF,4,FALSE),AG62)+AH62)","v":48},{"$f":"IF($B62=\"\",\"\",0+UPPER(Mainframe!K61))","v":99},{"$f":"IF(AJ62=\"\",\"\",IF(NOT(ISNA(VLOOKUP(AJ62,Answers!AG:AJ,4,FALSE))),VLOOKUP(AJ62,Answers!AG:AJ,4,FALSE),\"Help!\"))","v":2},null,{"$f":"IF(AK62=\"\",\"\",AI62+IF(AK62=\"XX\",VLOOKUP(\"WRONG\",Answers!AG:AJ,4,FALSE),AK62)+AL62)","v":50},{"$f":"IF($B62=\"\",\"\",0+UPPER(Mainframe!L61))","v":60},{"$f":"IF(AN62=\"\",\"\",IF(NOT(ISNA(VLOOKUP(AN62,Answers!AK:AN,4,FALSE))),VLOOKUP(AN62,Answers!AK:AN,4,FALSE),\"Help!\"))","v":4},null,{"$f":"IF(AO62=\"\",\"\",AM62+IF(AO62=\"XX\",VLOOKUP(\"WRONG\",Answers!AK:AN,4,FALSE),AO62)+AP62)","v":54},{"$f":"IF($B62=\"\",\"\",0+UPPER(Mainframe!M61))","v":6},{"$f":"IF(AR62=\"\",\"\",IF(NOT(ISNA(VLOOKUP(AR62,Answers!AO:AR,4,FALSE))),VLOOKUP(AR62,Answers!AO:AR,4,FALSE),\"Help!\"))","v":8},null,{"$f":"IF(AS62=\"\",\"\",AQ62+IF(AS62=\"XX\",VLOOKUP(\"WRONG\",Answers!AO:AR,4,FALSE),AS62)+AT62)","v":62},{"$f":"IF($B62=\"\",\"\",0+UPPER(Mainframe!N61))","v":12},{"$f":"IF(AV62=\"\",\"\",IF(NOT(ISNA(VLOOKUP(AV62,Answers!AS:AV,4,FALSE))),VLOOKUP(AV62,Answers!AS:AV,4,FALSE),\"Help!\"))","v":4},null,{"$f":"IF(AW62=\"\",\"\",AU62+IF(AW62=\"XX\",VLOOKUP(\"WRONG\",Answers!AS:AV,4,FALSE),AW62)+AX62)","v":66},{"$f":"IF($B62=\"\",\"\",0+UPPER(Mainframe!O61))","v":500},11.520547945205465,1,{"$f":"IF($B62=\"\",\"\",LEFT(Mainframe!P61,SEARCH(\".\",Mainframe!P61)-1))","v":"4"},null,null,null,null,null,null,null,null,null,null,null,null,null,null,null,null,null,null,null,null,null,null,null,null,null,null,null,null,null,null,59,{"$f":"IF(INDEX($B:$CE,ROW(),QNO*4)=\"XX\",\"[b][u]\"&INDEX($B:$CE,ROW(),QNO*4-1)&\"[/u][/b]\",\"[color=#BF0040]\"&INDEX(OFFSET(Answers!C:C,0,(QNO-1)*4),MATCH(INDEX($A:$CB,ROW(),QNO*4),OFFSET(Answers!A:A,0,(QNO-1)*4),0))&\"[/color]//[b]\"&INDEX(OFFSET(Answers!B:B,0,(QNO-1)*4),MATCH(INDEX($A:$CB,ROW(),QNO*4),OFFSET(Answers!A:A,0,(QNO-1)*4),0))&\"[/b] — [b]\"&IF(INDEX($B:$CE,ROW(),QNO*4)=1,\"Singleton!\",CONCATENATE(INDEX($B:$CE,ROW(),QNO*4),\" responses\"))&\"[/b]\")","v":"[color=#BF0040]\"What's the Matter Here?\", \"Trouble Me\", \"Because the Night\" (on [i]MTV Unplugged[/i])[/color]//[b][u]10,000[/u] MANIACS[/b] — [b]6 responses[/b]"},"goforthetie","No","59. goforthetie — [b]6[/b] pts",3,-56]
["[*]",{"$f":"IF(Mainframe!B62=\"\",\"\",INDEX(Mainframe!$B:$B,C63+1,1))","v":"EricaofTwins"},61,{"$f":"IF($B63=\"\",\"\",0+UPPER(Mainframe!C62))","v":7},"XX",null,{"$f":"IF(E63=\"\",\"\",IF(E63=\"XX\",VLOOKUP(\"WRONG\",Answers!A:D,4,FALSE),E63)+F63)","v":1007},{"$f":"IF($B63=\"\",\"\",0+UPPER(Mainframe!D62))","v":64},"XX",{"$f":"IF(I63>500,-1000,0)","v":-1000},{"$f":"IF(I63=\"\",\"\",G63+IF(I63=\"XX\",VLOOKUP(\"WRONG\",Answers!E:H,4,FALSE),I63)+J63)","v":1014},{"$f":"IF($B63=\"\",\"\",0+UPPER(Mainframe!E62))","v":5},"XX",{"$f":"IF(M63>500,-1000,0)","v":-1000},{"$f":"IF(M63=\"\",\"\",K63+IF(M63=\"XX\",VLOOKUP(\"WRONG\",Answers!I:L,4,FALSE),M63)+N63)","v":1021},{"$f":"IF($B63=\"\",\"\",0+UPPER(Mainframe!F62))","v":1452},"XX",null,{"$f":"IF(Q63=\"\",\"\",O63+IF(Q63=\"XX\",VLOOKUP(\"WRONG\",Answers!M:P,4,FALSE),Q63)+R63)","v":2028},{"$f":"IF($B63=\"\",\"\",0+UPPER(Mainframe!G62))","v":11},{"$f":"IF(T63=\"\",\"\",IF(NOT(ISNA(VLOOKUP(T63,Answers!Q:T,4,FALSE))),VLOOKUP(T63,Answers!Q:T,4,FALSE),\"Help!\"))","v":4},null,{"$f":"IF(U63=\"\",\"\",S63+IF(U63=\"XX\",VLOOKUP(\"WRONG\",Answers!Q:T,4,FALSE),U63)+V63)","v":2032},{"$f":"IF($B63=\"\",\"\",0+UPPER(Mainframe!H62))","v":53},"XX",null,{"$f":"IF(Y63=\"\",\"\",W63+IF(Y63=\"XX\",VLOOKUP(\"WRONG\",Answers!U:X,4,FALSE),Y63)+Z63)","v":3039},{"$f":"IF($B63=\"\",\"\",0+UPPER(Mainframe!I62))","v":76},{"$f":"IF(AB63=\"\",\"\",IF(NOT(ISNA(VLOOKUP(AB63,Answers!Y:AB,4,FALSE))),VLOOKUP(AB63,Answers!Y:AB,4,FALSE),\"Help!\"))","v":1000},null,{"$f":"IF(AC63=\"\",\"\",AA63+IF(AC63=\"XX\",VLOOKUP(\"WRONG\",Answers!Y:AB,4,FALSE),AC63)+AD63)","v":4039},{"$f":"IF($B63=\"\",\"\",0+UPPER(Mainframe!J62))","v":19},"XX",null,{"$f":"IF(AG63=\"\",\"\",AE63+IF(AG63=\"XX\",VLOOKUP(\"WRONG\",Answers!AC:AF,4,FALSE),AG63)+AH63)","v":5046},{"$f":"IF($B63=\"\",\"\",0+UPPER(Mainframe!K62))","v":36},"XX",null,{"$f":"IF(AK63=\"\",\"\",AI63+IF(AK63=\"XX\",VLOOKUP(\"WRONG\",Answers!AG:AJ,4,FALSE),AK63)+AL63)","v":6053},{"$f":"IF($B63=\"\",\"\",0+UPPER(Mainframe!L62))","v":22},{"$f":"IF(AN63=\"\",\"\",IF(NOT(ISNA(VLOOKUP(AN63,Answers!AK:AN,4,FALSE))),VLOOKUP(AN63,Answers!AK:AN,4,FALSE),\"Help!\"))","v":6},null,{"$f":"IF(AO63=\"\",\"\",AM63+IF(AO63=\"XX\",VLOOKUP(\"WRONG\",Answers!AK:AN,4,FALSE),AO63)+AP63)","v":6059},{"$f":"IF($B63=\"\",\"\",0+UPPER(Mainframe!M62))","v":9},{"$f":"IF(AR63=\"\",\"\",IF(NOT(ISNA(VLOOKUP(AR63,Answers!AO:AR,4,FALSE))),VLOOKUP(AR63,Answers!AO:AR,4,FALSE),\"Help!\"))","v":9},null,{"$f":"IF(AS63=\"\",\"\",AQ63+IF(AS63=\"XX\",VLOOKUP(\"WRONG\",Answers!AO:AR,4,FALSE),AS63)+AT63)","v":6068},{"$f":"IF($B63=\"\",\"\",0+UPPER(Mainframe!N62))","v":40},{"$f":"IF(AV63=\"\",\"\",IF(NOT(ISNA(VLOOKUP(AV63,Answers!AS:AV,4,FALSE))),VLOOKUP(AV63,Answers!AS:AV,4,FALSE),\"Help!\"))","v":4},null,{"$f":"IF(AW63=\"\",\"\",AU63+IF(AW63=\"XX\",VLOOKUP(\"WRONG\",Answers!AS:AV,4,FALSE),AW63)+AX63)","v":6072},{"$f":"IF($B63=\"\",\"\",0+UPPER(Mainframe!O62))","v":537},48.520547945205465,2,{"$f":"IF($B63=\"\",\"\",LEFT(Mainframe!P62,SEARCH(\".\",Mainframe!P62)-1))","v":"3"},null,null,null,null,null,null,null,null,null,null,null,null,null,null,null,null,null,null,null,null,null,null,null,null,null,null,null,null,null,null,61,{"$f":"IF(INDEX($B:$CE,ROW(),QNO*4)=\"XX\",\"[b][u]\"&INDEX($B:$CE,ROW(),QNO*4-1)&\"[/u][/b]\",\"[color=#BF0040]\"&INDEX(OFFSET(Answers!C:C,0,(QNO-1)*4),MATCH(INDEX($A:$CB,ROW(),QNO*4),OFFSET(Answers!A:A,0,(QNO-1)*4),0))&\"[/color]//[b]\"&INDEX(OFFSET(Answers!B:B,0,(QNO-1)*4),MATCH(INDEX($A:$CB,ROW(),QNO*4),OFFSET(Answers!A:A,0,(QNO-1)*4),0))&\"[/b] — [b]\"&IF(INDEX($B:$CE,ROW(),QNO*4)=1,\"Singleton!\",CONCATENATE(INDEX($B:$CE,ROW(),QNO*4),\" responses\"))&\"[/b]\")","v":"[b][u]7[/u][/b]"},"EricaofTwins","Yes","61. EricaofTwins — [b]1,007[/b] pts",72,11]
["[*]",{"$f":"IF(Mainframe!B63=\"\",\"\",INDEX(Mainframe!$B:$B,C64+1,1))","v":"KatieofTwins"},62,{"$f":"IF($B64=\"\",\"\",0+UPPER(Mainframe!C63))","v":27},"XX",null,{"$f":"IF(E64=\"\",\"\",IF(E64=\"XX\",VLOOKUP(\"WRONG\",Answers!A:D,4,FALSE),E64)+F64)","v":1007},{"$f":"IF($B64=\"\",\"\",0+UPPER(Mainframe!D63))","v":64},"XX",{"$f":"IF(I64>500,-1000,0)","v":-1000},{"$f":"IF(I64=\"\",\"\",G64+IF(I64=\"XX\",VLOOKUP(\"WRONG\",Answers!E:H,4,FALSE),I64)+J64)","v":1014},{"$f":"IF($B64=\"\",\"\",0+UPPER(Mainframe!E63))","v":451},"XX",null,{"$f":"IF(M64=\"\",\"\",K64+IF(M64=\"XX\",VLOOKUP(\"WRONG\",Answers!I:L,4,FALSE),M64)+N64)","v":2021},{"$f":"IF($B64=\"\",\"\",0+UPPER(Mainframe!F63))","v":1451},"XX",null,{"$f":"IF(Q64=\"\",\"\",O64+IF(Q64=\"XX\",VLOOKUP(\"WRONG\",Answers!M:P,4,FALSE),Q64)+R64)","v":3028},{"$f":"IF($B64=\"\",\"\",0+UPPER(Mainframe!G63))","v":47},{"$f":"IF(T64=\"\",\"\",IF(NOT(ISNA(VLOOKUP(T64,Answers!Q:T,4,FALSE))),VLOOKUP(T64,Answers!Q:T,4,FALSE),\"Help!\"))","v":3},null,{"$f":"IF(U64=\"\",\"\",S64+IF(U64=\"XX\",VLOOKUP(\"WRONG\",Answers!Q:T,4,FALSE),U64)+V64)","v":3031},{"$f":"IF($B64=\"\",\"\",0+UPPER(Mainframe!H63))","v":20000},"XX",null,{"$f":"IF(Y64=\"\",\"\",W64+IF(Y64=\"XX\",VLOOKUP(\"WRONG\",Answers!U:X,4,FALSE),Y64)+Z64)","v":4038},{"$f":"IF($B64=\"\",\"\",0+UPPER(Mainframe!I63))","v":76},{"$f":"IF(AB64=\"\",\"\",IF(NOT(ISNA(VLOOKUP(AB64,Answers!Y:AB,4,FALSE))),VLOOKUP(AB64,Answers!Y:AB,4,FALSE),\"Help!\"))","v":1000},null,{"$f":"IF(AC64=\"\",\"\",AA64+IF(AC64=\"XX\",VLOOKUP(\"WRONG\",Answers!Y:AB,4,FALSE),AC64)+AD64)","v":5038},{"$f":"IF($B64=\"\",\"\",0+UPPER(Mainframe!J63))","v":1783},"XX",{"$f":"IF(AG64>500,-1000,0)","v":-1000},{"$f":"IF(AG64=\"\",\"\",AE64+IF(AG64=\"XX\",VLOOKUP(\"WRONG\",Answers!AC:AF,4,FALSE),AG64)+AH64)","v":5045},{"$f":"IF($B64=\"\",\"\",0+UPPER(Mainframe!K63))","v":36},"XX",null,{"$f":"IF(AK64=\"\",\"\",AI64+IF(AK64=\"XX\",VLOOKUP(\"WRONG\",Answers!AG:AJ,4,FALSE),AK64)+AL64)","v":6052},{"$f":"IF($B64=\"\",\"\",0+UPPER(Mainframe!L63))","v":96},"XX",null,{"$f":"IF(AO64=\"\",\"\",AM64+IF(AO64=\"XX\",VLOOKUP(\"WRONG\",Answers!AK:AN,4,FALSE),AO64)+AP64)","v":7059},{"$f":"IF($B64=\"\",\"\",0+UPPER(Mainframe!M63))","v":6},{"$f":"IF(AR64=\"\",\"\",IF(NOT(ISNA(VLOOKUP(AR64,Answers!AO:AR,4,FALSE))),VLOOKUP(AR64,Answers!AO:AR,4,FALSE),\"Help!\"))","v":8},null,{"$f":"IF(AS64=\"\",\"\",AQ64+IF(AS64=\"XX\",VLOOKUP(\"WRONG\",Answers!AO:AR,4,FALSE),AS64)+AT64)","v":7067},{"$f":"IF($B64=\"\",\"\",0+UPPER(Mainframe!N63))","v":5000},{"$f":"IF(AV64=\"\",\"\",IF(NOT(ISNA(VLOOKUP(AV64,Answers!AS:AV,4,FALSE))),VLOOKUP(AV64,Answers!AS:AV,4,FALSE),\"Help!\"))","v":9},null,{"$f":"IF(AW64=\"\",\"\",AU64+IF(AW64=\"XX\",VLOOKUP(\"WRONG\",Answers!AS:AV,4,FALSE),AW64)+AX64)","v":7076},{"$f":"IF($B64=\"\",\"\",0+UPPER(Mainframe!O63))","v":777},288.52054794520546,2,{"$f":"IF($B64=\"\",\"\",LEFT(Mainframe!P63,SEARCH(\".\",Mainframe!P63)-1))","v":"8"},null,null,null,null,null,null,null,null,null,null,null,null,null,null,null,null,null,null,null,null,null,null,null,null,null,null,null,null,null,null,61,{"$f":"IF(INDEX($B:$CE,ROW(),QNO*4)=\"XX\",\"[b][u]\"&INDEX($B:$CE,ROW(),QNO*4-1)&\"[/u][/b]\",\"[color=#BF0040]\"&INDEX(OFFSET(Answers!C:C,0,(QNO-1)*4),MATCH(INDEX($A:$CB,ROW(),QNO*4),OFFSET(Answers!A:A,0,(QNO-1)*4),0))&\"[/color]//[b]\"&INDEX(OFFSET(Answers!B:B,0,(QNO-1)*4),MATCH(INDEX($A:$CB,ROW(),QNO*4),OFFSET(Answers!A:A,0,(QNO-1)*4),0))&\"[/b] — [b]\"&IF(INDEX($B:$CE,ROW(),QNO*4)=1,\"Singleton!\",CONCATENATE(INDEX($B:$CE,ROW(),QNO*4),\" responses\"))&\"[/b]\")","v":"[b][u]27[/u][/b]"},"KatieofTwins","Yes","61. KatieofTwins — [b]1,007[/b] pts",73,12]
["[*]",{"$f":"IF(Mainframe!B64=\"\",\"\",INDEX(Mainframe!$B:$B,C65+1,1))","v":"Dick Butkus"},63,{"$f":"IF($B65=\"\",\"\",0+UPPER(Mainframe!C64))","v":40},{"$f":"IF(D65=\"\",\"\",IF(NOT(ISNA(VLOOKUP(D65,Answers!A:D,4,FALSE))),VLOOKUP(D65,Answers!A:D,4,FALSE),\"Help!\"))","v":1000},null,{"$f":"IF(E65=\"\",\"\",IF(E65=\"XX\",VLOOKUP(\"WRONG\",Answers!A:D,4,FALSE),E65)+F65)","v":1000},{"$f":"IF($B65=\"\",\"\",0+UPPER(Mainframe!D64))","v":22},{"$f":"IF(H65=\"\",\"\",IF(NOT(ISNA(VLOOKUP(H65,Answers!E:H,4,FALSE))),VLOOKUP(H65,Answers!E:H,4,FALSE),\"Help!\"))","v":11},null,{"$f":"IF(I65=\"\",\"\",G65+IF(I65=\"XX\",VLOOKUP(\"WRONG\",Answers!E:H,4,FALSE),I65)+J65)","v":1011},{"$f":"IF($B65=\"\",\"\",0+UPPER(Mainframe!E64))","v":47},{"$f":"IF(L65=\"\",\"\",IF(NOT(ISNA(VLOOKUP(L65,Answers!I:L,4,FALSE))),VLOOKUP(L65,Answers!I:L,4,FALSE),\"Help!\"))","v":2},null,{"$f":"IF(M65=\"\",\"\",K65+IF(M65=\"XX\",VLOOKUP(\"WRONG\",Answers!I:L,4,FALSE),M65)+N65)","v":1013},{"$f":"IF($B65=\"\",\"\",0+UPPER(Mainframe!F64))","v":1453},{"$f":"IF(P65=\"\",\"\",IF(NOT(ISNA(VLOOKUP(P65,Answers!M:P,4,FALSE))),VLOOKUP(P65,Answers!M:P,4,FALSE),\"Help!\"))","v":2},null,{"$f":"IF(Q65=\"\",\"\",O65+IF(Q65=\"XX\",VLOOKUP(\"WRONG\",Answers!M:P,4,FALSE),Q65)+R65)","v":1015},{"$f":"IF($B65=\"\",\"\",0+UPPER(Mainframe!G64))","v":2},{"$f":"IF(T65=\"\",\"\",IF(NOT(ISNA(VLOOKUP(T65,Answers!Q:T,4,FALSE))),VLOOKUP(T65,Answers!Q:T,4,FALSE),\"Help!\"))","v":14},null,{"$f":"IF(U65=\"\",\"\",S65+IF(U65=\"XX\",VLOOKUP(\"WRONG\",Answers!Q:T,4,FALSE),U65)+V65)","v":1029},{"$f":"IF($B65=\"\",\"\",0+UPPER(Mainframe!H64))","v":22},{"$f":"IF(X65=\"\",\"\",IF(NOT(ISNA(VLOOKUP(X65,Answers!U:X,4,FALSE))),VLOOKUP(X65,Answers!U:X,4,FALSE),\"Help!\"))","v":1000},null,{"$f":"IF(Y65=\"\",\"\",W65+IF(Y65=\"XX\",VLOOKUP(\"WRONG\",Answers!U:X,4,FALSE),Y65)+Z65)","v":2029},{"$f":"IF($B65=\"\",\"\",0+UPPER(Mainframe!I64))","v":525600},{"$f":"IF(AB65=\"\",\"\",IF(NOT(ISNA(VLOOKUP(AB65,Answers!Y:AB,4,FALSE))),VLOOKUP(AB65,Answers!Y:AB,4,FALSE),\"Help!\"))","v":5},null,{"$f":"IF(AC65=\"\",\"\",AA65+IF(AC65=\"XX\",VLOOKUP(\"WRONG\",Answers!Y:AB,4,FALSE),AC65)+AD65)","v":2034},{"$f":"IF($B65=\"\",\"\",0+UPPER(Mainframe!J64))","v":47},{"$f":"IF(AF65=\"\",\"\",IF(NOT(ISNA(VLOOKUP(AF65,Answers!AC:AF,4,FALSE))),VLOOKUP(AF65,Answers!AC:AF,4,FALSE),\"Help!\"))","v":2},{"$f":"IF(AG65>500,-1000,0)","v":0},{"$f":"IF(AG65=\"\",\"\",AE65+IF(AG65=\"XX\",VLOOKUP(\"WRONG\",Answers!AC:AF,4,FALSE),AG65)+AH65)","v":2036},{"$f":"IF($B65=\"\",\"\",0+UPPER(Mainframe!K64))","v":80},{"$f":"IF(AJ65=\"\",\"\",IF(NOT(ISNA(VLOOKUP(AJ65,Answers!AG:AJ,4,FALSE))),VLOOKUP(AJ65,Answers!AG:AJ,4,FALSE),\"Help!\"))","v":6},null,{"$f":"IF(AK65=\"\",\"\",AI65+IF(AK65=\"XX\",VLOOKUP(\"WRONG\",Answers!AG:AJ,4,FALSE),AK65)+AL65)","v":2042},{"$f":"IF($B65=\"\",\"\",0+UPPER(Mainframe!L64))","v":5},{"$f":"IF(AN65=\"\",\"\",IF(NOT(ISNA(VLOOKUP(AN65,Answers!AK:AN,4,FALSE))),VLOOKUP(AN65,Answers!AK:AN,4,FALSE),\"Help!\"))","v":7},null,{"$f":"IF(AO65=\"\",\"\",AM65+IF(AO65=\"XX\",VLOOKUP(\"WRONG\",Answers!AK:AN,4,FALSE),AO65)+AP65)","v":2049},{"$f":"IF($B65=\"\",\"\",0+UPPER(Mainframe!M64))","v":9},{"$f":"IF(AR65=\"\",\"\",IF(NOT(ISNA(VLOOKUP(AR65,Answers!AO:AR,4,FALSE))),VLOOKUP(AR65,Answers!AO:AR,4,FALSE),\"Help!\"))","v":9},null,{"$f":"IF(AS65=\"\",\"\",AQ65+IF(AS65=\"XX\",VLOOKUP(\"WRONG\",Answers!AO:AR,4,FALSE),AS65)+AT65)","v":2058},{"$f":"IF($B65=\"\",\"\",0+UPPER(Mainframe!N64))","v":4},{"$f":"IF(AV65=\"\",\"\",IF(NOT(ISNA(VLOOKUP(AV65,Answers!AS:AV,4,FALSE))),VLOOKUP(AV65,Answers!AS:AV,4,FALSE),\"Help!\"))","v":5},null,{"$f":"IF(AW65=\"\",\"\",AU65+IF(AW65=\"XX\",VLOOKUP(\"WRONG\",Answers!AS:AV,4,FALSE),AW65)+AX65)","v":2063},{"$f":"IF($B65=\"\",\"\",0+UPPER(Mainframe!O64))","v":666},177.52054794520546,1,{"$f":"IF($B65=\"\",\"\",LEFT(Mainframe!P64,SEARCH(\".\",Mainframe!P64)-1))","v":"8"},null,null,null,null,null,null,null,null,null,null,null,null,null,null,null,null,null,null,null,null,null,null,null,null,null,null,null,null,null,null,63,{"$f":"IF(INDEX($B:$CE,ROW(),QNO*4)=\"XX\",\"[b][u]\"&INDEX($B:$CE,ROW(),QNO*4-1)&\"[/u][/b]\",\"[color=#BF0040]\"&INDEX(OFFSET(Answers!C:C,0,(QNO-1)*4),MATCH(INDEX($A:$CB,ROW(),QNO*4),OFFSET(Answers!A:A,0,(QNO-1)*4),0))&\"[/color]//[b]\"&INDEX(OFFSET(Answers!B:B,0,(QNO-1)*4),MATCH(INDEX($A:$CB,ROW(),QNO*4),OFFSET(Answers!A:A,0,(QNO-1)*4),0))&\"[/b] — [b]\"&IF(INDEX($B:$CE,ROW(),QNO*4)=1,\"Singleton!\",CONCATENATE(INDEX($B:$CE,ROW(),QNO*4),\" responses\"))&\"[/b]\")","v":"[color=#BF0040]\"King\", \"Red Red Wine\", \"(I Can't Help) Falling in Love With You\"[/color]//[b]UB[u]40[/u][/b] — [b]1000 responses[/b]"},"Dick Butkus","Yes","63. Dick Butkus — [b]1,000[/b] pts",20,-43]
["[*]",{"$f":"IF(Mainframe!B65=\"\",\"\",INDEX(Mainframe!$B:$B,C66+1,1))","v":"Big Bear"},64,{"$f":"IF($B66=\"\",\"\",0+UPPER(Mainframe!C65))","v":3},{"$f":"IF(D66=\"\",\"\",IF(NOT(ISNA(VLOOKUP(D66,Answers!A:D,4,FALSE))),VLOOKUP(D66,Answers!A:D,4,FALSE),\"Help!\"))","v":11},null,{"$f":"IF(E66=\"\",\"\",IF(E66=\"XX\",VLOOKUP(\"WRONG\",Answers!A:D,4,FALSE),E66)+F66)","v":11},{"$f":"IF($B66=\"\",\"\",0+UPPER(Mainframe!D65))","v":38},{"$f":"IF(H66=\"\",\"\",IF(NOT(ISNA(VLOOKUP(H66,Answers!E:H,4,FALSE))),VLOOKUP(H66,Answers!E:H,4,FALSE),\"Help!\"))","v":7},null,{"$f":"IF(I66=\"\",\"\",G66+IF(I66=\"XX\",VLOOKUP(\"WRONG\",Answers!E:H,4,FALSE),I66)+J66)","v":18},{"$f":"IF($B66=\"\",\"\",0+UPPER(Mainframe!E65))","v":12},{"$f":"IF(L66=\"\",\"\",IF(NOT(ISNA(VLOOKUP(L66,Answers!I:L,4,FALSE))),VLOOKUP(L66,Answers!I:L,4,FALSE),\"Help!\"))","v":3},null,{"$f":"IF(M66=\"\",\"\",K66+IF(M66=\"XX\",VLOOKUP(\"WRONG\",Answers!I:L,4,FALSE),M66)+N66)","v":21},{"$f":"IF($B66=\"\",\"\",0+UPPER(Mainframe!F65))","v":1076},"XX",null,{"$f":"IF(Q66=\"\",\"\",O66+IF(Q66=\"XX\",VLOOKUP(\"WRONG\",Answers!M:P,4,FALSE),Q66)+R66)","v":1028},{"$f":"IF($B66=\"\",\"\",0+UPPER(Mainframe!G65))","v":6},{"$f":"IF(T66=\"\",\"\",IF(NOT(ISNA(VLOOKUP(T66,Answers!Q:T,4,FALSE))),VLOOKUP(T66,Answers!Q:T,4,FALSE),\"Help!\"))","v":9},{"$f":"IF(U66>500,-1000,0)","v":0},{"$f":"IF(U66=\"\",\"\",S66+IF(U66=\"XX\",VLOOKUP(\"WRONG\",Answers!Q:T,4,FALSE),U66)+V66)","v":1037},{"$f":"IF($B66=\"\",\"\",0+UPPER(Mainframe!H65))","v":1000},{"$f":"IF(X66=\"\",\"\",IF(NOT(ISNA(VLOOKUP(X66,Answers!U:X,4,FALSE))),VLOOKUP(X66,Answers!U:X,4,FALSE),\"Help!\"))","v":6},null,{"$f":"IF(Y66=\"\",\"\",W66+IF(Y66=\"XX\",VLOOKUP(\"WRONG\",Answers!U:X,4,FALSE),Y66)+Z66)","v":1043},{"$f":"IF($B66=\"\",\"\",0+UPPER(Mainframe!I65))","v":76},{"$f":"IF(AB66=\"\",\"\",IF(NOT(ISNA(VLOOKUP(AB66,Answers!Y:AB,4,FALSE))),VLOOKUP(AB66,Answers!Y:AB,4,FALSE),\"Help!\"))","v":1000},null,{"$f":"IF(AC66=\"\",\"\",AA66+IF(AC66=\"XX\",VLOOKUP(\"WRONG\",Answers!Y:AB,4,FALSE),AC66)+AD66)","v":2043},{"$f":"IF($B66=\"\",\"\",0+UPPER(Mainframe!J65))","v":202},{"$f":"IF(AF66=\"\",\"\",IF(NOT(ISNA(VLOOKUP(AF66,Answers!AC:AF,4,FALSE))),VLOOKUP(AF66,Answers!AC:AF,4,FALSE),\"Help!\"))","v":10},null,{"$f":"IF(AG66=\"\",\"\",AE66+IF(AG66=\"XX\",VLOOKUP(\"WRONG\",Answers!AC:AF,4,FALSE),AG66)+AH66)","v":2053},{"$f":"IF($B66=\"\",\"\",0+UPPER(Mainframe!K65))","v":60},"XX",null,{"$f":"IF(AK66=\"\",\"\",AI66+IF(AK66=\"XX\",VLOOKUP(\"WRONG\",Answers!AG:AJ,4,FALSE),AK66)+AL66)","v":3060},{"$f":"IF($B66=\"\",\"\",0+UPPER(Mainframe!L65))","v":5},{"$f":"IF(AN66=\"\",\"\",IF(NOT(ISNA(VLOOKUP(AN66,Answers!AK:AN,4,FALSE))),VLOOKUP(AN66,Answers!AK:AN,4,FALSE),\"Help!\"))","v":7},null,{"$f":"IF(AO66=\"\",\"\",AM66+IF(AO66=\"XX\",VLOOKUP(\"WRONG\",Answers!AK:AN,4,FALSE),AO66)+AP66)","v":3067},{"$f":"IF($B66=\"\",\"\",0+UPPER(Mainframe!M65))","v":8},{"$f":"IF(AR66=\"\",\"\",IF(NOT(ISNA(VLOOKUP(AR66,Answers!AO:AR,4,FALSE))),VLOOKUP(AR66,Answers!AO:AR,4,FALSE),\"Help!\"))","v":6},null,{"$f":"IF(AS66=\"\",\"\",AQ66+IF(AS66=\"XX\",VLOOKUP(\"WRONG\",Answers!AO:AR,4,FALSE),AS66)+AT66)","v":3073},{"$f":"IF($B66=\"\",\"\",0+UPPER(Mainframe!N65))","v":5000},{"$f":"IF(AV66=\"\",\"\",IF(NOT(ISNA(VLOOKUP(AV66,Answers!AS:AV,4,FALSE))),VLOOKUP(AV66,Answers!AS:AV,4,FALSE),\"Help!\"))","v":9},null,{"$f":"IF(AW66=\"\",\"\",AU66+IF(AW66=\"XX\",VLOOKUP(\"WRONG\",Answers!AS:AV,4,FALSE),AW66)+AX66)","v":3082},{"$f":"IF($B66=\"\",\"\",0+UPPER(Mainframe!O65))","v":676},187.52054794520546,1,{"$f":"IF($B66=\"\",\"\",LEFT(Mainframe!P65,SEARCH(\".\",Mainframe!P65)-1))","v":"5"},null,null,null,null,null,null,null,null,null,null,null,null,null,null,null,null,null,null,null,null,null,null,null,null,null,null,null,null,null,null,64,{"$f":"IF(INDEX($B:$CE,ROW(),QNO*4)=\"XX\",\"[b][u]\"&INDEX($B:$CE,ROW(),QNO*4-1)&\"[/u][/b]\",\"[color=#BF0040]\"&INDEX(OFFSET(Answers!C:C,0,(QNO-1)*4),MATCH(INDEX($A:$CB,ROW(),QNO*4),OFFSET(Answers!A:A,0,(QNO-1)*4),0))&\"[/color]//[b]\"&INDEX(OFFSET(Answers!B:B,0,(QNO-1)*4),MATCH(INDEX($A:$CB,ROW(),QNO*4),OFFSET(Answers!A:A,0,(QNO-1)*4),0))&\"[/b] — [b]\"&IF(INDEX($B:$CE,ROW(),QNO*4)=1,\"Singleton!\",CONCATENATE(INDEX($B:$CE,ROW(),QNO*4),\" responses\"))&\"[/b]\")","v":"[color=#BF0040]\"Mama Told Me (Not to Come)\", \"Joy to the World\", \"Black and White\"[/color]//[b][u]THREE[/u] DOG NIGHT[/b] — [b]11 responses[/b]"},"Big Bear","Yes","64. Big Bear — [b]11[/b] pts",50,-14]
["[*]",{"$f":"IF(Mainframe!B66=\"\",\"\",INDEX(Mainframe!$B:$B,C67+1,1))","v":"naurae29"},65,{"$f":"IF($B67=\"\",\"\",0+UPPER(Mainframe!C66))","v":40},{"$f":"IF(D67=\"\",\"\",IF(NOT(ISNA(VLOOKUP(D67,Answers!A:D,4,FALSE))),VLOOKUP(D67,Answers!A:D,4,FALSE),\"Help!\"))","v":1000},null,{"$f":"IF(E67=\"\",\"\",IF(E67=\"XX\",VLOOKUP(\"WRONG\",Answers!A:D,4,FALSE),E67)+F67)","v":1000},{"$f":"IF($B67=\"\",\"\",0+UPPER(Mainframe!D66))","v":21},{"$f":"IF(H67=\"\",\"\",IF(NOT(ISNA(VLOOKUP(H67,Answers!E:H,4,FALSE))),VLOOKUP(H67,Answers!E:H,4,FALSE),\"Help!\"))","v":1000},{"$f":"IF(I67>500,-1000,0)","v":-1000},{"$f":"IF(I67=\"\",\"\",G67+IF(I67=\"XX\",VLOOKUP(\"WRONG\",Answers!E:H,4,FALSE),I67)+J67)","v":1000},{"$f":"IF($B67=\"\",\"\",0+UPPER(Mainframe!E66))","v":34},{"$f":"IF(L67=\"\",\"\",IF(NOT(ISNA(VLOOKUP(L67,Answers!I:L,4,FALSE))),VLOOKUP(L67,Answers!I:L,4,FALSE),\"Help!\"))","v":1000},null,{"$f":"IF(M67=\"\",\"\",K67+IF(M67=\"XX\",VLOOKUP(\"WRONG\",Answers!I:L,4,FALSE),M67)+N67)","v":2000},{"$f":"IF($B67=\"\",\"\",0+UPPER(Mainframe!F66))","v":2002},"XX",null,{"$f":"IF(Q67=\"\",\"\",O67+IF(Q67=\"XX\",VLOOKUP(\"WRONG\",Answers!M:P,4,FALSE),Q67)+R67)","v":3007},{"$f":"IF($B67=\"\",\"\",0+UPPER(Mainframe!G66))","v":5},{"$f":"IF(T67=\"\",\"\",IF(NOT(ISNA(VLOOKUP(T67,Answers!Q:T,4,FALSE))),VLOOKUP(T67,Answers!Q:T,4,FALSE),\"Help!\"))","v":1000},null,{"$f":"IF(U67=\"\",\"\",S67+IF(U67=\"XX\",VLOOKUP(\"WRONG\",Answers!Q:T,4,FALSE),U67)+V67)","v":4007},{"$f":"IF($B67=\"\",\"\",0+UPPER(Mainframe!H66))","v":80},{"$f":"IF(X67=\"\",\"\",IF(NOT(ISNA(VLOOKUP(X67,Answers!U:X,4,FALSE))),VLOOKUP(X67,Answers!U:X,4,FALSE),\"Help!\"))","v":5},null,{"$f":"IF(Y67=\"\",\"\",W67+IF(Y67=\"XX\",VLOOKUP(\"WRONG\",Answers!U:X,4,FALSE),Y67)+Z67)","v":4012},{"$f":"IF($B67=\"\",\"\",0+UPPER(Mainframe!I66))","v":6},{"$f":"IF(AB67=\"\",\"\",IF(NOT(ISNA(VLOOKUP(AB67,Answers!Y:AB,4,FALSE))),VLOOKUP(AB67,Answers!Y:AB,4,FALSE),\"Help!\"))","v":4},null,{"$f":"IF(AC67=\"\",\"\",AA67+IF(AC67=\"XX\",VLOOKUP(\"WRONG\",Answers!Y:AB,4,FALSE),AC67)+AD67)","v":4016},{"$f":"IF($B67=\"\",\"\",0+UPPER(Mainframe!J66))","v":202},{"$f":"IF(AF67=\"\",\"\",IF(NOT(ISNA(VLOOKUP(AF67,Answers!AC:AF,4,FALSE))),VLOOKUP(AF67,Answers!AC:AF,4,FALSE),\"Help!\"))","v":10},null,{"$f":"IF(AG67=\"\",\"\",AE67+IF(AG67=\"XX\",VLOOKUP(\"WRONG\",Answers!AC:AF,4,FALSE),AG67)+AH67)","v":4026},{"$f":"IF($B67=\"\",\"\",0+UPPER(Mainframe!K66))","v":1},"XX",null,{"$f":"IF(AK67=\"\",\"\",AI67+IF(AK67=\"XX\",VLOOKUP(\"WRONG\",Answers!AG:AJ,4,FALSE),AK67)+AL67)","v":5033},{"$f":"IF($B67=\"\",\"\",0+UPPER(Mainframe!L66))","v":76},{"$f":"IF(AN67=\"\",\"\",IF(NOT(ISNA(VLOOKUP(AN67,Answers!AK:AN,4,FALSE))),VLOOKUP(AN67,Answers!AK:AN,4,FALSE),\"Help!\"))","v":6},null,{"$f":"IF(AO67=\"\",\"\",AM67+IF(AO67=\"XX\",VLOOKUP(\"WRONG\",Answers!AK:AN,4,FALSE),AO67)+AP67)","v":5039},{"$f":"IF($B67=\"\",\"\",0+UPPER(Mainframe!M66))","v":1000},{"$f":"IF(AR67=\"\",\"\",IF(NOT(ISNA(VLOOKUP(AR67,Answers!AO:AR,4,FALSE))),VLOOKUP(AR67,Answers!AO:AR,4,FALSE),\"Help!\"))","v":6},null,{"$f":"IF(AS67=\"\",\"\",AQ67+IF(AS67=\"XX\",VLOOKUP(\"WRONG\",Answers!AO:AR,4,FALSE),AS67)+AT67)","v":5045},{"$f":"IF($B67=\"\",\"\",0+UPPER(Mainframe!N66))","v":27},{"$f":"IF(AV67=\"\",\"\",IF(NOT(ISNA(VLOOKUP(AV67,Answers!AS:AV,4,FALSE))),VLOOKUP(AV67,Answers!AS:AV,4,FALSE),\"Help!\"))","v":9},null,{"$f":"IF(AW67=\"\",\"\",AU67+IF(AW67=\"XX\",VLOOKUP(\"WRONG\",Answers!AS:AV,4,FALSE),AW67)+AX67)","v":5054},{"$f":"IF($B67=\"\",\"\",0+UPPER(Mainframe!O66))","v":325},{"$f":"IF(AZ67=\"\",\"\",ABS(AZ67-AVERAGE(AZ$3:AZ$101)))","v":163.47945205479454},{"$f":"IF(BA67=\"\",\"\",COUNTA(F67,J67,N67,R67,V67,Z67,AD67,AH67,AL67,AP67,AT67,AX67))","v":1},{"$f":"IF($B67=\"\",\"\",LEFT(Mainframe!P66,SEARCH(\".\",Mainframe!P66)-1))","v":"2"},null,null,null,null,null,null,null,null,null,null,null,null,null,null,null,null,null,null,null,null,null,null,null,null,null,null,null,null,null,null,{"$f":"IF(B67=0,\"\",IF(INDEX($B:$CE,ROW(),1)=0,\"\",IF(INDEX($B:$CE,ROW(),4*QNO+2)=INDEX($B:$CE,ROW()-1,4*QNO+2),$CH66,ROW()-2)))","v":65},{"$f":"IF(INDEX($B:$CE,ROW(),QNO*4)=\"XX\",\"[b][u]\"&INDEX($B:$CE,ROW(),QNO*4-1)&\"[/u][/b]\",\"[color=#BF0040]\"&INDEX(OFFSET(Answers!C:C,0,(QNO-1)*4),MATCH(INDEX($A:$CB,ROW(),QNO*4),OFFSET(Answers!A:A,0,(QNO-1)*4),0))&\"[/color]//[b]\"&INDEX(OFFSET(Answers!B:B,0,(QNO-1)*4),MATCH(INDEX($A:$CB,ROW(),QNO*4),OFFSET(Answers!A:A,0,(QNO-1)*4),0))&\"[/b] — [b]\"&IF(INDEX($B:$CE,ROW(),QNO*4)=1,\"Singleton!\",CONCATENATE(INDEX($B:$CE,ROW(),QNO*4),\" responses\"))&\"[/b]\")","v":"[color=#BF0040]\"King\", \"Red Red Wine\", \"(I Can't Help) Falling in Love With You\"[/color]//[b]UB[u]40[/u][/b] — [b]1000 responses[/b]"},{"$f":"IF(INDEX($B:$CE,ROW(),1)=0,\"\",IF(INDEX($B:$CE,ROW(),QNO*4-1)=INDEX($B:$CE,ROW()+1,QNO*4-1),CONCATENATE(INDEX($B:$CE,ROW(),1),IF(BC67-0=QNO-0,\" [[b][color=#8000BF]FOX[/color][/b]]\",\"\"),\"//\",INDEX($CJ:$CJ,ROW()+1,1)),INDEX($B:$CE,ROW(),1)&IF(BC67-0=QNO-0,\" [[b][color=#8000BF]FOX[/color][/b]]\",\"\")))","v":"naurae29//JonathanHenke//goatman [[b][color=#8000BF]FOX[/color][/b]]"},{"$f":"IF(INDEX($B:$CE,ROW(),1)=0,\"\",IF(ISNUMBER(SEARCH(\"//\",INDEX($CJ:$CJ,ROW()-1,1))),\"No\",\"Yes\"))","v":"Yes"},{"$f":"IF(B67=0,\"\",CONCATENATE(INDEX($CH:$CL,ROW(),1),\". \",INDEX($B:$CE,ROW(),1),\" — \")&IF(QNO=1,CONCATENATE(\"[b]\",TEXT(INDEX($B:$CE,ROW(),QNO*4+2),\"#,##0\"),\"[/b] pts\"),CONCATENATE(\"[color=#BBBBBB]\",TEXT(INDEX($B:$CE,ROW(),QNO*4-2),\"#,##0\"),\" + \",IF(INDEX($B:$CE,ROW(),QNO*4)=\"XX\",\"[/color][color=#BF8000][b]\"&TEXT(WRONGSCORE,\"#,##0\")&\"[/b][/color][color=#BBBBBB]\",IF(INDEX($B:$CE,ROW(),QNO*4)=1000,\"[/color][color=#BF8000][b]1,000[/b][/color][color=#BBBBBB]\",INDEX($B:$CE,ROW(),QNO*4))),IF(INDEX($C:$CE,ROW(),QNO*4)<0,\" [/color][b][color=#8000BF]- 1,000[/color][/b][color=#BBBBBB]\",\"\"),\" → [/color][b]\",TEXT(INDEX($B:$CE,ROW(),QNO*4+2),\"#,##0\"),\"[/b] pts \"&\"[[b]\"&IF(CN67>0,\"[color=#00BF00]↑\"&CN67,IF(CN67<0,\"[color=#FF0000]↓\"&ABS(CN67),\"[color=#0000FF]unch\"))&\"[/b][/color]]\")))","v":"65. naurae29 — [b]1,000[/b] pts"},64,{"$f":"CM67-CH67","v":-1}]
["[*]",{"$f":"IF(Mainframe!B67=\"\",\"\",INDEX(Mainframe!$B:$B,C68+1,1))","v":"JonathanHenke"},66,{"$f":"IF($B68=\"\",\"\",0+UPPER(Mainframe!C67))","v":40},{"$f":"IF(D68=\"\",\"\",IF(NOT(ISNA(VLOOKUP(D68,Answers!A:D,4,FALSE))),VLOOKUP(D68,Answers!A:D,4,FALSE),\"Help!\"))","v":1000},null,{"$f":"IF(E68=\"\",\"\",IF(E68=\"XX\",VLOOKUP(\"WRONG\",Answers!A:D,4,FALSE),E68)+F68)","v":1000},{"$f":"IF($B68=\"\",\"\",0+UPPER(Mainframe!D67))","v":121},{"$f":"IF(H68=\"\",\"\",IF(NOT(ISNA(VLOOKUP(H68,Answers!E:H,4,FALSE))),VLOOKUP(H68,Answers!E:H,4,FALSE),\"Help!\"))","v":8},null,{"$f":"IF(I68=\"\",\"\",G68+IF(I68=\"XX\",VLOOKUP(\"WRONG\",Answers!E:H,4,FALSE),I68)+J68)","v":1008},{"$f":"IF($B68=\"\",\"\",0+UPPER(Mainframe!E67))","v":16},{"$f":"IF(L68=\"\",\"\",IF(NOT(ISNA(VLOOKUP(L68,Answers!I:L,4,FALSE))),VLOOKUP(L68,Answers!I:L,4,FALSE),\"Help!\"))","v":12},null,{"$f":"IF(M68=\"\",\"\",K68+IF(M68=\"XX\",VLOOKUP(\"WRONG\",Answers!I:L,4,FALSE),M68)+N68)","v":1020},{"$f":"IF($B68=\"\",\"\",0+UPPER(Mainframe!F67))","v":1415},{"$f":"IF(P68=\"\",\"\",IF(NOT(ISNA(VLOOKUP(P68,Answers!M:P,4,FALSE))),VLOOKUP(P68,Answers!M:P,4,FALSE),\"Help!\"))","v":7},null,{"$f":"IF(Q68=\"\",\"\",O68+IF(Q68=\"XX\",VLOOKUP(\"WRONG\",Answers!M:P,4,FALSE),Q68)+R68)","v":1027},{"$f":"IF($B68=\"\",\"\",0+UPPER(Mainframe!G67))","v":8},{"$f":"IF(T68=\"\",\"\",IF(NOT(ISNA(VLOOKUP(T68,Answers!Q:T,4,FALSE))),VLOOKUP(T68,Answers!Q:T,4,FALSE),\"Help!\"))","v":6},{"$f":"IF(U68>500,-1000,0)","v":0},{"$f":"IF(U68=\"\",\"\",S68+IF(U68=\"XX\",VLOOKUP(\"WRONG\",Answers!Q:T,4,FALSE),U68)+V68)","v":1033},{"$f":"IF($B68=\"\",\"\",0+UPPER(Mainframe!H67))","v":3},"XX",null,{"$f":"IF(Y68=\"\",\"\",W68+IF(Y68=\"XX\",VLOOKUP(\"WRONG\",Answers!U:X,4,FALSE),Y68)+Z68)","v":2040},{"$f":"IF($B68=\"\",\"\",0+UPPER(Mainframe!I67))","v":25},{"$f":"IF(AB68=\"\",\"\",IF(NOT(ISNA(VLOOKUP(AB68,Answers!Y:AB,4,FALSE))),VLOOKUP(AB68,Answers!Y:AB,4,FALSE),\"Help!\"))","v":7},null,{"$f":"IF(AC68=\"\",\"\",AA68+IF(AC68=\"XX\",VLOOKUP(\"WRONG\",Answers!Y:AB,4,FALSE),AC68)+AD68)","v":2047},{"$f":"IF($B68=\"\",\"\",0+UPPER(Mainframe!J67))","v":535},"XX",null,{"$f":"IF(AG68=\"\",\"\",AE68+IF(AG68=\"XX\",VLOOKUP(\"WRONG\",Answers!AC:AF,4,FALSE),AG68)+AH68)","v":3054},{"$f":"IF($B68=\"\",\"\",0+UPPER(Mainframe!K67))","v":35},{"$f":"IF(AJ68=\"\",\"\",IF(NOT(ISNA(VLOOKUP(AJ68,Answers!AG:AJ,4,FALSE))),VLOOKUP(AJ68,Answers!AG:AJ,4,FALSE),\"Help!\"))","v":8},null,{"$f":"IF(AK68=\"\",\"\",AI68+IF(AK68=\"XX\",VLOOKUP(\"WRONG\",Answers!AG:AJ,4,FALSE),AK68)+AL68)","v":3062},{"$f":"IF($B68=\"\",\"\",0+UPPER(Mainframe!L67))","v":24},"XX",null,{"$f":"IF(AO68=\"\",\"\",AM68+IF(AO68=\"XX\",VLOOKUP(\"WRONG\",Answers!AK:AN,4,FALSE),AO68)+AP68)","v":4069},{"$f":"IF($B68=\"\",\"\",0+UPPER(Mainframe!M67))","v":3},{"$f":"IF(AR68=\"\",\"\",IF(NOT(ISNA(VLOOKUP(AR68,Answers!AO:AR,4,FALSE))),VLOOKUP(AR68,Answers!AO:AR,4,FALSE),\"Help!\"))","v":6},null,{"$f":"IF(AS68=\"\",\"\",AQ68+IF(AS68=\"XX\",VLOOKUP(\"WRONG\",Answers!AO:AR,4,FALSE),AS68)+AT68)","v":4075},{"$f":"IF($B68=\"\",\"\",0+UPPER(Mainframe!N67))","v":666},{"$f":"IF(AV68=\"\",\"\",IF(NOT(ISNA(VLOOKUP(AV68,Answers!AS:AV,4,FALSE))),VLOOKUP(AV68,Answers!AS:AV,4,FALSE),\"Help!\"))","v":5},null,{"$f":"IF(AW68=\"\",\"\",AU68+IF(AW68=\"XX\",VLOOKUP(\"WRONG\",Answers!AS:AV,4,FALSE),AW68)+AX68)","v":4080},{"$f":"IF($B68=\"\",\"\",0+UPPER(Mainframe!O67))","v":420},68.479452054794535,1,{"$f":"IF($B68=\"\",\"\",LEFT(Mainframe!P67,SEARCH(\".\",Mainframe!P67)-1))","v":"5"},null,null,null,null,null,null,null,null,null,null,null,null,null,null,null,null,null,null,null,null,null,null,null,null,null,null,null,null,null,null,65,{"$f":"IF(INDEX($B:$CE,ROW(),QNO*4)=\"XX\",\"[b][u]\"&INDEX($B:$CE,ROW(),QNO*4-1)&\"[/u][/b]\",\"[color=#BF0040]\"&INDEX(OFFSET(Answers!C:C,0,(QNO-1)*4),MATCH(INDEX($A:$CB,ROW(),QNO*4),OFFSET(Answers!A:A,0,(QNO-1)*4),0))&\"[/color]//[b]\"&INDEX(OFFSET(Answers!B:B,0,(QNO-1)*4),MATCH(INDEX($A:$CB,ROW(),QNO*4),OFFSET(Answers!A:A,0,(QNO-1)*4),0))&\"[/b] — [b]\"&IF(INDEX($B:$CE,ROW(),QNO*4)=1,\"Singleton!\",CONCATENATE(INDEX($B:$CE,ROW(),QNO*4),\" responses\"))&\"[/b]\")","v":"[color=#BF0040]\"King\", \"Red Red Wine\", \"(I Can't Help) Falling in Love With You\"[/color]//[b]UB[u]40[/u][/b] — [b]1000 responses[/b]"},"JonathanHenke//goatman [[b][color=#8000BF]FOX[/color][/b]]","No","65. JonathanHenke — [b]1,000[/b] pts",60,-5]
["[*]",{"$f":"IF(Mainframe!B68=\"\",\"\",INDEX(Mainframe!$B:$B,C69+1,1))","v":"goatman"},67,{"$f":"IF($B69=\"\",\"\",0+UPPER(Mainframe!C68))","v":40},{"$f":"IF(D69=\"\",\"\",IF(NOT(ISNA(VLOOKUP(D69,Answers!A:D,4,FALSE))),VLOOKUP(D69,Answers!A:D,4,FALSE),\"Help!\"))","v":1000},{"$f":"IF(E69>500,-1000,0)","v":-1000},{"$f":"IF(E69=\"\",\"\",IF(E69=\"XX\",VLOOKUP(\"WRONG\",Answers!A:D,4,FALSE),E69)+F69)","v":0},{"$f":"IF($B69=\"\",\"\",0+UPPER(Mainframe!D68))","v":108},{"$f":"IF(H69=\"\",\"\",IF(NOT(ISNA(VLOOKUP(H69,Answers!E:H,4,FALSE))),VLOOKUP(H69,Answers!E:H,4,FALSE),\"Help!\"))","v":5},null,{"$f":"IF(I69=\"\",\"\",G69+IF(I69=\"XX\",VLOOKUP(\"WRONG\",Answers!E:H,4,FALSE),I69)+J69)","v":5},{"$f":"IF($B69=\"\",\"\",0+UPPER(Mainframe!E68))","v":2001},{"$f":"IF(L69=\"\",\"\",IF(NOT(ISNA(VLOOKUP(L69,Answers!I:L,4,FALSE))),VLOOKUP(L69,Answers!I:L,4,FALSE),\"Help!\"))","v":6},null,{"$f":"IF(M69=\"\",\"\",K69+IF(M69=\"XX\",VLOOKUP(\"WRONG\",Answers!I:L,4,FALSE),M69)+N69)","v":11},{"$f":"IF($B69=\"\",\"\",0+UPPER(Mainframe!F68))","v":1415},{"$f":"IF(P69=\"\",\"\",IF(NOT(ISNA(VLOOKUP(P69,Answers!M:P,4,FALSE))),VLOOKUP(P69,Answers!M:P,4,FALSE),\"Help!\"))","v":7},null,{"$f":"IF(Q69=\"\",\"\",O69+IF(Q69=\"XX\",VLOOKUP(\"WRONG\",Answers!M:P,4,FALSE),Q69)+R69)","v":18},{"$f":"IF($B69=\"\",\"\",0+UPPER(Mainframe!G68))","v":26},{"$f":"IF(T69=\"\",\"\",IF(NOT(ISNA(VLOOKUP(T69,Answers!Q:T,4,FALSE))),VLOOKUP(T69,Answers!Q:T,4,FALSE),\"Help!\"))","v":1},null,{"$f":"IF(U69=\"\",\"\",S69+IF(U69=\"XX\",VLOOKUP(\"WRONG\",Answers!Q:T,4,FALSE),U69)+V69)","v":19},{"$f":"IF($B69=\"\",\"\",0+UPPER(Mainframe!H68))","v":451},{"$f":"IF(X69=\"\",\"\",IF(NOT(ISNA(VLOOKUP(X69,Answers!U:X,4,FALSE))),VLOOKUP(X69,Answers!U:X,4,FALSE),\"Help!\"))","v":8},null,{"$f":"IF(Y69=\"\",\"\",W69+IF(Y69=\"XX\",VLOOKUP(\"WRONG\",Answers!U:X,4,FALSE),Y69)+Z69)","v":27},{"$f":"IF($B69=\"\",\"\",0+UPPER(Mainframe!I68))","v":42},{"$f":"IF(AB69=\"\",\"\",IF(NOT(ISNA(VLOOKUP(AB69,Answers!Y:AB,4,FALSE))),VLOOKUP(AB69,Answers!Y:AB,4,FALSE),\"Help!\"))","v":13},null,{"$f":"IF(AC69=\"\",\"\",AA69+IF(AC69=\"XX\",VLOOKUP(\"WRONG\",Answers!Y:AB,4,FALSE),AC69)+AD69)","v":40},{"$f":"IF($B69=\"\",\"\",0+UPPER(Mainframe!J68))","v":202},{"$f":"IF(AF69=\"\",\"\",IF(NOT(ISNA(VLOOKUP(AF69,Answers!AC:AF,4,FALSE))),VLOOKUP(AF69,Answers!AC:AF,4,FALSE),\"Help!\"))","v":10},null,{"$f":"IF(AG69=\"\",\"\",AE69+IF(AG69=\"XX\",VLOOKUP(\"WRONG\",Answers!AC:AF,4,FALSE),AG69)+AH69)","v":50},{"$f":"IF($B69=\"\",\"\",0+UPPER(Mainframe!K68))","v":94},{"$f":"IF(AJ69=\"\",\"\",IF(NOT(ISNA(VLOOKUP(AJ69,Answers!AG:AJ,4,FALSE))),VLOOKUP(AJ69,Answers!AG:AJ,4,FALSE),\"Help!\"))","v":5},null,{"$f":"IF(AK69=\"\",\"\",AI69+IF(AK69=\"XX\",VLOOKUP(\"WRONG\",Answers!AG:AJ,4,FALSE),AK69)+AL69)","v":55},{"$f":"IF($B69=\"\",\"\",0+UPPER(Mainframe!L68))","v":100},{"$f":"IF(AN69=\"\",\"\",IF(NOT(ISNA(VLOOKUP(AN69,Answers!AK:AN,4,FALSE))),VLOOKUP(AN69,Answers!AK:AN,4,FALSE),\"Help!\"))","v":4},null,{"$f":"IF(AO69=\"\",\"\",AM69+IF(AO69=\"XX\",VLOOKUP(\"WRONG\",Answers!AK:AN,4,FALSE),AO69)+AP69)","v":59},{"$f":"IF($B69=\"\",\"\",0+UPPER(Mainframe!M68))","v":8},{"$f":"IF(AR69=\"\",\"\",IF(NOT(ISNA(VLOOKUP(AR69,Answers!AO:AR,4,FALSE))),VLOOKUP(AR69,Answers!AO:AR,4,FALSE),\"Help!\"))","v":6},null,{"$f":"IF(AS69=\"\",\"\",AQ69+IF(AS69=\"XX\",VLOOKUP(\"WRONG\",Answers!AO:AR,4,FALSE),AS69)+AT69)","v":65},{"$f":"IF($B69=\"\",\"\",0+UPPER(Mainframe!N68))","v":622},{"$f":"IF(AV69=\"\",\"\",IF(NOT(ISNA(VLOOKUP(AV69,Answers!AS:AV,4,FALSE))),VLOOKUP(AV69,Answers!AS:AV,4,FALSE),\"Help!\"))","v":4},null,{"$f":"IF(AW69=\"\",\"\",AU69+IF(AW69=\"XX\",VLOOKUP(\"WRONG\",Answers!AS:AV,4,FALSE),AW69)+AX69)","v":69},{"$f":"IF($B69=\"\",\"\",0+UPPER(Mainframe!O68))","v":542},53.520547945205465,1,{"$f":"IF($B69=\"\",\"\",LEFT(Mainframe!P68,SEARCH(\".\",Mainframe!P68)-1))","v":"1"},null,null,null,null,null,null,null,null,null,null,null,null,null,null,null,null,null,null,null,null,null,null,null,null,null,null,null,null,null,null,67,{"$f":"IF(INDEX($B:$CE,ROW(),QNO*4)=\"XX\",\"[b][u]\"&INDEX($B:$CE,ROW(),QNO*4-1)&\"[/u][/b]\",\"[color=#BF0040]\"&INDEX(OFFSET(Answers!C:C,0,(QNO-1)*4),MATCH(INDEX($A:$CB,ROW(),QNO*4),OFFSET(Answers!A:A,0,(QNO-1)*4),0))&\"[/color]//[b]\"&INDEX(OFFSET(Answers!B:B,0,(QNO-1)*4),MATCH(INDEX($A:$CB,ROW(),QNO*4),OFFSET(Answers!A:A,0,(QNO-1)*4),0))&\"[/b] — [b]\"&IF(INDEX($B:$CE,ROW(),QNO*4)=1,\"Singleton!\",CONCATENATE(INDEX($B:$CE,ROW(),QNO*4),\" responses\"))&\"[/b]\")","v":"[color=#BF0040]\"King\", \"Red Red Wine\", \"(I Can't Help) Falling in Love With You\"[/color]//[b]UB[u]40[/u][/b] — [b]1000 responses[/b]"},"goatman [[b][color=#8000BF]FOX[/color][/b]]","No","67. goatman — [b]0[/b] pts",5,-62]
["[*]",{"$f":"IF(Mainframe!B69=\"\",\"\",INDEX(Mainframe!$B:$B,C70+1,1))","v":"deano"},68,{"$f":"IF($B70=\"\",\"\",0+UPPER(Mainframe!C69))","v":5},{"$f":"IF(D70=\"\",\"\",IF(NOT(ISNA(VLOOKUP(D70,Answers!A:D,4,FALSE))),VLOOKUP(D70,Answers!A:D,4,FALSE),\"Help!\"))","v":5},null,{"$f":"IF(E70=\"\",\"\",IF(E70=\"XX\",VLOOKUP(\"WRONG\",Answers!A:D,4,FALSE),E70)+F70)","v":5},{"$f":"IF($B70=\"\",\"\",0+UPPER(Mainframe!D69))","v":56},{"$f":"IF(H70=\"\",\"\",IF(NOT(ISNA(VLOOKUP(H70,Answers!E:H,4,FALSE))),VLOOKUP(H70,Answers!E:H,4,FALSE),\"Help!\"))","v":4},null,{"$f":"IF(I70=\"\",\"\",G70+IF(I70=\"XX\",VLOOKUP(\"WRONG\",Answers!E:H,4,FALSE),I70)+J70)","v":9},{"$f":"IF($B70=\"\",\"\",0+UPPER(Mainframe!E69))","v":47},{"$f":"IF(L70=\"\",\"\",IF(NOT(ISNA(VLOOKUP(L70,Answers!I:L,4,FALSE))),VLOOKUP(L70,Answers!I:L,4,FALSE),\"Help!\"))","v":2},null,{"$f":"IF(M70=\"\",\"\",K70+IF(M70=\"XX\",VLOOKUP(\"WRONG\",Answers!I:L,4,FALSE),M70)+N70)","v":11},{"$f":"IF($B70=\"\",\"\",0+UPPER(Mainframe!F69))","v":1415},{"$f":"IF(P70=\"\",\"\",IF(NOT(ISNA(VLOOKUP(P70,Answers!M:P,4,FALSE))),VLOOKUP(P70,Answers!M:P,4,FALSE),\"Help!\"))","v":7},null,{"$f":"IF(Q70=\"\",\"\",O70+IF(Q70=\"XX\",VLOOKUP(\"WRONG\",Answers!M:P,4,FALSE),Q70)+R70)","v":18},{"$f":"IF($B70=\"\",\"\",0+UPPER(Mainframe!G69))","v":2},{"$f":"IF(T70=\"\",\"\",IF(NOT(ISNA(VLOOKUP(T70,Answers!Q:T,4,FALSE))),VLOOKUP(T70,Answers!Q:T,4,FALSE),\"Help!\"))","v":14},null,{"$f":"IF(U70=\"\",\"\",S70+IF(U70=\"XX\",VLOOKUP(\"WRONG\",Answers!Q:T,4,FALSE),U70)+V70)","v":32},{"$f":"IF($B70=\"\",\"\",0+UPPER(Mainframe!H69))","v":1984},{"$f":"IF(X70=\"\",\"\",IF(NOT(ISNA(VLOOKUP(X70,Answers!U:X,4,FALSE))),VLOOKUP(X70,Answers!U:X,4,FALSE),\"Help!\"))","v":3},{"$f":"IF(Y70>500,-1000,0)","v":0},{"$f":"IF(Y70=\"\",\"\",W70+IF(Y70=\"XX\",VLOOKUP(\"WRONG\",Answers!U:X,4,FALSE),Y70)+Z70)","v":35},{"$f":"IF($B70=\"\",\"\",0+UPPER(Mainframe!I69))","v":42},{"$f":"IF(AB70=\"\",\"\",IF(NOT(ISNA(VLOOKUP(AB70,Answers!Y:AB,4,FALSE))),VLOOKUP(AB70,Answers!Y:AB,4,FALSE),\"Help!\"))","v":13},null,{"$f":"IF(AC70=\"\",\"\",AA70+IF(AC70=\"XX\",VLOOKUP(\"WRONG\",Answers!Y:AB,4,FALSE),AC70)+AD70)","v":48},{"$f":"IF($B70=\"\",\"\",0+UPPER(Mainframe!J69))","v":49},{"$f":"IF(AF70=\"\",\"\",IF(NOT(ISNA(VLOOKUP(AF70,Answers!AC:AF,4,FALSE))),VLOOKUP(AF70,Answers!AC:AF,4,FALSE),\"Help!\"))","v":10},null,{"$f":"IF(AG70=\"\",\"\",AE70+IF(AG70=\"XX\",VLOOKUP(\"WRONG\",Answers!AC:AF,4,FALSE),AG70)+AH70)","v":58},{"$f":"IF($B70=\"\",\"\",0+UPPER(Mainframe!K69))","v":5},{"$f":"IF(AJ70=\"\",\"\",IF(NOT(ISNA(VLOOKUP(AJ70,Answers!AG:AJ,4,FALSE))),VLOOKUP(AJ70,Answers!AG:AJ,4,FALSE),\"Help!\"))","v":9},null,{"$f":"IF(AK70=\"\",\"\",AI70+IF(AK70=\"XX\",VLOOKUP(\"WRONG\",Answers!AG:AJ,4,FALSE),AK70)+AL70)","v":67},{"$f":"IF($B70=\"\",\"\",0+UPPER(Mainframe!L69))","v":42},{"$f":"IF(AN70=\"\",\"\",IF(NOT(ISNA(VLOOKUP(AN70,Answers!AK:AN,4,FALSE))),VLOOKUP(AN70,Answers!AK:AN,4,FALSE),\"Help!\"))","v":8},null,{"$f":"IF(AO70=\"\",\"\",AM70+IF(AO70=\"XX\",VLOOKUP(\"WRONG\",Answers!AK:AN,4,FALSE),AO70)+AP70)","v":75},{"$f":"IF($B70=\"\",\"\",0+UPPER(Mainframe!M69))","v":1000},{"$f":"IF(AR70=\"\",\"\",IF(NOT(ISNA(VLOOKUP(AR70,Answers!AO:AR,4,FALSE))),VLOOKUP(AR70,Answers!AO:AR,4,FALSE),\"Help!\"))","v":6},null,{"$f":"IF(AS70=\"\",\"\",AQ70+IF(AS70=\"XX\",VLOOKUP(\"WRONG\",Answers!AO:AR,4,FALSE),AS70)+AT70)","v":81},{"$f":"IF($B70=\"\",\"\",0+UPPER(Mainframe!N69))","v":5000},{"$f":"IF(AV70=\"\",\"\",IF(NOT(ISNA(VLOOKUP(AV70,Answers!AS:AV,4,FALSE))),VLOOKUP(AV70,Answers!AS:AV,4,FALSE),\"Help!\"))","v":9},null,{"$f":"IF(AW70=\"\",\"\",AU70+IF(AW70=\"XX\",VLOOKUP(\"WRONG\",Answers!AS:AV,4,FALSE),AW70)+AX70)","v":90},{"$f":"IF($B70=\"\",\"\",0+UPPER(Mainframe!O69))","v":442},46.479452054794535,1,{"$f":"IF($B70=\"\",\"\",LEFT(Mainframe!P69,SEARCH(\".\",Mainframe!P69)-1))","v":"6"},null,null,null,null,null,null,null,null,null,null,null,null,null,null,null,null,null,null,null,null,null,null,null,null,null,null,null,null,null,null,68,{"$f":"IF(INDEX($B:$CE,ROW(),QNO*4)=\"XX\",\"[b][u]\"&INDEX($B:$CE,ROW(),QNO*4-1)&\"[/u][/b]\",\"[color=#BF0040]\"&INDEX(OFFSET(Answers!C:C,0,(QNO-1)*4),MATCH(INDEX($A:$CB,ROW(),QNO*4),OFFSET(Answers!A:A,0,(QNO-1)*4),0))&\"[/color]//[b]\"&INDEX(OFFSET(Answers!B:B,0,(QNO-1)*4),MATCH(INDEX($A:$CB,ROW(),QNO*4),OFFSET(Answers!A:A,0,(QNO-1)*4),0))&\"[/b] — [b]\"&IF(INDEX($B:$CE,ROW(),QNO*4)=1,\"Singleton!\",CONCATENATE(INDEX($B:$CE,ROW(),QNO*4),\" responses\"))&\"[/b]\")","v":"[color=#BF0040]\"She Will Be Loved\", \"Makes Me Wonder\", \"Moves like Jagger\"[/color]//[b]MAROON [u]5[/u][/b] — [b]5 responses[/b]"},"deano","Yes","68. deano — [b]5[/b] pts",8,-60]
["[*]",{"$f":"IF(Mainframe!B70=\"\",\"\",INDEX(Mainframe!$B:$B,C71+1,1))","v":"schoe"},69,{"$f":"IF($B71=\"\",\"\",0+UPPER(Mainframe!C70))","v":20},{"$f":"IF(D71=\"\",\"\",IF(NOT(ISNA(VLOOKUP(D71,Answers!A:D,4,FALSE))),VLOOKUP(D71,Answers!A:D,4,FALSE),\"Help!\"))","v":6},null,{"$f":"IF(E71=\"\",\"\",IF(E71=\"XX\",VLOOKUP(\"WRONG\",Answers!A:D,4,FALSE),E71)+F71)","v":6},{"$f":"IF($B71=\"\",\"\",0+UPPER(Mainframe!D70))","v":22},{"$f":"IF(H71=\"\",\"\",IF(NOT(ISNA(VLOOKUP(H71,Answers!E:H,4,FALSE))),VLOOKUP(H71,Answers!E:H,4,FALSE),\"Help!\"))","v":11},null,{"$f":"IF(I71=\"\",\"\",G71+IF(I71=\"XX\",VLOOKUP(\"WRONG\",Answers!E:H,4,FALSE),I71)+J71)","v":17},{"$f":"IF($B71=\"\",\"\",0+UPPER(Mainframe!E70))","v":101},{"$f":"IF(L71=\"\",\"\",IF(NOT(ISNA(VLOOKUP(L71,Answers!I:L,4,FALSE))),VLOOKUP(L71,Answers!I:L,4,FALSE),\"Help!\"))","v":7},null,{"$f":"IF(M71=\"\",\"\",K71+IF(M71=\"XX\",VLOOKUP(\"WRONG\",Answers!I:L,4,FALSE),M71)+N71)","v":24},{"$f":"IF($B71=\"\",\"\",0+UPPER(Mainframe!F70))","v":1453},{"$f":"IF(P71=\"\",\"\",IF(NOT(ISNA(VLOOKUP(P71,Answers!M:P,4,FALSE))),VLOOKUP(P71,Answers!M:P,4,FALSE),\"Help!\"))","v":2},{"$f":"IF(Q71>500,-1000,0)","v":0},{"$f":"IF(Q71=\"\",\"\",O71+IF(Q71=\"XX\",VLOOKUP(\"WRONG\",Answers!M:P,4,FALSE),Q71)+R71)","v":26},{"$f":"IF($B71=\"\",\"\",0+UPPER(Mainframe!G70))","v":36},{"$f":"IF(T71=\"\",\"\",IF(NOT(ISNA(VLOOKUP(T71,Answers!Q:T,4,FALSE))),VLOOKUP(T71,Answers!Q:T,4,FALSE),\"Help!\"))","v":4},null,{"$f":"IF(U71=\"\",\"\",S71+IF(U71=\"XX\",VLOOKUP(\"WRONG\",Answers!Q:T,4,FALSE),U71)+V71)","v":30},{"$f":"IF($B71=\"\",\"\",0+UPPER(Mainframe!H70))","v":1984},{"$f":"IF(X71=\"\",\"\",IF(NOT(ISNA(VLOOKUP(X71,Answers!U:X,4,FALSE))),VLOOKUP(X71,Answers!U:X,4,FALSE),\"Help!\"))","v":3},null,{"$f":"IF(Y71=\"\",\"\",W71+IF(Y71=\"XX\",VLOOKUP(\"WRONG\",Answers!U:X,4,FALSE),Y71)+Z71)","v":33},{"$f":"IF($B71=\"\",\"\",0+UPPER(Mainframe!I70))","v":11},{"$f":"IF(AB71=\"\",\"\",IF(NOT(ISNA(VLOOKUP(AB71,Answers!Y:AB,4,FALSE))),VLOOKUP(AB71,Answers!Y:AB,4,FALSE),\"Help!\"))","v":4},null,{"$f":"IF(AC71=\"\",\"\",AA71+IF(AC71=\"XX\",VLOOKUP(\"WRONG\",Answers!Y:AB,4,FALSE),AC71)+AD71)","v":37},{"$f":"IF($B71=\"\",\"\",0+UPPER(Mainframe!J70))","v":15},{"$f":"IF(AF71=\"\",\"\",IF(NOT(ISNA(VLOOKUP(AF71,Answers!AC:AF,4,FALSE))),VLOOKUP(AF71,Answers!AC:AF,4,FALSE),\"Help!\"))","v":2},null,{"$f":"IF(AG71=\"\",\"\",AE71+IF(AG71=\"XX\",VLOOKUP(\"WRONG\",Answers!AC:AF,4,FALSE),AG71)+AH71)","v":39},{"$f":"IF($B71=\"\",\"\",0+UPPER(Mainframe!K70))","v":76},{"$f":"IF(AJ71=\"\",\"\",IF(NOT(ISNA(VLOOKUP(AJ71,Answers!AG:AJ,4,FALSE))),VLOOKUP(AJ71,Answers!AG:AJ,4,FALSE),\"Help!\"))","v":4},null,{"$f":"IF(AK71=\"\",\"\",AI71+IF(AK71=\"XX\",VLOOKUP(\"WRONG\",Answers!AG:AJ,4,FALSE),AK71)+AL71)","v":43},{"$f":"IF($B71=\"\",\"\",0+UPPER(Mainframe!L70))","v":72},"XX",null,{"$f":"IF(AO71=\"\",\"\",AM71+IF(AO71=\"XX\",VLOOKUP(\"WRONG\",Answers!AK:AN,4,FALSE),AO71)+AP71)","v":1050},{"$f":"IF($B71=\"\",\"\",0+UPPER(Mainframe!M70))","v":3},{"$f":"IF(AR71=\"\",\"\",IF(NOT(ISNA(VLOOKUP(AR71,Answers!AO:AR,4,FALSE))),VLOOKUP(AR71,Answers!AO:AR,4,FALSE),\"Help!\"))","v":6},null,{"$f":"IF(AS71=\"\",\"\",AQ71+IF(AS71=\"XX\",VLOOKUP(\"WRONG\",Answers!AO:AR,4,FALSE),AS71)+AT71)","v":1056},{"$f":"IF($B71=\"\",\"\",0+UPPER(Mainframe!N70))","v":5000},{"$f":"IF(AV71=\"\",\"\",IF(NOT(ISNA(VLOOKUP(AV71,Answers!AS:AV,4,FALSE))),VLOOKUP(AV71,Answers!AS:AV,4,FALSE),\"Help!\"))","v":9},null,{"$f":"IF(AW71=\"\",\"\",AU71+IF(AW71=\"XX\",VLOOKUP(\"WRONG\",Answers!AS:AV,4,FALSE),AW71)+AX71)","v":1065},{"$f":"IF($B71=\"\",\"\",0+UPPER(Mainframe!O70))","v":500},11.520547945205465,1,{"$f":"IF($B71=\"\",\"\",LEFT(Mainframe!P70,SEARCH(\".\",Mainframe!P70)-1))","v":"4"},null,null,null,null,null,null,null,null,null,null,null,null,null,null,null,null,null,null,null,null,null,null,null,null,null,null,null,null,null,null,69,{"$f":"IF(INDEX($B:$CE,ROW(),QNO*4)=\"XX\",\"[b][u]\"&INDEX($B:$CE,ROW(),QNO*4-1)&\"[/u][/b]\",\"[color=#BF0040]\"&INDEX(OFFSET(Answers!C:C,0,(QNO-1)*4),MATCH(INDEX($A:$CB,ROW(),QNO*4),OFFSET(Answers!A:A,0,(QNO-1)*4),0))&\"[/color]//[b]\"&INDEX(OFFSET(Answers!B:B,0,(QNO-1)*4),MATCH(INDEX($A:$CB,ROW(),QNO*4),OFFSET(Answers!A:A,0,(QNO-1)*4),0))&\"[/b] — [b]\"&IF(INDEX($B:$CE,ROW(),QNO*4)=1,\"Singleton!\",CONCATENATE(INDEX($B:$CE,ROW(),QNO*4),\" responses\"))&\"[/b]\")","v":"[color=#BF0040]\"Push\", \"Bent\", \"Unwell\"[/color]//[b]MATCHBOX [u]20[/u][/b] — [b]6 responses[/b]"},"schoe","Yes","69. schoe — [b]6[/b] pts",13,-56]
["[*]",{"$f":"IF(Mainframe!B71=\"\",\"\",INDEX(Mainframe!$B:$B,C72+1,1))","v":"Ivoirians"},70,{"$f":"IF($B72=\"\",\"\",0+UPPER(Mainframe!C71))","v":65},{"$f":"IF(D72=\"\",\"\",IF(NOT(ISNA(VLOOKUP(D72,Answers!A:D,4,FALSE))),VLOOKUP(D72,Answers!A:D,4,FALSE),\"Help!\"))","v":9},null,{"$f":"IF(E72=\"\",\"\",IF(E72=\"XX\",VLOOKUP(\"WRONG\",Answers!A:D,4,FALSE),E72)+F72)","v":9},{"$f":"IF($B72=\"\",\"\",0+UPPER(Mainframe!D71))","v":56},{"$f":"IF(H72=\"\",\"\",IF(NOT(ISNA(VLOOKUP(H72,Answers!E:H,4,FALSE))),VLOOKUP(H72,Answers!E:H,4,FALSE),\"Help!\"))","v":4},null,{"$f":"IF(I72=\"\",\"\",G72+IF(I72=\"XX\",VLOOKUP(\"WRONG\",Answers!E:H,4,FALSE),I72)+J72)","v":13},{"$f":"IF($B72=\"\",\"\",0+UPPER(Mainframe!E71))","v":300},{"$f":"IF(L72=\"\",\"\",IF(NOT(ISNA(VLOOKUP(L72,Answers!I:L,4,FALSE))),VLOOKUP(L72,Answers!I:L,4,FALSE),\"Help!\"))","v":11},null,{"$f":"IF(M72=\"\",\"\",K72+IF(M72=\"XX\",VLOOKUP(\"WRONG\",Answers!I:L,4,FALSE),M72)+N72)","v":24},{"$f":"IF($B72=\"\",\"\",0+UPPER(Mainframe!F71))","v":1415},{"$f":"IF(P72=\"\",\"\",IF(NOT(ISNA(VLOOKUP(P72,Answers!M:P,4,FALSE))),VLOOKUP(P72,Answers!M:P,4,FALSE),\"Help!\"))","v":7},null,{"$f":"IF(Q72=\"\",\"\",O72+IF(Q72=\"XX\",VLOOKUP(\"WRONG\",Answers!M:P,4,FALSE),Q72)+R72)","v":31},{"$f":"IF($B72=\"\",\"\",0+UPPER(Mainframe!G71))","v":5},{"$f":"IF(T72=\"\",\"\",IF(NOT(ISNA(VLOOKUP(T72,Answers!Q:T,4,FALSE))),VLOOKUP(T72,Answers!Q:T,4,FALSE),\"Help!\"))","v":1000},null,{"$f":"IF(U72=\"\",\"\",S72+IF(U72=\"XX\",VLOOKUP(\"WRONG\",Answers!Q:T,4,FALSE),U72)+V72)","v":1031},{"$f":"IF($B72=\"\",\"\",0+UPPER(Mainframe!H71))","v":4},{"$f":"IF(X72=\"\",\"\",IF(NOT(ISNA(VLOOKUP(X72,Answers!U:X,4,FALSE))),VLOOKUP(X72,Answers!U:X,4,FALSE),\"Help!\"))","v":6},null,{"$f":"IF(Y72=\"\",\"\",W72+IF(Y72=\"XX\",VLOOKUP(\"WRONG\",Answers!U:X,4,FALSE),Y72)+Z72)","v":1037},{"$f":"IF($B72=\"\",\"\",0+UPPER(Mainframe!I71))","v":525600},{"$f":"IF(AB72=\"\",\"\",IF(NOT(ISNA(VLOOKUP(AB72,Answers!Y:AB,4,FALSE))),VLOOKUP(AB72,Answers!Y:AB,4,FALSE),\"Help!\"))","v":5},null,{"$f":"IF(AC72=\"\",\"\",AA72+IF(AC72=\"XX\",VLOOKUP(\"WRONG\",Answers!Y:AB,4,FALSE),AC72)+AD72)","v":1042},{"$f":"IF($B72=\"\",\"\",0+UPPER(Mainframe!J71))","v":34},{"$f":"IF(AF72=\"\",\"\",IF(NOT(ISNA(VLOOKUP(AF72,Answers!AC:AF,4,FALSE))),VLOOKUP(AF72,Answers!AC:AF,4,FALSE),\"Help!\"))","v":4},null,{"$f":"IF(AG72=\"\",\"\",AE72+IF(AG72=\"XX\",VLOOKUP(\"WRONG\",Answers!AC:AF,4,FALSE),AG72)+AH72)","v":1046},{"$f":"IF($B72=\"\",\"\",0+UPPER(Mainframe!K71))","v":5},{"$f":"IF(AJ72=\"\",\"\",IF(NOT(ISNA(VLOOKUP(AJ72,Answers!AG:AJ,4,FALSE))),VLOOKUP(AJ72,Answers!AG:AJ,4,FALSE),\"Help!\"))","v":9},null,{"$f":"IF(AK72=\"\",\"\",AI72+IF(AK72=\"XX\",VLOOKUP(\"WRONG\",Answers!AG:AJ,4,FALSE),AK72)+AL72)","v":1055},{"$f":"IF($B72=\"\",\"\",0+UPPER(Mainframe!L71))","v":49},{"$f":"IF(AN72=\"\",\"\",IF(NOT(ISNA(VLOOKUP(AN72,Answers!AK:AN,4,FALSE))),VLOOKUP(AN72,Answers!AK:AN,4,FALSE),\"Help!\"))","v":9},null,{"$f":"IF(AO72=\"\",\"\",AM72+IF(AO72=\"XX\",VLOOKUP(\"WRONG\",Answers!AK:AN,4,FALSE),AO72)+AP72)","v":1064},{"$f":"IF($B72=\"\",\"\",0+UPPER(Mainframe!M71))","v":2},{"$f":"IF(AR72=\"\",\"\",IF(NOT(ISNA(VLOOKUP(AR72,Answers!AO:AR,4,FALSE))),VLOOKUP(AR72,Answers!AO:AR,4,FALSE),\"Help!\"))","v":4},null,{"$f":"IF(AS72=\"\",\"\",AQ72+IF(AS72=\"XX\",VLOOKUP(\"WRONG\",Answers!AO:AR,4,FALSE),AS72)+AT72)","v":1068},{"$f":"IF($B72=\"\",\"\",0+UPPER(Mainframe!N71))","v":95},{"$f":"IF(AV72=\"\",\"\",IF(NOT(ISNA(VLOOKUP(AV72,Answers!AS:AV,4,FALSE))),VLOOKUP(AV72,Answers!AS:AV,4,FALSE),\"Help!\"))","v":7},{"$f":"IF(AW72>500,-1000,0)","v":0},{"$f":"IF(AW72=\"\",\"\",AU72+IF(AW72=\"XX\",VLOOKUP(\"WRONG\",Answers!AS:AV,4,FALSE),AW72)+AX72)","v":1075},{"$f":"IF($B72=\"\",\"\",0+UPPER(Mainframe!O71))","v":496},7.5205479452054647,1,{"$f":"IF($B72=\"\",\"\",LEFT(Mainframe!P71,SEARCH(\".\",Mainframe!P71)-1))","v":"12"},null,null,null,null,null,null,null,null,null,null,null,null,null,null,null,null,null,null,null,null,null,null,null,null,null,null,null,null,null,null,70,{"$f":"IF(INDEX($B:$CE,ROW(),QNO*4)=\"XX\",\"[b][u]\"&INDEX($B:$CE,ROW(),QNO*4-1)&\"[/u][/b]\",\"[color=#BF0040]\"&INDEX(OFFSET(Answers!C:C,0,(QNO-1)*4),MATCH(INDEX($A:$CB,ROW(),QNO*4),OFFSET(Answers!A:A,0,(QNO-1)*4),0))&\"[/color]//[b]\"&INDEX(OFFSET(Answers!B:B,0,(QNO-1)*4),MATCH(INDEX($A:$CB,ROW(),QNO*4),OFFSET(Answers!A:A,0,(QNO-1)*4),0))&\"[/b] — [b]\"&IF(INDEX($B:$CE,ROW(),QNO*4)=1,\"Singleton!\",CONCATENATE(INDEX($B:$CE,ROW(),QNO*4),\" responses\"))&\"[/b]\")","v":"[color=#BF0040]\"Blue (Da Ba Dee)\", \"Move Your Body\", \"Lucky (In My Life)\"[/color]//[b]EIFFEL [u]65[/u][/b] — [b]9 responses[/b]"},"Ivoirians","Yes","70. Ivoirians — [b]9[/b] pts",16,-54]
["[*]",{"$f":"IF(Mainframe!B72=\"\",\"\",INDEX(Mainframe!$B:$B,C73+1,1))","v":"yossarian"},71,{"$f":"IF($B73=\"\",\"\",0+UPPER(Mainframe!C72))","v":40},{"$f":"IF(D73=\"\",\"\",IF(NOT(ISNA(VLOOKUP(D73,Answers!A:D,4,FALSE))),VLOOKUP(D73,Answers!A:D,4,FALSE),\"Help!\"))","v":1000},null,{"$f":"IF(E73=\"\",\"\",IF(E73=\"XX\",VLOOKUP(\"WRONG\",Answers!A:D,4,FALSE),E73)+F73)","v":1000},{"$f":"IF($B73=\"\",\"\",0+UPPER(Mainframe!D72))","v":42},{"$f":"IF(H73=\"\",\"\",IF(NOT(ISNA(VLOOKUP(H73,Answers!E:H,4,FALSE))),VLOOKUP(H73,Answers!E:H,4,FALSE),\"Help!\"))","v":3},null,{"$f":"IF(I73=\"\",\"\",G73+IF(I73=\"XX\",VLOOKUP(\"WRONG\",Answers!E:H,4,FALSE),I73)+J73)","v":1003},{"$f":"IF($B73=\"\",\"\",0+UPPER(Mainframe!E72))","v":16},{"$f":"IF(L73=\"\",\"\",IF(NOT(ISNA(VLOOKUP(L73,Answers!I:L,4,FALSE))),VLOOKUP(L73,Answers!I:L,4,FALSE),\"Help!\"))","v":12},null,{"$f":"IF(M73=\"\",\"\",K73+IF(M73=\"XX\",VLOOKUP(\"WRONG\",Answers!I:L,4,FALSE),M73)+N73)","v":1015},{"$f":"IF($B73=\"\",\"\",0+UPPER(Mainframe!F72))","v":1861},{"$f":"IF(P73=\"\",\"\",IF(NOT(ISNA(VLOOKUP(P73,Answers!M:P,4,FALSE))),VLOOKUP(P73,Answers!M:P,4,FALSE),\"Help!\"))","v":1000},null,{"$f":"IF(Q73=\"\",\"\",O73+IF(Q73=\"XX\",VLOOKUP(\"WRONG\",Answers!M:P,4,FALSE),Q73)+R73)","v":2015},{"$f":"IF($B73=\"\",\"\",0+UPPER(Mainframe!G72))","v":2},{"$f":"IF(T73=\"\",\"\",IF(NOT(ISNA(VLOOKUP(T73,Answers!Q:T,4,FALSE))),VLOOKUP(T73,Answers!Q:T,4,FALSE),\"Help!\"))","v":14},{"$f":"IF(U73>500,-1000,0)","v":0},{"$f":"IF(U73=\"\",\"\",S73+IF(U73=\"XX\",VLOOKUP(\"WRONG\",Answers!Q:T,4,FALSE),U73)+V73)","v":2029},{"$f":"IF($B73=\"\",\"\",0+UPPER(Mainframe!H72))","v":49},{"$f":"IF(X73=\"\",\"\",IF(NOT(ISNA(VLOOKUP(X73,Answers!U:X,4,FALSE))),VLOOKUP(X73,Answers!U:X,4,FALSE),\"Help!\"))","v":4},null,{"$f":"IF(Y73=\"\",\"\",W73+IF(Y73=\"XX\",VLOOKUP(\"WRONG\",Answers!U:X,4,FALSE),Y73)+Z73)","v":2033},{"$f":"IF($B73=\"\",\"\",0+UPPER(Mainframe!I72))","v":20},{"$f":"IF(AB73=\"\",\"\",IF(NOT(ISNA(VLOOKUP(AB73,Answers!Y:AB,4,FALSE))),VLOOKUP(AB73,Answers!Y:AB,4,FALSE),\"Help!\"))","v":13},null,{"$f":"IF(AC73=\"\",\"\",AA73+IF(AC73=\"XX\",VLOOKUP(\"WRONG\",Answers!Y:AB,4,FALSE),AC73)+AD73)","v":2046},{"$f":"IF($B73=\"\",\"\",0+UPPER(Mainframe!J72))","v":18},{"$f":"IF(AF73=\"\",\"\",IF(NOT(ISNA(VLOOKUP(AF73,Answers!AC:AF,4,FALSE))),VLOOKUP(AF73,Answers!AC:AF,4,FALSE),\"Help!\"))","v":10},null,{"$f":"IF(AG73=\"\",\"\",AE73+IF(AG73=\"XX\",VLOOKUP(\"WRONG\",Answers!AC:AF,4,FALSE),AG73)+AH73)","v":2056},{"$f":"IF($B73=\"\",\"\",0+UPPER(Mainframe!K72))","v":95},{"$f":"IF(AJ73=\"\",\"\",IF(NOT(ISNA(VLOOKUP(AJ73,Answers!AG:AJ,4,FALSE))),VLOOKUP(AJ73,Answers!AG:AJ,4,FALSE),\"Help!\"))","v":6},null,{"$f":"IF(AK73=\"\",\"\",AI73+IF(AK73=\"XX\",VLOOKUP(\"WRONG\",Answers!AG:AJ,4,FALSE),AK73)+AL73)","v":2062},{"$f":"IF($B73=\"\",\"\",0+UPPER(Mainframe!L72))","v":100},{"$f":"IF(AN73=\"\",\"\",IF(NOT(ISNA(VLOOKUP(AN73,Answers!AK:AN,4,FALSE))),VLOOKUP(AN73,Answers!AK:AN,4,FALSE),\"Help!\"))","v":4},null,{"$f":"IF(AO73=\"\",\"\",AM73+IF(AO73=\"XX\",VLOOKUP(\"WRONG\",Answers!AK:AN,4,FALSE),AO73)+AP73)","v":2066},{"$f":"IF($B73=\"\",\"\",0+UPPER(Mainframe!M72))","v":6},{"$f":"IF(AR73=\"\",\"\",IF(NOT(ISNA(VLOOKUP(AR73,Answers!AO:AR,4,FALSE))),VLOOKUP(AR73,Answers!AO:AR,4,FALSE),\"Help!\"))","v":8},null,{"$f":"IF(AS73=\"\",\"\",AQ73+IF(AS73=\"XX\",VLOOKUP(\"WRONG\",Answers!AO:AR,4,FALSE),AS73)+AT73)","v":2074},{"$f":"IF($B73=\"\",\"\",0+UPPER(Mainframe!N72))","v":40},{"$f":"IF(AV73=\"\",\"\",IF(NOT(ISNA(VLOOKUP(AV73,Answers!AS:AV,4,FALSE))),VLOOKUP(AV73,Answers!AS:AV,4,FALSE),\"Help!\"))","v":4},null,{"$f":"IF(AW73=\"\",\"\",AU73+IF(AW73=\"XX\",VLOOKUP(\"WRONG\",Answers!AS:AV,4,FALSE),AW73)+AX73)","v":2078},{"$f":"IF($B73=\"\",\"\",0+UPPER(Mainframe!O72))","v":333},155.47945205479454,1,{"$f":"IF($B73=\"\",\"\",LEFT(Mainframe!P72,SEARCH(\".\",Mainframe!P72)-1))","v":"5"},null,null,null,null,null,null,null,null,null,null,null,null,null,null,null,null,null,null,null,null,null,null,null,null,null,null,null,null,null,null,71,{"$f":"IF(INDEX($B:$CE,ROW(),QNO*4)=\"XX\",\"[b][u]\"&INDEX($B:$CE,ROW(),QNO*4-1)&\"[/u][/b]\",\"[color=#BF0040]\"&INDEX(OFFSET(Answers!C:C,0,(QNO-1)*4),MATCH(INDEX($A:$CB,ROW(),QNO*4),OFFSET(Answers!A:A,0,(QNO-1)*4),0))&\"[/color]//[b]\"&INDEX(OFFSET(Answers!B:B,0,(QNO-1)*4),MATCH(INDEX($A:$CB,ROW(),QNO*4),OFFSET(Answers!A:A,0,(QNO-1)*4),0))&\"[/b] — [b]\"&IF(INDEX($B:$CE,ROW(),QNO*4)=1,\"Singleton!\",CONCATENATE(INDEX($B:$CE,ROW(),QNO*4),\" responses\"))&\"[/b]\")","v":"[color=#BF0040]\"King\", \"Red Red Wine\", \"(I Can't Help) Falling in Love With You\"[/color]//[b]UB[u]40[/u][/b] — [b]1000 responses[/b]"},"yossarian","Yes","71. yossarian — [b]1,000[/b] pts",29,-42]
["[*]",{"$f":"IF(Mainframe!B73=\"\",\"\",INDEX(Mainframe!$B:$B,C74+1,1))","v":"Steppenwolf"},72,{"$f":"IF($B74=\"\",\"\",0+UPPER(Mainframe!C73))","v":3},{"$f":"IF(D74=\"\",\"\",IF(NOT(ISNA(VLOOKUP(D74,Answers!A:D,4,FALSE))),VLOOKUP(D74,Answers!A:D,4,FALSE),\"Help!\"))","v":11},{"$f":"IF(E74>500,-1000,0)","v":0},{"$f":"IF(E74=\"\",\"\",IF(E74=\"XX\",VLOOKUP(\"WRONG\",Answers!A:D,4,FALSE),E74)+F74)","v":11},{"$f":"IF($B74=\"\",\"\",0+UPPER(Mainframe!D73))","v":56},{"$f":"IF(H74=\"\",\"\",IF(NOT(ISNA(VLOOKUP(H74,Answers!E:H,4,FALSE))),VLOOKUP(H74,Answers!E:H,4,FALSE),\"Help!\"))","v":4},null,{"$f":"IF(I74=\"\",\"\",G74+IF(I74=\"XX\",VLOOKUP(\"WRONG\",Answers!E:H,4,FALSE),I74)+J74)","v":15},{"$f":"IF($B74=\"\",\"\",0+UPPER(Mainframe!E73))","v":34},{"$f":"IF(L74=\"\",\"\",IF(NOT(ISNA(VLOOKUP(L74,Answers!I:L,4,FALSE))),VLOOKUP(L74,Answers!I:L,4,FALSE),\"Help!\"))","v":1000},null,{"$f":"IF(M74=\"\",\"\",K74+IF(M74=\"XX\",VLOOKUP(\"WRONG\",Answers!I:L,4,FALSE),M74)+N74)","v":1015},{"$f":"IF($B74=\"\",\"\",0+UPPER(Mainframe!F73))","v":1815},{"$f":"IF(P74=\"\",\"\",IF(NOT(ISNA(VLOOKUP(P74,Answers!M:P,4,FALSE))),VLOOKUP(P74,Answers!M:P,4,FALSE),\"Help!\"))","v":10},null,{"$f":"IF(Q74=\"\",\"\",O74+IF(Q74=\"XX\",VLOOKUP(\"WRONG\",Answers!M:P,4,FALSE),Q74)+R74)","v":1025},{"$f":"IF($B74=\"\",\"\",0+UPPER(Mainframe!G73))","v":18},{"$f":"IF(T74=\"\",\"\",IF(NOT(ISNA(VLOOKUP(T74,Answers!Q:T,4,FALSE))),VLOOKUP(T74,Answers!Q:T,4,FALSE),\"Help!\"))","v":6},null,{"$f":"IF(U74=\"\",\"\",S74+IF(U74=\"XX\",VLOOKUP(\"WRONG\",Answers!Q:T,4,FALSE),U74)+V74)","v":1031},{"$f":"IF($B74=\"\",\"\",0+UPPER(Mainframe!H73))","v":80},{"$f":"IF(X74=\"\",\"\",IF(NOT(ISNA(VLOOKUP(X74,Answers!U:X,4,FALSE))),VLOOKUP(X74,Answers!U:X,4,FALSE),\"Help!\"))","v":5},null,{"$f":"IF(Y74=\"\",\"\",W74+IF(Y74=\"XX\",VLOOKUP(\"WRONG\",Answers!U:X,4,FALSE),Y74)+Z74)","v":1036},{"$f":"IF($B74=\"\",\"\",0+UPPER(Mainframe!I73))","v":12},"XX",null,{"$f":"IF(AC74=\"\",\"\",AA74+IF(AC74=\"XX\",VLOOKUP(\"WRONG\",Answers!Y:AB,4,FALSE),AC74)+AD74)","v":2043},{"$f":"IF($B74=\"\",\"\",0+UPPER(Mainframe!J73))","v":49},{"$f":"IF(AF74=\"\",\"\",IF(NOT(ISNA(VLOOKUP(AF74,Answers!AC:AF,4,FALSE))),VLOOKUP(AF74,Answers!AC:AF,4,FALSE),\"Help!\"))","v":10},null,{"$f":"IF(AG74=\"\",\"\",AE74+IF(AG74=\"XX\",VLOOKUP(\"WRONG\",Answers!AC:AF,4,FALSE),AG74)+AH74)","v":2053},{"$f":"IF($B74=\"\",\"\",0+UPPER(Mainframe!K73))","v":76},{"$f":"IF(AJ74=\"\",\"\",IF(NOT(ISNA(VLOOKUP(AJ74,Answers!AG:AJ,4,FALSE))),VLOOKUP(AJ74,Answers!AG:AJ,4,FALSE),\"Help!\"))","v":4},null,{"$f":"IF(AK74=\"\",\"\",AI74+IF(AK74=\"XX\",VLOOKUP(\"WRONG\",Answers!AG:AJ,4,FALSE),AK74)+AL74)","v":2057},{"$f":"IF($B74=\"\",\"\",0+UPPER(Mainframe!L73))","v":100},{"$f":"IF(AN74=\"\",\"\",IF(NOT(ISNA(VLOOKUP(AN74,Answers!AK:AN,4,FALSE))),VLOOKUP(AN74,Answers!AK:AN,4,FALSE),\"Help!\"))","v":4},null,{"$f":"IF(AO74=\"\",\"\",AM74+IF(AO74=\"XX\",VLOOKUP(\"WRONG\",Answers!AK:AN,4,FALSE),AO74)+AP74)","v":2061},{"$f":"IF($B74=\"\",\"\",0+UPPER(Mainframe!M73))","v":3},{"$f":"IF(AR74=\"\",\"\",IF(NOT(ISNA(VLOOKUP(AR74,Answers!AO:AR,4,FALSE))),VLOOKUP(AR74,Answers!AO:AR,4,FALSE),\"Help!\"))","v":6},null,{"$f":"IF(AS74=\"\",\"\",AQ74+IF(AS74=\"XX\",VLOOKUP(\"WRONG\",Answers!AO:AR,4,FALSE),AS74)+AT74)","v":2067},{"$f":"IF($B74=\"\",\"\",0+UPPER(Mainframe!N73))","v":27},{"$f":"IF(AV74=\"\",\"\",IF(NOT(ISNA(VLOOKUP(AV74,Answers!AS:AV,4,FALSE))),VLOOKUP(AV74,Answers!AS:AV,4,FALSE),\"Help!\"))","v":9},null,{"$f":"IF(AW74=\"\",\"\",AU74+IF(AW74=\"XX\",VLOOKUP(\"WRONG\",Answers!AS:AV,4,FALSE),AW74)+AX74)","v":2076},{"$f":"IF($B74=\"\",\"\",0+UPPER(Mainframe!O73))","v":500},11.520547945205465,1,{"$f":"IF($B74=\"\",\"\",LEFT(Mainframe!P73,SEARCH(\".\",Mainframe!P73)-1))","v":"1"},null,null,null,null,null,null,null,null,null,null,null,null,null,null,null,null,null,null,null,null,null,null,null,null,null,null,null,null,null,null,72,{"$f":"IF(INDEX($B:$CE,ROW(),QNO*4)=\"XX\",\"[b][u]\"&INDEX($B:$CE,ROW(),QNO*4-1)&\"[/u][/b]\",\"[color=#BF0040]\"&INDEX(OFFSET(Answers!C:C,0,(QNO-1)*4),MATCH(INDEX($A:$CB,ROW(),QNO*4),OFFSET(Answers!A:A,0,(QNO-1)*4),0))&\"[/color]//[b]\"&INDEX(OFFSET(Answers!B:B,0,(QNO-1)*4),MATCH(INDEX($A:$CB,ROW(),QNO*4),OFFSET(Answers!A:A,0,(QNO-1)*4),0))&\"[/b] — [b]\"&IF(INDEX($B:$CE,ROW(),QNO*4)=1,\"Singleton!\",CONCATENATE(INDEX($B:$CE,ROW(),QNO*4),\" responses\"))&\"[/b]\")","v":"[color=#BF0040]\"Mama Told Me (Not to Come)\", \"Joy to the World\", \"Black and White\"[/color]//[b][u]THREE[/u] DOG NIGHT[/b] — [b]11 responses[/b]"},"Steppenwolf [[b][color=#8000BF]FOX[/color][/b]]//barandall800","Yes","72. Steppenwolf — [b]11[/b] pts",28,-44]
["[*]",{"$f":"IF(Mainframe!B74=\"\",\"\",INDEX(Mainframe!$B:$B,C75+1,1))","v":"barandall800"},73,{"$f":"IF($B75=\"\",\"\",0+UPPER(Mainframe!C74))","v":3},{"$f":"IF(D75=\"\",\"\",IF(NOT(ISNA(VLOOKUP(D75,Answers!A:D,4,FALSE))),VLOOKUP(D75,Answers!A:D,4,FALSE),\"Help!\"))","v":11},null,{"$f":"IF(E75=\"\",\"\",IF(E75=\"XX\",VLOOKUP(\"WRONG\",Answers!A:D,4,FALSE),E75)+F75)","v":11},{"$f":"IF($B75=\"\",\"\",0+UPPER(Mainframe!D74))","v":21},{"$f":"IF(H75=\"\",\"\",IF(NOT(ISNA(VLOOKUP(H75,Answers!E:H,4,FALSE))),VLOOKUP(H75,Answers!E:H,4,FALSE),\"Help!\"))","v":1000},null,{"$f":"IF(I75=\"\",\"\",G75+IF(I75=\"XX\",VLOOKUP(\"WRONG\",Answers!E:H,4,FALSE),I75)+J75)","v":1011},{"$f":"IF($B75=\"\",\"\",0+UPPER(Mainframe!E74))","v":101},{"$f":"IF(L75=\"\",\"\",IF(NOT(ISNA(VLOOKUP(L75,Answers!I:L,4,FALSE))),VLOOKUP(L75,Answers!I:L,4,FALSE),\"Help!\"))","v":7},null,{"$f":"IF(M75=\"\",\"\",K75+IF(M75=\"XX\",VLOOKUP(\"WRONG\",Answers!I:L,4,FALSE),M75)+N75)","v":1018},{"$f":"IF($B75=\"\",\"\",0+UPPER(Mainframe!F74))","v":1940},{"$f":"IF(P75=\"\",\"\",IF(NOT(ISNA(VLOOKUP(P75,Answers!M:P,4,FALSE))),VLOOKUP(P75,Answers!M:P,4,FALSE),\"Help!\"))","v":7},null,{"$f":"IF(Q75=\"\",\"\",O75+IF(Q75=\"XX\",VLOOKUP(\"WRONG\",Answers!M:P,4,FALSE),Q75)+R75)","v":1025},{"$f":"IF($B75=\"\",\"\",0+UPPER(Mainframe!G74))","v":2},{"$f":"IF(T75=\"\",\"\",IF(NOT(ISNA(VLOOKUP(T75,Answers!Q:T,4,FALSE))),VLOOKUP(T75,Answers!Q:T,4,FALSE),\"Help!\"))","v":14},null,{"$f":"IF(U75=\"\",\"\",S75+IF(U75=\"XX\",VLOOKUP(\"WRONG\",Answers!Q:T,4,FALSE),U75)+V75)","v":1039},{"$f":"IF($B75=\"\",\"\",0+UPPER(Mainframe!H74))","v":12},{"$f":"IF(X75=\"\",\"\",IF(NOT(ISNA(VLOOKUP(X75,Answers!U:X,4,FALSE))),VLOOKUP(X75,Answers!U:X,4,FALSE),\"Help!\"))","v":5},null,{"$f":"IF(Y75=\"\",\"\",W75+IF(Y75=\"XX\",VLOOKUP(\"WRONG\",Answers!U:X,4,FALSE),Y75)+Z75)","v":1044},{"$f":"IF($B75=\"\",\"\",0+UPPER(Mainframe!I74))","v":25},{"$f":"IF(AB75=\"\",\"\",IF(NOT(ISNA(VLOOKUP(AB75,Answers!Y:AB,4,FALSE))),VLOOKUP(AB75,Answers!Y:AB,4,FALSE),\"Help!\"))","v":7},null,{"$f":"IF(AC75=\"\",\"\",AA75+IF(AC75=\"XX\",VLOOKUP(\"WRONG\",Answers!Y:AB,4,FALSE),AC75)+AD75)","v":1051},{"$f":"IF($B75=\"\",\"\",0+UPPER(Mainframe!J74))","v":9},{"$f":"IF(AF75=\"\",\"\",IF(NOT(ISNA(VLOOKUP(AF75,Answers!AC:AF,4,FALSE))),VLOOKUP(AF75,Answers!AC:AF,4,FALSE),\"Help!\"))","v":1000},null,{"$f":"IF(AG75=\"\",\"\",AE75+IF(AG75=\"XX\",VLOOKUP(\"WRONG\",Answers!AC:AF,4,FALSE),AG75)+AH75)","v":2051},{"$f":"IF($B75=\"\",\"\",0+UPPER(Mainframe!K74))","v":10},"XX",null,{"$f":"IF(AK75=\"\",\"\",AI75+IF(AK75=\"XX\",VLOOKUP(\"WRONG\",Answers!AG:AJ,4,FALSE),AK75)+AL75)","v":3058},{"$f":"IF($B75=\"\",\"\",0+UPPER(Mainframe!L74))","v":49},{"$f":"IF(AN75=\"\",\"\",IF(NOT(ISNA(VLOOKUP(AN75,Answers!AK:AN,4,FALSE))),VLOOKUP(AN75,Answers!AK:AN,4,FALSE),\"Help!\"))","v":9},{"$f":"IF(AO75>500,-1000,0)","v":0},{"$f":"IF(AO75=\"\",\"\",AM75+IF(AO75=\"XX\",VLOOKUP(\"WRONG\",Answers!AK:AN,4,FALSE),AO75)+AP75)","v":3067},{"$f":"IF($B75=\"\",\"\",0+UPPER(Mainframe!M74))","v":5},{"$f":"IF(AR75=\"\",\"\",IF(NOT(ISNA(VLOOKUP(AR75,Answers!AO:AR,4,FALSE))),VLOOKUP(AR75,Answers!AO:AR,4,FALSE),\"Help!\"))","v":1000},null,{"$f":"IF(AS75=\"\",\"\",AQ75+IF(AS75=\"XX\",VLOOKUP(\"WRONG\",Answers!AO:AR,4,FALSE),AS75)+AT75)","v":4067},{"$f":"IF($B75=\"\",\"\",0+UPPER(Mainframe!N74))","v":5000},{"$f":"IF(AV75=\"\",\"\",IF(NOT(ISNA(VLOOKUP(AV75,Answers!AS:AV,4,FALSE))),VLOOKUP(AV75,Answers!AS:AV,4,FALSE),\"Help!\"))","v":9},null,{"$f":"IF(AW75=\"\",\"\",AU75+IF(AW75=\"XX\",VLOOKUP(\"WRONG\",Answers!AS:AV,4,FALSE),AW75)+AX75)","v":4076},{"$f":"IF($B75=\"\",\"\",0+UPPER(Mainframe!O74))","v":500},11.520547945205465,1,{"$f":"IF($B75=\"\",\"\",LEFT(Mainframe!P74,SEARCH(\".\",Mainframe!P74)-1))","v":"10"},null,null,null,null,null,null,null,null,null,null,null,null,null,null,null,null,null,null,null,null,null,null,null,null,null,null,null,null,null,null,72,{"$f":"IF(INDEX($B:$CE,ROW(),QNO*4)=\"XX\",\"[b][u]\"&INDEX($B:$CE,ROW(),QNO*4-1)&\"[/u][/b]\",\"[color=#BF0040]\"&INDEX(OFFSET(Answers!C:C,0,(QNO-1)*4),MATCH(INDEX($A:$CB,ROW(),QNO*4),OFFSET(Answers!A:A,0,(QNO-1)*4),0))&\"[/color]//[b]\"&INDEX(OFFSET(Answers!B:B,0,(QNO-1)*4),MATCH(INDEX($A:$CB,ROW(),QNO*4),OFFSET(Answers!A:A,0,(QNO-1)*4),0))&\"[/b] — [b]\"&IF(INDEX($B:$CE,ROW(),QNO*4)=1,\"Singleton!\",CONCATENATE(INDEX($B:$CE,ROW(),QNO*4),\" responses\"))&\"[/b]\")","v":"[color=#BF0040]\"Mama Told Me (Not to Come)\", \"Joy to the World\", \"Black and White\"[/color]//[b][u]THREE[/u] DOG NIGHT[/b] — [b]11 responses[/b]"},"barandall800","No","72. barandall800 — [b]11[/b] pts",59,-13]
[]
["[*]",{"$f":"IF(Mainframe!B75=\"\",\"\",INDEX(Mainframe!$B:$B,C77+1,1))","v":""},74,{"$f":"IF($B77=\"\",\"\",0+UPPER(Mainframe!C75))","v":""},{"$f":"IF(D77=\"\",\"\",IF(NOT(ISNA(VLOOKUP(D77,Answers!A:D,4,FALSE))),VLOOKUP(D77,Answers!A:D,4,FALSE),\"Help!\"))","v":""},null,{"$f":"IF(E77=\"\",\"\",IF(E77=\"XX\",VLOOKUP(\"WRONG\",Answers!A:D,4,FALSE),E77)+F77)","v":""},{"$f":"IF($B77=\"\",\"\",0+UPPER(Mainframe!D75))","v":""},{"$f":"IF(H77=\"\",\"\",IF(NOT(ISNA(VLOOKUP(H77,Answers!E:H,4,FALSE))),VLOOKUP(H77,Answers!E:H,4,FALSE),\"Help!\"))","v":""},null,{"$f":"IF(I77=\"\",\"\",G77+IF(I77=\"XX\",VLOOKUP(\"WRONG\",Answers!E:H,4,FALSE),I77)+J77)","v":""},{"$f":"IF($B77=\"\",\"\",0+UPPER(Mainframe!E75))","v":""},{"$f":"IF(L77=\"\",\"\",IF(NOT(ISNA(VLOOKUP(L77,Answers!I:L,4,FALSE))),VLOOKUP(L77,Answers!I:L,4,FALSE),\"Help!\"))","v":""},null,{"$f":"IF(M77=\"\",\"\",K77+IF(M77=\"XX\",VLOOKUP(\"WRONG\",Answers!I:L,4,FALSE),M77)+N77)","v":""},{"$f":"IF($B77=\"\",\"\",0+UPPER(Mainframe!F75))","v":""},{"$f":"IF(P77=\"\",\"\",IF(NOT(ISNA(VLOOKUP(P77,Answers!M:P,4,FALSE))),VLOOKUP(P77,Answers!M:P,4,FALSE),\"Help!\"))","v":""},null,{"$f":"IF(Q77=\"\",\"\",O77+IF(Q77=\"XX\",VLOOKUP(\"WRONG\",Answers!M:P,4,FALSE),Q77)+R77)","v":""},{"$f":"IF($B77=\"\",\"\",0+UPPER(Mainframe!G75))","v":""},{"$f":"IF(T77=\"\",\"\",IF(NOT(ISNA(VLOOKUP(T77,Answers!Q:T,4,FALSE))),VLOOKUP(T77,Answers!Q:T,4,FALSE),\"Help!\"))","v":""},null,{"$f":"IF(U77=\"\",\"\",S77+IF(U77=\"XX\",VLOOKUP(\"WRONG\",Answers!Q:T,4,FALSE),U77)+V77)","v":""},{"$f":"IF($B77=\"\",\"\",0+UPPER(Mainframe!H75))","v":""},{"$f":"IF(X77=\"\",\"\",IF(NOT(ISNA(VLOOKUP(X77,Answers!U:X,4,FALSE))),VLOOKUP(X77,Answers!U:X,4,FALSE),\"Help!\"))","v":""},null,{"$f":"IF(Y77=\"\",\"\",W77+IF(Y77=\"XX\",VLOOKUP(\"WRONG\",Answers!U:X,4,FALSE),Y77)+Z77)","v":""},{"$f":"IF($B77=\"\",\"\",0+UPPER(Mainframe!I75))","v":""},{"$f":"IF(AB77=\"\",\"\",IF(NOT(ISNA(VLOOKUP(AB77,Answers!Y:AB,4,FALSE))),VLOOKUP(AB77,Answers!Y:AB,4,FALSE),\"Help!\"))","v":""},null,{"$f":"IF(AC77=\"\",\"\",AA77+IF(AC77=\"XX\",VLOOKUP(\"WRONG\",Answers!Y:AB,4,FALSE),AC77)+AD77)","v":""},{"$f":"IF($B77=\"\",\"\",0+UPPER(Mainframe!J75))","v":""},{"$f":"IF(AF77=\"\",\"\",IF(NOT(ISNA(VLOOKUP(AF77,Answers!AC:AF,4,FALSE))),VLOOKUP(AF77,Answers!AC:AF,4,FALSE),\"Help!\"))","v":""},null,{"$f":"IF(AG77=\"\",\"\",AE77+IF(AG77=\"XX\",VLOOKUP(\"WRONG\",Answers!AC:AF,4,FALSE),AG77)+AH77)","v":""},{"$f":"IF($B77=\"\",\"\",0+UPPER(Mainframe!K75))","v":""},{"$f":"IF(AJ77=\"\",\"\",IF(NOT(ISNA(VLOOKUP(AJ77,Answers!AG:AJ,4,FALSE))),VLOOKUP(AJ77,Answers!AG:AJ,4,FALSE),\"Help!\"))","v":""},null,{"$f":"IF(AK77=\"\",\"\",AI77+IF(AK77=\"XX\",VLOOKUP(\"WRONG\",Answers!AG:AJ,4,FALSE),AK77)+AL77)","v":""},{"$f":"IF($B77=\"\",\"\",0+UPPER(Mainframe!L75))","v":""},{"$f":"IF(AN77=\"\",\"\",IF(NOT(ISNA(VLOOKUP(AN77,Answers!AK:AN,4,FALSE))),VLOOKUP(AN77,Answers!AK:AN,4,FALSE),\"Help!\"))","v":""},null,{"$f":"IF(AO77=\"\",\"\",AM77+IF(AO77=\"XX\",VLOOKUP(\"WRONG\",Answers!AK:AN,4,FALSE),AO77)+AP77)","v":""},{"$f":"IF($B77=\"\",\"\",0+UPPER(Mainframe!M75))","v":""},{"$f":"IF(AR77=\"\",\"\",IF(NOT(ISNA(VLOOKUP(AR77,Answers!AO:AR,4,FALSE))),VLOOKUP(AR77,Answers!AO:AR,4,FALSE),\"Help!\"))","v":""},null,{"$f":"IF(AS77=\"\",\"\",AQ77+IF(AS77=\"XX\",VLOOKUP(\"WRONG\",Answers!AO:AR,4,FALSE),AS77)+AT77)","v":""},{"$f":"IF($B77=\"\",\"\",0+UPPER(Mainframe!N75))","v":""},{"$f":"IF(AV77=\"\",\"\",IF(NOT(ISNA(VLOOKUP(AV77,Answers!AS:AV,4,FALSE))),VLOOKUP(AV77,Answers!AS:AV,4,FALSE),\"Help!\"))","v":""},null,{"$f":"IF(AW77=\"\",\"\",AU77+IF(AW77=\"XX\",VLOOKUP(\"WRONG\",Answers!AS:AV,4,FALSE),AW77)+AX77)","v":""},{"$f":"IF($B77=\"\",\"\",0+UPPER(Mainframe!O75))","v":""},{"$f":"IF(AZ77=\"\",\"\",ABS(AZ77-AVERAGE(AZ$3:AZ$101)))","v":""},{"$f":"IF(BA77=\"\",\"\",COUNTA(F77,J77,N77,R77,V77,Z77,AD77,AH77,AL77,AP77,AT77,AX77))","v":""},{"$f":"IF($B77=\"\",\"\",LEFT(Mainframe!P75,SEARCH(\".\",Mainframe!P75)-1))","v":""},null,null,null,null,null,null,null,null,null,null,null,null,null,null,null,null,null,null,null,null,null,null,null,null,null,null,null,null,null,null,{"$f":"IF(B77=0,\"\",IF(INDEX($B:$CE,ROW(),1)=0,\"\",IF(INDEX($B:$CE,ROW(),4*QNO+2)=INDEX($B:$CE,ROW()-1,4*QNO+2),$CH75,ROW()-2)))","v":72},{"$f":"IF(INDEX($B:$CE,ROW(),QNO*4)=\"XX\",\"[b][u]\"&INDEX($B:$CE,ROW(),QNO*4-1)&\"[/u][/b]\",\"[color=#BF0040]\"&INDEX(OFFSET(Answers!C:C,0,(QNO-1)*4),MATCH(INDEX($A:$CB,ROW(),QNO*4),OFFSET(Answers!A:A,0,(QNO-1)*4),0))&\"[/color]//[b]\"&INDEX(OFFSET(Answers!B:B,0,(QNO-1)*4),MATCH(INDEX($A:$CB,ROW(),QNO*4),OFFSET(Answers!A:A,0,(QNO-1)*4),0))&\"[/b] — [b]\"&IF(INDEX($B:$CE,ROW(),QNO*4)=1,\"Singleton!\",CONCATENATE(INDEX($B:$CE,ROW(),QNO*4),\" responses\"))&\"[/b]\")","v":{"$error":"#N/A"}},{"$f":"IF(INDEX($B:$CE,ROW(),1)=0,\"\",IF(INDEX($B:$CE,ROW(),QNO*4-1)=INDEX($B:$CE,ROW()+1,QNO*4-1),CONCATENATE(INDEX($B:$CE,ROW(),1),IF(BC77-0=QNO-0,\" [[b][color=#8000BF]FOX[/color][/b]]\",\"\"),\"//\",INDEX($CJ:$CJ,ROW()+1,1)),INDEX($B:$CE,ROW(),1)&IF(BC77-0=QNO-0,\" [[b][color=#8000BF]FOX[/color][/b]]\",\"\")))","v":{"$error":"#VALUE!"}},{"$f":"IF(INDEX($B:$CE,ROW(),1)=0,\"\",IF(ISNUMBER(SEARCH(\"//\",INDEX($CJ:$CJ,ROW()-1,1))),\"No\",\"Yes\"))","v":"Yes"},{"$f":"IF(B77=0,\"\",CONCATENATE(INDEX($CH:$CL,ROW(),1),\". \",INDEX($B:$CE,ROW(),1),\" — \")&IF(QNO=1,CONCATENATE(\"[b]\",TEXT(INDEX($B:$CE,ROW(),QNO*4+2),\"#,##0\"),\"[/b] pts\"),CONCATENATE(\"[color=#BBBBBB]\",TEXT(INDEX($B:$CE,ROW(),QNO*4-2),\"#,##0\"),\" + \",IF(INDEX($B:$CE,ROW(),QNO*4)=\"XX\",\"[/color][color=#BF8000][b]\"&TEXT(WRONGSCORE,\"#,##0\")&\"[/b][/color][color=#BBBBBB]\",IF(INDEX($B:$CE,ROW(),QNO*4)=1000,\"[/color][color=#BF8000][b]1,000[/b][/color][color=#BBBBBB]\",INDEX($B:$CE,ROW(),QNO*4))),IF(INDEX($C:$CE,ROW(),QNO*4)<0,\" [/color][b][color=#8000BF]- 1,000[/color][/b][color=#BBBBBB]\",\"\"),\" → [/color][b]\",TEXT(INDEX($B:$CE,ROW(),QNO*4+2),\"#,##0\"),\"[/b] pts \"&\"[[b]\"&IF(CN77>0,\"[color=#00BF00]↑\"&CN77,IF(CN77<0,\"[color=#FF0000]↓\"&ABS(CN77),\"[color=#0000FF]unch\"))&\"[/b][/color]]\")))","v":"72.  — [b][/b] pts"},73,{"$f":"CM77-CH77","v":1}]
["[*]",{"$f":"IF(Mainframe!B76=\"\",\"\",INDEX(Mainframe!$B:$B,C78+1,1))","v":""},75,{"$f":"IF($B78=\"\",\"\",0+UPPER(Mainframe!C76))","v":""},{"$f":"IF(D78=\"\",\"\",IF(NOT(ISNA(VLOOKUP(D78,Answers!A:D,4,FALSE))),VLOOKUP(D78,Answers!A:D,4,FALSE),\"Help!\"))","v":""},null,{"$f":"IF(E78=\"\",\"\",IF(E78=\"XX\",VLOOKUP(\"WRONG\",Answers!A:D,4,FALSE),E78)+F78)","v":""},{"$f":"IF($B78=\"\",\"\",0+UPPER(Mainframe!D76))","v":""},{"$f":"IF(H78=\"\",\"\",IF(NOT(ISNA(VLOOKUP(H78,Answers!E:H,4,FALSE))),VLOOKUP(H78,Answers!E:H,4,FALSE),\"Help!\"))","v":""},null,{"$f":"IF(I78=\"\",\"\",G78+IF(I78=\"XX\",VLOOKUP(\"WRONG\",Answers!E:H,4,FALSE),I78)+J78)","v":""},{"$f":"IF($B78=\"\",\"\",0+UPPER(Mainframe!E76))","v":""},{"$f":"IF(L78=\"\",\"\",IF(NOT(ISNA(VLOOKUP(L78,Answers!I:L,4,FALSE))),VLOOKUP(L78,Answers!I:L,4,FALSE),\"Help!\"))","v":""},null,{"$f":"IF(M78=\"\",\"\",K78+IF(M78=\"XX\",VLOOKUP(\"WRONG\",Answers!I:L,4,FALSE),M78)+N78)","v":""},{"$f":"IF($B78=\"\",\"\",0+UPPER(Mainframe!F76))","v":""},{"$f":"IF(P78=\"\",\"\",IF(NOT(ISNA(VLOOKUP(P78,Answers!M:P,4,FALSE))),VLOOKUP(P78,Answers!M:P,4,FALSE),\"Help!\"))","v":""},null,{"$f":"IF(Q78=\"\",\"\",O78+IF(Q78=\"XX\",VLOOKUP(\"WRONG\",Answers!M:P,4,FALSE),Q78)+R78)","v":""},{"$f":"IF($B78=\"\",\"\",0+UPPER(Mainframe!G76))","v":""},{"$f":"IF(T78=\"\",\"\",IF(NOT(ISNA(VLOOKUP(T78,Answers!Q:T,4,FALSE))),VLOOKUP(T78,Answers!Q:T,4,FALSE),\"Help!\"))","v":""},null,{"$f":"IF(U78=\"\",\"\",S78+IF(U78=\"XX\",VLOOKUP(\"WRONG\",Answers!Q:T,4,FALSE),U78)+V78)","v":""},{"$f":"IF($B78=\"\",\"\",0+UPPER(Mainframe!H76))","v":""},{"$f":"IF(X78=\"\",\"\",IF(NOT(ISNA(VLOOKUP(X78,Answers!U:X,4,FALSE))),VLOOKUP(X78,Answers!U:X,4,FALSE),\"Help!\"))","v":""},null,{"$f":"IF(Y78=\"\",\"\",W78+IF(Y78=\"XX\",VLOOKUP(\"WRONG\",Answers!U:X,4,FALSE),Y78)+Z78)","v":""},{"$f":"IF($B78=\"\",\"\",0+UPPER(Mainframe!I76))","v":""},{"$f":"IF(AB78=\"\",\"\",IF(NOT(ISNA(VLOOKUP(AB78,Answers!Y:AB,4,FALSE))),VLOOKUP(AB78,Answers!Y:AB,4,FALSE),\"Help!\"))","v":""},null,{"$f":"IF(AC78=\"\",\"\",AA78+IF(AC78=\"XX\",VLOOKUP(\"WRONG\",Answers!Y:AB,4,FALSE),AC78)+AD78)","v":""},{"$f":"IF($B78=\"\",\"\",0+UPPER(Mainframe!J76))","v":""},{"$f":"IF(AF78=\"\",\"\",IF(NOT(ISNA(VLOOKUP(AF78,Answers!AC:AF,4,FALSE))),VLOOKUP(AF78,Answers!AC:AF,4,FALSE),\"Help!\"))","v":""},null,{"$f":"IF(AG78=\"\",\"\",AE78+IF(AG78=\"XX\",VLOOKUP(\"WRONG\",Answers!AC:AF,4,FALSE),AG78)+AH78)","v":""},{"$f":"IF($B78=\"\",\"\",0+UPPER(Mainframe!K76))","v":""},{"$f":"IF(AJ78=\"\",\"\",IF(NOT(ISNA(VLOOKUP(AJ78,Answers!AG:AJ,4,FALSE))),VLOOKUP(AJ78,Answers!AG:AJ,4,FALSE),\"Help!\"))","v":""},null,{"$f":"IF(AK78=\"\",\"\",AI78+IF(AK78=\"XX\",VLOOKUP(\"WRONG\",Answers!AG:AJ,4,FALSE),AK78)+AL78)","v":""},{"$f":"IF($B78=\"\",\"\",0+UPPER(Mainframe!L76))","v":""},{"$f":"IF(AN78=\"\",\"\",IF(NOT(ISNA(VLOOKUP(AN78,Answers!AK:AN,4,FALSE))),VLOOKUP(AN78,Answers!AK:AN,4,FALSE),\"Help!\"))","v":""},null,{"$f":"IF(AO78=\"\",\"\",AM78+IF(AO78=\"XX\",VLOOKUP(\"WRONG\",Answers!AK:AN,4,FALSE),AO78)+AP78)","v":""},{"$f":"IF($B78=\"\",\"\",0+UPPER(Mainframe!M76))","v":""},{"$f":"IF(AR78=\"\",\"\",IF(NOT(ISNA(VLOOKUP(AR78,Answers!AO:AR,4,FALSE))),VLOOKUP(AR78,Answers!AO:AR,4,FALSE),\"Help!\"))","v":""},null,{"$f":"IF(AS78=\"\",\"\",AQ78+IF(AS78=\"XX\",VLOOKUP(\"WRONG\",Answers!AO:AR,4,FALSE),AS78)+AT78)","v":""},{"$f":"IF($B78=\"\",\"\",0+UPPER(Mainframe!N76))","v":""},{"$f":"IF(AV78=\"\",\"\",IF(NOT(ISNA(VLOOKUP(AV78,Answers!AS:AV,4,FALSE))),VLOOKUP(AV78,Answers!AS:AV,4,FALSE),\"Help!\"))","v":""},null,{"$f":"IF(AW78=\"\",\"\",AU78+IF(AW78=\"XX\",VLOOKUP(\"WRONG\",Answers!AS:AV,4,FALSE),AW78)+AX78)","v":""},{"$f":"IF($B78=\"\",\"\",0+UPPER(Mainframe!O76))","v":""},"","",{"$f":"IF($B78=\"\",\"\",LEFT(Mainframe!P76,SEARCH(\".\",Mainframe!P76)-1))","v":""},null,null,null,null,null,null,null,null,null,null,null,null,null,null,null,null,null,null,null,null,null,null,null,null,null,null,null,null,null,null,{"$f":"IF(B78=0,\"\",IF(INDEX($B:$CE,ROW(),1)=0,\"\",IF(INDEX($B:$CE,ROW(),4*QNO+2)=INDEX($B:$CE,ROW()-1,4*QNO+2),$CH77,ROW()-2)))","v":72},{"$f":"IF(INDEX($B:$CE,ROW(),QNO*4)=\"XX\",\"[b][u]\"&INDEX($B:$CE,ROW(),QNO*4-1)&\"[/u][/b]\",\"[color=#BF0040]\"&INDEX(OFFSET(Answers!C:C,0,(QNO-1)*4),MATCH(INDEX($A:$CB,ROW(),QNO*4),OFFSET(Answers!A:A,0,(QNO-1)*4),0))&\"[/color]//[b]\"&INDEX(OFFSET(Answers!B:B,0,(QNO-1)*4),MATCH(INDEX($A:$CB,ROW(),QNO*4),OFFSET(Answers!A:A,0,(QNO-1)*4),0))&\"[/b] — [b]\"&IF(INDEX($B:$CE,ROW(),QNO*4)=1,\"Singleton!\",CONCATENATE(INDEX($B:$CE,ROW(),QNO*4),\" responses\"))&\"[/b]\")","v":{"$error":"#N/A"}},{"$error":"#VALUE!"},"Yes","72.  — [b][/b] pts",73,1]
["[*]",{"$f":"IF(Mainframe!B77=\"\",\"\",INDEX(Mainframe!$B:$B,C79+1,1))","v":""},76,{"$f":"IF($B79=\"\",\"\",0+UPPER(Mainframe!C77))","v":""},{"$f":"IF(D79=\"\",\"\",IF(NOT(ISNA(VLOOKUP(D79,Answers!A:D,4,FALSE))),VLOOKUP(D79,Answers!A:D,4,FALSE),\"Help!\"))","v":""},null,{"$f":"IF(E79=\"\",\"\",IF(E79=\"XX\",VLOOKUP(\"WRONG\",Answers!A:D,4,FALSE),E79)+F79)","v":""},{"$f":"IF($B79=\"\",\"\",0+UPPER(Mainframe!D77))","v":""},{"$f":"IF(H79=\"\",\"\",IF(NOT(ISNA(VLOOKUP(H79,Answers!E:H,4,FALSE))),VLOOKUP(H79,Answers!E:H,4,FALSE),\"Help!\"))","v":""},null,{"$f":"IF(I79=\"\",\"\",G79+IF(I79=\"XX\",VLOOKUP(\"WRONG\",Answers!E:H,4,FALSE),I79)+J79)","v":""},{"$f":"IF($B79=\"\",\"\",0+UPPER(Mainframe!E77))","v":""},{"$f":"IF(L79=\"\",\"\",IF(NOT(ISNA(VLOOKUP(L79,Answers!I:L,4,FALSE))),VLOOKUP(L79,Answers!I:L,4,FALSE),\"Help!\"))","v":""},null,{"$f":"IF(M79=\"\",\"\",K79+IF(M79=\"XX\",VLOOKUP(\"WRONG\",Answers!I:L,4,FALSE),M79)+N79)","v":""},{"$f":"IF($B79=\"\",\"\",0+UPPER(Mainframe!F77))","v":""},{"$f":"IF(P79=\"\",\"\",IF(NOT(ISNA(VLOOKUP(P79,Answers!M:P,4,FALSE))),VLOOKUP(P79,Answers!M:P,4,FALSE),\"Help!\"))","v":""},null,{"$f":"IF(Q79=\"\",\"\",O79+IF(Q79=\"XX\",VLOOKUP(\"WRONG\",Answers!M:P,4,FALSE),Q79)+R79)","v":""},{"$f":"IF($B79=\"\",\"\",0+UPPER(Mainframe!G77))","v":""},{"$f":"IF(T79=\"\",\"\",IF(NOT(ISNA(VLOOKUP(T79,Answers!Q:T,4,FALSE))),VLOOKUP(T79,Answers!Q:T,4,FALSE),\"Help!\"))","v":""},null,{"$f":"IF(U79=\"\",\"\",S79+IF(U79=\"XX\",VLOOKUP(\"WRONG\",Answers!Q:T,4,FALSE),U79)+V79)","v":""},{"$f":"IF($B79=\"\",\"\",0+UPPER(Mainframe!H77))","v":""},{"$f":"IF(X79=\"\",\"\",IF(NOT(ISNA(VLOOKUP(X79,Answers!U:X,4,FALSE))),VLOOKUP(X79,Answers!U:X,4,FALSE),\"Help!\"))","v":""},null,{"$f":"IF(Y79=\"\",\"\",W79+IF(Y79=\"XX\",VLOOKUP(\"WRONG\",Answers!U:X,4,FALSE),Y79)+Z79)","v":""},{"$f":"IF($B79=\"\",\"\",0+UPPER(Mainframe!I77))","v":""},{"$f":"IF(AB79=\"\",\"\",IF(NOT(ISNA(VLOOKUP(AB79,Answers!Y:AB,4,FALSE))),VLOOKUP(AB79,Answers!Y:AB,4,FALSE),\"Help!\"))","v":""},null,{"$f":"IF(AC79=\"\",\"\",AA79+IF(AC79=\"XX\",VLOOKUP(\"WRONG\",Answers!Y:AB,4,FALSE),AC79)+AD79)","v":""},{"$f":"IF($B79=\"\",\"\",0+UPPER(Mainframe!J77))","v":""},{"$f":"IF(AF79=\"\",\"\",IF(NOT(ISNA(VLOOKUP(AF79,Answers!AC:AF,4,FALSE))),VLOOKUP(AF79,Answers!AC:AF,4,FALSE),\"Help!\"))","v":""},null,{"$f":"IF(AG79=\"\",\"\",AE79+IF(AG79=\"XX\",VLOOKUP(\"WRONG\",Answers!AC:AF,4,FALSE),AG79)+AH79)","v":""},{"$f":"IF($B79=\"\",\"\",0+UPPER(Mainframe!K77))","v":""},{"$f":"IF(AJ79=\"\",\"\",IF(NOT(ISNA(VLOOKUP(AJ79,Answers!AG:AJ,4,FALSE))),VLOOKUP(AJ79,Answers!AG:AJ,4,FALSE),\"Help!\"))","v":""},null,{"$f":"IF(AK79=\"\",\"\",AI79+IF(AK79=\"XX\",VLOOKUP(\"WRONG\",Answers!AG:AJ,4,FALSE),AK79)+AL79)","v":""},{"$f":"IF($B79=\"\",\"\",0+UPPER(Mainframe!L77))","v":""},{"$f":"IF(AN79=\"\",\"\",IF(NOT(ISNA(VLOOKUP(AN79,Answers!AK:AN,4,FALSE))),VLOOKUP(AN79,Answers!AK:AN,4,FALSE),\"Help!\"))","v":""},null,{"$f":"IF(AO79=\"\",\"\",AM79+IF(AO79=\"XX\",VLOOKUP(\"WRONG\",Answers!AK:AN,4,FALSE),AO79)+AP79)","v":""},{"$f":"IF($B79=\"\",\"\",0+UPPER(Mainframe!M77))","v":""},{"$f":"IF(AR79=\"\",\"\",IF(NOT(ISNA(VLOOKUP(AR79,Answers!AO:AR,4,FALSE))),VLOOKUP(AR79,Answers!AO:AR,4,FALSE),\"Help!\"))","v":""},null,{"$f":"IF(AS79=\"\",\"\",AQ79+IF(AS79=\"XX\",VLOOKUP(\"WRONG\",Answers!AO:AR,4,FALSE),AS79)+AT79)","v":""},{"$f":"IF($B79=\"\",\"\",0+UPPER(Mainframe!N77))","v":""},{"$f":"IF(AV79=\"\",\"\",IF(NOT(ISNA(VLOOKUP(AV79,Answers!AS:AV,4,FALSE))),VLOOKUP(AV79,Answers!AS:AV,4,FALSE),\"Help!\"))","v":""},null,{"$f":"IF(AW79=\"\",\"\",AU79+IF(AW79=\"XX\",VLOOKUP(\"WRONG\",Answers!AS:AV,4,FALSE),AW79)+AX79)","v":""},{"$f":"IF($B79=\"\",\"\",0+UPPER(Mainframe!O77))","v":""},"","",{"$f":"IF($B79=\"\",\"\",LEFT(Mainframe!P77,SEARCH(\".\",Mainframe!P77)-1))","v":""},null,null,null,null,null,null,null,null,null,null,null,null,null,null,null,null,null,null,null,null,null,null,null,null,null,null,null,null,null,null,72,{"$f":"IF(INDEX($B:$CE,ROW(),QNO*4)=\"XX\",\"[b][u]\"&INDEX($B:$CE,ROW(),QNO*4-1)&\"[/u][/b]\",\"[color=#BF0040]\"&INDEX(OFFSET(Answers!C:C,0,(QNO-1)*4),MATCH(INDEX($A:$CB,ROW(),QNO*4),OFFSET(Answers!A:A,0,(QNO-1)*4),0))&\"[/color]//[b]\"&INDEX(OFFSET(Answers!B:B,0,(QNO-1)*4),MATCH(INDEX($A:$CB,ROW(),QNO*4),OFFSET(Answers!A:A,0,(QNO-1)*4),0))&\"[/b] — [b]\"&IF(INDEX($B:$CE,ROW(),QNO*4)=1,\"Singleton!\",CONCATENATE(INDEX($B:$CE,ROW(),QNO*4),\" responses\"))&\"[/b]\")","v":{"$error":"#N/A"}},{"$error":"#VALUE!"},"Yes","72.  — [b][/b] pts",73,1]
["[*]",{"$f":"IF(Mainframe!B78=\"\",\"\",INDEX(Mainframe!$B:$B,C80+1,1))","v":""},77,{"$f":"IF($B80=\"\",\"\",0+UPPER(Mainframe!C78))","v":""},{"$f":"IF(D80=\"\",\"\",IF(NOT(ISNA(VLOOKUP(D80,Answers!A:D,4,FALSE))),VLOOKUP(D80,Answers!A:D,4,FALSE),\"Help!\"))","v":""},null,{"$f":"IF(E80=\"\",\"\",IF(E80=\"XX\",VLOOKUP(\"WRONG\",Answers!A:D,4,FALSE),E80)+F80)","v":""},{"$f":"IF($B80=\"\",\"\",0+UPPER(Mainframe!D78))","v":""},{"$f":"IF(H80=\"\",\"\",IF(NOT(ISNA(VLOOKUP(H80,Answers!E:H,4,FALSE))),VLOOKUP(H80,Answers!E:H,4,FALSE),\"Help!\"))","v":""},null,{"$f":"IF(I80=\"\",\"\",G80+IF(I80=\"XX\",VLOOKUP(\"WRONG\",Answers!E:H,4,FALSE),I80)+J80)","v":""},{"$f":"IF($B80=\"\",\"\",0+UPPER(Mainframe!E78))","v":""},{"$f":"IF(L80=\"\",\"\",IF(NOT(ISNA(VLOOKUP(L80,Answers!I:L,4,FALSE))),VLOOKUP(L80,Answers!I:L,4,FALSE),\"Help!\"))","v":""},null,{"$f":"IF(M80=\"\",\"\",K80+IF(M80=\"XX\",VLOOKUP(\"WRONG\",Answers!I:L,4,FALSE),M80)+N80)","v":""},{"$f":"IF($B80=\"\",\"\",0+UPPER(Mainframe!F78))","v":""},{"$f":"IF(P80=\"\",\"\",IF(NOT(ISNA(VLOOKUP(P80,Answers!M:P,4,FALSE))),VLOOKUP(P80,Answers!M:P,4,FALSE),\"Help!\"))","v":""},null,{"$f":"IF(Q80=\"\",\"\",O80+IF(Q80=\"XX\",VLOOKUP(\"WRONG\",Answers!M:P,4,FALSE),Q80)+R80)","v":""},{"$f":"IF($B80=\"\",\"\",0+UPPER(Mainframe!G78))","v":""},{"$f":"IF(T80=\"\",\"\",IF(NOT(ISNA(VLOOKUP(T80,Answers!Q:T,4,FALSE))),VLOOKUP(T80,Answers!Q:T,4,FALSE),\"Help!\"))","v":""},null,{"$f":"IF(U80=\"\",\"\",S80+IF(U80=\"XX\",VLOOKUP(\"WRONG\",Answers!Q:T,4,FALSE),U80)+V80)","v":""},{"$f":"IF($B80=\"\",\"\",0+UPPER(Mainframe!H78))","v":""},{"$f":"IF(X80=\"\",\"\",IF(NOT(ISNA(VLOOKUP(X80,Answers!U:X,4,FALSE))),VLOOKUP(X80,Answers!U:X,4,FALSE),\"Help!\"))","v":""},null,{"$f":"IF(Y80=\"\",\"\",W80+IF(Y80=\"XX\",VLOOKUP(\"WRONG\",Answers!U:X,4,FALSE),Y80)+Z80)","v":""},{"$f":"IF($B80=\"\",\"\",0+UPPER(Mainframe!I78))","v":""},{"$f":"IF(AB80=\"\",\"\",IF(NOT(ISNA(VLOOKUP(AB80,Answers!Y:AB,4,FALSE))),VLOOKUP(AB80,Answers!Y:AB,4,FALSE),\"Help!\"))","v":""},null,{"$f":"IF(AC80=\"\",\"\",AA80+IF(AC80=\"XX\",VLOOKUP(\"WRONG\",Answers!Y:AB,4,FALSE),AC80)+AD80)","v":""},{"$f":"IF($B80=\"\",\"\",0+UPPER(Mainframe!J78))","v":""},{"$f":"IF(AF80=\"\",\"\",IF(NOT(ISNA(VLOOKUP(AF80,Answers!AC:AF,4,FALSE))),VLOOKUP(AF80,Answers!AC:AF,4,FALSE),\"Help!\"))","v":""},null,{"$f":"IF(AG80=\"\",\"\",AE80+IF(AG80=\"XX\",VLOOKUP(\"WRONG\",Answers!AC:AF,4,FALSE),AG80)+AH80)","v":""},{"$f":"IF($B80=\"\",\"\",0+UPPER(Mainframe!K78))","v":""},{"$f":"IF(AJ80=\"\",\"\",IF(NOT(ISNA(VLOOKUP(AJ80,Answers!AG:AJ,4,FALSE))),VLOOKUP(AJ80,Answers!AG:AJ,4,FALSE),\"Help!\"))","v":""},null,{"$f":"IF(AK80=\"\",\"\",AI80+IF(AK80=\"XX\",VLOOKUP(\"WRONG\",Answers!AG:AJ,4,FALSE),AK80)+AL80)","v":""},{"$f":"IF($B80=\"\",\"\",0+UPPER(Mainframe!L78))","v":""},{"$f":"IF(AN80=\"\",\"\",IF(NOT(ISNA(VLOOKUP(AN80,Answers!AK:AN,4,FALSE))),VLOOKUP(AN80,Answers!AK:AN,4,FALSE),\"Help!\"))","v":""},null,{"$f":"IF(AO80=\"\",\"\",AM80+IF(AO80=\"XX\",VLOOKUP(\"WRONG\",Answers!AK:AN,4,FALSE),AO80)+AP80)","v":""},{"$f":"IF($B80=\"\",\"\",0+UPPER(Mainframe!M78))","v":""},{"$f":"IF(AR80=\"\",\"\",IF(NOT(ISNA(VLOOKUP(AR80,Answers!AO:AR,4,FALSE))),VLOOKUP(AR80,Answers!AO:AR,4,FALSE),\"Help!\"))","v":""},null,{"$f":"IF(AS80=\"\",\"\",AQ80+IF(AS80=\"XX\",VLOOKUP(\"WRONG\",Answers!AO:AR,4,FALSE),AS80)+AT80)","v":""},{"$f":"IF($B80=\"\",\"\",0+UPPER(Mainframe!N78))","v":""},{"$f":"IF(AV80=\"\",\"\",IF(NOT(ISNA(VLOOKUP(AV80,Answers!AS:AV,4,FALSE))),VLOOKUP(AV80,Answers!AS:AV,4,FALSE),\"Help!\"))","v":""},null,{"$f":"IF(AW80=\"\",\"\",AU80+IF(AW80=\"XX\",VLOOKUP(\"WRONG\",Answers!AS:AV,4,FALSE),AW80)+AX80)","v":""},{"$f":"IF($B80=\"\",\"\",0+UPPER(Mainframe!O78))","v":""},"","",{"$f":"IF($B80=\"\",\"\",LEFT(Mainframe!P78,SEARCH(\".\",Mainframe!P78)-1))","v":""},null,null,null,null,null,null,null,null,null,null,null,null,null,null,null,null,null,null,null,null,null,null,null,null,null,null,null,null,null,null,72,{"$f":"IF(INDEX($B:$CE,ROW(),QNO*4)=\"XX\",\"[b][u]\"&INDEX($B:$CE,ROW(),QNO*4-1)&\"[/u][/b]\",\"[color=#BF0040]\"&INDEX(OFFSET(Answers!C:C,0,(QNO-1)*4),MATCH(INDEX($A:$CB,ROW(),QNO*4),OFFSET(Answers!A:A,0,(QNO-1)*4),0))&\"[/color]//[b]\"&INDEX(OFFSET(Answers!B:B,0,(QNO-1)*4),MATCH(INDEX($A:$CB,ROW(),QNO*4),OFFSET(Answers!A:A,0,(QNO-1)*4),0))&\"[/b] — [b]\"&IF(INDEX($B:$CE,ROW(),QNO*4)=1,\"Singleton!\",CONCATENATE(INDEX($B:$CE,ROW(),QNO*4),\" responses\"))&\"[/b]\")","v":{"$error":"#N/A"}},{"$error":"#VALUE!"},"Yes","72.  — [b][/b] pts",73,1]
["[*]",{"$f":"IF(Mainframe!B79=\"\",\"\",INDEX(Mainframe!$B:$B,C81+1,1))","v":""},78,{"$f":"IF($B81=\"\",\"\",0+UPPER(Mainframe!C79))","v":""},{"$f":"IF(D81=\"\",\"\",IF(NOT(ISNA(VLOOKUP(D81,Answers!A:D,4,FALSE))),VLOOKUP(D81,Answers!A:D,4,FALSE),\"Help!\"))","v":""},null,{"$f":"IF(E81=\"\",\"\",IF(E81=\"XX\",VLOOKUP(\"WRONG\",Answers!A:D,4,FALSE),E81)+F81)","v":""},{"$f":"IF($B81=\"\",\"\",0+UPPER(Mainframe!D79))","v":""},{"$f":"IF(H81=\"\",\"\",IF(NOT(ISNA(VLOOKUP(H81,Answers!E:H,4,FALSE))),VLOOKUP(H81,Answers!E:H,4,FALSE),\"Help!\"))","v":""},null,{"$f":"IF(I81=\"\",\"\",G81+IF(I81=\"XX\",VLOOKUP(\"WRONG\",Answers!E:H,4,FALSE),I81)+J81)","v":""},{"$f":"IF($B81=\"\",\"\",0+UPPER(Mainframe!E79))","v":""},{"$f":"IF(L81=\"\",\"\",IF(NOT(ISNA(VLOOKUP(L81,Answers!I:L,4,FALSE))),VLOOKUP(L81,Answers!I:L,4,FALSE),\"Help!\"))","v":""},null,{"$f":"IF(M81=\"\",\"\",K81+IF(M81=\"XX\",VLOOKUP(\"WRONG\",Answers!I:L,4,FALSE),M81)+N81)","v":""},{"$f":"IF($B81=\"\",\"\",0+UPPER(Mainframe!F79))","v":""},{"$f":"IF(P81=\"\",\"\",IF(NOT(ISNA(VLOOKUP(P81,Answers!M:P,4,FALSE))),VLOOKUP(P81,Answers!M:P,4,FALSE),\"Help!\"))","v":""},null,{"$f":"IF(Q81=\"\",\"\",O81+IF(Q81=\"XX\",VLOOKUP(\"WRONG\",Answers!M:P,4,FALSE),Q81)+R81)","v":""},{"$f":"IF($B81=\"\",\"\",0+UPPER(Mainframe!G79))","v":""},{"$f":"IF(T81=\"\",\"\",IF(NOT(ISNA(VLOOKUP(T81,Answers!Q:T,4,FALSE))),VLOOKUP(T81,Answers!Q:T,4,FALSE),\"Help!\"))","v":""},null,{"$f":"IF(U81=\"\",\"\",S81+IF(U81=\"XX\",VLOOKUP(\"WRONG\",Answers!Q:T,4,FALSE),U81)+V81)","v":""},{"$f":"IF($B81=\"\",\"\",0+UPPER(Mainframe!H79))","v":""},{"$f":"IF(X81=\"\",\"\",IF(NOT(ISNA(VLOOKUP(X81,Answers!U:X,4,FALSE))),VLOOKUP(X81,Answers!U:X,4,FALSE),\"Help!\"))","v":""},null,{"$f":"IF(Y81=\"\",\"\",W81+IF(Y81=\"XX\",VLOOKUP(\"WRONG\",Answers!U:X,4,FALSE),Y81)+Z81)","v":""},{"$f":"IF($B81=\"\",\"\",0+UPPER(Mainframe!I79))","v":""},{"$f":"IF(AB81=\"\",\"\",IF(NOT(ISNA(VLOOKUP(AB81,Answers!Y:AB,4,FALSE))),VLOOKUP(AB81,Answers!Y:AB,4,FALSE),\"Help!\"))","v":""},null,{"$f":"IF(AC81=\"\",\"\",AA81+IF(AC81=\"XX\",VLOOKUP(\"WRONG\",Answers!Y:AB,4,FALSE),AC81)+AD81)","v":""},{"$f":"IF($B81=\"\",\"\",0+UPPER(Mainframe!J79))","v":""},{"$f":"IF(AF81=\"\",\"\",IF(NOT(ISNA(VLOOKUP(AF81,Answers!AC:AF,4,FALSE))),VLOOKUP(AF81,Answers!AC:AF,4,FALSE),\"Help!\"))","v":""},null,{"$f":"IF(AG81=\"\",\"\",AE81+IF(AG81=\"XX\",VLOOKUP(\"WRONG\",Answers!AC:AF,4,FALSE),AG81)+AH81)","v":""},{"$f":"IF($B81=\"\",\"\",0+UPPER(Mainframe!K79))","v":""},{"$f":"IF(AJ81=\"\",\"\",IF(NOT(ISNA(VLOOKUP(AJ81,Answers!AG:AJ,4,FALSE))),VLOOKUP(AJ81,Answers!AG:AJ,4,FALSE),\"Help!\"))","v":""},null,{"$f":"IF(AK81=\"\",\"\",AI81+IF(AK81=\"XX\",VLOOKUP(\"WRONG\",Answers!AG:AJ,4,FALSE),AK81)+AL81)","v":""},{"$f":"IF($B81=\"\",\"\",0+UPPER(Mainframe!L79))","v":""},{"$f":"IF(AN81=\"\",\"\",IF(NOT(ISNA(VLOOKUP(AN81,Answers!AK:AN,4,FALSE))),VLOOKUP(AN81,Answers!AK:AN,4,FALSE),\"Help!\"))","v":""},null,{"$f":"IF(AO81=\"\",\"\",AM81+IF(AO81=\"XX\",VLOOKUP(\"WRONG\",Answers!AK:AN,4,FALSE),AO81)+AP81)","v":""},{"$f":"IF($B81=\"\",\"\",0+UPPER(Mainframe!M79))","v":""},{"$f":"IF(AR81=\"\",\"\",IF(NOT(ISNA(VLOOKUP(AR81,Answers!AO:AR,4,FALSE))),VLOOKUP(AR81,Answers!AO:AR,4,FALSE),\"Help!\"))","v":""},null,{"$f":"IF(AS81=\"\",\"\",AQ81+IF(AS81=\"XX\",VLOOKUP(\"WRONG\",Answers!AO:AR,4,FALSE),AS81)+AT81)","v":""},{"$f":"IF($B81=\"\",\"\",0+UPPER(Mainframe!N79))","v":""},{"$f":"IF(AV81=\"\",\"\",IF(NOT(ISNA(VLOOKUP(AV81,Answers!AS:AV,4,FALSE))),VLOOKUP(AV81,Answers!AS:AV,4,FALSE),\"Help!\"))","v":""},null,{"$f":"IF(AW81=\"\",\"\",AU81+IF(AW81=\"XX\",VLOOKUP(\"WRONG\",Answers!AS:AV,4,FALSE),AW81)+AX81)","v":""},{"$f":"IF($B81=\"\",\"\",0+UPPER(Mainframe!O79))","v":""},"","",{"$f":"IF($B81=\"\",\"\",LEFT(Mainframe!P79,SEARCH(\".\",Mainframe!P79)-1))","v":""},null,null,null,null,null,null,null,null,null,null,null,null,null,null,null,null,null,null,null,null,null,null,null,null,null,null,null,null,null,null,72,{"$f":"IF(INDEX($B:$CE,ROW(),QNO*4)=\"XX\",\"[b][u]\"&INDEX($B:$CE,ROW(),QNO*4-1)&\"[/u][/b]\",\"[color=#BF0040]\"&INDEX(OFFSET(Answers!C:C,0,(QNO-1)*4),MATCH(INDEX($A:$CB,ROW(),QNO*4),OFFSET(Answers!A:A,0,(QNO-1)*4),0))&\"[/color]//[b]\"&INDEX(OFFSET(Answers!B:B,0,(QNO-1)*4),MATCH(INDEX($A:$CB,ROW(),QNO*4),OFFSET(Answers!A:A,0,(QNO-1)*4),0))&\"[/b] — [b]\"&IF(INDEX($B:$CE,ROW(),QNO*4)=1,\"Singleton!\",CONCATENATE(INDEX($B:$CE,ROW(),QNO*4),\" responses\"))&\"[/b]\")","v":{"$error":"#N/A"}},{"$error":"#VALUE!"},"Yes","72.  — [b][/b] pts",73,1]
["[*]",{"$f":"IF(Mainframe!B80=\"\",\"\",INDEX(Mainframe!$B:$B,C82+1,1))","v":""},79,{"$f":"IF($B82=\"\",\"\",0+UPPER(Mainframe!C80))","v":""},{"$f":"IF(D82=\"\",\"\",IF(NOT(ISNA(VLOOKUP(D82,Answers!A:D,4,FALSE))),VLOOKUP(D82,Answers!A:D,4,FALSE),\"Help!\"))","v":""},null,{"$f":"IF(E82=\"\",\"\",IF(E82=\"XX\",VLOOKUP(\"WRONG\",Answers!A:D,4,FALSE),E82)+F82)","v":""},{"$f":"IF($B82=\"\",\"\",0+UPPER(Mainframe!D80))","v":""},{"$f":"IF(H82=\"\",\"\",IF(NOT(ISNA(VLOOKUP(H82,Answers!E:H,4,FALSE))),VLOOKUP(H82,Answers!E:H,4,FALSE),\"Help!\"))","v":""},null,{"$f":"IF(I82=\"\",\"\",G82+IF(I82=\"XX\",VLOOKUP(\"WRONG\",Answers!E:H,4,FALSE),I82)+J82)","v":""},{"$f":"IF($B82=\"\",\"\",0+UPPER(Mainframe!E80))","v":""},{"$f":"IF(L82=\"\",\"\",IF(NOT(ISNA(VLOOKUP(L82,Answers!I:L,4,FALSE))),VLOOKUP(L82,Answers!I:L,4,FALSE),\"Help!\"))","v":""},null,{"$f":"IF(M82=\"\",\"\",K82+IF(M82=\"XX\",VLOOKUP(\"WRONG\",Answers!I:L,4,FALSE),M82)+N82)","v":""},{"$f":"IF($B82=\"\",\"\",0+UPPER(Mainframe!F80))","v":""},{"$f":"IF(P82=\"\",\"\",IF(NOT(ISNA(VLOOKUP(P82,Answers!M:P,4,FALSE))),VLOOKUP(P82,Answers!M:P,4,FALSE),\"Help!\"))","v":""},null,{"$f":"IF(Q82=\"\",\"\",O82+IF(Q82=\"XX\",VLOOKUP(\"WRONG\",Answers!M:P,4,FALSE),Q82)+R82)","v":""},{"$f":"IF($B82=\"\",\"\",0+UPPER(Mainframe!G80))","v":""},{"$f":"IF(T82=\"\",\"\",IF(NOT(ISNA(VLOOKUP(T82,Answers!Q:T,4,FALSE))),VLOOKUP(T82,Answers!Q:T,4,FALSE),\"Help!\"))","v":""},null,{"$f":"IF(U82=\"\",\"\",S82+IF(U82=\"XX\",VLOOKUP(\"WRONG\",Answers!Q:T,4,FALSE),U82)+V82)","v":""},{"$f":"IF($B82=\"\",\"\",0+UPPER(Mainframe!H80))","v":""},{"$f":"IF(X82=\"\",\"\",IF(NOT(ISNA(VLOOKUP(X82,Answers!U:X,4,FALSE))),VLOOKUP(X82,Answers!U:X,4,FALSE),\"Help!\"))","v":""},null,{"$f":"IF(Y82=\"\",\"\",W82+IF(Y82=\"XX\",VLOOKUP(\"WRONG\",Answers!U:X,4,FALSE),Y82)+Z82)","v":""},{"$f":"IF($B82=\"\",\"\",0+UPPER(Mainframe!I80))","v":""},{"$f":"IF(AB82=\"\",\"\",IF(NOT(ISNA(VLOOKUP(AB82,Answers!Y:AB,4,FALSE))),VLOOKUP(AB82,Answers!Y:AB,4,FALSE),\"Help!\"))","v":""},null,{"$f":"IF(AC82=\"\",\"\",AA82+IF(AC82=\"XX\",VLOOKUP(\"WRONG\",Answers!Y:AB,4,FALSE),AC82)+AD82)","v":""},{"$f":"IF($B82=\"\",\"\",0+UPPER(Mainframe!J80))","v":""},{"$f":"IF(AF82=\"\",\"\",IF(NOT(ISNA(VLOOKUP(AF82,Answers!AC:AF,4,FALSE))),VLOOKUP(AF82,Answers!AC:AF,4,FALSE),\"Help!\"))","v":""},null,{"$f":"IF(AG82=\"\",\"\",AE82+IF(AG82=\"XX\",VLOOKUP(\"WRONG\",Answers!AC:AF,4,FALSE),AG82)+AH82)","v":""},{"$f":"IF($B82=\"\",\"\",0+UPPER(Mainframe!K80))","v":""},{"$f":"IF(AJ82=\"\",\"\",IF(NOT(ISNA(VLOOKUP(AJ82,Answers!AG:AJ,4,FALSE))),VLOOKUP(AJ82,Answers!AG:AJ,4,FALSE),\"Help!\"))","v":""},null,{"$f":"IF(AK82=\"\",\"\",AI82+IF(AK82=\"XX\",VLOOKUP(\"WRONG\",Answers!AG:AJ,4,FALSE),AK82)+AL82)","v":""},{"$f":"IF($B82=\"\",\"\",0+UPPER(Mainframe!L80))","v":""},{"$f":"IF(AN82=\"\",\"\",IF(NOT(ISNA(VLOOKUP(AN82,Answers!AK:AN,4,FALSE))),VLOOKUP(AN82,Answers!AK:AN,4,FALSE),\"Help!\"))","v":""},null,{"$f":"IF(AO82=\"\",\"\",AM82+IF(AO82=\"XX\",VLOOKUP(\"WRONG\",Answers!AK:AN,4,FALSE),AO82)+AP82)","v":""},{"$f":"IF($B82=\"\",\"\",0+UPPER(Mainframe!M80))","v":""},{"$f":"IF(AR82=\"\",\"\",IF(NOT(ISNA(VLOOKUP(AR82,Answers!AO:AR,4,FALSE))),VLOOKUP(AR82,Answers!AO:AR,4,FALSE),\"Help!\"))","v":""},null,{"$f":"IF(AS82=\"\",\"\",AQ82+IF(AS82=\"XX\",VLOOKUP(\"WRONG\",Answers!AO:AR,4,FALSE),AS82)+AT82)","v":""},{"$f":"IF($B82=\"\",\"\",0+UPPER(Mainframe!N80))","v":""},{"$f":"IF(AV82=\"\",\"\",IF(NOT(ISNA(VLOOKUP(AV82,Answers!AS:AV,4,FALSE))),VLOOKUP(AV82,Answers!AS:AV,4,FALSE),\"Help!\"))","v":""},null,{"$f":"IF(AW82=\"\",\"\",AU82+IF(AW82=\"XX\",VLOOKUP(\"WRONG\",Answers!AS:AV,4,FALSE),AW82)+AX82)","v":""},{"$f":"IF($B82=\"\",\"\",0+UPPER(Mainframe!O80))","v":""},"","",{"$f":"IF($B82=\"\",\"\",LEFT(Mainframe!P80,SEARCH(\".\",Mainframe!P80)-1))","v":""},null,null,null,null,null,null,null,null,null,null,null,null,null,null,null,null,null,null,null,null,null,null,null,null,null,null,null,null,null,null,72,{"$f":"IF(INDEX($B:$CE,ROW(),QNO*4)=\"XX\",\"[b][u]\"&INDEX($B:$CE,ROW(),QNO*4-1)&\"[/u][/b]\",\"[color=#BF0040]\"&INDEX(OFFSET(Answers!C:C,0,(QNO-1)*4),MATCH(INDEX($A:$CB,ROW(),QNO*4),OFFSET(Answers!A:A,0,(QNO-1)*4),0))&\"[/color]//[b]\"&INDEX(OFFSET(Answers!B:B,0,(QNO-1)*4),MATCH(INDEX($A:$CB,ROW(),QNO*4),OFFSET(Answers!A:A,0,(QNO-1)*4),0))&\"[/b] — [b]\"&IF(INDEX($B:$CE,ROW(),QNO*4)=1,\"Singleton!\",CONCATENATE(INDEX($B:$CE,ROW(),QNO*4),\" responses\"))&\"[/b]\")","v":{"$error":"#N/A"}},{"$error":"#VALUE!"},"Yes","72.  — [b][/b] pts",73,1]
["[*]",{"$f":"IF(Mainframe!B81=\"\",\"\",INDEX(Mainframe!$B:$B,C83+1,1))","v":""},80,{"$f":"IF($B83=\"\",\"\",0+UPPER(Mainframe!C81))","v":""},{"$f":"IF(D83=\"\",\"\",IF(NOT(ISNA(VLOOKUP(D83,Answers!A:D,4,FALSE))),VLOOKUP(D83,Answers!A:D,4,FALSE),\"Help!\"))","v":""},null,{"$f":"IF(E83=\"\",\"\",IF(E83=\"XX\",VLOOKUP(\"WRONG\",Answers!A:D,4,FALSE),E83)+F83)","v":""},{"$f":"IF($B83=\"\",\"\",0+UPPER(Mainframe!D81))","v":""},{"$f":"IF(H83=\"\",\"\",IF(NOT(ISNA(VLOOKUP(H83,Answers!E:H,4,FALSE))),VLOOKUP(H83,Answers!E:H,4,FALSE),\"Help!\"))","v":""},null,{"$f":"IF(I83=\"\",\"\",G83+IF(I83=\"XX\",VLOOKUP(\"WRONG\",Answers!E:H,4,FALSE),I83)+J83)","v":""},{"$f":"IF($B83=\"\",\"\",0+UPPER(Mainframe!E81))","v":""},{"$f":"IF(L83=\"\",\"\",IF(NOT(ISNA(VLOOKUP(L83,Answers!I:L,4,FALSE))),VLOOKUP(L83,Answers!I:L,4,FALSE),\"Help!\"))","v":""},null,{"$f":"IF(M83=\"\",\"\",K83+IF(M83=\"XX\",VLOOKUP(\"WRONG\",Answers!I:L,4,FALSE),M83)+N83)","v":""},{"$f":"IF($B83=\"\",\"\",0+UPPER(Mainframe!F81))","v":""},{"$f":"IF(P83=\"\",\"\",IF(NOT(ISNA(VLOOKUP(P83,Answers!M:P,4,FALSE))),VLOOKUP(P83,Answers!M:P,4,FALSE),\"Help!\"))","v":""},null,{"$f":"IF(Q83=\"\",\"\",O83+IF(Q83=\"XX\",VLOOKUP(\"WRONG\",Answers!M:P,4,FALSE),Q83)+R83)","v":""},{"$f":"IF($B83=\"\",\"\",0+UPPER(Mainframe!G81))","v":""},{"$f":"IF(T83=\"\",\"\",IF(NOT(ISNA(VLOOKUP(T83,Answers!Q:T,4,FALSE))),VLOOKUP(T83,Answers!Q:T,4,FALSE),\"Help!\"))","v":""},null,{"$f":"IF(U83=\"\",\"\",S83+IF(U83=\"XX\",VLOOKUP(\"WRONG\",Answers!Q:T,4,FALSE),U83)+V83)","v":""},{"$f":"IF($B83=\"\",\"\",0+UPPER(Mainframe!H81))","v":""},{"$f":"IF(X83=\"\",\"\",IF(NOT(ISNA(VLOOKUP(X83,Answers!U:X,4,FALSE))),VLOOKUP(X83,Answers!U:X,4,FALSE),\"Help!\"))","v":""},null,{"$f":"IF(Y83=\"\",\"\",W83+IF(Y83=\"XX\",VLOOKUP(\"WRONG\",Answers!U:X,4,FALSE),Y83)+Z83)","v":""},{"$f":"IF($B83=\"\",\"\",0+UPPER(Mainframe!I81))","v":""},{"$f":"IF(AB83=\"\",\"\",IF(NOT(ISNA(VLOOKUP(AB83,Answers!Y:AB,4,FALSE))),VLOOKUP(AB83,Answers!Y:AB,4,FALSE),\"Help!\"))","v":""},null,{"$f":"IF(AC83=\"\",\"\",AA83+IF(AC83=\"XX\",VLOOKUP(\"WRONG\",Answers!Y:AB,4,FALSE),AC83)+AD83)","v":""},{"$f":"IF($B83=\"\",\"\",0+UPPER(Mainframe!J81))","v":""},{"$f":"IF(AF83=\"\",\"\",IF(NOT(ISNA(VLOOKUP(AF83,Answers!AC:AF,4,FALSE))),VLOOKUP(AF83,Answers!AC:AF,4,FALSE),\"Help!\"))","v":""},null,{"$f":"IF(AG83=\"\",\"\",AE83+IF(AG83=\"XX\",VLOOKUP(\"WRONG\",Answers!AC:AF,4,FALSE),AG83)+AH83)","v":""},{"$f":"IF($B83=\"\",\"\",0+UPPER(Mainframe!K81))","v":""},{"$f":"IF(AJ83=\"\",\"\",IF(NOT(ISNA(VLOOKUP(AJ83,Answers!AG:AJ,4,FALSE))),VLOOKUP(AJ83,Answers!AG:AJ,4,FALSE),\"Help!\"))","v":""},null,{"$f":"IF(AK83=\"\",\"\",AI83+IF(AK83=\"XX\",VLOOKUP(\"WRONG\",Answers!AG:AJ,4,FALSE),AK83)+AL83)","v":""},{"$f":"IF($B83=\"\",\"\",0+UPPER(Mainframe!L81))","v":""},{"$f":"IF(AN83=\"\",\"\",IF(NOT(ISNA(VLOOKUP(AN83,Answers!AK:AN,4,FALSE))),VLOOKUP(AN83,Answers!AK:AN,4,FALSE),\"Help!\"))","v":""},null,{"$f":"IF(AO83=\"\",\"\",AM83+IF(AO83=\"XX\",VLOOKUP(\"WRONG\",Answers!AK:AN,4,FALSE),AO83)+AP83)","v":""},{"$f":"IF($B83=\"\",\"\",0+UPPER(Mainframe!M81))","v":""},{"$f":"IF(AR83=\"\",\"\",IF(NOT(ISNA(VLOOKUP(AR83,Answers!AO:AR,4,FALSE))),VLOOKUP(AR83,Answers!AO:AR,4,FALSE),\"Help!\"))","v":""},null,{"$f":"IF(AS83=\"\",\"\",AQ83+IF(AS83=\"XX\",VLOOKUP(\"WRONG\",Answers!AO:AR,4,FALSE),AS83)+AT83)","v":""},{"$f":"IF($B83=\"\",\"\",0+UPPER(Mainframe!N81))","v":""},{"$f":"IF(AV83=\"\",\"\",IF(NOT(ISNA(VLOOKUP(AV83,Answers!AS:AV,4,FALSE))),VLOOKUP(AV83,Answers!AS:AV,4,FALSE),\"Help!\"))","v":""},null,{"$f":"IF(AW83=\"\",\"\",AU83+IF(AW83=\"XX\",VLOOKUP(\"WRONG\",Answers!AS:AV,4,FALSE),AW83)+AX83)","v":""},{"$f":"IF($B83=\"\",\"\",0+UPPER(Mainframe!O81))","v":""},"","",{"$f":"IF($B83=\"\",\"\",LEFT(Mainframe!P81,SEARCH(\".\",Mainframe!P81)-1))","v":""},null,null,null,null,null,null,null,null,null,null,null,null,null,null,null,null,null,null,null,null,null,null,null,null,null,null,null,null,null,null,72,{"$f":"IF(INDEX($B:$CE,ROW(),QNO*4)=\"XX\",\"[b][u]\"&INDEX($B:$CE,ROW(),QNO*4-1)&\"[/u][/b]\",\"[color=#BF0040]\"&INDEX(OFFSET(Answers!C:C,0,(QNO-1)*4),MATCH(INDEX($A:$CB,ROW(),QNO*4),OFFSET(Answers!A:A,0,(QNO-1)*4),0))&\"[/color]//[b]\"&INDEX(OFFSET(Answers!B:B,0,(QNO-1)*4),MATCH(INDEX($A:$CB,ROW(),QNO*4),OFFSET(Answers!A:A,0,(QNO-1)*4),0))&\"[/b] — [b]\"&IF(INDEX($B:$CE,ROW(),QNO*4)=1,\"Singleton!\",CONCATENATE(INDEX($B:$CE,ROW(),QNO*4),\" responses\"))&\"[/b]\")","v":{"$error":"#N/A"}},{"$error":"#VALUE!"},"Yes","72.  — [b][/b] pts",73,1]
["[*]",{"$f":"IF(Mainframe!B82=\"\",\"\",INDEX(Mainframe!$B:$B,C84+1,1))","v":""},81,{"$f":"IF($B84=\"\",\"\",0+UPPER(Mainframe!C82))","v":""},{"$f":"IF(D84=\"\",\"\",IF(NOT(ISNA(VLOOKUP(D84,Answers!A:D,4,FALSE))),VLOOKUP(D84,Answers!A:D,4,FALSE),\"Help!\"))","v":""},null,{"$f":"IF(E84=\"\",\"\",IF(E84=\"XX\",VLOOKUP(\"WRONG\",Answers!A:D,4,FALSE),E84)+F84)","v":""},{"$f":"IF($B84=\"\",\"\",0+UPPER(Mainframe!D82))","v":""},{"$f":"IF(H84=\"\",\"\",IF(NOT(ISNA(VLOOKUP(H84,Answers!E:H,4,FALSE))),VLOOKUP(H84,Answers!E:H,4,FALSE),\"Help!\"))","v":""},null,{"$f":"IF(I84=\"\",\"\",G84+IF(I84=\"XX\",VLOOKUP(\"WRONG\",Answers!E:H,4,FALSE),I84)+J84)","v":""},{"$f":"IF($B84=\"\",\"\",0+UPPER(Mainframe!E82))","v":""},{"$f":"IF(L84=\"\",\"\",IF(NOT(ISNA(VLOOKUP(L84,Answers!I:L,4,FALSE))),VLOOKUP(L84,Answers!I:L,4,FALSE),\"Help!\"))","v":""},null,{"$f":"IF(M84=\"\",\"\",K84+IF(M84=\"XX\",VLOOKUP(\"WRONG\",Answers!I:L,4,FALSE),M84)+N84)","v":""},{"$f":"IF($B84=\"\",\"\",0+UPPER(Mainframe!F82))","v":""},{"$f":"IF(P84=\"\",\"\",IF(NOT(ISNA(VLOOKUP(P84,Answers!M:P,4,FALSE))),VLOOKUP(P84,Answers!M:P,4,FALSE),\"Help!\"))","v":""},null,{"$f":"IF(Q84=\"\",\"\",O84+IF(Q84=\"XX\",VLOOKUP(\"WRONG\",Answers!M:P,4,FALSE),Q84)+R84)","v":""},{"$f":"IF($B84=\"\",\"\",0+UPPER(Mainframe!G82))","v":""},{"$f":"IF(T84=\"\",\"\",IF(NOT(ISNA(VLOOKUP(T84,Answers!Q:T,4,FALSE))),VLOOKUP(T84,Answers!Q:T,4,FALSE),\"Help!\"))","v":""},null,{"$f":"IF(U84=\"\",\"\",S84+IF(U84=\"XX\",VLOOKUP(\"WRONG\",Answers!Q:T,4,FALSE),U84)+V84)","v":""},{"$f":"IF($B84=\"\",\"\",0+UPPER(Mainframe!H82))","v":""},{"$f":"IF(X84=\"\",\"\",IF(NOT(ISNA(VLOOKUP(X84,Answers!U:X,4,FALSE))),VLOOKUP(X84,Answers!U:X,4,FALSE),\"Help!\"))","v":""},null,{"$f":"IF(Y84=\"\",\"\",W84+IF(Y84=\"XX\",VLOOKUP(\"WRONG\",Answers!U:X,4,FALSE),Y84)+Z84)","v":""},{"$f":"IF($B84=\"\",\"\",0+UPPER(Mainframe!I82))","v":""},{"$f":"IF(AB84=\"\",\"\",IF(NOT(ISNA(VLOOKUP(AB84,Answers!Y:AB,4,FALSE))),VLOOKUP(AB84,Answers!Y:AB,4,FALSE),\"Help!\"))","v":""},null,{"$f":"IF(AC84=\"\",\"\",AA84+IF(AC84=\"XX\",VLOOKUP(\"WRONG\",Answers!Y:AB,4,FALSE),AC84)+AD84)","v":""},{"$f":"IF($B84=\"\",\"\",0+UPPER(Mainframe!J82))","v":""},{"$f":"IF(AF84=\"\",\"\",IF(NOT(ISNA(VLOOKUP(AF84,Answers!AC:AF,4,FALSE))),VLOOKUP(AF84,Answers!AC:AF,4,FALSE),\"Help!\"))","v":""},null,{"$f":"IF(AG84=\"\",\"\",AE84+IF(AG84=\"XX\",VLOOKUP(\"WRONG\",Answers!AC:AF,4,FALSE),AG84)+AH84)","v":""},{"$f":"IF($B84=\"\",\"\",0+UPPER(Mainframe!K82))","v":""},{"$f":"IF(AJ84=\"\",\"\",IF(NOT(ISNA(VLOOKUP(AJ84,Answers!AG:AJ,4,FALSE))),VLOOKUP(AJ84,Answers!AG:AJ,4,FALSE),\"Help!\"))","v":""},null,{"$f":"IF(AK84=\"\",\"\",AI84+IF(AK84=\"XX\",VLOOKUP(\"WRONG\",Answers!AG:AJ,4,FALSE),AK84)+AL84)","v":""},{"$f":"IF($B84=\"\",\"\",0+UPPER(Mainframe!L82))","v":""},{"$f":"IF(AN84=\"\",\"\",IF(NOT(ISNA(VLOOKUP(AN84,Answers!AK:AN,4,FALSE))),VLOOKUP(AN84,Answers!AK:AN,4,FALSE),\"Help!\"))","v":""},null,{"$f":"IF(AO84=\"\",\"\",AM84+IF(AO84=\"XX\",VLOOKUP(\"WRONG\",Answers!AK:AN,4,FALSE),AO84)+AP84)","v":""},{"$f":"IF($B84=\"\",\"\",0+UPPER(Mainframe!M82))","v":""},{"$f":"IF(AR84=\"\",\"\",IF(NOT(ISNA(VLOOKUP(AR84,Answers!AO:AR,4,FALSE))),VLOOKUP(AR84,Answers!AO:AR,4,FALSE),\"Help!\"))","v":""},null,{"$f":"IF(AS84=\"\",\"\",AQ84+IF(AS84=\"XX\",VLOOKUP(\"WRONG\",Answers!AO:AR,4,FALSE),AS84)+AT84)","v":""},{"$f":"IF($B84=\"\",\"\",0+UPPER(Mainframe!N82))","v":""},{"$f":"IF(AV84=\"\",\"\",IF(NOT(ISNA(VLOOKUP(AV84,Answers!AS:AV,4,FALSE))),VLOOKUP(AV84,Answers!AS:AV,4,FALSE),\"Help!\"))","v":""},null,{"$f":"IF(AW84=\"\",\"\",AU84+IF(AW84=\"XX\",VLOOKUP(\"WRONG\",Answers!AS:AV,4,FALSE),AW84)+AX84)","v":""},{"$f":"IF($B84=\"\",\"\",0+UPPER(Mainframe!O82))","v":""},"","",{"$f":"IF($B84=\"\",\"\",LEFT(Mainframe!P82,SEARCH(\".\",Mainframe!P82)-1))","v":""},null,null,null,null,null,null,null,null,null,null,null,null,null,null,null,null,null,null,null,null,null,null,null,null,null,null,null,null,null,null,72,{"$f":"IF(INDEX($B:$CE,ROW(),QNO*4)=\"XX\",\"[b][u]\"&INDEX($B:$CE,ROW(),QNO*4-1)&\"[/u][/b]\",\"[color=#BF0040]\"&INDEX(OFFSET(Answers!C:C,0,(QNO-1)*4),MATCH(INDEX($A:$CB,ROW(),QNO*4),OFFSET(Answers!A:A,0,(QNO-1)*4),0))&\"[/color]//[b]\"&INDEX(OFFSET(Answers!B:B,0,(QNO-1)*4),MATCH(INDEX($A:$CB,ROW(),QNO*4),OFFSET(Answers!A:A,0,(QNO-1)*4),0))&\"[/b] — [b]\"&IF(INDEX($B:$CE,ROW(),QNO*4)=1,\"Singleton!\",CONCATENATE(INDEX($B:$CE,ROW(),QNO*4),\" responses\"))&\"[/b]\")","v":{"$error":"#N/A"}},{"$error":"#VALUE!"},"Yes","72.  — [b][/b] pts",73,1]
["[*]",{"$f":"IF(Mainframe!B83=\"\",\"\",INDEX(Mainframe!$B:$B,C85+1,1))","v":""},82,{"$f":"IF($B85=\"\",\"\",0+UPPER(Mainframe!C83))","v":""},{"$f":"IF(D85=\"\",\"\",IF(NOT(ISNA(VLOOKUP(D85,Answers!A:D,4,FALSE))),VLOOKUP(D85,Answers!A:D,4,FALSE),\"Help!\"))","v":""},null,{"$f":"IF(E85=\"\",\"\",IF(E85=\"XX\",VLOOKUP(\"WRONG\",Answers!A:D,4,FALSE),E85)+F85)","v":""},{"$f":"IF($B85=\"\",\"\",0+UPPER(Mainframe!D83))","v":""},{"$f":"IF(H85=\"\",\"\",IF(NOT(ISNA(VLOOKUP(H85,Answers!E:H,4,FALSE))),VLOOKUP(H85,Answers!E:H,4,FALSE),\"Help!\"))","v":""},null,{"$f":"IF(I85=\"\",\"\",G85+IF(I85=\"XX\",VLOOKUP(\"WRONG\",Answers!E:H,4,FALSE),I85)+J85)","v":""},{"$f":"IF($B85=\"\",\"\",0+UPPER(Mainframe!E83))","v":""},{"$f":"IF(L85=\"\",\"\",IF(NOT(ISNA(VLOOKUP(L85,Answers!I:L,4,FALSE))),VLOOKUP(L85,Answers!I:L,4,FALSE),\"Help!\"))","v":""},null,{"$f":"IF(M85=\"\",\"\",K85+IF(M85=\"XX\",VLOOKUP(\"WRONG\",Answers!I:L,4,FALSE),M85)+N85)","v":""},{"$f":"IF($B85=\"\",\"\",0+UPPER(Mainframe!F83))","v":""},{"$f":"IF(P85=\"\",\"\",IF(NOT(ISNA(VLOOKUP(P85,Answers!M:P,4,FALSE))),VLOOKUP(P85,Answers!M:P,4,FALSE),\"Help!\"))","v":""},null,{"$f":"IF(Q85=\"\",\"\",O85+IF(Q85=\"XX\",VLOOKUP(\"WRONG\",Answers!M:P,4,FALSE),Q85)+R85)","v":""},{"$f":"IF($B85=\"\",\"\",0+UPPER(Mainframe!G83))","v":""},{"$f":"IF(T85=\"\",\"\",IF(NOT(ISNA(VLOOKUP(T85,Answers!Q:T,4,FALSE))),VLOOKUP(T85,Answers!Q:T,4,FALSE),\"Help!\"))","v":""},null,{"$f":"IF(U85=\"\",\"\",S85+IF(U85=\"XX\",VLOOKUP(\"WRONG\",Answers!Q:T,4,FALSE),U85)+V85)","v":""},{"$f":"IF($B85=\"\",\"\",0+UPPER(Mainframe!H83))","v":""},{"$f":"IF(X85=\"\",\"\",IF(NOT(ISNA(VLOOKUP(X85,Answers!U:X,4,FALSE))),VLOOKUP(X85,Answers!U:X,4,FALSE),\"Help!\"))","v":""},null,{"$f":"IF(Y85=\"\",\"\",W85+IF(Y85=\"XX\",VLOOKUP(\"WRONG\",Answers!U:X,4,FALSE),Y85)+Z85)","v":""},{"$f":"IF($B85=\"\",\"\",0+UPPER(Mainframe!I83))","v":""},{"$f":"IF(AB85=\"\",\"\",IF(NOT(ISNA(VLOOKUP(AB85,Answers!Y:AB,4,FALSE))),VLOOKUP(AB85,Answers!Y:AB,4,FALSE),\"Help!\"))","v":""},null,{"$f":"IF(AC85=\"\",\"\",AA85+IF(AC85=\"XX\",VLOOKUP(\"WRONG\",Answers!Y:AB,4,FALSE),AC85)+AD85)","v":""},{"$f":"IF($B85=\"\",\"\",0+UPPER(Mainframe!J83))","v":""},{"$f":"IF(AF85=\"\",\"\",IF(NOT(ISNA(VLOOKUP(AF85,Answers!AC:AF,4,FALSE))),VLOOKUP(AF85,Answers!AC:AF,4,FALSE),\"Help!\"))","v":""},null,{"$f":"IF(AG85=\"\",\"\",AE85+IF(AG85=\"XX\",VLOOKUP(\"WRONG\",Answers!AC:AF,4,FALSE),AG85)+AH85)","v":""},{"$f":"IF($B85=\"\",\"\",0+UPPER(Mainframe!K83))","v":""},{"$f":"IF(AJ85=\"\",\"\",IF(NOT(ISNA(VLOOKUP(AJ85,Answers!AG:AJ,4,FALSE))),VLOOKUP(AJ85,Answers!AG:AJ,4,FALSE),\"Help!\"))","v":""},null,{"$f":"IF(AK85=\"\",\"\",AI85+IF(AK85=\"XX\",VLOOKUP(\"WRONG\",Answers!AG:AJ,4,FALSE),AK85)+AL85)","v":""},{"$f":"IF($B85=\"\",\"\",0+UPPER(Mainframe!L83))","v":""},{"$f":"IF(AN85=\"\",\"\",IF(NOT(ISNA(VLOOKUP(AN85,Answers!AK:AN,4,FALSE))),VLOOKUP(AN85,Answers!AK:AN,4,FALSE),\"Help!\"))","v":""},null,{"$f":"IF(AO85=\"\",\"\",AM85+IF(AO85=\"XX\",VLOOKUP(\"WRONG\",Answers!AK:AN,4,FALSE),AO85)+AP85)","v":""},{"$f":"IF($B85=\"\",\"\",0+UPPER(Mainframe!M83))","v":""},{"$f":"IF(AR85=\"\",\"\",IF(NOT(ISNA(VLOOKUP(AR85,Answers!AO:AR,4,FALSE))),VLOOKUP(AR85,Answers!AO:AR,4,FALSE),\"Help!\"))","v":""},null,{"$f":"IF(AS85=\"\",\"\",AQ85+IF(AS85=\"XX\",VLOOKUP(\"WRONG\",Answers!AO:AR,4,FALSE),AS85)+AT85)","v":""},{"$f":"IF($B85=\"\",\"\",0+UPPER(Mainframe!N83))","v":""},{"$f":"IF(AV85=\"\",\"\",IF(NOT(ISNA(VLOOKUP(AV85,Answers!AS:AV,4,FALSE))),VLOOKUP(AV85,Answers!AS:AV,4,FALSE),\"Help!\"))","v":""},null,{"$f":"IF(AW85=\"\",\"\",AU85+IF(AW85=\"XX\",VLOOKUP(\"WRONG\",Answers!AS:AV,4,FALSE),AW85)+AX85)","v":""},{"$f":"IF($B85=\"\",\"\",0+UPPER(Mainframe!O83))","v":""},"","",{"$f":"IF($B85=\"\",\"\",LEFT(Mainframe!P83,SEARCH(\".\",Mainframe!P83)-1))","v":""},null,null,null,null,null,null,null,null,null,null,null,null,null,null,null,null,null,null,null,null,null,null,null,null,null,null,null,null,null,null,72,{"$f":"IF(INDEX($B:$CE,ROW(),QNO*4)=\"XX\",\"[b][u]\"&INDEX($B:$CE,ROW(),QNO*4-1)&\"[/u][/b]\",\"[color=#BF0040]\"&INDEX(OFFSET(Answers!C:C,0,(QNO-1)*4),MATCH(INDEX($A:$CB,ROW(),QNO*4),OFFSET(Answers!A:A,0,(QNO-1)*4),0))&\"[/color]//[b]\"&INDEX(OFFSET(Answers!B:B,0,(QNO-1)*4),MATCH(INDEX($A:$CB,ROW(),QNO*4),OFFSET(Answers!A:A,0,(QNO-1)*4),0))&\"[/b] — [b]\"&IF(INDEX($B:$CE,ROW(),QNO*4)=1,\"Singleton!\",CONCATENATE(INDEX($B:$CE,ROW(),QNO*4),\" responses\"))&\"[/b]\")","v":{"$error":"#N/A"}},{"$error":"#VALUE!"},"Yes","72.  — [b][/b] pts",73,1]
["[*]",{"$f":"IF(Mainframe!B84=\"\",\"\",INDEX(Mainframe!$B:$B,C86+1,1))","v":""},83,{"$f":"IF($B86=\"\",\"\",0+UPPER(Mainframe!C84))","v":""},{"$f":"IF(D86=\"\",\"\",IF(NOT(ISNA(VLOOKUP(D86,Answers!A:D,4,FALSE))),VLOOKUP(D86,Answers!A:D,4,FALSE),\"Help!\"))","v":""},null,{"$f":"IF(E86=\"\",\"\",IF(E86=\"XX\",VLOOKUP(\"WRONG\",Answers!A:D,4,FALSE),E86)+F86)","v":""},{"$f":"IF($B86=\"\",\"\",0+UPPER(Mainframe!D84))","v":""},{"$f":"IF(H86=\"\",\"\",IF(NOT(ISNA(VLOOKUP(H86,Answers!E:H,4,FALSE))),VLOOKUP(H86,Answers!E:H,4,FALSE),\"Help!\"))","v":""},null,{"$f":"IF(I86=\"\",\"\",G86+IF(I86=\"XX\",VLOOKUP(\"WRONG\",Answers!E:H,4,FALSE),I86)+J86)","v":""},{"$f":"IF($B86=\"\",\"\",0+UPPER(Mainframe!E84))","v":""},{"$f":"IF(L86=\"\",\"\",IF(NOT(ISNA(VLOOKUP(L86,Answers!I:L,4,FALSE))),VLOOKUP(L86,Answers!I:L,4,FALSE),\"Help!\"))","v":""},null,{"$f":"IF(M86=\"\",\"\",K86+IF(M86=\"XX\",VLOOKUP(\"WRONG\",Answers!I:L,4,FALSE),M86)+N86)","v":""},{"$f":"IF($B86=\"\",\"\",0+UPPER(Mainframe!F84))","v":""},{"$f":"IF(P86=\"\",\"\",IF(NOT(ISNA(VLOOKUP(P86,Answers!M:P,4,FALSE))),VLOOKUP(P86,Answers!M:P,4,FALSE),\"Help!\"))","v":""},null,{"$f":"IF(Q86=\"\",\"\",O86+IF(Q86=\"XX\",VLOOKUP(\"WRONG\",Answers!M:P,4,FALSE),Q86)+R86)","v":""},{"$f":"IF($B86=\"\",\"\",0+UPPER(Mainframe!G84))","v":""},{"$f":"IF(T86=\"\",\"\",IF(NOT(ISNA(VLOOKUP(T86,Answers!Q:T,4,FALSE))),VLOOKUP(T86,Answers!Q:T,4,FALSE),\"Help!\"))","v":""},null,{"$f":"IF(U86=\"\",\"\",S86+IF(U86=\"XX\",VLOOKUP(\"WRONG\",Answers!Q:T,4,FALSE),U86)+V86)","v":""},{"$f":"IF($B86=\"\",\"\",0+UPPER(Mainframe!H84))","v":""},{"$f":"IF(X86=\"\",\"\",IF(NOT(ISNA(VLOOKUP(X86,Answers!U:X,4,FALSE))),VLOOKUP(X86,Answers!U:X,4,FALSE),\"Help!\"))","v":""},null,{"$f":"IF(Y86=\"\",\"\",W86+IF(Y86=\"XX\",VLOOKUP(\"WRONG\",Answers!U:X,4,FALSE),Y86)+Z86)","v":""},{"$f":"IF($B86=\"\",\"\",0+UPPER(Mainframe!I84))","v":""},{"$f":"IF(AB86=\"\",\"\",IF(NOT(ISNA(VLOOKUP(AB86,Answers!Y:AB,4,FALSE))),VLOOKUP(AB86,Answers!Y:AB,4,FALSE),\"Help!\"))","v":""},null,{"$f":"IF(AC86=\"\",\"\",AA86+IF(AC86=\"XX\",VLOOKUP(\"WRONG\",Answers!Y:AB,4,FALSE),AC86)+AD86)","v":""},{"$f":"IF($B86=\"\",\"\",0+UPPER(Mainframe!J84))","v":""},{"$f":"IF(AF86=\"\",\"\",IF(NOT(ISNA(VLOOKUP(AF86,Answers!AC:AF,4,FALSE))),VLOOKUP(AF86,Answers!AC:AF,4,FALSE),\"Help!\"))","v":""},null,{"$f":"IF(AG86=\"\",\"\",AE86+IF(AG86=\"XX\",VLOOKUP(\"WRONG\",Answers!AC:AF,4,FALSE),AG86)+AH86)","v":""},{"$f":"IF($B86=\"\",\"\",0+UPPER(Mainframe!K84))","v":""},{"$f":"IF(AJ86=\"\",\"\",IF(NOT(ISNA(VLOOKUP(AJ86,Answers!AG:AJ,4,FALSE))),VLOOKUP(AJ86,Answers!AG:AJ,4,FALSE),\"Help!\"))","v":""},null,{"$f":"IF(AK86=\"\",\"\",AI86+IF(AK86=\"XX\",VLOOKUP(\"WRONG\",Answers!AG:AJ,4,FALSE),AK86)+AL86)","v":""},{"$f":"IF($B86=\"\",\"\",0+UPPER(Mainframe!L84))","v":""},{"$f":"IF(AN86=\"\",\"\",IF(NOT(ISNA(VLOOKUP(AN86,Answers!AK:AN,4,FALSE))),VLOOKUP(AN86,Answers!AK:AN,4,FALSE),\"Help!\"))","v":""},null,{"$f":"IF(AO86=\"\",\"\",AM86+IF(AO86=\"XX\",VLOOKUP(\"WRONG\",Answers!AK:AN,4,FALSE),AO86)+AP86)","v":""},{"$f":"IF($B86=\"\",\"\",0+UPPER(Mainframe!M84))","v":""},{"$f":"IF(AR86=\"\",\"\",IF(NOT(ISNA(VLOOKUP(AR86,Answers!AO:AR,4,FALSE))),VLOOKUP(AR86,Answers!AO:AR,4,FALSE),\"Help!\"))","v":""},null,{"$f":"IF(AS86=\"\",\"\",AQ86+IF(AS86=\"XX\",VLOOKUP(\"WRONG\",Answers!AO:AR,4,FALSE),AS86)+AT86)","v":""},{"$f":"IF($B86=\"\",\"\",0+UPPER(Mainframe!N84))","v":""},{"$f":"IF(AV86=\"\",\"\",IF(NOT(ISNA(VLOOKUP(AV86,Answers!AS:AV,4,FALSE))),VLOOKUP(AV86,Answers!AS:AV,4,FALSE),\"Help!\"))","v":""},null,{"$f":"IF(AW86=\"\",\"\",AU86+IF(AW86=\"XX\",VLOOKUP(\"WRONG\",Answers!AS:AV,4,FALSE),AW86)+AX86)","v":""},{"$f":"IF($B86=\"\",\"\",0+UPPER(Mainframe!O84))","v":""},"","",{"$f":"IF($B86=\"\",\"\",LEFT(Mainframe!P84,SEARCH(\".\",Mainframe!P84)-1))","v":""},null,null,null,null,null,null,null,null,null,null,null,null,null,null,null,null,null,null,null,null,null,null,null,null,null,null,null,null,null,null,72,{"$f":"IF(INDEX($B:$CE,ROW(),QNO*4)=\"XX\",\"[b][u]\"&INDEX($B:$CE,ROW(),QNO*4-1)&\"[/u][/b]\",\"[color=#BF0040]\"&INDEX(OFFSET(Answers!C:C,0,(QNO-1)*4),MATCH(INDEX($A:$CB,ROW(),QNO*4),OFFSET(Answers!A:A,0,(QNO-1)*4),0))&\"[/color]//[b]\"&INDEX(OFFSET(Answers!B:B,0,(QNO-1)*4),MATCH(INDEX($A:$CB,ROW(),QNO*4),OFFSET(Answers!A:A,0,(QNO-1)*4),0))&\"[/b] — [b]\"&IF(INDEX($B:$CE,ROW(),QNO*4)=1,\"Singleton!\",CONCATENATE(INDEX($B:$CE,ROW(),QNO*4),\" responses\"))&\"[/b]\")","v":{"$error":"#N/A"}},{"$error":"#VALUE!"},"Yes","72.  — [b][/b] pts",73,1]
["[*]",{"$f":"IF(Mainframe!B85=\"\",\"\",INDEX(Mainframe!$B:$B,C87+1,1))","v":""},84,{"$f":"IF($B87=\"\",\"\",0+UPPER(Mainframe!C85))","v":""},{"$f":"IF(D87=\"\",\"\",IF(NOT(ISNA(VLOOKUP(D87,Answers!A:D,4,FALSE))),VLOOKUP(D87,Answers!A:D,4,FALSE),\"Help!\"))","v":""},null,{"$f":"IF(E87=\"\",\"\",IF(E87=\"XX\",VLOOKUP(\"WRONG\",Answers!A:D,4,FALSE),E87)+F87)","v":""},{"$f":"IF($B87=\"\",\"\",0+UPPER(Mainframe!D85))","v":""},{"$f":"IF(H87=\"\",\"\",IF(NOT(ISNA(VLOOKUP(H87,Answers!E:H,4,FALSE))),VLOOKUP(H87,Answers!E:H,4,FALSE),\"Help!\"))","v":""},null,{"$f":"IF(I87=\"\",\"\",G87+IF(I87=\"XX\",VLOOKUP(\"WRONG\",Answers!E:H,4,FALSE),I87)+J87)","v":""},{"$f":"IF($B87=\"\",\"\",0+UPPER(Mainframe!E85))","v":""},{"$f":"IF(L87=\"\",\"\",IF(NOT(ISNA(VLOOKUP(L87,Answers!I:L,4,FALSE))),VLOOKUP(L87,Answers!I:L,4,FALSE),\"Help!\"))","v":""},null,{"$f":"IF(M87=\"\",\"\",K87+IF(M87=\"XX\",VLOOKUP(\"WRONG\",Answers!I:L,4,FALSE),M87)+N87)","v":""},{"$f":"IF($B87=\"\",\"\",0+UPPER(Mainframe!F85))","v":""},{"$f":"IF(P87=\"\",\"\",IF(NOT(ISNA(VLOOKUP(P87,Answers!M:P,4,FALSE))),VLOOKUP(P87,Answers!M:P,4,FALSE),\"Help!\"))","v":""},null,{"$f":"IF(Q87=\"\",\"\",O87+IF(Q87=\"XX\",VLOOKUP(\"WRONG\",Answers!M:P,4,FALSE),Q87)+R87)","v":""},{"$f":"IF($B87=\"\",\"\",0+UPPER(Mainframe!G85))","v":""},{"$f":"IF(T87=\"\",\"\",IF(NOT(ISNA(VLOOKUP(T87,Answers!Q:T,4,FALSE))),VLOOKUP(T87,Answers!Q:T,4,FALSE),\"Help!\"))","v":""},null,{"$f":"IF(U87=\"\",\"\",S87+IF(U87=\"XX\",VLOOKUP(\"WRONG\",Answers!Q:T,4,FALSE),U87)+V87)","v":""},{"$f":"IF($B87=\"\",\"\",0+UPPER(Mainframe!H85))","v":""},{"$f":"IF(X87=\"\",\"\",IF(NOT(ISNA(VLOOKUP(X87,Answers!U:X,4,FALSE))),VLOOKUP(X87,Answers!U:X,4,FALSE),\"Help!\"))","v":""},null,{"$f":"IF(Y87=\"\",\"\",W87+IF(Y87=\"XX\",VLOOKUP(\"WRONG\",Answers!U:X,4,FALSE),Y87)+Z87)","v":""},{"$f":"IF($B87=\"\",\"\",0+UPPER(Mainframe!I85))","v":""},{"$f":"IF(AB87=\"\",\"\",IF(NOT(ISNA(VLOOKUP(AB87,Answers!Y:AB,4,FALSE))),VLOOKUP(AB87,Answers!Y:AB,4,FALSE),\"Help!\"))","v":""},null,{"$f":"IF(AC87=\"\",\"\",AA87+IF(AC87=\"XX\",VLOOKUP(\"WRONG\",Answers!Y:AB,4,FALSE),AC87)+AD87)","v":""},{"$f":"IF($B87=\"\",\"\",0+UPPER(Mainframe!J85))","v":""},{"$f":"IF(AF87=\"\",\"\",IF(NOT(ISNA(VLOOKUP(AF87,Answers!AC:AF,4,FALSE))),VLOOKUP(AF87,Answers!AC:AF,4,FALSE),\"Help!\"))","v":""},null,{"$f":"IF(AG87=\"\",\"\",AE87+IF(AG87=\"XX\",VLOOKUP(\"WRONG\",Answers!AC:AF,4,FALSE),AG87)+AH87)","v":""},{"$f":"IF($B87=\"\",\"\",0+UPPER(Mainframe!K85))","v":""},{"$f":"IF(AJ87=\"\",\"\",IF(NOT(ISNA(VLOOKUP(AJ87,Answers!AG:AJ,4,FALSE))),VLOOKUP(AJ87,Answers!AG:AJ,4,FALSE),\"Help!\"))","v":""},null,{"$f":"IF(AK87=\"\",\"\",AI87+IF(AK87=\"XX\",VLOOKUP(\"WRONG\",Answers!AG:AJ,4,FALSE),AK87)+AL87)","v":""},{"$f":"IF($B87=\"\",\"\",0+UPPER(Mainframe!L85))","v":""},{"$f":"IF(AN87=\"\",\"\",IF(NOT(ISNA(VLOOKUP(AN87,Answers!AK:AN,4,FALSE))),VLOOKUP(AN87,Answers!AK:AN,4,FALSE),\"Help!\"))","v":""},null,{"$f":"IF(AO87=\"\",\"\",AM87+IF(AO87=\"XX\",VLOOKUP(\"WRONG\",Answers!AK:AN,4,FALSE),AO87)+AP87)","v":""},{"$f":"IF($B87=\"\",\"\",0+UPPER(Mainframe!M85))","v":""},{"$f":"IF(AR87=\"\",\"\",IF(NOT(ISNA(VLOOKUP(AR87,Answers!AO:AR,4,FALSE))),VLOOKUP(AR87,Answers!AO:AR,4,FALSE),\"Help!\"))","v":""},null,{"$f":"IF(AS87=\"\",\"\",AQ87+IF(AS87=\"XX\",VLOOKUP(\"WRONG\",Answers!AO:AR,4,FALSE),AS87)+AT87)","v":""},{"$f":"IF($B87=\"\",\"\",0+UPPER(Mainframe!N85))","v":""},{"$f":"IF(AV87=\"\",\"\",IF(NOT(ISNA(VLOOKUP(AV87,Answers!AS:AV,4,FALSE))),VLOOKUP(AV87,Answers!AS:AV,4,FALSE),\"Help!\"))","v":""},null,{"$f":"IF(AW87=\"\",\"\",AU87+IF(AW87=\"XX\",VLOOKUP(\"WRONG\",Answers!AS:AV,4,FALSE),AW87)+AX87)","v":""},{"$f":"IF($B87=\"\",\"\",0+UPPER(Mainframe!O85))","v":""},"","",{"$f":"IF($B87=\"\",\"\",LEFT(Mainframe!P85,SEARCH(\".\",Mainframe!P85)-1))","v":""},null,null,null,null,null,null,null,null,null,null,null,null,null,null,null,null,null,null,null,null,null,null,null,null,null,null,null,null,null,null,72,{"$f":"IF(INDEX($B:$CE,ROW(),QNO*4)=\"XX\",\"[b][u]\"&INDEX($B:$CE,ROW(),QNO*4-1)&\"[/u][/b]\",\"[color=#BF0040]\"&INDEX(OFFSET(Answers!C:C,0,(QNO-1)*4),MATCH(INDEX($A:$CB,ROW(),QNO*4),OFFSET(Answers!A:A,0,(QNO-1)*4),0))&\"[/color]//[b]\"&INDEX(OFFSET(Answers!B:B,0,(QNO-1)*4),MATCH(INDEX($A:$CB,ROW(),QNO*4),OFFSET(Answers!A:A,0,(QNO-1)*4),0))&\"[/b] — [b]\"&IF(INDEX($B:$CE,ROW(),QNO*4)=1,\"Singleton!\",CONCATENATE(INDEX($B:$CE,ROW(),QNO*4),\" responses\"))&\"[/b]\")","v":{"$error":"#N/A"}},{"$error":"#VALUE!"},"Yes","72.  — [b][/b] pts",73,1]
["[*]",{"$f":"IF(Mainframe!B86=\"\",\"\",INDEX(Mainframe!$B:$B,C88+1,1))","v":""},85,{"$f":"IF($B88=\"\",\"\",0+UPPER(Mainframe!C86))","v":""},{"$f":"IF(D88=\"\",\"\",IF(NOT(ISNA(VLOOKUP(D88,Answers!A:D,4,FALSE))),VLOOKUP(D88,Answers!A:D,4,FALSE),\"Help!\"))","v":""},null,{"$f":"IF(E88=\"\",\"\",IF(E88=\"XX\",VLOOKUP(\"WRONG\",Answers!A:D,4,FALSE),E88)+F88)","v":""},{"$f":"IF($B88=\"\",\"\",0+UPPER(Mainframe!D86))","v":""},{"$f":"IF(H88=\"\",\"\",IF(NOT(ISNA(VLOOKUP(H88,Answers!E:H,4,FALSE))),VLOOKUP(H88,Answers!E:H,4,FALSE),\"Help!\"))","v":""},null,{"$f":"IF(I88=\"\",\"\",G88+IF(I88=\"XX\",VLOOKUP(\"WRONG\",Answers!E:H,4,FALSE),I88)+J88)","v":""},{"$f":"IF($B88=\"\",\"\",0+UPPER(Mainframe!E86))","v":""},{"$f":"IF(L88=\"\",\"\",IF(NOT(ISNA(VLOOKUP(L88,Answers!I:L,4,FALSE))),VLOOKUP(L88,Answers!I:L,4,FALSE),\"Help!\"))","v":""},null,{"$f":"IF(M88=\"\",\"\",K88+IF(M88=\"XX\",VLOOKUP(\"WRONG\",Answers!I:L,4,FALSE),M88)+N88)","v":""},{"$f":"IF($B88=\"\",\"\",0+UPPER(Mainframe!F86))","v":""},{"$f":"IF(P88=\"\",\"\",IF(NOT(ISNA(VLOOKUP(P88,Answers!M:P,4,FALSE))),VLOOKUP(P88,Answers!M:P,4,FALSE),\"Help!\"))","v":""},null,{"$f":"IF(Q88=\"\",\"\",O88+IF(Q88=\"XX\",VLOOKUP(\"WRONG\",Answers!M:P,4,FALSE),Q88)+R88)","v":""},{"$f":"IF($B88=\"\",\"\",0+UPPER(Mainframe!G86))","v":""},{"$f":"IF(T88=\"\",\"\",IF(NOT(ISNA(VLOOKUP(T88,Answers!Q:T,4,FALSE))),VLOOKUP(T88,Answers!Q:T,4,FALSE),\"Help!\"))","v":""},null,{"$f":"IF(U88=\"\",\"\",S88+IF(U88=\"XX\",VLOOKUP(\"WRONG\",Answers!Q:T,4,FALSE),U88)+V88)","v":""},{"$f":"IF($B88=\"\",\"\",0+UPPER(Mainframe!H86))","v":""},{"$f":"IF(X88=\"\",\"\",IF(NOT(ISNA(VLOOKUP(X88,Answers!U:X,4,FALSE))),VLOOKUP(X88,Answers!U:X,4,FALSE),\"Help!\"))","v":""},null,{"$f":"IF(Y88=\"\",\"\",W88+IF(Y88=\"XX\",VLOOKUP(\"WRONG\",Answers!U:X,4,FALSE),Y88)+Z88)","v":""},{"$f":"IF($B88=\"\",\"\",0+UPPER(Mainframe!I86))","v":""},{"$f":"IF(AB88=\"\",\"\",IF(NOT(ISNA(VLOOKUP(AB88,Answers!Y:AB,4,FALSE))),VLOOKUP(AB88,Answers!Y:AB,4,FALSE),\"Help!\"))","v":""},null,{"$f":"IF(AC88=\"\",\"\",AA88+IF(AC88=\"XX\",VLOOKUP(\"WRONG\",Answers!Y:AB,4,FALSE),AC88)+AD88)","v":""},{"$f":"IF($B88=\"\",\"\",0+UPPER(Mainframe!J86))","v":""},{"$f":"IF(AF88=\"\",\"\",IF(NOT(ISNA(VLOOKUP(AF88,Answers!AC:AF,4,FALSE))),VLOOKUP(AF88,Answers!AC:AF,4,FALSE),\"Help!\"))","v":""},null,{"$f":"IF(AG88=\"\",\"\",AE88+IF(AG88=\"XX\",VLOOKUP(\"WRONG\",Answers!AC:AF,4,FALSE),AG88)+AH88)","v":""},{"$f":"IF($B88=\"\",\"\",0+UPPER(Mainframe!K86))","v":""},{"$f":"IF(AJ88=\"\",\"\",IF(NOT(ISNA(VLOOKUP(AJ88,Answers!AG:AJ,4,FALSE))),VLOOKUP(AJ88,Answers!AG:AJ,4,FALSE),\"Help!\"))","v":""},null,{"$f":"IF(AK88=\"\",\"\",AI88+IF(AK88=\"XX\",VLOOKUP(\"WRONG\",Answers!AG:AJ,4,FALSE),AK88)+AL88)","v":""},{"$f":"IF($B88=\"\",\"\",0+UPPER(Mainframe!L86))","v":""},{"$f":"IF(AN88=\"\",\"\",IF(NOT(ISNA(VLOOKUP(AN88,Answers!AK:AN,4,FALSE))),VLOOKUP(AN88,Answers!AK:AN,4,FALSE),\"Help!\"))","v":""},null,{"$f":"IF(AO88=\"\",\"\",AM88+IF(AO88=\"XX\",VLOOKUP(\"WRONG\",Answers!AK:AN,4,FALSE),AO88)+AP88)","v":""},{"$f":"IF($B88=\"\",\"\",0+UPPER(Mainframe!M86))","v":""},{"$f":"IF(AR88=\"\",\"\",IF(NOT(ISNA(VLOOKUP(AR88,Answers!AO:AR,4,FALSE))),VLOOKUP(AR88,Answers!AO:AR,4,FALSE),\"Help!\"))","v":""},null,{"$f":"IF(AS88=\"\",\"\",AQ88+IF(AS88=\"XX\",VLOOKUP(\"WRONG\",Answers!AO:AR,4,FALSE),AS88)+AT88)","v":""},{"$f":"IF($B88=\"\",\"\",0+UPPER(Mainframe!N86))","v":""},{"$f":"IF(AV88=\"\",\"\",IF(NOT(ISNA(VLOOKUP(AV88,Answers!AS:AV,4,FALSE))),VLOOKUP(AV88,Answers!AS:AV,4,FALSE),\"Help!\"))","v":""},null,{"$f":"IF(AW88=\"\",\"\",AU88+IF(AW88=\"XX\",VLOOKUP(\"WRONG\",Answers!AS:AV,4,FALSE),AW88)+AX88)","v":""},{"$f":"IF($B88=\"\",\"\",0+UPPER(Mainframe!O86))","v":""},"","",{"$f":"IF($B88=\"\",\"\",LEFT(Mainframe!P86,SEARCH(\".\",Mainframe!P86)-1))","v":""},null,null,null,null,null,null,null,null,null,null,null,null,null,null,null,null,null,null,null,null,null,null,null,null,null,null,null,null,null,null,72,{"$f":"IF(INDEX($B:$CE,ROW(),QNO*4)=\"XX\",\"[b][u]\"&INDEX($B:$CE,ROW(),QNO*4-1)&\"[/u][/b]\",\"[color=#BF0040]\"&INDEX(OFFSET(Answers!C:C,0,(QNO-1)*4),MATCH(INDEX($A:$CB,ROW(),QNO*4),OFFSET(Answers!A:A,0,(QNO-1)*4),0))&\"[/color]//[b]\"&INDEX(OFFSET(Answers!B:B,0,(QNO-1)*4),MATCH(INDEX($A:$CB,ROW(),QNO*4),OFFSET(Answers!A:A,0,(QNO-1)*4),0))&\"[/b] — [b]\"&IF(INDEX($B:$CE,ROW(),QNO*4)=1,\"Singleton!\",CONCATENATE(INDEX($B:$CE,ROW(),QNO*4),\" responses\"))&\"[/b]\")","v":{"$error":"#N/A"}},{"$error":"#VALUE!"},"Yes","72.  — [b][/b] pts",73,1]
["[*]",{"$f":"IF(Mainframe!B87=\"\",\"\",INDEX(Mainframe!$B:$B,C89+1,1))","v":""},86,{"$f":"IF($B89=\"\",\"\",0+UPPER(Mainframe!C87))","v":""},{"$f":"IF(D89=\"\",\"\",IF(NOT(ISNA(VLOOKUP(D89,Answers!A:D,4,FALSE))),VLOOKUP(D89,Answers!A:D,4,FALSE),\"Help!\"))","v":""},null,{"$f":"IF(E89=\"\",\"\",IF(E89=\"XX\",VLOOKUP(\"WRONG\",Answers!A:D,4,FALSE),E89)+F89)","v":""},{"$f":"IF($B89=\"\",\"\",0+UPPER(Mainframe!D87))","v":""},{"$f":"IF(H89=\"\",\"\",IF(NOT(ISNA(VLOOKUP(H89,Answers!E:H,4,FALSE))),VLOOKUP(H89,Answers!E:H,4,FALSE),\"Help!\"))","v":""},null,{"$f":"IF(I89=\"\",\"\",G89+IF(I89=\"XX\",VLOOKUP(\"WRONG\",Answers!E:H,4,FALSE),I89)+J89)","v":""},{"$f":"IF($B89=\"\",\"\",0+UPPER(Mainframe!E87))","v":""},{"$f":"IF(L89=\"\",\"\",IF(NOT(ISNA(VLOOKUP(L89,Answers!I:L,4,FALSE))),VLOOKUP(L89,Answers!I:L,4,FALSE),\"Help!\"))","v":""},null,{"$f":"IF(M89=\"\",\"\",K89+IF(M89=\"XX\",VLOOKUP(\"WRONG\",Answers!I:L,4,FALSE),M89)+N89)","v":""},{"$f":"IF($B89=\"\",\"\",0+UPPER(Mainframe!F87))","v":""},{"$f":"IF(P89=\"\",\"\",IF(NOT(ISNA(VLOOKUP(P89,Answers!M:P,4,FALSE))),VLOOKUP(P89,Answers!M:P,4,FALSE),\"Help!\"))","v":""},null,{"$f":"IF(Q89=\"\",\"\",O89+IF(Q89=\"XX\",VLOOKUP(\"WRONG\",Answers!M:P,4,FALSE),Q89)+R89)","v":""},{"$f":"IF($B89=\"\",\"\",0+UPPER(Mainframe!G87))","v":""},{"$f":"IF(T89=\"\",\"\",IF(NOT(ISNA(VLOOKUP(T89,Answers!Q:T,4,FALSE))),VLOOKUP(T89,Answers!Q:T,4,FALSE),\"Help!\"))","v":""},null,{"$f":"IF(U89=\"\",\"\",S89+IF(U89=\"XX\",VLOOKUP(\"WRONG\",Answers!Q:T,4,FALSE),U89)+V89)","v":""},{"$f":"IF($B89=\"\",\"\",0+UPPER(Mainframe!H87))","v":""},{"$f":"IF(X89=\"\",\"\",IF(NOT(ISNA(VLOOKUP(X89,Answers!U:X,4,FALSE))),VLOOKUP(X89,Answers!U:X,4,FALSE),\"Help!\"))","v":""},null,{"$f":"IF(Y89=\"\",\"\",W89+IF(Y89=\"XX\",VLOOKUP(\"WRONG\",Answers!U:X,4,FALSE),Y89)+Z89)","v":""},{"$f":"IF($B89=\"\",\"\",0+UPPER(Mainframe!I87))","v":""},{"$f":"IF(AB89=\"\",\"\",IF(NOT(ISNA(VLOOKUP(AB89,Answers!Y:AB,4,FALSE))),VLOOKUP(AB89,Answers!Y:AB,4,FALSE),\"Help!\"))","v":""},null,{"$f":"IF(AC89=\"\",\"\",AA89+IF(AC89=\"XX\",VLOOKUP(\"WRONG\",Answers!Y:AB,4,FALSE),AC89)+AD89)","v":""},{"$f":"IF($B89=\"\",\"\",0+UPPER(Mainframe!J87))","v":""},{"$f":"IF(AF89=\"\",\"\",IF(NOT(ISNA(VLOOKUP(AF89,Answers!AC:AF,4,FALSE))),VLOOKUP(AF89,Answers!AC:AF,4,FALSE),\"Help!\"))","v":""},null,{"$f":"IF(AG89=\"\",\"\",AE89+IF(AG89=\"XX\",VLOOKUP(\"WRONG\",Answers!AC:AF,4,FALSE),AG89)+AH89)","v":""},{"$f":"IF($B89=\"\",\"\",0+UPPER(Mainframe!K87))","v":""},{"$f":"IF(AJ89=\"\",\"\",IF(NOT(ISNA(VLOOKUP(AJ89,Answers!AG:AJ,4,FALSE))),VLOOKUP(AJ89,Answers!AG:AJ,4,FALSE),\"Help!\"))","v":""},null,{"$f":"IF(AK89=\"\",\"\",AI89+IF(AK89=\"XX\",VLOOKUP(\"WRONG\",Answers!AG:AJ,4,FALSE),AK89)+AL89)","v":""},{"$f":"IF($B89=\"\",\"\",0+UPPER(Mainframe!L87))","v":""},{"$f":"IF(AN89=\"\",\"\",IF(NOT(ISNA(VLOOKUP(AN89,Answers!AK:AN,4,FALSE))),VLOOKUP(AN89,Answers!AK:AN,4,FALSE),\"Help!\"))","v":""},null,{"$f":"IF(AO89=\"\",\"\",AM89+IF(AO89=\"XX\",VLOOKUP(\"WRONG\",Answers!AK:AN,4,FALSE),AO89)+AP89)","v":""},{"$f":"IF($B89=\"\",\"\",0+UPPER(Mainframe!M87))","v":""},{"$f":"IF(AR89=\"\",\"\",IF(NOT(ISNA(VLOOKUP(AR89,Answers!AO:AR,4,FALSE))),VLOOKUP(AR89,Answers!AO:AR,4,FALSE),\"Help!\"))","v":""},null,{"$f":"IF(AS89=\"\",\"\",AQ89+IF(AS89=\"XX\",VLOOKUP(\"WRONG\",Answers!AO:AR,4,FALSE),AS89)+AT89)","v":""},{"$f":"IF($B89=\"\",\"\",0+UPPER(Mainframe!N87))","v":""},{"$f":"IF(AV89=\"\",\"\",IF(NOT(ISNA(VLOOKUP(AV89,Answers!AS:AV,4,FALSE))),VLOOKUP(AV89,Answers!AS:AV,4,FALSE),\"Help!\"))","v":""},null,{"$f":"IF(AW89=\"\",\"\",AU89+IF(AW89=\"XX\",VLOOKUP(\"WRONG\",Answers!AS:AV,4,FALSE),AW89)+AX89)","v":""},{"$f":"IF($B89=\"\",\"\",0+UPPER(Mainframe!O87))","v":""},"","",{"$f":"IF($B89=\"\",\"\",LEFT(Mainframe!P87,SEARCH(\".\",Mainframe!P87)-1))","v":""},null,null,null,null,null,null,null,null,null,null,null,null,null,null,null,null,null,null,null,null,null,null,null,null,null,null,null,null,null,null,72,{"$f":"IF(INDEX($B:$CE,ROW(),QNO*4)=\"XX\",\"[b][u]\"&INDEX($B:$CE,ROW(),QNO*4-1)&\"[/u][/b]\",\"[color=#BF0040]\"&INDEX(OFFSET(Answers!C:C,0,(QNO-1)*4),MATCH(INDEX($A:$CB,ROW(),QNO*4),OFFSET(Answers!A:A,0,(QNO-1)*4),0))&\"[/color]//[b]\"&INDEX(OFFSET(Answers!B:B,0,(QNO-1)*4),MATCH(INDEX($A:$CB,ROW(),QNO*4),OFFSET(Answers!A:A,0,(QNO-1)*4),0))&\"[/b] — [b]\"&IF(INDEX($B:$CE,ROW(),QNO*4)=1,\"Singleton!\",CONCATENATE(INDEX($B:$CE,ROW(),QNO*4),\" responses\"))&\"[/b]\")","v":{"$error":"#N/A"}},{"$error":"#VALUE!"},"Yes","72.  — [b][/b] pts",73,1]
["[*]",{"$f":"IF(Mainframe!B88=\"\",\"\",INDEX(Mainframe!$B:$B,C90+1,1))","v":""},87,{"$f":"IF($B90=\"\",\"\",0+UPPER(Mainframe!C88))","v":""},{"$f":"IF(D90=\"\",\"\",IF(NOT(ISNA(VLOOKUP(D90,Answers!A:D,4,FALSE))),VLOOKUP(D90,Answers!A:D,4,FALSE),\"Help!\"))","v":""},null,{"$f":"IF(E90=\"\",\"\",IF(E90=\"XX\",VLOOKUP(\"WRONG\",Answers!A:D,4,FALSE),E90)+F90)","v":""},{"$f":"IF($B90=\"\",\"\",0+UPPER(Mainframe!D88))","v":""},{"$f":"IF(H90=\"\",\"\",IF(NOT(ISNA(VLOOKUP(H90,Answers!E:H,4,FALSE))),VLOOKUP(H90,Answers!E:H,4,FALSE),\"Help!\"))","v":""},null,{"$f":"IF(I90=\"\",\"\",G90+IF(I90=\"XX\",VLOOKUP(\"WRONG\",Answers!E:H,4,FALSE),I90)+J90)","v":""},{"$f":"IF($B90=\"\",\"\",0+UPPER(Mainframe!E88))","v":""},{"$f":"IF(L90=\"\",\"\",IF(NOT(ISNA(VLOOKUP(L90,Answers!I:L,4,FALSE))),VLOOKUP(L90,Answers!I:L,4,FALSE),\"Help!\"))","v":""},null,{"$f":"IF(M90=\"\",\"\",K90+IF(M90=\"XX\",VLOOKUP(\"WRONG\",Answers!I:L,4,FALSE),M90)+N90)","v":""},{"$f":"IF($B90=\"\",\"\",0+UPPER(Mainframe!F88))","v":""},{"$f":"IF(P90=\"\",\"\",IF(NOT(ISNA(VLOOKUP(P90,Answers!M:P,4,FALSE))),VLOOKUP(P90,Answers!M:P,4,FALSE),\"Help!\"))","v":""},null,{"$f":"IF(Q90=\"\",\"\",O90+IF(Q90=\"XX\",VLOOKUP(\"WRONG\",Answers!M:P,4,FALSE),Q90)+R90)","v":""},{"$f":"IF($B90=\"\",\"\",0+UPPER(Mainframe!G88))","v":""},{"$f":"IF(T90=\"\",\"\",IF(NOT(ISNA(VLOOKUP(T90,Answers!Q:T,4,FALSE))),VLOOKUP(T90,Answers!Q:T,4,FALSE),\"Help!\"))","v":""},null,{"$f":"IF(U90=\"\",\"\",S90+IF(U90=\"XX\",VLOOKUP(\"WRONG\",Answers!Q:T,4,FALSE),U90)+V90)","v":""},{"$f":"IF($B90=\"\",\"\",0+UPPER(Mainframe!H88))","v":""},{"$f":"IF(X90=\"\",\"\",IF(NOT(ISNA(VLOOKUP(X90,Answers!U:X,4,FALSE))),VLOOKUP(X90,Answers!U:X,4,FALSE),\"Help!\"))","v":""},null,{"$f":"IF(Y90=\"\",\"\",W90+IF(Y90=\"XX\",VLOOKUP(\"WRONG\",Answers!U:X,4,FALSE),Y90)+Z90)","v":""},{"$f":"IF($B90=\"\",\"\",0+UPPER(Mainframe!I88))","v":""},{"$f":"IF(AB90=\"\",\"\",IF(NOT(ISNA(VLOOKUP(AB90,Answers!Y:AB,4,FALSE))),VLOOKUP(AB90,Answers!Y:AB,4,FALSE),\"Help!\"))","v":""},null,{"$f":"IF(AC90=\"\",\"\",AA90+IF(AC90=\"XX\",VLOOKUP(\"WRONG\",Answers!Y:AB,4,FALSE),AC90)+AD90)","v":""},{"$f":"IF($B90=\"\",\"\",0+UPPER(Mainframe!J88))","v":""},{"$f":"IF(AF90=\"\",\"\",IF(NOT(ISNA(VLOOKUP(AF90,Answers!AC:AF,4,FALSE))),VLOOKUP(AF90,Answers!AC:AF,4,FALSE),\"Help!\"))","v":""},null,{"$f":"IF(AG90=\"\",\"\",AE90+IF(AG90=\"XX\",VLOOKUP(\"WRONG\",Answers!AC:AF,4,FALSE),AG90)+AH90)","v":""},{"$f":"IF($B90=\"\",\"\",0+UPPER(Mainframe!K88))","v":""},{"$f":"IF(AJ90=\"\",\"\",IF(NOT(ISNA(VLOOKUP(AJ90,Answers!AG:AJ,4,FALSE))),VLOOKUP(AJ90,Answers!AG:AJ,4,FALSE),\"Help!\"))","v":""},null,{"$f":"IF(AK90=\"\",\"\",AI90+IF(AK90=\"XX\",VLOOKUP(\"WRONG\",Answers!AG:AJ,4,FALSE),AK90)+AL90)","v":""},{"$f":"IF($B90=\"\",\"\",0+UPPER(Mainframe!L88))","v":""},{"$f":"IF(AN90=\"\",\"\",IF(NOT(ISNA(VLOOKUP(AN90,Answers!AK:AN,4,FALSE))),VLOOKUP(AN90,Answers!AK:AN,4,FALSE),\"Help!\"))","v":""},null,{"$f":"IF(AO90=\"\",\"\",AM90+IF(AO90=\"XX\",VLOOKUP(\"WRONG\",Answers!AK:AN,4,FALSE),AO90)+AP90)","v":""},{"$f":"IF($B90=\"\",\"\",0+UPPER(Mainframe!M88))","v":""},{"$f":"IF(AR90=\"\",\"\",IF(NOT(ISNA(VLOOKUP(AR90,Answers!AO:AR,4,FALSE))),VLOOKUP(AR90,Answers!AO:AR,4,FALSE),\"Help!\"))","v":""},null,{"$f":"IF(AS90=\"\",\"\",AQ90+IF(AS90=\"XX\",VLOOKUP(\"WRONG\",Answers!AO:AR,4,FALSE),AS90)+AT90)","v":""},{"$f":"IF($B90=\"\",\"\",0+UPPER(Mainframe!N88))","v":""},{"$f":"IF(AV90=\"\",\"\",IF(NOT(ISNA(VLOOKUP(AV90,Answers!AS:AV,4,FALSE))),VLOOKUP(AV90,Answers!AS:AV,4,FALSE),\"Help!\"))","v":""},null,{"$f":"IF(AW90=\"\",\"\",AU90+IF(AW90=\"XX\",VLOOKUP(\"WRONG\",Answers!AS:AV,4,FALSE),AW90)+AX90)","v":""},{"$f":"IF($B90=\"\",\"\",0+UPPER(Mainframe!O88))","v":""},"","",{"$f":"IF($B90=\"\",\"\",LEFT(Mainframe!P88,SEARCH(\".\",Mainframe!P88)-1))","v":""},null,null,null,null,null,null,null,null,null,null,null,null,null,null,null,null,null,null,null,null,null,null,null,null,null,null,null,null,null,null,72,{"$f":"IF(INDEX($B:$CE,ROW(),QNO*4)=\"XX\",\"[b][u]\"&INDEX($B:$CE,ROW(),QNO*4-1)&\"[/u][/b]\",\"[color=#BF0040]\"&INDEX(OFFSET(Answers!C:C,0,(QNO-1)*4),MATCH(INDEX($A:$CB,ROW(),QNO*4),OFFSET(Answers!A:A,0,(QNO-1)*4),0))&\"[/color]//[b]\"&INDEX(OFFSET(Answers!B:B,0,(QNO-1)*4),MATCH(INDEX($A:$CB,ROW(),QNO*4),OFFSET(Answers!A:A,0,(QNO-1)*4),0))&\"[/b] — [b]\"&IF(INDEX($B:$CE,ROW(),QNO*4)=1,\"Singleton!\",CONCATENATE(INDEX($B:$CE,ROW(),QNO*4),\" responses\"))&\"[/b]\")","v":{"$error":"#N/A"}},{"$error":"#VALUE!"},"Yes","72.  — [b][/b] pts",73,1]
["[*]",{"$f":"IF(Mainframe!B89=\"\",\"\",INDEX(Mainframe!$B:$B,C91+1,1))","v":""},88,{"$f":"IF($B91=\"\",\"\",0+UPPER(Mainframe!C89))","v":""},{"$f":"IF(D91=\"\",\"\",IF(NOT(ISNA(VLOOKUP(D91,Answers!A:D,4,FALSE))),VLOOKUP(D91,Answers!A:D,4,FALSE),\"Help!\"))","v":""},null,{"$f":"IF(E91=\"\",\"\",IF(E91=\"XX\",VLOOKUP(\"WRONG\",Answers!A:D,4,FALSE),E91)+F91)","v":""},{"$f":"IF($B91=\"\",\"\",0+UPPER(Mainframe!D89))","v":""},{"$f":"IF(H91=\"\",\"\",IF(NOT(ISNA(VLOOKUP(H91,Answers!E:H,4,FALSE))),VLOOKUP(H91,Answers!E:H,4,FALSE),\"Help!\"))","v":""},null,{"$f":"IF(I91=\"\",\"\",G91+IF(I91=\"XX\",VLOOKUP(\"WRONG\",Answers!E:H,4,FALSE),I91)+J91)","v":""},{"$f":"IF($B91=\"\",\"\",0+UPPER(Mainframe!E89))","v":""},{"$f":"IF(L91=\"\",\"\",IF(NOT(ISNA(VLOOKUP(L91,Answers!I:L,4,FALSE))),VLOOKUP(L91,Answers!I:L,4,FALSE),\"Help!\"))","v":""},null,{"$f":"IF(M91=\"\",\"\",K91+IF(M91=\"XX\",VLOOKUP(\"WRONG\",Answers!I:L,4,FALSE),M91)+N91)","v":""},{"$f":"IF($B91=\"\",\"\",0+UPPER(Mainframe!F89))","v":""},{"$f":"IF(P91=\"\",\"\",IF(NOT(ISNA(VLOOKUP(P91,Answers!M:P,4,FALSE))),VLOOKUP(P91,Answers!M:P,4,FALSE),\"Help!\"))","v":""},null,{"$f":"IF(Q91=\"\",\"\",O91+IF(Q91=\"XX\",VLOOKUP(\"WRONG\",Answers!M:P,4,FALSE),Q91)+R91)","v":""},{"$f":"IF($B91=\"\",\"\",0+UPPER(Mainframe!G89))","v":""},{"$f":"IF(T91=\"\",\"\",IF(NOT(ISNA(VLOOKUP(T91,Answers!Q:T,4,FALSE))),VLOOKUP(T91,Answers!Q:T,4,FALSE),\"Help!\"))","v":""},null,{"$f":"IF(U91=\"\",\"\",S91+IF(U91=\"XX\",VLOOKUP(\"WRONG\",Answers!Q:T,4,FALSE),U91)+V91)","v":""},{"$f":"IF($B91=\"\",\"\",0+UPPER(Mainframe!H89))","v":""},{"$f":"IF(X91=\"\",\"\",IF(NOT(ISNA(VLOOKUP(X91,Answers!U:X,4,FALSE))),VLOOKUP(X91,Answers!U:X,4,FALSE),\"Help!\"))","v":""},null,{"$f":"IF(Y91=\"\",\"\",W91+IF(Y91=\"XX\",VLOOKUP(\"WRONG\",Answers!U:X,4,FALSE),Y91)+Z91)","v":""},{"$f":"IF($B91=\"\",\"\",0+UPPER(Mainframe!I89))","v":""},{"$f":"IF(AB91=\"\",\"\",IF(NOT(ISNA(VLOOKUP(AB91,Answers!Y:AB,4,FALSE))),VLOOKUP(AB91,Answers!Y:AB,4,FALSE),\"Help!\"))","v":""},null,{"$f":"IF(AC91=\"\",\"\",AA91+IF(AC91=\"XX\",VLOOKUP(\"WRONG\",Answers!Y:AB,4,FALSE),AC91)+AD91)","v":""},{"$f":"IF($B91=\"\",\"\",0+UPPER(Mainframe!J89))","v":""},{"$f":"IF(AF91=\"\",\"\",IF(NOT(ISNA(VLOOKUP(AF91,Answers!AC:AF,4,FALSE))),VLOOKUP(AF91,Answers!AC:AF,4,FALSE),\"Help!\"))","v":""},null,{"$f":"IF(AG91=\"\",\"\",AE91+IF(AG91=\"XX\",VLOOKUP(\"WRONG\",Answers!AC:AF,4,FALSE),AG91)+AH91)","v":""},{"$f":"IF($B91=\"\",\"\",0+UPPER(Mainframe!K89))","v":""},{"$f":"IF(AJ91=\"\",\"\",IF(NOT(ISNA(VLOOKUP(AJ91,Answers!AG:AJ,4,FALSE))),VLOOKUP(AJ91,Answers!AG:AJ,4,FALSE),\"Help!\"))","v":""},null,{"$f":"IF(AK91=\"\",\"\",AI91+IF(AK91=\"XX\",VLOOKUP(\"WRONG\",Answers!AG:AJ,4,FALSE),AK91)+AL91)","v":""},{"$f":"IF($B91=\"\",\"\",0+UPPER(Mainframe!L89))","v":""},{"$f":"IF(AN91=\"\",\"\",IF(NOT(ISNA(VLOOKUP(AN91,Answers!AK:AN,4,FALSE))),VLOOKUP(AN91,Answers!AK:AN,4,FALSE),\"Help!\"))","v":""},null,{"$f":"IF(AO91=\"\",\"\",AM91+IF(AO91=\"XX\",VLOOKUP(\"WRONG\",Answers!AK:AN,4,FALSE),AO91)+AP91)","v":""},{"$f":"IF($B91=\"\",\"\",0+UPPER(Mainframe!M89))","v":""},{"$f":"IF(AR91=\"\",\"\",IF(NOT(ISNA(VLOOKUP(AR91,Answers!AO:AR,4,FALSE))),VLOOKUP(AR91,Answers!AO:AR,4,FALSE),\"Help!\"))","v":""},null,{"$f":"IF(AS91=\"\",\"\",AQ91+IF(AS91=\"XX\",VLOOKUP(\"WRONG\",Answers!AO:AR,4,FALSE),AS91)+AT91)","v":""},{"$f":"IF($B91=\"\",\"\",0+UPPER(Mainframe!N89))","v":""},{"$f":"IF(AV91=\"\",\"\",IF(NOT(ISNA(VLOOKUP(AV91,Answers!AS:AV,4,FALSE))),VLOOKUP(AV91,Answers!AS:AV,4,FALSE),\"Help!\"))","v":""},null,{"$f":"IF(AW91=\"\",\"\",AU91+IF(AW91=\"XX\",VLOOKUP(\"WRONG\",Answers!AS:AV,4,FALSE),AW91)+AX91)","v":""},{"$f":"IF($B91=\"\",\"\",0+UPPER(Mainframe!O89))","v":""},"","",{"$f":"IF($B91=\"\",\"\",LEFT(Mainframe!P89,SEARCH(\".\",Mainframe!P89)-1))","v":""},null,null,null,null,null,null,null,null,null,null,null,null,null,null,null,null,null,null,null,null,null,null,null,null,null,null,null,null,null,null,72,{"$f":"IF(INDEX($B:$CE,ROW(),QNO*4)=\"XX\",\"[b][u]\"&INDEX($B:$CE,ROW(),QNO*4-1)&\"[/u][/b]\",\"[color=#BF0040]\"&INDEX(OFFSET(Answers!C:C,0,(QNO-1)*4),MATCH(INDEX($A:$CB,ROW(),QNO*4),OFFSET(Answers!A:A,0,(QNO-1)*4),0))&\"[/color]//[b]\"&INDEX(OFFSET(Answers!B:B,0,(QNO-1)*4),MATCH(INDEX($A:$CB,ROW(),QNO*4),OFFSET(Answers!A:A,0,(QNO-1)*4),0))&\"[/b] — [b]\"&IF(INDEX($B:$CE,ROW(),QNO*4)=1,\"Singleton!\",CONCATENATE(INDEX($B:$CE,ROW(),QNO*4),\" responses\"))&\"[/b]\")","v":{"$error":"#N/A"}},{"$error":"#VALUE!"},"Yes","72.  — [b][/b] pts",73,1]
["[*]",{"$f":"IF(Mainframe!B90=\"\",\"\",INDEX(Mainframe!$B:$B,C92+1,1))","v":""},89,{"$f":"IF($B92=\"\",\"\",0+UPPER(Mainframe!C90))","v":""},{"$f":"IF(D92=\"\",\"\",IF(NOT(ISNA(VLOOKUP(D92,Answers!A:D,4,FALSE))),VLOOKUP(D92,Answers!A:D,4,FALSE),\"Help!\"))","v":""},null,{"$f":"IF(E92=\"\",\"\",IF(E92=\"XX\",VLOOKUP(\"WRONG\",Answers!A:D,4,FALSE),E92)+F92)","v":""},{"$f":"IF($B92=\"\",\"\",0+UPPER(Mainframe!D90))","v":""},{"$f":"IF(H92=\"\",\"\",IF(NOT(ISNA(VLOOKUP(H92,Answers!E:H,4,FALSE))),VLOOKUP(H92,Answers!E:H,4,FALSE),\"Help!\"))","v":""},null,{"$f":"IF(I92=\"\",\"\",G92+IF(I92=\"XX\",VLOOKUP(\"WRONG\",Answers!E:H,4,FALSE),I92)+J92)","v":""},{"$f":"IF($B92=\"\",\"\",0+UPPER(Mainframe!E90))","v":""},{"$f":"IF(L92=\"\",\"\",IF(NOT(ISNA(VLOOKUP(L92,Answers!I:L,4,FALSE))),VLOOKUP(L92,Answers!I:L,4,FALSE),\"Help!\"))","v":""},null,{"$f":"IF(M92=\"\",\"\",K92+IF(M92=\"XX\",VLOOKUP(\"WRONG\",Answers!I:L,4,FALSE),M92)+N92)","v":""},{"$f":"IF($B92=\"\",\"\",0+UPPER(Mainframe!F90))","v":""},{"$f":"IF(P92=\"\",\"\",IF(NOT(ISNA(VLOOKUP(P92,Answers!M:P,4,FALSE))),VLOOKUP(P92,Answers!M:P,4,FALSE),\"Help!\"))","v":""},null,{"$f":"IF(Q92=\"\",\"\",O92+IF(Q92=\"XX\",VLOOKUP(\"WRONG\",Answers!M:P,4,FALSE),Q92)+R92)","v":""},{"$f":"IF($B92=\"\",\"\",0+UPPER(Mainframe!G90))","v":""},{"$f":"IF(T92=\"\",\"\",IF(NOT(ISNA(VLOOKUP(T92,Answers!Q:T,4,FALSE))),VLOOKUP(T92,Answers!Q:T,4,FALSE),\"Help!\"))","v":""},null,{"$f":"IF(U92=\"\",\"\",S92+IF(U92=\"XX\",VLOOKUP(\"WRONG\",Answers!Q:T,4,FALSE),U92)+V92)","v":""},{"$f":"IF($B92=\"\",\"\",0+UPPER(Mainframe!H90))","v":""},{"$f":"IF(X92=\"\",\"\",IF(NOT(ISNA(VLOOKUP(X92,Answers!U:X,4,FALSE))),VLOOKUP(X92,Answers!U:X,4,FALSE),\"Help!\"))","v":""},null,{"$f":"IF(Y92=\"\",\"\",W92+IF(Y92=\"XX\",VLOOKUP(\"WRONG\",Answers!U:X,4,FALSE),Y92)+Z92)","v":""},{"$f":"IF($B92=\"\",\"\",0+UPPER(Mainframe!I90))","v":""},{"$f":"IF(AB92=\"\",\"\",IF(NOT(ISNA(VLOOKUP(AB92,Answers!Y:AB,4,FALSE))),VLOOKUP(AB92,Answers!Y:AB,4,FALSE),\"Help!\"))","v":""},null,{"$f":"IF(AC92=\"\",\"\",AA92+IF(AC92=\"XX\",VLOOKUP(\"WRONG\",Answers!Y:AB,4,FALSE),AC92)+AD92)","v":""},{"$f":"IF($B92=\"\",\"\",0+UPPER(Mainframe!J90))","v":""},{"$f":"IF(AF92=\"\",\"\",IF(NOT(ISNA(VLOOKUP(AF92,Answers!AC:AF,4,FALSE))),VLOOKUP(AF92,Answers!AC:AF,4,FALSE),\"Help!\"))","v":""},null,{"$f":"IF(AG92=\"\",\"\",AE92+IF(AG92=\"XX\",VLOOKUP(\"WRONG\",Answers!AC:AF,4,FALSE),AG92)+AH92)","v":""},{"$f":"IF($B92=\"\",\"\",0+UPPER(Mainframe!K90))","v":""},{"$f":"IF(AJ92=\"\",\"\",IF(NOT(ISNA(VLOOKUP(AJ92,Answers!AG:AJ,4,FALSE))),VLOOKUP(AJ92,Answers!AG:AJ,4,FALSE),\"Help!\"))","v":""},null,{"$f":"IF(AK92=\"\",\"\",AI92+IF(AK92=\"XX\",VLOOKUP(\"WRONG\",Answers!AG:AJ,4,FALSE),AK92)+AL92)","v":""},{"$f":"IF($B92=\"\",\"\",0+UPPER(Mainframe!L90))","v":""},{"$f":"IF(AN92=\"\",\"\",IF(NOT(ISNA(VLOOKUP(AN92,Answers!AK:AN,4,FALSE))),VLOOKUP(AN92,Answers!AK:AN,4,FALSE),\"Help!\"))","v":""},null,{"$f":"IF(AO92=\"\",\"\",AM92+IF(AO92=\"XX\",VLOOKUP(\"WRONG\",Answers!AK:AN,4,FALSE),AO92)+AP92)","v":""},{"$f":"IF($B92=\"\",\"\",0+UPPER(Mainframe!M90))","v":""},{"$f":"IF(AR92=\"\",\"\",IF(NOT(ISNA(VLOOKUP(AR92,Answers!AO:AR,4,FALSE))),VLOOKUP(AR92,Answers!AO:AR,4,FALSE),\"Help!\"))","v":""},null,{"$f":"IF(AS92=\"\",\"\",AQ92+IF(AS92=\"XX\",VLOOKUP(\"WRONG\",Answers!AO:AR,4,FALSE),AS92)+AT92)","v":""},{"$f":"IF($B92=\"\",\"\",0+UPPER(Mainframe!N90))","v":""},{"$f":"IF(AV92=\"\",\"\",IF(NOT(ISNA(VLOOKUP(AV92,Answers!AS:AV,4,FALSE))),VLOOKUP(AV92,Answers!AS:AV,4,FALSE),\"Help!\"))","v":""},null,{"$f":"IF(AW92=\"\",\"\",AU92+IF(AW92=\"XX\",VLOOKUP(\"WRONG\",Answers!AS:AV,4,FALSE),AW92)+AX92)","v":""},{"$f":"IF($B92=\"\",\"\",0+UPPER(Mainframe!O90))","v":""},"","",{"$f":"IF($B92=\"\",\"\",LEFT(Mainframe!P90,SEARCH(\".\",Mainframe!P90)-1))","v":""},null,null,null,null,null,null,null,null,null,null,null,null,null,null,null,null,null,null,null,null,null,null,null,null,null,null,null,null,null,null,72,{"$f":"IF(INDEX($B:$CE,ROW(),QNO*4)=\"XX\",\"[b][u]\"&INDEX($B:$CE,ROW(),QNO*4-1)&\"[/u][/b]\",\"[color=#BF0040]\"&INDEX(OFFSET(Answers!C:C,0,(QNO-1)*4),MATCH(INDEX($A:$CB,ROW(),QNO*4),OFFSET(Answers!A:A,0,(QNO-1)*4),0))&\"[/color]//[b]\"&INDEX(OFFSET(Answers!B:B,0,(QNO-1)*4),MATCH(INDEX($A:$CB,ROW(),QNO*4),OFFSET(Answers!A:A,0,(QNO-1)*4),0))&\"[/b] — [b]\"&IF(INDEX($B:$CE,ROW(),QNO*4)=1,\"Singleton!\",CONCATENATE(INDEX($B:$CE,ROW(),QNO*4),\" responses\"))&\"[/b]\")","v":{"$error":"#N/A"}},{"$error":"#VALUE!"},"Yes","72.  — [b][/b] pts",73,1]
["[*]",{"$f":"IF(Mainframe!B91=\"\",\"\",INDEX(Mainframe!$B:$B,C93+1,1))","v":""},90,{"$f":"IF($B93=\"\",\"\",0+UPPER(Mainframe!C91))","v":""},{"$f":"IF(D93=\"\",\"\",IF(NOT(ISNA(VLOOKUP(D93,Answers!A:D,4,FALSE))),VLOOKUP(D93,Answers!A:D,4,FALSE),\"Help!\"))","v":""},null,{"$f":"IF(E93=\"\",\"\",IF(E93=\"XX\",VLOOKUP(\"WRONG\",Answers!A:D,4,FALSE),E93)+F93)","v":""},{"$f":"IF($B93=\"\",\"\",0+UPPER(Mainframe!D91))","v":""},{"$f":"IF(H93=\"\",\"\",IF(NOT(ISNA(VLOOKUP(H93,Answers!E:H,4,FALSE))),VLOOKUP(H93,Answers!E:H,4,FALSE),\"Help!\"))","v":""},null,{"$f":"IF(I93=\"\",\"\",G93+IF(I93=\"XX\",VLOOKUP(\"WRONG\",Answers!E:H,4,FALSE),I93)+J93)","v":""},{"$f":"IF($B93=\"\",\"\",0+UPPER(Mainframe!E91))","v":""},{"$f":"IF(L93=\"\",\"\",IF(NOT(ISNA(VLOOKUP(L93,Answers!I:L,4,FALSE))),VLOOKUP(L93,Answers!I:L,4,FALSE),\"Help!\"))","v":""},null,{"$f":"IF(M93=\"\",\"\",K93+IF(M93=\"XX\",VLOOKUP(\"WRONG\",Answers!I:L,4,FALSE),M93)+N93)","v":""},{"$f":"IF($B93=\"\",\"\",0+UPPER(Mainframe!F91))","v":""},{"$f":"IF(P93=\"\",\"\",IF(NOT(ISNA(VLOOKUP(P93,Answers!M:P,4,FALSE))),VLOOKUP(P93,Answers!M:P,4,FALSE),\"Help!\"))","v":""},null,{"$f":"IF(Q93=\"\",\"\",O93+IF(Q93=\"XX\",VLOOKUP(\"WRONG\",Answers!M:P,4,FALSE),Q93)+R93)","v":""},{"$f":"IF($B93=\"\",\"\",0+UPPER(Mainframe!G91))","v":""},{"$f":"IF(T93=\"\",\"\",IF(NOT(ISNA(VLOOKUP(T93,Answers!Q:T,4,FALSE))),VLOOKUP(T93,Answers!Q:T,4,FALSE),\"Help!\"))","v":""},null,{"$f":"IF(U93=\"\",\"\",S93+IF(U93=\"XX\",VLOOKUP(\"WRONG\",Answers!Q:T,4,FALSE),U93)+V93)","v":""},{"$f":"IF($B93=\"\",\"\",0+UPPER(Mainframe!H91))","v":""},{"$f":"IF(X93=\"\",\"\",IF(NOT(ISNA(VLOOKUP(X93,Answers!U:X,4,FALSE))),VLOOKUP(X93,Answers!U:X,4,FALSE),\"Help!\"))","v":""},null,{"$f":"IF(Y93=\"\",\"\",W93+IF(Y93=\"XX\",VLOOKUP(\"WRONG\",Answers!U:X,4,FALSE),Y93)+Z93)","v":""},{"$f":"IF($B93=\"\",\"\",0+UPPER(Mainframe!I91))","v":""},{"$f":"IF(AB93=\"\",\"\",IF(NOT(ISNA(VLOOKUP(AB93,Answers!Y:AB,4,FALSE))),VLOOKUP(AB93,Answers!Y:AB,4,FALSE),\"Help!\"))","v":""},null,{"$f":"IF(AC93=\"\",\"\",AA93+IF(AC93=\"XX\",VLOOKUP(\"WRONG\",Answers!Y:AB,4,FALSE),AC93)+AD93)","v":""},{"$f":"IF($B93=\"\",\"\",0+UPPER(Mainframe!J91))","v":""},{"$f":"IF(AF93=\"\",\"\",IF(NOT(ISNA(VLOOKUP(AF93,Answers!AC:AF,4,FALSE))),VLOOKUP(AF93,Answers!AC:AF,4,FALSE),\"Help!\"))","v":""},null,{"$f":"IF(AG93=\"\",\"\",AE93+IF(AG93=\"XX\",VLOOKUP(\"WRONG\",Answers!AC:AF,4,FALSE),AG93)+AH93)","v":""},{"$f":"IF($B93=\"\",\"\",0+UPPER(Mainframe!K91))","v":""},{"$f":"IF(AJ93=\"\",\"\",IF(NOT(ISNA(VLOOKUP(AJ93,Answers!AG:AJ,4,FALSE))),VLOOKUP(AJ93,Answers!AG:AJ,4,FALSE),\"Help!\"))","v":""},null,{"$f":"IF(AK93=\"\",\"\",AI93+IF(AK93=\"XX\",VLOOKUP(\"WRONG\",Answers!AG:AJ,4,FALSE),AK93)+AL93)","v":""},{"$f":"IF($B93=\"\",\"\",0+UPPER(Mainframe!L91))","v":""},{"$f":"IF(AN93=\"\",\"\",IF(NOT(ISNA(VLOOKUP(AN93,Answers!AK:AN,4,FALSE))),VLOOKUP(AN93,Answers!AK:AN,4,FALSE),\"Help!\"))","v":""},null,{"$f":"IF(AO93=\"\",\"\",AM93+IF(AO93=\"XX\",VLOOKUP(\"WRONG\",Answers!AK:AN,4,FALSE),AO93)+AP93)","v":""},{"$f":"IF($B93=\"\",\"\",0+UPPER(Mainframe!M91))","v":""},{"$f":"IF(AR93=\"\",\"\",IF(NOT(ISNA(VLOOKUP(AR93,Answers!AO:AR,4,FALSE))),VLOOKUP(AR93,Answers!AO:AR,4,FALSE),\"Help!\"))","v":""},null,{"$f":"IF(AS93=\"\",\"\",AQ93+IF(AS93=\"XX\",VLOOKUP(\"WRONG\",Answers!AO:AR,4,FALSE),AS93)+AT93)","v":""},{"$f":"IF($B93=\"\",\"\",0+UPPER(Mainframe!N91))","v":""},{"$f":"IF(AV93=\"\",\"\",IF(NOT(ISNA(VLOOKUP(AV93,Answers!AS:AV,4,FALSE))),VLOOKUP(AV93,Answers!AS:AV,4,FALSE),\"Help!\"))","v":""},null,{"$f":"IF(AW93=\"\",\"\",AU93+IF(AW93=\"XX\",VLOOKUP(\"WRONG\",Answers!AS:AV,4,FALSE),AW93)+AX93)","v":""},{"$f":"IF($B93=\"\",\"\",0+UPPER(Mainframe!O91))","v":""},"","",{"$f":"IF($B93=\"\",\"\",LEFT(Mainframe!P91,SEARCH(\".\",Mainframe!P91)-1))","v":""},null,null,null,null,null,null,null,null,null,null,null,null,null,null,null,null,null,null,null,null,null,null,null,null,null,null,null,null,null,null,72,{"$f":"IF(INDEX($B:$CE,ROW(),QNO*4)=\"XX\",\"[b][u]\"&INDEX($B:$CE,ROW(),QNO*4-1)&\"[/u][/b]\",\"[color=#BF0040]\"&INDEX(OFFSET(Answers!C:C,0,(QNO-1)*4),MATCH(INDEX($A:$CB,ROW(),QNO*4),OFFSET(Answers!A:A,0,(QNO-1)*4),0))&\"[/color]//[b]\"&INDEX(OFFSET(Answers!B:B,0,(QNO-1)*4),MATCH(INDEX($A:$CB,ROW(),QNO*4),OFFSET(Answers!A:A,0,(QNO-1)*4),0))&\"[/b] — [b]\"&IF(INDEX($B:$CE,ROW(),QNO*4)=1,\"Singleton!\",CONCATENATE(INDEX($B:$CE,ROW(),QNO*4),\" responses\"))&\"[/b]\")","v":{"$error":"#N/A"}},{"$error":"#VALUE!"},"Yes","72.  — [b][/b] pts",73,1]
["[*]",{"$f":"IF(Mainframe!B92=\"\",\"\",INDEX(Mainframe!$B:$B,C94+1,1))","v":""},91,{"$f":"IF($B94=\"\",\"\",0+UPPER(Mainframe!C92))","v":""},{"$f":"IF(D94=\"\",\"\",IF(NOT(ISNA(VLOOKUP(D94,Answers!A:D,4,FALSE))),VLOOKUP(D94,Answers!A:D,4,FALSE),\"Help!\"))","v":""},null,{"$f":"IF(E94=\"\",\"\",IF(E94=\"XX\",VLOOKUP(\"WRONG\",Answers!A:D,4,FALSE),E94)+F94)","v":""},{"$f":"IF($B94=\"\",\"\",0+UPPER(Mainframe!D92))","v":""},{"$f":"IF(H94=\"\",\"\",IF(NOT(ISNA(VLOOKUP(H94,Answers!E:H,4,FALSE))),VLOOKUP(H94,Answers!E:H,4,FALSE),\"Help!\"))","v":""},null,{"$f":"IF(I94=\"\",\"\",G94+IF(I94=\"XX\",VLOOKUP(\"WRONG\",Answers!E:H,4,FALSE),I94)+J94)","v":""},{"$f":"IF($B94=\"\",\"\",0+UPPER(Mainframe!E92))","v":""},{"$f":"IF(L94=\"\",\"\",IF(NOT(ISNA(VLOOKUP(L94,Answers!I:L,4,FALSE))),VLOOKUP(L94,Answers!I:L,4,FALSE),\"Help!\"))","v":""},null,{"$f":"IF(M94=\"\",\"\",K94+IF(M94=\"XX\",VLOOKUP(\"WRONG\",Answers!I:L,4,FALSE),M94)+N94)","v":""},{"$f":"IF($B94=\"\",\"\",0+UPPER(Mainframe!F92))","v":""},{"$f":"IF(P94=\"\",\"\",IF(NOT(ISNA(VLOOKUP(P94,Answers!M:P,4,FALSE))),VLOOKUP(P94,Answers!M:P,4,FALSE),\"Help!\"))","v":""},null,{"$f":"IF(Q94=\"\",\"\",O94+IF(Q94=\"XX\",VLOOKUP(\"WRONG\",Answers!M:P,4,FALSE),Q94)+R94)","v":""},{"$f":"IF($B94=\"\",\"\",0+UPPER(Mainframe!G92))","v":""},{"$f":"IF(T94=\"\",\"\",IF(NOT(ISNA(VLOOKUP(T94,Answers!Q:T,4,FALSE))),VLOOKUP(T94,Answers!Q:T,4,FALSE),\"Help!\"))","v":""},null,{"$f":"IF(U94=\"\",\"\",S94+IF(U94=\"XX\",VLOOKUP(\"WRONG\",Answers!Q:T,4,FALSE),U94)+V94)","v":""},{"$f":"IF($B94=\"\",\"\",0+UPPER(Mainframe!H92))","v":""},{"$f":"IF(X94=\"\",\"\",IF(NOT(ISNA(VLOOKUP(X94,Answers!U:X,4,FALSE))),VLOOKUP(X94,Answers!U:X,4,FALSE),\"Help!\"))","v":""},null,{"$f":"IF(Y94=\"\",\"\",W94+IF(Y94=\"XX\",VLOOKUP(\"WRONG\",Answers!U:X,4,FALSE),Y94)+Z94)","v":""},{"$f":"IF($B94=\"\",\"\",0+UPPER(Mainframe!I92))","v":""},{"$f":"IF(AB94=\"\",\"\",IF(NOT(ISNA(VLOOKUP(AB94,Answers!Y:AB,4,FALSE))),VLOOKUP(AB94,Answers!Y:AB,4,FALSE),\"Help!\"))","v":""},null,{"$f":"IF(AC94=\"\",\"\",AA94+IF(AC94=\"XX\",VLOOKUP(\"WRONG\",Answers!Y:AB,4,FALSE),AC94)+AD94)","v":""},{"$f":"IF($B94=\"\",\"\",0+UPPER(Mainframe!J92))","v":""},{"$f":"IF(AF94=\"\",\"\",IF(NOT(ISNA(VLOOKUP(AF94,Answers!AC:AF,4,FALSE))),VLOOKUP(AF94,Answers!AC:AF,4,FALSE),\"Help!\"))","v":""},null,{"$f":"IF(AG94=\"\",\"\",AE94+IF(AG94=\"XX\",VLOOKUP(\"WRONG\",Answers!AC:AF,4,FALSE),AG94)+AH94)","v":""},{"$f":"IF($B94=\"\",\"\",0+UPPER(Mainframe!K92))","v":""},{"$f":"IF(AJ94=\"\",\"\",IF(NOT(ISNA(VLOOKUP(AJ94,Answers!AG:AJ,4,FALSE))),VLOOKUP(AJ94,Answers!AG:AJ,4,FALSE),\"Help!\"))","v":""},null,{"$f":"IF(AK94=\"\",\"\",AI94+IF(AK94=\"XX\",VLOOKUP(\"WRONG\",Answers!AG:AJ,4,FALSE),AK94)+AL94)","v":""},{"$f":"IF($B94=\"\",\"\",0+UPPER(Mainframe!L92))","v":""},{"$f":"IF(AN94=\"\",\"\",IF(NOT(ISNA(VLOOKUP(AN94,Answers!AK:AN,4,FALSE))),VLOOKUP(AN94,Answers!AK:AN,4,FALSE),\"Help!\"))","v":""},null,{"$f":"IF(AO94=\"\",\"\",AM94+IF(AO94=\"XX\",VLOOKUP(\"WRONG\",Answers!AK:AN,4,FALSE),AO94)+AP94)","v":""},{"$f":"IF($B94=\"\",\"\",0+UPPER(Mainframe!M92))","v":""},{"$f":"IF(AR94=\"\",\"\",IF(NOT(ISNA(VLOOKUP(AR94,Answers!AO:AR,4,FALSE))),VLOOKUP(AR94,Answers!AO:AR,4,FALSE),\"Help!\"))","v":""},null,{"$f":"IF(AS94=\"\",\"\",AQ94+IF(AS94=\"XX\",VLOOKUP(\"WRONG\",Answers!AO:AR,4,FALSE),AS94)+AT94)","v":""},{"$f":"IF($B94=\"\",\"\",0+UPPER(Mainframe!N92))","v":""},{"$f":"IF(AV94=\"\",\"\",IF(NOT(ISNA(VLOOKUP(AV94,Answers!AS:AV,4,FALSE))),VLOOKUP(AV94,Answers!AS:AV,4,FALSE),\"Help!\"))","v":""},null,{"$f":"IF(AW94=\"\",\"\",AU94+IF(AW94=\"XX\",VLOOKUP(\"WRONG\",Answers!AS:AV,4,FALSE),AW94)+AX94)","v":""},{"$f":"IF($B94=\"\",\"\",0+UPPER(Mainframe!O92))","v":""},"","",{"$f":"IF($B94=\"\",\"\",LEFT(Mainframe!P92,SEARCH(\".\",Mainframe!P92)-1))","v":""},null,null,null,null,null,null,null,null,null,null,null,null,null,null,null,null,null,null,null,null,null,null,null,null,null,null,null,null,null,null,72,{"$f":"IF(INDEX($B:$CE,ROW(),QNO*4)=\"XX\",\"[b][u]\"&INDEX($B:$CE,ROW(),QNO*4-1)&\"[/u][/b]\",\"[color=#BF0040]\"&INDEX(OFFSET(Answers!C:C,0,(QNO-1)*4),MATCH(INDEX($A:$CB,ROW(),QNO*4),OFFSET(Answers!A:A,0,(QNO-1)*4),0))&\"[/color]//[b]\"&INDEX(OFFSET(Answers!B:B,0,(QNO-1)*4),MATCH(INDEX($A:$CB,ROW(),QNO*4),OFFSET(Answers!A:A,0,(QNO-1)*4),0))&\"[/b] — [b]\"&IF(INDEX($B:$CE,ROW(),QNO*4)=1,\"Singleton!\",CONCATENATE(INDEX($B:$CE,ROW(),QNO*4),\" responses\"))&\"[/b]\")","v":{"$error":"#N/A"}},{"$error":"#VALUE!"},"Yes","72.  — [b][/b] pts",73,1]
["[*]",{"$f":"IF(Mainframe!B93=\"\",\"\",INDEX(Mainframe!$B:$B,C95+1,1))","v":""},92,{"$f":"IF($B95=\"\",\"\",0+UPPER(Mainframe!C93))","v":""},{"$f":"IF(D95=\"\",\"\",IF(NOT(ISNA(VLOOKUP(D95,Answers!A:D,4,FALSE))),VLOOKUP(D95,Answers!A:D,4,FALSE),\"Help!\"))","v":""},null,{"$f":"IF(E95=\"\",\"\",IF(E95=\"XX\",VLOOKUP(\"WRONG\",Answers!A:D,4,FALSE),E95)+F95)","v":""},{"$f":"IF($B95=\"\",\"\",0+UPPER(Mainframe!D93))","v":""},{"$f":"IF(H95=\"\",\"\",IF(NOT(ISNA(VLOOKUP(H95,Answers!E:H,4,FALSE))),VLOOKUP(H95,Answers!E:H,4,FALSE),\"Help!\"))","v":""},null,{"$f":"IF(I95=\"\",\"\",G95+IF(I95=\"XX\",VLOOKUP(\"WRONG\",Answers!E:H,4,FALSE),I95)+J95)","v":""},{"$f":"IF($B95=\"\",\"\",0+UPPER(Mainframe!E93))","v":""},{"$f":"IF(L95=\"\",\"\",IF(NOT(ISNA(VLOOKUP(L95,Answers!I:L,4,FALSE))),VLOOKUP(L95,Answers!I:L,4,FALSE),\"Help!\"))","v":""},null,{"$f":"IF(M95=\"\",\"\",K95+IF(M95=\"XX\",VLOOKUP(\"WRONG\",Answers!I:L,4,FALSE),M95)+N95)","v":""},{"$f":"IF($B95=\"\",\"\",0+UPPER(Mainframe!F93))","v":""},{"$f":"IF(P95=\"\",\"\",IF(NOT(ISNA(VLOOKUP(P95,Answers!M:P,4,FALSE))),VLOOKUP(P95,Answers!M:P,4,FALSE),\"Help!\"))","v":""},null,{"$f":"IF(Q95=\"\",\"\",O95+IF(Q95=\"XX\",VLOOKUP(\"WRONG\",Answers!M:P,4,FALSE),Q95)+R95)","v":""},{"$f":"IF($B95=\"\",\"\",0+UPPER(Mainframe!G93))","v":""},{"$f":"IF(T95=\"\",\"\",IF(NOT(ISNA(VLOOKUP(T95,Answers!Q:T,4,FALSE))),VLOOKUP(T95,Answers!Q:T,4,FALSE),\"Help!\"))","v":""},null,{"$f":"IF(U95=\"\",\"\",S95+IF(U95=\"XX\",VLOOKUP(\"WRONG\",Answers!Q:T,4,FALSE),U95)+V95)","v":""},{"$f":"IF($B95=\"\",\"\",0+UPPER(Mainframe!H93))","v":""},{"$f":"IF(X95=\"\",\"\",IF(NOT(ISNA(VLOOKUP(X95,Answers!U:X,4,FALSE))),VLOOKUP(X95,Answers!U:X,4,FALSE),\"Help!\"))","v":""},null,{"$f":"IF(Y95=\"\",\"\",W95+IF(Y95=\"XX\",VLOOKUP(\"WRONG\",Answers!U:X,4,FALSE),Y95)+Z95)","v":""},{"$f":"IF($B95=\"\",\"\",0+UPPER(Mainframe!I93))","v":""},{"$f":"IF(AB95=\"\",\"\",IF(NOT(ISNA(VLOOKUP(AB95,Answers!Y:AB,4,FALSE))),VLOOKUP(AB95,Answers!Y:AB,4,FALSE),\"Help!\"))","v":""},null,{"$f":"IF(AC95=\"\",\"\",AA95+IF(AC95=\"XX\",VLOOKUP(\"WRONG\",Answers!Y:AB,4,FALSE),AC95)+AD95)","v":""},{"$f":"IF($B95=\"\",\"\",0+UPPER(Mainframe!J93))","v":""},{"$f":"IF(AF95=\"\",\"\",IF(NOT(ISNA(VLOOKUP(AF95,Answers!AC:AF,4,FALSE))),VLOOKUP(AF95,Answers!AC:AF,4,FALSE),\"Help!\"))","v":""},null,{"$f":"IF(AG95=\"\",\"\",AE95+IF(AG95=\"XX\",VLOOKUP(\"WRONG\",Answers!AC:AF,4,FALSE),AG95)+AH95)","v":""},{"$f":"IF($B95=\"\",\"\",0+UPPER(Mainframe!K93))","v":""},{"$f":"IF(AJ95=\"\",\"\",IF(NOT(ISNA(VLOOKUP(AJ95,Answers!AG:AJ,4,FALSE))),VLOOKUP(AJ95,Answers!AG:AJ,4,FALSE),\"Help!\"))","v":""},null,{"$f":"IF(AK95=\"\",\"\",AI95+IF(AK95=\"XX\",VLOOKUP(\"WRONG\",Answers!AG:AJ,4,FALSE),AK95)+AL95)","v":""},{"$f":"IF($B95=\"\",\"\",0+UPPER(Mainframe!L93))","v":""},{"$f":"IF(AN95=\"\",\"\",IF(NOT(ISNA(VLOOKUP(AN95,Answers!AK:AN,4,FALSE))),VLOOKUP(AN95,Answers!AK:AN,4,FALSE),\"Help!\"))","v":""},null,{"$f":"IF(AO95=\"\",\"\",AM95+IF(AO95=\"XX\",VLOOKUP(\"WRONG\",Answers!AK:AN,4,FALSE),AO95)+AP95)","v":""},{"$f":"IF($B95=\"\",\"\",0+UPPER(Mainframe!M93))","v":""},{"$f":"IF(AR95=\"\",\"\",IF(NOT(ISNA(VLOOKUP(AR95,Answers!AO:AR,4,FALSE))),VLOOKUP(AR95,Answers!AO:AR,4,FALSE),\"Help!\"))","v":""},null,{"$f":"IF(AS95=\"\",\"\",AQ95+IF(AS95=\"XX\",VLOOKUP(\"WRONG\",Answers!AO:AR,4,FALSE),AS95)+AT95)","v":""},{"$f":"IF($B95=\"\",\"\",0+UPPER(Mainframe!N93))","v":""},{"$f":"IF(AV95=\"\",\"\",IF(NOT(ISNA(VLOOKUP(AV95,Answers!AS:AV,4,FALSE))),VLOOKUP(AV95,Answers!AS:AV,4,FALSE),\"Help!\"))","v":""},null,{"$f":"IF(AW95=\"\",\"\",AU95+IF(AW95=\"XX\",VLOOKUP(\"WRONG\",Answers!AS:AV,4,FALSE),AW95)+AX95)","v":""},{"$f":"IF($B95=\"\",\"\",0+UPPER(Mainframe!O93))","v":""},"","",{"$f":"IF($B95=\"\",\"\",LEFT(Mainframe!P93,SEARCH(\".\",Mainframe!P93)-1))","v":""},null,null,null,null,null,null,null,null,null,null,null,null,null,null,null,null,null,null,null,null,null,null,null,null,null,null,null,null,null,null,72,{"$f":"IF(INDEX($B:$CE,ROW(),QNO*4)=\"XX\",\"[b][u]\"&INDEX($B:$CE,ROW(),QNO*4-1)&\"[/u][/b]\",\"[color=#BF0040]\"&INDEX(OFFSET(Answers!C:C,0,(QNO-1)*4),MATCH(INDEX($A:$CB,ROW(),QNO*4),OFFSET(Answers!A:A,0,(QNO-1)*4),0))&\"[/color]//[b]\"&INDEX(OFFSET(Answers!B:B,0,(QNO-1)*4),MATCH(INDEX($A:$CB,ROW(),QNO*4),OFFSET(Answers!A:A,0,(QNO-1)*4),0))&\"[/b] — [b]\"&IF(INDEX($B:$CE,ROW(),QNO*4)=1,\"Singleton!\",CONCATENATE(INDEX($B:$CE,ROW(),QNO*4),\" responses\"))&\"[/b]\")","v":{"$error":"#N/A"}},{"$error":"#VALUE!"},"Yes","72.  — [b][/b] pts",73,1]
["[*]",{"$f":"IF(Mainframe!B94=\"\",\"\",INDEX(Mainframe!$B:$B,C96+1,1))","v":""},93,{"$f":"IF($B96=\"\",\"\",0+UPPER(Mainframe!C94))","v":""},{"$f":"IF(D96=\"\",\"\",IF(NOT(ISNA(VLOOKUP(D96,Answers!A:D,4,FALSE))),VLOOKUP(D96,Answers!A:D,4,FALSE),\"Help!\"))","v":""},null,{"$f":"IF(E96=\"\",\"\",IF(E96=\"XX\",VLOOKUP(\"WRONG\",Answers!A:D,4,FALSE),E96)+F96)","v":""},{"$f":"IF($B96=\"\",\"\",0+UPPER(Mainframe!D94))","v":""},{"$f":"IF(H96=\"\",\"\",IF(NOT(ISNA(VLOOKUP(H96,Answers!E:H,4,FALSE))),VLOOKUP(H96,Answers!E:H,4,FALSE),\"Help!\"))","v":""},null,{"$f":"IF(I96=\"\",\"\",G96+IF(I96=\"XX\",VLOOKUP(\"WRONG\",Answers!E:H,4,FALSE),I96)+J96)","v":""},{"$f":"IF($B96=\"\",\"\",0+UPPER(Mainframe!E94))","v":""},{"$f":"IF(L96=\"\",\"\",IF(NOT(ISNA(VLOOKUP(L96,Answers!I:L,4,FALSE))),VLOOKUP(L96,Answers!I:L,4,FALSE),\"Help!\"))","v":""},null,{"$f":"IF(M96=\"\",\"\",K96+IF(M96=\"XX\",VLOOKUP(\"WRONG\",Answers!I:L,4,FALSE),M96)+N96)","v":""},{"$f":"IF($B96=\"\",\"\",0+UPPER(Mainframe!F94))","v":""},{"$f":"IF(P96=\"\",\"\",IF(NOT(ISNA(VLOOKUP(P96,Answers!M:P,4,FALSE))),VLOOKUP(P96,Answers!M:P,4,FALSE),\"Help!\"))","v":""},null,{"$f":"IF(Q96=\"\",\"\",O96+IF(Q96=\"XX\",VLOOKUP(\"WRONG\",Answers!M:P,4,FALSE),Q96)+R96)","v":""},{"$f":"IF($B96=\"\",\"\",0+UPPER(Mainframe!G94))","v":""},{"$f":"IF(T96=\"\",\"\",IF(NOT(ISNA(VLOOKUP(T96,Answers!Q:T,4,FALSE))),VLOOKUP(T96,Answers!Q:T,4,FALSE),\"Help!\"))","v":""},null,{"$f":"IF(U96=\"\",\"\",S96+IF(U96=\"XX\",VLOOKUP(\"WRONG\",Answers!Q:T,4,FALSE),U96)+V96)","v":""},{"$f":"IF($B96=\"\",\"\",0+UPPER(Mainframe!H94))","v":""},{"$f":"IF(X96=\"\",\"\",IF(NOT(ISNA(VLOOKUP(X96,Answers!U:X,4,FALSE))),VLOOKUP(X96,Answers!U:X,4,FALSE),\"Help!\"))","v":""},null,{"$f":"IF(Y96=\"\",\"\",W96+IF(Y96=\"XX\",VLOOKUP(\"WRONG\",Answers!U:X,4,FALSE),Y96)+Z96)","v":""},{"$f":"IF($B96=\"\",\"\",0+UPPER(Mainframe!I94))","v":""},{"$f":"IF(AB96=\"\",\"\",IF(NOT(ISNA(VLOOKUP(AB96,Answers!Y:AB,4,FALSE))),VLOOKUP(AB96,Answers!Y:AB,4,FALSE),\"Help!\"))","v":""},null,{"$f":"IF(AC96=\"\",\"\",AA96+IF(AC96=\"XX\",VLOOKUP(\"WRONG\",Answers!Y:AB,4,FALSE),AC96)+AD96)","v":""},{"$f":"IF($B96=\"\",\"\",0+UPPER(Mainframe!J94))","v":""},{"$f":"IF(AF96=\"\",\"\",IF(NOT(ISNA(VLOOKUP(AF96,Answers!AC:AF,4,FALSE))),VLOOKUP(AF96,Answers!AC:AF,4,FALSE),\"Help!\"))","v":""},null,{"$f":"IF(AG96=\"\",\"\",AE96+IF(AG96=\"XX\",VLOOKUP(\"WRONG\",Answers!AC:AF,4,FALSE),AG96)+AH96)","v":""},{"$f":"IF($B96=\"\",\"\",0+UPPER(Mainframe!K94))","v":""},{"$f":"IF(AJ96=\"\",\"\",IF(NOT(ISNA(VLOOKUP(AJ96,Answers!AG:AJ,4,FALSE))),VLOOKUP(AJ96,Answers!AG:AJ,4,FALSE),\"Help!\"))","v":""},null,{"$f":"IF(AK96=\"\",\"\",AI96+IF(AK96=\"XX\",VLOOKUP(\"WRONG\",Answers!AG:AJ,4,FALSE),AK96)+AL96)","v":""},{"$f":"IF($B96=\"\",\"\",0+UPPER(Mainframe!L94))","v":""},{"$f":"IF(AN96=\"\",\"\",IF(NOT(ISNA(VLOOKUP(AN96,Answers!AK:AN,4,FALSE))),VLOOKUP(AN96,Answers!AK:AN,4,FALSE),\"Help!\"))","v":""},null,{"$f":"IF(AO96=\"\",\"\",AM96+IF(AO96=\"XX\",VLOOKUP(\"WRONG\",Answers!AK:AN,4,FALSE),AO96)+AP96)","v":""},{"$f":"IF($B96=\"\",\"\",0+UPPER(Mainframe!M94))","v":""},{"$f":"IF(AR96=\"\",\"\",IF(NOT(ISNA(VLOOKUP(AR96,Answers!AO:AR,4,FALSE))),VLOOKUP(AR96,Answers!AO:AR,4,FALSE),\"Help!\"))","v":""},null,{"$f":"IF(AS96=\"\",\"\",AQ96+IF(AS96=\"XX\",VLOOKUP(\"WRONG\",Answers!AO:AR,4,FALSE),AS96)+AT96)","v":""},{"$f":"IF($B96=\"\",\"\",0+UPPER(Mainframe!N94))","v":""},{"$f":"IF(AV96=\"\",\"\",IF(NOT(ISNA(VLOOKUP(AV96,Answers!AS:AV,4,FALSE))),VLOOKUP(AV96,Answers!AS:AV,4,FALSE),\"Help!\"))","v":""},null,{"$f":"IF(AW96=\"\",\"\",AU96+IF(AW96=\"XX\",VLOOKUP(\"WRONG\",Answers!AS:AV,4,FALSE),AW96)+AX96)","v":""},{"$f":"IF($B96=\"\",\"\",0+UPPER(Mainframe!O94))","v":""},"","",{"$f":"IF($B96=\"\",\"\",LEFT(Mainframe!P94,SEARCH(\".\",Mainframe!P94)-1))","v":""},null,null,null,null,null,null,null,null,null,null,null,null,null,null,null,null,null,null,null,null,null,null,null,null,null,null,null,null,null,null,72,{"$f":"IF(INDEX($B:$CE,ROW(),QNO*4)=\"XX\",\"[b][u]\"&INDEX($B:$CE,ROW(),QNO*4-1)&\"[/u][/b]\",\"[color=#BF0040]\"&INDEX(OFFSET(Answers!C:C,0,(QNO-1)*4),MATCH(INDEX($A:$CB,ROW(),QNO*4),OFFSET(Answers!A:A,0,(QNO-1)*4),0))&\"[/color]//[b]\"&INDEX(OFFSET(Answers!B:B,0,(QNO-1)*4),MATCH(INDEX($A:$CB,ROW(),QNO*4),OFFSET(Answers!A:A,0,(QNO-1)*4),0))&\"[/b] — [b]\"&IF(INDEX($B:$CE,ROW(),QNO*4)=1,\"Singleton!\",CONCATENATE(INDEX($B:$CE,ROW(),QNO*4),\" responses\"))&\"[/b]\")","v":{"$error":"#N/A"}},{"$error":"#VALUE!"},"Yes","72.  — [b][/b] pts",73,1]
["[*]",{"$f":"IF(Mainframe!B95=\"\",\"\",INDEX(Mainframe!$B:$B,C97+1,1))","v":""},94,{"$f":"IF($B97=\"\",\"\",0+UPPER(Mainframe!C95))","v":""},{"$f":"IF(D97=\"\",\"\",IF(NOT(ISNA(VLOOKUP(D97,Answers!A:D,4,FALSE))),VLOOKUP(D97,Answers!A:D,4,FALSE),\"Help!\"))","v":""},null,{"$f":"IF(E97=\"\",\"\",IF(E97=\"XX\",VLOOKUP(\"WRONG\",Answers!A:D,4,FALSE),E97)+F97)","v":""},{"$f":"IF($B97=\"\",\"\",0+UPPER(Mainframe!D95))","v":""},{"$f":"IF(H97=\"\",\"\",IF(NOT(ISNA(VLOOKUP(H97,Answers!E:H,4,FALSE))),VLOOKUP(H97,Answers!E:H,4,FALSE),\"Help!\"))","v":""},null,{"$f":"IF(I97=\"\",\"\",G97+IF(I97=\"XX\",VLOOKUP(\"WRONG\",Answers!E:H,4,FALSE),I97)+J97)","v":""},{"$f":"IF($B97=\"\",\"\",0+UPPER(Mainframe!E95))","v":""},{"$f":"IF(L97=\"\",\"\",IF(NOT(ISNA(VLOOKUP(L97,Answers!I:L,4,FALSE))),VLOOKUP(L97,Answers!I:L,4,FALSE),\"Help!\"))","v":""},null,{"$f":"IF(M97=\"\",\"\",K97+IF(M97=\"XX\",VLOOKUP(\"WRONG\",Answers!I:L,4,FALSE),M97)+N97)","v":""},{"$f":"IF($B97=\"\",\"\",0+UPPER(Mainframe!F95))","v":""},{"$f":"IF(P97=\"\",\"\",IF(NOT(ISNA(VLOOKUP(P97,Answers!M:P,4,FALSE))),VLOOKUP(P97,Answers!M:P,4,FALSE),\"Help!\"))","v":""},null,{"$f":"IF(Q97=\"\",\"\",O97+IF(Q97=\"XX\",VLOOKUP(\"WRONG\",Answers!M:P,4,FALSE),Q97)+R97)","v":""},{"$f":"IF($B97=\"\",\"\",0+UPPER(Mainframe!G95))","v":""},{"$f":"IF(T97=\"\",\"\",IF(NOT(ISNA(VLOOKUP(T97,Answers!Q:T,4,FALSE))),VLOOKUP(T97,Answers!Q:T,4,FALSE),\"Help!\"))","v":""},null,{"$f":"IF(U97=\"\",\"\",S97+IF(U97=\"XX\",VLOOKUP(\"WRONG\",Answers!Q:T,4,FALSE),U97)+V97)","v":""},{"$f":"IF($B97=\"\",\"\",0+UPPER(Mainframe!H95))","v":""},{"$f":"IF(X97=\"\",\"\",IF(NOT(ISNA(VLOOKUP(X97,Answers!U:X,4,FALSE))),VLOOKUP(X97,Answers!U:X,4,FALSE),\"Help!\"))","v":""},null,{"$f":"IF(Y97=\"\",\"\",W97+IF(Y97=\"XX\",VLOOKUP(\"WRONG\",Answers!U:X,4,FALSE),Y97)+Z97)","v":""},{"$f":"IF($B97=\"\",\"\",0+UPPER(Mainframe!I95))","v":""},{"$f":"IF(AB97=\"\",\"\",IF(NOT(ISNA(VLOOKUP(AB97,Answers!Y:AB,4,FALSE))),VLOOKUP(AB97,Answers!Y:AB,4,FALSE),\"Help!\"))","v":""},null,{"$f":"IF(AC97=\"\",\"\",AA97+IF(AC97=\"XX\",VLOOKUP(\"WRONG\",Answers!Y:AB,4,FALSE),AC97)+AD97)","v":""},{"$f":"IF($B97=\"\",\"\",0+UPPER(Mainframe!J95))","v":""},{"$f":"IF(AF97=\"\",\"\",IF(NOT(ISNA(VLOOKUP(AF97,Answers!AC:AF,4,FALSE))),VLOOKUP(AF97,Answers!AC:AF,4,FALSE),\"Help!\"))","v":""},null,{"$f":"IF(AG97=\"\",\"\",AE97+IF(AG97=\"XX\",VLOOKUP(\"WRONG\",Answers!AC:AF,4,FALSE),AG97)+AH97)","v":""},{"$f":"IF($B97=\"\",\"\",0+UPPER(Mainframe!K95))","v":""},{"$f":"IF(AJ97=\"\",\"\",IF(NOT(ISNA(VLOOKUP(AJ97,Answers!AG:AJ,4,FALSE))),VLOOKUP(AJ97,Answers!AG:AJ,4,FALSE),\"Help!\"))","v":""},null,{"$f":"IF(AK97=\"\",\"\",AI97+IF(AK97=\"XX\",VLOOKUP(\"WRONG\",Answers!AG:AJ,4,FALSE),AK97)+AL97)","v":""},{"$f":"IF($B97=\"\",\"\",0+UPPER(Mainframe!L95))","v":""},{"$f":"IF(AN97=\"\",\"\",IF(NOT(ISNA(VLOOKUP(AN97,Answers!AK:AN,4,FALSE))),VLOOKUP(AN97,Answers!AK:AN,4,FALSE),\"Help!\"))","v":""},null,{"$f":"IF(AO97=\"\",\"\",AM97+IF(AO97=\"XX\",VLOOKUP(\"WRONG\",Answers!AK:AN,4,FALSE),AO97)+AP97)","v":""},{"$f":"IF($B97=\"\",\"\",0+UPPER(Mainframe!M95))","v":""},{"$f":"IF(AR97=\"\",\"\",IF(NOT(ISNA(VLOOKUP(AR97,Answers!AO:AR,4,FALSE))),VLOOKUP(AR97,Answers!AO:AR,4,FALSE),\"Help!\"))","v":""},null,{"$f":"IF(AS97=\"\",\"\",AQ97+IF(AS97=\"XX\",VLOOKUP(\"WRONG\",Answers!AO:AR,4,FALSE),AS97)+AT97)","v":""},{"$f":"IF($B97=\"\",\"\",0+UPPER(Mainframe!N95))","v":""},{"$f":"IF(AV97=\"\",\"\",IF(NOT(ISNA(VLOOKUP(AV97,Answers!AS:AV,4,FALSE))),VLOOKUP(AV97,Answers!AS:AV,4,FALSE),\"Help!\"))","v":""},null,{"$f":"IF(AW97=\"\",\"\",AU97+IF(AW97=\"XX\",VLOOKUP(\"WRONG\",Answers!AS:AV,4,FALSE),AW97)+AX97)","v":""},{"$f":"IF($B97=\"\",\"\",0+UPPER(Mainframe!O95))","v":""},"","",{"$f":"IF($B97=\"\",\"\",LEFT(Mainframe!P95,SEARCH(\".\",Mainframe!P95)-1))","v":""},null,null,null,null,null,null,null,null,null,null,null,null,null,null,null,null,null,null,null,null,null,null,null,null,null,null,null,null,null,null,72,{"$f":"IF(INDEX($B:$CE,ROW(),QNO*4)=\"XX\",\"[b][u]\"&INDEX($B:$CE,ROW(),QNO*4-1)&\"[/u][/b]\",\"[color=#BF0040]\"&INDEX(OFFSET(Answers!C:C,0,(QNO-1)*4),MATCH(INDEX($A:$CB,ROW(),QNO*4),OFFSET(Answers!A:A,0,(QNO-1)*4),0))&\"[/color]//[b]\"&INDEX(OFFSET(Answers!B:B,0,(QNO-1)*4),MATCH(INDEX($A:$CB,ROW(),QNO*4),OFFSET(Answers!A:A,0,(QNO-1)*4),0))&\"[/b] — [b]\"&IF(INDEX($B:$CE,ROW(),QNO*4)=1,\"Singleton!\",CONCATENATE(INDEX($B:$CE,ROW(),QNO*4),\" responses\"))&\"[/b]\")","v":{"$error":"#N/A"}},{"$error":"#VALUE!"},"Yes","72.  — [b][/b] pts",73,1]
["[*]",{"$f":"IF(Mainframe!B96=\"\",\"\",INDEX(Mainframe!$B:$B,C98+1,1))","v":""},95,{"$f":"IF($B98=\"\",\"\",0+UPPER(Mainframe!C96))","v":""},{"$f":"IF(D98=\"\",\"\",IF(NOT(ISNA(VLOOKUP(D98,Answers!A:D,4,FALSE))),VLOOKUP(D98,Answers!A:D,4,FALSE),\"Help!\"))","v":""},null,{"$f":"IF(E98=\"\",\"\",IF(E98=\"XX\",VLOOKUP(\"WRONG\",Answers!A:D,4,FALSE),E98)+F98)","v":""},{"$f":"IF($B98=\"\",\"\",0+UPPER(Mainframe!D96))","v":""},{"$f":"IF(H98=\"\",\"\",IF(NOT(ISNA(VLOOKUP(H98,Answers!E:H,4,FALSE))),VLOOKUP(H98,Answers!E:H,4,FALSE),\"Help!\"))","v":""},null,{"$f":"IF(I98=\"\",\"\",G98+IF(I98=\"XX\",VLOOKUP(\"WRONG\",Answers!E:H,4,FALSE),I98)+J98)","v":""},{"$f":"IF($B98=\"\",\"\",0+UPPER(Mainframe!E96))","v":""},{"$f":"IF(L98=\"\",\"\",IF(NOT(ISNA(VLOOKUP(L98,Answers!I:L,4,FALSE))),VLOOKUP(L98,Answers!I:L,4,FALSE),\"Help!\"))","v":""},null,{"$f":"IF(M98=\"\",\"\",K98+IF(M98=\"XX\",VLOOKUP(\"WRONG\",Answers!I:L,4,FALSE),M98)+N98)","v":""},{"$f":"IF($B98=\"\",\"\",0+UPPER(Mainframe!F96))","v":""},{"$f":"IF(P98=\"\",\"\",IF(NOT(ISNA(VLOOKUP(P98,Answers!M:P,4,FALSE))),VLOOKUP(P98,Answers!M:P,4,FALSE),\"Help!\"))","v":""},null,{"$f":"IF(Q98=\"\",\"\",O98+IF(Q98=\"XX\",VLOOKUP(\"WRONG\",Answers!M:P,4,FALSE),Q98)+R98)","v":""},{"$f":"IF($B98=\"\",\"\",0+UPPER(Mainframe!G96))","v":""},{"$f":"IF(T98=\"\",\"\",IF(NOT(ISNA(VLOOKUP(T98,Answers!Q:T,4,FALSE))),VLOOKUP(T98,Answers!Q:T,4,FALSE),\"Help!\"))","v":""},null,{"$f":"IF(U98=\"\",\"\",S98+IF(U98=\"XX\",VLOOKUP(\"WRONG\",Answers!Q:T,4,FALSE),U98)+V98)","v":""},{"$f":"IF($B98=\"\",\"\",0+UPPER(Mainframe!H96))","v":""},{"$f":"IF(X98=\"\",\"\",IF(NOT(ISNA(VLOOKUP(X98,Answers!U:X,4,FALSE))),VLOOKUP(X98,Answers!U:X,4,FALSE),\"Help!\"))","v":""},null,{"$f":"IF(Y98=\"\",\"\",W98+IF(Y98=\"XX\",VLOOKUP(\"WRONG\",Answers!U:X,4,FALSE),Y98)+Z98)","v":""},{"$f":"IF($B98=\"\",\"\",0+UPPER(Mainframe!I96))","v":""},{"$f":"IF(AB98=\"\",\"\",IF(NOT(ISNA(VLOOKUP(AB98,Answers!Y:AB,4,FALSE))),VLOOKUP(AB98,Answers!Y:AB,4,FALSE),\"Help!\"))","v":""},null,{"$f":"IF(AC98=\"\",\"\",AA98+IF(AC98=\"XX\",VLOOKUP(\"WRONG\",Answers!Y:AB,4,FALSE),AC98)+AD98)","v":""},{"$f":"IF($B98=\"\",\"\",0+UPPER(Mainframe!J96))","v":""},{"$f":"IF(AF98=\"\",\"\",IF(NOT(ISNA(VLOOKUP(AF98,Answers!AC:AF,4,FALSE))),VLOOKUP(AF98,Answers!AC:AF,4,FALSE),\"Help!\"))","v":""},null,{"$f":"IF(AG98=\"\",\"\",AE98+IF(AG98=\"XX\",VLOOKUP(\"WRONG\",Answers!AC:AF,4,FALSE),AG98)+AH98)","v":""},{"$f":"IF($B98=\"\",\"\",0+UPPER(Mainframe!K96))","v":""},{"$f":"IF(AJ98=\"\",\"\",IF(NOT(ISNA(VLOOKUP(AJ98,Answers!AG:AJ,4,FALSE))),VLOOKUP(AJ98,Answers!AG:AJ,4,FALSE),\"Help!\"))","v":""},null,{"$f":"IF(AK98=\"\",\"\",AI98+IF(AK98=\"XX\",VLOOKUP(\"WRONG\",Answers!AG:AJ,4,FALSE),AK98)+AL98)","v":""},{"$f":"IF($B98=\"\",\"\",0+UPPER(Mainframe!L96))","v":""},{"$f":"IF(AN98=\"\",\"\",IF(NOT(ISNA(VLOOKUP(AN98,Answers!AK:AN,4,FALSE))),VLOOKUP(AN98,Answers!AK:AN,4,FALSE),\"Help!\"))","v":""},null,{"$f":"IF(AO98=\"\",\"\",AM98+IF(AO98=\"XX\",VLOOKUP(\"WRONG\",Answers!AK:AN,4,FALSE),AO98)+AP98)","v":""},{"$f":"IF($B98=\"\",\"\",0+UPPER(Mainframe!M96))","v":""},{"$f":"IF(AR98=\"\",\"\",IF(NOT(ISNA(VLOOKUP(AR98,Answers!AO:AR,4,FALSE))),VLOOKUP(AR98,Answers!AO:AR,4,FALSE),\"Help!\"))","v":""},null,{"$f":"IF(AS98=\"\",\"\",AQ98+IF(AS98=\"XX\",VLOOKUP(\"WRONG\",Answers!AO:AR,4,FALSE),AS98)+AT98)","v":""},{"$f":"IF($B98=\"\",\"\",0+UPPER(Mainframe!N96))","v":""},{"$f":"IF(AV98=\"\",\"\",IF(NOT(ISNA(VLOOKUP(AV98,Answers!AS:AV,4,FALSE))),VLOOKUP(AV98,Answers!AS:AV,4,FALSE),\"Help!\"))","v":""},null,{"$f":"IF(AW98=\"\",\"\",AU98+IF(AW98=\"XX\",VLOOKUP(\"WRONG\",Answers!AS:AV,4,FALSE),AW98)+AX98)","v":""},{"$f":"IF($B98=\"\",\"\",0+UPPER(Mainframe!O96))","v":""},"","",{"$f":"IF($B98=\"\",\"\",LEFT(Mainframe!P96,SEARCH(\".\",Mainframe!P96)-1))","v":""},null,null,null,null,null,null,null,null,null,null,null,null,null,null,null,null,null,null,null,null,null,null,null,null,null,null,null,null,null,null,72,{"$f":"IF(INDEX($B:$CE,ROW(),QNO*4)=\"XX\",\"[b][u]\"&INDEX($B:$CE,ROW(),QNO*4-1)&\"[/u][/b]\",\"[color=#BF0040]\"&INDEX(OFFSET(Answers!C:C,0,(QNO-1)*4),MATCH(INDEX($A:$CB,ROW(),QNO*4),OFFSET(Answers!A:A,0,(QNO-1)*4),0))&\"[/color]//[b]\"&INDEX(OFFSET(Answers!B:B,0,(QNO-1)*4),MATCH(INDEX($A:$CB,ROW(),QNO*4),OFFSET(Answers!A:A,0,(QNO-1)*4),0))&\"[/b] — [b]\"&IF(INDEX($B:$CE,ROW(),QNO*4)=1,\"Singleton!\",CONCATENATE(INDEX($B:$CE,ROW(),QNO*4),\" responses\"))&\"[/b]\")","v":{"$error":"#N/A"}},{"$error":"#VALUE!"},"Yes","72.  — [b][/b] pts",73,1]
["[*]",{"$f":"IF(Mainframe!B97=\"\",\"\",INDEX(Mainframe!$B:$B,C99+1,1))","v":""},96,{"$f":"IF($B99=\"\",\"\",0+UPPER(Mainframe!C97))","v":""},{"$f":"IF(D99=\"\",\"\",IF(NOT(ISNA(VLOOKUP(D99,Answers!A:D,4,FALSE))),VLOOKUP(D99,Answers!A:D,4,FALSE),\"Help!\"))","v":""},null,{"$f":"IF(E99=\"\",\"\",IF(E99=\"XX\",VLOOKUP(\"WRONG\",Answers!A:D,4,FALSE),E99)+F99)","v":""},{"$f":"IF($B99=\"\",\"\",0+UPPER(Mainframe!D97))","v":""},{"$f":"IF(H99=\"\",\"\",IF(NOT(ISNA(VLOOKUP(H99,Answers!E:H,4,FALSE))),VLOOKUP(H99,Answers!E:H,4,FALSE),\"Help!\"))","v":""},null,{"$f":"IF(I99=\"\",\"\",G99+IF(I99=\"XX\",VLOOKUP(\"WRONG\",Answers!E:H,4,FALSE),I99)+J99)","v":""},{"$f":"IF($B99=\"\",\"\",0+UPPER(Mainframe!E97))","v":""},{"$f":"IF(L99=\"\",\"\",IF(NOT(ISNA(VLOOKUP(L99,Answers!I:L,4,FALSE))),VLOOKUP(L99,Answers!I:L,4,FALSE),\"Help!\"))","v":""},null,{"$f":"IF(M99=\"\",\"\",K99+IF(M99=\"XX\",VLOOKUP(\"WRONG\",Answers!I:L,4,FALSE),M99)+N99)","v":""},{"$f":"IF($B99=\"\",\"\",0+UPPER(Mainframe!F97))","v":""},{"$f":"IF(P99=\"\",\"\",IF(NOT(ISNA(VLOOKUP(P99,Answers!M:P,4,FALSE))),VLOOKUP(P99,Answers!M:P,4,FALSE),\"Help!\"))","v":""},null,{"$f":"IF(Q99=\"\",\"\",O99+IF(Q99=\"XX\",VLOOKUP(\"WRONG\",Answers!M:P,4,FALSE),Q99)+R99)","v":""},{"$f":"IF($B99=\"\",\"\",0+UPPER(Mainframe!G97))","v":""},{"$f":"IF(T99=\"\",\"\",IF(NOT(ISNA(VLOOKUP(T99,Answers!Q:T,4,FALSE))),VLOOKUP(T99,Answers!Q:T,4,FALSE),\"Help!\"))","v":""},null,{"$f":"IF(U99=\"\",\"\",S99+IF(U99=\"XX\",VLOOKUP(\"WRONG\",Answers!Q:T,4,FALSE),U99)+V99)","v":""},{"$f":"IF($B99=\"\",\"\",0+UPPER(Mainframe!H97))","v":""},{"$f":"IF(X99=\"\",\"\",IF(NOT(ISNA(VLOOKUP(X99,Answers!U:X,4,FALSE))),VLOOKUP(X99,Answers!U:X,4,FALSE),\"Help!\"))","v":""},null,{"$f":"IF(Y99=\"\",\"\",W99+IF(Y99=\"XX\",VLOOKUP(\"WRONG\",Answers!U:X,4,FALSE),Y99)+Z99)","v":""},{"$f":"IF($B99=\"\",\"\",0+UPPER(Mainframe!I97))","v":""},{"$f":"IF(AB99=\"\",\"\",IF(NOT(ISNA(VLOOKUP(AB99,Answers!Y:AB,4,FALSE))),VLOOKUP(AB99,Answers!Y:AB,4,FALSE),\"Help!\"))","v":""},null,{"$f":"IF(AC99=\"\",\"\",AA99+IF(AC99=\"XX\",VLOOKUP(\"WRONG\",Answers!Y:AB,4,FALSE),AC99)+AD99)","v":""},{"$f":"IF($B99=\"\",\"\",0+UPPER(Mainframe!J97))","v":""},{"$f":"IF(AF99=\"\",\"\",IF(NOT(ISNA(VLOOKUP(AF99,Answers!AC:AF,4,FALSE))),VLOOKUP(AF99,Answers!AC:AF,4,FALSE),\"Help!\"))","v":""},null,{"$f":"IF(AG99=\"\",\"\",AE99+IF(AG99=\"XX\",VLOOKUP(\"WRONG\",Answers!AC:AF,4,FALSE),AG99)+AH99)","v":""},{"$f":"IF($B99=\"\",\"\",0+UPPER(Mainframe!K97))","v":""},{"$f":"IF(AJ99=\"\",\"\",IF(NOT(ISNA(VLOOKUP(AJ99,Answers!AG:AJ,4,FALSE))),VLOOKUP(AJ99,Answers!AG:AJ,4,FALSE),\"Help!\"))","v":""},null,{"$f":"IF(AK99=\"\",\"\",AI99+IF(AK99=\"XX\",VLOOKUP(\"WRONG\",Answers!AG:AJ,4,FALSE),AK99)+AL99)","v":""},{"$f":"IF($B99=\"\",\"\",0+UPPER(Mainframe!L97))","v":""},{"$f":"IF(AN99=\"\",\"\",IF(NOT(ISNA(VLOOKUP(AN99,Answers!AK:AN,4,FALSE))),VLOOKUP(AN99,Answers!AK:AN,4,FALSE),\"Help!\"))","v":""},null,{"$f":"IF(AO99=\"\",\"\",AM99+IF(AO99=\"XX\",VLOOKUP(\"WRONG\",Answers!AK:AN,4,FALSE),AO99)+AP99)","v":""},{"$f":"IF($B99=\"\",\"\",0+UPPER(Mainframe!M97))","v":""},{"$f":"IF(AR99=\"\",\"\",IF(NOT(ISNA(VLOOKUP(AR99,Answers!AO:AR,4,FALSE))),VLOOKUP(AR99,Answers!AO:AR,4,FALSE),\"Help!\"))","v":""},null,{"$f":"IF(AS99=\"\",\"\",AQ99+IF(AS99=\"XX\",VLOOKUP(\"WRONG\",Answers!AO:AR,4,FALSE),AS99)+AT99)","v":""},{"$f":"IF($B99=\"\",\"\",0+UPPER(Mainframe!N97))","v":""},{"$f":"IF(AV99=\"\",\"\",IF(NOT(ISNA(VLOOKUP(AV99,Answers!AS:AV,4,FALSE))),VLOOKUP(AV99,Answers!AS:AV,4,FALSE),\"Help!\"))","v":""},null,{"$f":"IF(AW99=\"\",\"\",AU99+IF(AW99=\"XX\",VLOOKUP(\"WRONG\",Answers!AS:AV,4,FALSE),AW99)+AX99)","v":""},{"$f":"IF($B99=\"\",\"\",0+UPPER(Mainframe!O97))","v":""},"","",{"$f":"IF($B99=\"\",\"\",LEFT(Mainframe!P97,SEARCH(\".\",Mainframe!P97)-1))","v":""},null,null,null,null,null,null,null,null,null,null,null,null,null,null,null,null,null,null,null,null,null,null,null,null,null,null,null,null,null,null,72,{"$f":"IF(INDEX($B:$CE,ROW(),QNO*4)=\"XX\",\"[b][u]\"&INDEX($B:$CE,ROW(),QNO*4-1)&\"[/u][/b]\",\"[color=#BF0040]\"&INDEX(OFFSET(Answers!C:C,0,(QNO-1)*4),MATCH(INDEX($A:$CB,ROW(),QNO*4),OFFSET(Answers!A:A,0,(QNO-1)*4),0))&\"[/color]//[b]\"&INDEX(OFFSET(Answers!B:B,0,(QNO-1)*4),MATCH(INDEX($A:$CB,ROW(),QNO*4),OFFSET(Answers!A:A,0,(QNO-1)*4),0))&\"[/b] — [b]\"&IF(INDEX($B:$CE,ROW(),QNO*4)=1,\"Singleton!\",CONCATENATE(INDEX($B:$CE,ROW(),QNO*4),\" responses\"))&\"[/b]\")","v":{"$error":"#N/A"}},{"$error":"#VALUE!"},"Yes","72.  — [b][/b] pts",73,1]
["[*]",{"$f":"IF(Mainframe!B98=\"\",\"\",INDEX(Mainframe!$B:$B,C100+1,1))","v":""},97,{"$f":"IF($B100=\"\",\"\",0+UPPER(Mainframe!C98))","v":""},{"$f":"IF(D100=\"\",\"\",IF(NOT(ISNA(VLOOKUP(D100,Answers!A:D,4,FALSE))),VLOOKUP(D100,Answers!A:D,4,FALSE),\"Help!\"))","v":""},null,{"$f":"IF(E100=\"\",\"\",IF(E100=\"XX\",VLOOKUP(\"WRONG\",Answers!A:D,4,FALSE),E100)+F100)","v":""},{"$f":"IF($B100=\"\",\"\",0+UPPER(Mainframe!D98))","v":""},{"$f":"IF(H100=\"\",\"\",IF(NOT(ISNA(VLOOKUP(H100,Answers!E:H,4,FALSE))),VLOOKUP(H100,Answers!E:H,4,FALSE),\"Help!\"))","v":""},null,{"$f":"IF(I100=\"\",\"\",G100+IF(I100=\"XX\",VLOOKUP(\"WRONG\",Answers!E:H,4,FALSE),I100)+J100)","v":""},{"$f":"IF($B100=\"\",\"\",0+UPPER(Mainframe!E98))","v":""},{"$f":"IF(L100=\"\",\"\",IF(NOT(ISNA(VLOOKUP(L100,Answers!I:L,4,FALSE))),VLOOKUP(L100,Answers!I:L,4,FALSE),\"Help!\"))","v":""},null,{"$f":"IF(M100=\"\",\"\",K100+IF(M100=\"XX\",VLOOKUP(\"WRONG\",Answers!I:L,4,FALSE),M100)+N100)","v":""},{"$f":"IF($B100=\"\",\"\",0+UPPER(Mainframe!F98))","v":""},{"$f":"IF(P100=\"\",\"\",IF(NOT(ISNA(VLOOKUP(P100,Answers!M:P,4,FALSE))),VLOOKUP(P100,Answers!M:P,4,FALSE),\"Help!\"))","v":""},null,{"$f":"IF(Q100=\"\",\"\",O100+IF(Q100=\"XX\",VLOOKUP(\"WRONG\",Answers!M:P,4,FALSE),Q100)+R100)","v":""},{"$f":"IF($B100=\"\",\"\",0+UPPER(Mainframe!G98))","v":""},{"$f":"IF(T100=\"\",\"\",IF(NOT(ISNA(VLOOKUP(T100,Answers!Q:T,4,FALSE))),VLOOKUP(T100,Answers!Q:T,4,FALSE),\"Help!\"))","v":""},null,{"$f":"IF(U100=\"\",\"\",S100+IF(U100=\"XX\",VLOOKUP(\"WRONG\",Answers!Q:T,4,FALSE),U100)+V100)","v":""},{"$f":"IF($B100=\"\",\"\",0+UPPER(Mainframe!H98))","v":""},{"$f":"IF(X100=\"\",\"\",IF(NOT(ISNA(VLOOKUP(X100,Answers!U:X,4,FALSE))),VLOOKUP(X100,Answers!U:X,4,FALSE),\"Help!\"))","v":""},null,{"$f":"IF(Y100=\"\",\"\",W100+IF(Y100=\"XX\",VLOOKUP(\"WRONG\",Answers!U:X,4,FALSE),Y100)+Z100)","v":""},{"$f":"IF($B100=\"\",\"\",0+UPPER(Mainframe!I98))","v":""},{"$f":"IF(AB100=\"\",\"\",IF(NOT(ISNA(VLOOKUP(AB100,Answers!Y:AB,4,FALSE))),VLOOKUP(AB100,Answers!Y:AB,4,FALSE),\"Help!\"))","v":""},null,{"$f":"IF(AC100=\"\",\"\",AA100+IF(AC100=\"XX\",VLOOKUP(\"WRONG\",Answers!Y:AB,4,FALSE),AC100)+AD100)","v":""},{"$f":"IF($B100=\"\",\"\",0+UPPER(Mainframe!J98))","v":""},{"$f":"IF(AF100=\"\",\"\",IF(NOT(ISNA(VLOOKUP(AF100,Answers!AC:AF,4,FALSE))),VLOOKUP(AF100,Answers!AC:AF,4,FALSE),\"Help!\"))","v":""},null,{"$f":"IF(AG100=\"\",\"\",AE100+IF(AG100=\"XX\",VLOOKUP(\"WRONG\",Answers!AC:AF,4,FALSE),AG100)+AH100)","v":""},{"$f":"IF($B100=\"\",\"\",0+UPPER(Mainframe!K98))","v":""},{"$f":"IF(AJ100=\"\",\"\",IF(NOT(ISNA(VLOOKUP(AJ100,Answers!AG:AJ,4,FALSE))),VLOOKUP(AJ100,Answers!AG:AJ,4,FALSE),\"Help!\"))","v":""},null,{"$f":"IF(AK100=\"\",\"\",AI100+IF(AK100=\"XX\",VLOOKUP(\"WRONG\",Answers!AG:AJ,4,FALSE),AK100)+AL100)","v":""},{"$f":"IF($B100=\"\",\"\",0+UPPER(Mainframe!L98))","v":""},{"$f":"IF(AN100=\"\",\"\",IF(NOT(ISNA(VLOOKUP(AN100,Answers!AK:AN,4,FALSE))),VLOOKUP(AN100,Answers!AK:AN,4,FALSE),\"Help!\"))","v":""},null,{"$f":"IF(AO100=\"\",\"\",AM100+IF(AO100=\"XX\",VLOOKUP(\"WRONG\",Answers!AK:AN,4,FALSE),AO100)+AP100)","v":""},{"$f":"IF($B100=\"\",\"\",0+UPPER(Mainframe!M98))","v":""},{"$f":"IF(AR100=\"\",\"\",IF(NOT(ISNA(VLOOKUP(AR100,Answers!AO:AR,4,FALSE))),VLOOKUP(AR100,Answers!AO:AR,4,FALSE),\"Help!\"))","v":""},null,{"$f":"IF(AS100=\"\",\"\",AQ100+IF(AS100=\"XX\",VLOOKUP(\"WRONG\",Answers!AO:AR,4,FALSE),AS100)+AT100)","v":""},{"$f":"IF($B100=\"\",\"\",0+UPPER(Mainframe!N98))","v":""},{"$f":"IF(AV100=\"\",\"\",IF(NOT(ISNA(VLOOKUP(AV100,Answers!AS:AV,4,FALSE))),VLOOKUP(AV100,Answers!AS:AV,4,FALSE),\"Help!\"))","v":""},null,{"$f":"IF(AW100=\"\",\"\",AU100+IF(AW100=\"XX\",VLOOKUP(\"WRONG\",Answers!AS:AV,4,FALSE),AW100)+AX100)","v":""},{"$f":"IF($B100=\"\",\"\",0+UPPER(Mainframe!O98))","v":""},"",{"$f":"IF(BA100=\"\",\"\",COUNTA(F100,J100,N100,R100,V100,Z100,AD100,AH100,AL100,AP100,AT100,AX100))","v":""},{"$f":"IF($B100=\"\",\"\",LEFT(Mainframe!P98,SEARCH(\".\",Mainframe!P98)-1))","v":""},null,null,null,null,null,null,null,null,null,null,null,null,null,null,null,null,null,null,null,null,null,null,null,null,null,null,null,null,null,null,72,{"$f":"IF(INDEX($B:$CE,ROW(),QNO*4)=\"XX\",\"[b][u]\"&INDEX($B:$CE,ROW(),QNO*4-1)&\"[/u][/b]\",\"[color=#BF0040]\"&INDEX(OFFSET(Answers!C:C,0,(QNO-1)*4),MATCH(INDEX($A:$CB,ROW(),QNO*4),OFFSET(Answers!A:A,0,(QNO-1)*4),0))&\"[/color]//[b]\"&INDEX(OFFSET(Answers!B:B,0,(QNO-1)*4),MATCH(INDEX($A:$CB,ROW(),QNO*4),OFFSET(Answers!A:A,0,(QNO-1)*4),0))&\"[/b] — [b]\"&IF(INDEX($B:$CE,ROW(),QNO*4)=1,\"Singleton!\",CONCATENATE(INDEX($B:$CE,ROW(),QNO*4),\" responses\"))&\"[/b]\")","v":{"$error":"#N/A"}},{"$error":"#VALUE!"},"Yes","72.  — [b][/b] pts",73,{"$f":"CM100-CH100","v":1}]
["[*]",{"$f":"IF(Mainframe!B99=\"\",\"\",INDEX(Mainframe!$B:$B,C101+1,1))","v":""},98,{"$f":"IF($B101=\"\",\"\",0+UPPER(Mainframe!C99))","v":""},{"$f":"IF(D101=\"\",\"\",IF(NOT(ISNA(VLOOKUP(D101,Answers!A:D,4,FALSE))),VLOOKUP(D101,Answers!A:D,4,FALSE),\"Help!\"))","v":""},null,{"$f":"IF(E101=\"\",\"\",IF(E101=\"XX\",VLOOKUP(\"WRONG\",Answers!A:D,4,FALSE),E101)+F101)","v":""},{"$f":"IF($B101=\"\",\"\",0+UPPER(Mainframe!D99))","v":""},{"$f":"IF(H101=\"\",\"\",IF(NOT(ISNA(VLOOKUP(H101,Answers!E:H,4,FALSE))),VLOOKUP(H101,Answers!E:H,4,FALSE),\"Help!\"))","v":""},null,{"$f":"IF(I101=\"\",\"\",G101+IF(I101=\"XX\",VLOOKUP(\"WRONG\",Answers!E:H,4,FALSE),I101)+J101)","v":""},{"$f":"IF($B101=\"\",\"\",0+UPPER(Mainframe!E99))","v":""},{"$f":"IF(L101=\"\",\"\",IF(NOT(ISNA(VLOOKUP(L101,Answers!I:L,4,FALSE))),VLOOKUP(L101,Answers!I:L,4,FALSE),\"Help!\"))","v":""},null,{"$f":"IF(M101=\"\",\"\",K101+IF(M101=\"XX\",VLOOKUP(\"WRONG\",Answers!I:L,4,FALSE),M101)+N101)","v":""},{"$f":"IF($B101=\"\",\"\",0+UPPER(Mainframe!F99))","v":""},{"$f":"IF(P101=\"\",\"\",IF(NOT(ISNA(VLOOKUP(P101,Answers!M:P,4,FALSE))),VLOOKUP(P101,Answers!M:P,4,FALSE),\"Help!\"))","v":""},null,{"$f":"IF(Q101=\"\",\"\",O101+IF(Q101=\"XX\",VLOOKUP(\"WRONG\",Answers!M:P,4,FALSE),Q101)+R101)","v":""},{"$f":"IF($B101=\"\",\"\",0+UPPER(Mainframe!G99))","v":""},{"$f":"IF(T101=\"\",\"\",IF(NOT(ISNA(VLOOKUP(T101,Answers!Q:T,4,FALSE))),VLOOKUP(T101,Answers!Q:T,4,FALSE),\"Help!\"))","v":""},null,{"$f":"IF(U101=\"\",\"\",S101+IF(U101=\"XX\",VLOOKUP(\"WRONG\",Answers!Q:T,4,FALSE),U101)+V101)","v":""},{"$f":"IF($B101=\"\",\"\",0+UPPER(Mainframe!H99))","v":""},{"$f":"IF(X101=\"\",\"\",IF(NOT(ISNA(VLOOKUP(X101,Answers!U:X,4,FALSE))),VLOOKUP(X101,Answers!U:X,4,FALSE),\"Help!\"))","v":""},null,{"$f":"IF(Y101=\"\",\"\",W101+IF(Y101=\"XX\",VLOOKUP(\"WRONG\",Answers!U:X,4,FALSE),Y101)+Z101)","v":""},{"$f":"IF($B101=\"\",\"\",0+UPPER(Mainframe!I99))","v":""},{"$f":"IF(AB101=\"\",\"\",IF(NOT(ISNA(VLOOKUP(AB101,Answers!Y:AB,4,FALSE))),VLOOKUP(AB101,Answers!Y:AB,4,FALSE),\"Help!\"))","v":""},null,{"$f":"IF(AC101=\"\",\"\",AA101+IF(AC101=\"XX\",VLOOKUP(\"WRONG\",Answers!Y:AB,4,FALSE),AC101)+AD101)","v":""},{"$f":"IF($B101=\"\",\"\",0+UPPER(Mainframe!J99))","v":""},{"$f":"IF(AF101=\"\",\"\",IF(NOT(ISNA(VLOOKUP(AF101,Answers!AC:AF,4,FALSE))),VLOOKUP(AF101,Answers!AC:AF,4,FALSE),\"Help!\"))","v":""},null,{"$f":"IF(AG101=\"\",\"\",AE101+IF(AG101=\"XX\",VLOOKUP(\"WRONG\",Answers!AC:AF,4,FALSE),AG101)+AH101)","v":""},{"$f":"IF($B101=\"\",\"\",0+UPPER(Mainframe!K99))","v":""},{"$f":"IF(AJ101=\"\",\"\",IF(NOT(ISNA(VLOOKUP(AJ101,Answers!AG:AJ,4,FALSE))),VLOOKUP(AJ101,Answers!AG:AJ,4,FALSE),\"Help!\"))","v":""},null,{"$f":"IF(AK101=\"\",\"\",AI101+IF(AK101=\"XX\",VLOOKUP(\"WRONG\",Answers!AG:AJ,4,FALSE),AK101)+AL101)","v":""},{"$f":"IF($B101=\"\",\"\",0+UPPER(Mainframe!L99))","v":""},{"$f":"IF(AN101=\"\",\"\",IF(NOT(ISNA(VLOOKUP(AN101,Answers!AK:AN,4,FALSE))),VLOOKUP(AN101,Answers!AK:AN,4,FALSE),\"Help!\"))","v":""},null,{"$f":"IF(AO101=\"\",\"\",AM101+IF(AO101=\"XX\",VLOOKUP(\"WRONG\",Answers!AK:AN,4,FALSE),AO101)+AP101)","v":""},{"$f":"IF($B101=\"\",\"\",0+UPPER(Mainframe!M99))","v":""},{"$f":"IF(AR101=\"\",\"\",IF(NOT(ISNA(VLOOKUP(AR101,Answers!AO:AR,4,FALSE))),VLOOKUP(AR101,Answers!AO:AR,4,FALSE),\"Help!\"))","v":""},null,{"$f":"IF(AS101=\"\",\"\",AQ101+IF(AS101=\"XX\",VLOOKUP(\"WRONG\",Answers!AO:AR,4,FALSE),AS101)+AT101)","v":""},{"$f":"IF($B101=\"\",\"\",0+UPPER(Mainframe!N99))","v":""},{"$f":"IF(AV101=\"\",\"\",IF(NOT(ISNA(VLOOKUP(AV101,Answers!AS:AV,4,FALSE))),VLOOKUP(AV101,Answers!AS:AV,4,FALSE),\"Help!\"))","v":""},null,{"$f":"IF(AW101=\"\",\"\",AU101+IF(AW101=\"XX\",VLOOKUP(\"WRONG\",Answers!AS:AV,4,FALSE),AW101)+AX101)","v":""},{"$f":"IF($B101=\"\",\"\",0+UPPER(Mainframe!O99))","v":""},"","",{"$f":"IF($B101=\"\",\"\",LEFT(Mainframe!P99,SEARCH(\".\",Mainframe!P99)-1))","v":""},null,null,null,null,null,null,null,null,null,null,null,null,null,null,null,null,null,null,null,null,null,null,null,null,null,null,null,null,null,null,72,{"$f":"IF(INDEX($B:$CE,ROW(),QNO*4)=\"XX\",\"[b][u]\"&INDEX($B:$CE,ROW(),QNO*4-1)&\"[/u][/b]\",\"[color=#BF0040]\"&INDEX(OFFSET(Answers!C:C,0,(QNO-1)*4),MATCH(INDEX($A:$CB,ROW(),QNO*4),OFFSET(Answers!A:A,0,(QNO-1)*4),0))&\"[/color]//[b]\"&INDEX(OFFSET(Answers!B:B,0,(QNO-1)*4),MATCH(INDEX($A:$CB,ROW(),QNO*4),OFFSET(Answers!A:A,0,(QNO-1)*4),0))&\"[/b] — [b]\"&IF(INDEX($B:$CE,ROW(),QNO*4)=1,\"Singleton!\",CONCATENATE(INDEX($B:$CE,ROW(),QNO*4),\" responses\"))&\"[/b]\")","v":{"$error":"#N/A"}},{"$error":"#VALUE!"},"Yes","72.  — [b][/b] pts",73,1]
["[*]",{"$f":"IF(Mainframe!B100=\"\",\"\",INDEX(Mainframe!$B:$B,C102+1,1))","v":""},99,{"$f":"IF($B102=\"\",\"\",0+UPPER(Mainframe!C100))","v":""},{"$f":"IF(D102=\"\",\"\",IF(NOT(ISNA(VLOOKUP(D102,Answers!A:D,4,FALSE))),VLOOKUP(D102,Answers!A:D,4,FALSE),\"Help!\"))","v":""},null,{"$f":"IF(E102=\"\",\"\",IF(E102=\"XX\",VLOOKUP(\"WRONG\",Answers!A:D,4,FALSE),E102)+F102)","v":""},{"$f":"IF($B102=\"\",\"\",0+UPPER(Mainframe!D100))","v":""},{"$f":"IF(H102=\"\",\"\",IF(NOT(ISNA(VLOOKUP(H102,Answers!E:H,4,FALSE))),VLOOKUP(H102,Answers!E:H,4,FALSE),\"Help!\"))","v":""},null,{"$f":"IF(I102=\"\",\"\",G102+IF(I102=\"XX\",VLOOKUP(\"WRONG\",Answers!E:H,4,FALSE),I102)+J102)","v":""},{"$f":"IF($B102=\"\",\"\",0+UPPER(Mainframe!E100))","v":""},{"$f":"IF(L102=\"\",\"\",IF(NOT(ISNA(VLOOKUP(L102,Answers!I:L,4,FALSE))),VLOOKUP(L102,Answers!I:L,4,FALSE),\"Help!\"))","v":""},null,{"$f":"IF(M102=\"\",\"\",K102+IF(M102=\"XX\",VLOOKUP(\"WRONG\",Answers!I:L,4,FALSE),M102)+N102)","v":""},{"$f":"IF($B102=\"\",\"\",0+UPPER(Mainframe!F100))","v":""},{"$f":"IF(P102=\"\",\"\",IF(NOT(ISNA(VLOOKUP(P102,Answers!M:P,4,FALSE))),VLOOKUP(P102,Answers!M:P,4,FALSE),\"Help!\"))","v":""},null,{"$f":"IF(Q102=\"\",\"\",O102+IF(Q102=\"XX\",VLOOKUP(\"WRONG\",Answers!M:P,4,FALSE),Q102)+R102)","v":""},{"$f":"IF($B102=\"\",\"\",0+UPPER(Mainframe!G100))","v":""},{"$f":"IF(T102=\"\",\"\",IF(NOT(ISNA(VLOOKUP(T102,Answers!Q:T,4,FALSE))),VLOOKUP(T102,Answers!Q:T,4,FALSE),\"Help!\"))","v":""},null,{"$f":"IF(U102=\"\",\"\",S102+IF(U102=\"XX\",VLOOKUP(\"WRONG\",Answers!Q:T,4,FALSE),U102)+V102)","v":""},{"$f":"IF($B102=\"\",\"\",0+UPPER(Mainframe!H100))","v":""},{"$f":"IF(X102=\"\",\"\",IF(NOT(ISNA(VLOOKUP(X102,Answers!U:X,4,FALSE))),VLOOKUP(X102,Answers!U:X,4,FALSE),\"Help!\"))","v":""},null,{"$f":"IF(Y102=\"\",\"\",W102+IF(Y102=\"XX\",VLOOKUP(\"WRONG\",Answers!U:X,4,FALSE),Y102)+Z102)","v":""},{"$f":"IF($B102=\"\",\"\",0+UPPER(Mainframe!I100))","v":""},{"$f":"IF(AB102=\"\",\"\",IF(NOT(ISNA(VLOOKUP(AB102,Answers!Y:AB,4,FALSE))),VLOOKUP(AB102,Answers!Y:AB,4,FALSE),\"Help!\"))","v":""},null,{"$f":"IF(AC102=\"\",\"\",AA102+IF(AC102=\"XX\",VLOOKUP(\"WRONG\",Answers!Y:AB,4,FALSE),AC102)+AD102)","v":""},{"$f":"IF($B102=\"\",\"\",0+UPPER(Mainframe!J100))","v":""},{"$f":"IF(AF102=\"\",\"\",IF(NOT(ISNA(VLOOKUP(AF102,Answers!AC:AF,4,FALSE))),VLOOKUP(AF102,Answers!AC:AF,4,FALSE),\"Help!\"))","v":""},null,{"$f":"IF(AG102=\"\",\"\",AE102+IF(AG102=\"XX\",VLOOKUP(\"WRONG\",Answers!AC:AF,4,FALSE),AG102)+AH102)","v":""},{"$f":"IF($B102=\"\",\"\",0+UPPER(Mainframe!K100))","v":""},{"$f":"IF(AJ102=\"\",\"\",IF(NOT(ISNA(VLOOKUP(AJ102,Answers!AG:AJ,4,FALSE))),VLOOKUP(AJ102,Answers!AG:AJ,4,FALSE),\"Help!\"))","v":""},null,{"$f":"IF(AK102=\"\",\"\",AI102+IF(AK102=\"XX\",VLOOKUP(\"WRONG\",Answers!AG:AJ,4,FALSE),AK102)+AL102)","v":""},{"$f":"IF($B102=\"\",\"\",0+UPPER(Mainframe!L100))","v":""},{"$f":"IF(AN102=\"\",\"\",IF(NOT(ISNA(VLOOKUP(AN102,Answers!AK:AN,4,FALSE))),VLOOKUP(AN102,Answers!AK:AN,4,FALSE),\"Help!\"))","v":""},null,{"$f":"IF(AO102=\"\",\"\",AM102+IF(AO102=\"XX\",VLOOKUP(\"WRONG\",Answers!AK:AN,4,FALSE),AO102)+AP102)","v":""},{"$f":"IF($B102=\"\",\"\",0+UPPER(Mainframe!M100))","v":""},{"$f":"IF(AR102=\"\",\"\",IF(NOT(ISNA(VLOOKUP(AR102,Answers!AO:AR,4,FALSE))),VLOOKUP(AR102,Answers!AO:AR,4,FALSE),\"Help!\"))","v":""},null,{"$f":"IF(AS102=\"\",\"\",AQ102+IF(AS102=\"XX\",VLOOKUP(\"WRONG\",Answers!AO:AR,4,FALSE),AS102)+AT102)","v":""},{"$f":"IF($B102=\"\",\"\",0+UPPER(Mainframe!N100))","v":""},{"$f":"IF(AV102=\"\",\"\",IF(NOT(ISNA(VLOOKUP(AV102,Answers!AS:AV,4,FALSE))),VLOOKUP(AV102,Answers!AS:AV,4,FALSE),\"Help!\"))","v":""},null,{"$f":"IF(AW102=\"\",\"\",AU102+IF(AW102=\"XX\",VLOOKUP(\"WRONG\",Answers!AS:AV,4,FALSE),AW102)+AX102)","v":""},{"$f":"IF($B102=\"\",\"\",0+UPPER(Mainframe!O100))","v":""},"","",{"$f":"IF($B102=\"\",\"\",LEFT(Mainframe!P100,SEARCH(\".\",Mainframe!P100)-1))","v":""},null,null,null,null,null,null,null,null,null,null,null,null,null,null,null,null,null,null,null,null,null,null,null,null,null,null,null,null,null,null,72,{"$f":"IF(INDEX($B:$CE,ROW(),QNO*4)=\"XX\",\"[b][u]\"&INDEX($B:$CE,ROW(),QNO*4-1)&\"[/u][/b]\",\"[color=#BF0040]\"&INDEX(OFFSET(Answers!C:C,0,(QNO-1)*4),MATCH(INDEX($A:$CB,ROW(),QNO*4),OFFSET(Answers!A:A,0,(QNO-1)*4),0))&\"[/color]//[b]\"&INDEX(OFFSET(Answers!B:B,0,(QNO-1)*4),MATCH(INDEX($A:$CB,ROW(),QNO*4),OFFSET(Answers!A:A,0,(QNO-1)*4),0))&\"[/b] — [b]\"&IF(INDEX($B:$CE,ROW(),QNO*4)=1,\"Singleton!\",CONCATENATE(INDEX($B:$CE,ROW(),QNO*4),\" responses\"))&\"[/b]\")","v":{"$error":"#N/A"}},{"$error":"#VALUE!"},"Yes","72.  — [b][/b] pts",73,1]
["[*]",{"$f":"IF(Mainframe!B101=\"\",\"\",INDEX(Mainframe!$B:$B,C103+1,1))","v":""},100,{"$f":"IF($B103=\"\",\"\",0+UPPER(Mainframe!C101))","v":""},{"$f":"IF(D103=\"\",\"\",IF(NOT(ISNA(VLOOKUP(D103,Answers!A:D,4,FALSE))),VLOOKUP(D103,Answers!A:D,4,FALSE),\"Help!\"))","v":""},null,{"$f":"IF(E103=\"\",\"\",IF(E103=\"XX\",VLOOKUP(\"WRONG\",Answers!A:D,4,FALSE),E103)+F103)","v":""},{"$f":"IF($B103=\"\",\"\",0+UPPER(Mainframe!D101))","v":""},{"$f":"IF(H103=\"\",\"\",IF(NOT(ISNA(VLOOKUP(H103,Answers!E:H,4,FALSE))),VLOOKUP(H103,Answers!E:H,4,FALSE),\"Help!\"))","v":""},null,{"$f":"IF(I103=\"\",\"\",G103+IF(I103=\"XX\",VLOOKUP(\"WRONG\",Answers!E:H,4,FALSE),I103)+J103)","v":""},{"$f":"IF($B103=\"\",\"\",0+UPPER(Mainframe!E101))","v":""},{"$f":"IF(L103=\"\",\"\",IF(NOT(ISNA(VLOOKUP(L103,Answers!I:L,4,FALSE))),VLOOKUP(L103,Answers!I:L,4,FALSE),\"Help!\"))","v":""},null,{"$f":"IF(M103=\"\",\"\",K103+IF(M103=\"XX\",VLOOKUP(\"WRONG\",Answers!I:L,4,FALSE),M103)+N103)","v":""},{"$f":"IF($B103=\"\",\"\",0+UPPER(Mainframe!F101))","v":""},{"$f":"IF(P103=\"\",\"\",IF(NOT(ISNA(VLOOKUP(P103,Answers!M:P,4,FALSE))),VLOOKUP(P103,Answers!M:P,4,FALSE),\"Help!\"))","v":""},null,{"$f":"IF(Q103=\"\",\"\",O103+IF(Q103=\"XX\",VLOOKUP(\"WRONG\",Answers!M:P,4,FALSE),Q103)+R103)","v":""},{"$f":"IF($B103=\"\",\"\",0+UPPER(Mainframe!G101))","v":""},{"$f":"IF(T103=\"\",\"\",IF(NOT(ISNA(VLOOKUP(T103,Answers!Q:T,4,FALSE))),VLOOKUP(T103,Answers!Q:T,4,FALSE),\"Help!\"))","v":""},null,{"$f":"IF(U103=\"\",\"\",S103+IF(U103=\"XX\",VLOOKUP(\"WRONG\",Answers!Q:T,4,FALSE),U103)+V103)","v":""},{"$f":"IF($B103=\"\",\"\",0+UPPER(Mainframe!H101))","v":""},{"$f":"IF(X103=\"\",\"\",IF(NOT(ISNA(VLOOKUP(X103,Answers!U:X,4,FALSE))),VLOOKUP(X103,Answers!U:X,4,FALSE),\"Help!\"))","v":""},null,{"$f":"IF(Y103=\"\",\"\",W103+IF(Y103=\"XX\",VLOOKUP(\"WRONG\",Answers!U:X,4,FALSE),Y103)+Z103)","v":""},{"$f":"IF($B103=\"\",\"\",0+UPPER(Mainframe!I101))","v":""},{"$f":"IF(AB103=\"\",\"\",IF(NOT(ISNA(VLOOKUP(AB103,Answers!Y:AB,4,FALSE))),VLOOKUP(AB103,Answers!Y:AB,4,FALSE),\"Help!\"))","v":""},null,{"$f":"IF(AC103=\"\",\"\",AA103+IF(AC103=\"XX\",VLOOKUP(\"WRONG\",Answers!Y:AB,4,FALSE),AC103)+AD103)","v":""},{"$f":"IF($B103=\"\",\"\",0+UPPER(Mainframe!J101))","v":""},{"$f":"IF(AF103=\"\",\"\",IF(NOT(ISNA(VLOOKUP(AF103,Answers!AC:AF,4,FALSE))),VLOOKUP(AF103,Answers!AC:AF,4,FALSE),\"Help!\"))","v":""},null,{"$f":"IF(AG103=\"\",\"\",AE103+IF(AG103=\"XX\",VLOOKUP(\"WRONG\",Answers!AC:AF,4,FALSE),AG103)+AH103)","v":""},{"$f":"IF($B103=\"\",\"\",0+UPPER(Mainframe!K101))","v":""},{"$f":"IF(AJ103=\"\",\"\",IF(NOT(ISNA(VLOOKUP(AJ103,Answers!AG:AJ,4,FALSE))),VLOOKUP(AJ103,Answers!AG:AJ,4,FALSE),\"Help!\"))","v":""},null,{"$f":"IF(AK103=\"\",\"\",AI103+IF(AK103=\"XX\",VLOOKUP(\"WRONG\",Answers!AG:AJ,4,FALSE),AK103)+AL103)","v":""},{"$f":"IF($B103=\"\",\"\",0+UPPER(Mainframe!L101))","v":""},{"$f":"IF(AN103=\"\",\"\",IF(NOT(ISNA(VLOOKUP(AN103,Answers!AK:AN,4,FALSE))),VLOOKUP(AN103,Answers!AK:AN,4,FALSE),\"Help!\"))","v":""},null,{"$f":"IF(AO103=\"\",\"\",AM103+IF(AO103=\"XX\",VLOOKUP(\"WRONG\",Answers!AK:AN,4,FALSE),AO103)+AP103)","v":""},{"$f":"IF($B103=\"\",\"\",0+UPPER(Mainframe!M101))","v":""},{"$f":"IF(AR103=\"\",\"\",IF(NOT(ISNA(VLOOKUP(AR103,Answers!AO:AR,4,FALSE))),VLOOKUP(AR103,Answers!AO:AR,4,FALSE),\"Help!\"))","v":""},null,{"$f":"IF(AS103=\"\",\"\",AQ103+IF(AS103=\"XX\",VLOOKUP(\"WRONG\",Answers!AO:AR,4,FALSE),AS103)+AT103)","v":""},{"$f":"IF($B103=\"\",\"\",0+UPPER(Mainframe!N101))","v":""},{"$f":"IF(AV103=\"\",\"\",IF(NOT(ISNA(VLOOKUP(AV103,Answers!AS:AV,4,FALSE))),VLOOKUP(AV103,Answers!AS:AV,4,FALSE),\"Help!\"))","v":""},null,{"$f":"IF(AW103=\"\",\"\",AU103+IF(AW103=\"XX\",VLOOKUP(\"WRONG\",Answers!AS:AV,4,FALSE),AW103)+AX103)","v":""},{"$f":"IF($B103=\"\",\"\",0+UPPER(Mainframe!O101))","v":""},"","",{"$f":"IF($B103=\"\",\"\",LEFT(Mainframe!P101,SEARCH(\".\",Mainframe!P101)-1))","v":""},null,null,null,null,null,null,null,null,null,null,null,null,null,null,null,null,null,null,null,null,null,null,null,null,null,null,null,null,null,null,72,{"$f":"IF(INDEX($B:$CE,ROW(),QNO*4)=\"XX\",\"[b][u]\"&INDEX($B:$CE,ROW(),QNO*4-1)&\"[/u][/b]\",\"[color=#BF0040]\"&INDEX(OFFSET(Answers!C:C,0,(QNO-1)*4),MATCH(INDEX($A:$CB,ROW(),QNO*4),OFFSET(Answers!A:A,0,(QNO-1)*4),0))&\"[/color]//[b]\"&INDEX(OFFSET(Answers!B:B,0,(QNO-1)*4),MATCH(INDEX($A:$CB,ROW(),QNO*4),OFFSET(Answers!A:A,0,(QNO-1)*4),0))&\"[/b] — [b]\"&IF(INDEX($B:$CE,ROW(),QNO*4)=1,\"Singleton!\",CONCATENATE(INDEX($B:$CE,ROW(),QNO*4),\" responses\"))&\"[/b]\")","v":{"$error":"#N/A"}},{"$error":"#VALUE!"},"Yes","72.  — [b][/b] pts",73,1]

{"sheet":"Answers","index":2,"n_rows":48,"n_cols":80,"rows_kept":48,"cut":false,"hidden":false,"merged":[]}
["Question 1",null,null,null,"Question 2",null,null,null,"Question 3",null,null,null,"Question 4",null,null,null,"Question 5",null,null,null,"Question 6",null,null,null,"Question 7",null,null,null,"Question 8",null,null,null,"Question 9",null,null,null,"Question 10",null,null,null,"Question 11",null,null,null,"Question 12",null,null,null,"Question 13",null,null,null,"Question 14",null,null,null,"Question 15",null,null,null,"Question 16",null,null,null,"Question 17",null,null,null,"Question 18",null,null,null,"Question 19",null,null,null,"Question 20"]
["WRONG",null,null,{"$f":"1000+ROUND(PLAYERS/10,0)","v":1007},"WRONG",null,null,{"$f":"1000+ROUND(PLAYERS/10,0)","v":1007},"WRONG",null,null,{"$f":"1000+ROUND(PLAYERS/10,0)","v":1007},"WRONG",null,null,{"$f":"1000+ROUND(PLAYERS/10,0)","v":1007},"WRONG",null,null,{"$f":"1000+ROUND(PLAYERS/10,0)","v":1007},"WRONG",null,null,{"$f":"1000+ROUND(PLAYERS/10,0)","v":1007},"WRONG",null,null,{"$f":"1000+ROUND(PLAYERS/10,0)","v":1007},"WRONG",null,null,{"$f":"1000+ROUND(PLAYERS/10,0)","v":1007},"WRONG",null,null,{"$f":"1000+ROUND(PLAYERS/10,0)","v":1007},"WRONG",null,null,{"$f":"1000+ROUND(PLAYERS/10,0)","v":1007},"WRONG",null,null,{"$f":"1000+ROUND(PLAYERS/10,0)","v":1007},"WRONG",null,null,{"$f":"1000+ROUND(PLAYERS/10,0)","v":1007},"WRONG",null,null,{"$f":"AZ7+5","v":5},"WRONG",null,null,{"$f":"BD7+5","v":5},"WRONG",null,null,{"$f":"BH7+5","v":5},"WRONG",null,null,{"$f":"BL7+5","v":5},"WRONG",null,null,{"$f":"BP7+5","v":5},"WRONG",null,null,{"$f":"BT7+5","v":5},"WRONG",null,null,{"$f":"BX7+5","v":5},"WRONG",null,null,{"$f":"CB7+5","v":5}]
["MAX",null,null,{"$f":"MAX(D9:D20)","v":13},"MAX",null,null,{"$f":"MAX(H9:H20)","v":13},"MAX",null,null,{"$f":"MAX(L9:L20)","v":13},"MAX",null,null,{"$f":"MAX(P9:P20)","v":13},"MAX",null,null,{"$f":"MAX(T9:T20)","v":14},"MAX",null,null,{"$f":"MAX(X9:X20)","v":15},"MAX",null,null,{"$f":"MAX(AB9:AB20)","v":14},"MAX",null,null,{"$f":"MAX(AF9:AF20)","v":12},"MAX",null,null,{"$f":"MAX(AJ9:AJ20)","v":9},"MAX",null,null,{"$f":"MAX(AN9:AN20)","v":9},"MAX",null,null,{"$f":"MAX(AR9:AR20)","v":18},"MAX",null,null,{"$f":"MAX(AV9:AV20)","v":14},{"$f":"DROPNAME","v":"DROP"},null,null,{"$f":"DROPSCORE","v":0},{"$f":"DROPNAME","v":"DROP"},null,null,{"$f":"DROPSCORE","v":0},{"$f":"DROPNAME","v":"DROP"},null,null,{"$f":"DROPSCORE","v":0},{"$f":"DROPNAME","v":"DROP"},null,null,{"$f":"DROPSCORE","v":0},{"$f":"DROPNAME","v":"DROP"},null,null,{"$f":"DROPSCORE","v":0},{"$f":"DROPNAME","v":"DROP"},null,null,{"$f":"DROPSCORE","v":0},{"$f":"DROPNAME","v":"DROP"},null,null,{"$f":"DROPSCORE","v":0},{"$f":"DROPNAME","v":"DROP"},null,null,{"$f":"DROPSCORE","v":0}]
["LEAD",null,null,{"$f":"LARGE(D9:D20,1)-LARGE(D9:D20,2)","v":2},"LEAD",null,null,{"$f":"LARGE(H9:H20,1)-LARGE(H9:H20,2)","v":2},"LEAD",null,null,{"$f":"LARGE(L9:L20,1)-LARGE(L9:L20,2)","v":1},"LEAD",null,null,{"$f":"LARGE(P9:P20,1)-LARGE(P9:P20,2)","v":3},"LEAD",null,null,{"$f":"LARGE(T9:T20,1)-LARGE(T9:T20,2)","v":0},"LEAD",null,null,{"$f":"LARGE(X9:X20,1)-LARGE(X9:X20,2)","v":7},"LEAD",null,null,{"$f":"LARGE(AB9:AB20,1)-LARGE(AB9:AB20,2)","v":1},"LEAD",null,null,{"$f":"LARGE(AF9:AF20,1)-LARGE(AF9:AF20,2)","v":2},"LEAD",null,null,{"$f":"LARGE(AJ9:AJ20,1)-LARGE(AJ9:AJ20,2)","v":0},"LEAD",null,null,{"$f":"LARGE(AN9:AN20,1)-LARGE(AN9:AN20,2)","v":0},"LEAD",null,null,{"$f":"LARGE(AR9:AR20,1)-LARGE(AR9:AR20,2)","v":9},"LEAD",null,null,{"$f":"LARGE(AV9:AV20,1)-LARGE(AV9:AV20,2)","v":5}]
["SINGLETONS",null,null,{"$f":"COUNTIF(D9:D20,1)","v":1},"SINGLETONS",null,null,{"$f":"COUNTIF(H9:H20,1)","v":2},"SINGLETONS",null,null,{"$f":"COUNTIF(L9:L20,1)","v":0},"SINGLETONS",null,null,{"$f":"COUNTIF(P9:P20,1)","v":1},"SINGLETONS",null,null,{"$f":"COUNTIF(T9:T20,1)","v":1},"SINGLETONS",null,null,{"$f":"COUNTIF(X9:X20,1)","v":1},"SINGLETONS",null,null,{"$f":"COUNTIF(AB9:AB20,1)","v":2},"SINGLETONS",null,null,{"$f":"COUNTIF(AF9:AF20,1)","v":1},"SINGLETONS",null,null,{"$f":"COUNTIF(AJ9:AJ20,1)","v":0},"SINGLETONS",null,null,{"$f":"COUNTIF(AN9:AN20,1)","v":0},"SINGLETONS",null,null,{"$f":"COUNTIF(AR9:AR20,1)","v":2},"SINGLETONS",null,null,{"$f":"COUNTIF(AV9:AV20,1)","v":0}]
["UNANSWERED",null,null,{"$f":"COUNTIF(D9:D20,0)","v":0},"UNANSWERED",null,null,{"$f":"COUNTIF(H9:H20,0)","v":0},"UNANSWERED",null,null,{"$f":"COUNTIF(L9:L20,0)","v":1},"UNANSWERED",null,null,{"$f":"COUNTIF(P9:P20,0)","v":1},"UNANSWERED",null,null,{"$f":"COUNTIF(T9:T20,0)","v":0},"UNANSWERED",null,null,{"$f":"COUNTIF(X9:X20,0)","v":1},"UNANSWERED",null,null,{"$f":"COUNTIF(AB9:AB20,0)","v":0},"UNANSWERED",null,null,{"$f":"COUNTIF(AF9:AF20,0)","v":1},"UNANSWERED",null,null,{"$f":"COUNTIF(AJ9:AJ20,0)","v":0},"UNANSWERED",null,null,{"$f":"COUNTIF(AN9:AN20,0)","v":0},"UNANSWERED",null,null,{"$f":"COUNTIF(AR9:AR20,0)","v":0},"UNANSWERED",null,null,{"$f":"COUNTIF(AV9:AV20,0)","v":1}]
[{"$f":"INDEX(A9:A20,MATCH(MAX(D9:D20),D9:D20,0))","v":40},{"$f":"INDEX(B9:B20,MATCH(MAX(D9:D20),D9:D20,0))","v":"UB[u]40[/u]"},{"$f":"INDEX(C9:C20,MATCH(MAX(D9:D20),D9:D20,0))","v":"\"King\", \"Red Red Wine\", \"(I Can't Help) Falling in Love With You\""},1000,{"$f":"INDEX(E9:E20,MATCH(MAX(H9:H20),H9:H20,0))","v":21},{"$f":"INDEX(F9:F20,MATCH(MAX(H9:H20),H9:H20,0))","v":"[u]21[/u]"},{"$f":"INDEX(G9:G20,MATCH(MAX(H9:H20),H9:H20,0))","v":"target total in blackjack"},1000,{"$f":"INDEX(I9:I20,MATCH(MAX(L9:L20),L9:L20,0))","v":34},{"$f":"INDEX(J9:J20,MATCH(MAX(L9:L20),L9:L20,0))","v":"MIRACLE ON [u]34[/u]TH STREET"},{"$f":"INDEX(K9:K20,MATCH(MAX(L9:L20),L9:L20,0))","v":"1947: \"Oh, Christmas isn't just a day, it's a frame of mind… and that's what's been changing.\""},1000,{"$f":"INDEX(M9:M20,MATCH(MAX(P9:P20),P9:P20,0))","v":1861},{"$f":"INDEX(N9:N20,MATCH(MAX(P9:P20),P9:P20,0))","v":"[u]1861[/u]"},{"$f":"INDEX(O9:O20,MATCH(MAX(P9:P20),P9:P20,0))","v":"Battle of Fort Sumter"},1000,{"$f":"INDEX(Q9:Q20,MATCH(MAX(T9:T20),T9:T20,0))","v":5},{"$f":"INDEX(R9:R20,MATCH(MAX(T9:T20),T9:T20,0))","v":"[u]5[/u] (BORON)"},{"$f":"INDEX(S9:S20,MATCH(MAX(T9:T20),T9:T20,0))","v":0},1000,{"$f":"INDEX(U9:U20,MATCH(MAX(X9:X20),X9:X20,0))","v":22},{"$f":"INDEX(V9:V20,MATCH(MAX(X9:X20),X9:X20,0))","v":"[i]CATCH-[u]22[/u][/i] by Joseph Heller"},{"$f":"INDEX(W9:W20,MATCH(MAX(X9:X20),X9:X20,0))","v":0},1000,{"$f":"INDEX(Y9:Y20,MATCH(MAX(AB9:AB20),AB9:AB20,0))","v":76},{"$f":"INDEX(Z9:Z20,MATCH(MAX(AB9:AB20),AB9:AB20,0))","v":"[u]SEVENTY-SIX[/u] [i](The Music Man)[/i]"},{"$f":"INDEX(AA9:AA20,MATCH(MAX(AB9:AB20),AB9:AB20,0))","v":"___ trombones led the big parade"},1000,{"$f":"INDEX(AC9:AC20,MATCH(MAX(AF9:AF20),AF9:AF20,0))","v":9},{"$f":"INDEX(AD9:AD20,MATCH(MAX(AF9:AF20),AF9:AF20,0))","v":"[u]9[/u] SUPREME COURT JUSTICES"},{"$f":"INDEX(AE9:AE20,MATCH(MAX(AF9:AF20),AF9:AF20,0))","v":"current Justices of the Supreme Court"},1000,{"$f":"INDEX(AG9:AG20,MATCH(MAX(AJ9:AJ20),AJ9:AJ20,0))","v":84},{"$f":"INDEX(AH9:AH20,MATCH(MAX(AJ9:AJ20),AJ9:AJ20,0))","v":"INTERSTATE [u]84[/u]"},{"$f":"INDEX(AI9:AI20,MATCH(MAX(AJ9:AJ20),AJ9:AJ20,0))","v":"Two with this number: Portland, OR – Echo, UT; Scranton, PA – Sturbridge, MA"},1000,{"$f":"INDEX(AK9:AK20,MATCH(MAX(AN9:AN20),AN9:AN20,0))","v":67},{"$f":"INDEX(AL9:AL20,MATCH(MAX(AN9:AN20),AN9:AN20,0))","v":"[u]67[/u] GAMES"},{"$f":"INDEX(AM9:AM20,MATCH(MAX(AN9:AN20),AN9:AN20,0))","v":"games played in the 2015 NCAA Men's Division 1 Basketball Tournament"},1000,{"$f":"INDEX(AO9:AO20,MATCH(MAX(AR9:AR20),AR9:AR20,0))","v":5},{"$f":"INDEX(AP9:AP20,MATCH(MAX(AR9:AR20),AR9:AR20,0))","v":"[u]FIVE[/u]-finger discount"},{"$f":"INDEX(AQ9:AQ20,MATCH(MAX(AR9:AR20),AR9:AR20,0))","v":0},1000,{"$f":"INDEX(AS9:AS20,MATCH(MAX(AV9:AV20),AV9:AV20,0))","v":10},{"$f":"INDEX(AT9:AT20,MATCH(MAX(AV9:AV20),AV9:AV20,0))","v":"[u]10[/u] COMMANDMENTS"},{"$f":"INDEX(AU9:AU20,MATCH(MAX(AV9:AV20),AV9:AV20,0))","v":"\"take what's on these two tablets and call me in the morning\" –Moses, allegedly"},1000,"SHEEP",null,null,{"$f":"MAX(AZ9:AZ48)","v":0},"SHEEP",null,null,{"$f":"MAX(BD9:BD48)","v":0},"SHEEP",null,null,{"$f":"MAX(BH9:BH48)","v":0},"SHEEP",null,null,{"$f":"MAX(BL9:BL48)","v":0},"SHEEP",null,null,{"$f":"MAX(BP9:BP48)","v":0},"SHEEP",null,null,{"$f":"MAX(BT9:BT48)","v":0},"SHEEP",null,null,{"$f":"MAX(BX9:BX48)","v":0},"SHEEP",null,null,{"$f":"MAX(CB9:CB48)","v":0}]
["Correct responses","Answer header","Additional info","#","Correct responses","Answer header","Additional info","#","Correct responses","Answer header","Additional info","#","Correct responses","Answer header","Additional info","#","Correct responses","Answer header","Additional info","#","Correct responses","Answer header","Additional info","#","Correct responses","Answer header","Additional info","#","Correct responses","Answer header","Additional info","#","Correct responses","Answer header","Additional info","#","Correct responses","Answer header","Additional info","#","Correct responses","Answer header","Additional info","#","Correct responses","Answer header","Additional info","#","Correct responses","Answer header","Additional info","#","Correct responses","Answer header","Additional info","#","Correct responses","Answer header","Additional info","#","Correct responses","Answer header","Additional info","#","Correct responses","Answer header","Additional info","#","Correct responses","Answer header","Additional info","#","Correct responses","Answer header","Additional info","#","Correct responses","Answer header","Additional info","#"]
[10000,"[u]10,000[/u] MANIACS","\"What's the Matter Here?\", \"Trouble Me\", \"Because the Night\" (on [i]MTV Unplugged[/i])",{"$f":"IF(ISBLANK(A9),\"\",COUNTIF(Scoresheet!D:D,A9))","v":6},1326,{"$f":"\"[u]\"&E9&\"[/u]\"","v":"[u]1326[/u]"},"possible starting hands for a single player in Texas hold 'em",{"$f":"IF(ISBLANK(E9),\"\",COUNTIF(Scoresheet!H:H,E9))","v":2},3000,"[u]3000[/u] MILES TO GRACELAND","2001: \"I don't know what it is with those sideburns. I mean, I glued mine on. For you it's an actual lifestyle choice.\"",{"$f":"IF(ISBLANK(I9),\"\",COUNTIF(Scoresheet!L:L,I9))","v":2},2003,{"$f":"\"[u]\"&M9&\"[/u]\"","v":"[u]2003[/u]"},"Battle of Baghdad (\"Shock and Awe\" campaign)",{"$f":"IF(ISBLANK(M9),\"\",COUNTIF(Scoresheet!P:P,M9))","v":8},106,"[u]106[/u] (SEABORGIUM)",null,{"$f":"IF(ISBLANK(Q9),\"\",COUNTIF(Scoresheet!T:T,Q9))","v":2},1984,"[i][u]1984[/u][/i] by George Orwell",null,{"$f":"IF(ISBLANK(U9),\"\",COUNTIF(Scoresheet!X:X,U9))","v":3},525600,"[u]FIVE HUNDRED TWENTY-FIVE THOUSAND SIX HUNDRED[/u] [i](Rent)[/i]","___ minutes. How do you measure a year in the life?",{"$f":"IF(ISBLANK(Y9),\"\",COUNTIF(Scoresheet!AB:AB,Y9))","v":5},1974,"[u]1974[/u]","second even-numbered year in which a new president was inaugurated",{"$f":"IF(ISBLANK(AC9),\"\",COUNTIF(Scoresheet!AF:AF,AC9))","v":8},99,{"$f":"\"INTERSTATE [u]\"&AG9&\"[/u]\"","v":"INTERSTATE [u]99[/u]"},"Bedford, PA – Painted Post, NY",{"$f":"IF(ISBLANK(AG9),\"\",COUNTIF(Scoresheet!AJ:AJ,AG9))","v":2},2130,"[u]2130[/u] GAMES","length of Lou Gehrig's consecutive-games streak, broken by Cal Ripken Jr. in 1995",{"$f":"IF(ISBLANK(AK9),\"\",COUNTIF(Scoresheet!AN:AN,AK9))","v":2},1000000,"feel like [u]A MILLION[/u] bucks",null,{"$f":"IF(ISBLANK(AO9),\"\",COUNTIF(Scoresheet!AR:AR,AO9))","v":1},5000,"THE [u]5000[/u]","miraculously, they shared 2 fish and 5 loaves",{"$f":"IF(ISBLANK(AS9),\"\",COUNTIF(Scoresheet!AV:AV,AS9))","v":9}]
[5000,"POWERMAN [u]5000[/u]","\"When Worlds Collide\", \"Free\", \"How To Be a Human\"",{"$f":"IF(ISBLANK(A10),\"\",COUNTIF(Scoresheet!D:D,A10))","v":5},775,{"$f":"\"[u]\"&E10&\"[/u]\"","v":"[u]775[/u]"},"area code for parts of Nevada, two less than what it wanted",{"$f":"IF(ISBLANK(E10),\"\",COUNTIF(Scoresheet!H:H,E10))","v":5},2012,"[u]2012[/u]","2009: \"I wish I could tell you we could prevent the coming destruction. We cannot.\"",{"$f":"IF(ISBLANK(I10),\"\",COUNTIF(Scoresheet!L:L,I10))","v":2},1964,"[u]1964[/u]","The Tonkin Gulf Incident",{"$f":"IF(ISBLANK(M10),\"\",COUNTIF(Scoresheet!P:P,M10))","v":3},92,"[u]92[/u] (URANIUM)",null,{"$f":"IF(ISBLANK(Q10),\"\",COUNTIF(Scoresheet!T:T,Q10))","v":3},1000,"[i]A [u]THOUSAND[/u] SPLENDID SUNS[/i] by Khaled Hosseini",null,{"$f":"IF(ISBLANK(U10),\"\",COUNTIF(Scoresheet!X:X,U10))","v":6},76,"[u]SEVENTY-SIX[/u] [i](The Music Man)[/i]","___ trombones led the big parade",{"$f":"IF(ISBLANK(Y10),\"\",COUNTIF(Scoresheet!AB:AB,Y10))","v":14},1916,"[u]1916[/u]","year in which the first woman was elected to Congress",{"$f":"IF(ISBLANK(AC10),\"\",COUNTIF(Scoresheet!AF:AF,AC10))","v":0},95,{"$f":"\"INTERSTATE [u]\"&AG10&\"[/u]\"","v":"INTERSTATE [u]95[/u]"},"Miami, FL – Houlton, ME",{"$f":"IF(ISBLANK(AG10),\"\",COUNTIF(Scoresheet!AJ:AJ,AG10))","v":6},100,"[u]100[/u] POINTS","Wilt Chamberlain's record for most points in a single game",{"$f":"IF(ISBLANK(AK10),\"\",COUNTIF(Scoresheet!AN:AN,AK10))","v":4},1000,"batting [u]A THOUSAND[/u]",null,{"$f":"IF(ISBLANK(AO10),\"\",COUNTIF(Scoresheet!AR:AR,AO10))","v":6},666,"[u]666[/u]","Revelation 13:18, excerpted: \"Let the person who has insight calculate\" this number",{"$f":"IF(ISBLANK(AS10),\"\",COUNTIF(Scoresheet!AV:AV,AS10))","v":5},null,null,null,{"$f":"IF(ISBLANK(AW10),\"\",COUNTIF(Scoresheet!AZ:AZ,AW10))","v":""},null,null,null,{"$f":"IF(ISBLANK(BA10),\"\",COUNTIF(Scoresheet!BD:BD,BA10))","v":""},null,null,null,{"$f":"IF(ISBLANK(BE10),\"\",COUNTIF(Scoresheet!BH:BH,BE10))","v":""},null,null,null,{"$f":"IF(ISBLANK(BI10),\"\",COUNTIF(Scoresheet!BL:BL,BI10))","v":""},null,null,null,{"$f":"IF(ISBLANK(BM10),\"\",COUNTIF(Scoresheet!BP:BP,BM10))","v":""},null,null,null,{"$f":"IF(ISBLANK(BQ10),\"\",COUNTIF(Scoresheet!BT:BT,BQ10))","v":""},null,null,null,{"$f":"IF(ISBLANK(BU10),\"\",COUNTIF(Scoresheet!BX:BX,BU10))","v":""},null,null,null,{"$f":"IF(ISBLANK(BY10),\"\",COUNTIF(Scoresheet!CB:CB,BY10))","v":""}]
[311,"[u]311[/u]","\"Down\", \"Amber\", \"Sunset in July\"",{"$f":"IF(ISBLANK(A11),\"\",COUNTIF(Scoresheet!D:D,A11))","v":1},121,"[u]121[/u]","points to win a cribbage game",{"$f":"IF(ISBLANK(E11),\"\",COUNTIF(Scoresheet!H:H,E11))","v":8},2001,"[u]2001[/u]: A SPACE ODYSSEY","1968: \"Open the pod bay doors, Hal.\"",{"$f":"IF(ISBLANK(I11),\"\",COUNTIF(Scoresheet!L:L,I11))","v":6},1940,"[u]1940[/u]","Battle of Britain (blitzkrieg)",{"$f":"IF(ISBLANK(M11),\"\",COUNTIF(Scoresheet!P:P,M11))","v":7},47,"[u]47[/u] (SILVER)",null,{"$f":"IF(ISBLANK(Q11),\"\",COUNTIF(Scoresheet!T:T,Q11))","v":3},451,"[i]FAHRENHEIT [u]451[/u][/i] by Ray Bradbury",null,{"$f":"IF(ISBLANK(U11),\"\",COUNTIF(Scoresheet!X:X,U11))","v":8},75,"[u]SEVENTY-FIVE[/u] [i](Aladdin)[/i]","He's got ___ golden camels [Don't they look lovely, June?]",{"$f":"IF(ISBLANK(Y11),\"\",COUNTIF(Scoresheet!AB:AB,Y11))","v":1},1850,"[u]1850[/u]","first even-numbered year in which a new president was inaugurated",{"$f":"IF(ISBLANK(AC11),\"\",COUNTIF(Scoresheet!AF:AF,AC11))","v":4},94,"INTERSTATE [u]94[/u]","Billings, MT – Port Huron, MI",{"$f":"IF(ISBLANK(AG11),\"\",COUNTIF(Scoresheet!AJ:AJ,AG11))","v":5},94,"[u]94[/u] FEET","length of an NBA court, in feet",{"$f":"IF(ISBLANK(AK11),\"\",COUNTIF(Scoresheet!AN:AN,AK11))","v":4},50,"go [u]FIFTY[/u]-[u]FIFTY[/u]",null,{"$f":"IF(ISBLANK(AO11),\"\",COUNTIF(Scoresheet!AR:AR,AO11))","v":5},622,"[u]622[/u]","A.D. year in which Muhammad fled to Medina (the Hijra)",{"$f":"IF(ISBLANK(AS11),\"\",COUNTIF(Scoresheet!AV:AV,AS11))","v":4},null,null,null,{"$f":"IF(ISBLANK(AW11),\"\",COUNTIF(Scoresheet!AZ:AZ,AW11))","v":""},null,null,null,{"$f":"IF(ISBLANK(BA11),\"\",COUNTIF(Scoresheet!BD:BD,BA11))","v":""},null,null,null,{"$f":"IF(ISBLANK(BE11),\"\",COUNTIF(Scoresheet!BH:BH,BE11))","v":""},null,null,null,{"$f":"IF(ISBLANK(BI11),\"\",COUNTIF(Scoresheet!BL:BL,BI11))","v":""},null,null,null,{"$f":"IF(ISBLANK(BM11),\"\",COUNTIF(Scoresheet!BP:BP,BM11))","v":""},null,null,null,{"$f":"IF(ISBLANK(BQ11),\"\",COUNTIF(Scoresheet!BT:BT,BQ11))","v":""},null,null,null,{"$f":"IF(ISBLANK(BU11),\"\",COUNTIF(Scoresheet!BX:BX,BU11))","v":""},null,null,null,{"$f":"IF(ISBLANK(BY11),\"\",COUNTIF(Scoresheet!CB:CB,BY11))","v":""}]
[182,"BLINK [u]182[/u]","\"Dammit (Growing Up)\", \"What's My Age Again?\", \"All the Small Things\"",{"$f":"IF(ISBLANK(A12),\"\",COUNTIF(Scoresheet!D:D,A12))","v":2},108,"[u]108[/u]","cards in a Canasta deck",{"$f":"IF(ISBLANK(E12),\"\",COUNTIF(Scoresheet!H:H,E12))","v":5},1138,"THX [u]1138[/u]","1971: \"Cybernetics, genetics, lasers and all those things. I guess I'll never understand any of that stuff. Guess maybe holograms are not supposed to.\"",{"$f":"IF(ISBLANK(I12),\"\",COUNTIF(Scoresheet!L:L,I12))","v":0},1861,"[u]1861[/u]","Battle of Fort Sumter",{"$f":"IF(ISBLANK(M12),\"\",COUNTIF(Scoresheet!P:P,M12))","v":13},36,"[u]36[/u] (KRYPTON)",null,{"$f":"IF(ISBLANK(Q12),\"\",COUNTIF(Scoresheet!T:T,Q12))","v":4},80,"[i]AROUND THE WORLD IN [u]80[/u] DAYS[/i] by Jules Verne",null,{"$f":"IF(ISBLANK(U12),\"\",COUNTIF(Scoresheet!X:X,U12))","v":5},64,"[u]SIXTY-FOUR[/u] [i](Chess)[/i]","Yes, I'm the Arbiter, I know the score. From square one I'll be watching all ___",{"$f":"IF(ISBLANK(Y12),\"\",COUNTIF(Scoresheet!AB:AB,Y12))","v":3},1789,"[u]1789[/u]","year in which the Constitution took effect",{"$f":"IF(ISBLANK(AC12),\"\",COUNTIF(Scoresheet!AF:AF,AC12))","v":1},84,"INTERSTATE [u]84[/u]","Two with this number: Portland, OR – Echo, UT; Scranton, PA – Sturbridge, MA",{"$f":"IF(ISBLANK(AG12),\"\",COUNTIF(Scoresheet!AJ:AJ,AG12))","v":9},76,"[u]76[/u]ers","Philadelphia's NBA team",{"$f":"IF(ISBLANK(AK12),\"\",COUNTIF(Scoresheet!AN:AN,AK12))","v":6},40,"catch [u]FORTY[/u] winks",null,{"$f":"IF(ISBLANK(AO12),\"\",COUNTIF(Scoresheet!AR:AR,AO12))","v":3},613,"[u]613[/u] MITZVOT","traditional number of mitzvot in the Torah, first proposed in the 3rd century",{"$f":"IF(ISBLANK(AS12),\"\",COUNTIF(Scoresheet!AV:AV,AS12))","v":4},null,null,null,{"$f":"IF(ISBLANK(AW12),\"\",COUNTIF(Scoresheet!AZ:AZ,AW12))","v":""},null,null,null,{"$f":"IF(ISBLANK(BA12),\"\",COUNTIF(Scoresheet!BD:BD,BA12))","v":""},null,null,null,{"$f":"IF(ISBLANK(BE12),\"\",COUNTIF(Scoresheet!BH:BH,BE12))","v":""},null,null,null,{"$f":"IF(ISBLANK(BI12),\"\",COUNTIF(Scoresheet!BL:BL,BI12))","v":""},null,null,null,{"$f":"IF(ISBLANK(BM12),\"\",COUNTIF(Scoresheet!BP:BP,BM12))","v":""},null,null,null,{"$f":"IF(ISBLANK(BQ12),\"\",COUNTIF(Scoresheet!BT:BT,BQ12))","v":""},null,null,null,{"$f":"IF(ISBLANK(BU12),\"\",COUNTIF(Scoresheet!BX:BX,BU12))","v":""},null,null,null,{"$f":"IF(ISBLANK(BY12),\"\",COUNTIF(Scoresheet!CB:CB,BY12))","v":""}]
[98,"[u]98[/u] DEGREES","\"Because of You\", \"The Hardest Thing\", \"Thank God I Found You\"",{"$f":"IF(ISBLANK(A13),\"\",COUNTIF(Scoresheet!D:D,A13))","v":2},100,"[u]100[/u]","tiles in English-language Scrabble, including blanks",{"$f":"IF(ISBLANK(E13),\"\",COUNTIF(Scoresheet!H:H,E13))","v":4},400,"THE [u]400[/u] BLOWS","1959: \"Oh, I lie now and then, I suppose. Sometimes I'd tell them the truth and they still wouldn't believe me, so I prefer to lie.\"",{"$f":"IF(ISBLANK(I13),\"\",COUNTIF(Scoresheet!L:L,I13))","v":2},1815,"[u]1815[/u]","Battle of Waterloo",{"$f":"IF(ISBLANK(M13),\"\",COUNTIF(Scoresheet!P:P,M13))","v":10},26,"[u]26[/u] (IRON)",null,{"$f":"IF(ISBLANK(Q13),\"\",COUNTIF(Scoresheet!T:T,Q13))","v":1},73,"[i][u]73[/u] POEMS[/i] by e.e. cummings",null,{"$f":"IF(ISBLANK(U13),\"\",COUNTIF(Scoresheet!X:X,U13))","v":0},42,"[u]FORTY-SECOND[/u] [i](42nd Street)[/i]","Come and meet those dancing feet, on the avenue I'm taking you to: ___ Street",{"$f":"IF(ISBLANK(Y13),\"\",COUNTIF(Scoresheet!AB:AB,Y13))","v":13},538,"[u]538[/u] ELECTORAL VOTES","electoral votes available in a presidential election",{"$f":"IF(ISBLANK(AC13),\"\",COUNTIF(Scoresheet!AF:AF,AC13))","v":4},80,"INTERSTATE [u]80[/u]","San Francisco, CA – Fort Lee, NJ",{"$f":"IF(ISBLANK(AG13),\"\",COUNTIF(Scoresheet!AJ:AJ,AG13))","v":6},67,"[u]67[/u] GAMES","games played in the 2015 NCAA Men's Division 1 Basketball Tournament",{"$f":"IF(ISBLANK(AK13),\"\",COUNTIF(Scoresheet!AN:AN,AK13))","v":9},19,"[u]NINETEEN[/u] to the dozen",null,{"$f":"IF(ISBLANK(AO13),\"\",COUNTIF(Scoresheet!AR:AR,AO13))","v":1},150,"PSALM [u]150[/u]","this final chapter of a Bible book begins: \"Praise the Lord. / Praise God in his sanctuary; praise him in his mighty heavens\"",{"$f":"IF(ISBLANK(AS13),\"\",COUNTIF(Scoresheet!AV:AV,AS13))","v":5},null,null,null,{"$f":"IF(ISBLANK(AW13),\"\",COUNTIF(Scoresheet!AZ:AZ,AW13))","v":""},null,null,null,{"$f":"IF(ISBLANK(BA13),\"\",COUNTIF(Scoresheet!BD:BD,BA13))","v":""},null,null,null,{"$f":"IF(ISBLANK(BE13),\"\",COUNTIF(Scoresheet!BH:BH,BE13))","v":""},null,null,null,{"$f":"IF(ISBLANK(BI13),\"\",COUNTIF(Scoresheet!BL:BL,BI13))","v":""},null,null,null,{"$f":"IF(ISBLANK(BM13),\"\",COUNTIF(Scoresheet!BP:BP,BM13))","v":""},null,null,null,{"$f":"IF(ISBLANK(BQ13),\"\",COUNTIF(Scoresheet!BT:BT,BQ13))","v":""},null,null,null,{"$f":"IF(ISBLANK(BU13),\"\",COUNTIF(Scoresheet!BX:BX,BU13))","v":""},null,null,null,{"$f":"IF(ISBLANK(BY13),\"\",COUNTIF(Scoresheet!CB:CB,BY13))","v":""}]
[65,"EIFFEL [u]65[/u]","\"Blue (Da Ba Dee)\", \"Move Your Body\", \"Lucky (In My Life)\"",{"$f":"IF(ISBLANK(A14),\"\",COUNTIF(Scoresheet!D:D,A14))","v":9},56,"[u]56[/u]","possible distinct rolls with 3 dice (e.g., 1-2-3 and 3-2-1 count just once)",{"$f":"IF(ISBLANK(E14),\"\",COUNTIF(Scoresheet!H:H,E14))","v":4},300,"[u]300[/u]","2006: \"Spartans! Ready your breakfast and eat hearty, for tonight, we dine in Hell!\"",{"$f":"IF(ISBLANK(I14),\"\",COUNTIF(Scoresheet!L:L,I14))","v":11},1777,"[u]1777[/u]","Battle of Saratoga",{"$f":"IF(ISBLANK(M14),\"\",COUNTIF(Scoresheet!P:P,M14))","v":3},18,"[u]18[/u] (ARGON)",null,{"$f":"IF(ISBLANK(Q14),\"\",COUNTIF(Scoresheet!T:T,Q14))","v":6},61,"[i]HIGHWAY [u]61[/u][/i] by William McKeen",null,{"$f":"IF(ISBLANK(U14),\"\",COUNTIF(Scoresheet!X:X,U14))","v":1},33,"[u]THIRTY-THREE[/u] [i](Avenue Q)[/i]","It sucks to be me – it sucks to be broke and unemployed and turning ___",{"$f":"IF(ISBLANK(Y14),\"\",COUNTIF(Scoresheet!AB:AB,Y14))","v":1},202,"([u]202[/u])","area code for Washington, D.C.",{"$f":"IF(ISBLANK(AC14),\"\",COUNTIF(Scoresheet!AF:AF,AC14))","v":10},76,"INTERSTATE [u]76[/u]","Two with this number: Denver, CO – Big Springs, NE; Westfield Center, OH – Camden, NJ (just east of Philadelphia)",{"$f":"IF(ISBLANK(AG14),\"\",COUNTIF(Scoresheet!AJ:AJ,AG14))","v":4},61,"[u]61[/u] HOME RUNS","number of home runs hit by Roger Maris in 1961",{"$f":"IF(ISBLANK(AK14),\"\",COUNTIF(Scoresheet!AN:AN,AK14))","v":5},11,"[u]ELEVENTH[/u]th-Hour decision",null,{"$f":"IF(ISBLANK(AO14),\"\",COUNTIF(Scoresheet!AR:AR,AO14))","v":5},95,"[u]95[/u] THESES","a \"gift\" to All Saints' Church in Wittenberg, 1517",{"$f":"IF(ISBLANK(AS14),\"\",COUNTIF(Scoresheet!AV:AV,AS14))","v":7},null,null,null,{"$f":"IF(ISBLANK(AW14),\"\",COUNTIF(Scoresheet!AZ:AZ,AW14))","v":""},null,null,null,{"$f":"IF(ISBLANK(BA14),\"\",COUNTIF(Scoresheet!BD:BD,BA14))","v":""},null,null,null,{"$f":"IF(ISBLANK(BE14),\"\",COUNTIF(Scoresheet!BH:BH,BE14))","v":""},null,null,null,{"$f":"IF(ISBLANK(BI14),\"\",COUNTIF(Scoresheet!BL:BL,BI14))","v":""},null,null,null,{"$f":"IF(ISBLANK(BM14),\"\",COUNTIF(Scoresheet!BP:BP,BM14))","v":""},null,null,null,{"$f":"IF(ISBLANK(BQ14),\"\",COUNTIF(Scoresheet!BT:BT,BQ14))","v":""},null,null,null,{"$f":"IF(ISBLANK(BU14),\"\",COUNTIF(Scoresheet!BX:BX,BU14))","v":""},null,null,null,{"$f":"IF(ISBLANK(BY14),\"\",COUNTIF(Scoresheet!CB:CB,BY14))","v":""}]
[40,"UB[u]40[/u]","\"King\", \"Red Red Wine\", \"(I Can't Help) Falling in Love With You\"",{"$f":"IF(ISBLANK(A15),\"\",COUNTIF(Scoresheet!D:D,A15))","v":13},42,"[u]42[/u]","spaces on a Connect Four board",{"$f":"IF(ISBLANK(E15),\"\",COUNTIF(Scoresheet!H:H,E15))","v":3},101,"[u]101[/u] DALMATIANS","1961: \"They are my only true love, dah-ling. I live for furs, I [i]worship[/i] furs! After all, is there a woman in this wretched world who doesn't?\"",{"$f":"IF(ISBLANK(I15),\"\",COUNTIF(Scoresheet!L:L,I15))","v":7},1453,"[u]1453[/u]","Fall of Constantinople",{"$f":"IF(ISBLANK(M15),\"\",COUNTIF(Scoresheet!P:P,M15))","v":2},17,"[u]17[/u] (CHLORINE)",null,{"$f":"IF(ISBLANK(Q15),\"\",COUNTIF(Scoresheet!T:T,Q15))","v":2},52,"[i][u]52[/u] PICK-UP[/i] by Elmore Leonard",null,{"$f":"IF(ISBLANK(U15),\"\",COUNTIF(Scoresheet!X:X,U15))","v":2},25,"[u]TWENTY-FIFTH[/u] [i](The 25th Annual Putnam County Spelling Bee)[/i]","At the ___ Annual, we memorize the manual, about how to spell these words",{"$f":"IF(ISBLANK(Y15),\"\",COUNTIF(Scoresheet!AB:AB,Y15))","v":7},49,"[u]49[/u] STATES (not Nebraska)","states with a bicameral legislature",{"$f":"IF(ISBLANK(AC15),\"\",COUNTIF(Scoresheet!AF:AF,AC15))","v":10},75,"INTERSTATE [u]75[/u]","Hialeah, FL – Sault Ste. Marie, MI",{"$f":"IF(ISBLANK(AG15),\"\",COUNTIF(Scoresheet!AJ:AJ,AG15))","v":4},60,"[u]60[/u] MINUTES","minutes in a regulation NHL game",{"$f":"IF(ISBLANK(AK15),\"\",COUNTIF(Scoresheet!AN:AN,AK15))","v":4},9,"on cloud [u]NINE[/u]",null,{"$f":"IF(ISBLANK(AO15),\"\",COUNTIF(Scoresheet!AR:AR,AO15))","v":9},40,"[u]40[/u] DAYS","time, in days, that Jesus spent wandering in the desert",{"$f":"IF(ISBLANK(AS15),\"\",COUNTIF(Scoresheet!AV:AV,AS15))","v":4},null,null,null,{"$f":"IF(ISBLANK(AW15),\"\",COUNTIF(Scoresheet!AZ:AZ,AW15))","v":""},null,null,null,{"$f":"IF(ISBLANK(BA15),\"\",COUNTIF(Scoresheet!BD:BD,BA15))","v":""},null,null,null,{"$f":"IF(ISBLANK(BE15),\"\",COUNTIF(Scoresheet!BH:BH,BE15))","v":""},null,null,null,{"$f":"IF(ISBLANK(BI15),\"\",COUNTIF(Scoresheet!BL:BL,BI15))","v":""},null,null,null,{"$f":"IF(ISBLANK(BM15),\"\",COUNTIF(Scoresheet!BP:BP,BM15))","v":""},null,null,null,{"$f":"IF(ISBLANK(BQ15),\"\",COUNTIF(Scoresheet!BT:BT,BQ15))","v":""},null,null,null,{"$f":"IF(ISBLANK(BU15),\"\",COUNTIF(Scoresheet!BX:BX,BU15))","v":""},null,null,null,{"$f":"IF(ISBLANK(BY15),\"\",COUNTIF(Scoresheet!CB:CB,BY15))","v":""}]
[20,"MATCHBOX [u]20[/u]","\"Push\", \"Bent\", \"Unwell\"",{"$f":"IF(ISBLANK(A16),\"\",COUNTIF(Scoresheet!D:D,A16))","v":6},38,"[u]38[/u]","spaces on a North American roulette wheel",{"$f":"IF(ISBLANK(E16),\"\",COUNTIF(Scoresheet!H:H,E16))","v":7},47,"THE [u]47[/u] RONIN","2013 (remake of 1941 film): \"For the crime of disobedience, you should all be executed as common criminals, but you and your men follow the old ways of Bushido.\"",{"$f":"IF(ISBLANK(I16),\"\",COUNTIF(Scoresheet!L:L,I16))","v":2},1415,"[u]1415[/u]","Battle of Agincourt",{"$f":"IF(ISBLANK(M16),\"\",COUNTIF(Scoresheet!P:P,M16))","v":7},11,"[u]11[/u] (SODIUM)",null,{"$f":"IF(ISBLANK(Q16),\"\",COUNTIF(Scoresheet!T:T,Q16))","v":4},49,"[i]THE CRYING OF LOT [u]49[/u][/i]","The Crying of Lot 49, Thomas Pynchon",{"$f":"IF(ISBLANK(U16),\"\",COUNTIF(Scoresheet!X:X,U16))","v":4},20,"[u]TWENTY[/u] [i](The Little Mermaid)[/i]","Want a thing-a-ma-bob? I've got ___! But who cares… No big deal…",{"$f":"IF(ISBLANK(Y16),\"\",COUNTIF(Scoresheet!AB:AB,Y16))","v":13},47,"[u]47[/u] VICE PRESIDENTS","number of men who have served as Vice President",{"$f":"IF(ISBLANK(AC16),\"\",COUNTIF(Scoresheet!AF:AF,AC16))","v":2},35,"INTERSTATE [u]35[/u]","Laredo, TX – Duluth, MN",{"$f":"IF(ISBLANK(AG16),\"\",COUNTIF(Scoresheet!AJ:AJ,AG16))","v":8},49,"[u]49[/u]ers","San Francisco's NFL team",{"$f":"IF(ISBLANK(AK16),\"\",COUNTIF(Scoresheet!AN:AN,AK16))","v":9},8,"behind the [u]EIGHT[/u] ball",null,{"$f":"IF(ISBLANK(AO16),\"\",COUNTIF(Scoresheet!AR:AR,AO16))","v":6},27,"[u]27[/u] BOOKS","number of books in the New Testament, according to almost all modern Christian sects",{"$f":"IF(ISBLANK(AS16),\"\",COUNTIF(Scoresheet!AV:AV,AS16))","v":9},null,null,null,{"$f":"IF(ISBLANK(AW16),\"\",COUNTIF(Scoresheet!AZ:AZ,AW16))","v":""},null,null,null,{"$f":"IF(ISBLANK(BA16),\"\",COUNTIF(Scoresheet!BD:BD,BA16))","v":""},null,null,null,{"$f":"IF(ISBLANK(BE16),\"\",COUNTIF(Scoresheet!BH:BH,BE16))","v":""},null,null,null,{"$f":"IF(ISBLANK(BI16),\"\",COUNTIF(Scoresheet!BL:BL,BI16))","v":""},null,null,null,{"$f":"IF(ISBLANK(BM16),\"\",COUNTIF(Scoresheet!BP:BP,BM16))","v":""},null,null,null,{"$f":"IF(ISBLANK(BQ16),\"\",COUNTIF(Scoresheet!BT:BT,BQ16))","v":""},null,null,null,{"$f":"IF(ISBLANK(BU16),\"\",COUNTIF(Scoresheet!BX:BX,BU16))","v":""},null,null,null,{"$f":"IF(ISBLANK(BY16),\"\",COUNTIF(Scoresheet!CB:CB,BY16))","v":""}]
[9,"[u]NINE[/u] INCH NAILS","\"Down in It\", \"The Hand That Feeds\", \"Came Back Haunted\"",{"$f":"IF(ISBLANK(A17),\"\",COUNTIF(Scoresheet!D:D,A17))","v":2},22,"[u]22[/u]","number of improvable properties in Monopoly",{"$f":"IF(ISBLANK(E17),\"\",COUNTIF(Scoresheet!H:H,E17))","v":11},34,"MIRACLE ON [u]34[/u]TH STREET","1947: \"Oh, Christmas isn't just a day, it's a frame of mind… and that's what's been changing.\"",{"$f":"IF(ISBLANK(I17),\"\",COUNTIF(Scoresheet!L:L,I17))","v":13},1066,"[u]1066[/u]","Battle of Stamford Bridge",{"$f":"IF(ISBLANK(M17),\"\",COUNTIF(Scoresheet!P:P,M17))","v":2},8,"[u]8[/u] (OXYGEN)",null,{"$f":"IF(ISBLANK(Q17),\"\",COUNTIF(Scoresheet!T:T,Q17))","v":6},22,"[i]CATCH-[u]22[/u][/i] by Joseph Heller",null,{"$f":"IF(ISBLANK(U17),\"\",COUNTIF(Scoresheet!X:X,U17))","v":15},19,"[u]NINETEEN[/u] [i](The Book of Mormon)[/i]","It's something I've foreseen, now that I'm ___. I'll do something incredible – that blows God's freakin' mind!",{"$f":"IF(ISBLANK(Y17),\"\",COUNTIF(Scoresheet!AB:AB,Y17))","v":2},34,"[u]34[/u] SENATORS","number of Senators in Class 3 (note: Classes 1 and 2 have the same amount)",{"$f":"IF(ISBLANK(AC17),\"\",COUNTIF(Scoresheet!AF:AF,AC17))","v":4},20,"INTERSTATE [u]20[/u]","Scroggins Draw, TX – Florence, SC",{"$f":"IF(ISBLANK(AG17),\"\",COUNTIF(Scoresheet!AJ:AJ,AG17))","v":2},42,"[u]42[/u]","Jackie Robinson's number",{"$f":"IF(ISBLANK(AK17),\"\",COUNTIF(Scoresheet!AN:AN,AK17))","v":8},6,"[u]SIX[/u] of one, half a dozen of the other",null,{"$f":"IF(ISBLANK(AO17),\"\",COUNTIF(Scoresheet!AR:AR,AO17))","v":8},12,"[u]12[/u] MINOR PROPHETS","among them are Hosea, Joel, Amos, and Obadiah",{"$f":"IF(ISBLANK(AS17),\"\",COUNTIF(Scoresheet!AV:AV,AS17))","v":4},null,null,null,{"$f":"IF(ISBLANK(AW17),\"\",COUNTIF(Scoresheet!AZ:AZ,AW17))","v":""},null,null,null,{"$f":"IF(ISBLANK(BA17),\"\",COUNTIF(Scoresheet!BD:BD,BA17))","v":""},null,null,null,{"$f":"IF(ISBLANK(BE17),\"\",COUNTIF(Scoresheet!BH:BH,BE17))","v":""},null,null,null,{"$f":"IF(ISBLANK(BI17),\"\",COUNTIF(Scoresheet!BL:BL,BI17))","v":""},null,null,null,{"$f":"IF(ISBLANK(BM17),\"\",COUNTIF(Scoresheet!BP:BP,BM17))","v":""},null,null,null,{"$f":"IF(ISBLANK(BQ17),\"\",COUNTIF(Scoresheet!BT:BT,BQ17))","v":""},null,null,null,{"$f":"IF(ISBLANK(BU17),\"\",COUNTIF(Scoresheet!BX:BX,BU17))","v":""},null,null,null,{"$f":"IF(ISBLANK(BY17),\"\",COUNTIF(Scoresheet!CB:CB,BY17))","v":""}]
[5,"MAROON [u]5[/u]","\"She Will Be Loved\", \"Makes Me Wonder\", \"Moves like Jagger\"",{"$f":"IF(ISBLANK(A18),\"\",COUNTIF(Scoresheet!D:D,A18))","v":5},21,"[u]21[/u]","target total in blackjack",{"$f":"IF(ISBLANK(E18),\"\",COUNTIF(Scoresheet!H:H,E18))","v":13},16,"[u]SIXTEEN[/u] CANDLES","1984: \"Wease, we've got seventy dollars and a pair of girl's underpants. We're safe as kittens.\"",{"$f":"IF(ISBLANK(I18),\"\",COUNTIF(Scoresheet!L:L,I18))","v":12},455,"[u]455[/u]","Sack of Rome by Vandals",{"$f":"IF(ISBLANK(M18),\"\",COUNTIF(Scoresheet!P:P,M18))","v":0},6,"[u]6[/u] (CARBON)",null,{"$f":"IF(ISBLANK(Q18),\"\",COUNTIF(Scoresheet!T:T,Q18))","v":9},12,"[i][u]TWELVE[/u] YEARS A SLAVE[/i] by Solomon Northrup",null,{"$f":"IF(ISBLANK(U18),\"\",COUNTIF(Scoresheet!X:X,U18))","v":5},11,"[u]ELEVEN[/u] [i](Joseph and the Amazing Technicolor Dreamcoat)[/i]","I dreamed that in the fields one day, the corn gave me sign; your ___ sheaves of corn all turned and bowed to mine",{"$f":"IF(ISBLANK(Y18),\"\",COUNTIF(Scoresheet!AB:AB,Y18))","v":4},18,"[u]18[/u]th AMENDMENT","the only Constitutional Amendment to be later nullified in full",{"$f":"IF(ISBLANK(AC18),\"\",COUNTIF(Scoresheet!AF:AF,AC18))","v":10},8,"INTERSTATE [u]8[/u]","San Diego, CA – Casa Grande, AZ",{"$f":"IF(ISBLANK(AG18),\"\",COUNTIF(Scoresheet!AJ:AJ,AG18))","v":5},22,"[u]22[/u] PLAYERS","total players on the field at the start of a professional soccer game",{"$f":"IF(ISBLANK(AK18),\"\",COUNTIF(Scoresheet!AN:AN,AK18))","v":6},5,"[u]FIVE[/u]-finger discount",null,{"$f":"IF(ISBLANK(AO18),\"\",COUNTIF(Scoresheet!AR:AR,AO18))","v":18},10,"[u]10[/u] COMMANDMENTS","\"take what's on these two tablets and call me in the morning\" –Moses, allegedly",{"$f":"IF(ISBLANK(AS18),\"\",COUNTIF(Scoresheet!AV:AV,AS18))","v":14},null,null,null,{"$f":"IF(ISBLANK(AW18),\"\",COUNTIF(Scoresheet!AZ:AZ,AW18))","v":""},null,null,null,{"$f":"IF(ISBLANK(BA18),\"\",COUNTIF(Scoresheet!BD:BD,BA18))","v":""},null,null,null,{"$f":"IF(ISBLANK(BE18),\"\",COUNTIF(Scoresheet!BH:BH,BE18))","v":""},null,null,null,{"$f":"IF(ISBLANK(BI18),\"\",COUNTIF(Scoresheet!BL:BL,BI18))","v":""},null,null,null,{"$f":"IF(ISBLANK(BM18),\"\",COUNTIF(Scoresheet!BP:BP,BM18))","v":""},null,null,null,{"$f":"IF(ISBLANK(BQ18),\"\",COUNTIF(Scoresheet!BT:BT,BQ18))","v":""},null,null,null,{"$f":"IF(ISBLANK(BU18),\"\",COUNTIF(Scoresheet!BX:BX,BU18))","v":""},null,null,null,{"$f":"IF(ISBLANK(BY18),\"\",COUNTIF(Scoresheet!CB:CB,BY18))","v":""}]
[3,"[u]THREE[/u] DOG NIGHT","\"Mama Told Me (Not to Come)\", \"Joy to the World\", \"Black and White\"",{"$f":"IF(ISBLANK(A19),\"\",COUNTIF(Scoresheet!D:D,A19))","v":11},19,"[u]19[/u]","terrain hexes in Settlers of Catan (original edition)",{"$f":"IF(ISBLANK(E19),\"\",COUNTIF(Scoresheet!H:H,E19))","v":1},12,"[u]12[/u] ANGRY MEN","1957: \"This man has been standing alone against us. It's not easy to stand alone against the ridicule of others.\"",{"$f":"IF(ISBLANK(I19),\"\",COUNTIF(Scoresheet!L:L,I19))","v":3},312,"[u]312[/u]","Battle of the Milvian Bridge",{"$f":"IF(ISBLANK(M19),\"\",COUNTIF(Scoresheet!P:P,M19))","v":4},5,"[u]5[/u] (BORON)",null,{"$f":"IF(ISBLANK(Q19),\"\",COUNTIF(Scoresheet!T:T,Q19))","v":14},7,"[i][u]SEVEN[/u] YEARS IN TIBET[/i] by Heinrich Harrer",null,{"$f":"IF(ISBLANK(U19),\"\",COUNTIF(Scoresheet!X:X,U19))","v":6},8,"[u]EIGHT[/u] [i](West Side Story)[/i]","Womb to tomb? Sperm to worm! I'll see you there about ___ [Toniiiight]",{"$f":"IF(ISBLANK(Y19),\"\",COUNTIF(Scoresheet!AB:AB,Y19))","v":2},15,"[u]15[/u] CABINET-LEVEL DEPARTMENTS","current Cabinet-level departments",{"$f":"IF(ISBLANK(AC19),\"\",COUNTIF(Scoresheet!AF:AF,AC19))","v":2},5,"INTERSTATE [u]5[/u]","San Ysidro, CA – Blaine, WA",{"$f":"IF(ISBLANK(AG19),\"\",COUNTIF(Scoresheet!AJ:AJ,AG19))","v":9},20,"TWENTY[u]20[/u]","half of the name of a shorter version of cricket",{"$f":"IF(ISBLANK(AK19),\"\",COUNTIF(Scoresheet!AN:AN,AK19))","v":3},3,"as phony as a [u]THREE[/u]-dollar bill",null,{"$f":"IF(ISBLANK(AO19),\"\",COUNTIF(Scoresheet!AR:AR,AO19))","v":6},8,"[u]8[/u] SPOKES","spokes on the dharma wheel, representing steps on the path to enlightenment",{"$f":"IF(ISBLANK(AS19),\"\",COUNTIF(Scoresheet!AV:AV,AS19))","v":0},null,null,null,{"$f":"IF(ISBLANK(AW19),\"\",COUNTIF(Scoresheet!AZ:AZ,AW19))","v":""},null,null,null,{"$f":"IF(ISBLANK(BA19),\"\",COUNTIF(Scoresheet!BD:BD,BA19))","v":""},null,null,null,{"$f":"IF(ISBLANK(BE19),\"\",COUNTIF(Scoresheet!BH:BH,BE19))","v":""},null,null,null,{"$f":"IF(ISBLANK(BI19),\"\",COUNTIF(Scoresheet!BL:BL,BI19))","v":""},null,null,null,{"$f":"IF(ISBLANK(BM19),\"\",COUNTIF(Scoresheet!BP:BP,BM19))","v":""},null,null,null,{"$f":"IF(ISBLANK(BQ19),\"\",COUNTIF(Scoresheet!BT:BT,BQ19))","v":""},null,null,null,{"$f":"IF(ISBLANK(BU19),\"\",COUNTIF(Scoresheet!BX:BX,BU19))","v":""},null,null,null,{"$f":"IF(ISBLANK(BY19),\"\",COUNTIF(Scoresheet!CB:CB,BY19))","v":""}]
[1,"[u]ONE[/u] DIRECTION","\"What Makes You Beautiful\", \"Little Things\", \"Best Song Ever\"",{"$f":"IF(ISBLANK(A20),\"\",COUNTIF(Scoresheet!D:D,A20))","v":8},11,"[u]11[/u]","\"Yo\" in craps",{"$f":"IF(ISBLANK(E20),\"\",COUNTIF(Scoresheet!H:H,E20))","v":1},10,"[u]10[/u] THINGS I HATE ABOUT YOU","1999: \"Hello, Katarina. Make anybody cry today?\"",{"$f":"IF(ISBLANK(I20),\"\",COUNTIF(Scoresheet!L:L,I20))","v":10},9,"[u]9[/u]","Battle of the Teutoburg Forest",{"$f":"IF(ISBLANK(M20),\"\",COUNTIF(Scoresheet!P:P,M20))","v":1},2,"[u]2[/u] (HELIUM)",null,{"$f":"IF(ISBLANK(Q20),\"\",COUNTIF(Scoresheet!T:T,Q20))","v":14},4,"[i]THE SIGN OF THE [u]FOUR[/u][/i] by Sir Arthur Conan Doyle",null,{"$f":"IF(ISBLANK(U20),\"\",COUNTIF(Scoresheet!X:X,U20))","v":6},6,"[u]SIX[/u] [i](Chicago)[/i]","Pop. ___. Squish. Uh uh. Cicero. Lipschitz",{"$f":"IF(ISBLANK(Y20),\"\",COUNTIF(Scoresheet!AB:AB,Y20))","v":4},9,"[u]9[/u] SUPREME COURT JUSTICES","current Justices of the Supreme Court",{"$f":"IF(ISBLANK(AC20),\"\",COUNTIF(Scoresheet!AF:AF,AC20))","v":12},4,"INTERSTATE [u]4[/u]","Tampa, FL – Daytona Beach, FL",{"$f":"IF(ISBLANK(AG20),\"\",COUNTIF(Scoresheet!AJ:AJ,AG20))","v":4},5,"[u]5[/u] POINTS","points for a try in rugby union (e.g., in the 2015 World Cup, won by New Zealand)",{"$f":"IF(ISBLANK(AK20),\"\",COUNTIF(Scoresheet!AN:AN,AK20))","v":7},2,"[u]TWO[/u] shakes of a lamb's tail",null,{"$f":"IF(ISBLANK(AO20),\"\",COUNTIF(Scoresheet!AR:AR,AO20))","v":4},4,"[u]4[/u] ARMS","Shiva has this many arms",{"$f":"IF(ISBLANK(AS20),\"\",COUNTIF(Scoresheet!AV:AV,AS20))","v":5},null,null,null,{"$f":"IF(ISBLANK(AW20),\"\",COUNTIF(Scoresheet!AZ:AZ,AW20))","v":""},null,null,null,{"$f":"IF(ISBLANK(BA20),\"\",COUNTIF(Scoresheet!BD:BD,BA20))","v":""},null,null,null,{"$f":"IF(ISBLANK(BE20),\"\",COUNTIF(Scoresheet!BH:BH,BE20))","v":""},null,null,null,{"$f":"IF(ISBLANK(BI20),\"\",COUNTIF(Scoresheet!BL:BL,BI20))","v":""},null,null,null,{"$f":"IF(ISBLANK(BM20),\"\",COUNTIF(Scoresheet!BP:BP,BM20))","v":""},null,null,null,{"$f":"IF(ISBLANK(BQ20),\"\",COUNTIF(Scoresheet!BT:BT,BQ20))","v":""},null,null,null,{"$f":"IF(ISBLANK(BU20),\"\",COUNTIF(Scoresheet!BX:BX,BU20))","v":""},null,null,null,{"$f":"IF(ISBLANK(BY20),\"\",COUNTIF(Scoresheet!CB:CB,BY20))","v":""}]
[null,null,null,{"$f":"IF(ISBLANK(A21),\"\",COUNTIF(Scoresheet!D:D,A21))","v":""},null,null,null,{"$f":"IF(ISBLANK(E21),\"\",COUNTIF(Scoresheet!H:H,E21))","v":""},null,null,null,{"$f":"IF(ISBLANK(I21),\"\",COUNTIF(Scoresheet!L:L,I21))","v":""},null,null,null,{"$f":"IF(ISBLANK(M21),\"\",COUNTIF(Scoresheet!P:P,M21))","v":""},null,null,null,{"$f":"IF(ISBLANK(Q21),\"\",COUNTIF(Scoresheet!T:T,Q21))","v":""},null,null,null,{"$f":"IF(ISBLANK(U21),\"\",COUNTIF(Scoresheet!X:X,U21))","v":""},null,null,null,{"$f":"IF(ISBLANK(Y21),\"\",COUNTIF(Scoresheet!AB:AB,Y21))","v":""},null,null,null,{"$f":"IF(ISBLANK(AC21),\"\",COUNTIF(Scoresheet!AF:AF,AC21))","v":""},null,null,null,{"$f":"IF(ISBLANK(AG21),\"\",COUNTIF(Scoresheet!AJ:AJ,AG21))","v":""},null,null,null,{"$f":"IF(ISBLANK(AK21),\"\",COUNTIF(Scoresheet!AN:AN,AK21))","v":""},null,null,null,{"$f":"IF(ISBLANK(AO21),\"\",COUNTIF(Scoresheet!AR:AR,AO21))","v":""},null,null,null,{"$f":"IF(ISBLANK(AS21),\"\",COUNTIF(Scoresheet!AV:AV,AS21))","v":""},null,null,null,{"$f":"IF(ISBLANK(AW21),\"\",COUNTIF(Scoresheet!AZ:AZ,AW21))","v":""},null,null,null,{"$f":"IF(ISBLANK(BA21),\"\",COUNTIF(Scoresheet!BD:BD,BA21))","v":""},null,null,null,{"$f":"IF(ISBLANK(BE21),\"\",COUNTIF(Scoresheet!BH:BH,BE21))","v":""},null,null,null,{"$f":"IF(ISBLANK(BI21),\"\",COUNTIF(Scoresheet!BL:BL,BI21))","v":""},null,null,null,{"$f":"IF(ISBLANK(BM21),\"\",COUNTIF(Scoresheet!BP:BP,BM21))","v":""},null,null,null,{"$f":"IF(ISBLANK(BQ21),\"\",COUNTIF(Scoresheet!BT:BT,BQ21))","v":""},null,null,null,{"$f":"IF(ISBLANK(BU21),\"\",COUNTIF(Scoresheet!BX:BX,BU21))","v":""},null,null,null,{"$f":"IF(ISBLANK(BY21),\"\",COUNTIF(Scoresheet!CB:CB,BY21))","v":""}]
[null,null,null,{"$f":"IF(ISBLANK(A22),\"\",COUNTIF(Scoresheet!D:D,A22))","v":""},null,null,null,{"$f":"IF(ISBLANK(E22),\"\",COUNTIF(Scoresheet!H:H,E22))","v":""},null,null,null,{"$f":"IF(ISBLANK(I22),\"\",COUNTIF(Scoresheet!L:L,I22))","v":""},null,null,null,{"$f":"IF(ISBLANK(M22),\"\",COUNTIF(Scoresheet!P:P,M22))","v":""},null,null,null,{"$f":"IF(ISBLANK(Q22),\"\",COUNTIF(Scoresheet!T:T,Q22))","v":""},null,null,null,{"$f":"IF(ISBLANK(U22),\"\",COUNTIF(Scoresheet!X:X,U22))","v":""},null,null,null,{"$f":"IF(ISBLANK(Y22),\"\",COUNTIF(Scoresheet!AB:AB,Y22))","v":""},null,null,null,{"$f":"IF(ISBLANK(AC22),\"\",COUNTIF(Scoresheet!AF:AF,AC22))","v":""},null,null,null,{"$f":"IF(ISBLANK(AG22),\"\",COUNTIF(Scoresheet!AJ:AJ,AG22))","v":""},null,null,null,{"$f":"IF(ISBLANK(AK22),\"\",COUNTIF(Scoresheet!AN:AN,AK22))","v":""},null,null,null,{"$f":"IF(ISBLANK(AO22),\"\",COUNTIF(Scoresheet!AR:AR,AO22))","v":""},null,null,null,{"$f":"IF(ISBLANK(AS22),\"\",COUNTIF(Scoresheet!AV:AV,AS22))","v":""},null,null,null,{"$f":"IF(ISBLANK(AW22),\"\",COUNTIF(Scoresheet!AZ:AZ,AW22))","v":""},null,null,null,{"$f":"IF(ISBLANK(BA22),\"\",COUNTIF(Scoresheet!BD:BD,BA22))","v":""},null,null,null,{"$f":"IF(ISBLANK(BE22),\"\",COUNTIF(Scoresheet!BH:BH,BE22))","v":""},null,null,null,{"$f":"IF(ISBLANK(BI22),\"\",COUNTIF(Scoresheet!BL:BL,BI22))","v":""},null,null,null,{"$f":"IF(ISBLANK(BM22),\"\",COUNTIF(Scoresheet!BP:BP,BM22))","v":""},null,null,null,{"$f":"IF(ISBLANK(BQ22),\"\",COUNTIF(Scoresheet!BT:BT,BQ22))","v":""},null,null,null,{"$f":"IF(ISBLANK(BU22),\"\",COUNTIF(Scoresheet!BX:BX,BU22))","v":""},null,null,null,{"$f":"IF(ISBLANK(BY22),\"\",COUNTIF(Scoresheet!CB:CB,BY22))","v":""}]
[null,null,null,{"$f":"IF(ISBLANK(A23),\"\",COUNTIF(Scoresheet!D:D,A23))","v":""},null,null,null,{"$f":"IF(ISBLANK(E23),\"\",COUNTIF(Scoresheet!H:H,E23))","v":""},null,null,null,{"$f":"IF(ISBLANK(I23),\"\",COUNTIF(Scoresheet!L:L,I23))","v":""},null,null,null,{"$f":"IF(ISBLANK(M23),\"\",COUNTIF(Scoresheet!P:P,M23))","v":""},null,null,null,{"$f":"IF(ISBLANK(Q23),\"\",COUNTIF(Scoresheet!T:T,Q23))","v":""},null,null,null,{"$f":"IF(ISBLANK(U23),\"\",COUNTIF(Scoresheet!X:X,U23))","v":""},null,null,null,{"$f":"IF(ISBLANK(Y23),\"\",COUNTIF(Scoresheet!AB:AB,Y23))","v":""},null,null,null,{"$f":"IF(ISBLANK(AC23),\"\",COUNTIF(Scoresheet!AF:AF,AC23))","v":""},null,null,null,{"$f":"IF(ISBLANK(AG23),\"\",COUNTIF(Scoresheet!AJ:AJ,AG23))","v":""},null,null,null,{"$f":"IF(ISBLANK(AK23),\"\",COUNTIF(Scoresheet!AN:AN,AK23))","v":""},null,null,null,{"$f":"IF(ISBLANK(AO23),\"\",COUNTIF(Scoresheet!AR:AR,AO23))","v":""},null,null,null,{"$f":"IF(ISBLANK(AS23),\"\",COUNTIF(Scoresheet!AV:AV,AS23))","v":""},null,null,null,{"$f":"IF(ISBLANK(AW23),\"\",COUNTIF(Scoresheet!AZ:AZ,AW23))","v":""},null,null,null,{"$f":"IF(ISBLANK(BA23),\"\",COUNTIF(Scoresheet!BD:BD,BA23))","v":""},null,null,null,{"$f":"IF(ISBLANK(BE23),\"\",COUNTIF(Scoresheet!BH:BH,BE23))","v":""},null,null,null,{"$f":"IF(ISBLANK(BI23),\"\",COUNTIF(Scoresheet!BL:BL,BI23))","v":""},null,null,null,{"$f":"IF(ISBLANK(BM23),\"\",COUNTIF(Scoresheet!BP:BP,BM23))","v":""},null,null,null,{"$f":"IF(ISBLANK(BQ23),\"\",COUNTIF(Scoresheet!BT:BT,BQ23))","v":""},null,null,null,{"$f":"IF(ISBLANK(BU23),\"\",COUNTIF(Scoresheet!BX:BX,BU23))","v":""},null,null,null,{"$f":"IF(ISBLANK(BY23),\"\",COUNTIF(Scoresheet!CB:CB,BY23))","v":""}]
[null,null,null,{"$f":"IF(ISBLANK(A24),\"\",COUNTIF(Scoresheet!D:D,A24))","v":""},null,null,null,{"$f":"IF(ISBLANK(E24),\"\",COUNTIF(Scoresheet!H:H,E24))","v":""},null,null,null,{"$f":"IF(ISBLANK(I24),\"\",COUNTIF(Scoresheet!L:L,I24))","v":""},null,null,null,{"$f":"IF(ISBLANK(M24),\"\",COUNTIF(Scoresheet!P:P,M24))","v":""},null,null,null,{"$f":"IF(ISBLANK(Q24),\"\",COUNTIF(Scoresheet!T:T,Q24))","v":""},null,null,null,{"$f":"IF(ISBLANK(U24),\"\",COUNTIF(Scoresheet!X:X,U24))","v":""},null,null,null,{"$f":"IF(ISBLANK(Y24),\"\",COUNTIF(Scoresheet!AB:AB,Y24))","v":""},null,null,null,{"$f":"IF(ISBLANK(AC24),\"\",COUNTIF(Scoresheet!AF:AF,AC24))","v":""},null,null,null,{"$f":"IF(ISBLANK(AG24),\"\",COUNTIF(Scoresheet!AJ:AJ,AG24))","v":""},null,null,null,{"$f":"IF(ISBLANK(AK24),\"\",COUNTIF(Scoresheet!AN:AN,AK24))","v":""},null,null,null,{"$f":"IF(ISBLANK(AO24),\"\",COUNTIF(Scoresheet!AR:AR,AO24))","v":""},null,null,null,{"$f":"IF(ISBLANK(AS24),\"\",COUNTIF(Scoresheet!AV:AV,AS24))","v":""},null,null,null,{"$f":"IF(ISBLANK(AW24),\"\",COUNTIF(Scoresheet!AZ:AZ,AW24))","v":""},null,null,null,{"$f":"IF(ISBLANK(BA24),\"\",COUNTIF(Scoresheet!BD:BD,BA24))","v":""},null,null,null,{"$f":"IF(ISBLANK(BE24),\"\",COUNTIF(Scoresheet!BH:BH,BE24))","v":""},null,null,null,{"$f":"IF(ISBLANK(BI24),\"\",COUNTIF(Scoresheet!BL:BL,BI24))","v":""},null,null,null,{"$f":"IF(ISBLANK(BM24),\"\",COUNTIF(Scoresheet!BP:BP,BM24))","v":""},null,null,null,{"$f":"IF(ISBLANK(BQ24),\"\",COUNTIF(Scoresheet!BT:BT,BQ24))","v":""},null,null,null,{"$f":"IF(ISBLANK(BU24),\"\",COUNTIF(Scoresheet!BX:BX,BU24))","v":""},null,null,null,{"$f":"IF(ISBLANK(BY24),\"\",COUNTIF(Scoresheet!CB:CB,BY24))","v":""}]
[null,null,null,{"$f":"IF(ISBLANK(A25),\"\",COUNTIF(Scoresheet!D:D,A25))","v":""},null,null,null,{"$f":"IF(ISBLANK(E25),\"\",COUNTIF(Scoresheet!H:H,E25))","v":""},null,null,null,{"$f":"IF(ISBLANK(I25),\"\",COUNTIF(Scoresheet!L:L,I25))","v":""},null,null,null,{"$f":"IF(ISBLANK(M25),\"\",COUNTIF(Scoresheet!P:P,M25))","v":""},null,null,null,{"$f":"IF(ISBLANK(Q25),\"\",COUNTIF(Scoresheet!T:T,Q25))","v":""},null,null,null,{"$f":"IF(ISBLANK(U25),\"\",COUNTIF(Scoresheet!X:X,U25))","v":""},null,null,null,{"$f":"IF(ISBLANK(Y25),\"\",COUNTIF(Scoresheet!AB:AB,Y25))","v":""},null,null,null,{"$f":"IF(ISBLANK(AC25),\"\",COUNTIF(Scoresheet!AF:AF,AC25))","v":""},null,null,null,{"$f":"IF(ISBLANK(AG25),\"\",COUNTIF(Scoresheet!AJ:AJ,AG25))","v":""},null,null,null,{"$f":"IF(ISBLANK(AK25),\"\",COUNTIF(Scoresheet!AN:AN,AK25))","v":""},null,null,null,{"$f":"IF(ISBLANK(AO25),\"\",COUNTIF(Scoresheet!AR:AR,AO25))","v":""},null,null,null,{"$f":"IF(ISBLANK(AS25),\"\",COUNTIF(Scoresheet!AV:AV,AS25))","v":""},null,null,null,{"$f":"IF(ISBLANK(AW25),\"\",COUNTIF(Scoresheet!AZ:AZ,AW25))","v":""},null,null,null,{"$f":"IF(ISBLANK(BA25),\"\",COUNTIF(Scoresheet!BD:BD,BA25))","v":""},null,null,null,{"$f":"IF(ISBLANK(BE25),\"\",COUNTIF(Scoresheet!BH:BH,BE25))","v":""},null,null,null,{"$f":"IF(ISBLANK(BI25),\"\",COUNTIF(Scoresheet!BL:BL,BI25))","v":""},null,null,null,{"$f":"IF(ISBLANK(BM25),\"\",COUNTIF(Scoresheet!BP:BP,BM25))","v":""},null,null,null,{"$f":"IF(ISBLANK(BQ25),\"\",COUNTIF(Scoresheet!BT:BT,BQ25))","v":""},null,null,null,{"$f":"IF(ISBLANK(BU25),\"\",COUNTIF(Scoresheet!BX:BX,BU25))","v":""},null,null,null,{"$f":"IF(ISBLANK(BY25),\"\",COUNTIF(Scoresheet!CB:CB,BY25))","v":""}]
[null,null,null,{"$f":"IF(ISBLANK(A26),\"\",COUNTIF(Scoresheet!D:D,A26))","v":""},null,null,null,{"$f":"IF(ISBLANK(E26),\"\",COUNTIF(Scoresheet!H:H,E26))","v":""},null,null,null,{"$f":"IF(ISBLANK(I26),\"\",COUNTIF(Scoresheet!L:L,I26))","v":""},null,null,null,{"$f":"IF(ISBLANK(M26),\"\",COUNTIF(Scoresheet!P:P,M26))","v":""},null,null,null,{"$f":"IF(ISBLANK(Q26),\"\",COUNTIF(Scoresheet!T:T,Q26))","v":""},null,null,null,{"$f":"IF(ISBLANK(U26),\"\",COUNTIF(Scoresheet!X:X,U26))","v":""},null,null,null,{"$f":"IF(ISBLANK(Y26),\"\",COUNTIF(Scoresheet!AB:AB,Y26))","v":""},null,null,null,{"$f":"IF(ISBLANK(AC26),\"\",COUNTIF(Scoresheet!AF:AF,AC26))","v":""},null,null,null,{"$f":"IF(ISBLANK(AG26),\"\",COUNTIF(Scoresheet!AJ:AJ,AG26))","v":""},null,null,null,{"$f":"IF(ISBLANK(AK26),\"\",COUNTIF(Scoresheet!AN:AN,AK26))","v":""},null,null,null,{"$f":"IF(ISBLANK(AO26),\"\",COUNTIF(Scoresheet!AR:AR,AO26))","v":""},null,null,null,{"$f":"IF(ISBLANK(AS26),\"\",COUNTIF(Scoresheet!AV:AV,AS26))","v":""},null,null,null,{"$f":"IF(ISBLANK(AW26),\"\",COUNTIF(Scoresheet!AZ:AZ,AW26))","v":""},null,null,null,{"$f":"IF(ISBLANK(BA26),\"\",COUNTIF(Scoresheet!BD:BD,BA26))","v":""},null,null,null,{"$f":"IF(ISBLANK(BE26),\"\",COUNTIF(Scoresheet!BH:BH,BE26))","v":""},null,null,null,{"$f":"IF(ISBLANK(BI26),\"\",COUNTIF(Scoresheet!BL:BL,BI26))","v":""},null,null,null,{"$f":"IF(ISBLANK(BM26),\"\",COUNTIF(Scoresheet!BP:BP,BM26))","v":""},null,null,null,{"$f":"IF(ISBLANK(BQ26),\"\",COUNTIF(Scoresheet!BT:BT,BQ26))","v":""},null,null,null,{"$f":"IF(ISBLANK(BU26),\"\",COUNTIF(Scoresheet!BX:BX,BU26))","v":""},null,null,null,{"$f":"IF(ISBLANK(BY26),\"\",COUNTIF(Scoresheet!CB:CB,BY26))","v":""}]
[null,null,null,{"$f":"IF(ISBLANK(A27),\"\",COUNTIF(Scoresheet!D:D,A27))","v":""},null,null,null,{"$f":"IF(ISBLANK(E27),\"\",COUNTIF(Scoresheet!H:H,E27))","v":""},null,null,null,{"$f":"IF(ISBLANK(I27),\"\",COUNTIF(Scoresheet!L:L,I27))","v":""},null,null,null,{"$f":"IF(ISBLANK(M27),\"\",COUNTIF(Scoresheet!P:P,M27))","v":""},null,null,null,{"$f":"IF(ISBLANK(Q27),\"\",COUNTIF(Scoresheet!T:T,Q27))","v":""},null,null,null,{"$f":"IF(ISBLANK(U27),\"\",COUNTIF(Scoresheet!X:X,U27))","v":""},null,null,null,{"$f":"IF(ISBLANK(Y27),\"\",COUNTIF(Scoresheet!AB:AB,Y27))","v":""},null,null,null,{"$f":"IF(ISBLANK(AC27),\"\",COUNTIF(Scoresheet!AF:AF,AC27))","v":""},null,null,null,{"$f":"IF(ISBLANK(AG27),\"\",COUNTIF(Scoresheet!AJ:AJ,AG27))","v":""},null,null,null,{"$f":"IF(ISBLANK(AK27),\"\",COUNTIF(Scoresheet!AN:AN,AK27))","v":""},null,null,null,{"$f":"IF(ISBLANK(AO27),\"\",COUNTIF(Scoresheet!AR:AR,AO27))","v":""},null,null,null,{"$f":"IF(ISBLANK(AS27),\"\",COUNTIF(Scoresheet!AV:AV,AS27))","v":""},null,null,null,{"$f":"IF(ISBLANK(AW27),\"\",COUNTIF(Scoresheet!AZ:AZ,AW27))","v":""},null,null,null,{"$f":"IF(ISBLANK(BA27),\"\",COUNTIF(Scoresheet!BD:BD,BA27))","v":""},null,null,null,{"$f":"IF(ISBLANK(BE27),\"\",COUNTIF(Scoresheet!BH:BH,BE27))","v":""},null,null,null,{"$f":"IF(ISBLANK(BI27),\"\",COUNTIF(Scoresheet!BL:BL,BI27))","v":""},null,null,null,{"$f":"IF(ISBLANK(BM27),\"\",COUNTIF(Scoresheet!BP:BP,BM27))","v":""},null,null,null,{"$f":"IF(ISBLANK(BQ27),\"\",COUNTIF(Scoresheet!BT:BT,BQ27))","v":""},null,null,null,{"$f":"IF(ISBLANK(BU27),\"\",COUNTIF(Scoresheet!BX:BX,BU27))","v":""},null,null,null,{"$f":"IF(ISBLANK(BY27),\"\",COUNTIF(Scoresheet!CB:CB,BY27))","v":""}]
[null,null,null,{"$f":"IF(ISBLANK(A28),\"\",COUNTIF(Scoresheet!D:D,A28))","v":""},null,null,null,{"$f":"IF(ISBLANK(E28),\"\",COUNTIF(Scoresheet!H:H,E28))","v":""},null,null,null,{"$f":"IF(ISBLANK(I28),\"\",COUNTIF(Scoresheet!L:L,I28))","v":""},null,null,null,{"$f":"IF(ISBLANK(M28),\"\",COUNTIF(Scoresheet!P:P,M28))","v":""},null,null,null,{"$f":"IF(ISBLANK(Q28),\"\",COUNTIF(Scoresheet!T:T,Q28))","v":""},null,null,null,{"$f":"IF(ISBLANK(U28),\"\",COUNTIF(Scoresheet!X:X,U28))","v":""},null,null,null,{"$f":"IF(ISBLANK(Y28),\"\",COUNTIF(Scoresheet!AB:AB,Y28))","v":""},null,null,null,{"$f":"IF(ISBLANK(AC28),\"\",COUNTIF(Scoresheet!AF:AF,AC28))","v":""},null,null,null,{"$f":"IF(ISBLANK(AG28),\"\",COUNTIF(Scoresheet!AJ:AJ,AG28))","v":""},null,null,null,{"$f":"IF(ISBLANK(AK28),\"\",COUNTIF(Scoresheet!AN:AN,AK28))","v":""},null,null,null,{"$f":"IF(ISBLANK(AO28),\"\",COUNTIF(Scoresheet!AR:AR,AO28))","v":""},null,null,null,{"$f":"IF(ISBLANK(AS28),\"\",COUNTIF(Scoresheet!AV:AV,AS28))","v":""},null,null,null,{"$f":"IF(ISBLANK(AW28),\"\",COUNTIF(Scoresheet!AZ:AZ,AW28))","v":""},null,null,null,{"$f":"IF(ISBLANK(BA28),\"\",COUNTIF(Scoresheet!BD:BD,BA28))","v":""},null,null,null,{"$f":"IF(ISBLANK(BE28),\"\",COUNTIF(Scoresheet!BH:BH,BE28))","v":""},null,null,null,{"$f":"IF(ISBLANK(BI28),\"\",COUNTIF(Scoresheet!BL:BL,BI28))","v":""},null,null,null,{"$f":"IF(ISBLANK(BM28),\"\",COUNTIF(Scoresheet!BP:BP,BM28))","v":""},null,null,null,{"$f":"IF(ISBLANK(BQ28),\"\",COUNTIF(Scoresheet!BT:BT,BQ28))","v":""},null,null,null,{"$f":"IF(ISBLANK(BU28),\"\",COUNTIF(Scoresheet!BX:BX,BU28))","v":""},null,null,null,{"$f":"IF(ISBLANK(BY28),\"\",COUNTIF(Scoresheet!CB:CB,BY28))","v":""}]
[null,null,null,{"$f":"IF(ISBLANK(A29),\"\",COUNTIF(Scoresheet!D:D,A29))","v":""},null,null,null,{"$f":"IF(ISBLANK(E29),\"\",COUNTIF(Scoresheet!H:H,E29))","v":""},null,null,null,{"$f":"IF(ISBLANK(I29),\"\",COUNTIF(Scoresheet!L:L,I29))","v":""},null,null,null,{"$f":"IF(ISBLANK(M29),\"\",COUNTIF(Scoresheet!P:P,M29))","v":""},null,null,null,{"$f":"IF(ISBLANK(Q29),\"\",COUNTIF(Scoresheet!T:T,Q29))","v":""},null,null,null,{"$f":"IF(ISBLANK(U29),\"\",COUNTIF(Scoresheet!X:X,U29))","v":""},null,null,null,{"$f":"IF(ISBLANK(Y29),\"\",COUNTIF(Scoresheet!AB:AB,Y29))","v":""},null,null,null,{"$f":"IF(ISBLANK(AC29),\"\",COUNTIF(Scoresheet!AF:AF,AC29))","v":""},null,null,null,{"$f":"IF(ISBLANK(AG29),\"\",COUNTIF(Scoresheet!AJ:AJ,AG29))","v":""},null,null,null,{"$f":"IF(ISBLANK(AK29),\"\",COUNTIF(Scoresheet!AN:AN,AK29))","v":""},null,null,null,{"$f":"IF(ISBLANK(AO29),\"\",COUNTIF(Scoresheet!AR:AR,AO29))","v":""},null,null,null,{"$f":"IF(ISBLANK(AS29),\"\",COUNTIF(Scoresheet!AV:AV,AS29))","v":""},null,null,null,{"$f":"IF(ISBLANK(AW29),\"\",COUNTIF(Scoresheet!AZ:AZ,AW29))","v":""},null,null,null,{"$f":"IF(ISBLANK(BA29),\"\",COUNTIF(Scoresheet!BD:BD,BA29))","v":""},null,null,null,{"$f":"IF(ISBLANK(BE29),\"\",COUNTIF(Scoresheet!BH:BH,BE29))","v":""},null,null,null,{"$f":"IF(ISBLANK(BI29),\"\",COUNTIF(Scoresheet!BL:BL,BI29))","v":""},null,null,null,{"$f":"IF(ISBLANK(BM29),\"\",COUNTIF(Scoresheet!BP:BP,BM29))","v":""},null,null,null,{"$f":"IF(ISBLANK(BQ29),\"\",COUNTIF(Scoresheet!BT:BT,BQ29))","v":""},null,null,null,{"$f":"IF(ISBLANK(BU29),\"\",COUNTIF(Scoresheet!BX:BX,BU29))","v":""},null,null,null,{"$f":"IF(ISBLANK(BY29),\"\",COUNTIF(Scoresheet!CB:CB,BY29))","v":""}]
[null,null,null,{"$f":"IF(ISBLANK(A30),\"\",COUNTIF(Scoresheet!D:D,A30))","v":""},null,null,null,{"$f":"IF(ISBLANK(E30),\"\",COUNTIF(Scoresheet!H:H,E30))","v":""},null,null,null,{"$f":"IF(ISBLANK(I30),\"\",COUNTIF(Scoresheet!L:L,I30))","v":""},null,null,null,{"$f":"IF(ISBLANK(M30),\"\",COUNTIF(Scoresheet!P:P,M30))","v":""},null,null,null,{"$f":"IF(ISBLANK(Q30),\"\",COUNTIF(Scoresheet!T:T,Q30))","v":""},null,null,null,{"$f":"IF(ISBLANK(U30),\"\",COUNTIF(Scoresheet!X:X,U30))","v":""},null,null,null,{"$f":"IF(ISBLANK(Y30),\"\",COUNTIF(Scoresheet!AB:AB,Y30))","v":""},null,null,null,{"$f":"IF(ISBLANK(AC30),\"\",COUNTIF(Scoresheet!AF:AF,AC30))","v":""},null,null,null,{"$f":"IF(ISBLANK(AG30),\"\",COUNTIF(Scoresheet!AJ:AJ,AG30))","v":""},null,null,null,{"$f":"IF(ISBLANK(AK30),\"\",COUNTIF(Scoresheet!AN:AN,AK30))","v":""},null,null,null,{"$f":"IF(ISBLANK(AO30),\"\",COUNTIF(Scoresheet!AR:AR,AO30))","v":""},null,null,null,{"$f":"IF(ISBLANK(AS30),\"\",COUNTIF(Scoresheet!AV:AV,AS30))","v":""},null,null,null,{"$f":"IF(ISBLANK(AW30),\"\",COUNTIF(Scoresheet!AZ:AZ,AW30))","v":""},null,null,null,{"$f":"IF(ISBLANK(BA30),\"\",COUNTIF(Scoresheet!BD:BD,BA30))","v":""},null,null,null,{"$f":"IF(ISBLANK(BE30),\"\",COUNTIF(Scoresheet!BH:BH,BE30))","v":""},null,null,null,{"$f":"IF(ISBLANK(BI30),\"\",COUNTIF(Scoresheet!BL:BL,BI30))","v":""},null,null,null,{"$f":"IF(ISBLANK(BM30),\"\",COUNTIF(Scoresheet!BP:BP,BM30))","v":""},null,null,null,{"$f":"IF(ISBLANK(BQ30),\"\",COUNTIF(Scoresheet!BT:BT,BQ30))","v":""},null,null,null,{"$f":"IF(ISBLANK(BU30),\"\",COUNTIF(Scoresheet!BX:BX,BU30))","v":""},null,null,null,{"$f":"IF(ISBLANK(BY30),\"\",COUNTIF(Scoresheet!CB:CB,BY30))","v":""}]
[null,null,null,{"$f":"IF(ISBLANK(A31),\"\",COUNTIF(Scoresheet!D:D,A31))","v":""},null,null,null,{"$f":"IF(ISBLANK(E31),\"\",COUNTIF(Scoresheet!H:H,E31))","v":""},null,null,null,{"$f":"IF(ISBLANK(I31),\"\",COUNTIF(Scoresheet!L:L,I31))","v":""},null,null,null,{"$f":"IF(ISBLANK(M31),\"\",COUNTIF(Scoresheet!P:P,M31))","v":""},null,null,null,{"$f":"IF(ISBLANK(Q31),\"\",COUNTIF(Scoresheet!T:T,Q31))","v":""},null,null,null,{"$f":"IF(ISBLANK(U31),\"\",COUNTIF(Scoresheet!X:X,U31))","v":""},null,null,null,{"$f":"IF(ISBLANK(Y31),\"\",COUNTIF(Scoresheet!AB:AB,Y31))","v":""},null,null,null,{"$f":"IF(ISBLANK(AC31),\"\",COUNTIF(Scoresheet!AF:AF,AC31))","v":""},null,null,null,{"$f":"IF(ISBLANK(AG31),\"\",COUNTIF(Scoresheet!AJ:AJ,AG31))","v":""},null,null,null,{"$f":"IF(ISBLANK(AK31),\"\",COUNTIF(Scoresheet!AN:AN,AK31))","v":""},null,null,null,{"$f":"IF(ISBLANK(AO31),\"\",COUNTIF(Scoresheet!AR:AR,AO31))","v":""},null,null,null,{"$f":"IF(ISBLANK(AS31),\"\",COUNTIF(Scoresheet!AV:AV,AS31))","v":""},null,null,null,{"$f":"IF(ISBLANK(AW31),\"\",COUNTIF(Scoresheet!AZ:AZ,AW31))","v":""},null,null,null,{"$f":"IF(ISBLANK(BA31),\"\",COUNTIF(Scoresheet!BD:BD,BA31))","v":""},null,null,null,{"$f":"IF(ISBLANK(BE31),\"\",COUNTIF(Scoresheet!BH:BH,BE31))","v":""},null,null,null,{"$f":"IF(ISBLANK(BI31),\"\",COUNTIF(Scoresheet!BL:BL,BI31))","v":""},null,null,null,{"$f":"IF(ISBLANK(BM31),\"\",COUNTIF(Scoresheet!BP:BP,BM31))","v":""},null,null,null,{"$f":"IF(ISBLANK(BQ31),\"\",COUNTIF(Scoresheet!BT:BT,BQ31))","v":""},null,null,null,{"$f":"IF(ISBLANK(BU31),\"\",COUNTIF(Scoresheet!BX:BX,BU31))","v":""},null,null,null,{"$f":"IF(ISBLANK(BY31),\"\",COUNTIF(Scoresheet!CB:CB,BY31))","v":""}]
[null,null,null,{"$f":"IF(ISBLANK(A32),\"\",COUNTIF(Scoresheet!D:D,A32))","v":""},null,null,null,{"$f":"IF(ISBLANK(E32),\"\",COUNTIF(Scoresheet!H:H,E32))","v":""},null,null,null,{"$f":"IF(ISBLANK(I32),\"\",COUNTIF(Scoresheet!L:L,I32))","v":""},null,null,null,{"$f":"IF(ISBLANK(M32),\"\",COUNTIF(Scoresheet!P:P,M32))","v":""},null,null,null,{"$f":"IF(ISBLANK(Q32),\"\",COUNTIF(Scoresheet!T:T,Q32))","v":""},null,null,null,{"$f":"IF(ISBLANK(U32),\"\",COUNTIF(Scoresheet!X:X,U32))","v":""},null,null,null,{"$f":"IF(ISBLANK(Y32),\"\",COUNTIF(Scoresheet!AB:AB,Y32))","v":""},null,null,null,{"$f":"IF(ISBLANK(AC32),\"\",COUNTIF(Scoresheet!AF:AF,AC32))","v":""},null,null,null,{"$f":"IF(ISBLANK(AG32),\"\",COUNTIF(Scoresheet!AJ:AJ,AG32))","v":""},null,null,null,{"$f":"IF(ISBLANK(AK32),\"\",COUNTIF(Scoresheet!AN:AN,AK32))","v":""},null,null,null,{"$f":"IF(ISBLANK(AO32),\"\",COUNTIF(Scoresheet!AR:AR,AO32))","v":""},null,null,null,{"$f":"IF(ISBLANK(AS32),\"\",COUNTIF(Scoresheet!AV:AV,AS32))","v":""},null,null,null,{"$f":"IF(ISBLANK(AW32),\"\",COUNTIF(Scoresheet!AZ:AZ,AW32))","v":""},null,null,null,{"$f":"IF(ISBLANK(BA32),\"\",COUNTIF(Scoresheet!BD:BD,BA32))","v":""},null,null,null,{"$f":"IF(ISBLANK(BE32),\"\",COUNTIF(Scoresheet!BH:BH,BE32))","v":""},null,null,null,{"$f":"IF(ISBLANK(BI32),\"\",COUNTIF(Scoresheet!BL:BL,BI32))","v":""},null,null,null,{"$f":"IF(ISBLANK(BM32),\"\",COUNTIF(Scoresheet!BP:BP,BM32))","v":""},null,null,null,{"$f":"IF(ISBLANK(BQ32),\"\",COUNTIF(Scoresheet!BT:BT,BQ32))","v":""},null,null,null,{"$f":"IF(ISBLANK(BU32),\"\",COUNTIF(Scoresheet!BX:BX,BU32))","v":""},null,null,null,{"$f":"IF(ISBLANK(BY32),\"\",COUNTIF(Scoresheet!CB:CB,BY32))","v":""}]
[null,null,null,{"$f":"IF(ISBLANK(A33),\"\",COUNTIF(Scoresheet!D:D,A33))","v":""},null,null,null,{"$f":"IF(ISBLANK(E33),\"\",COUNTIF(Scoresheet!H:H,E33))","v":""},null,null,null,{"$f":"IF(ISBLANK(I33),\"\",COUNTIF(Scoresheet!L:L,I33))","v":""},null,null,null,{"$f":"IF(ISBLANK(M33),\"\",COUNTIF(Scoresheet!P:P,M33))","v":""},null,null,null,{"$f":"IF(ISBLANK(Q33),\"\",COUNTIF(Scoresheet!T:T,Q33))","v":""},null,null,null,{"$f":"IF(ISBLANK(U33),\"\",COUNTIF(Scoresheet!X:X,U33))","v":""},null,null,null,{"$f":"IF(ISBLANK(Y33),\"\",COUNTIF(Scoresheet!AB:AB,Y33))","v":""},null,null,null,{"$f":"IF(ISBLANK(AC33),\"\",COUNTIF(Scoresheet!AF:AF,AC33))","v":""},null,null,null,{"$f":"IF(ISBLANK(AG33),\"\",COUNTIF(Scoresheet!AJ:AJ,AG33))","v":""},null,null,null,{"$f":"IF(ISBLANK(AK33),\"\",COUNTIF(Scoresheet!AN:AN,AK33))","v":""},null,null,null,{"$f":"IF(ISBLANK(AO33),\"\",COUNTIF(Scoresheet!AR:AR,AO33))","v":""},null,null,null,{"$f":"IF(ISBLANK(AS33),\"\",COUNTIF(Scoresheet!AV:AV,AS33))","v":""},null,null,null,{"$f":"IF(ISBLANK(AW33),\"\",COUNTIF(Scoresheet!AZ:AZ,AW33))","v":""},null,null,null,{"$f":"IF(ISBLANK(BA33),\"\",COUNTIF(Scoresheet!BD:BD,BA33))","v":""},null,null,null,{"$f":"IF(ISBLANK(BE33),\"\",COUNTIF(Scoresheet!BH:BH,BE33))","v":""},null,null,null,{"$f":"IF(ISBLANK(BI33),\"\",COUNTIF(Scoresheet!BL:BL,BI33))","v":""},null,null,null,{"$f":"IF(ISBLANK(BM33),\"\",COUNTIF(Scoresheet!BP:BP,BM33))","v":""},null,null,null,{"$f":"IF(ISBLANK(BQ33),\"\",COUNTIF(Scoresheet!BT:BT,BQ33))","v":""},null,null,null,{"$f":"IF(ISBLANK(BU33),\"\",COUNTIF(Scoresheet!BX:BX,BU33))","v":""},null,null,null,{"$f":"IF(ISBLANK(BY33),\"\",COUNTIF(Scoresheet!CB:CB,BY33))","v":""}]
[null,null,null,{"$f":"IF(ISBLANK(A34),\"\",COUNTIF(Scoresheet!D:D,A34))","v":""},null,null,null,{"$f":"IF(ISBLANK(E34),\"\",COUNTIF(Scoresheet!H:H,E34))","v":""},null,null,null,{"$f":"IF(ISBLANK(I34),\"\",COUNTIF(Scoresheet!L:L,I34))","v":""},null,null,null,{"$f":"IF(ISBLANK(M34),\"\",COUNTIF(Scoresheet!P:P,M34))","v":""},null,null,null,{"$f":"IF(ISBLANK(Q34),\"\",COUNTIF(Scoresheet!T:T,Q34))","v":""},null,null,null,{"$f":"IF(ISBLANK(U34),\"\",COUNTIF(Scoresheet!X:X,U34))","v":""},null,null,null,{"$f":"IF(ISBLANK(Y34),\"\",COUNTIF(Scoresheet!AB:AB,Y34))","v":""},null,null,null,{"$f":"IF(ISBLANK(AC34),\"\",COUNTIF(Scoresheet!AF:AF,AC34))","v":""},null,null,null,{"$f":"IF(ISBLANK(AG34),\"\",COUNTIF(Scoresheet!AJ:AJ,AG34))","v":""},null,null,null,{"$f":"IF(ISBLANK(AK34),\"\",COUNTIF(Scoresheet!AN:AN,AK34))","v":""},null,null,null,{"$f":"IF(ISBLANK(AO34),\"\",COUNTIF(Scoresheet!AR:AR,AO34))","v":""},null,null,null,{"$f":"IF(ISBLANK(AS34),\"\",COUNTIF(Scoresheet!AV:AV,AS34))","v":""},null,null,null,{"$f":"IF(ISBLANK(AW34),\"\",COUNTIF(Scoresheet!AZ:AZ,AW34))","v":""},null,null,null,{"$f":"IF(ISBLANK(BA34),\"\",COUNTIF(Scoresheet!BD:BD,BA34))","v":""},null,null,null,{"$f":"IF(ISBLANK(BE34),\"\",COUNTIF(Scoresheet!BH:BH,BE34))","v":""},null,null,null,{"$f":"IF(ISBLANK(BI34),\"\",COUNTIF(Scoresheet!BL:BL,BI34))","v":""},null,null,null,{"$f":"IF(ISBLANK(BM34),\"\",COUNTIF(Scoresheet!BP:BP,BM34))","v":""},null,null,null,{"$f":"IF(ISBLANK(BQ34),\"\",COUNTIF(Scoresheet!BT:BT,BQ34))","v":""},null,null,null,{"$f":"IF(ISBLANK(BU34),\"\",COUNTIF(Scoresheet!BX:BX,BU34))","v":""},null,null,null,{"$f":"IF(ISBLANK(BY34),\"\",COUNTIF(Scoresheet!CB:CB,BY34))","v":""}]
[null,null,null,{"$f":"IF(ISBLANK(A35),\"\",COUNTIF(Scoresheet!D:D,A35))","v":""},null,null,null,{"$f":"IF(ISBLANK(E35),\"\",COUNTIF(Scoresheet!H:H,E35))","v":""},null,null,null,{"$f":"IF(ISBLANK(I35),\"\",COUNTIF(Scoresheet!L:L,I35))","v":""},null,null,null,{"$f":"IF(ISBLANK(M35),\"\",COUNTIF(Scoresheet!P:P,M35))","v":""},null,null,null,{"$f":"IF(ISBLANK(Q35),\"\",COUNTIF(Scoresheet!T:T,Q35))","v":""},null,null,null,{"$f":"IF(ISBLANK(U35),\"\",COUNTIF(Scoresheet!X:X,U35))","v":""},null,null,null,{"$f":"IF(ISBLANK(Y35),\"\",COUNTIF(Scoresheet!AB:AB,Y35))","v":""},null,null,null,{"$f":"IF(ISBLANK(AC35),\"\",COUNTIF(Scoresheet!AF:AF,AC35))","v":""},null,null,null,{"$f":"IF(ISBLANK(AG35),\"\",COUNTIF(Scoresheet!AJ:AJ,AG35))","v":""},null,null,null,{"$f":"IF(ISBLANK(AK35),\"\",COUNTIF(Scoresheet!AN:AN,AK35))","v":""},null,null,null,{"$f":"IF(ISBLANK(AO35),\"\",COUNTIF(Scoresheet!AR:AR,AO35))","v":""},null,null,null,{"$f":"IF(ISBLANK(AS35),\"\",COUNTIF(Scoresheet!AV:AV,AS35))","v":""},null,null,null,{"$f":"IF(ISBLANK(AW35),\"\",COUNTIF(Scoresheet!AZ:AZ,AW35))","v":""},null,null,null,{"$f":"IF(ISBLANK(BA35),\"\",COUNTIF(Scoresheet!BD:BD,BA35))","v":""},null,null,null,{"$f":"IF(ISBLANK(BE35),\"\",COUNTIF(Scoresheet!BH:BH,BE35))","v":""},null,null,null,{"$f":"IF(ISBLANK(BI35),\"\",COUNTIF(Scoresheet!BL:BL,BI35))","v":""},null,null,null,{"$f":"IF(ISBLANK(BM35),\"\",COUNTIF(Scoresheet!BP:BP,BM35))","v":""},null,null,null,{"$f":"IF(ISBLANK(BQ35),\"\",COUNTIF(Scoresheet!BT:BT,BQ35))","v":""},null,null,null,{"$f":"IF(ISBLANK(BU35),\"\",COUNTIF(Scoresheet!BX:BX,BU35))","v":""},null,null,null,{"$f":"IF(ISBLANK(BY35),\"\",COUNTIF(Scoresheet!CB:CB,BY35))","v":""}]
[null,null,null,{"$f":"IF(ISBLANK(A36),\"\",COUNTIF(Scoresheet!D:D,A36))","v":""},null,null,null,{"$f":"IF(ISBLANK(E36),\"\",COUNTIF(Scoresheet!H:H,E36))","v":""},null,null,null,{"$f":"IF(ISBLANK(I36),\"\",COUNTIF(Scoresheet!L:L,I36))","v":""},null,null,null,{"$f":"IF(ISBLANK(M36),\"\",COUNTIF(Scoresheet!P:P,M36))","v":""},null,null,null,{"$f":"IF(ISBLANK(Q36),\"\",COUNTIF(Scoresheet!T:T,Q36))","v":""},null,null,null,{"$f":"IF(ISBLANK(U36),\"\",COUNTIF(Scoresheet!X:X,U36))","v":""},null,null,null,{"$f":"IF(ISBLANK(Y36),\"\",COUNTIF(Scoresheet!AB:AB,Y36))","v":""},null,null,null,{"$f":"IF(ISBLANK(AC36),\"\",COUNTIF(Scoresheet!AF:AF,AC36))","v":""},null,null,null,{"$f":"IF(ISBLANK(AG36),\"\",COUNTIF(Scoresheet!AJ:AJ,AG36))","v":""},null,null,null,{"$f":"IF(ISBLANK(AK36),\"\",COUNTIF(Scoresheet!AN:AN,AK36))","v":""},null,null,null,{"$f":"IF(ISBLANK(AO36),\"\",COUNTIF(Scoresheet!AR:AR,AO36))","v":""},null,null,null,{"$f":"IF(ISBLANK(AS36),\"\",COUNTIF(Scoresheet!AV:AV,AS36))","v":""},null,null,null,{"$f":"IF(ISBLANK(AW36),\"\",COUNTIF(Scoresheet!AZ:AZ,AW36))","v":""},null,null,null,{"$f":"IF(ISBLANK(BA36),\"\",COUNTIF(Scoresheet!BD:BD,BA36))","v":""},null,null,null,{"$f":"IF(ISBLANK(BE36),\"\",COUNTIF(Scoresheet!BH:BH,BE36))","v":""},null,null,null,{"$f":"IF(ISBLANK(BI36),\"\",COUNTIF(Scoresheet!BL:BL,BI36))","v":""},null,null,null,{"$f":"IF(ISBLANK(BM36),\"\",COUNTIF(Scoresheet!BP:BP,BM36))","v":""},null,null,null,{"$f":"IF(ISBLANK(BQ36),\"\",COUNTIF(Scoresheet!BT:BT,BQ36))","v":""},null,null,null,{"$f":"IF(ISBLANK(BU36),\"\",COUNTIF(Scoresheet!BX:BX,BU36))","v":""},null,null,null,{"$f":"IF(ISBLANK(BY36),\"\",COUNTIF(Scoresheet!CB:CB,BY36))","v":""}]
[null,null,null,{"$f":"IF(ISBLANK(A37),\"\",COUNTIF(Scoresheet!D:D,A37))","v":""},null,null,null,{"$f":"IF(ISBLANK(E37),\"\",COUNTIF(Scoresheet!H:H,E37))","v":""},null,null,null,{"$f":"IF(ISBLANK(I37),\"\",COUNTIF(Scoresheet!L:L,I37))","v":""},null,null,null,{"$f":"IF(ISBLANK(M37),\"\",COUNTIF(Scoresheet!P:P,M37))","v":""},null,null,null,{"$f":"IF(ISBLANK(Q37),\"\",COUNTIF(Scoresheet!T:T,Q37))","v":""},null,null,null,{"$f":"IF(ISBLANK(U37),\"\",COUNTIF(Scoresheet!X:X,U37))","v":""},null,null,null,{"$f":"IF(ISBLANK(Y37),\"\",COUNTIF(Scoresheet!AB:AB,Y37))","v":""},null,null,null,{"$f":"IF(ISBLANK(AC37),\"\",COUNTIF(Scoresheet!AF:AF,AC37))","v":""},null,null,null,{"$f":"IF(ISBLANK(AG37),\"\",COUNTIF(Scoresheet!AJ:AJ,AG37))","v":""},null,null,null,{"$f":"IF(ISBLANK(AK37),\"\",COUNTIF(Scoresheet!AN:AN,AK37))","v":""},null,null,null,{"$f":"IF(ISBLANK(AO37),\"\",COUNTIF(Scoresheet!AR:AR,AO37))","v":""},null,null,null,{"$f":"IF(ISBLANK(AS37),\"\",COUNTIF(Scoresheet!AV:AV,AS37))","v":""},null,null,null,{"$f":"IF(ISBLANK(AW37),\"\",COUNTIF(Scoresheet!AZ:AZ,AW37))","v":""},null,null,null,{"$f":"IF(ISBLANK(BA37),\"\",COUNTIF(Scoresheet!BD:BD,BA37))","v":""},null,null,null,{"$f":"IF(ISBLANK(BE37),\"\",COUNTIF(Scoresheet!BH:BH,BE37))","v":""},null,null,null,{"$f":"IF(ISBLANK(BI37),\"\",COUNTIF(Scoresheet!BL:BL,BI37))","v":""},null,null,null,{"$f":"IF(ISBLANK(BM37),\"\",COUNTIF(Scoresheet!BP:BP,BM37))","v":""},null,null,null,{"$f":"IF(ISBLANK(BQ37),\"\",COUNTIF(Scoresheet!BT:BT,BQ37))","v":""},null,null,null,{"$f":"IF(ISBLANK(BU37),\"\",COUNTIF(Scoresheet!BX:BX,BU37))","v":""},null,null,null,{"$f":"IF(ISBLANK(BY37),\"\",COUNTIF(Scoresheet!CB:CB,BY37))","v":""}]
[null,null,null,{"$f":"IF(ISBLANK(A38),\"\",COUNTIF(Scoresheet!D:D,A38))","v":""},null,null,null,{"$f":"IF(ISBLANK(E38),\"\",COUNTIF(Scoresheet!H:H,E38))","v":""},null,null,null,{"$f":"IF(ISBLANK(I38),\"\",COUNTIF(Scoresheet!L:L,I38))","v":""},null,null,null,{"$f":"IF(ISBLANK(M38),\"\",COUNTIF(Scoresheet!P:P,M38))","v":""},null,null,null,{"$f":"IF(ISBLANK(Q38),\"\",COUNTIF(Scoresheet!T:T,Q38))","v":""},null,null,null,{"$f":"IF(ISBLANK(U38),\"\",COUNTIF(Scoresheet!X:X,U38))","v":""},null,null,null,{"$f":"IF(ISBLANK(Y38),\"\",COUNTIF(Scoresheet!AB:AB,Y38))","v":""},null,null,null,{"$f":"IF(ISBLANK(AC38),\"\",COUNTIF(Scoresheet!AF:AF,AC38))","v":""},null,null,null,{"$f":"IF(ISBLANK(AG38),\"\",COUNTIF(Scoresheet!AJ:AJ,AG38))","v":""},null,null,null,{"$f":"IF(ISBLANK(AK38),\"\",COUNTIF(Scoresheet!AN:AN,AK38))","v":""},null,null,null,{"$f":"IF(ISBLANK(AO38),\"\",COUNTIF(Scoresheet!AR:AR,AO38))","v":""},null,null,null,{"$f":"IF(ISBLANK(AS38),\"\",COUNTIF(Scoresheet!AV:AV,AS38))","v":""},null,null,null,{"$f":"IF(ISBLANK(AW38),\"\",COUNTIF(Scoresheet!AZ:AZ,AW38))","v":""},null,null,null,{"$f":"IF(ISBLANK(BA38),\"\",COUNTIF(Scoresheet!BD:BD,BA38))","v":""},null,null,null,{"$f":"IF(ISBLANK(BE38),\"\",COUNTIF(Scoresheet!BH:BH,BE38))","v":""},null,null,null,{"$f":"IF(ISBLANK(BI38),\"\",COUNTIF(Scoresheet!BL:BL,BI38))","v":""},null,null,null,{"$f":"IF(ISBLANK(BM38),\"\",COUNTIF(Scoresheet!BP:BP,BM38))","v":""},null,null,null,{"$f":"IF(ISBLANK(BQ38),\"\",COUNTIF(Scoresheet!BT:BT,BQ38))","v":""},null,null,null,{"$f":"IF(ISBLANK(BU38),\"\",COUNTIF(Scoresheet!BX:BX,BU38))","v":""},null,null,null,{"$f":"IF(ISBLANK(BY38),\"\",COUNTIF(Scoresheet!CB:CB,BY38))","v":""}]
[null,null,null,{"$f":"IF(ISBLANK(A39),\"\",COUNTIF(Scoresheet!D:D,A39))","v":""},null,null,null,{"$f":"IF(ISBLANK(E39),\"\",COUNTIF(Scoresheet!H:H,E39))","v":""},null,null,null,{"$f":"IF(ISBLANK(I39),\"\",COUNTIF(Scoresheet!L:L,I39))","v":""},null,null,null,{"$f":"IF(ISBLANK(M39),\"\",COUNTIF(Scoresheet!P:P,M39))","v":""},null,null,null,{"$f":"IF(ISBLANK(Q39),\"\",COUNTIF(Scoresheet!T:T,Q39))","v":""},null,null,null,{"$f":"IF(ISBLANK(U39),\"\",COUNTIF(Scoresheet!X:X,U39))","v":""},null,null,null,{"$f":"IF(ISBLANK(Y39),\"\",COUNTIF(Scoresheet!AB:AB,Y39))","v":""},null,null,null,{"$f":"IF(ISBLANK(AC39),\"\",COUNTIF(Scoresheet!AF:AF,AC39))","v":""},null,null,null,{"$f":"IF(ISBLANK(AG39),\"\",COUNTIF(Scoresheet!AJ:AJ,AG39))","v":""},null,null,null,{"$f":"IF(ISBLANK(AK39),\"\",COUNTIF(Scoresheet!AN:AN,AK39))","v":""},null,null,null,{"$f":"IF(ISBLANK(AO39),\"\",COUNTIF(Scoresheet!AR:AR,AO39))","v":""},null,null,null,{"$f":"IF(ISBLANK(AS39),\"\",COUNTIF(Scoresheet!AV:AV,AS39))","v":""},null,null,null,{"$f":"IF(ISBLANK(AW39),\"\",COUNTIF(Scoresheet!AZ:AZ,AW39))","v":""},null,null,null,{"$f":"IF(ISBLANK(BA39),\"\",COUNTIF(Scoresheet!BD:BD,BA39))","v":""},null,null,null,{"$f":"IF(ISBLANK(BE39),\"\",COUNTIF(Scoresheet!BH:BH,BE39))","v":""},null,null,null,{"$f":"IF(ISBLANK(BI39),\"\",COUNTIF(Scoresheet!BL:BL,BI39))","v":""},null,null,null,{"$f":"IF(ISBLANK(BM39),\"\",COUNTIF(Scoresheet!BP:BP,BM39))","v":""},null,null,null,{"$f":"IF(ISBLANK(BQ39),\"\",COUNTIF(Scoresheet!BT:BT,BQ39))","v":""},null,null,null,{"$f":"IF(ISBLANK(BU39),\"\",COUNTIF(Scoresheet!BX:BX,BU39))","v":""},null,null,null,{"$f":"IF(ISBLANK(BY39),\"\",COUNTIF(Scoresheet!CB:CB,BY39))","v":""}]
[null,null,null,{"$f":"IF(ISBLANK(A40),\"\",COUNTIF(Scoresheet!D:D,A40))","v":""},null,null,null,{"$f":"IF(ISBLANK(E40),\"\",COUNTIF(Scoresheet!H:H,E40))","v":""},null,null,null,{"$f":"IF(ISBLANK(I40),\"\",COUNTIF(Scoresheet!L:L,I40))","v":""},null,null,null,{"$f":"IF(ISBLANK(M40),\"\",COUNTIF(Scoresheet!P:P,M40))","v":""},null,null,null,{"$f":"IF(ISBLANK(Q40),\"\",COUNTIF(Scoresheet!T:T,Q40))","v":""},null,null,null,{"$f":"IF(ISBLANK(U40),\"\",COUNTIF(Scoresheet!X:X,U40))","v":""},null,null,null,{"$f":"IF(ISBLANK(Y40),\"\",COUNTIF(Scoresheet!AB:AB,Y40))","v":""},null,null,null,{"$f":"IF(ISBLANK(AC40),\"\",COUNTIF(Scoresheet!AF:AF,AC40))","v":""},null,null,null,{"$f":"IF(ISBLANK(AG40),\"\",COUNTIF(Scoresheet!AJ:AJ,AG40))","v":""},null,null,null,{"$f":"IF(ISBLANK(AK40),\"\",COUNTIF(Scoresheet!AN:AN,AK40))","v":""},null,null,null,{"$f":"IF(ISBLANK(AO40),\"\",COUNTIF(Scoresheet!AR:AR,AO40))","v":""},null,null,null,{"$f":"IF(ISBLANK(AS40),\"\",COUNTIF(Scoresheet!AV:AV,AS40))","v":""},null,null,null,{"$f":"IF(ISBLANK(AW40),\"\",COUNTIF(Scoresheet!AZ:AZ,AW40))","v":""},null,null,null,{"$f":"IF(ISBLANK(BA40),\"\",COUNTIF(Scoresheet!BD:BD,BA40))","v":""},null,null,null,{"$f":"IF(ISBLANK(BE40),\"\",COUNTIF(Scoresheet!BH:BH,BE40))","v":""},null,null,null,{"$f":"IF(ISBLANK(BI40),\"\",COUNTIF(Scoresheet!BL:BL,BI40))","v":""},null,null,null,{"$f":"IF(ISBLANK(BM40),\"\",COUNTIF(Scoresheet!BP:BP,BM40))","v":""},null,null,null,{"$f":"IF(ISBLANK(BQ40),\"\",COUNTIF(Scoresheet!BT:BT,BQ40))","v":""},null,null,null,{"$f":"IF(ISBLANK(BU40),\"\",COUNTIF(Scoresheet!BX:BX,BU40))","v":""},null,null,null,{"$f":"IF(ISBLANK(BY40),\"\",COUNTIF(Scoresheet!CB:CB,BY40))","v":""}]
[null,null,null,{"$f":"IF(ISBLANK(A41),\"\",COUNTIF(Scoresheet!D:D,A41))","v":""},null,null,null,{"$f":"IF(ISBLANK(E41),\"\",COUNTIF(Scoresheet!H:H,E41))","v":""},null,null,null,{"$f":"IF(ISBLANK(I41),\"\",COUNTIF(Scoresheet!L:L,I41))","v":""},null,null,null,{"$f":"IF(ISBLANK(M41),\"\",COUNTIF(Scoresheet!P:P,M41))","v":""},null,null,null,{"$f":"IF(ISBLANK(Q41),\"\",COUNTIF(Scoresheet!T:T,Q41))","v":""},null,null,null,{"$f":"IF(ISBLANK(U41),\"\",COUNTIF(Scoresheet!X:X,U41))","v":""},null,null,null,{"$f":"IF(ISBLANK(Y41),\"\",COUNTIF(Scoresheet!AB:AB,Y41))","v":""},null,null,null,{"$f":"IF(ISBLANK(AC41),\"\",COUNTIF(Scoresheet!AF:AF,AC41))","v":""},null,null,null,{"$f":"IF(ISBLANK(AG41),\"\",COUNTIF(Scoresheet!AJ:AJ,AG41))","v":""},null,null,null,{"$f":"IF(ISBLANK(AK41),\"\",COUNTIF(Scoresheet!AN:AN,AK41))","v":""},null,null,null,{"$f":"IF(ISBLANK(AO41),\"\",COUNTIF(Scoresheet!AR:AR,AO41))","v":""},null,null,null,{"$f":"IF(ISBLANK(AS41),\"\",COUNTIF(Scoresheet!AV:AV,AS41))","v":""},null,null,null,{"$f":"IF(ISBLANK(AW41),\"\",COUNTIF(Scoresheet!AZ:AZ,AW41))","v":""},null,null,null,{"$f":"IF(ISBLANK(BA41),\"\",COUNTIF(Scoresheet!BD:BD,BA41))","v":""},null,null,null,{"$f":"IF(ISBLANK(BE41),\"\",COUNTIF(Scoresheet!BH:BH,BE41))","v":""},null,null,null,{"$f":"IF(ISBLANK(BI41),\"\",COUNTIF(Scoresheet!BL:BL,BI41))","v":""},null,null,null,{"$f":"IF(ISBLANK(BM41),\"\",COUNTIF(Scoresheet!BP:BP,BM41))","v":""},null,null,null,{"$f":"IF(ISBLANK(BQ41),\"\",COUNTIF(Scoresheet!BT:BT,BQ41))","v":""},null,null,null,{"$f":"IF(ISBLANK(BU41),\"\",COUNTIF(Scoresheet!BX:BX,BU41))","v":""},null,null,null,{"$f":"IF(ISBLANK(BY41),\"\",COUNTIF(Scoresheet!CB:CB,BY41))","v":""}]
[null,null,null,{"$f":"IF(ISBLANK(A42),\"\",COUNTIF(Scoresheet!D:D,A42))","v":""},null,null,null,{"$f":"IF(ISBLANK(E42),\"\",COUNTIF(Scoresheet!H:H,E42))","v":""},null,null,null,{"$f":"IF(ISBLANK(I42),\"\",COUNTIF(Scoresheet!L:L,I42))","v":""},null,null,null,{"$f":"IF(ISBLANK(M42),\"\",COUNTIF(Scoresheet!P:P,M42))","v":""},null,null,null,{"$f":"IF(ISBLANK(Q42),\"\",COUNTIF(Scoresheet!T:T,Q42))","v":""},null,null,null,{"$f":"IF(ISBLANK(U42),\"\",COUNTIF(Scoresheet!X:X,U42))","v":""},null,null,null,{"$f":"IF(ISBLANK(Y42),\"\",COUNTIF(Scoresheet!AB:AB,Y42))","v":""},null,null,null,{"$f":"IF(ISBLANK(AC42),\"\",COUNTIF(Scoresheet!AF:AF,AC42))","v":""},null,null,null,{"$f":"IF(ISBLANK(AG42),\"\",COUNTIF(Scoresheet!AJ:AJ,AG42))","v":""},null,null,null,{"$f":"IF(ISBLANK(AK42),\"\",COUNTIF(Scoresheet!AN:AN,AK42))","v":""},null,null,null,{"$f":"IF(ISBLANK(AO42),\"\",COUNTIF(Scoresheet!AR:AR,AO42))","v":""},null,null,null,{"$f":"IF(ISBLANK(AS42),\"\",COUNTIF(Scoresheet!AV:AV,AS42))","v":""},null,null,null,{"$f":"IF(ISBLANK(AW42),\"\",COUNTIF(Scoresheet!AZ:AZ,AW42))","v":""},null,null,null,{"$f":"IF(ISBLANK(BA42),\"\",COUNTIF(Scoresheet!BD:BD,BA42))","v":""},null,null,null,{"$f":"IF(ISBLANK(BE42),\"\",COUNTIF(Scoresheet!BH:BH,BE42))","v":""},null,null,null,{"$f":"IF(ISBLANK(BI42),\"\",COUNTIF(Scoresheet!BL:BL,BI42))","v":""},null,null,null,{"$f":"IF(ISBLANK(BM42),\"\",COUNTIF(Scoresheet!BP:BP,BM42))","v":""},null,null,null,{"$f":"IF(ISBLANK(BQ42),\"\",COUNTIF(Scoresheet!BT:BT,BQ42))","v":""},null,null,null,{"$f":"IF(ISBLANK(BU42),\"\",COUNTIF(Scoresheet!BX:BX,BU42))","v":""},null,null,null,{"$f":"IF(ISBLANK(BY42),\"\",COUNTIF(Scoresheet!CB:CB,BY42))","v":""}]
[null,null,null,{"$f":"IF(ISBLANK(A43),\"\",COUNTIF(Scoresheet!D:D,A43))","v":""},null,null,null,{"$f":"IF(ISBLANK(E43),\"\",COUNTIF(Scoresheet!H:H,E43))","v":""},null,null,null,{"$f":"IF(ISBLANK(I43),\"\",COUNTIF(Scoresheet!L:L,I43))","v":""},null,null,null,{"$f":"IF(ISBLANK(M43),\"\",COUNTIF(Scoresheet!P:P,M43))","v":""},null,null,null,{"$f":"IF(ISBLANK(Q43),\"\",COUNTIF(Scoresheet!T:T,Q43))","v":""},null,null,null,{"$f":"IF(ISBLANK(U43),\"\",COUNTIF(Scoresheet!X:X,U43))","v":""},null,null,null,{"$f":"IF(ISBLANK(Y43),\"\",COUNTIF(Scoresheet!AB:AB,Y43))","v":""},null,null,null,{"$f":"IF(ISBLANK(AC43),\"\",COUNTIF(Scoresheet!AF:AF,AC43))","v":""},null,null,null,{"$f":"IF(ISBLANK(AG43),\"\",COUNTIF(Scoresheet!AJ:AJ,AG43))","v":""},null,null,null,{"$f":"IF(ISBLANK(AK43),\"\",COUNTIF(Scoresheet!AN:AN,AK43))","v":""},null,null,null,{"$f":"IF(ISBLANK(AO43),\"\",COUNTIF(Scoresheet!AR:AR,AO43))","v":""},null,null,null,{"$f":"IF(ISBLANK(AS43),\"\",COUNTIF(Scoresheet!AV:AV,AS43))","v":""},null,null,null,{"$f":"IF(ISBLANK(AW43),\"\",COUNTIF(Scoresheet!AZ:AZ,AW43))","v":""},null,null,null,{"$f":"IF(ISBLANK(BA43),\"\",COUNTIF(Scoresheet!BD:BD,BA43))","v":""},null,null,null,{"$f":"IF(ISBLANK(BE43),\"\",COUNTIF(Scoresheet!BH:BH,BE43))","v":""},null,null,null,{"$f":"IF(ISBLANK(BI43),\"\",COUNTIF(Scoresheet!BL:BL,BI43))","v":""},null,null,null,{"$f":"IF(ISBLANK(BM43),\"\",COUNTIF(Scoresheet!BP:BP,BM43))","v":""},null,null,null,{"$f":"IF(ISBLANK(BQ43),\"\",COUNTIF(Scoresheet!BT:BT,BQ43))","v":""},null,null,null,{"$f":"IF(ISBLANK(BU43),\"\",COUNTIF(Scoresheet!BX:BX,BU43))","v":""},null,null,null,{"$f":"IF(ISBLANK(BY43),\"\",COUNTIF(Scoresheet!CB:CB,BY43))","v":""}]
[null,null,null,{"$f":"IF(ISBLANK(A44),\"\",COUNTIF(Scoresheet!D:D,A44))","v":""},null,null,null,{"$f":"IF(ISBLANK(E44),\"\",COUNTIF(Scoresheet!H:H,E44))","v":""},null,null,null,{"$f":"IF(ISBLANK(I44),\"\",COUNTIF(Scoresheet!L:L,I44))","v":""},null,null,null,{"$f":"IF(ISBLANK(M44),\"\",COUNTIF(Scoresheet!P:P,M44))","v":""},null,null,null,{"$f":"IF(ISBLANK(Q44),\"\",COUNTIF(Scoresheet!T:T,Q44))","v":""},null,null,null,{"$f":"IF(ISBLANK(U44),\"\",COUNTIF(Scoresheet!X:X,U44))","v":""},null,null,null,{"$f":"IF(ISBLANK(Y44),\"\",COUNTIF(Scoresheet!AB:AB,Y44))","v":""},null,null,null,{"$f":"IF(ISBLANK(AC44),\"\",COUNTIF(Scoresheet!AF:AF,AC44))","v":""},null,null,null,{"$f":"IF(ISBLANK(AG44),\"\",COUNTIF(Scoresheet!AJ:AJ,AG44))","v":""},null,null,null,{"$f":"IF(ISBLANK(AK44),\"\",COUNTIF(Scoresheet!AN:AN,AK44))","v":""},null,null,null,{"$f":"IF(ISBLANK(AO44),\"\",COUNTIF(Scoresheet!AR:AR,AO44))","v":""},null,null,null,{"$f":"IF(ISBLANK(AS44),\"\",COUNTIF(Scoresheet!AV:AV,AS44))","v":""},null,null,null,{"$f":"IF(ISBLANK(AW44),\"\",COUNTIF(Scoresheet!AZ:AZ,AW44))","v":""},null,null,null,{"$f":"IF(ISBLANK(BA44),\"\",COUNTIF(Scoresheet!BD:BD,BA44))","v":""},null,null,null,{"$f":"IF(ISBLANK(BE44),\"\",COUNTIF(Scoresheet!BH:BH,BE44))","v":""},null,null,null,{"$f":"IF(ISBLANK(BI44),\"\",COUNTIF(Scoresheet!BL:BL,BI44))","v":""},null,null,null,{"$f":"IF(ISBLANK(BM44),\"\",COUNTIF(Scoresheet!BP:BP,BM44))","v":""},null,null,null,{"$f":"IF(ISBLANK(BQ44),\"\",COUNTIF(Scoresheet!BT:BT,BQ44))","v":""},null,null,null,{"$f":"IF(ISBLANK(BU44),\"\",COUNTIF(Scoresheet!BX:BX,BU44))","v":""},null,null,null,{"$f":"IF(ISBLANK(BY44),\"\",COUNTIF(Scoresheet!CB:CB,BY44))","v":""}]
[null,null,null,{"$f":"IF(ISBLANK(A45),\"\",COUNTIF(Scoresheet!D:D,A45))","v":""},null,null,null,{"$f":"IF(ISBLANK(E45),\"\",COUNTIF(Scoresheet!H:H,E45))","v":""},null,null,null,{"$f":"IF(ISBLANK(I45),\"\",COUNTIF(Scoresheet!L:L,I45))","v":""},null,null,null,{"$f":"IF(ISBLANK(M45),\"\",COUNTIF(Scoresheet!P:P,M45))","v":""},null,null,null,{"$f":"IF(ISBLANK(Q45),\"\",COUNTIF(Scoresheet!T:T,Q45))","v":""},null,null,null,{"$f":"IF(ISBLANK(U45),\"\",COUNTIF(Scoresheet!X:X,U45))","v":""},null,null,null,{"$f":"IF(ISBLANK(Y45),\"\",COUNTIF(Scoresheet!AB:AB,Y45))","v":""},null,null,null,{"$f":"IF(ISBLANK(AC45),\"\",COUNTIF(Scoresheet!AF:AF,AC45))","v":""},null,null,null,{"$f":"IF(ISBLANK(AG45),\"\",COUNTIF(Scoresheet!AJ:AJ,AG45))","v":""},null,null,null,{"$f":"IF(ISBLANK(AK45),\"\",COUNTIF(Scoresheet!AN:AN,AK45))","v":""},null,null,null,{"$f":"IF(ISBLANK(AO45),\"\",COUNTIF(Scoresheet!AR:AR,AO45))","v":""},null,null,null,{"$f":"IF(ISBLANK(AS45),\"\",COUNTIF(Scoresheet!AV:AV,AS45))","v":""},null,null,null,{"$f":"IF(ISBLANK(AW45),\"\",COUNTIF(Scoresheet!AZ:AZ,AW45))","v":""},null,null,null,{"$f":"IF(ISBLANK(BA45),\"\",COUNTIF(Scoresheet!BD:BD,BA45))","v":""},null,null,null,{"$f":"IF(ISBLANK(BE45),\"\",COUNTIF(Scoresheet!BH:BH,BE45))","v":""},null,null,null,{"$f":"IF(ISBLANK(BI45),\"\",COUNTIF(Scoresheet!BL:BL,BI45))","v":""},null,null,null,{"$f":"IF(ISBLANK(BM45),\"\",COUNTIF(Scoresheet!BP:BP,BM45))","v":""},null,null,null,{"$f":"IF(ISBLANK(BQ45),\"\",COUNTIF(Scoresheet!BT:BT,BQ45))","v":""},null,null,null,{"$f":"IF(ISBLANK(BU45),\"\",COUNTIF(Scoresheet!BX:BX,BU45))","v":""},null,null,null,{"$f":"IF(ISBLANK(BY45),\"\",COUNTIF(Scoresheet!CB:CB,BY45))","v":""}]
[null,null,null,{"$f":"IF(ISBLANK(A46),\"\",COUNTIF(Scoresheet!D:D,A46))","v":""},null,null,null,{"$f":"IF(ISBLANK(E46),\"\",COUNTIF(Scoresheet!H:H,E46))","v":""},null,null,null,{"$f":"IF(ISBLANK(I46),\"\",COUNTIF(Scoresheet!L:L,I46))","v":""},null,null,null,{"$f":"IF(ISBLANK(M46),\"\",COUNTIF(Scoresheet!P:P,M46))","v":""},null,null,null,{"$f":"IF(ISBLANK(Q46),\"\",COUNTIF(Scoresheet!T:T,Q46))","v":""},null,null,null,{"$f":"IF(ISBLANK(U46),\"\",COUNTIF(Scoresheet!X:X,U46))","v":""},null,null,null,{"$f":"IF(ISBLANK(Y46),\"\",COUNTIF(Scoresheet!AB:AB,Y46))","v":""},null,null,null,{"$f":"IF(ISBLANK(AC46),\"\",COUNTIF(Scoresheet!AF:AF,AC46))","v":""},null,null,null,{"$f":"IF(ISBLANK(AG46),\"\",COUNTIF(Scoresheet!AJ:AJ,AG46))","v":""},null,null,null,{"$f":"IF(ISBLANK(AK46),\"\",COUNTIF(Scoresheet!AN:AN,AK46))","v":""},null,null,null,{"$f":"IF(ISBLANK(AO46),\"\",COUNTIF(Scoresheet!AR:AR,AO46))","v":""},null,null,null,{"$f":"IF(ISBLANK(AS46),\"\",COUNTIF(Scoresheet!AV:AV,AS46))","v":""},null,null,null,{"$f":"IF(ISBLANK(AW46),\"\",COUNTIF(Scoresheet!AZ:AZ,AW46))","v":""},null,null,null,{"$f":"IF(ISBLANK(BA46),\"\",COUNTIF(Scoresheet!BD:BD,BA46))","v":""},null,null,null,{"$f":"IF(ISBLANK(BE46),\"\",COUNTIF(Scoresheet!BH:BH,BE46))","v":""},null,null,null,{"$f":"IF(ISBLANK(BI46),\"\",COUNTIF(Scoresheet!BL:BL,BI46))","v":""},null,null,null,{"$f":"IF(ISBLANK(BM46),\"\",COUNTIF(Scoresheet!BP:BP,BM46))","v":""},null,null,null,{"$f":"IF(ISBLANK(BQ46),\"\",COUNTIF(Scoresheet!BT:BT,BQ46))","v":""},null,null,null,{"$f":"IF(ISBLANK(BU46),\"\",COUNTIF(Scoresheet!BX:BX,BU46))","v":""},null,null,null,{"$f":"IF(ISBLANK(BY46),\"\",COUNTIF(Scoresheet!CB:CB,BY46))","v":""}]
[null,null,null,{"$f":"IF(ISBLANK(A47),\"\",COUNTIF(Scoresheet!D:D,A47))","v":""},null,null,null,{"$f":"IF(ISBLANK(E47),\"\",COUNTIF(Scoresheet!H:H,E47))","v":""},null,null,null,{"$f":"IF(ISBLANK(I47),\"\",COUNTIF(Scoresheet!L:L,I47))","v":""},null,null,null,{"$f":"IF(ISBLANK(M47),\"\",COUNTIF(Scoresheet!P:P,M47))","v":""},null,null,null,{"$f":"IF(ISBLANK(Q47),\"\",COUNTIF(Scoresheet!T:T,Q47))","v":""},null,null,null,{"$f":"IF(ISBLANK(U47),\"\",COUNTIF(Scoresheet!X:X,U47))","v":""},null,null,null,{"$f":"IF(ISBLANK(Y47),\"\",COUNTIF(Scoresheet!AB:AB,Y47))","v":""},null,null,null,{"$f":"IF(ISBLANK(AC47),\"\",COUNTIF(Scoresheet!AF:AF,AC47))","v":""},null,null,null,{"$f":"IF(ISBLANK(AG47),\"\",COUNTIF(Scoresheet!AJ:AJ,AG47))","v":""},null,null,null,{"$f":"IF(ISBLANK(AK47),\"\",COUNTIF(Scoresheet!AN:AN,AK47))","v":""},null,null,null,{"$f":"IF(ISBLANK(AO47),\"\",COUNTIF(Scoresheet!AR:AR,AO47))","v":""},null,null,null,{"$f":"IF(ISBLANK(AS47),\"\",COUNTIF(Scoresheet!AV:AV,AS47))","v":""},null,null,null,{"$f":"IF(ISBLANK(AW47),\"\",COUNTIF(Scoresheet!AZ:AZ,AW47))","v":""},null,null,null,{"$f":"IF(ISBLANK(BA47),\"\",COUNTIF(Scoresheet!BD:BD,BA47))","v":""},null,null,null,{"$f":"IF(ISBLANK(BE47),\"\",COUNTIF(Scoresheet!BH:BH,BE47))","v":""},null,null,null,{"$f":"IF(ISBLANK(BI47),\"\",COUNTIF(Scoresheet!BL:BL,BI47))","v":""},null,null,null,{"$f":"IF(ISBLANK(BM47),\"\",COUNTIF(Scoresheet!BP:BP,BM47))","v":""},null,null,null,{"$f":"IF(ISBLANK(BQ47),\"\",COUNTIF(Scoresheet!BT:BT,BQ47))","v":""},null,null,null,{"$f":"IF(ISBLANK(BU47),\"\",COUNTIF(Scoresheet!BX:BX,BU47))","v":""},null,null,null,{"$f":"IF(ISBLANK(BY47),\"\",COUNTIF(Scoresheet!CB:CB,BY47))","v":""}]
[null,null,null,{"$f":"IF(ISBLANK(A48),\"\",COUNTIF(Scoresheet!D:D,A48))","v":""},null,null,null,{"$f":"IF(ISBLANK(E48),\"\",COUNTIF(Scoresheet!H:H,E48))","v":""},null,null,null,{"$f":"IF(ISBLANK(I48),\"\",COUNTIF(Scoresheet!L:L,I48))","v":""},null,null,null,{"$f":"IF(ISBLANK(M48),\"\",COUNTIF(Scoresheet!P:P,M48))","v":""},null,null,null,{"$f":"IF(ISBLANK(Q48),\"\",COUNTIF(Scoresheet!T:T,Q48))","v":""},null,null,null,{"$f":"IF(ISBLANK(U48),\"\",COUNTIF(Scoresheet!X:X,U48))","v":""},null,null,null,{"$f":"IF(ISBLANK(Y48),\"\",COUNTIF(Scoresheet!AB:AB,Y48))","v":""},null,null,null,{"$f":"IF(ISBLANK(AC48),\"\",COUNTIF(Scoresheet!AF:AF,AC48))","v":""},null,null,null,{"$f":"IF(ISBLANK(AG48),\"\",COUNTIF(Scoresheet!AJ:AJ,AG48))","v":""},null,null,null,{"$f":"IF(ISBLANK(AK48),\"\",COUNTIF(Scoresheet!AN:AN,AK48))","v":""},null,null,null,{"$f":"IF(ISBLANK(AO48),\"\",COUNTIF(Scoresheet!AR:AR,AO48))","v":""},null,null,null,{"$f":"IF(ISBLANK(AS48),\"\",COUNTIF(Scoresheet!AV:AV,AS48))","v":""},null,null,null,{"$f":"IF(ISBLANK(AW48),\"\",COUNTIF(Scoresheet!AZ:AZ,AW48))","v":""},null,null,null,{"$f":"IF(ISBLANK(BA48),\"\",COUNTIF(Scoresheet!BD:BD,BA48))","v":""},null,null,null,{"$f":"IF(ISBLANK(BE48),\"\",COUNTIF(Scoresheet!BH:BH,BE48))","v":""},null,null,null,{"$f":"IF(ISBLANK(BI48),\"\",COUNTIF(Scoresheet!BL:BL,BI48))","v":""},null,null,null,{"$f":"IF(ISBLANK(BM48),\"\",COUNTIF(Scoresheet!BP:BP,BM48))","v":""},null,null,null,{"$f":"IF(ISBLANK(BQ48),\"\",COUNTIF(Scoresheet!BT:BT,BQ48))","v":""},null,null,null,{"$f":"IF(ISBLANK(BU48),\"\",COUNTIF(Scoresheet!BX:BX,BU48))","v":""},null,null,null,{"$f":"IF(ISBLANK(BY48),\"\",COUNTIF(Scoresheet!CB:CB,BY48))","v":""}]

{"sheet":"Results","index":3,"n_rows":105,"n_cols":5,"rows_kept":105,"cut":false,"hidden":false,"merged":[[3,0,3,1]]}
["Below you'll see the responses for the current question.",null,null,"Here are the standings for the current question."]
["Copy them over to Microsoft Word and do the find & replace.",null,null,"You can copy these directly to Jboard."]
[null,null,null,"The standings are automatically separated after every five names for better readability."]
[]
["[color=#BF0040]among them are Hosea, Joel, Amos, and Obadiah[/color]//[b][u]12[/u] MINOR PROPHETS[/b] — [b]4 responses[/b]","Category 13//goforthetie//MarkBarrett//patkav","","1. Lampy — [color=#BBBBBB]55 + 4 → [/color][b]59[/b] pts [[b][color=#0000FF]unch[/b][/color]]",""]
["[color=#BF0040]time, in days, that Jesus spent wandering in the desert[/color]//[b][u]40[/u] DAYS[/b] — [b]4 responses[/b]","EricaofTwins//mennoknight//MollyQMurphy [[b][color=#8000BF]FOX[/color][/b]]//yossarian",null,"2. jgamer — [color=#BBBBBB]59 + 5 → [/color][b]64[/b] pts [[b][color=#0000FF]unch[/b][/color]]"]
["[color=#BF0040]traditional number of mitzvot in the Torah, first proposed in the 3rd century[/color]//[b][u]613[/u] MITZVOT[/b] — [b]4 responses[/b]","dinghammer//Holocene Hero//mitchparov//RandyG",null,"3. goforthetie — [color=#BBBBBB]62 + 4 → [/color][b]66[/b] pts [[b][color=#0000FF]unch[/b][/color]]"]
["[color=#BF0040]A.D. year in which Muhammad fled to Medina (the Hijra)[/color]//[b][u]622[/u][/b] — [b]4 responses[/b]","clprez//dhkendall//goatman//Lampy","","4. econgator — [color=#BBBBBB]63 + 5 → [/color][b]68[/b] pts [[b][color=#0000FF]unch[/b][/color]]",""]
["[color=#BF0040]Shiva has this many arms[/color]//[b][u]4[/u] ARMS[/b] — [b]5 responses[/b]","cool_hand//Dick Butkus//groovitude//ihavejeoprosy//jgamer","","5. goatman — [color=#BBBBBB]65 + 4 → [/color][b]69[/b] pts [[b][color=#0000FF]unch[/b][/color]]",""]
["[color=#BF0040]this final chapter of a Bible book begins: \"Praise the Lord. / Praise God in his sanctuary; praise him in his mighty heavens\"[/color]//[b]PSALM [u]150[/u][/b] — [b]5 responses[/b]","DadofTwins//ElendilPickle//MinnesotaMyron//RichmondJ//ZachTheRiah","","6. BerneseMountainDogLover — [color=#BBBBBB]65 + 9 → [/color][b]74[/b] pts [[b][color=#FF0000]↓1[/b][/color]]",""]
["[color=#BF0040]Revelation 13:18, excerpted: \"Let the person who has insight calculate\" this number[/color]//[b][u]666[/u][/b] — [b]5 responses[/b]","Abraxas//caknuck//chmmr//econgator [[b][color=#8000BF]FOX[/color][/b]]//JonathanHenke","","7. 9021amyers — [color=#BBBBBB]69 + 7 → [/color][b]76[/b] pts [[b][color=#00BF00]↑1[/b][/color]]",""]
["[color=#BF0040]a \"gift\" to All Saints' Church in Wittenberg, 1517[/color]//[b][u]95[/u] THESES[/b] — [b]7 responses[/b]","9021amyers//Blue Lion//Ivoirians [[b][color=#8000BF]FOX[/color][/b]]//kettledrum//Peachbox//quarterrican//RyanWillDestroySofia","","8. deano — [color=#BBBBBB]81 + 9 → [/color][b]90[/b] pts [[b][color=#00BF00]↑1[/b][/color]]",""]
["[color=#BF0040]number of books in the New Testament, according to almost all modern Christian sects[/color]//[b][u]27[/u] BOOKS[/b] — [b]9 responses[/b]","Bamaman//BigDaddyMatty//Magna//mikeyb//naurae29//nightlove1200//ouachiouat//Ryno//Steppenwolf","","9. kettledrum — [color=#BBBBBB]84 + 7 → [/color][b]91[/b] pts [[b][color=#00BF00]↑1[/b][/color]]",""]
["[color=#BF0040]miraculously, they shared 2 fish and 5 loaves[/color]//[b]THE [u]5000[/u][/b] — [b]9 responses[/b]","barandall800//BerneseMountainDogLover//Big Bear//deano//geolawyerman//KatieofTwins//psgola//schoe//Woppy T [[b][color=#8000BF]FOX[/color][/b]]","","10. Abraxas — [color=#BBBBBB]1,057 + 5 → [/color][b]1,062[/b] pts [[b][color=#00BF00]↑2[/b][/color]]",""]
["[color=#BF0040]\"take what's on these two tablets and call me in the morning\" –Moses, allegedly[/color]//[b][u]10[/u] COMMANDMENTS[/b] — [b]1000 responses[/b]","Armandillo [[b][color=#8000BF]FOX[/color][/b]]//BennyBXB//Caboom//cmp146 [[b][color=#8000BF]FOX[/color][/b]]//CoachP//Dlinn83//dnbguy//dott888//immaf//MitchO [[b][color=#8000BF]FOX[/color][/b]]//Pickle [[b][color=#8000BF]FOX[/color][/b]]//Rackme32//Rusty's in the club [[b][color=#8000BF]FOX[/color][/b]]//tjconn728","","10. Category 13 — [color=#BBBBBB]1,058 + 4 → [/color][b]1,062[/b] pts [[b][color=#00BF00]↑4[/b][/color]]",""]
["[b][u]66[/u][/b]","gamawire","","10. RichmondJ — [color=#BBBBBB]1,057 + 5 → [/color][b]1,062[/b] pts [[b][color=#00BF00]↑2[/b][/color]]",""]
["[b][u]632[/u][/b]","BobF","","13. schoe — [color=#BBBBBB]1,056 + 9 → [/color][b]1,065[/b] pts [[b][color=#FF0000]↓2[/b][/color]]",""]
["[b][u]95400[/u][/b]","Peggles","","14. tjconn728 — [color=#BBBBBB]66 + [/color][color=#BF8000][b]1,000[/b][/color][color=#BBBBBB] → [/color][b]1,066[/b] pts [[b][color=#FF0000]↓7[/b][/color]]",""]
[null,null,"","15. ihavejeoprosy — [color=#BBBBBB]1,068 + 5 → [/color][b]1,073[/b] pts [[b][color=#0000FF]unch[/b][/color]]",""]
[null,null,"","16. Ivoirians — [color=#BBBBBB]1,068 + 7 → [/color][b]1,075[/b] pts [[b][color=#FF0000]↓1[/b][/color]]",""]
[null,null,"","17. mitchparov — [color=#BBBBBB]1,077 + 4 → [/color][b]1,081[/b] pts [[b][color=#00BF00]↑1[/b][/color]]",""]
[null,null,"","18. caknuck — [color=#BBBBBB]1,079 + 5 → [/color][b]1,084[/b] pts [[b][color=#00BF00]↑1[/b][/color]]",""]
[null,null,"","19. quarterrican — [color=#BBBBBB]2,055 + 7 → [/color][b]2,062[/b] pts [[b][color=#00BF00]↑1[/b][/color]]",""]
[null,null,"","20. Dick Butkus — [color=#BBBBBB]2,058 + 5 → [/color][b]2,063[/b] pts [[b][color=#00BF00]↑2[/b][/color]]",""]
[null,null,"","21. dhkendall — [color=#BBBBBB]2,060 + 4 → [/color][b]2,064[/b] pts [[b][color=#00BF00]↑3[/b][/color]]",""]
[null,null,"","22. geolawyerman — [color=#BBBBBB]2,057 + 9 → [/color][b]2,066[/b] pts [[b][color=#FF0000]↓1[/b][/color]]",""]
[null,null,"","22. RyanWillDestroySofia — [color=#BBBBBB]2,059 + 7 → [/color][b]2,066[/b] pts [[b][color=#00BF00]↑1[/b][/color]]",""]
[null,null,"","24. ElendilPickle — [color=#BBBBBB]2,063 + 5 → [/color][b]2,068[/b] pts [[b][color=#00BF00]↑1[/b][/color]]",""]
[null,null,"","25. MarkBarrett — [color=#BBBBBB]2,067 + 4 → [/color][b]2,071[/b] pts [[b][color=#00BF00]↑1[/b][/color]]",""]
[null,null,"","26. MinnesotaMyron — [color=#BBBBBB]2,067 + 5 → [/color][b]2,072[/b] pts [[b][color=#0000FF]unch[/b][/color]]",""]
[null,null,"","26. Pickle — [color=#BBBBBB]2,072 + [/color][color=#BF8000][b]1,000[/b][/color][color=#BBBBBB] [/color][b][color=#8000BF]- 1,000[/color][/b][color=#BBBBBB] → [/color][b]2,072[/b] pts [[b][color=#00BF00]↑5[/b][/color]]",""]
[null,null,"","28. Steppenwolf — [color=#BBBBBB]2,067 + 9 → [/color][b]2,076[/b] pts [[b][color=#FF0000]↓2[/b][/color]]",""]
[null,null,"","29. Holocene Hero — [color=#BBBBBB]2,074 + 4 → [/color][b]2,078[/b] pts [[b][color=#00BF00]↑3[/b][/color]]",""]
[null,null,"","29. Peggles — [color=#BBBBBB]1,071 + [/color][color=#BF8000][b]1,007[/b][/color][color=#BBBBBB] → [/color][b]2,078[/b] pts [[b][color=#FF0000]↓12[/b][/color]]",""]
[null,null,"","29. yossarian — [color=#BBBBBB]2,074 + 4 → [/color][b]2,078[/b] pts [[b][color=#00BF00]↑3[/b][/color]]",""]
[null,null,"","32. cool_hand — [color=#BBBBBB]2,079 + 5 → [/color][b]2,084[/b] pts [[b][color=#00BF00]↑3[/b][/color]]",""]
[null,null,"","33. Magna — [color=#BBBBBB]2,077 + 9 → [/color][b]2,086[/b] pts [[b][color=#00BF00]↑1[/b][/color]]",""]
[null,null,"","34. Ryno — [color=#BBBBBB]2,083 + 9 → [/color][b]2,092[/b] pts [[b][color=#00BF00]↑2[/b][/color]]",""]
[null,null,"","35. BigDaddyMatty — [color=#BBBBBB]3,037 + 9 → [/color][b]3,046[/b] pts [[b][color=#00BF00]↑2[/b][/color]]",""]
[null,null,"","36. Rusty's in the club — [color=#BBBBBB]3,048 + [/color][color=#BF8000][b]1,000[/b][/color][color=#BBBBBB] [/color][b][color=#8000BF]- 1,000[/color][/b][color=#BBBBBB] → [/color][b]3,048[/b] pts [[b][color=#00BF00]↑2[/b][/color]]",""]
[null,null,"","37. patkav — [color=#BBBBBB]3,049 + 4 → [/color][b]3,053[/b] pts [[b][color=#00BF00]↑2[/b][/color]]",""]
[null,null,"","38. groovitude — [color=#BBBBBB]3,055 + 5 → [/color][b]3,060[/b] pts [[b][color=#00BF00]↑5[/b][/color]]",""]
[null,null,"","38. mikeyb — [color=#BBBBBB]3,051 + 9 → [/color][b]3,060[/b] pts [[b][color=#00BF00]↑2[/b][/color]]",""]
[null,null,"","38. nightlove1200 — [color=#BBBBBB]3,051 + 9 → [/color][b]3,060[/b] pts [[b][color=#00BF00]↑2[/b][/color]]",""]
[null,null,"","41. Blue Lion — [color=#BBBBBB]3,054 + 7 → [/color][b]3,061[/b] pts [[b][color=#00BF00]↑1[/b][/color]]",""]
[null,null,"","42. RandyG — [color=#BBBBBB]3,062 + 4 → [/color][b]3,066[/b] pts [[b][color=#00BF00]↑2[/b][/color]]",""]
[null,null,"","43. BennyBXB — [color=#BBBBBB]2,069 + [/color][color=#BF8000][b]1,000[/b][/color][color=#BBBBBB] → [/color][b]3,069[/b] pts [[b][color=#FF0000]↓14[/b][/color]]",""]
[null,null,"","43. mennoknight — [color=#BBBBBB]3,065 + 4 → [/color][b]3,069[/b] pts [[b][color=#00BF00]↑2[/b][/color]]",""]
[null,null,"","45. Armandillo — [color=#BBBBBB]3,070 + [/color][color=#BF8000][b]1,000[/b][/color][color=#BBBBBB] [/color][b][color=#8000BF]- 1,000[/color][/b][color=#BBBBBB] → [/color][b]3,070[/b] pts [[b][color=#00BF00]↑4[/b][/color]]",""]
[null,null,"","46. Dlinn83 — [color=#BBBBBB]2,071 + [/color][color=#BF8000][b]1,000[/b][/color][color=#BBBBBB] → [/color][b]3,071[/b] pts [[b][color=#FF0000]↓16[/b][/color]]",""]
[null,null,"","47. ZachTheRiah — [color=#BBBBBB]3,069 + 5 → [/color][b]3,074[/b] pts [[b][color=#00BF00]↑1[/b][/color]]",""]
[null,null,"","48. clprez — [color=#BBBBBB]3,071 + 4 → [/color][b]3,075[/b] pts [[b][color=#00BF00]↑2[/b][/color]]",""]
[null,null,"","49. MollyQMurphy — [color=#BBBBBB]3,076 + 4 → [/color][b]3,080[/b] pts [[b][color=#00BF00]↑3[/b][/color]]",""]
[null,null,"","50. Big Bear — [color=#BBBBBB]3,073 + 9 → [/color][b]3,082[/b] pts [[b][color=#00BF00]↑1[/b][/color]]",""]
[null,null,"","51. ouachiouat — [color=#BBBBBB]4,044 + 9 → [/color][b]4,053[/b] pts [[b][color=#00BF00]↑2[/b][/color]]",""]
[null,null,"","52. dinghammer — [color=#BBBBBB]4,050 + 4 → [/color][b]4,054[/b] pts [[b][color=#00BF00]↑3[/b][/color]]",""]
[null,null,"","53. cmp146 — [color=#BBBBBB]4,058 + [/color][color=#BF8000][b]1,000[/b][/color][color=#BBBBBB] [/color][b][color=#8000BF]- 1,000[/color][/b][color=#BBBBBB] → [/color][b]4,058[/b] pts [[b][color=#00BF00]↑5[/b][/color]]",""]
[null,null,"","54. Peachbox — [color=#BBBBBB]4,054 + 7 → [/color][b]4,061[/b] pts [[b][color=#00BF00]↑2[/b][/color]]",""]
[null,null,"","55. MitchO — [color=#BBBBBB]4,064 + [/color][color=#BF8000][b]1,000[/b][/color][color=#BBBBBB] [/color][b][color=#8000BF]- 1,000[/color][/b][color=#BBBBBB] → [/color][b]4,064[/b] pts [[b][color=#00BF00]↑8[/b][/color]]",""]
[null,null,"","56. dnbguy — [color=#BBBBBB]3,065 + [/color][color=#BF8000][b]1,000[/b][/color][color=#BBBBBB] → [/color][b]4,065[/b] pts [[b][color=#FF0000]↓11[/b][/color]]",""]
[null,null,"","57. Woppy T — [color=#BBBBBB]4,063 + 9 → [/color][b]4,072[/b] pts [[b][color=#00BF00]↑5[/b][/color]]",""]
[null,null,"","58. BobF — [color=#BBBBBB]3,068 + [/color][color=#BF8000][b]1,007[/b][/color][color=#BBBBBB] → [/color][b]4,075[/b] pts [[b][color=#FF0000]↓11[/b][/color]]",""]
[null,null,"","59. barandall800 — [color=#BBBBBB]4,067 + 9 → [/color][b]4,076[/b] pts [[b][color=#00BF00]↑5[/b][/color]]",""]
[null,null,"","60. JonathanHenke — [color=#BBBBBB]4,075 + 5 → [/color][b]4,080[/b] pts [[b][color=#00BF00]↑6[/b][/color]]",""]
[null,null,"","61. CoachP — [color=#BBBBBB]4,045 + [/color][color=#BF8000][b]1,000[/b][/color][color=#BBBBBB] → [/color][b]5,045[/b] pts [[b][color=#FF0000]↓7[/b][/color]]",""]
[null,null,"","62. DadofTwins — [color=#BBBBBB]5,041 + 5 → [/color][b]5,046[/b] pts [[b][color=#00BF00]↑5[/b][/color]]",""]
[null,null,"","63. psgola — [color=#BBBBBB]5,043 + 9 → [/color][b]5,052[/b] pts [[b][color=#00BF00]↑5[/b][/color]]",""]
[null,null,"","64. naurae29 — [color=#BBBBBB]5,045 + 9 → [/color][b]5,054[/b] pts [[b][color=#00BF00]↑5[/b][/color]]",""]
[null,null,null,"65. Caboom — [color=#BBBBBB]4,056 + [/color][color=#BF8000][b]1,000[/b][/color][color=#BBBBBB] → [/color][b]5,056[/b] pts [[b][color=#FF0000]↓8[/b][/color]]"]
[null,null,null,"66. chmmr — [color=#BBBBBB]5,053 + 5 → [/color][b]5,058[/b] pts [[b][color=#00BF00]↑5[/b][/color]]"]
[null,null,null,"66. dott888 — [color=#BBBBBB]4,058 + [/color][color=#BF8000][b]1,000[/b][/color][color=#BBBBBB] → [/color][b]5,058[/b] pts [[b][color=#FF0000]↓8[/b][/color]]"]
[null,null,null,"66. Rackme32 — [color=#BBBBBB]4,058 + [/color][color=#BF8000][b]1,000[/b][/color][color=#BBBBBB] → [/color][b]5,058[/b] pts [[b][color=#FF0000]↓8[/b][/color]]"]
[null,null,null,"69. Bamaman — [color=#BBBBBB]5,051 + 9 → [/color][b]5,060[/b] pts [[b][color=#00BF00]↑1[/b][/color]]"]
[null,null,null,"70. immaf — [color=#BBBBBB]4,067 + [/color][color=#BF8000][b]1,000[/b][/color][color=#BBBBBB] → [/color][b]5,067[/b] pts [[b][color=#FF0000]↓6[/b][/color]]"]
[null,null,null,"71. gamawire — [color=#BBBBBB]4,062 + [/color][color=#BF8000][b]1,007[/b][/color][color=#BBBBBB] → [/color][b]5,069[/b] pts [[b][color=#FF0000]↓10[/b][/color]]"]
[null,null,null,"72. EricaofTwins — [color=#BBBBBB]6,068 + 4 → [/color][b]6,072[/b] pts [[b][color=#0000FF]unch[/b][/color]]"]
[null,null,null,"73. KatieofTwins — [color=#BBBBBB]7,067 + 9 → [/color][b]7,076[/b] pts [[b][color=#0000FF]unch[/b][/color]]"]
[]
[null,null,null,"73.  — [color=#BBBBBB] +  → [/color][b][/b] pts [[b][color=#0000FF]unch[/b][/color]]"]
[null,null,null,"73.  — [color=#BBBBBB] +  → [/color][b][/b] pts [[b][color=#0000FF]unch[/b][/color]]"]
[null,null,null,"73.  — [color=#BBBBBB] +  → [/color][b][/b] pts [[b][color=#0000FF]unch[/b][/color]]"]
[null,null,null,"73.  — [color=#BBBBBB] +  → [/color][b][/b] pts [[b][color=#0000FF]unch[/b][/color]]"]
[null,null,null,"73.  — [color=#BBBBBB] +  → [/color][b][/b] pts [[b][color=#0000FF]unch[/b][/color]]"]
[null,null,null,"73.  — [color=#BBBBBB] +  → [/color][b][/b] pts [[b][color=#0000FF]unch[/b][/color]]"]
[null,null,null,"73.  — [color=#BBBBBB] +  → [/color][b][/b] pts [[b][color=#0000FF]unch[/b][/color]]"]
[null,null,null,"73.  — [color=#BBBBBB] +  → [/color][b][/b] pts [[b][color=#0000FF]unch[/b][/color]]"]
[null,null,null,"73.  — [color=#BBBBBB] +  → [/color][b][/b] pts [[b][color=#0000FF]unch[/b][/color]]"]
[null,null,null,"73.  — [color=#BBBBBB] +  → [/color][b][/b] pts [[b][color=#0000FF]unch[/b][/color]]"]
[null,null,null,"73.  — [color=#BBBBBB] +  → [/color][b][/b] pts [[b][color=#0000FF]unch[/b][/color]]"]
[null,null,null,"73.  — [color=#BBBBBB] +  → [/color][b][/b] pts [[b][color=#0000FF]unch[/b][/color]]"]
[null,null,null,"73.  — [color=#BBBBBB] +  → [/color][b][/b] pts [[b][color=#0000FF]unch[/b][/color]]"]
[null,null,null,"73.  — [color=#BBBBBB] +  → [/color][b][/b] pts [[b][color=#0000FF]unch[/b][/color]]"]
[null,null,null,"73.  — [color=#BBBBBB] +  → [/color][b][/b] pts [[b][color=#0000FF]unch[/b][/color]]"]
[null,null,null,"73.  — [color=#BBBBBB] +  → [/color][b][/b] pts [[b][color=#0000FF]unch[/b][/color]]"]
[null,null,null,"73.  — [color=#BBBBBB] +  → [/color][b][/b] pts [[b][color=#0000FF]unch[/b][/color]]"]
[null,null,null,"73.  — [color=#BBBBBB] +  → [/color][b][/b] pts [[b][color=#0000FF]unch[/b][/color]]"]
[null,null,null,"73.  — [color=#BBBBBB] +  → [/color][b][/b] pts [[b][color=#0000FF]unch[/b][/color]]"]
[null,null,null,"73.  — [color=#BBBBBB] +  → [/color][b][/b] pts [[b][color=#0000FF]unch[/b][/color]]"]
[null,null,null,"73.  — [color=#BBBBBB] +  → [/color][b][/b] pts [[b][color=#0000FF]unch[/b][/color]]"]
[null,null,null,"73.  — [color=#BBBBBB] +  → [/color][b][/b] pts [[b][color=#0000FF]unch[/b][/color]]"]
[null,null,null,"73.  — [color=#BBBBBB] +  → [/color][b][/b] pts [[b][color=#0000FF]unch[/b][/color]]"]
[null,null,null,"73.  — [color=#BBBBBB] +  → [/color][b][/b] pts [[b][color=#0000FF]unch[/b][/color]]"]
[null,null,null,"73.  — [color=#BBBBBB] +  → [/color][b][/b] pts [[b][color=#0000FF]unch[/b][/color]]"]
[null,null,null,"73.  — [color=#BBBBBB] +  → [/color][b][/b] pts [[b][color=#0000FF]unch[/b][/color]]"]
[null,null,null,"73.  — [color=#BBBBBB] +  → [/color][b][/b] pts [[b][color=#0000FF]unch[/b][/color]]"]

{"sheet":"Options","index":4,"n_rows":9,"n_cols":4,"rows_kept":9,"cut":false,"hidden":false,"merged":[]}
["using the DROP phrase","DROP","gives the player a score of",0]
["using the SHEEP phrase","SHEEP","gives the player the highest-scoring amount"]
[{"$f":"\"If more people pick \"\"\"&SHEEPNAME&\"\"\" than the actual SHEEP total, should we use that higher amount?\"","v":"If more people pick \"SHEEP\" than the actual SHEEP total, should we use that higher amount?"},"NO","(type \"YES\" in all caps to change this)"]
[]
["wrong answer penalties:"]
["multiply the sheep score by:",0,"(typically 1)"]
["and add this many points:",{"$f":"1000+ROUND(PLAYERS/10,0)","v":1007},"(type PLAYERS to give the number of players)"]
[]
["[/color][color=#BF8000]SHEEP[/color][color=#006600]"]

{"sheet":"Summary","index":5,"n_rows":26,"n_cols":14,"rows_kept":26,"cut":false,"hidden":false,"merged":[]}
["Answers with X responses"]
[null,"Total",1,2,3,4,5,6,7,8,9,10,11,12]
["FOX",null,{"$f":"COUNTIF(Scoresheet!$BC:$BC,C2)","v":5},{"$f":"COUNTIF(Scoresheet!$BC:$BC,D2)","v":5},{"$f":"COUNTIF(Scoresheet!$BC:$BC,E2)","v":4},{"$f":"COUNTIF(Scoresheet!$BC:$BC,F2)","v":17},{"$f":"COUNTIF(Scoresheet!$BC:$BC,G2)","v":8},{"$f":"COUNTIF(Scoresheet!$BC:$BC,H2)","v":5},{"$f":"COUNTIF(Scoresheet!$BC:$BC,I2)","v":5},{"$f":"COUNTIF(Scoresheet!$BC:$BC,J2)","v":4},{"$f":"COUNTIF(Scoresheet!$BC:$BC,K2)","v":4},{"$f":"COUNTIF(Scoresheet!$BC:$BC,L2)","v":4},{"$f":"COUNTIF(Scoresheet!$BC:$BC,M2)","v":3},{"$f":"COUNTIF(Scoresheet!$BC:$BC,N2)","v":9}]
[0,{"$f":"SUM(C4:N4)","v":5},{"$f":"COUNTIF(Answers!D$9:D$20,$A4)","v":0},{"$f":"COUNTIF(Answers!H$9:H$20,$A4)","v":0},{"$f":"COUNTIF(Answers!L$9:L$20,$A4)","v":1},{"$f":"COUNTIF(Answers!P$9:P$20,$A4)","v":1},{"$f":"COUNTIF(Answers!T$9:T$20,$A4)","v":0},{"$f":"COUNTIF(Answers!X$9:X$20,$A4)","v":1},{"$f":"COUNTIF(Answers!AB$9:AB$20,$A4)","v":0},{"$f":"COUNTIF(Answers!AF$9:AF$20,$A4)","v":1},{"$f":"COUNTIF(Answers!AJ$9:AJ$20,$A4)","v":0},{"$f":"COUNTIF(Answers!AN$9:AN$20,$A4)","v":0},{"$f":"COUNTIF(Answers!AR$9:AR$20,$A4)","v":0},{"$f":"COUNTIF(Answers!AV$9:AV$20,$A4)","v":1}]
[1,{"$f":"SUM(C5:N5)","v":11},{"$f":"COUNTIF(Answers!D$9:D$20,$A5)","v":1},{"$f":"COUNTIF(Answers!H$9:H$20,$A5)","v":2},{"$f":"COUNTIF(Answers!L$9:L$20,$A5)","v":0},{"$f":"COUNTIF(Answers!P$9:P$20,$A5)","v":1},{"$f":"COUNTIF(Answers!T$9:T$20,$A5)","v":1},{"$f":"COUNTIF(Answers!X$9:X$20,$A5)","v":1},{"$f":"COUNTIF(Answers!AB$9:AB$20,$A5)","v":2},{"$f":"COUNTIF(Answers!AF$9:AF$20,$A5)","v":1},{"$f":"COUNTIF(Answers!AJ$9:AJ$20,$A5)","v":0},{"$f":"COUNTIF(Answers!AN$9:AN$20,$A5)","v":0},{"$f":"COUNTIF(Answers!AR$9:AR$20,$A5)","v":2},{"$f":"COUNTIF(Answers!AV$9:AV$20,$A5)","v":0}]
[2,20,{"$f":"COUNTIF(Answers!D$9:D$20,$A6)","v":3},{"$f":"COUNTIF(Answers!H$9:H$20,$A6)","v":1},{"$f":"COUNTIF(Answers!L$9:L$20,$A6)","v":4},{"$f":"COUNTIF(Answers!P$9:P$20,$A6)","v":2},{"$f":"COUNTIF(Answers!T$9:T$20,$A6)","v":2},{"$f":"COUNTIF(Answers!X$9:X$20,$A6)","v":1},{"$f":"COUNTIF(Answers!AB$9:AB$20,$A6)","v":2},{"$f":"COUNTIF(Answers!AF$9:AF$20,$A6)","v":2},{"$f":"COUNTIF(Answers!AJ$9:AJ$20,$A6)","v":2},{"$f":"COUNTIF(Answers!AN$9:AN$20,$A6)","v":1},{"$f":"COUNTIF(Answers!AR$9:AR$20,$A6)","v":0},{"$f":"COUNTIF(Answers!AV$9:AV$20,$A6)","v":0}]
[3,10,{"$f":"COUNTIF(Answers!D$9:D$20,$A7)","v":0},{"$f":"COUNTIF(Answers!H$9:H$20,$A7)","v":1},{"$f":"COUNTIF(Answers!L$9:L$20,$A7)","v":1},{"$f":"COUNTIF(Answers!P$9:P$20,$A7)","v":2},{"$f":"COUNTIF(Answers!T$9:T$20,$A7)","v":2},{"$f":"COUNTIF(Answers!X$9:X$20,$A7)","v":1},{"$f":"COUNTIF(Answers!AB$9:AB$20,$A7)","v":1},{"$f":"COUNTIF(Answers!AF$9:AF$20,$A7)","v":0},{"$f":"COUNTIF(Answers!AJ$9:AJ$20,$A7)","v":0},{"$f":"COUNTIF(Answers!AN$9:AN$20,$A7)","v":1},{"$f":"COUNTIF(Answers!AR$9:AR$20,$A7)","v":1},{"$f":"COUNTIF(Answers!AV$9:AV$20,$A7)","v":0}]
[4,22,{"$f":"COUNTIF(Answers!D$9:D$20,$A8)","v":0},{"$f":"COUNTIF(Answers!H$9:H$20,$A8)","v":2},{"$f":"COUNTIF(Answers!L$9:L$20,$A8)","v":0},{"$f":"COUNTIF(Answers!P$9:P$20,$A8)","v":1},{"$f":"COUNTIF(Answers!T$9:T$20,$A8)","v":2},{"$f":"COUNTIF(Answers!X$9:X$20,$A8)","v":1},{"$f":"COUNTIF(Answers!AB$9:AB$20,$A8)","v":2},{"$f":"COUNTIF(Answers!AF$9:AF$20,$A8)","v":3},{"$f":"COUNTIF(Answers!AJ$9:AJ$20,$A8)","v":3},{"$f":"COUNTIF(Answers!AN$9:AN$20,$A8)","v":3},{"$f":"COUNTIF(Answers!AR$9:AR$20,$A8)","v":1},{"$f":"COUNTIF(Answers!AV$9:AV$20,$A8)","v":4}]
[5,15,{"$f":"COUNTIF(Answers!D$9:D$20,$A9)","v":2},{"$f":"COUNTIF(Answers!H$9:H$20,$A9)","v":2},{"$f":"COUNTIF(Answers!L$9:L$20,$A9)","v":0},{"$f":"COUNTIF(Answers!P$9:P$20,$A9)","v":0},{"$f":"COUNTIF(Answers!T$9:T$20,$A9)","v":0},{"$f":"COUNTIF(Answers!X$9:X$20,$A9)","v":2},{"$f":"COUNTIF(Answers!AB$9:AB$20,$A9)","v":1},{"$f":"COUNTIF(Answers!AF$9:AF$20,$A9)","v":0},{"$f":"COUNTIF(Answers!AJ$9:AJ$20,$A9)","v":2},{"$f":"COUNTIF(Answers!AN$9:AN$20,$A9)","v":1},{"$f":"COUNTIF(Answers!AR$9:AR$20,$A9)","v":2},{"$f":"COUNTIF(Answers!AV$9:AV$20,$A9)","v":3}]
[6,15,{"$f":"COUNTIF(Answers!D$9:D$20,$A10)","v":2},{"$f":"COUNTIF(Answers!H$9:H$20,$A10)","v":0},{"$f":"COUNTIF(Answers!L$9:L$20,$A10)","v":1},{"$f":"COUNTIF(Answers!P$9:P$20,$A10)","v":0},{"$f":"COUNTIF(Answers!T$9:T$20,$A10)","v":2},{"$f":"COUNTIF(Answers!X$9:X$20,$A10)","v":3},{"$f":"COUNTIF(Answers!AB$9:AB$20,$A10)","v":0},{"$f":"COUNTIF(Answers!AF$9:AF$20,$A10)","v":0},{"$f":"COUNTIF(Answers!AJ$9:AJ$20,$A10)","v":2},{"$f":"COUNTIF(Answers!AN$9:AN$20,$A10)","v":2},{"$f":"COUNTIF(Answers!AR$9:AR$20,$A10)","v":3},{"$f":"COUNTIF(Answers!AV$9:AV$20,$A10)","v":0}]
[7,7,{"$f":"COUNTIF(Answers!D$9:D$20,$A11)","v":0},{"$f":"COUNTIF(Answers!H$9:H$20,$A11)","v":1},{"$f":"COUNTIF(Answers!L$9:L$20,$A11)","v":1},{"$f":"COUNTIF(Answers!P$9:P$20,$A11)","v":2},{"$f":"COUNTIF(Answers!T$9:T$20,$A11)","v":0},{"$f":"COUNTIF(Answers!X$9:X$20,$A11)","v":0},{"$f":"COUNTIF(Answers!AB$9:AB$20,$A11)","v":1},{"$f":"COUNTIF(Answers!AF$9:AF$20,$A11)","v":0},{"$f":"COUNTIF(Answers!AJ$9:AJ$20,$A11)","v":0},{"$f":"COUNTIF(Answers!AN$9:AN$20,$A11)","v":1},{"$f":"COUNTIF(Answers!AR$9:AR$20,$A11)","v":0},{"$f":"COUNTIF(Answers!AV$9:AV$20,$A11)","v":1}]
[8,8,{"$f":"COUNTIF(Answers!D$9:D$20,$A12)","v":1},{"$f":"COUNTIF(Answers!H$9:H$20,$A12)","v":1},{"$f":"COUNTIF(Answers!L$9:L$20,$A12)","v":0},{"$f":"COUNTIF(Answers!P$9:P$20,$A12)","v":1},{"$f":"COUNTIF(Answers!T$9:T$20,$A12)","v":0},{"$f":"COUNTIF(Answers!X$9:X$20,$A12)","v":1},{"$f":"COUNTIF(Answers!AB$9:AB$20,$A12)","v":0},{"$f":"COUNTIF(Answers!AF$9:AF$20,$A12)","v":1},{"$f":"COUNTIF(Answers!AJ$9:AJ$20,$A12)","v":1},{"$f":"COUNTIF(Answers!AN$9:AN$20,$A12)","v":1},{"$f":"COUNTIF(Answers!AR$9:AR$20,$A12)","v":1},{"$f":"COUNTIF(Answers!AV$9:AV$20,$A12)","v":0}]
[9,{"$f":"SUM(C13:N13)","v":9},{"$f":"COUNTIF(Answers!D$9:D$20,$A13)","v":1},{"$f":"COUNTIF(Answers!H$9:H$20,$A13)","v":0},{"$f":"COUNTIF(Answers!L$9:L$20,$A13)","v":0},{"$f":"COUNTIF(Answers!P$9:P$20,$A13)","v":0},{"$f":"COUNTIF(Answers!T$9:T$20,$A13)","v":1},{"$f":"COUNTIF(Answers!X$9:X$20,$A13)","v":0},{"$f":"COUNTIF(Answers!AB$9:AB$20,$A13)","v":0},{"$f":"COUNTIF(Answers!AF$9:AF$20,$A13)","v":0},{"$f":"COUNTIF(Answers!AJ$9:AJ$20,$A13)","v":2},{"$f":"COUNTIF(Answers!AN$9:AN$20,$A13)","v":2},{"$f":"COUNTIF(Answers!AR$9:AR$20,$A13)","v":1},{"$f":"COUNTIF(Answers!AV$9:AV$20,$A13)","v":2}]
[10,5,{"$f":"COUNTIF(Answers!D$9:D$20,$A14)","v":0},{"$f":"COUNTIF(Answers!H$9:H$20,$A14)","v":0},{"$f":"COUNTIF(Answers!L$9:L$20,$A14)","v":1},{"$f":"COUNTIF(Answers!P$9:P$20,$A14)","v":1},{"$f":"COUNTIF(Answers!T$9:T$20,$A14)","v":0},{"$f":"COUNTIF(Answers!X$9:X$20,$A14)","v":0},{"$f":"COUNTIF(Answers!AB$9:AB$20,$A14)","v":0},{"$f":"COUNTIF(Answers!AF$9:AF$20,$A14)","v":3},{"$f":"COUNTIF(Answers!AJ$9:AJ$20,$A14)","v":0},{"$f":"COUNTIF(Answers!AN$9:AN$20,$A14)","v":0},{"$f":"COUNTIF(Answers!AR$9:AR$20,$A14)","v":0},{"$f":"COUNTIF(Answers!AV$9:AV$20,$A14)","v":0}]
[11,3,{"$f":"COUNTIF(Answers!D$9:D$20,$A15)","v":1},{"$f":"COUNTIF(Answers!H$9:H$20,$A15)","v":1},{"$f":"COUNTIF(Answers!L$9:L$20,$A15)","v":1},{"$f":"COUNTIF(Answers!P$9:P$20,$A15)","v":0},{"$f":"COUNTIF(Answers!T$9:T$20,$A15)","v":0},{"$f":"COUNTIF(Answers!X$9:X$20,$A15)","v":0},{"$f":"COUNTIF(Answers!AB$9:AB$20,$A15)","v":0},{"$f":"COUNTIF(Answers!AF$9:AF$20,$A15)","v":0},{"$f":"COUNTIF(Answers!AJ$9:AJ$20,$A15)","v":0},{"$f":"COUNTIF(Answers!AN$9:AN$20,$A15)","v":0},{"$f":"COUNTIF(Answers!AR$9:AR$20,$A15)","v":0},{"$f":"COUNTIF(Answers!AV$9:AV$20,$A15)","v":0}]
[12,2,{"$f":"COUNTIF(Answers!D$9:D$20,$A16)","v":0},{"$f":"COUNTIF(Answers!H$9:H$20,$A16)","v":0},{"$f":"COUNTIF(Answers!L$9:L$20,$A16)","v":1},{"$f":"COUNTIF(Answers!P$9:P$20,$A16)","v":0},{"$f":"COUNTIF(Answers!T$9:T$20,$A16)","v":0},{"$f":"COUNTIF(Answers!X$9:X$20,$A16)","v":0},{"$f":"COUNTIF(Answers!AB$9:AB$20,$A16)","v":0},{"$f":"COUNTIF(Answers!AF$9:AF$20,$A16)","v":1},{"$f":"COUNTIF(Answers!AJ$9:AJ$20,$A16)","v":0},{"$f":"COUNTIF(Answers!AN$9:AN$20,$A16)","v":0},{"$f":"COUNTIF(Answers!AR$9:AR$20,$A16)","v":0},{"$f":"COUNTIF(Answers!AV$9:AV$20,$A16)","v":0}]
[13,{"$f":"SUM(C17:N17)","v":6},{"$f":"COUNTIF(Answers!D$9:D$20,$A17)","v":1},{"$f":"COUNTIF(Answers!H$9:H$20,$A17)","v":1},{"$f":"COUNTIF(Answers!L$9:L$20,$A17)","v":1},{"$f":"COUNTIF(Answers!P$9:P$20,$A17)","v":1},{"$f":"COUNTIF(Answers!T$9:T$20,$A17)","v":0},{"$f":"COUNTIF(Answers!X$9:X$20,$A17)","v":0},{"$f":"COUNTIF(Answers!AB$9:AB$20,$A17)","v":2},{"$f":"COUNTIF(Answers!AF$9:AF$20,$A17)","v":0},{"$f":"COUNTIF(Answers!AJ$9:AJ$20,$A17)","v":0},{"$f":"COUNTIF(Answers!AN$9:AN$20,$A17)","v":0},{"$f":"COUNTIF(Answers!AR$9:AR$20,$A17)","v":0},{"$f":"COUNTIF(Answers!AV$9:AV$20,$A17)","v":0}]
[14,4,{"$f":"COUNTIF(Answers!D$9:D$20,$A18)","v":0},{"$f":"COUNTIF(Answers!H$9:H$20,$A18)","v":0},{"$f":"COUNTIF(Answers!L$9:L$20,$A18)","v":0},{"$f":"COUNTIF(Answers!P$9:P$20,$A18)","v":0},{"$f":"COUNTIF(Answers!T$9:T$20,$A18)","v":2},{"$f":"COUNTIF(Answers!X$9:X$20,$A18)","v":0},{"$f":"COUNTIF(Answers!AB$9:AB$20,$A18)","v":1},{"$f":"COUNTIF(Answers!AF$9:AF$20,$A18)","v":0},{"$f":"COUNTIF(Answers!AJ$9:AJ$20,$A18)","v":0},{"$f":"COUNTIF(Answers!AN$9:AN$20,$A18)","v":0},{"$f":"COUNTIF(Answers!AR$9:AR$20,$A18)","v":0},{"$f":"COUNTIF(Answers!AV$9:AV$20,$A18)","v":1}]
[15,{"$f":"SUM(C19:N19)","v":1},{"$f":"COUNTIF(Answers!D$9:D$20,$A19)","v":0},{"$f":"COUNTIF(Answers!H$9:H$20,$A19)","v":0},{"$f":"COUNTIF(Answers!L$9:L$20,$A19)","v":0},{"$f":"COUNTIF(Answers!P$9:P$20,$A19)","v":0},{"$f":"COUNTIF(Answers!T$9:T$20,$A19)","v":0},{"$f":"COUNTIF(Answers!X$9:X$20,$A19)","v":1},{"$f":"COUNTIF(Answers!AB$9:AB$20,$A19)","v":0},{"$f":"COUNTIF(Answers!AF$9:AF$20,$A19)","v":0},{"$f":"COUNTIF(Answers!AJ$9:AJ$20,$A19)","v":0},{"$f":"COUNTIF(Answers!AN$9:AN$20,$A19)","v":0},{"$f":"COUNTIF(Answers!AR$9:AR$20,$A19)","v":0},{"$f":"COUNTIF(Answers!AV$9:AV$20,$A19)","v":0}]
[16,0,{"$f":"COUNTIF(Answers!D$9:D$20,$A20)","v":0},{"$f":"COUNTIF(Answers!H$9:H$20,$A20)","v":0},{"$f":"COUNTIF(Answers!L$9:L$20,$A20)","v":0},{"$f":"COUNTIF(Answers!P$9:P$20,$A20)","v":0},{"$f":"COUNTIF(Answers!T$9:T$20,$A20)","v":0},{"$f":"COUNTIF(Answers!X$9:X$20,$A20)","v":0},{"$f":"COUNTIF(Answers!AB$9:AB$20,$A20)","v":0},{"$f":"COUNTIF(Answers!AF$9:AF$20,$A20)","v":0},{"$f":"COUNTIF(Answers!AJ$9:AJ$20,$A20)","v":0},{"$f":"COUNTIF(Answers!AN$9:AN$20,$A20)","v":0},{"$f":"COUNTIF(Answers!AR$9:AR$20,$A20)","v":0},{"$f":"COUNTIF(Answers!AV$9:AV$20,$A20)","v":0}]
[17,{"$f":"SUM(C21:N21)","v":0},{"$f":"COUNTIF(Answers!D$9:D$20,$A21)","v":0},{"$f":"COUNTIF(Answers!H$9:H$20,$A21)","v":0},{"$f":"COUNTIF(Answers!L$9:L$20,$A21)","v":0},{"$f":"COUNTIF(Answers!P$9:P$20,$A21)","v":0},{"$f":"COUNTIF(Answers!T$9:T$20,$A21)","v":0},{"$f":"COUNTIF(Answers!X$9:X$20,$A21)","v":0},{"$f":"COUNTIF(Answers!AB$9:AB$20,$A21)","v":0},{"$f":"COUNTIF(Answers!AF$9:AF$20,$A21)","v":0},{"$f":"COUNTIF(Answers!AJ$9:AJ$20,$A21)","v":0},{"$f":"COUNTIF(Answers!AN$9:AN$20,$A21)","v":0},{"$f":"COUNTIF(Answers!AR$9:AR$20,$A21)","v":0},{"$f":"COUNTIF(Answers!AV$9:AV$20,$A21)","v":0}]
[18,{"$f":"SUM(C22:N22)","v":1},{"$f":"COUNTIF(Answers!D$9:D$20,$A22)","v":0},{"$f":"COUNTIF(Answers!H$9:H$20,$A22)","v":0},{"$f":"COUNTIF(Answers!L$9:L$20,$A22)","v":0},{"$f":"COUNTIF(Answers!P$9:P$20,$A22)","v":0},{"$f":"COUNTIF(Answers!T$9:T$20,$A22)","v":0},{"$f":"COUNTIF(Answers!X$9:X$20,$A22)","v":0},{"$f":"COUNTIF(Answers!AB$9:AB$20,$A22)","v":0},{"$f":"COUNTIF(Answers!AF$9:AF$20,$A22)","v":0},{"$f":"COUNTIF(Answers!AJ$9:AJ$20,$A22)","v":0},{"$f":"COUNTIF(Answers!AN$9:AN$20,$A22)","v":0},{"$f":"COUNTIF(Answers!AR$9:AR$20,$A22)","v":1},{"$f":"COUNTIF(Answers!AV$9:AV$20,$A22)","v":0}]
[19,0,{"$f":"COUNTIF(Answers!D$9:D$20,$A23)","v":0},{"$f":"COUNTIF(Answers!H$9:H$20,$A23)","v":0},{"$f":"COUNTIF(Answers!L$9:L$20,$A23)","v":0},{"$f":"COUNTIF(Answers!P$9:P$20,$A23)","v":0},{"$f":"COUNTIF(Answers!T$9:T$20,$A23)","v":0},{"$f":"COUNTIF(Answers!X$9:X$20,$A23)","v":0},{"$f":"COUNTIF(Answers!AB$9:AB$20,$A23)","v":0},{"$f":"COUNTIF(Answers!AF$9:AF$20,$A23)","v":0},{"$f":"COUNTIF(Answers!AJ$9:AJ$20,$A23)","v":0},{"$f":"COUNTIF(Answers!AN$9:AN$20,$A23)","v":0},{"$f":"COUNTIF(Answers!AR$9:AR$20,$A23)","v":0},{"$f":"COUNTIF(Answers!AV$9:AV$20,$A23)","v":0}]
[]
["ACE",null,{"$f":"SUMPRODUCT($A4:$A23,$A4:$A23,C4:C23)","v":570},{"$f":"SUMPRODUCT($A4:$A23,$A4:$A23,D4:D23)","v":500},644,474,604,477,659,565,404,433,654,546]
[null,null,{"$f":"IF(C25=MAX($C25:$N25),\"hi\",IF(C25=MIN($C25:$N25),\"lo\",\"\"))","v":""},{"$f":"IF(D25=MAX($C25:$N25),\"hi\",IF(D25=MIN($C25:$N25),\"lo\",\"\"))","v":""},"","","","","hi","","lo","","",""]

{"sheet":"PM","index":6,"n_rows":17,"n_cols":17,"rows_kept":17,"cut":false,"hidden":false,"merged":[]}
["2015-12-01T00:04:15","barandall800",3,21,101,1940,2,12,25,9,10,49,5,5000,500,"10. Sports","Yes, please PM me"]
[]
[null,null,null,{"$f":"\"Thanks for your entry, \"&B1&\"! Here are your responses:\"","v":"Thanks for your entry, barandall800! Here are your responses:"}]
[null,null,null," "]
["1. Pop Music",{"$f":"C1","v":3},{"$f":"IF($P$1=A5,\" [[b][color=#8000BF]FOX[/color][/b]]\",\"\")","v":""},{"$f":"A5&\": \"&B5&C5","v":"1. Pop Music: 3"}]
["2. Games",{"$f":"D1","v":21},{"$f":"IF($P$1=A6,\" [[b][color=#8000BF]FOX[/color][/b]]\",\"\")","v":""},{"$f":"A6&\": \"&B6&C6","v":"2. Games: 21"}]
["3. Film",{"$f":"E1","v":101},"","3. Film: 101"]
["4. War",{"$f":"F1","v":1940},"","4. War: 1940"]
["5. Chemistry",{"$f":"G1","v":2},"","5. Chemistry: 2"]
["6. Books",{"$f":"H1","v":12},"","6. Books: 12"]
["7. Musicals",{"$f":"I1","v":25},"","7. Musicals: 25"]
["8. American Politics",{"$f":"J1","v":9},"","8. American Politics: 9"]
["9. Interstate Highways",{"$f":"K1","v":10},"","9. Interstate Highways: 10"]
["10. Sports",{"$f":"L1","v":49}," [[b][color=#8000BF]FOX[/color][/b]]","10. Sports: 49 [[b][color=#8000BF]FOX[/color][/b]]"]
["11. Idioms",{"$f":"M1","v":5},"","11. Idioms: 5"]
["12. Religion",{"$f":"N1","v":5000},"","12. Religion: 5000"]
["Tiebreaker",{"$f":"O1","v":500},"","Tiebreaker: 500"]