{"text_format":"1","workbook":"xlsx","n_sheets":6,"sheets":["Mainframe","Scoresheet","Answers","Backup 2","Results","Options"],"not_rendered":{"charts":0,"images":0,"macros":1,"external_links":0,"defined_names":11,"comments":0,"pivot_tables":0},"unopened":[],"bounds":{"document_bytes":16777216,"sheet_cells":100000,"rows_first":2000,"rows_last":500,"rows_between":2000,"halvings":0,"cell_chars":16384,"cell_head_chars":4096},"cells_cut":0,"cells_raw":0,"read":"whole","date_system":"1900"}

{"sheet":"Mainframe","index":0,"n_rows":1,"n_cols":24,"rows_kept":1,"cut":false,"hidden":false,"merged":[]}
["Timestamp","Handle","Question 1","Question 2","Question 3","Question 4","Question 5","Question 6","Question 7","Question 8","Question 9","Question 10","Question 11","Question 12","Question 13","Question 14","Question 15","Question 16","Question 17","Question 18","Question 19","Question 20",null,{"$f":"COUNTA(B:B)-1","v":0}]

{"sheet":"Scoresheet","index":1,"n_rows":130,"n_cols":92,"rows_kept":130,"cut":false,"hidden":false,"merged":[]}
[null,null,1,"Question 1",null,null,null,"Question 2",null,null,null,"Question 3",null,null,null,"Question 4",null,null,null,"Question 5",null,null,null,"Question 6",null,null,null,"Question 7",null,null,null,"Question 8",null,null,null,"Question 9",null,null,null,"Question 10",null,null,null,"Question 11",null,null,null,"Question 12",null,null,null,"Question 13",null,null,null,"Question 14",null,null,null,"Question 15",null,null,null,"Question 16",null,null,null,"Question 17",null,null,null,"Question 18",null,null,null,"Question 19",null,null,null,"Question 20",null,null,null,null,null,null,"Automated answer compilation",null,null,"Automated standings"]
[null,"Player","Order","Response","Resp","Adj","Total","Response","Resp","Adj","Total","Response","Resp","Adj","Total","Response","Resp","Adj","Total","Response","Resp","Adj","Total","Response","Resp","Adj","Total","Response","Resp","Adj","Total","Response","Resp","Adj","Total","Response","Resp","Adj","Total","Response","Resp","Adj","Total","Response","Resp","Adj","Total","Response","Resp","Adj","Total","Response","Resp","Adj","Total","Response","Resp","Adj","Total","Response","Resp","Adj","Total","Response","Resp","Adj","Total","Response","Resp","Adj","Total","Response","Resp","Adj","Total","Response","Resp","Adj","Total","Response","Resp","Adj","Total",null,null,"Rank",null,"Resp list","Filter","Standings","Rank","Change"]
["[*]",{"$f":"IF(Mainframe!B2=\"\",\"\",INDEX(Mainframe!$B:$B,C3+1,1))","v":""},1,{"$f":"IF($B3=\"\",\"\",UPPER(Mainframe!C2))","v":""},{"$f":"IF(D3=\"\",\"\",IF(NOT(ISNA(VLOOKUP(D3,Answers!A:D,4,FALSE))),VLOOKUP(D3,Answers!A:D,4,FALSE),\"Help!\"))","v":""},null,{"$f":"IF(E3=\"\",\"\",IF(E3=\"XX\",VLOOKUP(\"WRONG\",Answers!A:D,4,FALSE),E3)+F3)","v":""},{"$f":"IF($B3=\"\",\"\",UPPER(Mainframe!D2))","v":""},{"$f":"IF(H3=\"\",\"\",IF(NOT(ISNA(VLOOKUP(H3,Answers!E:H,4,FALSE))),VLOOKUP(H3,Answers!E:H,4,FALSE),\"Help!\"))","v":""},null,{"$f":"IF(I3=\"\",\"\",G3+IF(I3=\"XX\",VLOOKUP(\"WRONG\",Answers!E:H,4,FALSE),I3)+J3)","v":""},{"$f":"IF($B3=\"\",\"\",UPPER(Mainframe!E2))","v":""},{"$f":"IF(L3=\"\",\"\",IF(NOT(ISNA(VLOOKUP(L3,Answers!I:L,4,FALSE))),VLOOKUP(L3,Answers!I:L,4,FALSE),\"Help!\"))","v":""},null,{"$f":"IF(M3=\"\",\"\",K3+IF(M3=\"XX\",VLOOKUP(\"WRONG\",Answers!I:L,4,FALSE),M3)+N3)","v":""},{"$f":"IF($B3=\"\",\"\",UPPER(Mainframe!F2))","v":""},{"$f":"IF(P3=\"\",\"\",IF(NOT(ISNA(VLOOKUP(P3,Answers!M:P,4,FALSE))),VLOOKUP(P3,Answers!M:P,4,FALSE),\"Help!\"))","v":""},null,{"$f":"IF(Q3=\"\",\"\",O3+IF(Q3=\"XX\",VLOOKUP(\"WRONG\",Answers!M:P,4,FALSE),Q3)+R3)","v":""},{"$f":"IF($B3=\"\",\"\",UPPER(Mainframe!G2))","v":""},{"$f":"IF(T3=\"\",\"\",IF(NOT(ISNA(VLOOKUP(T3,Answers!Q:T,4,FALSE))),VLOOKUP(T3,Answers!Q:T,4,FALSE),\"Help!\"))","v":""},null,{"$f":"IF(U3=\"\",\"\",S3+IF(U3=\"XX\",VLOOKUP(\"WRONG\",Answers!Q:T,4,FALSE),U3)+V3)","v":""},{"$f":"IF($B3=\"\",\"\",UPPER(Mainframe!H2))","v":""},{"$f":"IF(X3=\"\",\"\",IF(NOT(ISNA(VLOOKUP(X3,Answers!U:X,4,FALSE))),VLOOKUP(X3,Answers!U:X,4,FALSE),\"Help!\"))","v":""},null,{"$f":"IF(Y3=\"\",\"\",W3+IF(Y3=\"XX\",VLOOKUP(\"WRONG\",Answers!U:X,4,FALSE),Y3)+Z3)","v":""},{"$f":"IF($B3=\"\",\"\",UPPER(Mainframe!I2))","v":""},{"$f":"IF(AB3=\"\",\"\",IF(NOT(ISNA(VLOOKUP(AB3,Answers!Y:AB,4,FALSE))),VLOOKUP(AB3,Answers!Y:AB,4,FALSE),\"Help!\"))","v":""},null,{"$f":"IF(AC3=\"\",\"\",AA3+IF(AC3=\"XX\",VLOOKUP(\"WRONG\",Answers!Y:AB,4,FALSE),AC3)+AD3)","v":""},{"$f":"IF($B3=\"\",\"\",UPPER(Mainframe!J2))","v":""},{"$f":"IF(AF3=\"\",\"\",IF(NOT(ISNA(VLOOKUP(AF3,Answers!AC:AF,4,FALSE))),VLOOKUP(AF3,Answers!AC:AF,4,FALSE),\"Help!\"))","v":""},null,{"$f":"IF(AG3=\"\",\"\",AE3+IF(AG3=\"XX\",VLOOKUP(\"WRONG\",Answers!AC:AF,4,FALSE),AG3)+AH3)","v":""},{"$f":"IF($B3=\"\",\"\",UPPER(Mainframe!K2))","v":""},{"$f":"IF(AJ3=\"\",\"\",IF(NOT(ISNA(VLOOKUP(AJ3,Answers!AG:AJ,4,FALSE))),VLOOKUP(AJ3,Answers!AG:AJ,4,FALSE),\"Help!\"))","v":""},null,{"$f":"IF(AK3=\"\",\"\",AI3+IF(AK3=\"XX\",VLOOKUP(\"WRONG\",Answers!AG:AJ,4,FALSE),AK3)+AL3)","v":""},{"$f":"IF($B3=\"\",\"\",UPPER(Mainframe!L2))","v":""},{"$f":"IF(AN3=\"\",\"\",IF(NOT(ISNA(VLOOKUP(AN3,Answers!AK:AN,4,FALSE))),VLOOKUP(AN3,Answers!AK:AN,4,FALSE),\"Help!\"))","v":""},null,{"$f":"IF(AO3=\"\",\"\",AM3+IF(AO3=\"XX\",VLOOKUP(\"WRONG\",Answers!AK:AN,4,FALSE),AO3)+AP3)","v":""},{"$f":"IF($B3=\"\",\"\",UPPER(Mainframe!M2))","v":""},{"$f":"IF(AR3=\"\",\"\",IF(NOT(ISNA(VLOOKUP(AR3,Answers!AO:AR,4,FALSE))),VLOOKUP(AR3,Answers!AO:AR,4,FALSE),\"Help!\"))","v":""},null,{"$f":"IF(AS3=\"\",\"\",AQ3+IF(AS3=\"XX\",VLOOKUP(\"WRONG\",Answers!AO:AR,4,FALSE),AS3)+AT3)","v":""},{"$f":"IF($B3=\"\",\"\",UPPER(Mainframe!N2))","v":""},{"$f":"IF(AV3=\"\",\"\",IF(NOT(ISNA(VLOOKUP(AV3,Answers!AS:AV,4,FALSE))),VLOOKUP(AV3,Answers!AS:AV,4,FALSE),\"Help!\"))","v":""},null,{"$f":"IF(AW3=\"\",\"\",AU3+IF(AW3=\"XX\",VLOOKUP(\"WRONG\",Answers!AS:AV,4,FALSE),AW3)+AX3)","v":""},{"$f":"IF($B3=\"\",\"\",UPPER(Mainframe!O2))","v":""},{"$f":"IF(AZ3=\"\",\"\",IF(NOT(ISNA(VLOOKUP(AZ3,Answers!AW:AZ,4,FALSE))),VLOOKUP(AZ3,Answers!AW:AZ,4,FALSE),\"Help!\"))","v":""},null,{"$f":"IF(BA3=\"\",\"\",AY3+IF(BA3=\"XX\",VLOOKUP(\"WRONG\",Answers!AW:AZ,4,FALSE),BA3)+BB3)","v":""},{"$f":"IF($B3=\"\",\"\",UPPER(Mainframe!P2))","v":""},{"$f":"IF(BD3=\"\",\"\",IF(NOT(ISNA(VLOOKUP(BD3,Answers!BA:BD,4,FALSE))),VLOOKUP(BD3,Answers!BA:BD,4,FALSE),\"Help!\"))","v":""},null,{"$f":"IF(BE3=\"\",\"\",BC3+IF(BE3=\"XX\",VLOOKUP(\"WRONG\",Answers!BA:BD,4,FALSE),BE3)+BF3)","v":""},{"$f":"IF($B3=\"\",\"\",UPPER(Mainframe!Q2))","v":""},{"$f":"IF(BH3=\"\",\"\",IF(NOT(ISNA(VLOOKUP(BH3,Answers!BE:BH,4,FALSE))),VLOOKUP(BH3,Answers!BE:BH,4,FALSE),\"Help!\"))","v":""},null,{"$f":"IF(BI3=\"\",\"\",BG3+IF(BI3=\"XX\",VLOOKUP(\"WRONG\",Answers!BE:BH,4,FALSE),BI3)+BJ3)","v":""},{"$f":"IF($B3=\"\",\"\",UPPER(Mainframe!R2))","v":""},{"$f":"IF(BL3=\"\",\"\",IF(NOT(ISNA(VLOOKUP(BL3,Answers!BI:BL,4,FALSE))),VLOOKUP(BL3,Answers!BI:BL,4,FALSE),\"Help!\"))","v":""},null,{"$f":"IF(BM3=\"\",\"\",BK3+IF(BM3=\"XX\",VLOOKUP(\"WRONG\",Answers!BI:BL,4,FALSE),BM3)+BN3)","v":""},{"$f":"IF($B3=\"\",\"\",UPPER(Mainframe!S2))","v":""},{"$f":"IF(BP3=\"\",\"\",IF(NOT(ISNA(VLOOKUP(BP3,Answers!BM:BP,4,FALSE))),VLOOKUP(BP3,Answers!BM:BP,4,FALSE),\"Help!\"))","v":""},null,{"$f":"IF(BQ3=\"\",\"\",BO3+IF(BQ3=\"XX\",VLOOKUP(\"WRONG\",Answers!BM:BP,4,FALSE),BQ3)+BR3)","v":""},{"$f":"IF($B3=\"\",\"\",UPPER(Mainframe!T2))","v":""},{"$f":"IF(BT3=\"\",\"\",IF(NOT(ISNA(VLOOKUP(BT3,Answers!BQ:BT,4,FALSE))),VLOOKUP(BT3,Answers!BQ:BT,4,FALSE),\"Help!\"))","v":""},null,{"$f":"IF(BU3=\"\",\"\",BS3+IF(BU3=\"XX\",VLOOKUP(\"WRONG\",Answers!BQ:BT,4,FALSE),BU3)+BV3)","v":""},{"$f":"IF($B3=\"\",\"\",UPPER(Mainframe!U2))","v":""},{"$f":"IF(BX3=\"\",\"\",IF(NOT(ISNA(VLOOKUP(BX3,Answers!BU:BX,4,FALSE))),VLOOKUP(BX3,Answers!BU:BX,4,FALSE),\"Help!\"))","v":""},null,{"$f":"IF(BY3=\"\",\"\",BW3+IF(BY3=\"XX\",VLOOKUP(\"WRONG\",Answers!BU:BX,4,FALSE),BY3)+BZ3)","v":""},{"$f":"IF($B3=\"\",\"\",UPPER(Mainframe!V2))","v":""},{"$f":"IF(CB3=\"\",\"\",IF(NOT(ISNA(VLOOKUP(CB3,Answers!BY:CB,4,FALSE))),VLOOKUP(CB3,Answers!BY:CB,4,FALSE),\"Help!\"))","v":""},null,{"$f":"IF(CC3=\"\",\"\",CA3+IF(CC3=\"XX\",VLOOKUP(\"WRONG\",Answers!BY:CB,4,FALSE),CC3)+CD3)","v":""},null,null,{"$f":"IF(B3=0,\"\",IF(INDEX($B:$CE,ROW(),1)=0,\"\",IF(INDEX($B:$CE,ROW(),4*QNO+2)=INDEX($B:$CE,ROW()-1,4*QNO+2),$CH2,ROW()-2)))","v":1},{"$f":"IF(INDEX($B:$CE,ROW(),QNO*4-1)=DROPNAME,DROPNAME,IF(INDEX($B:$CE,ROW(),QNO*4-1)=SHEEPNAME,SHEEPNAME,IF(INDEX($B:$CE,ROW(),QNO*4)=\"XX\",INDEX($B:$CE,ROW(),QNO*4-1),INDEX(OFFSET(Answers!B:B,0,(QNO-1)*4),MATCH(INDEX($A:$CB,ROW(),QNO*4),OFFSET(Answers!A:A,0,(QNO-1)*4),0))&\" — \"&IF(INDEX($B:$CE,ROW(),QNO*4)=1,\"[b]Singleton![/b]\",CONCATENATE(INDEX($B:$CE,ROW(),QNO*4),\" responses\")))))","v":{"$error":"#N/A"}},{"$f":"IF(INDEX($B:$CE,ROW(),1)=0,\"\",IF(INDEX($B:$CE,ROW(),QNO*4-1)=INDEX($B:$CE,ROW()+1,QNO*4-1),CONCATENATE(INDEX($B:$CE,ROW(),1),\"//\",INDEX($CJ:$CJ,ROW()+1,1)),INDEX($B:$CE,ROW(),1)))","v":"////////////////////////////////////////////////////////////////////////////////////////////////////////////////////////////////////////////////////////////////////////////////////////////////////////////////////////////////////////////////////////////////"},{"$f":"IF(INDEX($B:$CE,ROW(),1)=0,\"\",IF(ISNUMBER(SEARCH(\"//\",INDEX($CJ:$CJ,ROW()-1,1))),\"No\",\"Yes\"))","v":"Yes"},{"$f":"IF(B3=0,\"\",CONCATENATE(INDEX($CH:$CL,ROW(),1),\". \",INDEX($B:$CE,ROW(),1),\" — [b]\")&IF(QNO=1,CONCATENATE(INDEX($B:$CE,ROW(),QNO*4+2),\"[/b] pts\"),CONCATENATE(INDEX($B:$CE,ROW(),QNO*4-2),\" + \",IF(INDEX($B:$CE,ROW(),QNO*4)=\"XX\",INDEX(Answers!$A:$ZZ,2,QNO*4),INDEX($B:$CE,ROW(),QNO*4)),\" = \",INDEX($B:$CE,ROW(),QNO*4+2),\"[/b] pts \",IF(INDEX($C:$CE,ROW(),QNO*4)>0,\"(penalty: +\"&INDEX($C:$CE,ROW(),QNO*4)&\") \",IF(INDEX($C:$CE,ROW(),QNO*4)<0,\"(bonus: \"&INDEX($C:$CE,ROW(),QNO*4)&\") \",\"\"))&\"[[b]\"&IF(CN3>0,\"[color=#00BF00]↑\"&CN3,IF(CN3<0,\"[color=#FF0000]↓\"&ABS(CN3),\"[color=#0000FF]unch\"))&\"[/b][/color]]\")))","v":"1.  — [b][/b] pts"},1,{"$f":"CM3-CH3","v":0}]
["[*]",{"$f":"IF(Mainframe!B3=\"\",\"\",INDEX(Mainframe!$B:$B,C4+1,1))","v":""},2,{"$f":"IF($B4=\"\",\"\",UPPER(Mainframe!C3))","v":""},{"$f":"IF(D4=\"\",\"\",IF(NOT(ISNA(VLOOKUP(D4,Answers!A:D,4,FALSE))),VLOOKUP(D4,Answers!A:D,4,FALSE),\"Help!\"))","v":""},null,{"$f":"IF(E4=\"\",\"\",IF(E4=\"XX\",VLOOKUP(\"WRONG\",Answers!A:D,4,FALSE),E4)+F4)","v":""},{"$f":"IF($B4=\"\",\"\",UPPER(Mainframe!D3))","v":""},{"$f":"IF(H4=\"\",\"\",IF(NOT(ISNA(VLOOKUP(H4,Answers!E:H,4,FALSE))),VLOOKUP(H4,Answers!E:H,4,FALSE),\"Help!\"))","v":""},null,{"$f":"IF(I4=\"\",\"\",G4+IF(I4=\"XX\",VLOOKUP(\"WRONG\",Answers!E:H,4,FALSE),I4)+J4)","v":""},{"$f":"IF($B4=\"\",\"\",UPPER(Mainframe!E3))","v":""},{"$f":"IF(L4=\"\",\"\",IF(NOT(ISNA(VLOOKUP(L4,Answers!I:L,4,FALSE))),VLOOKUP(L4,Answers!I:L,4,FALSE),\"Help!\"))","v":""},null,{"$f":"IF(M4=\"\",\"\",K4+IF(M4=\"XX\",VLOOKUP(\"WRONG\",Answers!I:L,4,FALSE),M4)+N4)","v":""},{"$f":"IF($B4=\"\",\"\",UPPER(Mainframe!F3))","v":""},{"$f":"IF(P4=\"\",\"\",IF(NOT(ISNA(VLOOKUP(P4,Answers!M:P,4,FALSE))),VLOOKUP(P4,Answers!M:P,4,FALSE),\"Help!\"))","v":""},null,{"$f":"IF(Q4=\"\",\"\",O4+IF(Q4=\"XX\",VLOOKUP(\"WRONG\",Answers!M:P,4,FALSE),Q4)+R4)","v":""},{"$f":"IF($B4=\"\",\"\",UPPER(Mainframe!G3))","v":""},{"$f":"IF(T4=\"\",\"\",IF(NOT(ISNA(VLOOKUP(T4,Answers!Q:T,4,FALSE))),VLOOKUP(T4,Answers!Q:T,4,FALSE),\"Help!\"))","v":""},null,{"$f":"IF(U4=\"\",\"\",S4+IF(U4=\"XX\",VLOOKUP(\"WRONG\",Answers!Q:T,4,FALSE),U4)+V4)","v":""},{"$f":"IF($B4=\"\",\"\",UPPER(Mainframe!H3))","v":""},{"$f":"IF(X4=\"\",\"\",IF(NOT(ISNA(VLOOKUP(X4,Answers!U:X,4,FALSE))),VLOOKUP(X4,Answers!U:X,4,FALSE),\"Help!\"))","v":""},null,{"$f":"IF(Y4=\"\",\"\",W4+IF(Y4=\"XX\",VLOOKUP(\"WRONG\",Answers!U:X,4,FALSE),Y4)+Z4)","v":""},{"$f":"IF($B4=\"\",\"\",UPPER(Mainframe!I3))","v":""},{"$f":"IF(AB4=\"\",\"\",IF(NOT(ISNA(VLOOKUP(AB4,Answers!Y:AB,4,FALSE))),VLOOKUP(AB4,Answers!Y:AB,4,FALSE),\"Help!\"))","v":""},null,{"$f":"IF(AC4=\"\",\"\",AA4+IF(AC4=\"XX\",VLOOKUP(\"WRONG\",Answers!Y:AB,4,FALSE),AC4)+AD4)","v":""},{"$f":"IF($B4=\"\",\"\",UPPER(Mainframe!J3))","v":""},{"$f":"IF(AF4=\"\",\"\",IF(NOT(ISNA(VLOOKUP(AF4,Answers!AC:AF,4,FALSE))),VLOOKUP(AF4,Answers!AC:AF,4,FALSE),\"Help!\"))","v":""},null,{"$f":"IF(AG4=\"\",\"\",AE4+IF(AG4=\"XX\",VLOOKUP(\"WRONG\",Answers!AC:AF,4,FALSE),AG4)+AH4)","v":""},{"$f":"IF($B4=\"\",\"\",UPPER(Mainframe!K3))","v":""},{"$f":"IF(AJ4=\"\",\"\",IF(NOT(ISNA(VLOOKUP(AJ4,Answers!AG:AJ,4,FALSE))),VLOOKUP(AJ4,Answers!AG:AJ,4,FALSE),\"Help!\"))","v":""},null,{"$f":"IF(AK4=\"\",\"\",AI4+IF(AK4=\"XX\",VLOOKUP(\"WRONG\",Answers!AG:AJ,4,FALSE),AK4)+AL4)","v":""},{"$f":"IF($B4=\"\",\"\",UPPER(Mainframe!L3))","v":""},{"$f":"IF(AN4=\"\",\"\",IF(NOT(ISNA(VLOOKUP(AN4,Answers!AK:AN,4,FALSE))),VLOOKUP(AN4,Answers!AK:AN,4,FALSE),\"Help!\"))","v":""},null,{"$f":"IF(AO4=\"\",\"\",AM4+IF(AO4=\"XX\",VLOOKUP(\"WRONG\",Answers!AK:AN,4,FALSE),AO4)+AP4)","v":""},{"$f":"IF($B4=\"\",\"\",UPPER(Mainframe!M3))","v":""},{"$f":"IF(AR4=\"\",\"\",IF(NOT(ISNA(VLOOKUP(AR4,Answers!AO:AR,4,FALSE))),VLOOKUP(AR4,Answers!AO:AR,4,FALSE),\"Help!\"))","v":""},null,{"$f":"IF(AS4=\"\",\"\",AQ4+IF(AS4=\"XX\",VLOOKUP(\"WRONG\",Answers!AO:AR,4,FALSE),AS4)+AT4)","v":""},{"$f":"IF($B4=\"\",\"\",UPPER(Mainframe!N3))","v":""},{"$f":"IF(AV4=\"\",\"\",IF(NOT(ISNA(VLOOKUP(AV4,Answers!AS:AV,4,FALSE))),VLOOKUP(AV4,Answers!AS:AV,4,FALSE),\"Help!\"))","v":""},null,{"$f":"IF(AW4=\"\",\"\",AU4+IF(AW4=\"XX\",VLOOKUP(\"WRONG\",Answers!AS:AV,4,FALSE),AW4)+AX4)","v":""},{"$f":"IF($B4=\"\",\"\",UPPER(Mainframe!O3))","v":""},{"$f":"IF(AZ4=\"\",\"\",IF(NOT(ISNA(VLOOKUP(AZ4,Answers!AW:AZ,4,FALSE))),VLOOKUP(AZ4,Answers!AW:AZ,4,FALSE),\"Help!\"))","v":""},null,{"$f":"IF(BA4=\"\",\"\",AY4+IF(BA4=\"XX\",VLOOKUP(\"WRONG\",Answers!AW:AZ,4,FALSE),BA4)+BB4)","v":""},{"$f":"IF($B4=\"\",\"\",UPPER(Mainframe!P3))","v":""},{"$f":"IF(BD4=\"\",\"\",IF(NOT(ISNA(VLOOKUP(BD4,Answers!BA:BD,4,FALSE))),VLOOKUP(BD4,Answers!BA:BD,4,FALSE),\"Help!\"))","v":""},null,{"$f":"IF(BE4=\"\",\"\",BC4+IF(BE4=\"XX\",VLOOKUP(\"WRONG\",Answers!BA:BD,4,FALSE),BE4)+BF4)","v":""},{"$f":"IF($B4=\"\",\"\",UPPER(Mainframe!Q3))","v":""},{"$f":"IF(BH4=\"\",\"\",IF(NOT(ISNA(VLOOKUP(BH4,Answers!BE:BH,4,FALSE))),VLOOKUP(BH4,Answers!BE:BH,4,FALSE),\"Help!\"))","v":""},null,{"$f":"IF(BI4=\"\",\"\",BG4+IF(BI4=\"XX\",VLOOKUP(\"WRONG\",Answers!BE:BH,4,FALSE),BI4)+BJ4)","v":""},{"$f":"IF($B4=\"\",\"\",UPPER(Mainframe!R3))","v":""},{"$f":"IF(BL4=\"\",\"\",IF(NOT(ISNA(VLOOKUP(BL4,Answers!BI:BL,4,FALSE))),VLOOKUP(BL4,Answers!BI:BL,4,FALSE),\"Help!\"))","v":""},null,{"$f":"IF(BM4=\"\",\"\",BK4+IF(BM4=\"XX\",VLOOKUP(\"WRONG\",Answers!BI:BL,4,FALSE),BM4)+BN4)","v":""},{"$f":"IF($B4=\"\",\"\",UPPER(Mainframe!S3))","v":""},{"$f":"IF(BP4=\"\",\"\",IF(NOT(ISNA(VLOOKUP(BP4,Answers!BM:BP,4,FALSE))),VLOOKUP(BP4,Answers!BM:BP,4,FALSE),\"Help!\"))","v":""},null,{"$f":"IF(BQ4=\"\",\"\",BO4+IF(BQ4=\"XX\",VLOOKUP(\"WRONG\",Answers!BM:BP,4,FALSE),BQ4)+BR4)","v":""},{"$f":"IF($B4=\"\",\"\",UPPER(Mainframe!T3))","v":""},{"$f":"IF(BT4=\"\",\"\",IF(NOT(ISNA(VLOOKUP(BT4,Answers!BQ:BT,4,FALSE))),VLOOKUP(BT4,Answers!BQ:BT,4,FALSE),\"Help!\"))","v":""},null,{"$f":"IF(BU4=\"\",\"\",BS4+IF(BU4=\"XX\",VLOOKUP(\"WRONG\",Answers!BQ:BT,4,FALSE),BU4)+BV4)","v":""},{"$f":"IF($B4=\"\",\"\",UPPER(Mainframe!U3))","v":""},{"$f":"IF(BX4=\"\",\"\",IF(NOT(ISNA(VLOOKUP(BX4,Answers!BU:BX,4,FALSE))),VLOOKUP(BX4,Answers!BU:BX,4,FALSE),\"Help!\"))","v":""},null,{"$f":"IF(BY4=\"\",\"\",BW4+IF(BY4=\"XX\",VLOOKUP(\"WRONG\",Answers!BU:BX,4,FALSE),BY4)+BZ4)","v":""},{"$f":"IF($B4=\"\",\"\",UPPER(Mainframe!V3))","v":""},{"$f":"IF(CB4=\"\",\"\",IF(NOT(ISNA(VLOOKUP(CB4,Answers!BY:CB,4,FALSE))),VLOOKUP(CB4,Answers!BY:CB,4,FALSE),\"Help!\"))","v":""},null,{"$f":"IF(CC4=\"\",\"\",CA4+IF(CC4=\"XX\",VLOOKUP(\"WRONG\",Answers!BY:CB,4,FALSE),CC4)+CD4)","v":""},null,null,1,{"$f":"IF(INDEX($B:$CE,ROW(),QNO*4-1)=DROPNAME,DROPNAME,IF(INDEX($B:$CE,ROW(),QNO*4-1)=SHEEPNAME,SHEEPNAME,IF(INDEX($B:$CE,ROW(),QNO*4)=\"XX\",INDEX($B:$CE,ROW(),QNO*4-1),INDEX(OFFSET(Answers!B:B,0,(QNO-1)*4),MATCH(INDEX($A:$CB,ROW(),QNO*4),OFFSET(Answers!A:A,0,(QNO-1)*4),0))&\" — \"&IF(INDEX($B:$CE,ROW(),QNO*4)=1,\"[b]Singleton![/b]\",CONCATENATE(INDEX($B:$CE,ROW(),QNO*4),\" responses\")))))","v":{"$error":"#N/A"}},"//////////////////////////////////////////////////////////////////////////////////////////////////////////////////////////////////////////////////////////////////////////////////////////////////////////////////////////////////////////////////////////////","No",{"$f":"IF(B4=0,\"\",CONCATENATE(INDEX($CH:$CL,ROW(),1),\". \",INDEX($B:$CE,ROW(),1),\" — [b]\")&IF(QNO=1,CONCATENATE(INDEX($B:$CE,ROW(),QNO*4+2),\"[/b] pts\"),CONCATENATE(INDEX($B:$CE,ROW(),QNO*4-2),\" + \",IF(INDEX($B:$CE,ROW(),QNO*4)=\"XX\",INDEX(Answers!$A:$ZZ,2,QNO*4),INDEX($B:$CE,ROW(),QNO*4)),\" = \",INDEX($B:$CE,ROW(),QNO*4+2),\"[/b] pts \",IF(INDEX($C:$CE,ROW(),QNO*4)>0,\"(penalty: +\"&INDEX($C:$CE,ROW(),QNO*4)&\") \",IF(INDEX($C:$CE,ROW(),QNO*4)<0,\"(bonus: \"&INDEX($C:$CE,ROW(),QNO*4)&\") \",\"\"))&\"[[b]\"&IF(CN4>0,\"[color=#00BF00]↑\"&CN4,IF(CN4<0,\"[color=#FF0000]↓\"&ABS(CN4),\"[color=#0000FF]unch\"))&\"[/b][/color]]\")))","v":"1.  — [b][/b] pts"},1,0]
["[*]",{"$f":"IF(Mainframe!B4=\"\",\"\",INDEX(Mainframe!$B:$B,C5+1,1))","v":""},3,{"$f":"IF($B5=\"\",\"\",UPPER(Mainframe!C4))","v":""},{"$f":"IF(D5=\"\",\"\",IF(NOT(ISNA(VLOOKUP(D5,Answers!A:D,4,FALSE))),VLOOKUP(D5,Answers!A:D,4,FALSE),\"Help!\"))","v":""},null,{"$f":"IF(E5=\"\",\"\",IF(E5=\"XX\",VLOOKUP(\"WRONG\",Answers!A:D,4,FALSE),E5)+F5)","v":""},{"$f":"IF($B5=\"\",\"\",UPPER(Mainframe!D4))","v":""},{"$f":"IF(H5=\"\",\"\",IF(NOT(ISNA(VLOOKUP(H5,Answers!E:H,4,FALSE))),VLOOKUP(H5,Answers!E:H,4,FALSE),\"Help!\"))","v":""},null,{"$f":"IF(I5=\"\",\"\",G5+IF(I5=\"XX\",VLOOKUP(\"WRONG\",Answers!E:H,4,FALSE),I5)+J5)","v":""},{"$f":"IF($B5=\"\",\"\",UPPER(Mainframe!E4))","v":""},{"$f":"IF(L5=\"\",\"\",IF(NOT(ISNA(VLOOKUP(L5,Answers!I:L,4,FALSE))),VLOOKUP(L5,Answers!I:L,4,FALSE),\"Help!\"))","v":""},null,{"$f":"IF(M5=\"\",\"\",K5+IF(M5=\"XX\",VLOOKUP(\"WRONG\",Answers!I:L,4,FALSE),M5)+N5)","v":""},{"$f":"IF($B5=\"\",\"\",UPPER(Mainframe!F4))","v":""},{"$f":"IF(P5=\"\",\"\",IF(NOT(ISNA(VLOOKUP(P5,Answers!M:P,4,FALSE))),VLOOKUP(P5,Answers!M:P,4,FALSE),\"Help!\"))","v":""},null,{"$f":"IF(Q5=\"\",\"\",O5+IF(Q5=\"XX\",VLOOKUP(\"WRONG\",Answers!M:P,4,FALSE),Q5)+R5)","v":""},{"$f":"IF($B5=\"\",\"\",UPPER(Mainframe!G4))","v":""},{"$f":"IF(T5=\"\",\"\",IF(NOT(ISNA(VLOOKUP(T5,Answers!Q:T,4,FALSE))),VLOOKUP(T5,Answers!Q:T,4,FALSE),\"Help!\"))","v":""},null,{"$f":"IF(U5=\"\",\"\",S5+IF(U5=\"XX\",VLOOKUP(\"WRONG\",Answers!Q:T,4,FALSE),U5)+V5)","v":""},{"$f":"IF($B5=\"\",\"\",UPPER(Mainframe!H4))","v":""},{"$f":"IF(X5=\"\",\"\",IF(NOT(ISNA(VLOOKUP(X5,Answers!U:X,4,FALSE))),VLOOKUP(X5,Answers!U:X,4,FALSE),\"Help!\"))","v":""},null,{"$f":"IF(Y5=\"\",\"\",W5+IF(Y5=\"XX\",VLOOKUP(\"WRONG\",Answers!U:X,4,FALSE),Y5)+Z5)","v":""},{"$f":"IF($B5=\"\",\"\",UPPER(Mainframe!I4))","v":""},{"$f":"IF(AB5=\"\",\"\",IF(NOT(ISNA(VLOOKUP(AB5,Answers!Y:AB,4,FALSE))),VLOOKUP(AB5,Answers!Y:AB,4,FALSE),\"Help!\"))","v":""},null,{"$f":"IF(AC5=\"\",\"\",AA5+IF(AC5=\"XX\",VLOOKUP(\"WRONG\",Answers!Y:AB,4,FALSE),AC5)+AD5)","v":""},{"$f":"IF($B5=\"\",\"\",UPPER(Mainframe!J4))","v":""},{"$f":"IF(AF5=\"\",\"\",IF(NOT(ISNA(VLOOKUP(AF5,Answers!AC:AF,4,FALSE))),VLOOKUP(AF5,Answers!AC:AF,4,FALSE),\"Help!\"))","v":""},null,{"$f":"IF(AG5=\"\",\"\",AE5+IF(AG5=\"XX\",VLOOKUP(\"WRONG\",Answers!AC:AF,4,FALSE),AG5)+AH5)","v":""},{"$f":"IF($B5=\"\",\"\",UPPER(Mainframe!K4))","v":""},{"$f":"IF(AJ5=\"\",\"\",IF(NOT(ISNA(VLOOKUP(AJ5,Answers!AG:AJ,4,FALSE))),VLOOKUP(AJ5,Answers!AG:AJ,4,FALSE),\"Help!\"))","v":""},null,{"$f":"IF(AK5=\"\",\"\",AI5+IF(AK5=\"XX\",VLOOKUP(\"WRONG\",Answers!AG:AJ,4,FALSE),AK5)+AL5)","v":""},{"$f":"IF($B5=\"\",\"\",UPPER(Mainframe!L4))","v":""},{"$f":"IF(AN5=\"\",\"\",IF(NOT(ISNA(VLOOKUP(AN5,Answers!AK:AN,4,FALSE))),VLOOKUP(AN5,Answers!AK:AN,4,FALSE),\"Help!\"))","v":""},null,{"$f":"IF(AO5=\"\",\"\",AM5+IF(AO5=\"XX\",VLOOKUP(\"WRONG\",Answers!AK:AN,4,FALSE),AO5)+AP5)","v":""},{"$f":"IF($B5=\"\",\"\",UPPER(Mainframe!M4))","v":""},{"$f":"IF(AR5=\"\",\"\",IF(NOT(ISNA(VLOOKUP(AR5,Answers!AO:AR,4,FALSE))),VLOOKUP(AR5,Answers!AO:AR,4,FALSE),\"Help!\"))","v":""},null,{"$f":"IF(AS5=\"\",\"\",AQ5+IF(AS5=\"XX\",VLOOKUP(\"WRONG\",Answers!AO:AR,4,FALSE),AS5)+AT5)","v":""},{"$f":"IF($B5=\"\",\"\",UPPER(Mainframe!N4))","v":""},{"$f":"IF(AV5=\"\",\"\",IF(NOT(ISNA(VLOOKUP(AV5,Answers!AS:AV,4,FALSE))),VLOOKUP(AV5,Answers!AS:AV,4,FALSE),\"Help!\"))","v":""},null,{"$f":"IF(AW5=\"\",\"\",AU5+IF(AW5=\"XX\",VLOOKUP(\"WRONG\",Answers!AS:AV,4,FALSE),AW5)+AX5)","v":""},{"$f":"IF($B5=\"\",\"\",UPPER(Mainframe!O4))","v":""},{"$f":"IF(AZ5=\"\",\"\",IF(NOT(ISNA(VLOOKUP(AZ5,Answers!AW:AZ,4,FALSE))),VLOOKUP(AZ5,Answers!AW:AZ,4,FALSE),\"Help!\"))","v":""},null,{"$f":"IF(BA5=\"\",\"\",AY5+IF(BA5=\"XX\",VLOOKUP(\"WRONG\",Answers!AW:AZ,4,FALSE),BA5)+BB5)","v":""},{"$f":"IF($B5=\"\",\"\",UPPER(Mainframe!P4))","v":""},{"$f":"IF(BD5=\"\",\"\",IF(NOT(ISNA(VLOOKUP(BD5,Answers!BA:BD,4,FALSE))),VLOOKUP(BD5,Answers!BA:BD,4,FALSE),\"Help!\"))","v":""},null,{"$f":"IF(BE5=\"\",\"\",BC5+IF(BE5=\"XX\",VLOOKUP(\"WRONG\",Answers!BA:BD,4,FALSE),BE5)+BF5)","v":""},{"$f":"IF($B5=\"\",\"\",UPPER(Mainframe!Q4))","v":""},{"$f":"IF(BH5=\"\",\"\",IF(NOT(ISNA(VLOOKUP(BH5,Answers!BE:BH,4,FALSE))),VLOOKUP(BH5,Answers!BE:BH,4,FALSE),\"Help!\"))","v":""},null,{"$f":"IF(BI5=\"\",\"\",BG5+IF(BI5=\"XX\",VLOOKUP(\"WRONG\",Answers!BE:BH,4,FALSE),BI5)+BJ5)","v":""},{"$f":"IF($B5=\"\",\"\",UPPER(Mainframe!R4))","v":""},{"$f":"IF(BL5=\"\",\"\",IF(NOT(ISNA(VLOOKUP(BL5,Answers!BI:BL,4,FALSE))),VLOOKUP(BL5,Answers!BI:BL,4,FALSE),\"Help!\"))","v":""},null,{"$f":"IF(BM5=\"\",\"\",BK5+IF(BM5=\"XX\",VLOOKUP(\"WRONG\",Answers!BI:BL,4,FALSE),BM5)+BN5)","v":""},{"$f":"IF($B5=\"\",\"\",UPPER(Mainframe!S4))","v":""},{"$f":"IF(BP5=\"\",\"\",IF(NOT(ISNA(VLOOKUP(BP5,Answers!BM:BP,4,FALSE))),VLOOKUP(BP5,Answers!BM:BP,4,FALSE),\"Help!\"))","v":""},null,{"$f":"IF(BQ5=\"\",\"\",BO5+IF(BQ5=\"XX\",VLOOKUP(\"WRONG\",Answers!BM:BP,4,FALSE),BQ5)+BR5)","v":""},{"$f":"IF($B5=\"\",\"\",UPPER(Mainframe!T4))","v":""},{"$f":"IF(BT5=\"\",\"\",IF(NOT(ISNA(VLOOKUP(BT5,Answers!BQ:BT,4,FALSE))),VLOOKUP(BT5,Answers!BQ:BT,4,FALSE),\"Help!\"))","v":""},null,{"$f":"IF(BU5=\"\",\"\",BS5+IF(BU5=\"XX\",VLOOKUP(\"WRONG\",Answers!BQ:BT,4,FALSE),BU5)+BV5)","v":""},{"$f":"IF($B5=\"\",\"\",UPPER(Mainframe!U4))","v":""},{"$f":"IF(BX5=\"\",\"\",IF(NOT(ISNA(VLOOKUP(BX5,Answers!BU:BX,4,FALSE))),VLOOKUP(BX5,Answers!BU:BX,4,FALSE),\"Help!\"))","v":""},null,{"$f":"IF(BY5=\"\",\"\",BW5+IF(BY5=\"XX\",VLOOKUP(\"WRONG\",Answers!BU:BX,4,FALSE),BY5)+BZ5)","v":""},{"$f":"IF($B5=\"\",\"\",UPPER(Mainframe!V4))","v":""},{"$f":"IF(CB5=\"\",\"\",IF(NOT(ISNA(VLOOKUP(CB5,Answers!BY:CB,4,FALSE))),VLOOKUP(CB5,Answers!BY:CB,4,FALSE),\"Help!\"))","v":""},null,{"$f":"IF(CC5=\"\",\"\",CA5+IF(CC5=\"XX\",VLOOKUP(\"WRONG\",Answers!BY:CB,4,FALSE),CC5)+CD5)","v":""},null,null,1,{"$f":"IF(INDEX($B:$CE,ROW(),QNO*4-1)=DROPNAME,DROPNAME,IF(INDEX($B:$CE,ROW(),QNO*4-1)=SHEEPNAME,SHEEPNAME,IF(INDEX($B:$CE,ROW(),QNO*4)=\"XX\",INDEX($B:$CE,ROW(),QNO*4-1),INDEX(OFFSET(Answers!B:B,0,(QNO-1)*4),MATCH(INDEX($A:$CB,ROW(),QNO*4),OFFSET(Answers!A:A,0,(QNO-1)*4),0))&\" — \"&IF(INDEX($B:$CE,ROW(),QNO*4)=1,\"[b]Singleton![/b]\",CONCATENATE(INDEX($B:$CE,ROW(),QNO*4),\" responses\")))))","v":{"$error":"#N/A"}},"////////////////////////////////////////////////////////////////////////////////////////////////////////////////////////////////////////////////////////////////////////////////////////////////////////////////////////////////////////////////////////////","No",{"$f":"IF(B5=0,\"\",CONCATENATE(INDEX($CH:$CL,ROW(),1),\". \",INDEX($B:$CE,ROW(),1),\" — [b]\")&IF(QNO=1,CONCATENATE(INDEX($B:$CE,ROW(),QNO*4+2),\"[/b] pts\"),CONCATENATE(INDEX($B:$CE,ROW(),QNO*4-2),\" + \",IF(INDEX($B:$CE,ROW(),QNO*4)=\"XX\",INDEX(Answers!$A:$ZZ,2,QNO*4),INDEX($B:$CE,ROW(),QNO*4)),\" = \",INDEX($B:$CE,ROW(),QNO*4+2),\"[/b] pts \",IF(INDEX($C:$CE,ROW(),QNO*4)>0,\"(penalty: +\"&INDEX($C:$CE,ROW(),QNO*4)&\") \",IF(INDEX($C:$CE,ROW(),QNO*4)<0,\"(bonus: \"&INDEX($C:$CE,ROW(),QNO*4)&\") \",\"\"))&\"[[b]\"&IF(CN5>0,\"[color=#00BF00]↑\"&CN5,IF(CN5<0,\"[color=#FF0000]↓\"&ABS(CN5),\"[color=#0000FF]unch\"))&\"[/b][/color]]\")))","v":"1.  — [b][/b] pts"},1,0]
["[*]",{"$f":"IF(Mainframe!B5=\"\",\"\",INDEX(Mainframe!$B:$B,C6+1,1))","v":""},4,{"$f":"IF($B6=\"\",\"\",UPPER(Mainframe!C5))","v":""},{"$f":"IF(D6=\"\",\"\",IF(NOT(ISNA(VLOOKUP(D6,Answers!A:D,4,FALSE))),VLOOKUP(D6,Answers!A:D,4,FALSE),\"Help!\"))","v":""},null,{"$f":"IF(E6=\"\",\"\",IF(E6=\"XX\",VLOOKUP(\"WRONG\",Answers!A:D,4,FALSE),E6)+F6)","v":""},{"$f":"IF($B6=\"\",\"\",UPPER(Mainframe!D5))","v":""},{"$f":"IF(H6=\"\",\"\",IF(NOT(ISNA(VLOOKUP(H6,Answers!E:H,4,FALSE))),VLOOKUP(H6,Answers!E:H,4,FALSE),\"Help!\"))","v":""},null,{"$f":"IF(I6=\"\",\"\",G6+IF(I6=\"XX\",VLOOKUP(\"WRONG\",Answers!E:H,4,FALSE),I6)+J6)","v":""},{"$f":"IF($B6=\"\",\"\",UPPER(Mainframe!E5))","v":""},{"$f":"IF(L6=\"\",\"\",IF(NOT(ISNA(VLOOKUP(L6,Answers!I:L,4,FALSE))),VLOOKUP(L6,Answers!I:L,4,FALSE),\"Help!\"))","v":""},null,{"$f":"IF(M6=\"\",\"\",K6+IF(M6=\"XX\",VLOOKUP(\"WRONG\",Answers!I:L,4,FALSE),M6)+N6)","v":""},{"$f":"IF($B6=\"\",\"\",UPPER(Mainframe!F5))","v":""},{"$f":"IF(P6=\"\",\"\",IF(NOT(ISNA(VLOOKUP(P6,Answers!M:P,4,FALSE))),VLOOKUP(P6,Answers!M:P,4,FALSE),\"Help!\"))","v":""},null,{"$f":"IF(Q6=\"\",\"\",O6+IF(Q6=\"XX\",VLOOKUP(\"WRONG\",Answers!M:P,4,FALSE),Q6)+R6)","v":""},{"$f":"IF($B6=\"\",\"\",UPPER(Mainframe!G5))","v":""},{"$f":"IF(T6=\"\",\"\",IF(NOT(ISNA(VLOOKUP(T6,Answers!Q:T,4,FALSE))),VLOOKUP(T6,Answers!Q:T,4,FALSE),\"Help!\"))","v":""},null,{"$f":"IF(U6=\"\",\"\",S6+IF(U6=\"XX\",VLOOKUP(\"WRONG\",Answers!Q:T,4,FALSE),U6)+V6)","v":""},{"$f":"IF($B6=\"\",\"\",UPPER(Mainframe!H5))","v":""},{"$f":"IF(X6=\"\",\"\",IF(NOT(ISNA(VLOOKUP(X6,Answers!U:X,4,FALSE))),VLOOKUP(X6,Answers!U:X,4,FALSE),\"Help!\"))","v":""},null,{"$f":"IF(Y6=\"\",\"\",W6+IF(Y6=\"XX\",VLOOKUP(\"WRONG\",Answers!U:X,4,FALSE),Y6)+Z6)","v":""},{"$f":"IF($B6=\"\",\"\",UPPER(Mainframe!I5))","v":""},{"$f":"IF(AB6=\"\",\"\",IF(NOT(ISNA(VLOOKUP(AB6,Answers!Y:AB,4,FALSE))),VLOOKUP(AB6,Answers!Y:AB,4,FALSE),\"Help!\"))","v":""},null,{"$f":"IF(AC6=\"\",\"\",AA6+IF(AC6=\"XX\",VLOOKUP(\"WRONG\",Answers!Y:AB,4,FALSE),AC6)+AD6)","v":""},{"$f":"IF($B6=\"\",\"\",UPPER(Mainframe!J5))","v":""},{"$f":"IF(AF6=\"\",\"\",IF(NOT(ISNA(VLOOKUP(AF6,Answers!AC:AF,4,FALSE))),VLOOKUP(AF6,Answers!AC:AF,4,FALSE),\"Help!\"))","v":""},null,{"$f":"IF(AG6=\"\",\"\",AE6+IF(AG6=\"XX\",VLOOKUP(\"WRONG\",Answers!AC:AF,4,FALSE),AG6)+AH6)","v":""},{"$f":"IF($B6=\"\",\"\",UPPER(Mainframe!K5))","v":""},{"$f":"IF(AJ6=\"\",\"\",IF(NOT(ISNA(VLOOKUP(AJ6,Answers!AG:AJ,4,FALSE))),VLOOKUP(AJ6,Answers!AG:AJ,4,FALSE),\"Help!\"))","v":""},null,{"$f":"IF(AK6=\"\",\"\",AI6+IF(AK6=\"XX\",VLOOKUP(\"WRONG\",Answers!AG:AJ,4,FALSE),AK6)+AL6)","v":""},{"$f":"IF($B6=\"\",\"\",UPPER(Mainframe!L5))","v":""},{"$f":"IF(AN6=\"\",\"\",IF(NOT(ISNA(VLOOKUP(AN6,Answers!AK:AN,4,FALSE))),VLOOKUP(AN6,Answers!AK:AN,4,FALSE),\"Help!\"))","v":""},null,{"$f":"IF(AO6=\"\",\"\",AM6+IF(AO6=\"XX\",VLOOKUP(\"WRONG\",Answers!AK:AN,4,FALSE),AO6)+AP6)","v":""},{"$f":"IF($B6=\"\",\"\",UPPER(Mainframe!M5))","v":""},{"$f":"IF(AR6=\"\",\"\",IF(NOT(ISNA(VLOOKUP(AR6,Answers!AO:AR,4,FALSE))),VLOOKUP(AR6,Answers!AO:AR,4,FALSE),\"Help!\"))","v":""},null,{"$f":"IF(AS6=\"\",\"\",AQ6+IF(AS6=\"XX\",VLOOKUP(\"WRONG\",Answers!AO:AR,4,FALSE),AS6)+AT6)","v":""},{"$f":"IF($B6=\"\",\"\",UPPER(Mainframe!N5))","v":""},{"$f":"IF(AV6=\"\",\"\",IF(NOT(ISNA(VLOOKUP(AV6,Answers!AS:AV,4,FALSE))),VLOOKUP(AV6,Answers!AS:AV,4,FALSE),\"Help!\"))","v":""},null,{"$f":"IF(AW6=\"\",\"\",AU6+IF(AW6=\"XX\",VLOOKUP(\"WRONG\",Answers!AS:AV,4,FALSE),AW6)+AX6)","v":""},{"$f":"IF($B6=\"\",\"\",UPPER(Mainframe!O5))","v":""},{"$f":"IF(AZ6=\"\",\"\",IF(NOT(ISNA(VLOOKUP(AZ6,Answers!AW:AZ,4,FALSE))),VLOOKUP(AZ6,Answers!AW:AZ,4,FALSE),\"Help!\"))","v":""},null,{"$f":"IF(BA6=\"\",\"\",AY6+IF(BA6=\"XX\",VLOOKUP(\"WRONG\",Answers!AW:AZ,4,FALSE),BA6)+BB6)","v":""},{"$f":"IF($B6=\"\",\"\",UPPER(Mainframe!P5))","v":""},{"$f":"IF(BD6=\"\",\"\",IF(NOT(ISNA(VLOOKUP(BD6,Answers!BA:BD,4,FALSE))),VLOOKUP(BD6,Answers!BA:BD,4,FALSE),\"Help!\"))","v":""},null,{"$f":"IF(BE6=\"\",\"\",BC6+IF(BE6=\"XX\",VLOOKUP(\"WRONG\",Answers!BA:BD,4,FALSE),BE6)+BF6)","v":""},{"$f":"IF($B6=\"\",\"\",UPPER(Mainframe!Q5))","v":""},{"$f":"IF(BH6=\"\",\"\",IF(NOT(ISNA(VLOOKUP(BH6,Answers!BE:BH,4,FALSE))),VLOOKUP(BH6,Answers!BE:BH,4,FALSE),\"Help!\"))","v":""},null,{"$f":"IF(BI6=\"\",\"\",BG6+IF(BI6=\"XX\",VLOOKUP(\"WRONG\",Answers!BE:BH,4,FALSE),BI6)+BJ6)","v":""},{"$f":"IF($B6=\"\",\"\",UPPER(Mainframe!R5))","v":""},{"$f":"IF(BL6=\"\",\"\",IF(NOT(ISNA(VLOOKUP(BL6,Answers!BI:BL,4,FALSE))),VLOOKUP(BL6,Answers!BI:BL,4,FALSE),\"Help!\"))","v":""},null,{"$f":"IF(BM6=\"\",\"\",BK6+IF(BM6=\"XX\",VLOOKUP(\"WRONG\",Answers!BI:BL,4,FALSE),BM6)+BN6)","v":""},{"$f":"IF($B6=\"\",\"\",UPPER(Mainframe!S5))","v":""},{"$f":"IF(BP6=\"\",\"\",IF(NOT(ISNA(VLOOKUP(BP6,Answers!BM:BP,4,FALSE))),VLOOKUP(BP6,Answers!BM:BP,4,FALSE),\"Help!\"))","v":""},null,{"$f":"IF(BQ6=\"\",\"\",BO6+IF(BQ6=\"XX\",VLOOKUP(\"WRONG\",Answers!BM:BP,4,FALSE),BQ6)+BR6)","v":""},{"$f":"IF($B6=\"\",\"\",UPPER(Mainframe!T5))","v":""},{"$f":"IF(BT6=\"\",\"\",IF(NOT(ISNA(VLOOKUP(BT6,Answers!BQ:BT,4,FALSE))),VLOOKUP(BT6,Answers!BQ:BT,4,FALSE),\"Help!\"))","v":""},null,{"$f":"IF(BU6=\"\",\"\",BS6+IF(BU6=\"XX\",VLOOKUP(\"WRONG\",Answers!BQ:BT,4,FALSE),BU6)+BV6)","v":""},{"$f":"IF($B6=\"\",\"\",UPPER(Mainframe!U5))","v":""},{"$f":"IF(BX6=\"\",\"\",IF(NOT(ISNA(VLOOKUP(BX6,Answers!BU:BX,4,FALSE))),VLOOKUP(BX6,Answers!BU:BX,4,FALSE),\"Help!\"))","v":""},null,{"$f":"IF(BY6=\"\",\"\",BW6+IF(BY6=\"XX\",VLOOKUP(\"WRONG\",Answers!BU:BX,4,FALSE),BY6)+BZ6)","v":""},{"$f":"IF($B6=\"\",\"\",UPPER(Mainframe!V5))","v":""},{"$f":"IF(CB6=\"\",\"\",IF(NOT(ISNA(VLOOKUP(CB6,Answers!BY:CB,4,FALSE))),VLOOKUP(CB6,Answers!BY:CB,4,FALSE),\"Help!\"))","v":""},null,{"$f":"IF(CC6=\"\",\"\",CA6+IF(CC6=\"XX\",VLOOKUP(\"WRONG\",Answers!BY:CB,4,FALSE),CC6)+CD6)","v":""},null,null,1,{"$f":"IF(INDEX($B:$CE,ROW(),QNO*4-1)=DROPNAME,DROPNAME,IF(INDEX($B:$CE,ROW(),QNO*4-1)=SHEEPNAME,SHEEPNAME,IF(INDEX($B:$CE,ROW(),QNO*4)=\"XX\",INDEX($B:$CE,ROW(),QNO*4-1),INDEX(OFFSET(Answers!B:B,0,(QNO-1)*4),MATCH(INDEX($A:$CB,ROW(),QNO*4),OFFSET(Answers!A:A,0,(QNO-1)*4),0))&\" — \"&IF(INDEX($B:$CE,ROW(),QNO*4)=1,\"[b]Singleton![/b]\",CONCATENATE(INDEX($B:$CE,ROW(),QNO*4),\" responses\")))))","v":{"$error":"#N/A"}},"//////////////////////////////////////////////////////////////////////////////////////////////////////////////////////////////////////////////////////////////////////////////////////////////////////////////////////////////////////////////////////////","No",{"$f":"IF(B6=0,\"\",CONCATENATE(INDEX($CH:$CL,ROW(),1),\". \",INDEX($B:$CE,ROW(),1),\" — [b]\")&IF(QNO=1,CONCATENATE(INDEX($B:$CE,ROW(),QNO*4+2),\"[/b] pts\"),CONCATENATE(INDEX($B:$CE,ROW(),QNO*4-2),\" + \",IF(INDEX($B:$CE,ROW(),QNO*4)=\"XX\",INDEX(Answers!$A:$ZZ,2,QNO*4),INDEX($B:$CE,ROW(),QNO*4)),\" = \",INDEX($B:$CE,ROW(),QNO*4+2),\"[/b] pts \",IF(INDEX($C:$CE,ROW(),QNO*4)>0,\"(penalty: +\"&INDEX($C:$CE,ROW(),QNO*4)&\") \",IF(INDEX($C:$CE,ROW(),QNO*4)<0,\"(bonus: \"&INDEX($C:$CE,ROW(),QNO*4)&\") \",\"\"))&\"[[b]\"&IF(CN6>0,\"[color=#00BF00]↑\"&CN6,IF(CN6<0,\"[color=#FF0000]↓\"&ABS(CN6),\"[color=#0000FF]unch\"))&\"[/b][/color]]\")))","v":"1.  — [b][/b] pts"},1,0]
["[*]",{"$f":"IF(Mainframe!B6=\"\",\"\",INDEX(Mainframe!$B:$B,C7+1,1))","v":""},5,{"$f":"IF($B7=\"\",\"\",UPPER(Mainframe!C6))","v":""},{"$f":"IF(D7=\"\",\"\",IF(NOT(ISNA(VLOOKUP(D7,Answers!A:D,4,FALSE))),VLOOKUP(D7,Answers!A:D,4,FALSE),\"Help!\"))","v":""},null,{"$f":"IF(E7=\"\",\"\",IF(E7=\"XX\",VLOOKUP(\"WRONG\",Answers!A:D,4,FALSE),E7)+F7)","v":""},{"$f":"IF($B7=\"\",\"\",UPPER(Mainframe!D6))","v":""},{"$f":"IF(H7=\"\",\"\",IF(NOT(ISNA(VLOOKUP(H7,Answers!E:H,4,FALSE))),VLOOKUP(H7,Answers!E:H,4,FALSE),\"Help!\"))","v":""},null,{"$f":"IF(I7=\"\",\"\",G7+IF(I7=\"XX\",VLOOKUP(\"WRONG\",Answers!E:H,4,FALSE),I7)+J7)","v":""},{"$f":"IF($B7=\"\",\"\",UPPER(Mainframe!E6))","v":""},{"$f":"IF(L7=\"\",\"\",IF(NOT(ISNA(VLOOKUP(L7,Answers!I:L,4,FALSE))),VLOOKUP(L7,Answers!I:L,4,FALSE),\"Help!\"))","v":""},null,{"$f":"IF(M7=\"\",\"\",K7+IF(M7=\"XX\",VLOOKUP(\"WRONG\",Answers!I:L,4,FALSE),M7)+N7)","v":""},{"$f":"IF($B7=\"\",\"\",UPPER(Mainframe!F6))","v":""},{"$f":"IF(P7=\"\",\"\",IF(NOT(ISNA(VLOOKUP(P7,Answers!M:P,4,FALSE))),VLOOKUP(P7,Answers!M:P,4,FALSE),\"Help!\"))","v":""},null,{"$f":"IF(Q7=\"\",\"\",O7+IF(Q7=\"XX\",VLOOKUP(\"WRONG\",Answers!M:P,4,FALSE),Q7)+R7)","v":""},{"$f":"IF($B7=\"\",\"\",UPPER(Mainframe!G6))","v":""},{"$f":"IF(T7=\"\",\"\",IF(NOT(ISNA(VLOOKUP(T7,Answers!Q:T,4,FALSE))),VLOOKUP(T7,Answers!Q:T,4,FALSE),\"Help!\"))","v":""},null,{"$f":"IF(U7=\"\",\"\",S7+IF(U7=\"XX\",VLOOKUP(\"WRONG\",Answers!Q:T,4,FALSE),U7)+V7)","v":""},{"$f":"IF($B7=\"\",\"\",UPPER(Mainframe!H6))","v":""},{"$f":"IF(X7=\"\",\"\",IF(NOT(ISNA(VLOOKUP(X7,Answers!U:X,4,FALSE))),VLOOKUP(X7,Answers!U:X,4,FALSE),\"Help!\"))","v":""},null,{"$f":"IF(Y7=\"\",\"\",W7+IF(Y7=\"XX\",VLOOKUP(\"WRONG\",Answers!U:X,4,FALSE),Y7)+Z7)","v":""},{"$f":"IF($B7=\"\",\"\",UPPER(Mainframe!I6))","v":""},{"$f":"IF(AB7=\"\",\"\",IF(NOT(ISNA(VLOOKUP(AB7,Answers!Y:AB,4,FALSE))),VLOOKUP(AB7,Answers!Y:AB,4,FALSE),\"Help!\"))","v":""},null,{"$f":"IF(AC7=\"\",\"\",AA7+IF(AC7=\"XX\",VLOOKUP(\"WRONG\",Answers!Y:AB,4,FALSE),AC7)+AD7)","v":""},{"$f":"IF($B7=\"\",\"\",UPPER(Mainframe!J6))","v":""},{"$f":"IF(AF7=\"\",\"\",IF(NOT(ISNA(VLOOKUP(AF7,Answers!AC:AF,4,FALSE))),VLOOKUP(AF7,Answers!AC:AF,4,FALSE),\"Help!\"))","v":""},null,{"$f":"IF(AG7=\"\",\"\",AE7+IF(AG7=\"XX\",VLOOKUP(\"WRONG\",Answers!AC:AF,4,FALSE),AG7)+AH7)","v":""},{"$f":"IF($B7=\"\",\"\",UPPER(Mainframe!K6))","v":""},{"$f":"IF(AJ7=\"\",\"\",IF(NOT(ISNA(VLOOKUP(AJ7,Answers!AG:AJ,4,FALSE))),VLOOKUP(AJ7,Answers!AG:AJ,4,FALSE),\"Help!\"))","v":""},null,{"$f":"IF(AK7=\"\",\"\",AI7+IF(AK7=\"XX\",VLOOKUP(\"WRONG\",Answers!AG:AJ,4,FALSE),AK7)+AL7)","v":""},{"$f":"IF($B7=\"\",\"\",UPPER(Mainframe!L6))","v":""},{"$f":"IF(AN7=\"\",\"\",IF(NOT(ISNA(VLOOKUP(AN7,Answers!AK:AN,4,FALSE))),VLOOKUP(AN7,Answers!AK:AN,4,FALSE),\"Help!\"))","v":""},null,{"$f":"IF(AO7=\"\",\"\",AM7+IF(AO7=\"XX\",VLOOKUP(\"WRONG\",Answers!AK:AN,4,FALSE),AO7)+AP7)","v":""},{"$f":"IF($B7=\"\",\"\",UPPER(Mainframe!M6))","v":""},{"$f":"IF(AR7=\"\",\"\",IF(NOT(ISNA(VLOOKUP(AR7,Answers!AO:AR,4,FALSE))),VLOOKUP(AR7,Answers!AO:AR,4,FALSE),\"Help!\"))","v":""},null,{"$f":"IF(AS7=\"\",\"\",AQ7+IF(AS7=\"XX\",VLOOKUP(\"WRONG\",Answers!AO:AR,4,FALSE),AS7)+AT7)","v":""},{"$f":"IF($B7=\"\",\"\",UPPER(Mainframe!N6))","v":""},{"$f":"IF(AV7=\"\",\"\",IF(NOT(ISNA(VLOOKUP(AV7,Answers!AS:AV,4,FALSE))),VLOOKUP(AV7,Answers!AS:AV,4,FALSE),\"Help!\"))","v":""},null,{"$f":"IF(AW7=\"\",\"\",AU7+IF(AW7=\"XX\",VLOOKUP(\"WRONG\",Answers!AS:AV,4,FALSE),AW7)+AX7)","v":""},{"$f":"IF($B7=\"\",\"\",UPPER(Mainframe!O6))","v":""},{"$f":"IF(AZ7=\"\",\"\",IF(NOT(ISNA(VLOOKUP(AZ7,Answers!AW:AZ,4,FALSE))),VLOOKUP(AZ7,Answers!AW:AZ,4,FALSE),\"Help!\"))","v":""},null,{"$f":"IF(BA7=\"\",\"\",AY7+IF(BA7=\"XX\",VLOOKUP(\"WRONG\",Answers!AW:AZ,4,FALSE),BA7)+BB7)","v":""},{"$f":"IF($B7=\"\",\"\",UPPER(Mainframe!P6))","v":""},{"$f":"IF(BD7=\"\",\"\",IF(NOT(ISNA(VLOOKUP(BD7,Answers!BA:BD,4,FALSE))),VLOOKUP(BD7,Answers!BA:BD,4,FALSE),\"Help!\"))","v":""},null,{"$f":"IF(BE7=\"\",\"\",BC7+IF(BE7=\"XX\",VLOOKUP(\"WRONG\",Answers!BA:BD,4,FALSE),BE7)+BF7)","v":""},{"$f":"IF($B7=\"\",\"\",UPPER(Mainframe!Q6))","v":""},{"$f":"IF(BH7=\"\",\"\",IF(NOT(ISNA(VLOOKUP(BH7,Answers!BE:BH,4,FALSE))),VLOOKUP(BH7,Answers!BE:BH,4,FALSE),\"Help!\"))","v":""},null,{"$f":"IF(BI7=\"\",\"\",BG7+IF(BI7=\"XX\",VLOOKUP(\"WRONG\",Answers!BE:BH,4,FALSE),BI7)+BJ7)","v":""},{"$f":"IF($B7=\"\",\"\",UPPER(Mainframe!R6))","v":""},{"$f":"IF(BL7=\"\",\"\",IF(NOT(ISNA(VLOOKUP(BL7,Answers!BI:BL,4,FALSE))),VLOOKUP(BL7,Answers!BI:BL,4,FALSE),\"Help!\"))","v":""},null,{"$f":"IF(BM7=\"\",\"\",BK7+IF(BM7=\"XX\",VLOOKUP(\"WRONG\",Answers!BI:BL,4,FALSE),BM7)+BN7)","v":""},{"$f":"IF($B7=\"\",\"\",UPPER(Mainframe!S6))","v":""},{"$f":"IF(BP7=\"\",\"\",IF(NOT(ISNA(VLOOKUP(BP7,Answers!BM:BP,4,FALSE))),VLOOKUP(BP7,Answers!BM:BP,4,FALSE),\"Help!\"))","v":""},null,{"$f":"IF(BQ7=\"\",\"\",BO7+IF(BQ7=\"XX\",VLOOKUP(\"WRONG\",Answers!BM:BP,4,FALSE),BQ7)+BR7)","v":""},{"$f":"IF($B7=\"\",\"\",UPPER(Mainframe!T6))","v":""},{"$f":"IF(BT7=\"\",\"\",IF(NOT(ISNA(VLOOKUP(BT7,Answers!BQ:BT,4,FALSE))),VLOOKUP(BT7,Answers!BQ:BT,4,FALSE),\"Help!\"))","v":""},null,{"$f":"IF(BU7=\"\",\"\",BS7+IF(BU7=\"XX\",VLOOKUP(\"WRONG\",Answers!BQ:BT,4,FALSE),BU7)+BV7)","v":""},{"$f":"IF($B7=\"\",\"\",UPPER(Mainframe!U6))","v":""},{"$f":"IF(BX7=\"\",\"\",IF(NOT(ISNA(VLOOKUP(BX7,Answers!BU:BX,4,FALSE))),VLOOKUP(BX7,Answers!BU:BX,4,FALSE),\"Help!\"))","v":""},null,{"$f":"IF(BY7=\"\",\"\",BW7+IF(BY7=\"XX\",VLOOKUP(\"WRONG\",Answers!BU:BX,4,FALSE),BY7)+BZ7)","v":""},{"$f":"IF($B7=\"\",\"\",UPPER(Mainframe!V6))","v":""},{"$f":"IF(CB7=\"\",\"\",IF(NOT(ISNA(VLOOKUP(CB7,Answers!BY:CB,4,FALSE))),VLOOKUP(CB7,Answers!BY:CB,4,FALSE),\"Help!\"))","v":""},null,{"$f":"IF(CC7=\"\",\"\",CA7+IF(CC7=\"XX\",VLOOKUP(\"WRONG\",Answers!BY:CB,4,FALSE),CC7)+CD7)","v":""},null,null,1,{"$f":"IF(INDEX($B:$CE,ROW(),QNO*4-1)=DROPNAME,DROPNAME,IF(INDEX($B:$CE,ROW(),QNO*4-1)=SHEEPNAME,SHEEPNAME,IF(INDEX($B:$CE,ROW(),QNO*4)=\"XX\",INDEX($B:$CE,ROW(),QNO*4-1),INDEX(OFFSET(Answers!B:B,0,(QNO-1)*4),MATCH(INDEX($A:$CB,ROW(),QNO*4),OFFSET(Answers!A:A,0,(QNO-1)*4),0))&\" — \"&IF(INDEX($B:$CE,ROW(),QNO*4)=1,\"[b]Singleton![/b]\",CONCATENATE(INDEX($B:$CE,ROW(),QNO*4),\" responses\")))))","v":{"$error":"#N/A"}},"////////////////////////////////////////////////////////////////////////////////////////////////////////////////////////////////////////////////////////////////////////////////////////////////////////////////////////////////////////////////////////","No",{"$f":"IF(B7=0,\"\",CONCATENATE(INDEX($CH:$CL,ROW(),1),\". \",INDEX($B:$CE,ROW(),1),\" — [b]\")&IF(QNO=1,CONCATENATE(INDEX($B:$CE,ROW(),QNO*4+2),\"[/b] pts\"),CONCATENATE(INDEX($B:$CE,ROW(),QNO*4-2),\" + \",IF(INDEX($B:$CE,ROW(),QNO*4)=\"XX\",INDEX(Answers!$A:$ZZ,2,QNO*4),INDEX($B:$CE,ROW(),QNO*4)),\" = \",INDEX($B:$CE,ROW(),QNO*4+2),\"[/b] pts \",IF(INDEX($C:$CE,ROW(),QNO*4)>0,\"(penalty: +\"&INDEX($C:$CE,ROW(),QNO*4)&\") \",IF(INDEX($C:$CE,ROW(),QNO*4)<0,\"(bonus: \"&INDEX($C:$CE,ROW(),QNO*4)&\") \",\"\"))&\"[[b]\"&IF(CN7>0,\"[color=#00BF00]↑\"&CN7,IF(CN7<0,\"[color=#FF0000]↓\"&ABS(CN7),\"[color=#0000FF]unch\"))&\"[/b][/color]]\")))","v":"1.  — [b][/b] pts"},1,0]
["[*]",{"$f":"IF(Mainframe!B7=\"\",\"\",INDEX(Mainframe!$B:$B,C8+1,1))","v":""},6,{"$f":"IF($B8=\"\",\"\",UPPER(Mainframe!C7))","v":""},{"$f":"IF(D8=\"\",\"\",IF(NOT(ISNA(VLOOKUP(D8,Answers!A:D,4,FALSE))),VLOOKUP(D8,Answers!A:D,4,FALSE),\"Help!\"))","v":""},null,{"$f":"IF(E8=\"\",\"\",IF(E8=\"XX\",VLOOKUP(\"WRONG\",Answers!A:D,4,FALSE),E8)+F8)","v":""},{"$f":"IF($B8=\"\",\"\",UPPER(Mainframe!D7))","v":""},{"$f":"IF(H8=\"\",\"\",IF(NOT(ISNA(VLOOKUP(H8,Answers!E:H,4,FALSE))),VLOOKUP(H8,Answers!E:H,4,FALSE),\"Help!\"))","v":""},null,{"$f":"IF(I8=\"\",\"\",G8+IF(I8=\"XX\",VLOOKUP(\"WRONG\",Answers!E:H,4,FALSE),I8)+J8)","v":""},{"$f":"IF($B8=\"\",\"\",UPPER(Mainframe!E7))","v":""},{"$f":"IF(L8=\"\",\"\",IF(NOT(ISNA(VLOOKUP(L8,Answers!I:L,4,FALSE))),VLOOKUP(L8,Answers!I:L,4,FALSE),\"Help!\"))","v":""},null,{"$f":"IF(M8=\"\",\"\",K8+IF(M8=\"XX\",VLOOKUP(\"WRONG\",Answers!I:L,4,FALSE),M8)+N8)","v":""},{"$f":"IF($B8=\"\",\"\",UPPER(Mainframe!F7))","v":""},{"$f":"IF(P8=\"\",\"\",IF(NOT(ISNA(VLOOKUP(P8,Answers!M:P,4,FALSE))),VLOOKUP(P8,Answers!M:P,4,FALSE),\"Help!\"))","v":""},null,{"$f":"IF(Q8=\"\",\"\",O8+IF(Q8=\"XX\",VLOOKUP(\"WRONG\",Answers!M:P,4,FALSE),Q8)+R8)","v":""},{"$f":"IF($B8=\"\",\"\",UPPER(Mainframe!G7))","v":""},{"$f":"IF(T8=\"\",\"\",IF(NOT(ISNA(VLOOKUP(T8,Answers!Q:T,4,FALSE))),VLOOKUP(T8,Answers!Q:T,4,FALSE),\"Help!\"))","v":""},null,{"$f":"IF(U8=\"\",\"\",S8+IF(U8=\"XX\",VLOOKUP(\"WRONG\",Answers!Q:T,4,FALSE),U8)+V8)","v":""},{"$f":"IF($B8=\"\",\"\",UPPER(Mainframe!H7))","v":""},{"$f":"IF(X8=\"\",\"\",IF(NOT(ISNA(VLOOKUP(X8,Answers!U:X,4,FALSE))),VLOOKUP(X8,Answers!U:X,4,FALSE),\"Help!\"))","v":""},null,{"$f":"IF(Y8=\"\",\"\",W8+IF(Y8=\"XX\",VLOOKUP(\"WRONG\",Answers!U:X,4,FALSE),Y8)+Z8)","v":""},{"$f":"IF($B8=\"\",\"\",UPPER(Mainframe!I7))","v":""},{"$f":"IF(AB8=\"\",\"\",IF(NOT(ISNA(VLOOKUP(AB8,Answers!Y:AB,4,FALSE))),VLOOKUP(AB8,Answers!Y:AB,4,FALSE),\"Help!\"))","v":""},null,{"$f":"IF(AC8=\"\",\"\",AA8+IF(AC8=\"XX\",VLOOKUP(\"WRONG\",Answers!Y:AB,4,FALSE),AC8)+AD8)","v":""},{"$f":"IF($B8=\"\",\"\",UPPER(Mainframe!J7))","v":""},{"$f":"IF(AF8=\"\",\"\",IF(NOT(ISNA(VLOOKUP(AF8,Answers!AC:AF,4,FALSE))),VLOOKUP(AF8,Answers!AC:AF,4,FALSE),\"Help!\"))","v":""},null,{"$f":"IF(AG8=\"\",\"\",AE8+IF(AG8=\"XX\",VLOOKUP(\"WRONG\",Answers!AC:AF,4,FALSE),AG8)+AH8)","v":""},{"$f":"IF($B8=\"\",\"\",UPPER(Mainframe!K7))","v":""},{"$f":"IF(AJ8=\"\",\"\",IF(NOT(ISNA(VLOOKUP(AJ8,Answers!AG:AJ,4,FALSE))),VLOOKUP(AJ8,Answers!AG:AJ,4,FALSE),\"Help!\"))","v":""},null,{"$f":"IF(AK8=\"\",\"\",AI8+IF(AK8=\"XX\",VLOOKUP(\"WRONG\",Answers!AG:AJ,4,FALSE),AK8)+AL8)","v":""},{"$f":"IF($B8=\"\",\"\",UPPER(Mainframe!L7))","v":""},{"$f":"IF(AN8=\"\",\"\",IF(NOT(ISNA(VLOOKUP(AN8,Answers!AK:AN,4,FALSE))),VLOOKUP(AN8,Answers!AK:AN,4,FALSE),\"Help!\"))","v":""},null,{"$f":"IF(AO8=\"\",\"\",AM8+IF(AO8=\"XX\",VLOOKUP(\"WRONG\",Answers!AK:AN,4,FALSE),AO8)+AP8)","v":""},{"$f":"IF($B8=\"\",\"\",UPPER(Mainframe!M7))","v":""},{"$f":"IF(AR8=\"\",\"\",IF(NOT(ISNA(VLOOKUP(AR8,Answers!AO:AR,4,FALSE))),VLOOKUP(AR8,Answers!AO:AR,4,FALSE),\"Help!\"))","v":""},null,{"$f":"IF(AS8=\"\",\"\",AQ8+IF(AS8=\"XX\",VLOOKUP(\"WRONG\",Answers!AO:AR,4,FALSE),AS8)+AT8)","v":""},{"$f":"IF($B8=\"\",\"\",UPPER(Mainframe!N7))","v":""},{"$f":"IF(AV8=\"\",\"\",IF(NOT(ISNA(VLOOKUP(AV8,Answers!AS:AV,4,FALSE))),VLOOKUP(AV8,Answers!AS:AV,4,FALSE),\"Help!\"))","v":""},null,{"$f":"IF(AW8=\"\",\"\",AU8+IF(AW8=\"XX\",VLOOKUP(\"WRONG\",Answers!AS:AV,4,FALSE),AW8)+AX8)","v":""},{"$f":"IF($B8=\"\",\"\",UPPER(Mainframe!O7))","v":""},{"$f":"IF(AZ8=\"\",\"\",IF(NOT(ISNA(VLOOKUP(AZ8,Answers!AW:AZ,4,FALSE))),VLOOKUP(AZ8,Answers!AW:AZ,4,FALSE),\"Help!\"))","v":""},null,{"$f":"IF(BA8=\"\",\"\",AY8+IF(BA8=\"XX\",VLOOKUP(\"WRONG\",Answers!AW:AZ,4,FALSE),BA8)+BB8)","v":""},{"$f":"IF($B8=\"\",\"\",UPPER(Mainframe!P7))","v":""},{"$f":"IF(BD8=\"\",\"\",IF(NOT(ISNA(VLOOKUP(BD8,Answers!BA:BD,4,FALSE))),VLOOKUP(BD8,Answers!BA:BD,4,FALSE),\"Help!\"))","v":""},null,{"$f":"IF(BE8=\"\",\"\",BC8+IF(BE8=\"XX\",VLOOKUP(\"WRONG\",Answers!BA:BD,4,FALSE),BE8)+BF8)","v":""},{"$f":"IF($B8=\"\",\"\",UPPER(Mainframe!Q7))","v":""},{"$f":"IF(BH8=\"\",\"\",IF(NOT(ISNA(VLOOKUP(BH8,Answers!BE:BH,4,FALSE))),VLOOKUP(BH8,Answers!BE:BH,4,FALSE),\"Help!\"))","v":""},null,{"$f":"IF(BI8=\"\",\"\",BG8+IF(BI8=\"XX\",VLOOKUP(\"WRONG\",Answers!BE:BH,4,FALSE),BI8)+BJ8)","v":""},{"$f":"IF($B8=\"\",\"\",UPPER(Mainframe!R7))","v":""},{"$f":"IF(BL8=\"\",\"\",IF(NOT(ISNA(VLOOKUP(BL8,Answers!BI:BL,4,FALSE))),VLOOKUP(BL8,Answers!BI:BL,4,FALSE),\"Help!\"))","v":""},null,{"$f":"IF(BM8=\"\",\"\",BK8+IF(BM8=\"XX\",VLOOKUP(\"WRONG\",Answers!BI:BL,4,FALSE),BM8)+BN8)","v":""},{"$f":"IF($B8=\"\",\"\",UPPER(Mainframe!S7))","v":""},{"$f":"IF(BP8=\"\",\"\",IF(NOT(ISNA(VLOOKUP(BP8,Answers!BM:BP,4,FALSE))),VLOOKUP(BP8,Answers!BM:BP,4,FALSE),\"Help!\"))","v":""},null,{"$f":"IF(BQ8=\"\",\"\",BO8+IF(BQ8=\"XX\",VLOOKUP(\"WRONG\",Answers!BM:BP,4,FALSE),BQ8)+BR8)","v":""},{"$f":"IF($B8=\"\",\"\",UPPER(Mainframe!T7))","v":""},{"$f":"IF(BT8=\"\",\"\",IF(NOT(ISNA(VLOOKUP(BT8,Answers!BQ:BT,4,FALSE))),VLOOKUP(BT8,Answers!BQ:BT,4,FALSE),\"Help!\"))","v":""},null,{"$f":"IF(BU8=\"\",\"\",BS8+IF(BU8=\"XX\",VLOOKUP(\"WRONG\",Answers!BQ:BT,4,FALSE),BU8)+BV8)","v":""},{"$f":"IF($B8=\"\",\"\",UPPER(Mainframe!U7))","v":""},{"$f":"IF(BX8=\"\",\"\",IF(NOT(ISNA(VLOOKUP(BX8,Answers!BU:BX,4,FALSE))),VLOOKUP(BX8,Answers!BU:BX,4,FALSE),\"Help!\"))","v":""},null,{"$f":"IF(BY8=\"\",\"\",BW8+IF(BY8=\"XX\",VLOOKUP(\"WRONG\",Answers!BU:BX,4,FALSE),BY8)+BZ8)","v":""},{"$f":"IF($B8=\"\",\"\",UPPER(Mainframe!V7))","v":""},{"$f":"IF(CB8=\"\",\"\",IF(NOT(ISNA(VLOOKUP(CB8,Answers!BY:CB,4,FALSE))),VLOOKUP(CB8,Answers!BY:CB,4,FALSE),\"Help!\"))","v":""},null,{"$f":"IF(CC8=\"\",\"\",CA8+IF(CC8=\"XX\",VLOOKUP(\"WRONG\",Answers!BY:CB,4,FALSE),CC8)+CD8)","v":""},null,null,1,{"$f":"IF(INDEX($B:$CE,ROW(),QNO*4-1)=DROPNAME,DROPNAME,IF(INDEX($B:$CE,ROW(),QNO*4-1)=SHEEPNAME,SHEEPNAME,IF(INDEX($B:$CE,ROW(),QNO*4)=\"XX\",INDEX($B:$CE,ROW(),QNO*4-1),INDEX(OFFSET(Answers!B:B,0,(QNO-1)*4),MATCH(INDEX($A:$CB,ROW(),QNO*4),OFFSET(Answers!A:A,0,(QNO-1)*4),0))&\" — \"&IF(INDEX($B:$CE,ROW(),QNO*4)=1,\"[b]Singleton![/b]\",CONCATENATE(INDEX($B:$CE,ROW(),QNO*4),\" responses\")))))","v":{"$error":"#N/A"}},"//////////////////////////////////////////////////////////////////////////////////////////////////////////////////////////////////////////////////////////////////////////////////////////////////////////////////////////////////////////////////////","No",{"$f":"IF(B8=0,\"\",CONCATENATE(INDEX($CH:$CL,ROW(),1),\". \",INDEX($B:$CE,ROW(),1),\" — [b]\")&IF(QNO=1,CONCATENATE(INDEX($B:$CE,ROW(),QNO*4+2),\"[/b] pts\"),CONCATENATE(INDEX($B:$CE,ROW(),QNO*4-2),\" + \",IF(INDEX($B:$CE,ROW(),QNO*4)=\"XX\",INDEX(Answers!$A:$ZZ,2,QNO*4),INDEX($B:$CE,ROW(),QNO*4)),\" = \",INDEX($B:$CE,ROW(),QNO*4+2),\"[/b] pts \",IF(INDEX($C:$CE,ROW(),QNO*4)>0,\"(penalty: +\"&INDEX($C:$CE,ROW(),QNO*4)&\") \",IF(INDEX($C:$CE,ROW(),QNO*4)<0,\"(bonus: \"&INDEX($C:$CE,ROW(),QNO*4)&\") \",\"\"))&\"[[b]\"&IF(CN8>0,\"[color=#00BF00]↑\"&CN8,IF(CN8<0,\"[color=#FF0000]↓\"&ABS(CN8),\"[color=#0000FF]unch\"))&\"[/b][/color]]\")))","v":"1.  — [b][/b] pts"},1,0]
["[*]",{"$f":"IF(Mainframe!B8=\"\",\"\",INDEX(Mainframe!$B:$B,C9+1,1))","v":""},7,{"$f":"IF($B9=\"\",\"\",UPPER(Mainframe!C8))","v":""},{"$f":"IF(D9=\"\",\"\",IF(NOT(ISNA(VLOOKUP(D9,Answers!A:D,4,FALSE))),VLOOKUP(D9,Answers!A:D,4,FALSE),\"Help!\"))","v":""},null,{"$f":"IF(E9=\"\",\"\",IF(E9=\"XX\",VLOOKUP(\"WRONG\",Answers!A:D,4,FALSE),E9)+F9)","v":""},{"$f":"IF($B9=\"\",\"\",UPPER(Mainframe!D8))","v":""},{"$f":"IF(H9=\"\",\"\",IF(NOT(ISNA(VLOOKUP(H9,Answers!E:H,4,FALSE))),VLOOKUP(H9,Answers!E:H,4,FALSE),\"Help!\"))","v":""},null,{"$f":"IF(I9=\"\",\"\",G9+IF(I9=\"XX\",VLOOKUP(\"WRONG\",Answers!E:H,4,FALSE),I9)+J9)","v":""},{"$f":"IF($B9=\"\",\"\",UPPER(Mainframe!E8))","v":""},{"$f":"IF(L9=\"\",\"\",IF(NOT(ISNA(VLOOKUP(L9,Answers!I:L,4,FALSE))),VLOOKUP(L9,Answers!I:L,4,FALSE),\"Help!\"))","v":""},null,{"$f":"IF(M9=\"\",\"\",K9+IF(M9=\"XX\",VLOOKUP(\"WRONG\",Answers!I:L,4,FALSE),M9)+N9)","v":""},{"$f":"IF($B9=\"\",\"\",UPPER(Mainframe!F8))","v":""},{"$f":"IF(P9=\"\",\"\",IF(NOT(ISNA(VLOOKUP(P9,Answers!M:P,4,FALSE))),VLOOKUP(P9,Answers!M:P,4,FALSE),\"Help!\"))","v":""},null,{"$f":"IF(Q9=\"\",\"\",O9+IF(Q9=\"XX\",VLOOKUP(\"WRONG\",Answers!M:P,4,FALSE),Q9)+R9)","v":""},{"$f":"IF($B9=\"\",\"\",UPPER(Mainframe!G8))","v":""},{"$f":"IF(T9=\"\",\"\",IF(NOT(ISNA(VLOOKUP(T9,Answers!Q:T,4,FALSE))),VLOOKUP(T9,Answers!Q:T,4,FALSE),\"Help!\"))","v":""},null,{"$f":"IF(U9=\"\",\"\",S9+IF(U9=\"XX\",VLOOKUP(\"WRONG\",Answers!Q:T,4,FALSE),U9)+V9)","v":""},{"$f":"IF($B9=\"\",\"\",UPPER(Mainframe!H8))","v":""},{"$f":"IF(X9=\"\",\"\",IF(NOT(ISNA(VLOOKUP(X9,Answers!U:X,4,FALSE))),VLOOKUP(X9,Answers!U:X,4,FALSE),\"Help!\"))","v":""},null,{"$f":"IF(Y9=\"\",\"\",W9+IF(Y9=\"XX\",VLOOKUP(\"WRONG\",Answers!U:X,4,FALSE),Y9)+Z9)","v":""},{"$f":"IF($B9=\"\",\"\",UPPER(Mainframe!I8))","v":""},{"$f":"IF(AB9=\"\",\"\",IF(NOT(ISNA(VLOOKUP(AB9,Answers!Y:AB,4,FALSE))),VLOOKUP(AB9,Answers!Y:AB,4,FALSE),\"Help!\"))","v":""},null,{"$f":"IF(AC9=\"\",\"\",AA9+IF(AC9=\"XX\",VLOOKUP(\"WRONG\",Answers!Y:AB,4,FALSE),AC9)+AD9)","v":""},{"$f":"IF($B9=\"\",\"\",UPPER(Mainframe!J8))","v":""},{"$f":"IF(AF9=\"\",\"\",IF(NOT(ISNA(VLOOKUP(AF9,Answers!AC:AF,4,FALSE))),VLOOKUP(AF9,Answers!AC:AF,4,FALSE),\"Help!\"))","v":""},null,{"$f":"IF(AG9=\"\",\"\",AE9+IF(AG9=\"XX\",VLOOKUP(\"WRONG\",Answers!AC:AF,4,FALSE),AG9)+AH9)","v":""},{"$f":"IF($B9=\"\",\"\",UPPER(Mainframe!K8))","v":""},{"$f":"IF(AJ9=\"\",\"\",IF(NOT(ISNA(VLOOKUP(AJ9,Answers!AG:AJ,4,FALSE))),VLOOKUP(AJ9,Answers!AG:AJ,4,FALSE),\"Help!\"))","v":""},null,{"$f":"IF(AK9=\"\",\"\",AI9+IF(AK9=\"XX\",VLOOKUP(\"WRONG\",Answers!AG:AJ,4,FALSE),AK9)+AL9)","v":""},{"$f":"IF($B9=\"\",\"\",UPPER(Mainframe!L8))","v":""},{"$f":"IF(AN9=\"\",\"\",IF(NOT(ISNA(VLOOKUP(AN9,Answers!AK:AN,4,FALSE))),VLOOKUP(AN9,Answers!AK:AN,4,FALSE),\"Help!\"))","v":""},null,{"$f":"IF(AO9=\"\",\"\",AM9+IF(AO9=\"XX\",VLOOKUP(\"WRONG\",Answers!AK:AN,4,FALSE),AO9)+AP9)","v":""},{"$f":"IF($B9=\"\",\"\",UPPER(Mainframe!M8))","v":""},{"$f":"IF(AR9=\"\",\"\",IF(NOT(ISNA(VLOOKUP(AR9,Answers!AO:AR,4,FALSE))),VLOOKUP(AR9,Answers!AO:AR,4,FALSE),\"Help!\"))","v":""},null,{"$f":"IF(AS9=\"\",\"\",AQ9+IF(AS9=\"XX\",VLOOKUP(\"WRONG\",Answers!AO:AR,4,FALSE),AS9)+AT9)","v":""},{"$f":"IF($B9=\"\",\"\",UPPER(Mainframe!N8))","v":""},{"$f":"IF(AV9=\"\",\"\",IF(NOT(ISNA(VLOOKUP(AV9,Answers!AS:AV,4,FALSE))),VLOOKUP(AV9,Answers!AS:AV,4,FALSE),\"Help!\"))","v":""},null,{"$f":"IF(AW9=\"\",\"\",AU9+IF(AW9=\"XX\",VLOOKUP(\"WRONG\",Answers!AS:AV,4,FALSE),AW9)+AX9)","v":""},{"$f":"IF($B9=\"\",\"\",UPPER(Mainframe!O8))","v":""},{"$f":"IF(AZ9=\"\",\"\",IF(NOT(ISNA(VLOOKUP(AZ9,Answers!AW:AZ,4,FALSE))),VLOOKUP(AZ9,Answers!AW:AZ,4,FALSE),\"Help!\"))","v":""},null,{"$f":"IF(BA9=\"\",\"\",AY9+IF(BA9=\"XX\",VLOOKUP(\"WRONG\",Answers!AW:AZ,4,FALSE),BA9)+BB9)","v":""},{"$f":"IF($B9=\"\",\"\",UPPER(Mainframe!P8))","v":""},{"$f":"IF(BD9=\"\",\"\",IF(NOT(ISNA(VLOOKUP(BD9,Answers!BA:BD,4,FALSE))),VLOOKUP(BD9,Answers!BA:BD,4,FALSE),\"Help!\"))","v":""},null,{"$f":"IF(BE9=\"\",\"\",BC9+IF(BE9=\"XX\",VLOOKUP(\"WRONG\",Answers!BA:BD,4,FALSE),BE9)+BF9)","v":""},{"$f":"IF($B9=\"\",\"\",UPPER(Mainframe!Q8))","v":""},{"$f":"IF(BH9=\"\",\"\",IF(NOT(ISNA(VLOOKUP(BH9,Answers!BE:BH,4,FALSE))),VLOOKUP(BH9,Answers!BE:BH,4,FALSE),\"Help!\"))","v":""},null,{"$f":"IF(BI9=\"\",\"\",BG9+IF(BI9=\"XX\",VLOOKUP(\"WRONG\",Answers!BE:BH,4,FALSE),BI9)+BJ9)","v":""},{"$f":"IF($B9=\"\",\"\",UPPER(Mainframe!R8))","v":""},{"$f":"IF(BL9=\"\",\"\",IF(NOT(ISNA(VLOOKUP(BL9,Answers!BI:BL,4,FALSE))),VLOOKUP(BL9,Answers!BI:BL,4,FALSE),\"Help!\"))","v":""},null,{"$f":"IF(BM9=\"\",\"\",BK9+IF(BM9=\"XX\",VLOOKUP(\"WRONG\",Answers!BI:BL,4,FALSE),BM9)+BN9)","v":""},{"$f":"IF($B9=\"\",\"\",UPPER(Mainframe!S8))","v":""},{"$f":"IF(BP9=\"\",\"\",IF(NOT(ISNA(VLOOKUP(BP9,Answers!BM:BP,4,FALSE))),VLOOKUP(BP9,Answers!BM:BP,4,FALSE),\"Help!\"))","v":""},null,{"$f":"IF(BQ9=\"\",\"\",BO9+IF(BQ9=\"XX\",VLOOKUP(\"WRONG\",Answers!BM:BP,4,FALSE),BQ9)+BR9)","v":""},{"$f":"IF($B9=\"\",\"\",UPPER(Mainframe!T8))","v":""},{"$f":"IF(BT9=\"\",\"\",IF(NOT(ISNA(VLOOKUP(BT9,Answers!BQ:BT,4,FALSE))),VLOOKUP(BT9,Answers!BQ:BT,4,FALSE),\"Help!\"))","v":""},null,{"$f":"IF(BU9=\"\",\"\",BS9+IF(BU9=\"XX\",VLOOKUP(\"WRONG\",Answers!BQ:BT,4,FALSE),BU9)+BV9)","v":""},{"$f":"IF($B9=\"\",\"\",UPPER(Mainframe!U8))","v":""},{"$f":"IF(BX9=\"\",\"\",IF(NOT(ISNA(VLOOKUP(BX9,Answers!BU:BX,4,FALSE))),VLOOKUP(BX9,Answers!BU:BX,4,FALSE),\"Help!\"))","v":""},null,{"$f":"IF(BY9=\"\",\"\",BW9+IF(BY9=\"XX\",VLOOKUP(\"WRONG\",Answers!BU:BX,4,FALSE),BY9)+BZ9)","v":""},{"$f":"IF($B9=\"\",\"\",UPPER(Mainframe!V8))","v":""},{"$f":"IF(CB9=\"\",\"\",IF(NOT(ISNA(VLOOKUP(CB9,Answers!BY:CB,4,FALSE))),VLOOKUP(CB9,Answers!BY:CB,4,FALSE),\"Help!\"))","v":""},null,{"$f":"IF(CC9=\"\",\"\",CA9+IF(CC9=\"XX\",VLOOKUP(\"WRONG\",Answers!BY:CB,4,FALSE),CC9)+CD9)","v":""},null,null,1,{"$f":"IF(INDEX($B:$CE,ROW(),QNO*4-1)=DROPNAME,DROPNAME,IF(INDEX($B:$CE,ROW(),QNO*4-1)=SHEEPNAME,SHEEPNAME,IF(INDEX($B:$CE,ROW(),QNO*4)=\"XX\",INDEX($B:$CE,ROW(),QNO*4-1),INDEX(OFFSET(Answers!B:B,0,(QNO-1)*4),MATCH(INDEX($A:$CB,ROW(),QNO*4),OFFSET(Answers!A:A,0,(QNO-1)*4),0))&\" — \"&IF(INDEX($B:$CE,ROW(),QNO*4)=1,\"[b]Singleton![/b]\",CONCATENATE(INDEX($B:$CE,ROW(),QNO*4),\" responses\")))))","v":{"$error":"#N/A"}},"////////////////////////////////////////////////////////////////////////////////////////////////////////////////////////////////////////////////////////////////////////////////////////////////////////////////////////////////////////////////////","No",{"$f":"IF(B9=0,\"\",CONCATENATE(INDEX($CH:$CL,ROW(),1),\". \",INDEX($B:$CE,ROW(),1),\" — [b]\")&IF(QNO=1,CONCATENATE(INDEX($B:$CE,ROW(),QNO*4+2),\"[/b] pts\"),CONCATENATE(INDEX($B:$CE,ROW(),QNO*4-2),\" + \",IF(INDEX($B:$CE,ROW(),QNO*4)=\"XX\",INDEX(Answers!$A:$ZZ,2,QNO*4),INDEX($B:$CE,ROW(),QNO*4)),\" = \",INDEX($B:$CE,ROW(),QNO*4+2),\"[/b] pts \",IF(INDEX($C:$CE,ROW(),QNO*4)>0,\"(penalty: +\"&INDEX($C:$CE,ROW(),QNO*4)&\") \",IF(INDEX($C:$CE,ROW(),QNO*4)<0,\"(bonus: \"&INDEX($C:$CE,ROW(),QNO*4)&\") \",\"\"))&\"[[b]\"&IF(CN9>0,\"[color=#00BF00]↑\"&CN9,IF(CN9<0,\"[color=#FF0000]↓\"&ABS(CN9),\"[color=#0000FF]unch\"))&\"[/b][/color]]\")))","v":"1.  — [b][/b] pts"},1,0]
["[*]",{"$f":"IF(Mainframe!B9=\"\",\"\",INDEX(Mainframe!$B:$B,C10+1,1))","v":""},8,{"$f":"IF($B10=\"\",\"\",UPPER(Mainframe!C9))","v":""},{"$f":"IF(D10=\"\",\"\",IF(NOT(ISNA(VLOOKUP(D10,Answers!A:D,4,FALSE))),VLOOKUP(D10,Answers!A:D,4,FALSE),\"Help!\"))","v":""},null,{"$f":"IF(E10=\"\",\"\",IF(E10=\"XX\",VLOOKUP(\"WRONG\",Answers!A:D,4,FALSE),E10)+F10)","v":""},{"$f":"IF($B10=\"\",\"\",UPPER(Mainframe!D9))","v":""},{"$f":"IF(H10=\"\",\"\",IF(NOT(ISNA(VLOOKUP(H10,Answers!E:H,4,FALSE))),VLOOKUP(H10,Answers!E:H,4,FALSE),\"Help!\"))","v":""},null,{"$f":"IF(I10=\"\",\"\",G10+IF(I10=\"XX\",VLOOKUP(\"WRONG\",Answers!E:H,4,FALSE),I10)+J10)","v":""},{"$f":"IF($B10=\"\",\"\",UPPER(Mainframe!E9))","v":""},{"$f":"IF(L10=\"\",\"\",IF(NOT(ISNA(VLOOKUP(L10,Answers!I:L,4,FALSE))),VLOOKUP(L10,Answers!I:L,4,FALSE),\"Help!\"))","v":""},null,{"$f":"IF(M10=\"\",\"\",K10+IF(M10=\"XX\",VLOOKUP(\"WRONG\",Answers!I:L,4,FALSE),M10)+N10)","v":""},{"$f":"IF($B10=\"\",\"\",UPPER(Mainframe!F9))","v":""},{"$f":"IF(P10=\"\",\"\",IF(NOT(ISNA(VLOOKUP(P10,Answers!M:P,4,FALSE))),VLOOKUP(P10,Answers!M:P,4,FALSE),\"Help!\"))","v":""},null,{"$f":"IF(Q10=\"\",\"\",O10+IF(Q10=\"XX\",VLOOKUP(\"WRONG\",Answers!M:P,4,FALSE),Q10)+R10)","v":""},{"$f":"IF($B10=\"\",\"\",UPPER(Mainframe!G9))","v":""},{"$f":"IF(T10=\"\",\"\",IF(NOT(ISNA(VLOOKUP(T10,Answers!Q:T,4,FALSE))),VLOOKUP(T10,Answers!Q:T,4,FALSE),\"Help!\"))","v":""},null,{"$f":"IF(U10=\"\",\"\",S10+IF(U10=\"XX\",VLOOKUP(\"WRONG\",Answers!Q:T,4,FALSE),U10)+V10)","v":""},{"$f":"IF($B10=\"\",\"\",UPPER(Mainframe!H9))","v":""},{"$f":"IF(X10=\"\",\"\",IF(NOT(ISNA(VLOOKUP(X10,Answers!U:X,4,FALSE))),VLOOKUP(X10,Answers!U:X,4,FALSE),\"Help!\"))","v":""},null,{"$f":"IF(Y10=\"\",\"\",W10+IF(Y10=\"XX\",VLOOKUP(\"WRONG\",Answers!U:X,4,FALSE),Y10)+Z10)","v":""},{"$f":"IF($B10=\"\",\"\",UPPER(Mainframe!I9))","v":""},{"$f":"IF(AB10=\"\",\"\",IF(NOT(ISNA(VLOOKUP(AB10,Answers!Y:AB,4,FALSE))),VLOOKUP(AB10,Answers!Y:AB,4,FALSE),\"Help!\"))","v":""},null,{"$f":"IF(AC10=\"\",\"\",AA10+IF(AC10=\"XX\",VLOOKUP(\"WRONG\",Answers!Y:AB,4,FALSE),AC10)+AD10)","v":""},{"$f":"IF($B10=\"\",\"\",UPPER(Mainframe!J9))","v":""},{"$f":"IF(AF10=\"\",\"\",IF(NOT(ISNA(VLOOKUP(AF10,Answers!AC:AF,4,FALSE))),VLOOKUP(AF10,Answers!AC:AF,4,FALSE),\"Help!\"))","v":""},null,{"$f":"IF(AG10=\"\",\"\",AE10+IF(AG10=\"XX\",VLOOKUP(\"WRONG\",Answers!AC:AF,4,FALSE),AG10)+AH10)","v":""},{"$f":"IF($B10=\"\",\"\",UPPER(Mainframe!K9))","v":""},{"$f":"IF(AJ10=\"\",\"\",IF(NOT(ISNA(VLOOKUP(AJ10,Answers!AG:AJ,4,FALSE))),VLOOKUP(AJ10,Answers!AG:AJ,4,FALSE),\"Help!\"))","v":""},null,{"$f":"IF(AK10=\"\",\"\",AI10+IF(AK10=\"XX\",VLOOKUP(\"WRONG\",Answers!AG:AJ,4,FALSE),AK10)+AL10)","v":""},{"$f":"IF($B10=\"\",\"\",UPPER(Mainframe!L9))","v":""},{"$f":"IF(AN10=\"\",\"\",IF(NOT(ISNA(VLOOKUP(AN10,Answers!AK:AN,4,FALSE))),VLOOKUP(AN10,Answers!AK:AN,4,FALSE),\"Help!\"))","v":""},null,{"$f":"IF(AO10=\"\",\"\",AM10+IF(AO10=\"XX\",VLOOKUP(\"WRONG\",Answers!AK:AN,4,FALSE),AO10)+AP10)","v":""},{"$f":"IF($B10=\"\",\"\",UPPER(Mainframe!M9))","v":""},{"$f":"IF(AR10=\"\",\"\",IF(NOT(ISNA(VLOOKUP(AR10,Answers!AO:AR,4,FALSE))),VLOOKUP(AR10,Answers!AO:AR,4,FALSE),\"Help!\"))","v":""},null,{"$f":"IF(AS10=\"\",\"\",AQ10+IF(AS10=\"XX\",VLOOKUP(\"WRONG\",Answers!AO:AR,4,FALSE),AS10)+AT10)","v":""},{"$f":"IF($B10=\"\",\"\",UPPER(Mainframe!N9))","v":""},{"$f":"IF(AV10=\"\",\"\",IF(NOT(ISNA(VLOOKUP(AV10,Answers!AS:AV,4,FALSE))),VLOOKUP(AV10,Answers!AS:AV,4,FALSE),\"Help!\"))","v":""},null,{"$f":"IF(AW10=\"\",\"\",AU10+IF(AW10=\"XX\",VLOOKUP(\"WRONG\",Answers!AS:AV,4,FALSE),AW10)+AX10)","v":""},{"$f":"IF($B10=\"\",\"\",UPPER(Mainframe!O9))","v":""},{"$f":"IF(AZ10=\"\",\"\",IF(NOT(ISNA(VLOOKUP(AZ10,Answers!AW:AZ,4,FALSE))),VLOOKUP(AZ10,Answers!AW:AZ,4,FALSE),\"Help!\"))","v":""},null,{"$f":"IF(BA10=\"\",\"\",AY10+IF(BA10=\"XX\",VLOOKUP(\"WRONG\",Answers!AW:AZ,4,FALSE),BA10)+BB10)","v":""},{"$f":"IF($B10=\"\",\"\",UPPER(Mainframe!P9))","v":""},{"$f":"IF(BD10=\"\",\"\",IF(NOT(ISNA(VLOOKUP(BD10,Answers!BA:BD,4,FALSE))),VLOOKUP(BD10,Answers!BA:BD,4,FALSE),\"Help!\"))","v":""},null,{"$f":"IF(BE10=\"\",\"\",BC10+IF(BE10=\"XX\",VLOOKUP(\"WRONG\",Answers!BA:BD,4,FALSE),BE10)+BF10)","v":""},{"$f":"IF($B10=\"\",\"\",UPPER(Mainframe!Q9))","v":""},{"$f":"IF(BH10=\"\",\"\",IF(NOT(ISNA(VLOOKUP(BH10,Answers!BE:BH,4,FALSE))),VLOOKUP(BH10,Answers!BE:BH,4,FALSE),\"Help!\"))","v":""},null,{"$f":"IF(BI10=\"\",\"\",BG10+IF(BI10=\"XX\",VLOOKUP(\"WRONG\",Answers!BE:BH,4,FALSE),BI10)+BJ10)","v":""},{"$f":"IF($B10=\"\",\"\",UPPER(Mainframe!R9))","v":""},{"$f":"IF(BL10=\"\",\"\",IF(NOT(ISNA(VLOOKUP(BL10,Answers!BI:BL,4,FALSE))),VLOOKUP(BL10,Answers!BI:BL,4,FALSE),\"Help!\"))","v":""},null,{"$f":"IF(BM10=\"\",\"\",BK10+IF(BM10=\"XX\",VLOOKUP(\"WRONG\",Answers!BI:BL,4,FALSE),BM10)+BN10)","v":""},{"$f":"IF($B10=\"\",\"\",UPPER(Mainframe!S9))","v":""},{"$f":"IF(BP10=\"\",\"\",IF(NOT(ISNA(VLOOKUP(BP10,Answers!BM:BP,4,FALSE))),VLOOKUP(BP10,Answers!BM:BP,4,FALSE),\"Help!\"))","v":""},null,{"$f":"IF(BQ10=\"\",\"\",BO10+IF(BQ10=\"XX\",VLOOKUP(\"WRONG\",Answers!BM:BP,4,FALSE),BQ10)+BR10)","v":""},{"$f":"IF($B10=\"\",\"\",UPPER(Mainframe!T9))","v":""},{"$f":"IF(BT10=\"\",\"\",IF(NOT(ISNA(VLOOKUP(BT10,Answers!BQ:BT,4,FALSE))),VLOOKUP(BT10,Answers!BQ:BT,4,FALSE),\"Help!\"))","v":""},null,{"$f":"IF(BU10=\"\",\"\",BS10+IF(BU10=\"XX\",VLOOKUP(\"WRONG\",Answers!BQ:BT,4,FALSE),BU10)+BV10)","v":""},{"$f":"IF($B10=\"\",\"\",UPPER(Mainframe!U9))","v":""},{"$f":"IF(BX10=\"\",\"\",IF(NOT(ISNA(VLOOKUP(BX10,Answers!BU:BX,4,FALSE))),VLOOKUP(BX10,Answers!BU:BX,4,FALSE),\"Help!\"))","v":""},null,{"$f":"IF(BY10=\"\",\"\",BW10+IF(BY10=\"XX\",VLOOKUP(\"WRONG\",Answers!BU:BX,4,FALSE),BY10)+BZ10)","v":""},{"$f":"IF($B10=\"\",\"\",UPPER(Mainframe!V9))","v":""},{"$f":"IF(CB10=\"\",\"\",IF(NOT(ISNA(VLOOKUP(CB10,Answers!BY:CB,4,FALSE))),VLOOKUP(CB10,Answers!BY:CB,4,FALSE),\"Help!\"))","v":""},null,{"$f":"IF(CC10=\"\",\"\",CA10+IF(CC10=\"XX\",VLOOKUP(\"WRONG\",Answers!BY:CB,4,FALSE),CC10)+CD10)","v":""},null,null,1,{"$f":"IF(INDEX($B:$CE,ROW(),QNO*4-1)=DROPNAME,DROPNAME,IF(INDEX($B:$CE,ROW(),QNO*4-1)=SHEEPNAME,SHEEPNAME,IF(INDEX($B:$CE,ROW(),QNO*4)=\"XX\",INDEX($B:$CE,ROW(),QNO*4-1),INDEX(OFFSET(Answers!B:B,0,(QNO-1)*4),MATCH(INDEX($A:$CB,ROW(),QNO*4),OFFSET(Answers!A:A,0,(QNO-1)*4),0))&\" — \"&IF(INDEX($B:$CE,ROW(),QNO*4)=1,\"[b]Singleton![/b]\",CONCATENATE(INDEX($B:$CE,ROW(),QNO*4),\" responses\")))))","v":{"$error":"#N/A"}},"//////////////////////////////////////////////////////////////////////////////////////////////////////////////////////////////////////////////////////////////////////////////////////////////////////////////////////////////////////////////////","No",{"$f":"IF(B10=0,\"\",CONCATENATE(INDEX($CH:$CL,ROW(),1),\". \",INDEX($B:$CE,ROW(),1),\" — [b]\")&IF(QNO=1,CONCATENATE(INDEX($B:$CE,ROW(),QNO*4+2),\"[/b] pts\"),CONCATENATE(INDEX($B:$CE,ROW(),QNO*4-2),\" + \",IF(INDEX($B:$CE,ROW(),QNO*4)=\"XX\",INDEX(Answers!$A:$ZZ,2,QNO*4),INDEX($B:$CE,ROW(),QNO*4)),\" = \",INDEX($B:$CE,ROW(),QNO*4+2),\"[/b] pts \",IF(INDEX($C:$CE,ROW(),QNO*4)>0,\"(penalty: +\"&INDEX($C:$CE,ROW(),QNO*4)&\") \",IF(INDEX($C:$CE,ROW(),QNO*4)<0,\"(bonus: \"&INDEX($C:$CE,ROW(),QNO*4)&\") \",\"\"))&\"[[b]\"&IF(CN10>0,\"[color=#00BF00]↑\"&CN10,IF(CN10<0,\"[color=#FF0000]↓\"&ABS(CN10),\"[color=#0000FF]unch\"))&\"[/b][/color]]\")))","v":"1.  — [b][/b] pts"},1,0]
["[*]",{"$f":"IF(Mainframe!B10=\"\",\"\",INDEX(Mainframe!$B:$B,C11+1,1))","v":""},9,{"$f":"IF($B11=\"\",\"\",UPPER(Mainframe!C10))","v":""},{"$f":"IF(D11=\"\",\"\",IF(NOT(ISNA(VLOOKUP(D11,Answers!A:D,4,FALSE))),VLOOKUP(D11,Answers!A:D,4,FALSE),\"Help!\"))","v":""},null,{"$f":"IF(E11=\"\",\"\",IF(E11=\"XX\",VLOOKUP(\"WRONG\",Answers!A:D,4,FALSE),E11)+F11)","v":""},{"$f":"IF($B11=\"\",\"\",UPPER(Mainframe!D10))","v":""},{"$f":"IF(H11=\"\",\"\",IF(NOT(ISNA(VLOOKUP(H11,Answers!E:H,4,FALSE))),VLOOKUP(H11,Answers!E:H,4,FALSE),\"Help!\"))","v":""},null,{"$f":"IF(I11=\"\",\"\",G11+IF(I11=\"XX\",VLOOKUP(\"WRONG\",Answers!E:H,4,FALSE),I11)+J11)","v":""},{"$f":"IF($B11=\"\",\"\",UPPER(Mainframe!E10))","v":""},{"$f":"IF(L11=\"\",\"\",IF(NOT(ISNA(VLOOKUP(L11,Answers!I:L,4,FALSE))),VLOOKUP(L11,Answers!I:L,4,FALSE),\"Help!\"))","v":""},null,{"$f":"IF(M11=\"\",\"\",K11+IF(M11=\"XX\",VLOOKUP(\"WRONG\",Answers!I:L,4,FALSE),M11)+N11)","v":""},{"$f":"IF($B11=\"\",\"\",UPPER(Mainframe!F10))","v":""},{"$f":"IF(P11=\"\",\"\",IF(NOT(ISNA(VLOOKUP(P11,Answers!M:P,4,FALSE))),VLOOKUP(P11,Answers!M:P,4,FALSE),\"Help!\"))","v":""},null,{"$f":"IF(Q11=\"\",\"\",O11+IF(Q11=\"XX\",VLOOKUP(\"WRONG\",Answers!M:P,4,FALSE),Q11)+R11)","v":""},{"$f":"IF($B11=\"\",\"\",UPPER(Mainframe!G10))","v":""},{"$f":"IF(T11=\"\",\"\",IF(NOT(ISNA(VLOOKUP(T11,Answers!Q:T,4,FALSE))),VLOOKUP(T11,Answers!Q:T,4,FALSE),\"Help!\"))","v":""},null,{"$f":"IF(U11=\"\",\"\",S11+IF(U11=\"XX\",VLOOKUP(\"WRONG\",Answers!Q:T,4,FALSE),U11)+V11)","v":""},{"$f":"IF($B11=\"\",\"\",UPPER(Mainframe!H10))","v":""},{"$f":"IF(X11=\"\",\"\",IF(NOT(ISNA(VLOOKUP(X11,Answers!U:X,4,FALSE))),VLOOKUP(X11,Answers!U:X,4,FALSE),\"Help!\"))","v":""},null,{"$f":"IF(Y11=\"\",\"\",W11+IF(Y11=\"XX\",VLOOKUP(\"WRONG\",Answers!U:X,4,FALSE),Y11)+Z11)","v":""},{"$f":"IF($B11=\"\",\"\",UPPER(Mainframe!I10))","v":""},{"$f":"IF(AB11=\"\",\"\",IF(NOT(ISNA(VLOOKUP(AB11,Answers!Y:AB,4,FALSE))),VLOOKUP(AB11,Answers!Y:AB,4,FALSE),\"Help!\"))","v":""},null,{"$f":"IF(AC11=\"\",\"\",AA11+IF(AC11=\"XX\",VLOOKUP(\"WRONG\",Answers!Y:AB,4,FALSE),AC11)+AD11)","v":""},{"$f":"IF($B11=\"\",\"\",UPPER(Mainframe!J10))","v":""},{"$f":"IF(AF11=\"\",\"\",IF(NOT(ISNA(VLOOKUP(AF11,Answers!AC:AF,4,FALSE))),VLOOKUP(AF11,Answers!AC:AF,4,FALSE),\"Help!\"))","v":""},null,{"$f":"IF(AG11=\"\",\"\",AE11+IF(AG11=\"XX\",VLOOKUP(\"WRONG\",Answers!AC:AF,4,FALSE),AG11)+AH11)","v":""},{"$f":"IF($B11=\"\",\"\",UPPER(Mainframe!K10))","v":""},{"$f":"IF(AJ11=\"\",\"\",IF(NOT(ISNA(VLOOKUP(AJ11,Answers!AG:AJ,4,FALSE))),VLOOKUP(AJ11,Answers!AG:AJ,4,FALSE),\"Help!\"))","v":""},null,{"$f":"IF(AK11=\"\",\"\",AI11+IF(AK11=\"XX\",VLOOKUP(\"WRONG\",Answers!AG:AJ,4,FALSE),AK11)+AL11)","v":""},{"$f":"IF($B11=\"\",\"\",UPPER(Mainframe!L10))","v":""},{"$f":"IF(AN11=\"\",\"\",IF(NOT(ISNA(VLOOKUP(AN11,Answers!AK:AN,4,FALSE))),VLOOKUP(AN11,Answers!AK:AN,4,FALSE),\"Help!\"))","v":""},null,{"$f":"IF(AO11=\"\",\"\",AM11+IF(AO11=\"XX\",VLOOKUP(\"WRONG\",Answers!AK:AN,4,FALSE),AO11)+AP11)","v":""},{"$f":"IF($B11=\"\",\"\",UPPER(Mainframe!M10))","v":""},{"$f":"IF(AR11=\"\",\"\",IF(NOT(ISNA(VLOOKUP(AR11,Answers!AO:AR,4,FALSE))),VLOOKUP(AR11,Answers!AO:AR,4,FALSE),\"Help!\"))","v":""},null,{"$f":"IF(AS11=\"\",\"\",AQ11+IF(AS11=\"XX\",VLOOKUP(\"WRONG\",Answers!AO:AR,4,FALSE),AS11)+AT11)","v":""},{"$f":"IF($B11=\"\",\"\",UPPER(Mainframe!N10))","v":""},{"$f":"IF(AV11=\"\",\"\",IF(NOT(ISNA(VLOOKUP(AV11,Answers!AS:AV,4,FALSE))),VLOOKUP(AV11,Answers!AS:AV,4,FALSE),\"Help!\"))","v":""},null,{"$f":"IF(AW11=\"\",\"\",AU11+IF(AW11=\"XX\",VLOOKUP(\"WRONG\",Answers!AS:AV,4,FALSE),AW11)+AX11)","v":""},{"$f":"IF($B11=\"\",\"\",UPPER(Mainframe!O10))","v":""},{"$f":"IF(AZ11=\"\",\"\",IF(NOT(ISNA(VLOOKUP(AZ11,Answers!AW:AZ,4,FALSE))),VLOOKUP(AZ11,Answers!AW:AZ,4,FALSE),\"Help!\"))","v":""},null,{"$f":"IF(BA11=\"\",\"\",AY11+IF(BA11=\"XX\",VLOOKUP(\"WRONG\",Answers!AW:AZ,4,FALSE),BA11)+BB11)","v":""},{"$f":"IF($B11=\"\",\"\",UPPER(Mainframe!P10))","v":""},{"$f":"IF(BD11=\"\",\"\",IF(NOT(ISNA(VLOOKUP(BD11,Answers!BA:BD,4,FALSE))),VLOOKUP(BD11,Answers!BA:BD,4,FALSE),\"Help!\"))","v":""},null,{"$f":"IF(BE11=\"\",\"\",BC11+IF(BE11=\"XX\",VLOOKUP(\"WRONG\",Answers!BA:BD,4,FALSE),BE11)+BF11)","v":""},{"$f":"IF($B11=\"\",\"\",UPPER(Mainframe!Q10))","v":""},{"$f":"IF(BH11=\"\",\"\",IF(NOT(ISNA(VLOOKUP(BH11,Answers!BE:BH,4,FALSE))),VLOOKUP(BH11,Answers!BE:BH,4,FALSE),\"Help!\"))","v":""},null,{"$f":"IF(BI11=\"\",\"\",BG11+IF(BI11=\"XX\",VLOOKUP(\"WRONG\",Answers!BE:BH,4,FALSE),BI11)+BJ11)","v":""},{"$f":"IF($B11=\"\",\"\",UPPER(Mainframe!R10))","v":""},{"$f":"IF(BL11=\"\",\"\",IF(NOT(ISNA(VLOOKUP(BL11,Answers!BI:BL,4,FALSE))),VLOOKUP(BL11,Answers!BI:BL,4,FALSE),\"Help!\"))","v":""},null,{"$f":"IF(BM11=\"\",\"\",BK11+IF(BM11=\"XX\",VLOOKUP(\"WRONG\",Answers!BI:BL,4,FALSE),BM11)+BN11)","v":""},{"$f":"IF($B11=\"\",\"\",UPPER(Mainframe!S10))","v":""},{"$f":"IF(BP11=\"\",\"\",IF(NOT(ISNA(VLOOKUP(BP11,Answers!BM:BP,4,FALSE))),VLOOKUP(BP11,Answers!BM:BP,4,FALSE),\"Help!\"))","v":""},null,{"$f":"IF(BQ11=\"\",\"\",BO11+IF(BQ11=\"XX\",VLOOKUP(\"WRONG\",Answers!BM:BP,4,FALSE),BQ11)+BR11)","v":""},{"$f":"IF($B11=\"\",\"\",UPPER(Mainframe!T10))","v":""},{"$f":"IF(BT11=\"\",\"\",IF(NOT(ISNA(VLOOKUP(BT11,Answers!BQ:BT,4,FALSE))),VLOOKUP(BT11,Answers!BQ:BT,4,FALSE),\"Help!\"))","v":""},null,{"$f":"IF(BU11=\"\",\"\",BS11+IF(BU11=\"XX\",VLOOKUP(\"WRONG\",Answers!BQ:BT,4,FALSE),BU11)+BV11)","v":""},{"$f":"IF($B11=\"\",\"\",UPPER(Mainframe!U10))","v":""},{"$f":"IF(BX11=\"\",\"\",IF(NOT(ISNA(VLOOKUP(BX11,Answers!BU:BX,4,FALSE))),VLOOKUP(BX11,Answers!BU:BX,4,FALSE),\"Help!\"))","v":""},null,{"$f":"IF(BY11=\"\",\"\",BW11+IF(BY11=\"XX\",VLOOKUP(\"WRONG\",Answers!BU:BX,4,FALSE),BY11)+BZ11)","v":""},{"$f":"IF($B11=\"\",\"\",UPPER(Mainframe!V10))","v":""},{"$f":"IF(CB11=\"\",\"\",IF(NOT(ISNA(VLOOKUP(CB11,Answers!BY:CB,4,FALSE))),VLOOKUP(CB11,Answers!BY:CB,4,FALSE),\"Help!\"))","v":""},null,{"$f":"IF(CC11=\"\",\"\",CA11+IF(CC11=\"XX\",VLOOKUP(\"WRONG\",Answers!BY:CB,4,FALSE),CC11)+CD11)","v":""},null,null,1,{"$f":"IF(INDEX($B:$CE,ROW(),QNO*4-1)=DROPNAME,DROPNAME,IF(INDEX($B:$CE,ROW(),QNO*4-1)=SHEEPNAME,SHEEPNAME,IF(INDEX($B:$CE,ROW(),QNO*4)=\"XX\",INDEX($B:$CE,ROW(),QNO*4-1),INDEX(OFFSET(Answers!B:B,0,(QNO-1)*4),MATCH(INDEX($A:$CB,ROW(),QNO*4),OFFSET(Answers!A:A,0,(QNO-1)*4),0))&\" — \"&IF(INDEX($B:$CE,ROW(),QNO*4)=1,\"[b]Singleton![/b]\",CONCATENATE(INDEX($B:$CE,ROW(),QNO*4),\" responses\")))))","v":{"$error":"#N/A"}},"////////////////////////////////////////////////////////////////////////////////////////////////////////////////////////////////////////////////////////////////////////////////////////////////////////////////////////////////////////////////","No",{"$f":"IF(B11=0,\"\",CONCATENATE(INDEX($CH:$CL,ROW(),1),\". \",INDEX($B:$CE,ROW(),1),\" — [b]\")&IF(QNO=1,CONCATENATE(INDEX($B:$CE,ROW(),QNO*4+2),\"[/b] pts\"),CONCATENATE(INDEX($B:$CE,ROW(),QNO*4-2),\" + \",IF(INDEX($B:$CE,ROW(),QNO*4)=\"XX\",INDEX(Answers!$A:$ZZ,2,QNO*4),INDEX($B:$CE,ROW(),QNO*4)),\" = \",INDEX($B:$CE,ROW(),QNO*4+2),\"[/b] pts \",IF(INDEX($C:$CE,ROW(),QNO*4)>0,\"(penalty: +\"&INDEX($C:$CE,ROW(),QNO*4)&\") \",IF(INDEX($C:$CE,ROW(),QNO*4)<0,\"(bonus: \"&INDEX($C:$CE,ROW(),QNO*4)&\") \",\"\"))&\"[[b]\"&IF(CN11>0,\"[color=#00BF00]↑\"&CN11,IF(CN11<0,\"[color=#FF0000]↓\"&ABS(CN11),\"[color=#0000FF]unch\"))&\"[/b][/color]]\")))","v":"1.  — [b][/b] pts"},1,0]
["[*]",{"$f":"IF(Mainframe!B11=\"\",\"\",INDEX(Mainframe!$B:$B,C12+1,1))","v":""},10,{"$f":"IF($B12=\"\",\"\",UPPER(Mainframe!C11))","v":""},{"$f":"IF(D12=\"\",\"\",IF(NOT(ISNA(VLOOKUP(D12,Answers!A:D,4,FALSE))),VLOOKUP(D12,Answers!A:D,4,FALSE),\"Help!\"))","v":""},null,{"$f":"IF(E12=\"\",\"\",IF(E12=\"XX\",VLOOKUP(\"WRONG\",Answers!A:D,4,FALSE),E12)+F12)","v":""},{"$f":"IF($B12=\"\",\"\",UPPER(Mainframe!D11))","v":""},{"$f":"IF(H12=\"\",\"\",IF(NOT(ISNA(VLOOKUP(H12,Answers!E:H,4,FALSE))),VLOOKUP(H12,Answers!E:H,4,FALSE),\"Help!\"))","v":""},null,{"$f":"IF(I12=\"\",\"\",G12+IF(I12=\"XX\",VLOOKUP(\"WRONG\",Answers!E:H,4,FALSE),I12)+J12)","v":""},{"$f":"IF($B12=\"\",\"\",UPPER(Mainframe!E11))","v":""},{"$f":"IF(L12=\"\",\"\",IF(NOT(ISNA(VLOOKUP(L12,Answers!I:L,4,FALSE))),VLOOKUP(L12,Answers!I:L,4,FALSE),\"Help!\"))","v":""},null,{"$f":"IF(M12=\"\",\"\",K12+IF(M12=\"XX\",VLOOKUP(\"WRONG\",Answers!I:L,4,FALSE),M12)+N12)","v":""},{"$f":"IF($B12=\"\",\"\",UPPER(Mainframe!F11))","v":""},{"$f":"IF(P12=\"\",\"\",IF(NOT(ISNA(VLOOKUP(P12,Answers!M:P,4,FALSE))),VLOOKUP(P12,Answers!M:P,4,FALSE),\"Help!\"))","v":""},null,{"$f":"IF(Q12=\"\",\"\",O12+IF(Q12=\"XX\",VLOOKUP(\"WRONG\",Answers!M:P,4,FALSE),Q12)+R12)","v":""},{"$f":"IF($B12=\"\",\"\",UPPER(Mainframe!G11))","v":""},{"$f":"IF(T12=\"\",\"\",IF(NOT(ISNA(VLOOKUP(T12,Answers!Q:T,4,FALSE))),VLOOKUP(T12,Answers!Q:T,4,FALSE),\"Help!\"))","v":""},null,{"$f":"IF(U12=\"\",\"\",S12+IF(U12=\"XX\",VLOOKUP(\"WRONG\",Answers!Q:T,4,FALSE),U12)+V12)","v":""},{"$f":"IF($B12=\"\",\"\",UPPER(Mainframe!H11))","v":""},{"$f":"IF(X12=\"\",\"\",IF(NOT(ISNA(VLOOKUP(X12,Answers!U:X,4,FALSE))),VLOOKUP(X12,Answers!U:X,4,FALSE),\"Help!\"))","v":""},null,{"$f":"IF(Y12=\"\",\"\",W12+IF(Y12=\"XX\",VLOOKUP(\"WRONG\",Answers!U:X,4,FALSE),Y12)+Z12)","v":""},{"$f":"IF($B12=\"\",\"\",UPPER(Mainframe!I11))","v":""},{"$f":"IF(AB12=\"\",\"\",IF(NOT(ISNA(VLOOKUP(AB12,Answers!Y:AB,4,FALSE))),VLOOKUP(AB12,Answers!Y:AB,4,FALSE),\"Help!\"))","v":""},null,{"$f":"IF(AC12=\"\",\"\",AA12+IF(AC12=\"XX\",VLOOKUP(\"WRONG\",Answers!Y:AB,4,FALSE),AC12)+AD12)","v":""},{"$f":"IF($B12=\"\",\"\",UPPER(Mainframe!J11))","v":""},{"$f":"IF(AF12=\"\",\"\",IF(NOT(ISNA(VLOOKUP(AF12,Answers!AC:AF,4,FALSE))),VLOOKUP(AF12,Answers!AC:AF,4,FALSE),\"Help!\"))","v":""},null,{"$f":"IF(AG12=\"\",\"\",AE12+IF(AG12=\"XX\",VLOOKUP(\"WRONG\",Answers!AC:AF,4,FALSE),AG12)+AH12)","v":""},{"$f":"IF($B12=\"\",\"\",UPPER(Mainframe!K11))","v":""},{"$f":"IF(AJ12=\"\",\"\",IF(NOT(ISNA(VLOOKUP(AJ12,Answers!AG:AJ,4,FALSE))),VLOOKUP(AJ12,Answers!AG:AJ,4,FALSE),\"Help!\"))","v":""},null,{"$f":"IF(AK12=\"\",\"\",AI12+IF(AK12=\"XX\",VLOOKUP(\"WRONG\",Answers!AG:AJ,4,FALSE),AK12)+AL12)","v":""},{"$f":"IF($B12=\"\",\"\",UPPER(Mainframe!L11))","v":""},{"$f":"IF(AN12=\"\",\"\",IF(NOT(ISNA(VLOOKUP(AN12,Answers!AK:AN,4,FALSE))),VLOOKUP(AN12,Answers!AK:AN,4,FALSE),\"Help!\"))","v":""},null,{"$f":"IF(AO12=\"\",\"\",AM12+IF(AO12=\"XX\",VLOOKUP(\"WRONG\",Answers!AK:AN,4,FALSE),AO12)+AP12)","v":""},{"$f":"IF($B12=\"\",\"\",UPPER(Mainframe!M11))","v":""},{"$f":"IF(AR12=\"\",\"\",IF(NOT(ISNA(VLOOKUP(AR12,Answers!AO:AR,4,FALSE))),VLOOKUP(AR12,Answers!AO:AR,4,FALSE),\"Help!\"))","v":""},null,{"$f":"IF(AS12=\"\",\"\",AQ12+IF(AS12=\"XX\",VLOOKUP(\"WRONG\",Answers!AO:AR,4,FALSE),AS12)+AT12)","v":""},{"$f":"IF($B12=\"\",\"\",UPPER(Mainframe!N11))","v":""},{"$f":"IF(AV12=\"\",\"\",IF(NOT(ISNA(VLOOKUP(AV12,Answers!AS:AV,4,FALSE))),VLOOKUP(AV12,Answers!AS:AV,4,FALSE),\"Help!\"))","v":""},null,{"$f":"IF(AW12=\"\",\"\",AU12+IF(AW12=\"XX\",VLOOKUP(\"WRONG\",Answers!AS:AV,4,FALSE),AW12)+AX12)","v":""},{"$f":"IF($B12=\"\",\"\",UPPER(Mainframe!O11))","v":""},{"$f":"IF(AZ12=\"\",\"\",IF(NOT(ISNA(VLOOKUP(AZ12,Answers!AW:AZ,4,FALSE))),VLOOKUP(AZ12,Answers!AW:AZ,4,FALSE),\"Help!\"))","v":""},null,{"$f":"IF(BA12=\"\",\"\",AY12+IF(BA12=\"XX\",VLOOKUP(\"WRONG\",Answers!AW:AZ,4,FALSE),BA12)+BB12)","v":""},{"$f":"IF($B12=\"\",\"\",UPPER(Mainframe!P11))","v":""},{"$f":"IF(BD12=\"\",\"\",IF(NOT(ISNA(VLOOKUP(BD12,Answers!BA:BD,4,FALSE))),VLOOKUP(BD12,Answers!BA:BD,4,FALSE),\"Help!\"))","v":""},null,{"$f":"IF(BE12=\"\",\"\",BC12+IF(BE12=\"XX\",VLOOKUP(\"WRONG\",Answers!BA:BD,4,FALSE),BE12)+BF12)","v":""},{"$f":"IF($B12=\"\",\"\",UPPER(Mainframe!Q11))","v":""},{"$f":"IF(BH12=\"\",\"\",IF(NOT(ISNA(VLOOKUP(BH12,Answers!BE:BH,4,FALSE))),VLOOKUP(BH12,Answers!BE:BH,4,FALSE),\"Help!\"))","v":""},null,{"$f":"IF(BI12=\"\",\"\",BG12+IF(BI12=\"XX\",VLOOKUP(\"WRONG\",Answers!BE:BH,4,FALSE),BI12)+BJ12)","v":""},{"$f":"IF($B12=\"\",\"\",UPPER(Mainframe!R11))","v":""},{"$f":"IF(BL12=\"\",\"\",IF(NOT(ISNA(VLOOKUP(BL12,Answers!BI:BL,4,FALSE))),VLOOKUP(BL12,Answers!BI:BL,4,FALSE),\"Help!\"))","v":""},null,{"$f":"IF(BM12=\"\",\"\",BK12+IF(BM12=\"XX\",VLOOKUP(\"WRONG\",Answers!BI:BL,4,FALSE),BM12)+BN12)","v":""},{"$f":"IF($B12=\"\",\"\",UPPER(Mainframe!S11))","v":""},{"$f":"IF(BP12=\"\",\"\",IF(NOT(ISNA(VLOOKUP(BP12,Answers!BM:BP,4,FALSE))),VLOOKUP(BP12,Answers!BM:BP,4,FALSE),\"Help!\"))","v":""},null,{"$f":"IF(BQ12=\"\",\"\",BO12+IF(BQ12=\"XX\",VLOOKUP(\"WRONG\",Answers!BM:BP,4,FALSE),BQ12)+BR12)","v":""},{"$f":"IF($B12=\"\",\"\",UPPER(Mainframe!T11))","v":""},{"$f":"IF(BT12=\"\",\"\",IF(NOT(ISNA(VLOOKUP(BT12,Answers!BQ:BT,4,FALSE))),VLOOKUP(BT12,Answers!BQ:BT,4,FALSE),\"Help!\"))","v":""},null,{"$f":"IF(BU12=\"\",\"\",BS12+IF(BU12=\"XX\",VLOOKUP(\"WRONG\",Answers!BQ:BT,4,FALSE),BU12)+BV12)","v":""},{"$f":"IF($B12=\"\",\"\",UPPER(Mainframe!U11))","v":""},{"$f":"IF(BX12=\"\",\"\",IF(NOT(ISNA(VLOOKUP(BX12,Answers!BU:BX,4,FALSE))),VLOOKUP(BX12,Answers!BU:BX,4,FALSE),\"Help!\"))","v":""},null,{"$f":"IF(BY12=\"\",\"\",BW12+IF(BY12=\"XX\",VLOOKUP(\"WRONG\",Answers!BU:BX,4,FALSE),BY12)+BZ12)","v":""},{"$f":"IF($B12=\"\",\"\",UPPER(Mainframe!V11))","v":""},{"$f":"IF(CB12=\"\",\"\",IF(NOT(ISNA(VLOOKUP(CB12,Answers!BY:CB,4,FALSE))),VLOOKUP(CB12,Answers!BY:CB,4,FALSE),\"Help!\"))","v":""},null,{"$f":"IF(CC12=\"\",\"\",CA12+IF(CC12=\"XX\",VLOOKUP(\"WRONG\",Answers!BY:CB,4,FALSE),CC12)+CD12)","v":""},null,null,1,{"$f":"IF(INDEX($B:$CE,ROW(),QNO*4-1)=DROPNAME,DROPNAME,IF(INDEX($B:$CE,ROW(),QNO*4-1)=SHEEPNAME,SHEEPNAME,IF(INDEX($B:$CE,ROW(),QNO*4)=\"XX\",INDEX($B:$CE,ROW(),QNO*4-1),INDEX(OFFSET(Answers!B:B,0,(QNO-1)*4),MATCH(INDEX($A:$CB,ROW(),QNO*4),OFFSET(Answers!A:A,0,(QNO-1)*4),0))&\" — \"&IF(INDEX($B:$CE,ROW(),QNO*4)=1,\"[b]Singleton![/b]\",CONCATENATE(INDEX($B:$CE,ROW(),QNO*4),\" responses\")))))","v":{"$error":"#N/A"}},"//////////////////////////////////////////////////////////////////////////////////////////////////////////////////////////////////////////////////////////////////////////////////////////////////////////////////////////////////////////////","No",{"$f":"IF(B12=0,\"\",CONCATENATE(INDEX($CH:$CL,ROW(),1),\". \",INDEX($B:$CE,ROW(),1),\" — [b]\")&IF(QNO=1,CONCATENATE(INDEX($B:$CE,ROW(),QNO*4+2),\"[/b] pts\"),CONCATENATE(INDEX($B:$CE,ROW(),QNO*4-2),\" + \",IF(INDEX($B:$CE,ROW(),QNO*4)=\"XX\",INDEX(Answers!$A:$ZZ,2,QNO*4),INDEX($B:$CE,ROW(),QNO*4)),\" = \",INDEX($B:$CE,ROW(),QNO*4+2),\"[/b] pts \",IF(INDEX($C:$CE,ROW(),QNO*4)>0,\"(penalty: +\"&INDEX($C:$CE,ROW(),QNO*4)&\") \",IF(INDEX($C:$CE,ROW(),QNO*4)<0,\"(bonus: \"&INDEX($C:$CE,ROW(),QNO*4)&\") \",\"\"))&\"[[b]\"&IF(CN12>0,\"[color=#00BF00]↑\"&CN12,IF(CN12<0,\"[color=#FF0000]↓\"&ABS(CN12),\"[color=#0000FF]unch\"))&\"[/b][/color]]\")))","v":"1.  — [b][/b] pts"},1,0]
["[*]",{"$f":"IF(Mainframe!B12=\"\",\"\",INDEX(Mainframe!$B:$B,C13+1,1))","v":""},11,{"$f":"IF($B13=\"\",\"\",UPPER(Mainframe!C12))","v":""},{"$f":"IF(D13=\"\",\"\",IF(NOT(ISNA(VLOOKUP(D13,Answers!A:D,4,FALSE))),VLOOKUP(D13,Answers!A:D,4,FALSE),\"Help!\"))","v":""},null,{"$f":"IF(E13=\"\",\"\",IF(E13=\"XX\",VLOOKUP(\"WRONG\",Answers!A:D,4,FALSE),E13)+F13)","v":""},{"$f":"IF($B13=\"\",\"\",UPPER(Mainframe!D12))","v":""},{"$f":"IF(H13=\"\",\"\",IF(NOT(ISNA(VLOOKUP(H13,Answers!E:H,4,FALSE))),VLOOKUP(H13,Answers!E:H,4,FALSE),\"Help!\"))","v":""},null,{"$f":"IF(I13=\"\",\"\",G13+IF(I13=\"XX\",VLOOKUP(\"WRONG\",Answers!E:H,4,FALSE),I13)+J13)","v":""},{"$f":"IF($B13=\"\",\"\",UPPER(Mainframe!E12))","v":""},{"$f":"IF(L13=\"\",\"\",IF(NOT(ISNA(VLOOKUP(L13,Answers!I:L,4,FALSE))),VLOOKUP(L13,Answers!I:L,4,FALSE),\"Help!\"))","v":""},null,{"$f":"IF(M13=\"\",\"\",K13+IF(M13=\"XX\",VLOOKUP(\"WRONG\",Answers!I:L,4,FALSE),M13)+N13)","v":""},{"$f":"IF($B13=\"\",\"\",UPPER(Mainframe!F12))","v":""},{"$f":"IF(P13=\"\",\"\",IF(NOT(ISNA(VLOOKUP(P13,Answers!M:P,4,FALSE))),VLOOKUP(P13,Answers!M:P,4,FALSE),\"Help!\"))","v":""},null,{"$f":"IF(Q13=\"\",\"\",O13+IF(Q13=\"XX\",VLOOKUP(\"WRONG\",Answers!M:P,4,FALSE),Q13)+R13)","v":""},{"$f":"IF($B13=\"\",\"\",UPPER(Mainframe!G12))","v":""},{"$f":"IF(T13=\"\",\"\",IF(NOT(ISNA(VLOOKUP(T13,Answers!Q:T,4,FALSE))),VLOOKUP(T13,Answers!Q:T,4,FALSE),\"Help!\"))","v":""},null,{"$f":"IF(U13=\"\",\"\",S13+IF(U13=\"XX\",VLOOKUP(\"WRONG\",Answers!Q:T,4,FALSE),U13)+V13)","v":""},{"$f":"IF($B13=\"\",\"\",UPPER(Mainframe!H12))","v":""},{"$f":"IF(X13=\"\",\"\",IF(NOT(ISNA(VLOOKUP(X13,Answers!U:X,4,FALSE))),VLOOKUP(X13,Answers!U:X,4,FALSE),\"Help!\"))","v":""},null,{"$f":"IF(Y13=\"\",\"\",W13+IF(Y13=\"XX\",VLOOKUP(\"WRONG\",Answers!U:X,4,FALSE),Y13)+Z13)","v":""},{"$f":"IF($B13=\"\",\"\",UPPER(Mainframe!I12))","v":""},{"$f":"IF(AB13=\"\",\"\",IF(NOT(ISNA(VLOOKUP(AB13,Answers!Y:AB,4,FALSE))),VLOOKUP(AB13,Answers!Y:AB,4,FALSE),\"Help!\"))","v":""},null,{"$f":"IF(AC13=\"\",\"\",AA13+IF(AC13=\"XX\",VLOOKUP(\"WRONG\",Answers!Y:AB,4,FALSE),AC13)+AD13)","v":""},{"$f":"IF($B13=\"\",\"\",UPPER(Mainframe!J12))","v":""},{"$f":"IF(AF13=\"\",\"\",IF(NOT(ISNA(VLOOKUP(AF13,Answers!AC:AF,4,FALSE))),VLOOKUP(AF13,Answers!AC:AF,4,FALSE),\"Help!\"))","v":""},null,{"$f":"IF(AG13=\"\",\"\",AE13+IF(AG13=\"XX\",VLOOKUP(\"WRONG\",Answers!AC:AF,4,FALSE),AG13)+AH13)","v":""},{"$f":"IF($B13=\"\",\"\",UPPER(Mainframe!K12))","v":""},{"$f":"IF(AJ13=\"\",\"\",IF(NOT(ISNA(VLOOKUP(AJ13,Answers!AG:AJ,4,FALSE))),VLOOKUP(AJ13,Answers!AG:AJ,4,FALSE),\"Help!\"))","v":""},null,{"$f":"IF(AK13=\"\",\"\",AI13+IF(AK13=\"XX\",VLOOKUP(\"WRONG\",Answers!AG:AJ,4,FALSE),AK13)+AL13)","v":""},{"$f":"IF($B13=\"\",\"\",UPPER(Mainframe!L12))","v":""},{"$f":"IF(AN13=\"\",\"\",IF(NOT(ISNA(VLOOKUP(AN13,Answers!AK:AN,4,FALSE))),VLOOKUP(AN13,Answers!AK:AN,4,FALSE),\"Help!\"))","v":""},null,{"$f":"IF(AO13=\"\",\"\",AM13+IF(AO13=\"XX\",VLOOKUP(\"WRONG\",Answers!AK:AN,4,FALSE),AO13)+AP13)","v":""},{"$f":"IF($B13=\"\",\"\",UPPER(Mainframe!M12))","v":""},{"$f":"IF(AR13=\"\",\"\",IF(NOT(ISNA(VLOOKUP(AR13,Answers!AO:AR,4,FALSE))),VLOOKUP(AR13,Answers!AO:AR,4,FALSE),\"Help!\"))","v":""},null,{"$f":"IF(AS13=\"\",\"\",AQ13+IF(AS13=\"XX\",VLOOKUP(\"WRONG\",Answers!AO:AR,4,FALSE),AS13)+AT13)","v":""},{"$f":"IF($B13=\"\",\"\",UPPER(Mainframe!N12))","v":""},{"$f":"IF(AV13=\"\",\"\",IF(NOT(ISNA(VLOOKUP(AV13,Answers!AS:AV,4,FALSE))),VLOOKUP(AV13,Answers!AS:AV,4,FALSE),\"Help!\"))","v":""},null,{"$f":"IF(AW13=\"\",\"\",AU13+IF(AW13=\"XX\",VLOOKUP(\"WRONG\",Answers!AS:AV,4,FALSE),AW13)+AX13)","v":""},{"$f":"IF($B13=\"\",\"\",UPPER(Mainframe!O12))","v":""},{"$f":"IF(AZ13=\"\",\"\",IF(NOT(ISNA(VLOOKUP(AZ13,Answers!AW:AZ,4,FALSE))),VLOOKUP(AZ13,Answers!AW:AZ,4,FALSE),\"Help!\"))","v":""},null,{"$f":"IF(BA13=\"\",\"\",AY13+IF(BA13=\"XX\",VLOOKUP(\"WRONG\",Answers!AW:AZ,4,FALSE),BA13)+BB13)","v":""},{"$f":"IF($B13=\"\",\"\",UPPER(Mainframe!P12))","v":""},{"$f":"IF(BD13=\"\",\"\",IF(NOT(ISNA(VLOOKUP(BD13,Answers!BA:BD,4,FALSE))),VLOOKUP(BD13,Answers!BA:BD,4,FALSE),\"Help!\"))","v":""},null,{"$f":"IF(BE13=\"\",\"\",BC13+IF(BE13=\"XX\",VLOOKUP(\"WRONG\",Answers!BA:BD,4,FALSE),BE13)+BF13)","v":""},{"$f":"IF($B13=\"\",\"\",UPPER(Mainframe!Q12))","v":""},{"$f":"IF(BH13=\"\",\"\",IF(NOT(ISNA(VLOOKUP(BH13,Answers!BE:BH,4,FALSE))),VLOOKUP(BH13,Answers!BE:BH,4,FALSE),\"Help!\"))","v":""},null,{"$f":"IF(BI13=\"\",\"\",BG13+IF(BI13=\"XX\",VLOOKUP(\"WRONG\",Answers!BE:BH,4,FALSE),BI13)+BJ13)","v":""},{"$f":"IF($B13=\"\",\"\",UPPER(Mainframe!R12))","v":""},{"$f":"IF(BL13=\"\",\"\",IF(NOT(ISNA(VLOOKUP(BL13,Answers!BI:BL,4,FALSE))),VLOOKUP(BL13,Answers!BI:BL,4,FALSE),\"Help!\"))","v":""},null,{"$f":"IF(BM13=\"\",\"\",BK13+IF(BM13=\"XX\",VLOOKUP(\"WRONG\",Answers!BI:BL,4,FALSE),BM13)+BN13)","v":""},{"$f":"IF($B13=\"\",\"\",UPPER(Mainframe!S12))","v":""},{"$f":"IF(BP13=\"\",\"\",IF(NOT(ISNA(VLOOKUP(BP13,Answers!BM:BP,4,FALSE))),VLOOKUP(BP13,Answers!BM:BP,4,FALSE),\"Help!\"))","v":""},null,{"$f":"IF(BQ13=\"\",\"\",BO13+IF(BQ13=\"XX\",VLOOKUP(\"WRONG\",Answers!BM:BP,4,FALSE),BQ13)+BR13)","v":""},{"$f":"IF($B13=\"\",\"\",UPPER(Mainframe!T12))","v":""},{"$f":"IF(BT13=\"\",\"\",IF(NOT(ISNA(VLOOKUP(BT13,Answers!BQ:BT,4,FALSE))),VLOOKUP(BT13,Answers!BQ:BT,4,FALSE),\"Help!\"))","v":""},null,{"$f":"IF(BU13=\"\",\"\",BS13+IF(BU13=\"XX\",VLOOKUP(\"WRONG\",Answers!BQ:BT,4,FALSE),BU13)+BV13)","v":""},{"$f":"IF($B13=\"\",\"\",UPPER(Mainframe!U12))","v":""},{"$f":"IF(BX13=\"\",\"\",IF(NOT(ISNA(VLOOKUP(BX13,Answers!BU:BX,4,FALSE))),VLOOKUP(BX13,Answers!BU:BX,4,FALSE),\"Help!\"))","v":""},null,{"$f":"IF(BY13=\"\",\"\",BW13+IF(BY13=\"XX\",VLOOKUP(\"WRONG\",Answers!BU:BX,4,FALSE),BY13)+BZ13)","v":""},{"$f":"IF($B13=\"\",\"\",UPPER(Mainframe!V12))","v":""},{"$f":"IF(CB13=\"\",\"\",IF(NOT(ISNA(VLOOKUP(CB13,Answers!BY:CB,4,FALSE))),VLOOKUP(CB13,Answers!BY:CB,4,FALSE),\"Help!\"))","v":""},null,{"$f":"IF(CC13=\"\",\"\",CA13+IF(CC13=\"XX\",VLOOKUP(\"WRONG\",Answers!BY:CB,4,FALSE),CC13)+CD13)","v":""},null,null,1,{"$f":"IF(INDEX($B:$CE,ROW(),QNO*4-1)=DROPNAME,DROPNAME,IF(INDEX($B:$CE,ROW(),QNO*4-1)=SHEEPNAME,SHEEPNAME,IF(INDEX($B:$CE,ROW(),QNO*4)=\"XX\",INDEX($B:$CE,ROW(),QNO*4-1),INDEX(OFFSET(Answers!B:B,0,(QNO-1)*4),MATCH(INDEX($A:$CB,ROW(),QNO*4),OFFSET(Answers!A:A,0,(QNO-1)*4),0))&\" — \"&IF(INDEX($B:$CE,ROW(),QNO*4)=1,\"[b]Singleton![/b]\",CONCATENATE(INDEX($B:$CE,ROW(),QNO*4),\" responses\")))))","v":{"$error":"#N/A"}},"////////////////////////////////////////////////////////////////////////////////////////////////////////////////////////////////////////////////////////////////////////////////////////////////////////////////////////////////////////////","No",{"$f":"IF(B13=0,\"\",CONCATENATE(INDEX($CH:$CL,ROW(),1),\". \",INDEX($B:$CE,ROW(),1),\" — [b]\")&IF(QNO=1,CONCATENATE(INDEX($B:$CE,ROW(),QNO*4+2),\"[/b] pts\"),CONCATENATE(INDEX($B:$CE,ROW(),QNO*4-2),\" + \",IF(INDEX($B:$CE,ROW(),QNO*4)=\"XX\",INDEX(Answers!$A:$ZZ,2,QNO*4),INDEX($B:$CE,ROW(),QNO*4)),\" = \",INDEX($B:$CE,ROW(),QNO*4+2),\"[/b] pts \",IF(INDEX($C:$CE,ROW(),QNO*4)>0,\"(penalty: +\"&INDEX($C:$CE,ROW(),QNO*4)&\") \",IF(INDEX($C:$CE,ROW(),QNO*4)<0,\"(bonus: \"&INDEX($C:$CE,ROW(),QNO*4)&\") \",\"\"))&\"[[b]\"&IF(CN13>0,\"[color=#00BF00]↑\"&CN13,IF(CN13<0,\"[color=#FF0000]↓\"&ABS(CN13),\"[color=#0000FF]unch\"))&\"[/b][/color]]\")))","v":"1.  — [b][/b] pts"},1,0]
["[*]",{"$f":"IF(Mainframe!B13=\"\",\"\",INDEX(Mainframe!$B:$B,C14+1,1))","v":""},12,{"$f":"IF($B14=\"\",\"\",UPPER(Mainframe!C13))","v":""},{"$f":"IF(D14=\"\",\"\",IF(NOT(ISNA(VLOOKUP(D14,Answers!A:D,4,FALSE))),VLOOKUP(D14,Answers!A:D,4,FALSE),\"Help!\"))","v":""},null,{"$f":"IF(E14=\"\",\"\",IF(E14=\"XX\",VLOOKUP(\"WRONG\",Answers!A:D,4,FALSE),E14)+F14)","v":""},{"$f":"IF($B14=\"\",\"\",UPPER(Mainframe!D13))","v":""},{"$f":"IF(H14=\"\",\"\",IF(NOT(ISNA(VLOOKUP(H14,Answers!E:H,4,FALSE))),VLOOKUP(H14,Answers!E:H,4,FALSE),\"Help!\"))","v":""},null,{"$f":"IF(I14=\"\",\"\",G14+IF(I14=\"XX\",VLOOKUP(\"WRONG\",Answers!E:H,4,FALSE),I14)+J14)","v":""},{"$f":"IF($B14=\"\",\"\",UPPER(Mainframe!E13))","v":""},{"$f":"IF(L14=\"\",\"\",IF(NOT(ISNA(VLOOKUP(L14,Answers!I:L,4,FALSE))),VLOOKUP(L14,Answers!I:L,4,FALSE),\"Help!\"))","v":""},null,{"$f":"IF(M14=\"\",\"\",K14+IF(M14=\"XX\",VLOOKUP(\"WRONG\",Answers!I:L,4,FALSE),M14)+N14)","v":""},{"$f":"IF($B14=\"\",\"\",UPPER(Mainframe!F13))","v":""},{"$f":"IF(P14=\"\",\"\",IF(NOT(ISNA(VLOOKUP(P14,Answers!M:P,4,FALSE))),VLOOKUP(P14,Answers!M:P,4,FALSE),\"Help!\"))","v":""},null,{"$f":"IF(Q14=\"\",\"\",O14+IF(Q14=\"XX\",VLOOKUP(\"WRONG\",Answers!M:P,4,FALSE),Q14)+R14)","v":""},{"$f":"IF($B14=\"\",\"\",UPPER(Mainframe!G13))","v":""},{"$f":"IF(T14=\"\",\"\",IF(NOT(ISNA(VLOOKUP(T14,Answers!Q:T,4,FALSE))),VLOOKUP(T14,Answers!Q:T,4,FALSE),\"Help!\"))","v":""},null,{"$f":"IF(U14=\"\",\"\",S14+IF(U14=\"XX\",VLOOKUP(\"WRONG\",Answers!Q:T,4,FALSE),U14)+V14)","v":""},{"$f":"IF($B14=\"\",\"\",UPPER(Mainframe!H13))","v":""},{"$f":"IF(X14=\"\",\"\",IF(NOT(ISNA(VLOOKUP(X14,Answers!U:X,4,FALSE))),VLOOKUP(X14,Answers!U:X,4,FALSE),\"Help!\"))","v":""},null,{"$f":"IF(Y14=\"\",\"\",W14+IF(Y14=\"XX\",VLOOKUP(\"WRONG\",Answers!U:X,4,FALSE),Y14)+Z14)","v":""},{"$f":"IF($B14=\"\",\"\",UPPER(Mainframe!I13))","v":""},{"$f":"IF(AB14=\"\",\"\",IF(NOT(ISNA(VLOOKUP(AB14,Answers!Y:AB,4,FALSE))),VLOOKUP(AB14,Answers!Y:AB,4,FALSE),\"Help!\"))","v":""},null,{"$f":"IF(AC14=\"\",\"\",AA14+IF(AC14=\"XX\",VLOOKUP(\"WRONG\",Answers!Y:AB,4,FALSE),AC14)+AD14)","v":""},{"$f":"IF($B14=\"\",\"\",UPPER(Mainframe!J13))","v":""},{"$f":"IF(AF14=\"\",\"\",IF(NOT(ISNA(VLOOKUP(AF14,Answers!AC:AF,4,FALSE))),VLOOKUP(AF14,Answers!AC:AF,4,FALSE),\"Help!\"))","v":""},null,{"$f":"IF(AG14=\"\",\"\",AE14+IF(AG14=\"XX\",VLOOKUP(\"WRONG\",Answers!AC:AF,4,FALSE),AG14)+AH14)","v":""},{"$f":"IF($B14=\"\",\"\",UPPER(Mainframe!K13))","v":""},{"$f":"IF(AJ14=\"\",\"\",IF(NOT(ISNA(VLOOKUP(AJ14,Answers!AG:AJ,4,FALSE))),VLOOKUP(AJ14,Answers!AG:AJ,4,FALSE),\"Help!\"))","v":""},null,{"$f":"IF(AK14=\"\",\"\",AI14+IF(AK14=\"XX\",VLOOKUP(\"WRONG\",Answers!AG:AJ,4,FALSE),AK14)+AL14)","v":""},{"$f":"IF($B14=\"\",\"\",UPPER(Mainframe!L13))","v":""},{"$f":"IF(AN14=\"\",\"\",IF(NOT(ISNA(VLOOKUP(AN14,Answers!AK:AN,4,FALSE))),VLOOKUP(AN14,Answers!AK:AN,4,FALSE),\"Help!\"))","v":""},null,{"$f":"IF(AO14=\"\",\"\",AM14+IF(AO14=\"XX\",VLOOKUP(\"WRONG\",Answers!AK:AN,4,FALSE),AO14)+AP14)","v":""},{"$f":"IF($B14=\"\",\"\",UPPER(Mainframe!M13))","v":""},{"$f":"IF(AR14=\"\",\"\",IF(NOT(ISNA(VLOOKUP(AR14,Answers!AO:AR,4,FALSE))),VLOOKUP(AR14,Answers!AO:AR,4,FALSE),\"Help!\"))","v":""},null,{"$f":"IF(AS14=\"\",\"\",AQ14+IF(AS14=\"XX\",VLOOKUP(\"WRONG\",Answers!AO:AR,4,FALSE),AS14)+AT14)","v":""},{"$f":"IF($B14=\"\",\"\",UPPER(Mainframe!N13))","v":""},{"$f":"IF(AV14=\"\",\"\",IF(NOT(ISNA(VLOOKUP(AV14,Answers!AS:AV,4,FALSE))),VLOOKUP(AV14,Answers!AS:AV,4,FALSE),\"Help!\"))","v":""},null,{"$f":"IF(AW14=\"\",\"\",AU14+IF(AW14=\"XX\",VLOOKUP(\"WRONG\",Answers!AS:AV,4,FALSE),AW14)+AX14)","v":""},{"$f":"IF($B14=\"\",\"\",UPPER(Mainframe!O13))","v":""},{"$f":"IF(AZ14=\"\",\"\",IF(NOT(ISNA(VLOOKUP(AZ14,Answers!AW:AZ,4,FALSE))),VLOOKUP(AZ14,Answers!AW:AZ,4,FALSE),\"Help!\"))","v":""},null,{"$f":"IF(BA14=\"\",\"\",AY14+IF(BA14=\"XX\",VLOOKUP(\"WRONG\",Answers!AW:AZ,4,FALSE),BA14)+BB14)","v":""},{"$f":"IF($B14=\"\",\"\",UPPER(Mainframe!P13))","v":""},{"$f":"IF(BD14=\"\",\"\",IF(NOT(ISNA(VLOOKUP(BD14,Answers!BA:BD,4,FALSE))),VLOOKUP(BD14,Answers!BA:BD,4,FALSE),\"Help!\"))","v":""},null,{"$f":"IF(BE14=\"\",\"\",BC14+IF(BE14=\"XX\",VLOOKUP(\"WRONG\",Answers!BA:BD,4,FALSE),BE14)+BF14)","v":""},{"$f":"IF($B14=\"\",\"\",UPPER(Mainframe!Q13))","v":""},{"$f":"IF(BH14=\"\",\"\",IF(NOT(ISNA(VLOOKUP(BH14,Answers!BE:BH,4,FALSE))),VLOOKUP(BH14,Answers!BE:BH,4,FALSE),\"Help!\"))","v":""},null,{"$f":"IF(BI14=\"\",\"\",BG14+IF(BI14=\"XX\",VLOOKUP(\"WRONG\",Answers!BE:BH,4,FALSE),BI14)+BJ14)","v":""},{"$f":"IF($B14=\"\",\"\",UPPER(Mainframe!R13))","v":""},{"$f":"IF(BL14=\"\",\"\",IF(NOT(ISNA(VLOOKUP(BL14,Answers!BI:BL,4,FALSE))),VLOOKUP(BL14,Answers!BI:BL,4,FALSE),\"Help!\"))","v":""},null,{"$f":"IF(BM14=\"\",\"\",BK14+IF(BM14=\"XX\",VLOOKUP(\"WRONG\",Answers!BI:BL,4,FALSE),BM14)+BN14)","v":""},{"$f":"IF($B14=\"\",\"\",UPPER(Mainframe!S13))","v":""},{"$f":"IF(BP14=\"\",\"\",IF(NOT(ISNA(VLOOKUP(BP14,Answers!BM:BP,4,FALSE))),VLOOKUP(BP14,Answers!BM:BP,4,FALSE),\"Help!\"))","v":""},null,{"$f":"IF(BQ14=\"\",\"\",BO14+IF(BQ14=\"XX\",VLOOKUP(\"WRONG\",Answers!BM:BP,4,FALSE),BQ14)+BR14)","v":""},{"$f":"IF($B14=\"\",\"\",UPPER(Mainframe!T13))","v":""},{"$f":"IF(BT14=\"\",\"\",IF(NOT(ISNA(VLOOKUP(BT14,Answers!BQ:BT,4,FALSE))),VLOOKUP(BT14,Answers!BQ:BT,4,FALSE),\"Help!\"))","v":""},null,{"$f":"IF(BU14=\"\",\"\",BS14+IF(BU14=\"XX\",VLOOKUP(\"WRONG\",Answers!BQ:BT,4,FALSE),BU14)+BV14)","v":""},{"$f":"IF($B14=\"\",\"\",UPPER(Mainframe!U13))","v":""},{"$f":"IF(BX14=\"\",\"\",IF(NOT(ISNA(VLOOKUP(BX14,Answers!BU:BX,4,FALSE))),VLOOKUP(BX14,Answers!BU:BX,4,FALSE),\"Help!\"))","v":""},null,{"$f":"IF(BY14=\"\",\"\",BW14+IF(BY14=\"XX\",VLOOKUP(\"WRONG\",Answers!BU:BX,4,FALSE),BY14)+BZ14)","v":""},{"$f":"IF($B14=\"\",\"\",UPPER(Mainframe!V13))","v":""},{"$f":"IF(CB14=\"\",\"\",IF(NOT(ISNA(VLOOKUP(CB14,Answers!BY:CB,4,FALSE))),VLOOKUP(CB14,Answers!BY:CB,4,FALSE),\"Help!\"))","v":""},null,{"$f":"IF(CC14=\"\",\"\",CA14+IF(CC14=\"XX\",VLOOKUP(\"WRONG\",Answers!BY:CB,4,FALSE),CC14)+CD14)","v":""},null,null,1,{"$f":"IF(INDEX($B:$CE,ROW(),QNO*4-1)=DROPNAME,DROPNAME,IF(INDEX($B:$CE,ROW(),QNO*4-1)=SHEEPNAME,SHEEPNAME,IF(INDEX($B:$CE,ROW(),QNO*4)=\"XX\",INDEX($B:$CE,ROW(),QNO*4-1),INDEX(OFFSET(Answers!B:B,0,(QNO-1)*4),MATCH(INDEX($A:$CB,ROW(),QNO*4),OFFSET(Answers!A:A,0,(QNO-1)*4),0))&\" — \"&IF(INDEX($B:$CE,ROW(),QNO*4)=1,\"[b]Singleton![/b]\",CONCATENATE(INDEX($B:$CE,ROW(),QNO*4),\" responses\")))))","v":{"$error":"#N/A"}},"//////////////////////////////////////////////////////////////////////////////////////////////////////////////////////////////////////////////////////////////////////////////////////////////////////////////////////////////////////////","No",{"$f":"IF(B14=0,\"\",CONCATENATE(INDEX($CH:$CL,ROW(),1),\". \",INDEX($B:$CE,ROW(),1),\" — [b]\")&IF(QNO=1,CONCATENATE(INDEX($B:$CE,ROW(),QNO*4+2),\"[/b] pts\"),CONCATENATE(INDEX($B:$CE,ROW(),QNO*4-2),\" + \",IF(INDEX($B:$CE,ROW(),QNO*4)=\"XX\",INDEX(Answers!$A:$ZZ,2,QNO*4),INDEX($B:$CE,ROW(),QNO*4)),\" = \",INDEX($B:$CE,ROW(),QNO*4+2),\"[/b] pts \",IF(INDEX($C:$CE,ROW(),QNO*4)>0,\"(penalty: +\"&INDEX($C:$CE,ROW(),QNO*4)&\") \",IF(INDEX($C:$CE,ROW(),QNO*4)<0,\"(bonus: \"&INDEX($C:$CE,ROW(),QNO*4)&\") \",\"\"))&\"[[b]\"&IF(CN14>0,\"[color=#00BF00]↑\"&CN14,IF(CN14<0,\"[color=#FF0000]↓\"&ABS(CN14),\"[color=#0000FF]unch\"))&\"[/b][/color]]\")))","v":"1.  — [b][/b] pts"},1,0]
["[*]",{"$f":"IF(Mainframe!B14=\"\",\"\",INDEX(Mainframe!$B:$B,C15+1,1))","v":""},13,{"$f":"IF($B15=\"\",\"\",UPPER(Mainframe!C14))","v":""},{"$f":"IF(D15=\"\",\"\",IF(NOT(ISNA(VLOOKUP(D15,Answers!A:D,4,FALSE))),VLOOKUP(D15,Answers!A:D,4,FALSE),\"Help!\"))","v":""},null,{"$f":"IF(E15=\"\",\"\",IF(E15=\"XX\",VLOOKUP(\"WRONG\",Answers!A:D,4,FALSE),E15)+F15)","v":""},{"$f":"IF($B15=\"\",\"\",UPPER(Mainframe!D14))","v":""},{"$f":"IF(H15=\"\",\"\",IF(NOT(ISNA(VLOOKUP(H15,Answers!E:H,4,FALSE))),VLOOKUP(H15,Answers!E:H,4,FALSE),\"Help!\"))","v":""},null,{"$f":"IF(I15=\"\",\"\",G15+IF(I15=\"XX\",VLOOKUP(\"WRONG\",Answers!E:H,4,FALSE),I15)+J15)","v":""},{"$f":"IF($B15=\"\",\"\",UPPER(Mainframe!E14))","v":""},{"$f":"IF(L15=\"\",\"\",IF(NOT(ISNA(VLOOKUP(L15,Answers!I:L,4,FALSE))),VLOOKUP(L15,Answers!I:L,4,FALSE),\"Help!\"))","v":""},null,{"$f":"IF(M15=\"\",\"\",K15+IF(M15=\"XX\",VLOOKUP(\"WRONG\",Answers!I:L,4,FALSE),M15)+N15)","v":""},{"$f":"IF($B15=\"\",\"\",UPPER(Mainframe!F14))","v":""},{"$f":"IF(P15=\"\",\"\",IF(NOT(ISNA(VLOOKUP(P15,Answers!M:P,4,FALSE))),VLOOKUP(P15,Answers!M:P,4,FALSE),\"Help!\"))","v":""},null,{"$f":"IF(Q15=\"\",\"\",O15+IF(Q15=\"XX\",VLOOKUP(\"WRONG\",Answers!M:P,4,FALSE),Q15)+R15)","v":""},{"$f":"IF($B15=\"\",\"\",UPPER(Mainframe!G14))","v":""},{"$f":"IF(T15=\"\",\"\",IF(NOT(ISNA(VLOOKUP(T15,Answers!Q:T,4,FALSE))),VLOOKUP(T15,Answers!Q:T,4,FALSE),\"Help!\"))","v":""},null,{"$f":"IF(U15=\"\",\"\",S15+IF(U15=\"XX\",VLOOKUP(\"WRONG\",Answers!Q:T,4,FALSE),U15)+V15)","v":""},{"$f":"IF($B15=\"\",\"\",UPPER(Mainframe!H14))","v":""},{"$f":"IF(X15=\"\",\"\",IF(NOT(ISNA(VLOOKUP(X15,Answers!U:X,4,FALSE))),VLOOKUP(X15,Answers!U:X,4,FALSE),\"Help!\"))","v":""},null,{"$f":"IF(Y15=\"\",\"\",W15+IF(Y15=\"XX\",VLOOKUP(\"WRONG\",Answers!U:X,4,FALSE),Y15)+Z15)","v":""},{"$f":"IF($B15=\"\",\"\",UPPER(Mainframe!I14))","v":""},{"$f":"IF(AB15=\"\",\"\",IF(NOT(ISNA(VLOOKUP(AB15,Answers!Y:AB,4,FALSE))),VLOOKUP(AB15,Answers!Y:AB,4,FALSE),\"Help!\"))","v":""},null,{"$f":"IF(AC15=\"\",\"\",AA15+IF(AC15=\"XX\",VLOOKUP(\"WRONG\",Answers!Y:AB,4,FALSE),AC15)+AD15)","v":""},{"$f":"IF($B15=\"\",\"\",UPPER(Mainframe!J14))","v":""},{"$f":"IF(AF15=\"\",\"\",IF(NOT(ISNA(VLOOKUP(AF15,Answers!AC:AF,4,FALSE))),VLOOKUP(AF15,Answers!AC:AF,4,FALSE),\"Help!\"))","v":""},null,{"$f":"IF(AG15=\"\",\"\",AE15+IF(AG15=\"XX\",VLOOKUP(\"WRONG\",Answers!AC:AF,4,FALSE),AG15)+AH15)","v":""},{"$f":"IF($B15=\"\",\"\",UPPER(Mainframe!K14))","v":""},{"$f":"IF(AJ15=\"\",\"\",IF(NOT(ISNA(VLOOKUP(AJ15,Answers!AG:AJ,4,FALSE))),VLOOKUP(AJ15,Answers!AG:AJ,4,FALSE),\"Help!\"))","v":""},null,{"$f":"IF(AK15=\"\",\"\",AI15+IF(AK15=\"XX\",VLOOKUP(\"WRONG\",Answers!AG:AJ,4,FALSE),AK15)+AL15)","v":""},{"$f":"IF($B15=\"\",\"\",UPPER(Mainframe!L14))","v":""},{"$f":"IF(AN15=\"\",\"\",IF(NOT(ISNA(VLOOKUP(AN15,Answers!AK:AN,4,FALSE))),VLOOKUP(AN15,Answers!AK:AN,4,FALSE),\"Help!\"))","v":""},null,{"$f":"IF(AO15=\"\",\"\",AM15+IF(AO15=\"XX\",VLOOKUP(\"WRONG\",Answers!AK:AN,4,FALSE),AO15)+AP15)","v":""},{"$f":"IF($B15=\"\",\"\",UPPER(Mainframe!M14))","v":""},{"$f":"IF(AR15=\"\",\"\",IF(NOT(ISNA(VLOOKUP(AR15,Answers!AO:AR,4,FALSE))),VLOOKUP(AR15,Answers!AO:AR,4,FALSE),\"Help!\"))","v":""},null,{"$f":"IF(AS15=\"\",\"\",AQ15+IF(AS15=\"XX\",VLOOKUP(\"WRONG\",Answers!AO:AR,4,FALSE),AS15)+AT15)","v":""},{"$f":"IF($B15=\"\",\"\",UPPER(Mainframe!N14))","v":""},{"$f":"IF(AV15=\"\",\"\",IF(NOT(ISNA(VLOOKUP(AV15,Answers!AS:AV,4,FALSE))),VLOOKUP(AV15,Answers!AS:AV,4,FALSE),\"Help!\"))","v":""},null,{"$f":"IF(AW15=\"\",\"\",AU15+IF(AW15=\"XX\",VLOOKUP(\"WRONG\",Answers!AS:AV,4,FALSE),AW15)+AX15)","v":""},{"$f":"IF($B15=\"\",\"\",UPPER(Mainframe!O14))","v":""},{"$f":"IF(AZ15=\"\",\"\",IF(NOT(ISNA(VLOOKUP(AZ15,Answers!AW:AZ,4,FALSE))),VLOOKUP(AZ15,Answers!AW:AZ,4,FALSE),\"Help!\"))","v":""},null,{"$f":"IF(BA15=\"\",\"\",AY15+IF(BA15=\"XX\",VLOOKUP(\"WRONG\",Answers!AW:AZ,4,FALSE),BA15)+BB15)","v":""},{"$f":"IF($B15=\"\",\"\",UPPER(Mainframe!P14))","v":""},{"$f":"IF(BD15=\"\",\"\",IF(NOT(ISNA(VLOOKUP(BD15,Answers!BA:BD,4,FALSE))),VLOOKUP(BD15,Answers!BA:BD,4,FALSE),\"Help!\"))","v":""},null,{"$f":"IF(BE15=\"\",\"\",BC15+IF(BE15=\"XX\",VLOOKUP(\"WRONG\",Answers!BA:BD,4,FALSE),BE15)+BF15)","v":""},{"$f":"IF($B15=\"\",\"\",UPPER(Mainframe!Q14))","v":""},{"$f":"IF(BH15=\"\",\"\",IF(NOT(ISNA(VLOOKUP(BH15,Answers!BE:BH,4,FALSE))),VLOOKUP(BH15,Answers!BE:BH,4,FALSE),\"Help!\"))","v":""},null,{"$f":"IF(BI15=\"\",\"\",BG15+IF(BI15=\"XX\",VLOOKUP(\"WRONG\",Answers!BE:BH,4,FALSE),BI15)+BJ15)","v":""},{"$f":"IF($B15=\"\",\"\",UPPER(Mainframe!R14))","v":""},{"$f":"IF(BL15=\"\",\"\",IF(NOT(ISNA(VLOOKUP(BL15,Answers!BI:BL,4,FALSE))),VLOOKUP(BL15,Answers!BI:BL,4,FALSE),\"Help!\"))","v":""},null,{"$f":"IF(BM15=\"\",\"\",BK15+IF(BM15=\"XX\",VLOOKUP(\"WRONG\",Answers!BI:BL,4,FALSE),BM15)+BN15)","v":""},{"$f":"IF($B15=\"\",\"\",UPPER(Mainframe!S14))","v":""},{"$f":"IF(BP15=\"\",\"\",IF(NOT(ISNA(VLOOKUP(BP15,Answers!BM:BP,4,FALSE))),VLOOKUP(BP15,Answers!BM:BP,4,FALSE),\"Help!\"))","v":""},null,{"$f":"IF(BQ15=\"\",\"\",BO15+IF(BQ15=\"XX\",VLOOKUP(\"WRONG\",Answers!BM:BP,4,FALSE),BQ15)+BR15)","v":""},{"$f":"IF($B15=\"\",\"\",UPPER(Mainframe!T14))","v":""},{"$f":"IF(BT15=\"\",\"\",IF(NOT(ISNA(VLOOKUP(BT15,Answers!BQ:BT,4,FALSE))),VLOOKUP(BT15,Answers!BQ:BT,4,FALSE),\"Help!\"))","v":""},null,{"$f":"IF(BU15=\"\",\"\",BS15+IF(BU15=\"XX\",VLOOKUP(\"WRONG\",Answers!BQ:BT,4,FALSE),BU15)+BV15)","v":""},{"$f":"IF($B15=\"\",\"\",UPPER(Mainframe!U14))","v":""},{"$f":"IF(BX15=\"\",\"\",IF(NOT(ISNA(VLOOKUP(BX15,Answers!BU:BX,4,FALSE))),VLOOKUP(BX15,Answers!BU:BX,4,FALSE),\"Help!\"))","v":""},null,{"$f":"IF(BY15=\"\",\"\",BW15+IF(BY15=\"XX\",VLOOKUP(\"WRONG\",Answers!BU:BX,4,FALSE),BY15)+BZ15)","v":""},{"$f":"IF($B15=\"\",\"\",UPPER(Mainframe!V14))","v":""},{"$f":"IF(CB15=\"\",\"\",IF(NOT(ISNA(VLOOKUP(CB15,Answers!BY:CB,4,FALSE))),VLOOKUP(CB15,Answers!BY:CB,4,FALSE),\"Help!\"))","v":""},null,{"$f":"IF(CC15=\"\",\"\",CA15+IF(CC15=\"XX\",VLOOKUP(\"WRONG\",Answers!BY:CB,4,FALSE),CC15)+CD15)","v":""},null,null,1,{"$f":"IF(INDEX($B:$CE,ROW(),QNO*4-1)=DROPNAME,DROPNAME,IF(INDEX($B:$CE,ROW(),QNO*4-1)=SHEEPNAME,SHEEPNAME,IF(INDEX($B:$CE,ROW(),QNO*4)=\"XX\",INDEX($B:$CE,ROW(),QNO*4-1),INDEX(OFFSET(Answers!B:B,0,(QNO-1)*4),MATCH(INDEX($A:$CB,ROW(),QNO*4),OFFSET(Answers!A:A,0,(QNO-1)*4),0))&\" — \"&IF(INDEX($B:$CE,ROW(),QNO*4)=1,\"[b]Singleton![/b]\",CONCATENATE(INDEX($B:$CE,ROW(),QNO*4),\" responses\")))))","v":{"$error":"#N/A"}},"////////////////////////////////////////////////////////////////////////////////////////////////////////////////////////////////////////////////////////////////////////////////////////////////////////////////////////////////////////","No",{"$f":"IF(B15=0,\"\",CONCATENATE(INDEX($CH:$CL,ROW(),1),\". \",INDEX($B:$CE,ROW(),1),\" — [b]\")&IF(QNO=1,CONCATENATE(INDEX($B:$CE,ROW(),QNO*4+2),\"[/b] pts\"),CONCATENATE(INDEX($B:$CE,ROW(),QNO*4-2),\" + \",IF(INDEX($B:$CE,ROW(),QNO*4)=\"XX\",INDEX(Answers!$A:$ZZ,2,QNO*4),INDEX($B:$CE,ROW(),QNO*4)),\" = \",INDEX($B:$CE,ROW(),QNO*4+2),\"[/b] pts \",IF(INDEX($C:$CE,ROW(),QNO*4)>0,\"(penalty: +\"&INDEX($C:$CE,ROW(),QNO*4)&\") \",IF(INDEX($C:$CE,ROW(),QNO*4)<0,\"(bonus: \"&INDEX($C:$CE,ROW(),QNO*4)&\") \",\"\"))&\"[[b]\"&IF(CN15>0,\"[color=#00BF00]↑\"&CN15,IF(CN15<0,\"[color=#FF0000]↓\"&ABS(CN15),\"[color=#0000FF]unch\"))&\"[/b][/color]]\")))","v":"1.  — [b][/b] pts"},1,0]
["[*]",{"$f":"IF(Mainframe!B15=\"\",\"\",INDEX(Mainframe!$B:$B,C16+1,1))","v":""},14,{"$f":"IF($B16=\"\",\"\",UPPER(Mainframe!C15))","v":""},{"$f":"IF(D16=\"\",\"\",IF(NOT(ISNA(VLOOKUP(D16,Answers!A:D,4,FALSE))),VLOOKUP(D16,Answers!A:D,4,FALSE),\"Help!\"))","v":""},null,{"$f":"IF(E16=\"\",\"\",IF(E16=\"XX\",VLOOKUP(\"WRONG\",Answers!A:D,4,FALSE),E16)+F16)","v":""},{"$f":"IF($B16=\"\",\"\",UPPER(Mainframe!D15))","v":""},{"$f":"IF(H16=\"\",\"\",IF(NOT(ISNA(VLOOKUP(H16,Answers!E:H,4,FALSE))),VLOOKUP(H16,Answers!E:H,4,FALSE),\"Help!\"))","v":""},null,{"$f":"IF(I16=\"\",\"\",G16+IF(I16=\"XX\",VLOOKUP(\"WRONG\",Answers!E:H,4,FALSE),I16)+J16)","v":""},{"$f":"IF($B16=\"\",\"\",UPPER(Mainframe!E15))","v":""},{"$f":"IF(L16=\"\",\"\",IF(NOT(ISNA(VLOOKUP(L16,Answers!I:L,4,FALSE))),VLOOKUP(L16,Answers!I:L,4,FALSE),\"Help!\"))","v":""},null,{"$f":"IF(M16=\"\",\"\",K16+IF(M16=\"XX\",VLOOKUP(\"WRONG\",Answers!I:L,4,FALSE),M16)+N16)","v":""},{"$f":"IF($B16=\"\",\"\",UPPER(Mainframe!F15))","v":""},{"$f":"IF(P16=\"\",\"\",IF(NOT(ISNA(VLOOKUP(P16,Answers!M:P,4,FALSE))),VLOOKUP(P16,Answers!M:P,4,FALSE),\"Help!\"))","v":""},null,{"$f":"IF(Q16=\"\",\"\",O16+IF(Q16=\"XX\",VLOOKUP(\"WRONG\",Answers!M:P,4,FALSE),Q16)+R16)","v":""},{"$f":"IF($B16=\"\",\"\",UPPER(Mainframe!G15))","v":""},{"$f":"IF(T16=\"\",\"\",IF(NOT(ISNA(VLOOKUP(T16,Answers!Q:T,4,FALSE))),VLOOKUP(T16,Answers!Q:T,4,FALSE),\"Help!\"))","v":""},null,{"$f":"IF(U16=\"\",\"\",S16+IF(U16=\"XX\",VLOOKUP(\"WRONG\",Answers!Q:T,4,FALSE),U16)+V16)","v":""},{"$f":"IF($B16=\"\",\"\",UPPER(Mainframe!H15))","v":""},{"$f":"IF(X16=\"\",\"\",IF(NOT(ISNA(VLOOKUP(X16,Answers!U:X,4,FALSE))),VLOOKUP(X16,Answers!U:X,4,FALSE),\"Help!\"))","v":""},null,{"$f":"IF(Y16=\"\",\"\",W16+IF(Y16=\"XX\",VLOOKUP(\"WRONG\",Answers!U:X,4,FALSE),Y16)+Z16)","v":""},{"$f":"IF($B16=\"\",\"\",UPPER(Mainframe!I15))","v":""},{"$f":"IF(AB16=\"\",\"\",IF(NOT(ISNA(VLOOKUP(AB16,Answers!Y:AB,4,FALSE))),VLOOKUP(AB16,Answers!Y:AB,4,FALSE),\"Help!\"))","v":""},null,{"$f":"IF(AC16=\"\",\"\",AA16+IF(AC16=\"XX\",VLOOKUP(\"WRONG\",Answers!Y:AB,4,FALSE),AC16)+AD16)","v":""},{"$f":"IF($B16=\"\",\"\",UPPER(Mainframe!J15))","v":""},{"$f":"IF(AF16=\"\",\"\",IF(NOT(ISNA(VLOOKUP(AF16,Answers!AC:AF,4,FALSE))),VLOOKUP(AF16,Answers!AC:AF,4,FALSE),\"Help!\"))","v":""},null,{"$f":"IF(AG16=\"\",\"\",AE16+IF(AG16=\"XX\",VLOOKUP(\"WRONG\",Answers!AC:AF,4,FALSE),AG16)+AH16)","v":""},{"$f":"IF($B16=\"\",\"\",UPPER(Mainframe!K15))","v":""},{"$f":"IF(AJ16=\"\",\"\",IF(NOT(ISNA(VLOOKUP(AJ16,Answers!AG:AJ,4,FALSE))),VLOOKUP(AJ16,Answers!AG:AJ,4,FALSE),\"Help!\"))","v":""},null,{"$f":"IF(AK16=\"\",\"\",AI16+IF(AK16=\"XX\",VLOOKUP(\"WRONG\",Answers!AG:AJ,4,FALSE),AK16)+AL16)","v":""},{"$f":"IF($B16=\"\",\"\",UPPER(Mainframe!L15))","v":""},{"$f":"IF(AN16=\"\",\"\",IF(NOT(ISNA(VLOOKUP(AN16,Answers!AK:AN,4,FALSE))),VLOOKUP(AN16,Answers!AK:AN,4,FALSE),\"Help!\"))","v":""},null,{"$f":"IF(AO16=\"\",\"\",AM16+IF(AO16=\"XX\",VLOOKUP(\"WRONG\",Answers!AK:AN,4,FALSE),AO16)+AP16)","v":""},{"$f":"IF($B16=\"\",\"\",UPPER(Mainframe!M15))","v":""},{"$f":"IF(AR16=\"\",\"\",IF(NOT(ISNA(VLOOKUP(AR16,Answers!AO:AR,4,FALSE))),VLOOKUP(AR16,Answers!AO:AR,4,FALSE),\"Help!\"))","v":""},null,{"$f":"IF(AS16=\"\",\"\",AQ16+IF(AS16=\"XX\",VLOOKUP(\"WRONG\",Answers!AO:AR,4,FALSE),AS16)+AT16)","v":""},{"$f":"IF($B16=\"\",\"\",UPPER(Mainframe!N15))","v":""},{"$f":"IF(AV16=\"\",\"\",IF(NOT(ISNA(VLOOKUP(AV16,Answers!AS:AV,4,FALSE))),VLOOKUP(AV16,Answers!AS:AV,4,FALSE),\"Help!\"))","v":""},null,{"$f":"IF(AW16=\"\",\"\",AU16+IF(AW16=\"XX\",VLOOKUP(\"WRONG\",Answers!AS:AV,4,FALSE),AW16)+AX16)","v":""},{"$f":"IF($B16=\"\",\"\",UPPER(Mainframe!O15))","v":""},{"$f":"IF(AZ16=\"\",\"\",IF(NOT(ISNA(VLOOKUP(AZ16,Answers!AW:AZ,4,FALSE))),VLOOKUP(AZ16,Answers!AW:AZ,4,FALSE),\"Help!\"))","v":""},null,{"$f":"IF(BA16=\"\",\"\",AY16+IF(BA16=\"XX\",VLOOKUP(\"WRONG\",Answers!AW:AZ,4,FALSE),BA16)+BB16)","v":""},{"$f":"IF($B16=\"\",\"\",UPPER(Mainframe!P15))","v":""},{"$f":"IF(BD16=\"\",\"\",IF(NOT(ISNA(VLOOKUP(BD16,Answers!BA:BD,4,FALSE))),VLOOKUP(BD16,Answers!BA:BD,4,FALSE),\"Help!\"))","v":""},null,{"$f":"IF(BE16=\"\",\"\",BC16+IF(BE16=\"XX\",VLOOKUP(\"WRONG\",Answers!BA:BD,4,FALSE),BE16)+BF16)","v":""},{"$f":"IF($B16=\"\",\"\",UPPER(Mainframe!Q15))","v":""},{"$f":"IF(BH16=\"\",\"\",IF(NOT(ISNA(VLOOKUP(BH16,Answers!BE:BH,4,FALSE))),VLOOKUP(BH16,Answers!BE:BH,4,FALSE),\"Help!\"))","v":""},null,{"$f":"IF(BI16=\"\",\"\",BG16+IF(BI16=\"XX\",VLOOKUP(\"WRONG\",Answers!BE:BH,4,FALSE),BI16)+BJ16)","v":""},{"$f":"IF($B16=\"\",\"\",UPPER(Mainframe!R15))","v":""},{"$f":"IF(BL16=\"\",\"\",IF(NOT(ISNA(VLOOKUP(BL16,Answers!BI:BL,4,FALSE))),VLOOKUP(BL16,Answers!BI:BL,4,FALSE),\"Help!\"))","v":""},null,{"$f":"IF(BM16=\"\",\"\",BK16+IF(BM16=\"XX\",VLOOKUP(\"WRONG\",Answers!BI:BL,4,FALSE),BM16)+BN16)","v":""},{"$f":"IF($B16=\"\",\"\",UPPER(Mainframe!S15))","v":""},{"$f":"IF(BP16=\"\",\"\",IF(NOT(ISNA(VLOOKUP(BP16,Answers!BM:BP,4,FALSE))),VLOOKUP(BP16,Answers!BM:BP,4,FALSE),\"Help!\"))","v":""},null,{"$f":"IF(BQ16=\"\",\"\",BO16+IF(BQ16=\"XX\",VLOOKUP(\"WRONG\",Answers!BM:BP,4,FALSE),BQ16)+BR16)","v":""},{"$f":"IF($B16=\"\",\"\",UPPER(Mainframe!T15))","v":""},{"$f":"IF(BT16=\"\",\"\",IF(NOT(ISNA(VLOOKUP(BT16,Answers!BQ:BT,4,FALSE))),VLOOKUP(BT16,Answers!BQ:BT,4,FALSE),\"Help!\"))","v":""},null,{"$f":"IF(BU16=\"\",\"\",BS16+IF(BU16=\"XX\",VLOOKUP(\"WRONG\",Answers!BQ:BT,4,FALSE),BU16)+BV16)","v":""},{"$f":"IF($B16=\"\",\"\",UPPER(Mainframe!U15))","v":""},{"$f":"IF(BX16=\"\",\"\",IF(NOT(ISNA(VLOOKUP(BX16,Answers!BU:BX,4,FALSE))),VLOOKUP(BX16,Answers!BU:BX,4,FALSE),\"Help!\"))","v":""},null,{"$f":"IF(BY16=\"\",\"\",BW16+IF(BY16=\"XX\",VLOOKUP(\"WRONG\",Answers!BU:BX,4,FALSE),BY16)+BZ16)","v":""},{"$f":"IF($B16=\"\",\"\",UPPER(Mainframe!V15))","v":""},{"$f":"IF(CB16=\"\",\"\",IF(NOT(ISNA(VLOOKUP(CB16,Answers!BY:CB,4,FALSE))),VLOOKUP(CB16,Answers!BY:CB,4,FALSE),\"Help!\"))","v":""},null,{"$f":"IF(CC16=\"\",\"\",CA16+IF(CC16=\"XX\",VLOOKUP(\"WRONG\",Answers!BY:CB,4,FALSE),CC16)+CD16)","v":""},null,null,1,{"$f":"IF(INDEX($B:$CE,ROW(),QNO*4-1)=DROPNAME,DROPNAME,IF(INDEX($B:$CE,ROW(),QNO*4-1)=SHEEPNAME,SHEEPNAME,IF(INDEX($B:$CE,ROW(),QNO*4)=\"XX\",INDEX($B:$CE,ROW(),QNO*4-1),INDEX(OFFSET(Answers!B:B,0,(QNO-1)*4),MATCH(INDEX($A:$CB,ROW(),QNO*4),OFFSET(Answers!A:A,0,(QNO-1)*4),0))&\" — \"&IF(INDEX($B:$CE,ROW(),QNO*4)=1,\"[b]Singleton![/b]\",CONCATENATE(INDEX($B:$CE,ROW(),QNO*4),\" responses\")))))","v":{"$error":"#N/A"}},"//////////////////////////////////////////////////////////////////////////////////////////////////////////////////////////////////////////////////////////////////////////////////////////////////////////////////////////////////////","No",{"$f":"IF(B16=0,\"\",CONCATENATE(INDEX($CH:$CL,ROW(),1),\". \",INDEX($B:$CE,ROW(),1),\" — [b]\")&IF(QNO=1,CONCATENATE(INDEX($B:$CE,ROW(),QNO*4+2),\"[/b] pts\"),CONCATENATE(INDEX($B:$CE,ROW(),QNO*4-2),\" + \",IF(INDEX($B:$CE,ROW(),QNO*4)=\"XX\",INDEX(Answers!$A:$ZZ,2,QNO*4),INDEX($B:$CE,ROW(),QNO*4)),\" = \",INDEX($B:$CE,ROW(),QNO*4+2),\"[/b] pts \",IF(INDEX($C:$CE,ROW(),QNO*4)>0,\"(penalty: +\"&INDEX($C:$CE,ROW(),QNO*4)&\") \",IF(INDEX($C:$CE,ROW(),QNO*4)<0,\"(bonus: \"&INDEX($C:$CE,ROW(),QNO*4)&\") \",\"\"))&\"[[b]\"&IF(CN16>0,\"[color=#00BF00]↑\"&CN16,IF(CN16<0,\"[color=#FF0000]↓\"&ABS(CN16),\"[color=#0000FF]unch\"))&\"[/b][/color]]\")))","v":"1.  — [b][/b] pts"},1,0]
["[*]",{"$f":"IF(Mainframe!B16=\"\",\"\",INDEX(Mainframe!$B:$B,C17+1,1))","v":""},15,{"$f":"IF($B17=\"\",\"\",UPPER(Mainframe!C16))","v":""},{"$f":"IF(D17=\"\",\"\",IF(NOT(ISNA(VLOOKUP(D17,Answers!A:D,4,FALSE))),VLOOKUP(D17,Answers!A:D,4,FALSE),\"Help!\"))","v":""},null,{"$f":"IF(E17=\"\",\"\",IF(E17=\"XX\",VLOOKUP(\"WRONG\",Answers!A:D,4,FALSE),E17)+F17)","v":""},{"$f":"IF($B17=\"\",\"\",UPPER(Mainframe!D16))","v":""},{"$f":"IF(H17=\"\",\"\",IF(NOT(ISNA(VLOOKUP(H17,Answers!E:H,4,FALSE))),VLOOKUP(H17,Answers!E:H,4,FALSE),\"Help!\"))","v":""},null,{"$f":"IF(I17=\"\",\"\",G17+IF(I17=\"XX\",VLOOKUP(\"WRONG\",Answers!E:H,4,FALSE),I17)+J17)","v":""},{"$f":"IF($B17=\"\",\"\",UPPER(Mainframe!E16))","v":""},{"$f":"IF(L17=\"\",\"\",IF(NOT(ISNA(VLOOKUP(L17,Answers!I:L,4,FALSE))),VLOOKUP(L17,Answers!I:L,4,FALSE),\"Help!\"))","v":""},null,{"$f":"IF(M17=\"\",\"\",K17+IF(M17=\"XX\",VLOOKUP(\"WRONG\",Answers!I:L,4,FALSE),M17)+N17)","v":""},{"$f":"IF($B17=\"\",\"\",UPPER(Mainframe!F16))","v":""},{"$f":"IF(P17=\"\",\"\",IF(NOT(ISNA(VLOOKUP(P17,Answers!M:P,4,FALSE))),VLOOKUP(P17,Answers!M:P,4,FALSE),\"Help!\"))","v":""},null,{"$f":"IF(Q17=\"\",\"\",O17+IF(Q17=\"XX\",VLOOKUP(\"WRONG\",Answers!M:P,4,FALSE),Q17)+R17)","v":""},{"$f":"IF($B17=\"\",\"\",UPPER(Mainframe!G16))","v":""},{"$f":"IF(T17=\"\",\"\",IF(NOT(ISNA(VLOOKUP(T17,Answers!Q:T,4,FALSE))),VLOOKUP(T17,Answers!Q:T,4,FALSE),\"Help!\"))","v":""},null,{"$f":"IF(U17=\"\",\"\",S17+IF(U17=\"XX\",VLOOKUP(\"WRONG\",Answers!Q:T,4,FALSE),U17)+V17)","v":""},{"$f":"IF($B17=\"\",\"\",UPPER(Mainframe!H16))","v":""},{"$f":"IF(X17=\"\",\"\",IF(NOT(ISNA(VLOOKUP(X17,Answers!U:X,4,FALSE))),VLOOKUP(X17,Answers!U:X,4,FALSE),\"Help!\"))","v":""},null,{"$f":"IF(Y17=\"\",\"\",W17+IF(Y17=\"XX\",VLOOKUP(\"WRONG\",Answers!U:X,4,FALSE),Y17)+Z17)","v":""},{"$f":"IF($B17=\"\",\"\",UPPER(Mainframe!I16))","v":""},{"$f":"IF(AB17=\"\",\"\",IF(NOT(ISNA(VLOOKUP(AB17,Answers!Y:AB,4,FALSE))),VLOOKUP(AB17,Answers!Y:AB,4,FALSE),\"Help!\"))","v":""},null,{"$f":"IF(AC17=\"\",\"\",AA17+IF(AC17=\"XX\",VLOOKUP(\"WRONG\",Answers!Y:AB,4,FALSE),AC17)+AD17)","v":""},{"$f":"IF($B17=\"\",\"\",UPPER(Mainframe!J16))","v":""},{"$f":"IF(AF17=\"\",\"\",IF(NOT(ISNA(VLOOKUP(AF17,Answers!AC:AF,4,FALSE))),VLOOKUP(AF17,Answers!AC:AF,4,FALSE),\"Help!\"))","v":""},null,{"$f":"IF(AG17=\"\",\"\",AE17+IF(AG17=\"XX\",VLOOKUP(\"WRONG\",Answers!AC:AF,4,FALSE),AG17)+AH17)","v":""},{"$f":"IF($B17=\"\",\"\",UPPER(Mainframe!K16))","v":""},{"$f":"IF(AJ17=\"\",\"\",IF(NOT(ISNA(VLOOKUP(AJ17,Answers!AG:AJ,4,FALSE))),VLOOKUP(AJ17,Answers!AG:AJ,4,FALSE),\"Help!\"))","v":""},null,{"$f":"IF(AK17=\"\",\"\",AI17+IF(AK17=\"XX\",VLOOKUP(\"WRONG\",Answers!AG:AJ,4,FALSE),AK17)+AL17)","v":""},{"$f":"IF($B17=\"\",\"\",UPPER(Mainframe!L16))","v":""},{"$f":"IF(AN17=\"\",\"\",IF(NOT(ISNA(VLOOKUP(AN17,Answers!AK:AN,4,FALSE))),VLOOKUP(AN17,Answers!AK:AN,4,FALSE),\"Help!\"))","v":""},null,{"$f":"IF(AO17=\"\",\"\",AM17+IF(AO17=\"XX\",VLOOKUP(\"WRONG\",Answers!AK:AN,4,FALSE),AO17)+AP17)","v":""},{"$f":"IF($B17=\"\",\"\",UPPER(Mainframe!M16))","v":""},{"$f":"IF(AR17=\"\",\"\",IF(NOT(ISNA(VLOOKUP(AR17,Answers!AO:AR,4,FALSE))),VLOOKUP(AR17,Answers!AO:AR,4,FALSE),\"Help!\"))","v":""},null,{"$f":"IF(AS17=\"\",\"\",AQ17+IF(AS17=\"XX\",VLOOKUP(\"WRONG\",Answers!AO:AR,4,FALSE),AS17)+AT17)","v":""},{"$f":"IF($B17=\"\",\"\",UPPER(Mainframe!N16))","v":""},{"$f":"IF(AV17=\"\",\"\",IF(NOT(ISNA(VLOOKUP(AV17,Answers!AS:AV,4,FALSE))),VLOOKUP(AV17,Answers!AS:AV,4,FALSE),\"Help!\"))","v":""},null,{"$f":"IF(AW17=\"\",\"\",AU17+IF(AW17=\"XX\",VLOOKUP(\"WRONG\",Answers!AS:AV,4,FALSE),AW17)+AX17)","v":""},{"$f":"IF($B17=\"\",\"\",UPPER(Mainframe!O16))","v":""},{"$f":"IF(AZ17=\"\",\"\",IF(NOT(ISNA(VLOOKUP(AZ17,Answers!AW:AZ,4,FALSE))),VLOOKUP(AZ17,Answers!AW:AZ,4,FALSE),\"Help!\"))","v":""},null,{"$f":"IF(BA17=\"\",\"\",AY17+IF(BA17=\"XX\",VLOOKUP(\"WRONG\",Answers!AW:AZ,4,FALSE),BA17)+BB17)","v":""},{"$f":"IF($B17=\"\",\"\",UPPER(Mainframe!P16))","v":""},{"$f":"IF(BD17=\"\",\"\",IF(NOT(ISNA(VLOOKUP(BD17,Answers!BA:BD,4,FALSE))),VLOOKUP(BD17,Answers!BA:BD,4,FALSE),\"Help!\"))","v":""},null,{"$f":"IF(BE17=\"\",\"\",BC17+IF(BE17=\"XX\",VLOOKUP(\"WRONG\",Answers!BA:BD,4,FALSE),BE17)+BF17)","v":""},{"$f":"IF($B17=\"\",\"\",UPPER(Mainframe!Q16))","v":""},{"$f":"IF(BH17=\"\",\"\",IF(NOT(ISNA(VLOOKUP(BH17,Answers!BE:BH,4,FALSE))),VLOOKUP(BH17,Answers!BE:BH,4,FALSE),\"Help!\"))","v":""},null,{"$f":"IF(BI17=\"\",\"\",BG17+IF(BI17=\"XX\",VLOOKUP(\"WRONG\",Answers!BE:BH,4,FALSE),BI17)+BJ17)","v":""},{"$f":"IF($B17=\"\",\"\",UPPER(Mainframe!R16))","v":""},{"$f":"IF(BL17=\"\",\"\",IF(NOT(ISNA(VLOOKUP(BL17,Answers!BI:BL,4,FALSE))),VLOOKUP(BL17,Answers!BI:BL,4,FALSE),\"Help!\"))","v":""},null,{"$f":"IF(BM17=\"\",\"\",BK17+IF(BM17=\"XX\",VLOOKUP(\"WRONG\",Answers!BI:BL,4,FALSE),BM17)+BN17)","v":""},{"$f":"IF($B17=\"\",\"\",UPPER(Mainframe!S16))","v":""},{"$f":"IF(BP17=\"\",\"\",IF(NOT(ISNA(VLOOKUP(BP17,Answers!BM:BP,4,FALSE))),VLOOKUP(BP17,Answers!BM:BP,4,FALSE),\"Help!\"))","v":""},null,{"$f":"IF(BQ17=\"\",\"\",BO17+IF(BQ17=\"XX\",VLOOKUP(\"WRONG\",Answers!BM:BP,4,FALSE),BQ17)+BR17)","v":""},{"$f":"IF($B17=\"\",\"\",UPPER(Mainframe!T16))","v":""},{"$f":"IF(BT17=\"\",\"\",IF(NOT(ISNA(VLOOKUP(BT17,Answers!BQ:BT,4,FALSE))),VLOOKUP(BT17,Answers!BQ:BT,4,FALSE),\"Help!\"))","v":""},null,{"$f":"IF(BU17=\"\",\"\",BS17+IF(BU17=\"XX\",VLOOKUP(\"WRONG\",Answers!BQ:BT,4,FALSE),BU17)+BV17)","v":""},{"$f":"IF($B17=\"\",\"\",UPPER(Mainframe!U16))","v":""},{"$f":"IF(BX17=\"\",\"\",IF(NOT(ISNA(VLOOKUP(BX17,Answers!BU:BX,4,FALSE))),VLOOKUP(BX17,Answers!BU:BX,4,FALSE),\"Help!\"))","v":""},null,{"$f":"IF(BY17=\"\",\"\",BW17+IF(BY17=\"XX\",VLOOKUP(\"WRONG\",Answers!BU:BX,4,FALSE),BY17)+BZ17)","v":""},{"$f":"IF($B17=\"\",\"\",UPPER(Mainframe!V16))","v":""},{"$f":"IF(CB17=\"\",\"\",IF(NOT(ISNA(VLOOKUP(CB17,Answers!BY:CB,4,FALSE))),VLOOKUP(CB17,Answers!BY:CB,4,FALSE),\"Help!\"))","v":""},null,{"$f":"IF(CC17=\"\",\"\",CA17+IF(CC17=\"XX\",VLOOKUP(\"WRONG\",Answers!BY:CB,4,FALSE),CC17)+CD17)","v":""},null,null,1,{"$f":"IF(INDEX($B:$CE,ROW(),QNO*4-1)=DROPNAME,DROPNAME,IF(INDEX($B:$CE,ROW(),QNO*4-1)=SHEEPNAME,SHEEPNAME,IF(INDEX($B:$CE,ROW(),QNO*4)=\"XX\",INDEX($B:$CE,ROW(),QNO*4-1),INDEX(OFFSET(Answers!B:B,0,(QNO-1)*4),MATCH(INDEX($A:$CB,ROW(),QNO*4),OFFSET(Answers!A:A,0,(QNO-1)*4),0))&\" — \"&IF(INDEX($B:$CE,ROW(),QNO*4)=1,\"[b]Singleton![/b]\",CONCATENATE(INDEX($B:$CE,ROW(),QNO*4),\" responses\")))))","v":{"$error":"#N/A"}},"////////////////////////////////////////////////////////////////////////////////////////////////////////////////////////////////////////////////////////////////////////////////////////////////////////////////////////////////////","No",{"$f":"IF(B17=0,\"\",CONCATENATE(INDEX($CH:$CL,ROW(),1),\". \",INDEX($B:$CE,ROW(),1),\" — [b]\")&IF(QNO=1,CONCATENATE(INDEX($B:$CE,ROW(),QNO*4+2),\"[/b] pts\"),CONCATENATE(INDEX($B:$CE,ROW(),QNO*4-2),\" + \",IF(INDEX($B:$CE,ROW(),QNO*4)=\"XX\",INDEX(Answers!$A:$ZZ,2,QNO*4),INDEX($B:$CE,ROW(),QNO*4)),\" = \",INDEX($B:$CE,ROW(),QNO*4+2),\"[/b] pts \",IF(INDEX($C:$CE,ROW(),QNO*4)>0,\"(penalty: +\"&INDEX($C:$CE,ROW(),QNO*4)&\") \",IF(INDEX($C:$CE,ROW(),QNO*4)<0,\"(bonus: \"&INDEX($C:$CE,ROW(),QNO*4)&\") \",\"\"))&\"[[b]\"&IF(CN17>0,\"[color=#00BF00]↑\"&CN17,IF(CN17<0,\"[color=#FF0000]↓\"&ABS(CN17),\"[color=#0000FF]unch\"))&\"[/b][/color]]\")))","v":"1.  — [b][/b] pts"},1,0]
["[*]",{"$f":"IF(Mainframe!B17=\"\",\"\",INDEX(Mainframe!$B:$B,C18+1,1))","v":""},16,{"$f":"IF($B18=\"\",\"\",UPPER(Mainframe!C17))","v":""},{"$f":"IF(D18=\"\",\"\",IF(NOT(ISNA(VLOOKUP(D18,Answers!A:D,4,FALSE))),VLOOKUP(D18,Answers!A:D,4,FALSE),\"Help!\"))","v":""},null,{"$f":"IF(E18=\"\",\"\",IF(E18=\"XX\",VLOOKUP(\"WRONG\",Answers!A:D,4,FALSE),E18)+F18)","v":""},{"$f":"IF($B18=\"\",\"\",UPPER(Mainframe!D17))","v":""},{"$f":"IF(H18=\"\",\"\",IF(NOT(ISNA(VLOOKUP(H18,Answers!E:H,4,FALSE))),VLOOKUP(H18,Answers!E:H,4,FALSE),\"Help!\"))","v":""},null,{"$f":"IF(I18=\"\",\"\",G18+IF(I18=\"XX\",VLOOKUP(\"WRONG\",Answers!E:H,4,FALSE),I18)+J18)","v":""},{"$f":"IF($B18=\"\",\"\",UPPER(Mainframe!E17))","v":""},{"$f":"IF(L18=\"\",\"\",IF(NOT(ISNA(VLOOKUP(L18,Answers!I:L,4,FALSE))),VLOOKUP(L18,Answers!I:L,4,FALSE),\"Help!\"))","v":""},null,{"$f":"IF(M18=\"\",\"\",K18+IF(M18=\"XX\",VLOOKUP(\"WRONG\",Answers!I:L,4,FALSE),M18)+N18)","v":""},{"$f":"IF($B18=\"\",\"\",UPPER(Mainframe!F17))","v":""},{"$f":"IF(P18=\"\",\"\",IF(NOT(ISNA(VLOOKUP(P18,Answers!M:P,4,FALSE))),VLOOKUP(P18,Answers!M:P,4,FALSE),\"Help!\"))","v":""},null,{"$f":"IF(Q18=\"\",\"\",O18+IF(Q18=\"XX\",VLOOKUP(\"WRONG\",Answers!M:P,4,FALSE),Q18)+R18)","v":""},{"$f":"IF($B18=\"\",\"\",UPPER(Mainframe!G17))","v":""},{"$f":"IF(T18=\"\",\"\",IF(NOT(ISNA(VLOOKUP(T18,Answers!Q:T,4,FALSE))),VLOOKUP(T18,Answers!Q:T,4,FALSE),\"Help!\"))","v":""},null,{"$f":"IF(U18=\"\",\"\",S18+IF(U18=\"XX\",VLOOKUP(\"WRONG\",Answers!Q:T,4,FALSE),U18)+V18)","v":""},{"$f":"IF($B18=\"\",\"\",UPPER(Mainframe!H17))","v":""},{"$f":"IF(X18=\"\",\"\",IF(NOT(ISNA(VLOOKUP(X18,Answers!U:X,4,FALSE))),VLOOKUP(X18,Answers!U:X,4,FALSE),\"Help!\"))","v":""},null,{"$f":"IF(Y18=\"\",\"\",W18+IF(Y18=\"XX\",VLOOKUP(\"WRONG\",Answers!U:X,4,FALSE),Y18)+Z18)","v":""},{"$f":"IF($B18=\"\",\"\",UPPER(Mainframe!I17))","v":""},{"$f":"IF(AB18=\"\",\"\",IF(NOT(ISNA(VLOOKUP(AB18,Answers!Y:AB,4,FALSE))),VLOOKUP(AB18,Answers!Y:AB,4,FALSE),\"Help!\"))","v":""},null,{"$f":"IF(AC18=\"\",\"\",AA18+IF(AC18=\"XX\",VLOOKUP(\"WRONG\",Answers!Y:AB,4,FALSE),AC18)+AD18)","v":""},{"$f":"IF($B18=\"\",\"\",UPPER(Mainframe!J17))","v":""},{"$f":"IF(AF18=\"\",\"\",IF(NOT(ISNA(VLOOKUP(AF18,Answers!AC:AF,4,FALSE))),VLOOKUP(AF18,Answers!AC:AF,4,FALSE),\"Help!\"))","v":""},null,{"$f":"IF(AG18=\"\",\"\",AE18+IF(AG18=\"XX\",VLOOKUP(\"WRONG\",Answers!AC:AF,4,FALSE),AG18)+AH18)","v":""},{"$f":"IF($B18=\"\",\"\",UPPER(Mainframe!K17))","v":""},{"$f":"IF(AJ18=\"\",\"\",IF(NOT(ISNA(VLOOKUP(AJ18,Answers!AG:AJ,4,FALSE))),VLOOKUP(AJ18,Answers!AG:AJ,4,FALSE),\"Help!\"))","v":""},null,{"$f":"IF(AK18=\"\",\"\",AI18+IF(AK18=\"XX\",VLOOKUP(\"WRONG\",Answers!AG:AJ,4,FALSE),AK18)+AL18)","v":""},{"$f":"IF($B18=\"\",\"\",UPPER(Mainframe!L17))","v":""},{"$f":"IF(AN18=\"\",\"\",IF(NOT(ISNA(VLOOKUP(AN18,Answers!AK:AN,4,FALSE))),VLOOKUP(AN18,Answers!AK:AN,4,FALSE),\"Help!\"))","v":""},null,{"$f":"IF(AO18=\"\",\"\",AM18+IF(AO18=\"XX\",VLOOKUP(\"WRONG\",Answers!AK:AN,4,FALSE),AO18)+AP18)","v":""},{"$f":"IF($B18=\"\",\"\",UPPER(Mainframe!M17))","v":""},{"$f":"IF(AR18=\"\",\"\",IF(NOT(ISNA(VLOOKUP(AR18,Answers!AO:AR,4,FALSE))),VLOOKUP(AR18,Answers!AO:AR,4,FALSE),\"Help!\"))","v":""},null,{"$f":"IF(AS18=\"\",\"\",AQ18+IF(AS18=\"XX\",VLOOKUP(\"WRONG\",Answers!AO:AR,4,FALSE),AS18)+AT18)","v":""},{"$f":"IF($B18=\"\",\"\",UPPER(Mainframe!N17))","v":""},{"$f":"IF(AV18=\"\",\"\",IF(NOT(ISNA(VLOOKUP(AV18,Answers!AS:AV,4,FALSE))),VLOOKUP(AV18,Answers!AS:AV,4,FALSE),\"Help!\"))","v":""},null,{"$f":"IF(AW18=\"\",\"\",AU18+IF(AW18=\"XX\",VLOOKUP(\"WRONG\",Answers!AS:AV,4,FALSE),AW18)+AX18)","v":""},{"$f":"IF($B18=\"\",\"\",UPPER(Mainframe!O17))","v":""},{"$f":"IF(AZ18=\"\",\"\",IF(NOT(ISNA(VLOOKUP(AZ18,Answers!AW:AZ,4,FALSE))),VLOOKUP(AZ18,Answers!AW:AZ,4,FALSE),\"Help!\"))","v":""},null,{"$f":"IF(BA18=\"\",\"\",AY18+IF(BA18=\"XX\",VLOOKUP(\"WRONG\",Answers!AW:AZ,4,FALSE),BA18)+BB18)","v":""},{"$f":"IF($B18=\"\",\"\",UPPER(Mainframe!P17))","v":""},{"$f":"IF(BD18=\"\",\"\",IF(NOT(ISNA(VLOOKUP(BD18,Answers!BA:BD,4,FALSE))),VLOOKUP(BD18,Answers!BA:BD,4,FALSE),\"Help!\"))","v":""},null,{"$f":"IF(BE18=\"\",\"\",BC18+IF(BE18=\"XX\",VLOOKUP(\"WRONG\",Answers!BA:BD,4,FALSE),BE18)+BF18)","v":""},{"$f":"IF($B18=\"\",\"\",UPPER(Mainframe!Q17))","v":""},{"$f":"IF(BH18=\"\",\"\",IF(NOT(ISNA(VLOOKUP(BH18,Answers!BE:BH,4,FALSE))),VLOOKUP(BH18,Answers!BE:BH,4,FALSE),\"Help!\"))","v":""},null,{"$f":"IF(BI18=\"\",\"\",BG18+IF(BI18=\"XX\",VLOOKUP(\"WRONG\",Answers!BE:BH,4,FALSE),BI18)+BJ18)","v":""},{"$f":"IF($B18=\"\",\"\",UPPER(Mainframe!R17))","v":""},{"$f":"IF(BL18=\"\",\"\",IF(NOT(ISNA(VLOOKUP(BL18,Answers!BI:BL,4,FALSE))),VLOOKUP(BL18,Answers!BI:BL,4,FALSE),\"Help!\"))","v":""},null,{"$f":"IF(BM18=\"\",\"\",BK18+IF(BM18=\"XX\",VLOOKUP(\"WRONG\",Answers!BI:BL,4,FALSE),BM18)+BN18)","v":""},{"$f":"IF($B18=\"\",\"\",UPPER(Mainframe!S17))","v":""},{"$f":"IF(BP18=\"\",\"\",IF(NOT(ISNA(VLOOKUP(BP18,Answers!BM:BP,4,FALSE))),VLOOKUP(BP18,Answers!BM:BP,4,FALSE),\"Help!\"))","v":""},null,{"$f":"IF(BQ18=\"\",\"\",BO18+IF(BQ18=\"XX\",VLOOKUP(\"WRONG\",Answers!BM:BP,4,FALSE),BQ18)+BR18)","v":""},{"$f":"IF($B18=\"\",\"\",UPPER(Mainframe!T17))","v":""},{"$f":"IF(BT18=\"\",\"\",IF(NOT(ISNA(VLOOKUP(BT18,Answers!BQ:BT,4,FALSE))),VLOOKUP(BT18,Answers!BQ:BT,4,FALSE),\"Help!\"))","v":""},null,{"$f":"IF(BU18=\"\",\"\",BS18+IF(BU18=\"XX\",VLOOKUP(\"WRONG\",Answers!BQ:BT,4,FALSE),BU18)+BV18)","v":""},{"$f":"IF($B18=\"\",\"\",UPPER(Mainframe!U17))","v":""},{"$f":"IF(BX18=\"\",\"\",IF(NOT(ISNA(VLOOKUP(BX18,Answers!BU:BX,4,FALSE))),VLOOKUP(BX18,Answers!BU:BX,4,FALSE),\"Help!\"))","v":""},null,{"$f":"IF(BY18=\"\",\"\",BW18+IF(BY18=\"XX\",VLOOKUP(\"WRONG\",Answers!BU:BX,4,FALSE),BY18)+BZ18)","v":""},{"$f":"IF($B18=\"\",\"\",UPPER(Mainframe!V17))","v":""},{"$f":"IF(CB18=\"\",\"\",IF(NOT(ISNA(VLOOKUP(CB18,Answers!BY:CB,4,FALSE))),VLOOKUP(CB18,Answers!BY:CB,4,FALSE),\"Help!\"))","v":""},null,{"$f":"IF(CC18=\"\",\"\",CA18+IF(CC18=\"XX\",VLOOKUP(\"WRONG\",Answers!BY:CB,4,FALSE),CC18)+CD18)","v":""},null,null,1,{"$f":"IF(INDEX($B:$CE,ROW(),QNO*4-1)=DROPNAME,DROPNAME,IF(INDEX($B:$CE,ROW(),QNO*4-1)=SHEEPNAME,SHEEPNAME,IF(INDEX($B:$CE,ROW(),QNO*4)=\"XX\",INDEX($B:$CE,ROW(),QNO*4-1),INDEX(OFFSET(Answers!B:B,0,(QNO-1)*4),MATCH(INDEX($A:$CB,ROW(),QNO*4),OFFSET(Answers!A:A,0,(QNO-1)*4),0))&\" — \"&IF(INDEX($B:$CE,ROW(),QNO*4)=1,\"[b]Singleton![/b]\",CONCATENATE(INDEX($B:$CE,ROW(),QNO*4),\" responses\")))))","v":{"$error":"#N/A"}},"//////////////////////////////////////////////////////////////////////////////////////////////////////////////////////////////////////////////////////////////////////////////////////////////////////////////////////////////////","No",{"$f":"IF(B18=0,\"\",CONCATENATE(INDEX($CH:$CL,ROW(),1),\". \",INDEX($B:$CE,ROW(),1),\" — [b]\")&IF(QNO=1,CONCATENATE(INDEX($B:$CE,ROW(),QNO*4+2),\"[/b] pts\"),CONCATENATE(INDEX($B:$CE,ROW(),QNO*4-2),\" + \",IF(INDEX($B:$CE,ROW(),QNO*4)=\"XX\",INDEX(Answers!$A:$ZZ,2,QNO*4),INDEX($B:$CE,ROW(),QNO*4)),\" = \",INDEX($B:$CE,ROW(),QNO*4+2),\"[/b] pts \",IF(INDEX($C:$CE,ROW(),QNO*4)>0,\"(penalty: +\"&INDEX($C:$CE,ROW(),QNO*4)&\") \",IF(INDEX($C:$CE,ROW(),QNO*4)<0,\"(bonus: \"&INDEX($C:$CE,ROW(),QNO*4)&\") \",\"\"))&\"[[b]\"&IF(CN18>0,\"[color=#00BF00]↑\"&CN18,IF(CN18<0,\"[color=#FF0000]↓\"&ABS(CN18),\"[color=#0000FF]unch\"))&\"[/b][/color]]\")))","v":"1.  — [b][/b] pts"},1,0]
["[*]",{"$f":"IF(Mainframe!B18=\"\",\"\",INDEX(Mainframe!$B:$B,C19+1,1))","v":""},17,{"$f":"IF($B19=\"\",\"\",UPPER(Mainframe!C18))","v":""},{"$f":"IF(D19=\"\",\"\",IF(NOT(ISNA(VLOOKUP(D19,Answers!A:D,4,FALSE))),VLOOKUP(D19,Answers!A:D,4,FALSE),\"Help!\"))","v":""},null,{"$f":"IF(E19=\"\",\"\",IF(E19=\"XX\",VLOOKUP(\"WRONG\",Answers!A:D,4,FALSE),E19)+F19)","v":""},{"$f":"IF($B19=\"\",\"\",UPPER(Mainframe!D18))","v":""},{"$f":"IF(H19=\"\",\"\",IF(NOT(ISNA(VLOOKUP(H19,Answers!E:H,4,FALSE))),VLOOKUP(H19,Answers!E:H,4,FALSE),\"Help!\"))","v":""},null,{"$f":"IF(I19=\"\",\"\",G19+IF(I19=\"XX\",VLOOKUP(\"WRONG\",Answers!E:H,4,FALSE),I19)+J19)","v":""},{"$f":"IF($B19=\"\",\"\",UPPER(Mainframe!E18))","v":""},{"$f":"IF(L19=\"\",\"\",IF(NOT(ISNA(VLOOKUP(L19,Answers!I:L,4,FALSE))),VLOOKUP(L19,Answers!I:L,4,FALSE),\"Help!\"))","v":""},null,{"$f":"IF(M19=\"\",\"\",K19+IF(M19=\"XX\",VLOOKUP(\"WRONG\",Answers!I:L,4,FALSE),M19)+N19)","v":""},{"$f":"IF($B19=\"\",\"\",UPPER(Mainframe!F18))","v":""},{"$f":"IF(P19=\"\",\"\",IF(NOT(ISNA(VLOOKUP(P19,Answers!M:P,4,FALSE))),VLOOKUP(P19,Answers!M:P,4,FALSE),\"Help!\"))","v":""},null,{"$f":"IF(Q19=\"\",\"\",O19+IF(Q19=\"XX\",VLOOKUP(\"WRONG\",Answers!M:P,4,FALSE),Q19)+R19)","v":""},{"$f":"IF($B19=\"\",\"\",UPPER(Mainframe!G18))","v":""},{"$f":"IF(T19=\"\",\"\",IF(NOT(ISNA(VLOOKUP(T19,Answers!Q:T,4,FALSE))),VLOOKUP(T19,Answers!Q:T,4,FALSE),\"Help!\"))","v":""},null,{"$f":"IF(U19=\"\",\"\",S19+IF(U19=\"XX\",VLOOKUP(\"WRONG\",Answers!Q:T,4,FALSE),U19)+V19)","v":""},{"$f":"IF($B19=\"\",\"\",UPPER(Mainframe!H18))","v":""},{"$f":"IF(X19=\"\",\"\",IF(NOT(ISNA(VLOOKUP(X19,Answers!U:X,4,FALSE))),VLOOKUP(X19,Answers!U:X,4,FALSE),\"Help!\"))","v":""},null,{"$f":"IF(Y19=\"\",\"\",W19+IF(Y19=\"XX\",VLOOKUP(\"WRONG\",Answers!U:X,4,FALSE),Y19)+Z19)","v":""},{"$f":"IF($B19=\"\",\"\",UPPER(Mainframe!I18))","v":""},{"$f":"IF(AB19=\"\",\"\",IF(NOT(ISNA(VLOOKUP(AB19,Answers!Y:AB,4,FALSE))),VLOOKUP(AB19,Answers!Y:AB,4,FALSE),\"Help!\"))","v":""},null,{"$f":"IF(AC19=\"\",\"\",AA19+IF(AC19=\"XX\",VLOOKUP(\"WRONG\",Answers!Y:AB,4,FALSE),AC19)+AD19)","v":""},{"$f":"IF($B19=\"\",\"\",UPPER(Mainframe!J18))","v":""},{"$f":"IF(AF19=\"\",\"\",IF(NOT(ISNA(VLOOKUP(AF19,Answers!AC:AF,4,FALSE))),VLOOKUP(AF19,Answers!AC:AF,4,FALSE),\"Help!\"))","v":""},null,{"$f":"IF(AG19=\"\",\"\",AE19+IF(AG19=\"XX\",VLOOKUP(\"WRONG\",Answers!AC:AF,4,FALSE),AG19)+AH19)","v":""},{"$f":"IF($B19=\"\",\"\",UPPER(Mainframe!K18))","v":""},{"$f":"IF(AJ19=\"\",\"\",IF(NOT(ISNA(VLOOKUP(AJ19,Answers!AG:AJ,4,FALSE))),VLOOKUP(AJ19,Answers!AG:AJ,4,FALSE),\"Help!\"))","v":""},null,{"$f":"IF(AK19=\"\",\"\",AI19+IF(AK19=\"XX\",VLOOKUP(\"WRONG\",Answers!AG:AJ,4,FALSE),AK19)+AL19)","v":""},{"$f":"IF($B19=\"\",\"\",UPPER(Mainframe!L18))","v":""},{"$f":"IF(AN19=\"\",\"\",IF(NOT(ISNA(VLOOKUP(AN19,Answers!AK:AN,4,FALSE))),VLOOKUP(AN19,Answers!AK:AN,4,FALSE),\"Help!\"))","v":""},null,{"$f":"IF(AO19=\"\",\"\",AM19+IF(AO19=\"XX\",VLOOKUP(\"WRONG\",Answers!AK:AN,4,FALSE),AO19)+AP19)","v":""},{"$f":"IF($B19=\"\",\"\",UPPER(Mainframe!M18))","v":""},{"$f":"IF(AR19=\"\",\"\",IF(NOT(ISNA(VLOOKUP(AR19,Answers!AO:AR,4,FALSE))),VLOOKUP(AR19,Answers!AO:AR,4,FALSE),\"Help!\"))","v":""},null,{"$f":"IF(AS19=\"\",\"\",AQ19+IF(AS19=\"XX\",VLOOKUP(\"WRONG\",Answers!AO:AR,4,FALSE),AS19)+AT19)","v":""},{"$f":"IF($B19=\"\",\"\",UPPER(Mainframe!N18))","v":""},{"$f":"IF(AV19=\"\",\"\",IF(NOT(ISNA(VLOOKUP(AV19,Answers!AS:AV,4,FALSE))),VLOOKUP(AV19,Answers!AS:AV,4,FALSE),\"Help!\"))","v":""},null,{"$f":"IF(AW19=\"\",\"\",AU19+IF(AW19=\"XX\",VLOOKUP(\"WRONG\",Answers!AS:AV,4,FALSE),AW19)+AX19)","v":""},{"$f":"IF($B19=\"\",\"\",UPPER(Mainframe!O18))","v":""},{"$f":"IF(AZ19=\"\",\"\",IF(NOT(ISNA(VLOOKUP(AZ19,Answers!AW:AZ,4,FALSE))),VLOOKUP(AZ19,Answers!AW:AZ,4,FALSE),\"Help!\"))","v":""},null,{"$f":"IF(BA19=\"\",\"\",AY19+IF(BA19=\"XX\",VLOOKUP(\"WRONG\",Answers!AW:AZ,4,FALSE),BA19)+BB19)","v":""},{"$f":"IF($B19=\"\",\"\",UPPER(Mainframe!P18))","v":""},{"$f":"IF(BD19=\"\",\"\",IF(NOT(ISNA(VLOOKUP(BD19,Answers!BA:BD,4,FALSE))),VLOOKUP(BD19,Answers!BA:BD,4,FALSE),\"Help!\"))","v":""},null,{"$f":"IF(BE19=\"\",\"\",BC19+IF(BE19=\"XX\",VLOOKUP(\"WRONG\",Answers!BA:BD,4,FALSE),BE19)+BF19)","v":""},{"$f":"IF($B19=\"\",\"\",UPPER(Mainframe!Q18))","v":""},{"$f":"IF(BH19=\"\",\"\",IF(NOT(ISNA(VLOOKUP(BH19,Answers!BE:BH,4,FALSE))),VLOOKUP(BH19,Answers!BE:BH,4,FALSE),\"Help!\"))","v":""},null,{"$f":"IF(BI19=\"\",\"\",BG19+IF(BI19=\"XX\",VLOOKUP(\"WRONG\",Answers!BE:BH,4,FALSE),BI19)+BJ19)","v":""},{"$f":"IF($B19=\"\",\"\",UPPER(Mainframe!R18))","v":""},{"$f":"IF(BL19=\"\",\"\",IF(NOT(ISNA(VLOOKUP(BL19,Answers!BI:BL,4,FALSE))),VLOOKUP(BL19,Answers!BI:BL,4,FALSE),\"Help!\"))","v":""},null,{"$f":"IF(BM19=\"\",\"\",BK19+IF(BM19=\"XX\",VLOOKUP(\"WRONG\",Answers!BI:BL,4,FALSE),BM19)+BN19)","v":""},{"$f":"IF($B19=\"\",\"\",UPPER(Mainframe!S18))","v":""},{"$f":"IF(BP19=\"\",\"\",IF(NOT(ISNA(VLOOKUP(BP19,Answers!BM:BP,4,FALSE))),VLOOKUP(BP19,Answers!BM:BP,4,FALSE),\"Help!\"))","v":""},null,{"$f":"IF(BQ19=\"\",\"\",BO19+IF(BQ19=\"XX\",VLOOKUP(\"WRONG\",Answers!BM:BP,4,FALSE),BQ19)+BR19)","v":""},{"$f":"IF($B19=\"\",\"\",UPPER(Mainframe!T18))","v":""},{"$f":"IF(BT19=\"\",\"\",IF(NOT(ISNA(VLOOKUP(BT19,Answers!BQ:BT,4,FALSE))),VLOOKUP(BT19,Answers!BQ:BT,4,FALSE),\"Help!\"))","v":""},null,{"$f":"IF(BU19=\"\",\"\",BS19+IF(BU19=\"XX\",VLOOKUP(\"WRONG\",Answers!BQ:BT,4,FALSE),BU19)+BV19)","v":""},{"$f":"IF($B19=\"\",\"\",UPPER(Mainframe!U18))","v":""},{"$f":"IF(BX19=\"\",\"\",IF(NOT(ISNA(VLOOKUP(BX19,Answers!BU:BX,4,FALSE))),VLOOKUP(BX19,Answers!BU:BX,4,FALSE),\"Help!\"))","v":""},null,{"$f":"IF(BY19=\"\",\"\",BW19+IF(BY19=\"XX\",VLOOKUP(\"WRONG\",Answers!BU:BX,4,FALSE),BY19)+BZ19)","v":""},{"$f":"IF($B19=\"\",\"\",UPPER(Mainframe!V18))","v":""},{"$f":"IF(CB19=\"\",\"\",IF(NOT(ISNA(VLOOKUP(CB19,Answers!BY:CB,4,FALSE))),VLOOKUP(CB19,Answers!BY:CB,4,FALSE),\"Help!\"))","v":""},null,{"$f":"IF(CC19=\"\",\"\",CA19+IF(CC19=\"XX\",VLOOKUP(\"WRONG\",Answers!BY:CB,4,FALSE),CC19)+CD19)","v":""},null,null,1,{"$f":"IF(INDEX($B:$CE,ROW(),QNO*4-1)=DROPNAME,DROPNAME,IF(INDEX($B:$CE,ROW(),QNO*4-1)=SHEEPNAME,SHEEPNAME,IF(INDEX($B:$CE,ROW(),QNO*4)=\"XX\",INDEX($B:$CE,ROW(),QNO*4-1),INDEX(OFFSET(Answers!B:B,0,(QNO-1)*4),MATCH(INDEX($A:$CB,ROW(),QNO*4),OFFSET(Answers!A:A,0,(QNO-1)*4),0))&\" — \"&IF(INDEX($B:$CE,ROW(),QNO*4)=1,\"[b]Singleton![/b]\",CONCATENATE(INDEX($B:$CE,ROW(),QNO*4),\" responses\")))))","v":{"$error":"#N/A"}},"////////////////////////////////////////////////////////////////////////////////////////////////////////////////////////////////////////////////////////////////////////////////////////////////////////////////////////////////","No",{"$f":"IF(B19=0,\"\",CONCATENATE(INDEX($CH:$CL,ROW(),1),\". \",INDEX($B:$CE,ROW(),1),\" — [b]\")&IF(QNO=1,CONCATENATE(INDEX($B:$CE,ROW(),QNO*4+2),\"[/b] pts\"),CONCATENATE(INDEX($B:$CE,ROW(),QNO*4-2),\" + \",IF(INDEX($B:$CE,ROW(),QNO*4)=\"XX\",INDEX(Answers!$A:$ZZ,2,QNO*4),INDEX($B:$CE,ROW(),QNO*4)),\" = \",INDEX($B:$CE,ROW(),QNO*4+2),\"[/b] pts \",IF(INDEX($C:$CE,ROW(),QNO*4)>0,\"(penalty: +\"&INDEX($C:$CE,ROW(),QNO*4)&\") \",IF(INDEX($C:$CE,ROW(),QNO*4)<0,\"(bonus: \"&INDEX($C:$CE,ROW(),QNO*4)&\") \",\"\"))&\"[[b]\"&IF(CN19>0,\"[color=#00BF00]↑\"&CN19,IF(CN19<0,\"[color=#FF0000]↓\"&ABS(CN19),\"[color=#0000FF]unch\"))&\"[/b][/color]]\")))","v":"1.  — [b][/b] pts"},1,0]
["[*]",{"$f":"IF(Mainframe!B19=\"\",\"\",INDEX(Mainframe!$B:$B,C20+1,1))","v":""},18,{"$f":"IF($B20=\"\",\"\",UPPER(Mainframe!C19))","v":""},{"$f":"IF(D20=\"\",\"\",IF(NOT(ISNA(VLOOKUP(D20,Answers!A:D,4,FALSE))),VLOOKUP(D20,Answers!A:D,4,FALSE),\"Help!\"))","v":""},null,{"$f":"IF(E20=\"\",\"\",IF(E20=\"XX\",VLOOKUP(\"WRONG\",Answers!A:D,4,FALSE),E20)+F20)","v":""},{"$f":"IF($B20=\"\",\"\",UPPER(Mainframe!D19))","v":""},{"$f":"IF(H20=\"\",\"\",IF(NOT(ISNA(VLOOKUP(H20,Answers!E:H,4,FALSE))),VLOOKUP(H20,Answers!E:H,4,FALSE),\"Help!\"))","v":""},null,{"$f":"IF(I20=\"\",\"\",G20+IF(I20=\"XX\",VLOOKUP(\"WRONG\",Answers!E:H,4,FALSE),I20)+J20)","v":""},{"$f":"IF($B20=\"\",\"\",UPPER(Mainframe!E19))","v":""},{"$f":"IF(L20=\"\",\"\",IF(NOT(ISNA(VLOOKUP(L20,Answers!I:L,4,FALSE))),VLOOKUP(L20,Answers!I:L,4,FALSE),\"Help!\"))","v":""},null,{"$f":"IF(M20=\"\",\"\",K20+IF(M20=\"XX\",VLOOKUP(\"WRONG\",Answers!I:L,4,FALSE),M20)+N20)","v":""},{"$f":"IF($B20=\"\",\"\",UPPER(Mainframe!F19))","v":""},{"$f":"IF(P20=\"\",\"\",IF(NOT(ISNA(VLOOKUP(P20,Answers!M:P,4,FALSE))),VLOOKUP(P20,Answers!M:P,4,FALSE),\"Help!\"))","v":""},null,{"$f":"IF(Q20=\"\",\"\",O20+IF(Q20=\"XX\",VLOOKUP(\"WRONG\",Answers!M:P,4,FALSE),Q20)+R20)","v":""},{"$f":"IF($B20=\"\",\"\",UPPER(Mainframe!G19))","v":""},{"$f":"IF(T20=\"\",\"\",IF(NOT(ISNA(VLOOKUP(T20,Answers!Q:T,4,FALSE))),VLOOKUP(T20,Answers!Q:T,4,FALSE),\"Help!\"))","v":""},null,{"$f":"IF(U20=\"\",\"\",S20+IF(U20=\"XX\",VLOOKUP(\"WRONG\",Answers!Q:T,4,FALSE),U20)+V20)","v":""},{"$f":"IF($B20=\"\",\"\",UPPER(Mainframe!H19))","v":""},{"$f":"IF(X20=\"\",\"\",IF(NOT(ISNA(VLOOKUP(X20,Answers!U:X,4,FALSE))),VLOOKUP(X20,Answers!U:X,4,FALSE),\"Help!\"))","v":""},null,{"$f":"IF(Y20=\"\",\"\",W20+IF(Y20=\"XX\",VLOOKUP(\"WRONG\",Answers!U:X,4,FALSE),Y20)+Z20)","v":""},{"$f":"IF($B20=\"\",\"\",UPPER(Mainframe!I19))","v":""},{"$f":"IF(AB20=\"\",\"\",IF(NOT(ISNA(VLOOKUP(AB20,Answers!Y:AB,4,FALSE))),VLOOKUP(AB20,Answers!Y:AB,4,FALSE),\"Help!\"))","v":""},null,{"$f":"IF(AC20=\"\",\"\",AA20+IF(AC20=\"XX\",VLOOKUP(\"WRONG\",Answers!Y:AB,4,FALSE),AC20)+AD20)","v":""},{"$f":"IF($B20=\"\",\"\",UPPER(Mainframe!J19))","v":""},{"$f":"IF(AF20=\"\",\"\",IF(NOT(ISNA(VLOOKUP(AF20,Answers!AC:AF,4,FALSE))),VLOOKUP(AF20,Answers!AC:AF,4,FALSE),\"Help!\"))","v":""},null,{"$f":"IF(AG20=\"\",\"\",AE20+IF(AG20=\"XX\",VLOOKUP(\"WRONG\",Answers!AC:AF,4,FALSE),AG20)+AH20)","v":""},{"$f":"IF($B20=\"\",\"\",UPPER(Mainframe!K19))","v":""},{"$f":"IF(AJ20=\"\",\"\",IF(NOT(ISNA(VLOOKUP(AJ20,Answers!AG:AJ,4,FALSE))),VLOOKUP(AJ20,Answers!AG:AJ,4,FALSE),\"Help!\"))","v":""},null,{"$f":"IF(AK20=\"\",\"\",AI20+IF(AK20=\"XX\",VLOOKUP(\"WRONG\",Answers!AG:AJ,4,FALSE),AK20)+AL20)","v":""},{"$f":"IF($B20=\"\",\"\",UPPER(Mainframe!L19))","v":""},{"$f":"IF(AN20=\"\",\"\",IF(NOT(ISNA(VLOOKUP(AN20,Answers!AK:AN,4,FALSE))),VLOOKUP(AN20,Answers!AK:AN,4,FALSE),\"Help!\"))","v":""},null,{"$f":"IF(AO20=\"\",\"\",AM20+IF(AO20=\"XX\",VLOOKUP(\"WRONG\",Answers!AK:AN,4,FALSE),AO20)+AP20)","v":""},{"$f":"IF($B20=\"\",\"\",UPPER(Mainframe!M19))","v":""},{"$f":"IF(AR20=\"\",\"\",IF(NOT(ISNA(VLOOKUP(AR20,Answers!AO:AR,4,FALSE))),VLOOKUP(AR20,Answers!AO:AR,4,FALSE),\"Help!\"))","v":""},null,{"$f":"IF(AS20=\"\",\"\",AQ20+IF(AS20=\"XX\",VLOOKUP(\"WRONG\",Answers!AO:AR,4,FALSE),AS20)+AT20)","v":""},{"$f":"IF($B20=\"\",\"\",UPPER(Mainframe!N19))","v":""},{"$f":"IF(AV20=\"\",\"\",IF(NOT(ISNA(VLOOKUP(AV20,Answers!AS:AV,4,FALSE))),VLOOKUP(AV20,Answers!AS:AV,4,FALSE),\"Help!\"))","v":""},null,{"$f":"IF(AW20=\"\",\"\",AU20+IF(AW20=\"XX\",VLOOKUP(\"WRONG\",Answers!AS:AV,4,FALSE),AW20)+AX20)","v":""},{"$f":"IF($B20=\"\",\"\",UPPER(Mainframe!O19))","v":""},{"$f":"IF(AZ20=\"\",\"\",IF(NOT(ISNA(VLOOKUP(AZ20,Answers!AW:AZ,4,FALSE))),VLOOKUP(AZ20,Answers!AW:AZ,4,FALSE),\"Help!\"))","v":""},null,{"$f":"IF(BA20=\"\",\"\",AY20+IF(BA20=\"XX\",VLOOKUP(\"WRONG\",Answers!AW:AZ,4,FALSE),BA20)+BB20)","v":""},{"$f":"IF($B20=\"\",\"\",UPPER(Mainframe!P19))","v":""},{"$f":"IF(BD20=\"\",\"\",IF(NOT(ISNA(VLOOKUP(BD20,Answers!BA:BD,4,FALSE))),VLOOKUP(BD20,Answers!BA:BD,4,FALSE),\"Help!\"))","v":""},null,{"$f":"IF(BE20=\"\",\"\",BC20+IF(BE20=\"XX\",VLOOKUP(\"WRONG\",Answers!BA:BD,4,FALSE),BE20)+BF20)","v":""},{"$f":"IF($B20=\"\",\"\",UPPER(Mainframe!Q19))","v":""},{"$f":"IF(BH20=\"\",\"\",IF(NOT(ISNA(VLOOKUP(BH20,Answers!BE:BH,4,FALSE))),VLOOKUP(BH20,Answers!BE:BH,4,FALSE),\"Help!\"))","v":""},null,{"$f":"IF(BI20=\"\",\"\",BG20+IF(BI20=\"XX\",VLOOKUP(\"WRONG\",Answers!BE:BH,4,FALSE),BI20)+BJ20)","v":""},{"$f":"IF($B20=\"\",\"\",UPPER(Mainframe!R19))","v":""},{"$f":"IF(BL20=\"\",\"\",IF(NOT(ISNA(VLOOKUP(BL20,Answers!BI:BL,4,FALSE))),VLOOKUP(BL20,Answers!BI:BL,4,FALSE),\"Help!\"))","v":""},null,{"$f":"IF(BM20=\"\",\"\",BK20+IF(BM20=\"XX\",VLOOKUP(\"WRONG\",Answers!BI:BL,4,FALSE),BM20)+BN20)","v":""},{"$f":"IF($B20=\"\",\"\",UPPER(Mainframe!S19))","v":""},{"$f":"IF(BP20=\"\",\"\",IF(NOT(ISNA(VLOOKUP(BP20,Answers!BM:BP,4,FALSE))),VLOOKUP(BP20,Answers!BM:BP,4,FALSE),\"Help!\"))","v":""},null,{"$f":"IF(BQ20=\"\",\"\",BO20+IF(BQ20=\"XX\",VLOOKUP(\"WRONG\",Answers!BM:BP,4,FALSE),BQ20)+BR20)","v":""},{"$f":"IF($B20=\"\",\"\",UPPER(Mainframe!T19))","v":""},{"$f":"IF(BT20=\"\",\"\",IF(NOT(ISNA(VLOOKUP(BT20,Answers!BQ:BT,4,FALSE))),VLOOKUP(BT20,Answers!BQ:BT,4,FALSE),\"Help!\"))","v":""},null,{"$f":"IF(BU20=\"\",\"\",BS20+IF(BU20=\"XX\",VLOOKUP(\"WRONG\",Answers!BQ:BT,4,FALSE),BU20)+BV20)","v":""},{"$f":"IF($B20=\"\",\"\",UPPER(Mainframe!U19))","v":""},{"$f":"IF(BX20=\"\",\"\",IF(NOT(ISNA(VLOOKUP(BX20,Answers!BU:BX,4,FALSE))),VLOOKUP(BX20,Answers!BU:BX,4,FALSE),\"Help!\"))","v":""},null,{"$f":"IF(BY20=\"\",\"\",BW20+IF(BY20=\"XX\",VLOOKUP(\"WRONG\",Answers!BU:BX,4,FALSE),BY20)+BZ20)","v":""},{"$f":"IF($B20=\"\",\"\",UPPER(Mainframe!V19))","v":""},{"$f":"IF(CB20=\"\",\"\",IF(NOT(ISNA(VLOOKUP(CB20,Answers!BY:CB,4,FALSE))),VLOOKUP(CB20,Answers!BY:CB,4,FALSE),\"Help!\"))","v":""},null,{"$f":"IF(CC20=\"\",\"\",CA20+IF(CC20=\"XX\",VLOOKUP(\"WRONG\",Answers!BY:CB,4,FALSE),CC20)+CD20)","v":""},null,null,1,{"$f":"IF(INDEX($B:$CE,ROW(),QNO*4-1)=DROPNAME,DROPNAME,IF(INDEX($B:$CE,ROW(),QNO*4-1)=SHEEPNAME,SHEEPNAME,IF(INDEX($B:$CE,ROW(),QNO*4)=\"XX\",INDEX($B:$CE,ROW(),QNO*4-1),INDEX(OFFSET(Answers!B:B,0,(QNO-1)*4),MATCH(INDEX($A:$CB,ROW(),QNO*4),OFFSET(Answers!A:A,0,(QNO-1)*4),0))&\" — \"&IF(INDEX($B:$CE,ROW(),QNO*4)=1,\"[b]Singleton![/b]\",CONCATENATE(INDEX($B:$CE,ROW(),QNO*4),\" responses\")))))","v":{"$error":"#N/A"}},"//////////////////////////////////////////////////////////////////////////////////////////////////////////////////////////////////////////////////////////////////////////////////////////////////////////////////////////////","No",{"$f":"IF(B20=0,\"\",CONCATENATE(INDEX($CH:$CL,ROW(),1),\". \",INDEX($B:$CE,ROW(),1),\" — [b]\")&IF(QNO=1,CONCATENATE(INDEX($B:$CE,ROW(),QNO*4+2),\"[/b] pts\"),CONCATENATE(INDEX($B:$CE,ROW(),QNO*4-2),\" + \",IF(INDEX($B:$CE,ROW(),QNO*4)=\"XX\",INDEX(Answers!$A:$ZZ,2,QNO*4),INDEX($B:$CE,ROW(),QNO*4)),\" = \",INDEX($B:$CE,ROW(),QNO*4+2),\"[/b] pts \",IF(INDEX($C:$CE,ROW(),QNO*4)>0,\"(penalty: +\"&INDEX($C:$CE,ROW(),QNO*4)&\") \",IF(INDEX($C:$CE,ROW(),QNO*4)<0,\"(bonus: \"&INDEX($C:$CE,ROW(),QNO*4)&\") \",\"\"))&\"[[b]\"&IF(CN20>0,\"[color=#00BF00]↑\"&CN20,IF(CN20<0,\"[color=#FF0000]↓\"&ABS(CN20),\"[color=#0000FF]unch\"))&\"[/b][/color]]\")))","v":"1.  — [b][/b] pts"},1,0]
["[*]",{"$f":"IF(Mainframe!B20=\"\",\"\",INDEX(Mainframe!$B:$B,C21+1,1))","v":""},19,{"$f":"IF($B21=\"\",\"\",UPPER(Mainframe!C20))","v":""},{"$f":"IF(D21=\"\",\"\",IF(NOT(ISNA(VLOOKUP(D21,Answers!A:D,4,FALSE))),VLOOKUP(D21,Answers!A:D,4,FALSE),\"Help!\"))","v":""},null,{"$f":"IF(E21=\"\",\"\",IF(E21=\"XX\",VLOOKUP(\"WRONG\",Answers!A:D,4,FALSE),E21)+F21)","v":""},{"$f":"IF($B21=\"\",\"\",UPPER(Mainframe!D20))","v":""},{"$f":"IF(H21=\"\",\"\",IF(NOT(ISNA(VLOOKUP(H21,Answers!E:H,4,FALSE))),VLOOKUP(H21,Answers!E:H,4,FALSE),\"Help!\"))","v":""},null,{"$f":"IF(I21=\"\",\"\",G21+IF(I21=\"XX\",VLOOKUP(\"WRONG\",Answers!E:H,4,FALSE),I21)+J21)","v":""},{"$f":"IF($B21=\"\",\"\",UPPER(Mainframe!E20))","v":""},{"$f":"IF(L21=\"\",\"\",IF(NOT(ISNA(VLOOKUP(L21,Answers!I:L,4,FALSE))),VLOOKUP(L21,Answers!I:L,4,FALSE),\"Help!\"))","v":""},null,{"$f":"IF(M21=\"\",\"\",K21+IF(M21=\"XX\",VLOOKUP(\"WRONG\",Answers!I:L,4,FALSE),M21)+N21)","v":""},{"$f":"IF($B21=\"\",\"\",UPPER(Mainframe!F20))","v":""},{"$f":"IF(P21=\"\",\"\",IF(NOT(ISNA(VLOOKUP(P21,Answers!M:P,4,FALSE))),VLOOKUP(P21,Answers!M:P,4,FALSE),\"Help!\"))","v":""},null,{"$f":"IF(Q21=\"\",\"\",O21+IF(Q21=\"XX\",VLOOKUP(\"WRONG\",Answers!M:P,4,FALSE),Q21)+R21)","v":""},{"$f":"IF($B21=\"\",\"\",UPPER(Mainframe!G20))","v":""},{"$f":"IF(T21=\"\",\"\",IF(NOT(ISNA(VLOOKUP(T21,Answers!Q:T,4,FALSE))),VLOOKUP(T21,Answers!Q:T,4,FALSE),\"Help!\"))","v":""},null,{"$f":"IF(U21=\"\",\"\",S21+IF(U21=\"XX\",VLOOKUP(\"WRONG\",Answers!Q:T,4,FALSE),U21)+V21)","v":""},{"$f":"IF($B21=\"\",\"\",UPPER(Mainframe!H20))","v":""},{"$f":"IF(X21=\"\",\"\",IF(NOT(ISNA(VLOOKUP(X21,Answers!U:X,4,FALSE))),VLOOKUP(X21,Answers!U:X,4,FALSE),\"Help!\"))","v":""},null,{"$f":"IF(Y21=\"\",\"\",W21+IF(Y21=\"XX\",VLOOKUP(\"WRONG\",Answers!U:X,4,FALSE),Y21)+Z21)","v":""},{"$f":"IF($B21=\"\",\"\",UPPER(Mainframe!I20))","v":""},{"$f":"IF(AB21=\"\",\"\",IF(NOT(ISNA(VLOOKUP(AB21,Answers!Y:AB,4,FALSE))),VLOOKUP(AB21,Answers!Y:AB,4,FALSE),\"Help!\"))","v":""},null,{"$f":"IF(AC21=\"\",\"\",AA21+IF(AC21=\"XX\",VLOOKUP(\"WRONG\",Answers!Y:AB,4,FALSE),AC21)+AD21)","v":""},{"$f":"IF($B21=\"\",\"\",UPPER(Mainframe!J20))","v":""},{"$f":"IF(AF21=\"\",\"\",IF(NOT(ISNA(VLOOKUP(AF21,Answers!AC:AF,4,FALSE))),VLOOKUP(AF21,Answers!AC:AF,4,FALSE),\"Help!\"))","v":""},null,{"$f":"IF(AG21=\"\",\"\",AE21+IF(AG21=\"XX\",VLOOKUP(\"WRONG\",Answers!AC:AF,4,FALSE),AG21)+AH21)","v":""},{"$f":"IF($B21=\"\",\"\",UPPER(Mainframe!K20))","v":""},{"$f":"IF(AJ21=\"\",\"\",IF(NOT(ISNA(VLOOKUP(AJ21,Answers!AG:AJ,4,FALSE))),VLOOKUP(AJ21,Answers!AG:AJ,4,FALSE),\"Help!\"))","v":""},null,{"$f":"IF(AK21=\"\",\"\",AI21+IF(AK21=\"XX\",VLOOKUP(\"WRONG\",Answers!AG:AJ,4,FALSE),AK21)+AL21)","v":""},{"$f":"IF($B21=\"\",\"\",UPPER(Mainframe!L20))","v":""},{"$f":"IF(AN21=\"\",\"\",IF(NOT(ISNA(VLOOKUP(AN21,Answers!AK:AN,4,FALSE))),VLOOKUP(AN21,Answers!AK:AN,4,FALSE),\"Help!\"))","v":""},null,{"$f":"IF(AO21=\"\",\"\",AM21+IF(AO21=\"XX\",VLOOKUP(\"WRONG\",Answers!AK:AN,4,FALSE),AO21)+AP21)","v":""},{"$f":"IF($B21=\"\",\"\",UPPER(Mainframe!M20))","v":""},{"$f":"IF(AR21=\"\",\"\",IF(NOT(ISNA(VLOOKUP(AR21,Answers!AO:AR,4,FALSE))),VLOOKUP(AR21,Answers!AO:AR,4,FALSE),\"Help!\"))","v":""},null,{"$f":"IF(AS21=\"\",\"\",AQ21+IF(AS21=\"XX\",VLOOKUP(\"WRONG\",Answers!AO:AR,4,FALSE),AS21)+AT21)","v":""},{"$f":"IF($B21=\"\",\"\",UPPER(Mainframe!N20))","v":""},{"$f":"IF(AV21=\"\",\"\",IF(NOT(ISNA(VLOOKUP(AV21,Answers!AS:AV,4,FALSE))),VLOOKUP(AV21,Answers!AS:AV,4,FALSE),\"Help!\"))","v":""},null,{"$f":"IF(AW21=\"\",\"\",AU21+IF(AW21=\"XX\",VLOOKUP(\"WRONG\",Answers!AS:AV,4,FALSE),AW21)+AX21)","v":""},{"$f":"IF($B21=\"\",\"\",UPPER(Mainframe!O20))","v":""},{"$f":"IF(AZ21=\"\",\"\",IF(NOT(ISNA(VLOOKUP(AZ21,Answers!AW:AZ,4,FALSE))),VLOOKUP(AZ21,Answers!AW:AZ,4,FALSE),\"Help!\"))","v":""},null,{"$f":"IF(BA21=\"\",\"\",AY21+IF(BA21=\"XX\",VLOOKUP(\"WRONG\",Answers!AW:AZ,4,FALSE),BA21)+BB21)","v":""},{"$f":"IF($B21=\"\",\"\",UPPER(Mainframe!P20))","v":""},{"$f":"IF(BD21=\"\",\"\",IF(NOT(ISNA(VLOOKUP(BD21,Answers!BA:BD,4,FALSE))),VLOOKUP(BD21,Answers!BA:BD,4,FALSE),\"Help!\"))","v":""},null,{"$f":"IF(BE21=\"\",\"\",BC21+IF(BE21=\"XX\",VLOOKUP(\"WRONG\",Answers!BA:BD,4,FALSE),BE21)+BF21)","v":""},{"$f":"IF($B21=\"\",\"\",UPPER(Mainframe!Q20))","v":""},{"$f":"IF(BH21=\"\",\"\",IF(NOT(ISNA(VLOOKUP(BH21,Answers!BE:BH,4,FALSE))),VLOOKUP(BH21,Answers!BE:BH,4,FALSE),\"Help!\"))","v":""},null,{"$f":"IF(BI21=\"\",\"\",BG21+IF(BI21=\"XX\",VLOOKUP(\"WRONG\",Answers!BE:BH,4,FALSE),BI21)+BJ21)","v":""},{"$f":"IF($B21=\"\",\"\",UPPER(Mainframe!R20))","v":""},{"$f":"IF(BL21=\"\",\"\",IF(NOT(ISNA(VLOOKUP(BL21,Answers!BI:BL,4,FALSE))),VLOOKUP(BL21,Answers!BI:BL,4,FALSE),\"Help!\"))","v":""},null,{"$f":"IF(BM21=\"\",\"\",BK21+IF(BM21=\"XX\",VLOOKUP(\"WRONG\",Answers!BI:BL,4,FALSE),BM21)+BN21)","v":""},{"$f":"IF($B21=\"\",\"\",UPPER(Mainframe!S20))","v":""},{"$f":"IF(BP21=\"\",\"\",IF(NOT(ISNA(VLOOKUP(BP21,Answers!BM:BP,4,FALSE))),VLOOKUP(BP21,Answers!BM:BP,4,FALSE),\"Help!\"))","v":""},null,{"$f":"IF(BQ21=\"\",\"\",BO21+IF(BQ21=\"XX\",VLOOKUP(\"WRONG\",Answers!BM:BP,4,FALSE),BQ21)+BR21)","v":""},{"$f":"IF($B21=\"\",\"\",UPPER(Mainframe!T20))","v":""},{"$f":"IF(BT21=\"\",\"\",IF(NOT(ISNA(VLOOKUP(BT21,Answers!BQ:BT,4,FALSE))),VLOOKUP(BT21,Answers!BQ:BT,4,FALSE),\"Help!\"))","v":""},null,{"$f":"IF(BU21=\"\",\"\",BS21+IF(BU21=\"XX\",VLOOKUP(\"WRONG\",Answers!BQ:BT,4,FALSE),BU21)+BV21)","v":""},{"$f":"IF($B21=\"\",\"\",UPPER(Mainframe!U20))","v":""},{"$f":"IF(BX21=\"\",\"\",IF(NOT(ISNA(VLOOKUP(BX21,Answers!BU:BX,4,FALSE))),VLOOKUP(BX21,Answers!BU:BX,4,FALSE),\"Help!\"))","v":""},null,{"$f":"IF(BY21=\"\",\"\",BW21+IF(BY21=\"XX\",VLOOKUP(\"WRONG\",Answers!BU:BX,4,FALSE),BY21)+BZ21)","v":""},{"$f":"IF($B21=\"\",\"\",UPPER(Mainframe!V20))","v":""},{"$f":"IF(CB21=\"\",\"\",IF(NOT(ISNA(VLOOKUP(CB21,Answers!BY:CB,4,FALSE))),VLOOKUP(CB21,Answers!BY:CB,4,FALSE),\"Help!\"))","v":""},null,{"$f":"IF(CC21=\"\",\"\",CA21+IF(CC21=\"XX\",VLOOKUP(\"WRONG\",Answers!BY:CB,4,FALSE),CC21)+CD21)","v":""},null,null,1,{"$f":"IF(INDEX($B:$CE,ROW(),QNO*4-1)=DROPNAME,DROPNAME,IF(INDEX($B:$CE,ROW(),QNO*4-1)=SHEEPNAME,SHEEPNAME,IF(INDEX($B:$CE,ROW(),QNO*4)=\"XX\",INDEX($B:$CE,ROW(),QNO*4-1),INDEX(OFFSET(Answers!B:B,0,(QNO-1)*4),MATCH(INDEX($A:$CB,ROW(),QNO*4),OFFSET(Answers!A:A,0,(QNO-1)*4),0))&\" — \"&IF(INDEX($B:$CE,ROW(),QNO*4)=1,\"[b]Singleton![/b]\",CONCATENATE(INDEX($B:$CE,ROW(),QNO*4),\" responses\")))))","v":{"$error":"#N/A"}},"////////////////////////////////////////////////////////////////////////////////////////////////////////////////////////////////////////////////////////////////////////////////////////////////////////////////////////////","No",{"$f":"IF(B21=0,\"\",CONCATENATE(INDEX($CH:$CL,ROW(),1),\". \",INDEX($B:$CE,ROW(),1),\" — [b]\")&IF(QNO=1,CONCATENATE(INDEX($B:$CE,ROW(),QNO*4+2),\"[/b] pts\"),CONCATENATE(INDEX($B:$CE,ROW(),QNO*4-2),\" + \",IF(INDEX($B:$CE,ROW(),QNO*4)=\"XX\",INDEX(Answers!$A:$ZZ,2,QNO*4),INDEX($B:$CE,ROW(),QNO*4)),\" = \",INDEX($B:$CE,ROW(),QNO*4+2),\"[/b] pts \",IF(INDEX($C:$CE,ROW(),QNO*4)>0,\"(penalty: +\"&INDEX($C:$CE,ROW(),QNO*4)&\") \",IF(INDEX($C:$CE,ROW(),QNO*4)<0,\"(bonus: \"&INDEX($C:$CE,ROW(),QNO*4)&\") \",\"\"))&\"[[b]\"&IF(CN21>0,\"[color=#00BF00]↑\"&CN21,IF(CN21<0,\"[color=#FF0000]↓\"&ABS(CN21),\"[color=#0000FF]unch\"))&\"[/b][/color]]\")))","v":"1.  — [b][/b] pts"},1,0]
["[*]",{"$f":"IF(Mainframe!B21=\"\",\"\",INDEX(Mainframe!$B:$B,C22+1,1))","v":""},20,{"$f":"IF($B22=\"\",\"\",UPPER(Mainframe!C21))","v":""},{"$f":"IF(D22=\"\",\"\",IF(NOT(ISNA(VLOOKUP(D22,Answers!A:D,4,FALSE))),VLOOKUP(D22,Answers!A:D,4,FALSE),\"Help!\"))","v":""},null,{"$f":"IF(E22=\"\",\"\",IF(E22=\"XX\",VLOOKUP(\"WRONG\",Answers!A:D,4,FALSE),E22)+F22)","v":""},{"$f":"IF($B22=\"\",\"\",UPPER(Mainframe!D21))","v":""},{"$f":"IF(H22=\"\",\"\",IF(NOT(ISNA(VLOOKUP(H22,Answers!E:H,4,FALSE))),VLOOKUP(H22,Answers!E:H,4,FALSE),\"Help!\"))","v":""},null,{"$f":"IF(I22=\"\",\"\",G22+IF(I22=\"XX\",VLOOKUP(\"WRONG\",Answers!E:H,4,FALSE),I22)+J22)","v":""},{"$f":"IF($B22=\"\",\"\",UPPER(Mainframe!E21))","v":""},{"$f":"IF(L22=\"\",\"\",IF(NOT(ISNA(VLOOKUP(L22,Answers!I:L,4,FALSE))),VLOOKUP(L22,Answers!I:L,4,FALSE),\"Help!\"))","v":""},null,{"$f":"IF(M22=\"\",\"\",K22+IF(M22=\"XX\",VLOOKUP(\"WRONG\",Answers!I:L,4,FALSE),M22)+N22)","v":""},{"$f":"IF($B22=\"\",\"\",UPPER(Mainframe!F21))","v":""},{"$f":"IF(P22=\"\",\"\",IF(NOT(ISNA(VLOOKUP(P22,Answers!M:P,4,FALSE))),VLOOKUP(P22,Answers!M:P,4,FALSE),\"Help!\"))","v":""},null,{"$f":"IF(Q22=\"\",\"\",O22+IF(Q22=\"XX\",VLOOKUP(\"WRONG\",Answers!M:P,4,FALSE),Q22)+R22)","v":""},{"$f":"IF($B22=\"\",\"\",UPPER(Mainframe!G21))","v":""},{"$f":"IF(T22=\"\",\"\",IF(NOT(ISNA(VLOOKUP(T22,Answers!Q:T,4,FALSE))),VLOOKUP(T22,Answers!Q:T,4,FALSE),\"Help!\"))","v":""},null,{"$f":"IF(U22=\"\",\"\",S22+IF(U22=\"XX\",VLOOKUP(\"WRONG\",Answers!Q:T,4,FALSE),U22)+V22)","v":""},{"$f":"IF($B22=\"\",\"\",UPPER(Mainframe!H21))","v":""},{"$f":"IF(X22=\"\",\"\",IF(NOT(ISNA(VLOOKUP(X22,Answers!U:X,4,FALSE))),VLOOKUP(X22,Answers!U:X,4,FALSE),\"Help!\"))","v":""},null,{"$f":"IF(Y22=\"\",\"\",W22+IF(Y22=\"XX\",VLOOKUP(\"WRONG\",Answers!U:X,4,FALSE),Y22)+Z22)","v":""},{"$f":"IF($B22=\"\",\"\",UPPER(Mainframe!I21))","v":""},{"$f":"IF(AB22=\"\",\"\",IF(NOT(ISNA(VLOOKUP(AB22,Answers!Y:AB,4,FALSE))),VLOOKUP(AB22,Answers!Y:AB,4,FALSE),\"Help!\"))","v":""},null,{"$f":"IF(AC22=\"\",\"\",AA22+IF(AC22=\"XX\",VLOOKUP(\"WRONG\",Answers!Y:AB,4,FALSE),AC22)+AD22)","v":""},{"$f":"IF($B22=\"\",\"\",UPPER(Mainframe!J21))","v":""},{"$f":"IF(AF22=\"\",\"\",IF(NOT(ISNA(VLOOKUP(AF22,Answers!AC:AF,4,FALSE))),VLOOKUP(AF22,Answers!AC:AF,4,FALSE),\"Help!\"))","v":""},null,{"$f":"IF(AG22=\"\",\"\",AE22+IF(AG22=\"XX\",VLOOKUP(\"WRONG\",Answers!AC:AF,4,FALSE),AG22)+AH22)","v":""},{"$f":"IF($B22=\"\",\"\",UPPER(Mainframe!K21))","v":""},{"$f":"IF(AJ22=\"\",\"\",IF(NOT(ISNA(VLOOKUP(AJ22,Answers!AG:AJ,4,FALSE))),VLOOKUP(AJ22,Answers!AG:AJ,4,FALSE),\"Help!\"))","v":""},null,{"$f":"IF(AK22=\"\",\"\",AI22+IF(AK22=\"XX\",VLOOKUP(\"WRONG\",Answers!AG:AJ,4,FALSE),AK22)+AL22)","v":""},{"$f":"IF($B22=\"\",\"\",UPPER(Mainframe!L21))","v":""},{"$f":"IF(AN22=\"\",\"\",IF(NOT(ISNA(VLOOKUP(AN22,Answers!AK:AN,4,FALSE))),VLOOKUP(AN22,Answers!AK:AN,4,FALSE),\"Help!\"))","v":""},null,{"$f":"IF(AO22=\"\",\"\",AM22+IF(AO22=\"XX\",VLOOKUP(\"WRONG\",Answers!AK:AN,4,FALSE),AO22)+AP22)","v":""},{"$f":"IF($B22=\"\",\"\",UPPER(Mainframe!M21))","v":""},{"$f":"IF(AR22=\"\",\"\",IF(NOT(ISNA(VLOOKUP(AR22,Answers!AO:AR,4,FALSE))),VLOOKUP(AR22,Answers!AO:AR,4,FALSE),\"Help!\"))","v":""},null,{"$f":"IF(AS22=\"\",\"\",AQ22+IF(AS22=\"XX\",VLOOKUP(\"WRONG\",Answers!AO:AR,4,FALSE),AS22)+AT22)","v":""},{"$f":"IF($B22=\"\",\"\",UPPER(Mainframe!N21))","v":""},{"$f":"IF(AV22=\"\",\"\",IF(NOT(ISNA(VLOOKUP(AV22,Answers!AS:AV,4,FALSE))),VLOOKUP(AV22,Answers!AS:AV,4,FALSE),\"Help!\"))","v":""},null,{"$f":"IF(AW22=\"\",\"\",AU22+IF(AW22=\"XX\",VLOOKUP(\"WRONG\",Answers!AS:AV,4,FALSE),AW22)+AX22)","v":""},{"$f":"IF($B22=\"\",\"\",UPPER(Mainframe!O21))","v":""},{"$f":"IF(AZ22=\"\",\"\",IF(NOT(ISNA(VLOOKUP(AZ22,Answers!AW:AZ,4,FALSE))),VLOOKUP(AZ22,Answers!AW:AZ,4,FALSE),\"Help!\"))","v":""},null,{"$f":"IF(BA22=\"\",\"\",AY22+IF(BA22=\"XX\",VLOOKUP(\"WRONG\",Answers!AW:AZ,4,FALSE),BA22)+BB22)","v":""},{"$f":"IF($B22=\"\",\"\",UPPER(Mainframe!P21))","v":""},{"$f":"IF(BD22=\"\",\"\",IF(NOT(ISNA(VLOOKUP(BD22,Answers!BA:BD,4,FALSE))),VLOOKUP(BD22,Answers!BA:BD,4,FALSE),\"Help!\"))","v":""},null,{"$f":"IF(BE22=\"\",\"\",BC22+IF(BE22=\"XX\",VLOOKUP(\"WRONG\",Answers!BA:BD,4,FALSE),BE22)+BF22)","v":""},{"$f":"IF($B22=\"\",\"\",UPPER(Mainframe!Q21))","v":""},{"$f":"IF(BH22=\"\",\"\",IF(NOT(ISNA(VLOOKUP(BH22,Answers!BE:BH,4,FALSE))),VLOOKUP(BH22,Answers!BE:BH,4,FALSE),\"Help!\"))","v":""},null,{"$f":"IF(BI22=\"\",\"\",BG22+IF(BI22=\"XX\",VLOOKUP(\"WRONG\",Answers!BE:BH,4,FALSE),BI22)+BJ22)","v":""},{"$f":"IF($B22=\"\",\"\",UPPER(Mainframe!R21))","v":""},{"$f":"IF(BL22=\"\",\"\",IF(NOT(ISNA(VLOOKUP(BL22,Answers!BI:BL,4,FALSE))),VLOOKUP(BL22,Answers!BI:BL,4,FALSE),\"Help!\"))","v":""},null,{"$f":"IF(BM22=\"\",\"\",BK22+IF(BM22=\"XX\",VLOOKUP(\"WRONG\",Answers!BI:BL,4,FALSE),BM22)+BN22)","v":""},{"$f":"IF($B22=\"\",\"\",UPPER(Mainframe!S21))","v":""},{"$f":"IF(BP22=\"\",\"\",IF(NOT(ISNA(VLOOKUP(BP22,Answers!BM:BP,4,FALSE))),VLOOKUP(BP22,Answers!BM:BP,4,FALSE),\"Help!\"))","v":""},null,{"$f":"IF(BQ22=\"\",\"\",BO22+IF(BQ22=\"XX\",VLOOKUP(\"WRONG\",Answers!BM:BP,4,FALSE),BQ22)+BR22)","v":""},{"$f":"IF($B22=\"\",\"\",UPPER(Mainframe!T21))","v":""},{"$f":"IF(BT22=\"\",\"\",IF(NOT(ISNA(VLOOKUP(BT22,Answers!BQ:BT,4,FALSE))),VLOOKUP(BT22,Answers!BQ:BT,4,FALSE),\"Help!\"))","v":""},null,{"$f":"IF(BU22=\"\",\"\",BS22+IF(BU22=\"XX\",VLOOKUP(\"WRONG\",Answers!BQ:BT,4,FALSE),BU22)+BV22)","v":""},{"$f":"IF($B22=\"\",\"\",UPPER(Mainframe!U21))","v":""},{"$f":"IF(BX22=\"\",\"\",IF(NOT(ISNA(VLOOKUP(BX22,Answers!BU:BX,4,FALSE))),VLOOKUP(BX22,Answers!BU:BX,4,FALSE),\"Help!\"))","v":""},null,{"$f":"IF(BY22=\"\",\"\",BW22+IF(BY22=\"XX\",VLOOKUP(\"WRONG\",Answers!BU:BX,4,FALSE),BY22)+BZ22)","v":""},{"$f":"IF($B22=\"\",\"\",UPPER(Mainframe!V21))","v":""},{"$f":"IF(CB22=\"\",\"\",IF(NOT(ISNA(VLOOKUP(CB22,Answers!BY:CB,4,FALSE))),VLOOKUP(CB22,Answers!BY:CB,4,FALSE),\"Help!\"))","v":""},null,{"$f":"IF(CC22=\"\",\"\",CA22+IF(CC22=\"XX\",VLOOKUP(\"WRONG\",Answers!BY:CB,4,FALSE),CC22)+CD22)","v":""},null,null,1,{"$f":"IF(INDEX($B:$CE,ROW(),QNO*4-1)=DROPNAME,DROPNAME,IF(INDEX($B:$CE,ROW(),QNO*4-1)=SHEEPNAME,SHEEPNAME,IF(INDEX($B:$CE,ROW(),QNO*4)=\"XX\",INDEX($B:$CE,ROW(),QNO*4-1),INDEX(OFFSET(Answers!B:B,0,(QNO-1)*4),MATCH(INDEX($A:$CB,ROW(),QNO*4),OFFSET(Answers!A:A,0,(QNO-1)*4),0))&\" — \"&IF(INDEX($B:$CE,ROW(),QNO*4)=1,\"[b]Singleton![/b]\",CONCATENATE(INDEX($B:$CE,ROW(),QNO*4),\" responses\")))))","v":{"$error":"#N/A"}},"//////////////////////////////////////////////////////////////////////////////////////////////////////////////////////////////////////////////////////////////////////////////////////////////////////////////////////////","No",{"$f":"IF(B22=0,\"\",CONCATENATE(INDEX($CH:$CL,ROW(),1),\". \",INDEX($B:$CE,ROW(),1),\" — [b]\")&IF(QNO=1,CONCATENATE(INDEX($B:$CE,ROW(),QNO*4+2),\"[/b] pts\"),CONCATENATE(INDEX($B:$CE,ROW(),QNO*4-2),\" + \",IF(INDEX($B:$CE,ROW(),QNO*4)=\"XX\",INDEX(Answers!$A:$ZZ,2,QNO*4),INDEX($B:$CE,ROW(),QNO*4)),\" = \",INDEX($B:$CE,ROW(),QNO*4+2),\"[/b] pts \",IF(INDEX($C:$CE,ROW(),QNO*4)>0,\"(penalty: +\"&INDEX($C:$CE,ROW(),QNO*4)&\") \",IF(INDEX($C:$CE,ROW(),QNO*4)<0,\"(bonus: \"&INDEX($C:$CE,ROW(),QNO*4)&\") \",\"\"))&\"[[b]\"&IF(CN22>0,\"[color=#00BF00]↑\"&CN22,IF(CN22<0,\"[color=#FF0000]↓\"&ABS(CN22),\"[color=#0000FF]unch\"))&\"[/b][/color]]\")))","v":"1.  — [b][/b] pts"},1,0]
["[*]",{"$f":"IF(Mainframe!B22=\"\",\"\",INDEX(Mainframe!$B:$B,C23+1,1))","v":""},21,{"$f":"IF($B23=\"\",\"\",UPPER(Mainframe!C22))","v":""},{"$f":"IF(D23=\"\",\"\",IF(NOT(ISNA(VLOOKUP(D23,Answers!A:D,4,FALSE))),VLOOKUP(D23,Answers!A:D,4,FALSE),\"Help!\"))","v":""},null,{"$f":"IF(E23=\"\",\"\",IF(E23=\"XX\",VLOOKUP(\"WRONG\",Answers!A:D,4,FALSE),E23)+F23)","v":""},{"$f":"IF($B23=\"\",\"\",UPPER(Mainframe!D22))","v":""},{"$f":"IF(H23=\"\",\"\",IF(NOT(ISNA(VLOOKUP(H23,Answers!E:H,4,FALSE))),VLOOKUP(H23,Answers!E:H,4,FALSE),\"Help!\"))","v":""},null,{"$f":"IF(I23=\"\",\"\",G23+IF(I23=\"XX\",VLOOKUP(\"WRONG\",Answers!E:H,4,FALSE),I23)+J23)","v":""},{"$f":"IF($B23=\"\",\"\",UPPER(Mainframe!E22))","v":""},{"$f":"IF(L23=\"\",\"\",IF(NOT(ISNA(VLOOKUP(L23,Answers!I:L,4,FALSE))),VLOOKUP(L23,Answers!I:L,4,FALSE),\"Help!\"))","v":""},null,{"$f":"IF(M23=\"\",\"\",K23+IF(M23=\"XX\",VLOOKUP(\"WRONG\",Answers!I:L,4,FALSE),M23)+N23)","v":""},{"$f":"IF($B23=\"\",\"\",UPPER(Mainframe!F22))","v":""},{"$f":"IF(P23=\"\",\"\",IF(NOT(ISNA(VLOOKUP(P23,Answers!M:P,4,FALSE))),VLOOKUP(P23,Answers!M:P,4,FALSE),\"Help!\"))","v":""},null,{"$f":"IF(Q23=\"\",\"\",O23+IF(Q23=\"XX\",VLOOKUP(\"WRONG\",Answers!M:P,4,FALSE),Q23)+R23)","v":""},{"$f":"IF($B23=\"\",\"\",UPPER(Mainframe!G22))","v":""},{"$f":"IF(T23=\"\",\"\",IF(NOT(ISNA(VLOOKUP(T23,Answers!Q:T,4,FALSE))),VLOOKUP(T23,Answers!Q:T,4,FALSE),\"Help!\"))","v":""},null,{"$f":"IF(U23=\"\",\"\",S23+IF(U23=\"XX\",VLOOKUP(\"WRONG\",Answers!Q:T,4,FALSE),U23)+V23)","v":""},{"$f":"IF($B23=\"\",\"\",UPPER(Mainframe!H22))","v":""},{"$f":"IF(X23=\"\",\"\",IF(NOT(ISNA(VLOOKUP(X23,Answers!U:X,4,FALSE))),VLOOKUP(X23,Answers!U:X,4,FALSE),\"Help!\"))","v":""},null,{"$f":"IF(Y23=\"\",\"\",W23+IF(Y23=\"XX\",VLOOKUP(\"WRONG\",Answers!U:X,4,FALSE),Y23)+Z23)","v":""},{"$f":"IF($B23=\"\",\"\",UPPER(Mainframe!I22))","v":""},{"$f":"IF(AB23=\"\",\"\",IF(NOT(ISNA(VLOOKUP(AB23,Answers!Y:AB,4,FALSE))),VLOOKUP(AB23,Answers!Y:AB,4,FALSE),\"Help!\"))","v":""},null,{"$f":"IF(AC23=\"\",\"\",AA23+IF(AC23=\"XX\",VLOOKUP(\"WRONG\",Answers!Y:AB,4,FALSE),AC23)+AD23)","v":""},{"$f":"IF($B23=\"\",\"\",UPPER(Mainframe!J22))","v":""},{"$f":"IF(AF23=\"\",\"\",IF(NOT(ISNA(VLOOKUP(AF23,Answers!AC:AF,4,FALSE))),VLOOKUP(AF23,Answers!AC:AF,4,FALSE),\"Help!\"))","v":""},null,{"$f":"IF(AG23=\"\",\"\",AE23+IF(AG23=\"XX\",VLOOKUP(\"WRONG\",Answers!AC:AF,4,FALSE),AG23)+AH23)","v":""},{"$f":"IF($B23=\"\",\"\",UPPER(Mainframe!K22))","v":""},{"$f":"IF(AJ23=\"\",\"\",IF(NOT(ISNA(VLOOKUP(AJ23,Answers!AG:AJ,4,FALSE))),VLOOKUP(AJ23,Answers!AG:AJ,4,FALSE),\"Help!\"))","v":""},null,{"$f":"IF(AK23=\"\",\"\",AI23+IF(AK23=\"XX\",VLOOKUP(\"WRONG\",Answers!AG:AJ,4,FALSE),AK23)+AL23)","v":""},{"$f":"IF($B23=\"\",\"\",UPPER(Mainframe!L22))","v":""},{"$f":"IF(AN23=\"\",\"\",IF(NOT(ISNA(VLOOKUP(AN23,Answers!AK:AN,4,FALSE))),VLOOKUP(AN23,Answers!AK:AN,4,FALSE),\"Help!\"))","v":""},null,{"$f":"IF(AO23=\"\",\"\",AM23+IF(AO23=\"XX\",VLOOKUP(\"WRONG\",Answers!AK:AN,4,FALSE),AO23)+AP23)","v":""},{"$f":"IF($B23=\"\",\"\",UPPER(Mainframe!M22))","v":""},{"$f":"IF(AR23=\"\",\"\",IF(NOT(ISNA(VLOOKUP(AR23,Answers!AO:AR,4,FALSE))),VLOOKUP(AR23,Answers!AO:AR,4,FALSE),\"Help!\"))","v":""},null,{"$f":"IF(AS23=\"\",\"\",AQ23+IF(AS23=\"XX\",VLOOKUP(\"WRONG\",Answers!AO:AR,4,FALSE),AS23)+AT23)","v":""},{"$f":"IF($B23=\"\",\"\",UPPER(Mainframe!N22))","v":""},{"$f":"IF(AV23=\"\",\"\",IF(NOT(ISNA(VLOOKUP(AV23,Answers!AS:AV,4,FALSE))),VLOOKUP(AV23,Answers!AS:AV,4,FALSE),\"Help!\"))","v":""},null,{"$f":"IF(AW23=\"\",\"\",AU23+IF(AW23=\"XX\",VLOOKUP(\"WRONG\",Answers!AS:AV,4,FALSE),AW23)+AX23)","v":""},{"$f":"IF($B23=\"\",\"\",UPPER(Mainframe!O22))","v":""},{"$f":"IF(AZ23=\"\",\"\",IF(NOT(ISNA(VLOOKUP(AZ23,Answers!AW:AZ,4,FALSE))),VLOOKUP(AZ23,Answers!AW:AZ,4,FALSE),\"Help!\"))","v":""},null,{"$f":"IF(BA23=\"\",\"\",AY23+IF(BA23=\"XX\",VLOOKUP(\"WRONG\",Answers!AW:AZ,4,FALSE),BA23)+BB23)","v":""},{"$f":"IF($B23=\"\",\"\",UPPER(Mainframe!P22))","v":""},{"$f":"IF(BD23=\"\",\"\",IF(NOT(ISNA(VLOOKUP(BD23,Answers!BA:BD,4,FALSE))),VLOOKUP(BD23,Answers!BA:BD,4,FALSE),\"Help!\"))","v":""},null,{"$f":"IF(BE23=\"\",\"\",BC23+IF(BE23=\"XX\",VLOOKUP(\"WRONG\",Answers!BA:BD,4,FALSE),BE23)+BF23)","v":""},{"$f":"IF($B23=\"\",\"\",UPPER(Mainframe!Q22))","v":""},{"$f":"IF(BH23=\"\",\"\",IF(NOT(ISNA(VLOOKUP(BH23,Answers!BE:BH,4,FALSE))),VLOOKUP(BH23,Answers!BE:BH,4,FALSE),\"Help!\"))","v":""},null,{"$f":"IF(BI23=\"\",\"\",BG23+IF(BI23=\"XX\",VLOOKUP(\"WRONG\",Answers!BE:BH,4,FALSE),BI23)+BJ23)","v":""},{"$f":"IF($B23=\"\",\"\",UPPER(Mainframe!R22))","v":""},{"$f":"IF(BL23=\"\",\"\",IF(NOT(ISNA(VLOOKUP(BL23,Answers!BI:BL,4,FALSE))),VLOOKUP(BL23,Answers!BI:BL,4,FALSE),\"Help!\"))","v":""},null,{"$f":"IF(BM23=\"\",\"\",BK23+IF(BM23=\"XX\",VLOOKUP(\"WRONG\",Answers!BI:BL,4,FALSE),BM23)+BN23)","v":""},{"$f":"IF($B23=\"\",\"\",UPPER(Mainframe!S22))","v":""},{"$f":"IF(BP23=\"\",\"\",IF(NOT(ISNA(VLOOKUP(BP23,Answers!BM:BP,4,FALSE))),VLOOKUP(BP23,Answers!BM:BP,4,FALSE),\"Help!\"))","v":""},null,{"$f":"IF(BQ23=\"\",\"\",BO23+IF(BQ23=\"XX\",VLOOKUP(\"WRONG\",Answers!BM:BP,4,FALSE),BQ23)+BR23)","v":""},{"$f":"IF($B23=\"\",\"\",UPPER(Mainframe!T22))","v":""},{"$f":"IF(BT23=\"\",\"\",IF(NOT(ISNA(VLOOKUP(BT23,Answers!BQ:BT,4,FALSE))),VLOOKUP(BT23,Answers!BQ:BT,4,FALSE),\"Help!\"))","v":""},null,{"$f":"IF(BU23=\"\",\"\",BS23+IF(BU23=\"XX\",VLOOKUP(\"WRONG\",Answers!BQ:BT,4,FALSE),BU23)+BV23)","v":""},{"$f":"IF($B23=\"\",\"\",UPPER(Mainframe!U22))","v":""},{"$f":"IF(BX23=\"\",\"\",IF(NOT(ISNA(VLOOKUP(BX23,Answers!BU:BX,4,FALSE))),VLOOKUP(BX23,Answers!BU:BX,4,FALSE),\"Help!\"))","v":""},null,{"$f":"IF(BY23=\"\",\"\",BW23+IF(BY23=\"XX\",VLOOKUP(\"WRONG\",Answers!BU:BX,4,FALSE),BY23)+BZ23)","v":""},{"$f":"IF($B23=\"\",\"\",UPPER(Mainframe!V22))","v":""},{"$f":"IF(CB23=\"\",\"\",IF(NOT(ISNA(VLOOKUP(CB23,Answers!BY:CB,4,FALSE))),VLOOKUP(CB23,Answers!BY:CB,4,FALSE),\"Help!\"))","v":""},null,{"$f":"IF(CC23=\"\",\"\",CA23+IF(CC23=\"XX\",VLOOKUP(\"WRONG\",Answers!BY:CB,4,FALSE),CC23)+CD23)","v":""},null,null,1,{"$f":"IF(INDEX($B:$CE,ROW(),QNO*4-1)=DROPNAME,DROPNAME,IF(INDEX($B:$CE,ROW(),QNO*4-1)=SHEEPNAME,SHEEPNAME,IF(INDEX($B:$CE,ROW(),QNO*4)=\"XX\",INDEX($B:$CE,ROW(),QNO*4-1),INDEX(OFFSET(Answers!B:B,0,(QNO-1)*4),MATCH(INDEX($A:$CB,ROW(),QNO*4),OFFSET(Answers!A:A,0,(QNO-1)*4),0))&\" — \"&IF(INDEX($B:$CE,ROW(),QNO*4)=1,\"[b]Singleton![/b]\",CONCATENATE(INDEX($B:$CE,ROW(),QNO*4),\" responses\")))))","v":{"$error":"#N/A"}},"////////////////////////////////////////////////////////////////////////////////////////////////////////////////////////////////////////////////////////////////////////////////////////////////////////////////////////","No",{"$f":"IF(B23=0,\"\",CONCATENATE(INDEX($CH:$CL,ROW(),1),\". \",INDEX($B:$CE,ROW(),1),\" — [b]\")&IF(QNO=1,CONCATENATE(INDEX($B:$CE,ROW(),QNO*4+2),\"[/b] pts\"),CONCATENATE(INDEX($B:$CE,ROW(),QNO*4-2),\" + \",IF(INDEX($B:$CE,ROW(),QNO*4)=\"XX\",INDEX(Answers!$A:$ZZ,2,QNO*4),INDEX($B:$CE,ROW(),QNO*4)),\" = \",INDEX($B:$CE,ROW(),QNO*4+2),\"[/b] pts \",IF(INDEX($C:$CE,ROW(),QNO*4)>0,\"(penalty: +\"&INDEX($C:$CE,ROW(),QNO*4)&\") \",IF(INDEX($C:$CE,ROW(),QNO*4)<0,\"(bonus: \"&INDEX($C:$CE,ROW(),QNO*4)&\") \",\"\"))&\"[[b]\"&IF(CN23>0,\"[color=#00BF00]↑\"&CN23,IF(CN23<0,\"[color=#FF0000]↓\"&ABS(CN23),\"[color=#0000FF]unch\"))&\"[/b][/color]]\")))","v":"1.  — [b][/b] pts"},1,0]
["[*]",{"$f":"IF(Mainframe!B23=\"\",\"\",INDEX(Mainframe!$B:$B,C24+1,1))","v":""},22,{"$f":"IF($B24=\"\",\"\",UPPER(Mainframe!C23))","v":""},{"$f":"IF(D24=\"\",\"\",IF(NOT(ISNA(VLOOKUP(D24,Answers!A:D,4,FALSE))),VLOOKUP(D24,Answers!A:D,4,FALSE),\"Help!\"))","v":""},null,{"$f":"IF(E24=\"\",\"\",IF(E24=\"XX\",VLOOKUP(\"WRONG\",Answers!A:D,4,FALSE),E24)+F24)","v":""},{"$f":"IF($B24=\"\",\"\",UPPER(Mainframe!D23))","v":""},{"$f":"IF(H24=\"\",\"\",IF(NOT(ISNA(VLOOKUP(H24,Answers!E:H,4,FALSE))),VLOOKUP(H24,Answers!E:H,4,FALSE),\"Help!\"))","v":""},null,{"$f":"IF(I24=\"\",\"\",G24+IF(I24=\"XX\",VLOOKUP(\"WRONG\",Answers!E:H,4,FALSE),I24)+J24)","v":""},{"$f":"IF($B24=\"\",\"\",UPPER(Mainframe!E23))","v":""},{"$f":"IF(L24=\"\",\"\",IF(NOT(ISNA(VLOOKUP(L24,Answers!I:L,4,FALSE))),VLOOKUP(L24,Answers!I:L,4,FALSE),\"Help!\"))","v":""},null,{"$f":"IF(M24=\"\",\"\",K24+IF(M24=\"XX\",VLOOKUP(\"WRONG\",Answers!I:L,4,FALSE),M24)+N24)","v":""},{"$f":"IF($B24=\"\",\"\",UPPER(Mainframe!F23))","v":""},{"$f":"IF(P24=\"\",\"\",IF(NOT(ISNA(VLOOKUP(P24,Answers!M:P,4,FALSE))),VLOOKUP(P24,Answers!M:P,4,FALSE),\"Help!\"))","v":""},null,{"$f":"IF(Q24=\"\",\"\",O24+IF(Q24=\"XX\",VLOOKUP(\"WRONG\",Answers!M:P,4,FALSE),Q24)+R24)","v":""},{"$f":"IF($B24=\"\",\"\",UPPER(Mainframe!G23))","v":""},{"$f":"IF(T24=\"\",\"\",IF(NOT(ISNA(VLOOKUP(T24,Answers!Q:T,4,FALSE))),VLOOKUP(T24,Answers!Q:T,4,FALSE),\"Help!\"))","v":""},null,{"$f":"IF(U24=\"\",\"\",S24+IF(U24=\"XX\",VLOOKUP(\"WRONG\",Answers!Q:T,4,FALSE),U24)+V24)","v":""},{"$f":"IF($B24=\"\",\"\",UPPER(Mainframe!H23))","v":""},{"$f":"IF(X24=\"\",\"\",IF(NOT(ISNA(VLOOKUP(X24,Answers!U:X,4,FALSE))),VLOOKUP(X24,Answers!U:X,4,FALSE),\"Help!\"))","v":""},null,{"$f":"IF(Y24=\"\",\"\",W24+IF(Y24=\"XX\",VLOOKUP(\"WRONG\",Answers!U:X,4,FALSE),Y24)+Z24)","v":""},{"$f":"IF($B24=\"\",\"\",UPPER(Mainframe!I23))","v":""},{"$f":"IF(AB24=\"\",\"\",IF(NOT(ISNA(VLOOKUP(AB24,Answers!Y:AB,4,FALSE))),VLOOKUP(AB24,Answers!Y:AB,4,FALSE),\"Help!\"))","v":""},null,{"$f":"IF(AC24=\"\",\"\",AA24+IF(AC24=\"XX\",VLOOKUP(\"WRONG\",Answers!Y:AB,4,FALSE),AC24)+AD24)","v":""},{"$f":"IF($B24=\"\",\"\",UPPER(Mainframe!J23))","v":""},{"$f":"IF(AF24=\"\",\"\",IF(NOT(ISNA(VLOOKUP(AF24,Answers!AC:AF,4,FALSE))),VLOOKUP(AF24,Answers!AC:AF,4,FALSE),\"Help!\"))","v":""},null,{"$f":"IF(AG24=\"\",\"\",AE24+IF(AG24=\"XX\",VLOOKUP(\"WRONG\",Answers!AC:AF,4,FALSE),AG24)+AH24)","v":""},{"$f":"IF($B24=\"\",\"\",UPPER(Mainframe!K23))","v":""},{"$f":"IF(AJ24=\"\",\"\",IF(NOT(ISNA(VLOOKUP(AJ24,Answers!AG:AJ,4,FALSE))),VLOOKUP(AJ24,Answers!AG:AJ,4,FALSE),\"Help!\"))","v":""},null,{"$f":"IF(AK24=\"\",\"\",AI24+IF(AK24=\"XX\",VLOOKUP(\"WRONG\",Answers!AG:AJ,4,FALSE),AK24)+AL24)","v":""},{"$f":"IF($B24=\"\",\"\",UPPER(Mainframe!L23))","v":""},{"$f":"IF(AN24=\"\",\"\",IF(NOT(ISNA(VLOOKUP(AN24,Answers!AK:AN,4,FALSE))),VLOOKUP(AN24,Answers!AK:AN,4,FALSE),\"Help!\"))","v":""},null,{"$f":"IF(AO24=\"\",\"\",AM24+IF(AO24=\"XX\",VLOOKUP(\"WRONG\",Answers!AK:AN,4,FALSE),AO24)+AP24)","v":""},{"$f":"IF($B24=\"\",\"\",UPPER(Mainframe!M23))","v":""},{"$f":"IF(AR24=\"\",\"\",IF(NOT(ISNA(VLOOKUP(AR24,Answers!AO:AR,4,FALSE))),VLOOKUP(AR24,Answers!AO:AR,4,FALSE),\"Help!\"))","v":""},null,{"$f":"IF(AS24=\"\",\"\",AQ24+IF(AS24=\"XX\",VLOOKUP(\"WRONG\",Answers!AO:AR,4,FALSE),AS24)+AT24)","v":""},{"$f":"IF($B24=\"\",\"\",UPPER(Mainframe!N23))","v":""},{"$f":"IF(AV24=\"\",\"\",IF(NOT(ISNA(VLOOKUP(AV24,Answers!AS:AV,4,FALSE))),VLOOKUP(AV24,Answers!AS:AV,4,FALSE),\"Help!\"))","v":""},null,{"$f":"IF(AW24=\"\",\"\",AU24+IF(AW24=\"XX\",VLOOKUP(\"WRONG\",Answers!AS:AV,4,FALSE),AW24)+AX24)","v":""},{"$f":"IF($B24=\"\",\"\",UPPER(Mainframe!O23))","v":""},{"$f":"IF(AZ24=\"\",\"\",IF(NOT(ISNA(VLOOKUP(AZ24,Answers!AW:AZ,4,FALSE))),VLOOKUP(AZ24,Answers!AW:AZ,4,FALSE),\"Help!\"))","v":""},null,{"$f":"IF(BA24=\"\",\"\",AY24+IF(BA24=\"XX\",VLOOKUP(\"WRONG\",Answers!AW:AZ,4,FALSE),BA24)+BB24)","v":""},{"$f":"IF($B24=\"\",\"\",UPPER(Mainframe!P23))","v":""},{"$f":"IF(BD24=\"\",\"\",IF(NOT(ISNA(VLOOKUP(BD24,Answers!BA:BD,4,FALSE))),VLOOKUP(BD24,Answers!BA:BD,4,FALSE),\"Help!\"))","v":""},null,{"$f":"IF(BE24=\"\",\"\",BC24+IF(BE24=\"XX\",VLOOKUP(\"WRONG\",Answers!BA:BD,4,FALSE),BE24)+BF24)","v":""},{"$f":"IF($B24=\"\",\"\",UPPER(Mainframe!Q23))","v":""},{"$f":"IF(BH24=\"\",\"\",IF(NOT(ISNA(VLOOKUP(BH24,Answers!BE:BH,4,FALSE))),VLOOKUP(BH24,Answers!BE:BH,4,FALSE),\"Help!\"))","v":""},null,{"$f":"IF(BI24=\"\",\"\",BG24+IF(BI24=\"XX\",VLOOKUP(\"WRONG\",Answers!BE:BH,4,FALSE),BI24)+BJ24)","v":""},{"$f":"IF($B24=\"\",\"\",UPPER(Mainframe!R23))","v":""},{"$f":"IF(BL24=\"\",\"\",IF(NOT(ISNA(VLOOKUP(BL24,Answers!BI:BL,4,FALSE))),VLOOKUP(BL24,Answers!BI:BL,4,FALSE),\"Help!\"))","v":""},null,{"$f":"IF(BM24=\"\",\"\",BK24+IF(BM24=\"XX\",VLOOKUP(\"WRONG\",Answers!BI:BL,4,FALSE),BM24)+BN24)","v":""},{"$f":"IF($B24=\"\",\"\",UPPER(Mainframe!S23))","v":""},{"$f":"IF(BP24=\"\",\"\",IF(NOT(ISNA(VLOOKUP(BP24,Answers!BM:BP,4,FALSE))),VLOOKUP(BP24,Answers!BM:BP,4,FALSE),\"Help!\"))","v":""},null,{"$f":"IF(BQ24=\"\",\"\",BO24+IF(BQ24=\"XX\",VLOOKUP(\"WRONG\",Answers!BM:BP,4,FALSE),BQ24)+BR24)","v":""},{"$f":"IF($B24=\"\",\"\",UPPER(Mainframe!T23))","v":""},{"$f":"IF(BT24=\"\",\"\",IF(NOT(ISNA(VLOOKUP(BT24,Answers!BQ:BT,4,FALSE))),VLOOKUP(BT24,Answers!BQ:BT,4,FALSE),\"Help!\"))","v":""},null,{"$f":"IF(BU24=\"\",\"\",BS24+IF(BU24=\"XX\",VLOOKUP(\"WRONG\",Answers!BQ:BT,4,FALSE),BU24)+BV24)","v":""},{"$f":"IF($B24=\"\",\"\",UPPER(Mainframe!U23))","v":""},{"$f":"IF(BX24=\"\",\"\",IF(NOT(ISNA(VLOOKUP(BX24,Answers!BU:BX,4,FALSE))),VLOOKUP(BX24,Answers!BU:BX,4,FALSE),\"Help!\"))","v":""},null,{"$f":"IF(BY24=\"\",\"\",BW24+IF(BY24=\"XX\",VLOOKUP(\"WRONG\",Answers!BU:BX,4,FALSE),BY24)+BZ24)","v":""},{"$f":"IF($B24=\"\",\"\",UPPER(Mainframe!V23))","v":""},{"$f":"IF(CB24=\"\",\"\",IF(NOT(ISNA(VLOOKUP(CB24,Answers!BY:CB,4,FALSE))),VLOOKUP(CB24,Answers!BY:CB,4,FALSE),\"Help!\"))","v":""},null,{"$f":"IF(CC24=\"\",\"\",CA24+IF(CC24=\"XX\",VLOOKUP(\"WRONG\",Answers!BY:CB,4,FALSE),CC24)+CD24)","v":""},null,null,1,{"$f":"IF(INDEX($B:$CE,ROW(),QNO*4-1)=DROPNAME,DROPNAME,IF(INDEX($B:$CE,ROW(),QNO*4-1)=SHEEPNAME,SHEEPNAME,IF(INDEX($B:$CE,ROW(),QNO*4)=\"XX\",INDEX($B:$CE,ROW(),QNO*4-1),INDEX(OFFSET(Answers!B:B,0,(QNO-1)*4),MATCH(INDEX($A:$CB,ROW(),QNO*4),OFFSET(Answers!A:A,0,(QNO-1)*4),0))&\" — \"&IF(INDEX($B:$CE,ROW(),QNO*4)=1,\"[b]Singleton![/b]\",CONCATENATE(INDEX($B:$CE,ROW(),QNO*4),\" responses\")))))","v":{"$error":"#N/A"}},"//////////////////////////////////////////////////////////////////////////////////////////////////////////////////////////////////////////////////////////////////////////////////////////////////////////////////////","No",{"$f":"IF(B24=0,\"\",CONCATENATE(INDEX($CH:$CL,ROW(),1),\". \",INDEX($B:$CE,ROW(),1),\" — [b]\")&IF(QNO=1,CONCATENATE(INDEX($B:$CE,ROW(),QNO*4+2),\"[/b] pts\"),CONCATENATE(INDEX($B:$CE,ROW(),QNO*4-2),\" + \",IF(INDEX($B:$CE,ROW(),QNO*4)=\"XX\",INDEX(Answers!$A:$ZZ,2,QNO*4),INDEX($B:$CE,ROW(),QNO*4)),\" = \",INDEX($B:$CE,ROW(),QNO*4+2),\"[/b] pts \",IF(INDEX($C:$CE,ROW(),QNO*4)>0,\"(penalty: +\"&INDEX($C:$CE,ROW(),QNO*4)&\") \",IF(INDEX($C:$CE,ROW(),QNO*4)<0,\"(bonus: \"&INDEX($C:$CE,ROW(),QNO*4)&\") \",\"\"))&\"[[b]\"&IF(CN24>0,\"[color=#00BF00]↑\"&CN24,IF(CN24<0,\"[color=#FF0000]↓\"&ABS(CN24),\"[color=#0000FF]unch\"))&\"[/b][/color]]\")))","v":"1.  — [b][/b] pts"},1,0]
["[*]",{"$f":"IF(Mainframe!B24=\"\",\"\",INDEX(Mainframe!$B:$B,C25+1,1))","v":""},23,{"$f":"IF($B25=\"\",\"\",UPPER(Mainframe!C24))","v":""},{"$f":"IF(D25=\"\",\"\",IF(NOT(ISNA(VLOOKUP(D25,Answers!A:D,4,FALSE))),VLOOKUP(D25,Answers!A:D,4,FALSE),\"Help!\"))","v":""},null,{"$f":"IF(E25=\"\",\"\",IF(E25=\"XX\",VLOOKUP(\"WRONG\",Answers!A:D,4,FALSE),E25)+F25)","v":""},{"$f":"IF($B25=\"\",\"\",UPPER(Mainframe!D24))","v":""},{"$f":"IF(H25=\"\",\"\",IF(NOT(ISNA(VLOOKUP(H25,Answers!E:H,4,FALSE))),VLOOKUP(H25,Answers!E:H,4,FALSE),\"Help!\"))","v":""},null,{"$f":"IF(I25=\"\",\"\",G25+IF(I25=\"XX\",VLOOKUP(\"WRONG\",Answers!E:H,4,FALSE),I25)+J25)","v":""},{"$f":"IF($B25=\"\",\"\",UPPER(Mainframe!E24))","v":""},{"$f":"IF(L25=\"\",\"\",IF(NOT(ISNA(VLOOKUP(L25,Answers!I:L,4,FALSE))),VLOOKUP(L25,Answers!I:L,4,FALSE),\"Help!\"))","v":""},null,{"$f":"IF(M25=\"\",\"\",K25+IF(M25=\"XX\",VLOOKUP(\"WRONG\",Answers!I:L,4,FALSE),M25)+N25)","v":""},{"$f":"IF($B25=\"\",\"\",UPPER(Mainframe!F24))","v":""},{"$f":"IF(P25=\"\",\"\",IF(NOT(ISNA(VLOOKUP(P25,Answers!M:P,4,FALSE))),VLOOKUP(P25,Answers!M:P,4,FALSE),\"Help!\"))","v":""},null,{"$f":"IF(Q25=\"\",\"\",O25+IF(Q25=\"XX\",VLOOKUP(\"WRONG\",Answers!M:P,4,FALSE),Q25)+R25)","v":""},{"$f":"IF($B25=\"\",\"\",UPPER(Mainframe!G24))","v":""},{"$f":"IF(T25=\"\",\"\",IF(NOT(ISNA(VLOOKUP(T25,Answers!Q:T,4,FALSE))),VLOOKUP(T25,Answers!Q:T,4,FALSE),\"Help!\"))","v":""},null,{"$f":"IF(U25=\"\",\"\",S25+IF(U25=\"XX\",VLOOKUP(\"WRONG\",Answers!Q:T,4,FALSE),U25)+V25)","v":""},{"$f":"IF($B25=\"\",\"\",UPPER(Mainframe!H24))","v":""},{"$f":"IF(X25=\"\",\"\",IF(NOT(ISNA(VLOOKUP(X25,Answers!U:X,4,FALSE))),VLOOKUP(X25,Answers!U:X,4,FALSE),\"Help!\"))","v":""},null,{"$f":"IF(Y25=\"\",\"\",W25+IF(Y25=\"XX\",VLOOKUP(\"WRONG\",Answers!U:X,4,FALSE),Y25)+Z25)","v":""},{"$f":"IF($B25=\"\",\"\",UPPER(Mainframe!I24))","v":""},{"$f":"IF(AB25=\"\",\"\",IF(NOT(ISNA(VLOOKUP(AB25,Answers!Y:AB,4,FALSE))),VLOOKUP(AB25,Answers!Y:AB,4,FALSE),\"Help!\"))","v":""},null,{"$f":"IF(AC25=\"\",\"\",AA25+IF(AC25=\"XX\",VLOOKUP(\"WRONG\",Answers!Y:AB,4,FALSE),AC25)+AD25)","v":""},{"$f":"IF($B25=\"\",\"\",UPPER(Mainframe!J24))","v":""},{"$f":"IF(AF25=\"\",\"\",IF(NOT(ISNA(VLOOKUP(AF25,Answers!AC:AF,4,FALSE))),VLOOKUP(AF25,Answers!AC:AF,4,FALSE),\"Help!\"))","v":""},null,{"$f":"IF(AG25=\"\",\"\",AE25+IF(AG25=\"XX\",VLOOKUP(\"WRONG\",Answers!AC:AF,4,FALSE),AG25)+AH25)","v":""},{"$f":"IF($B25=\"\",\"\",UPPER(Mainframe!K24))","v":""},{"$f":"IF(AJ25=\"\",\"\",IF(NOT(ISNA(VLOOKUP(AJ25,Answers!AG:AJ,4,FALSE))),VLOOKUP(AJ25,Answers!AG:AJ,4,FALSE),\"Help!\"))","v":""},null,{"$f":"IF(AK25=\"\",\"\",AI25+IF(AK25=\"XX\",VLOOKUP(\"WRONG\",Answers!AG:AJ,4,FALSE),AK25)+AL25)","v":""},{"$f":"IF($B25=\"\",\"\",UPPER(Mainframe!L24))","v":""},{"$f":"IF(AN25=\"\",\"\",IF(NOT(ISNA(VLOOKUP(AN25,Answers!AK:AN,4,FALSE))),VLOOKUP(AN25,Answers!AK:AN,4,FALSE),\"Help!\"))","v":""},null,{"$f":"IF(AO25=\"\",\"\",AM25+IF(AO25=\"XX\",VLOOKUP(\"WRONG\",Answers!AK:AN,4,FALSE),AO25)+AP25)","v":""},{"$f":"IF($B25=\"\",\"\",UPPER(Mainframe!M24))","v":""},{"$f":"IF(AR25=\"\",\"\",IF(NOT(ISNA(VLOOKUP(AR25,Answers!AO:AR,4,FALSE))),VLOOKUP(AR25,Answers!AO:AR,4,FALSE),\"Help!\"))","v":""},null,{"$f":"IF(AS25=\"\",\"\",AQ25+IF(AS25=\"XX\",VLOOKUP(\"WRONG\",Answers!AO:AR,4,FALSE),AS25)+AT25)","v":""},{"$f":"IF($B25=\"\",\"\",UPPER(Mainframe!N24))","v":""},{"$f":"IF(AV25=\"\",\"\",IF(NOT(ISNA(VLOOKUP(AV25,Answers!AS:AV,4,FALSE))),VLOOKUP(AV25,Answers!AS:AV,4,FALSE),\"Help!\"))","v":""},null,{"$f":"IF(AW25=\"\",\"\",AU25+IF(AW25=\"XX\",VLOOKUP(\"WRONG\",Answers!AS:AV,4,FALSE),AW25)+AX25)","v":""},{"$f":"IF($B25=\"\",\"\",UPPER(Mainframe!O24))","v":""},{"$f":"IF(AZ25=\"\",\"\",IF(NOT(ISNA(VLOOKUP(AZ25,Answers!AW:AZ,4,FALSE))),VLOOKUP(AZ25,Answers!AW:AZ,4,FALSE),\"Help!\"))","v":""},null,{"$f":"IF(BA25=\"\",\"\",AY25+IF(BA25=\"XX\",VLOOKUP(\"WRONG\",Answers!AW:AZ,4,FALSE),BA25)+BB25)","v":""},{"$f":"IF($B25=\"\",\"\",UPPER(Mainframe!P24))","v":""},{"$f":"IF(BD25=\"\",\"\",IF(NOT(ISNA(VLOOKUP(BD25,Answers!BA:BD,4,FALSE))),VLOOKUP(BD25,Answers!BA:BD,4,FALSE),\"Help!\"))","v":""},null,{"$f":"IF(BE25=\"\",\"\",BC25+IF(BE25=\"XX\",VLOOKUP(\"WRONG\",Answers!BA:BD,4,FALSE),BE25)+BF25)","v":""},{"$f":"IF($B25=\"\",\"\",UPPER(Mainframe!Q24))","v":""},{"$f":"IF(BH25=\"\",\"\",IF(NOT(ISNA(VLOOKUP(BH25,Answers!BE:BH,4,FALSE))),VLOOKUP(BH25,Answers!BE:BH,4,FALSE),\"Help!\"))","v":""},null,{"$f":"IF(BI25=\"\",\"\",BG25+IF(BI25=\"XX\",VLOOKUP(\"WRONG\",Answers!BE:BH,4,FALSE),BI25)+BJ25)","v":""},{"$f":"IF($B25=\"\",\"\",UPPER(Mainframe!R24))","v":""},{"$f":"IF(BL25=\"\",\"\",IF(NOT(ISNA(VLOOKUP(BL25,Answers!BI:BL,4,FALSE))),VLOOKUP(BL25,Answers!BI:BL,4,FALSE),\"Help!\"))","v":""},null,{"$f":"IF(BM25=\"\",\"\",BK25+IF(BM25=\"XX\",VLOOKUP(\"WRONG\",Answers!BI:BL,4,FALSE),BM25)+BN25)","v":""},{"$f":"IF($B25=\"\",\"\",UPPER(Mainframe!S24))","v":""},{"$f":"IF(BP25=\"\",\"\",IF(NOT(ISNA(VLOOKUP(BP25,Answers!BM:BP,4,FALSE))),VLOOKUP(BP25,Answers!BM:BP,4,FALSE),\"Help!\"))","v":""},null,{"$f":"IF(BQ25=\"\",\"\",BO25+IF(BQ25=\"XX\",VLOOKUP(\"WRONG\",Answers!BM:BP,4,FALSE),BQ25)+BR25)","v":""},{"$f":"IF($B25=\"\",\"\",UPPER(Mainframe!T24))","v":""},{"$f":"IF(BT25=\"\",\"\",IF(NOT(ISNA(VLOOKUP(BT25,Answers!BQ:BT,4,FALSE))),VLOOKUP(BT25,Answers!BQ:BT,4,FALSE),\"Help!\"))","v":""},null,{"$f":"IF(BU25=\"\",\"\",BS25+IF(BU25=\"XX\",VLOOKUP(\"WRONG\",Answers!BQ:BT,4,FALSE),BU25)+BV25)","v":""},{"$f":"IF($B25=\"\",\"\",UPPER(Mainframe!U24))","v":""},{"$f":"IF(BX25=\"\",\"\",IF(NOT(ISNA(VLOOKUP(BX25,Answers!BU:BX,4,FALSE))),VLOOKUP(BX25,Answers!BU:BX,4,FALSE),\"Help!\"))","v":""},null,{"$f":"IF(BY25=\"\",\"\",BW25+IF(BY25=\"XX\",VLOOKUP(\"WRONG\",Answers!BU:BX,4,FALSE),BY25)+BZ25)","v":""},{"$f":"IF($B25=\"\",\"\",UPPER(Mainframe!V24))","v":""},{"$f":"IF(CB25=\"\",\"\",IF(NOT(ISNA(VLOOKUP(CB25,Answers!BY:CB,4,FALSE))),VLOOKUP(CB25,Answers!BY:CB,4,FALSE),\"Help!\"))","v":""},null,{"$f":"IF(CC25=\"\",\"\",CA25+IF(CC25=\"XX\",VLOOKUP(\"WRONG\",Answers!BY:CB,4,FALSE),CC25)+CD25)","v":""},null,null,1,{"$f":"IF(INDEX($B:$CE,ROW(),QNO*4-1)=DROPNAME,DROPNAME,IF(INDEX($B:$CE,ROW(),QNO*4-1)=SHEEPNAME,SHEEPNAME,IF(INDEX($B:$CE,ROW(),QNO*4)=\"XX\",INDEX($B:$CE,ROW(),QNO*4-1),INDEX(OFFSET(Answers!B:B,0,(QNO-1)*4),MATCH(INDEX($A:$CB,ROW(),QNO*4),OFFSET(Answers!A:A,0,(QNO-1)*4),0))&\" — \"&IF(INDEX($B:$CE,ROW(),QNO*4)=1,\"[b]Singleton![/b]\",CONCATENATE(INDEX($B:$CE,ROW(),QNO*4),\" responses\")))))","v":{"$error":"#N/A"}},"////////////////////////////////////////////////////////////////////////////////////////////////////////////////////////////////////////////////////////////////////////////////////////////////////////////////////","No",{"$f":"IF(B25=0,\"\",CONCATENATE(INDEX($CH:$CL,ROW(),1),\". \",INDEX($B:$CE,ROW(),1),\" — [b]\")&IF(QNO=1,CONCATENATE(INDEX($B:$CE,ROW(),QNO*4+2),\"[/b] pts\"),CONCATENATE(INDEX($B:$CE,ROW(),QNO*4-2),\" + \",IF(INDEX($B:$CE,ROW(),QNO*4)=\"XX\",INDEX(Answers!$A:$ZZ,2,QNO*4),INDEX($B:$CE,ROW(),QNO*4)),\" = \",INDEX($B:$CE,ROW(),QNO*4+2),\"[/b] pts \",IF(INDEX($C:$CE,ROW(),QNO*4)>0,\"(penalty: +\"&INDEX($C:$CE,ROW(),QNO*4)&\") \",IF(INDEX($C:$CE,ROW(),QNO*4)<0,\"(bonus: \"&INDEX($C:$CE,ROW(),QNO*4)&\") \",\"\"))&\"[[b]\"&IF(CN25>0,\"[color=#00BF00]↑\"&CN25,IF(CN25<0,\"[color=#FF0000]↓\"&ABS(CN25),\"[color=#0000FF]unch\"))&\"[/b][/color]]\")))","v":"1.  — [b][/b] pts"},1,0]
["[*]",{"$f":"IF(Mainframe!B25=\"\",\"\",INDEX(Mainframe!$B:$B,C26+1,1))","v":""},24,{"$f":"IF($B26=\"\",\"\",UPPER(Mainframe!C25))","v":""},{"$f":"IF(D26=\"\",\"\",IF(NOT(ISNA(VLOOKUP(D26,Answers!A:D,4,FALSE))),VLOOKUP(D26,Answers!A:D,4,FALSE),\"Help!\"))","v":""},null,{"$f":"IF(E26=\"\",\"\",IF(E26=\"XX\",VLOOKUP(\"WRONG\",Answers!A:D,4,FALSE),E26)+F26)","v":""},{"$f":"IF($B26=\"\",\"\",UPPER(Mainframe!D25))","v":""},{"$f":"IF(H26=\"\",\"\",IF(NOT(ISNA(VLOOKUP(H26,Answers!E:H,4,FALSE))),VLOOKUP(H26,Answers!E:H,4,FALSE),\"Help!\"))","v":""},null,{"$f":"IF(I26=\"\",\"\",G26+IF(I26=\"XX\",VLOOKUP(\"WRONG\",Answers!E:H,4,FALSE),I26)+J26)","v":""},{"$f":"IF($B26=\"\",\"\",UPPER(Mainframe!E25))","v":""},{"$f":"IF(L26=\"\",\"\",IF(NOT(ISNA(VLOOKUP(L26,Answers!I:L,4,FALSE))),VLOOKUP(L26,Answers!I:L,4,FALSE),\"Help!\"))","v":""},null,{"$f":"IF(M26=\"\",\"\",K26+IF(M26=\"XX\",VLOOKUP(\"WRONG\",Answers!I:L,4,FALSE),M26)+N26)","v":""},{"$f":"IF($B26=\"\",\"\",UPPER(Mainframe!F25))","v":""},{"$f":"IF(P26=\"\",\"\",IF(NOT(ISNA(VLOOKUP(P26,Answers!M:P,4,FALSE))),VLOOKUP(P26,Answers!M:P,4,FALSE),\"Help!\"))","v":""},null,{"$f":"IF(Q26=\"\",\"\",O26+IF(Q26=\"XX\",VLOOKUP(\"WRONG\",Answers!M:P,4,FALSE),Q26)+R26)","v":""},{"$f":"IF($B26=\"\",\"\",UPPER(Mainframe!G25))","v":""},{"$f":"IF(T26=\"\",\"\",IF(NOT(ISNA(VLOOKUP(T26,Answers!Q:T,4,FALSE))),VLOOKUP(T26,Answers!Q:T,4,FALSE),\"Help!\"))","v":""},null,{"$f":"IF(U26=\"\",\"\",S26+IF(U26=\"XX\",VLOOKUP(\"WRONG\",Answers!Q:T,4,FALSE),U26)+V26)","v":""},{"$f":"IF($B26=\"\",\"\",UPPER(Mainframe!H25))","v":""},{"$f":"IF(X26=\"\",\"\",IF(NOT(ISNA(VLOOKUP(X26,Answers!U:X,4,FALSE))),VLOOKUP(X26,Answers!U:X,4,FALSE),\"Help!\"))","v":""},null,{"$f":"IF(Y26=\"\",\"\",W26+IF(Y26=\"XX\",VLOOKUP(\"WRONG\",Answers!U:X,4,FALSE),Y26)+Z26)","v":""},{"$f":"IF($B26=\"\",\"\",UPPER(Mainframe!I25))","v":""},{"$f":"IF(AB26=\"\",\"\",IF(NOT(ISNA(VLOOKUP(AB26,Answers!Y:AB,4,FALSE))),VLOOKUP(AB26,Answers!Y:AB,4,FALSE),\"Help!\"))","v":""},null,{"$f":"IF(AC26=\"\",\"\",AA26+IF(AC26=\"XX\",VLOOKUP(\"WRONG\",Answers!Y:AB,4,FALSE),AC26)+AD26)","v":""},{"$f":"IF($B26=\"\",\"\",UPPER(Mainframe!J25))","v":""},{"$f":"IF(AF26=\"\",\"\",IF(NOT(ISNA(VLOOKUP(AF26,Answers!AC:AF,4,FALSE))),VLOOKUP(AF26,Answers!AC:AF,4,FALSE),\"Help!\"))","v":""},null,{"$f":"IF(AG26=\"\",\"\",AE26+IF(AG26=\"XX\",VLOOKUP(\"WRONG\",Answers!AC:AF,4,FALSE),AG26)+AH26)","v":""},{"$f":"IF($B26=\"\",\"\",UPPER(Mainframe!K25))","v":""},{"$f":"IF(AJ26=\"\",\"\",IF(NOT(ISNA(VLOOKUP(AJ26,Answers!AG:AJ,4,FALSE))),VLOOKUP(AJ26,Answers!AG:AJ,4,FALSE),\"Help!\"))","v":""},null,{"$f":"IF(AK26=\"\",\"\",AI26+IF(AK26=\"XX\",VLOOKUP(\"WRONG\",Answers!AG:AJ,4,FALSE),AK26)+AL26)","v":""},{"$f":"IF($B26=\"\",\"\",UPPER(Mainframe!L25))","v":""},{"$f":"IF(AN26=\"\",\"\",IF(NOT(ISNA(VLOOKUP(AN26,Answers!AK:AN,4,FALSE))),VLOOKUP(AN26,Answers!AK:AN,4,FALSE),\"Help!\"))","v":""},null,{"$f":"IF(AO26=\"\",\"\",AM26+IF(AO26=\"XX\",VLOOKUP(\"WRONG\",Answers!AK:AN,4,FALSE),AO26)+AP26)","v":""},{"$f":"IF($B26=\"\",\"\",UPPER(Mainframe!M25))","v":""},{"$f":"IF(AR26=\"\",\"\",IF(NOT(ISNA(VLOOKUP(AR26,Answers!AO:AR,4,FALSE))),VLOOKUP(AR26,Answers!AO:AR,4,FALSE),\"Help!\"))","v":""},null,{"$f":"IF(AS26=\"\",\"\",AQ26+IF(AS26=\"XX\",VLOOKUP(\"WRONG\",Answers!AO:AR,4,FALSE),AS26)+AT26)","v":""},{"$f":"IF($B26=\"\",\"\",UPPER(Mainframe!N25))","v":""},{"$f":"IF(AV26=\"\",\"\",IF(NOT(ISNA(VLOOKUP(AV26,Answers!AS:AV,4,FALSE))),VLOOKUP(AV26,Answers!AS:AV,4,FALSE),\"Help!\"))","v":""},null,{"$f":"IF(AW26=\"\",\"\",AU26+IF(AW26=\"XX\",VLOOKUP(\"WRONG\",Answers!AS:AV,4,FALSE),AW26)+AX26)","v":""},{"$f":"IF($B26=\"\",\"\",UPPER(Mainframe!O25))","v":""},{"$f":"IF(AZ26=\"\",\"\",IF(NOT(ISNA(VLOOKUP(AZ26,Answers!AW:AZ,4,FALSE))),VLOOKUP(AZ26,Answers!AW:AZ,4,FALSE),\"Help!\"))","v":""},null,{"$f":"IF(BA26=\"\",\"\",AY26+IF(BA26=\"XX\",VLOOKUP(\"WRONG\",Answers!AW:AZ,4,FALSE),BA26)+BB26)","v":""},{"$f":"IF($B26=\"\",\"\",UPPER(Mainframe!P25))","v":""},{"$f":"IF(BD26=\"\",\"\",IF(NOT(ISNA(VLOOKUP(BD26,Answers!BA:BD,4,FALSE))),VLOOKUP(BD26,Answers!BA:BD,4,FALSE),\"Help!\"))","v":""},null,{"$f":"IF(BE26=\"\",\"\",BC26+IF(BE26=\"XX\",VLOOKUP(\"WRONG\",Answers!BA:BD,4,FALSE),BE26)+BF26)","v":""},{"$f":"IF($B26=\"\",\"\",UPPER(Mainframe!Q25))","v":""},{"$f":"IF(BH26=\"\",\"\",IF(NOT(ISNA(VLOOKUP(BH26,Answers!BE:BH,4,FALSE))),VLOOKUP(BH26,Answers!BE:BH,4,FALSE),\"Help!\"))","v":""},null,{"$f":"IF(BI26=\"\",\"\",BG26+IF(BI26=\"XX\",VLOOKUP(\"WRONG\",Answers!BE:BH,4,FALSE),BI26)+BJ26)","v":""},{"$f":"IF($B26=\"\",\"\",UPPER(Mainframe!R25))","v":""},{"$f":"IF(BL26=\"\",\"\",IF(NOT(ISNA(VLOOKUP(BL26,Answers!BI:BL,4,FALSE))),VLOOKUP(BL26,Answers!BI:BL,4,FALSE),\"Help!\"))","v":""},null,{"$f":"IF(BM26=\"\",\"\",BK26+IF(BM26=\"XX\",VLOOKUP(\"WRONG\",Answers!BI:BL,4,FALSE),BM26)+BN26)","v":""},{"$f":"IF($B26=\"\",\"\",UPPER(Mainframe!S25))","v":""},{"$f":"IF(BP26=\"\",\"\",IF(NOT(ISNA(VLOOKUP(BP26,Answers!BM:BP,4,FALSE))),VLOOKUP(BP26,Answers!BM:BP,4,FALSE),\"Help!\"))","v":""},null,{"$f":"IF(BQ26=\"\",\"\",BO26+IF(BQ26=\"XX\",VLOOKUP(\"WRONG\",Answers!BM:BP,4,FALSE),BQ26)+BR26)","v":""},{"$f":"IF($B26=\"\",\"\",UPPER(Mainframe!T25))","v":""},{"$f":"IF(BT26=\"\",\"\",IF(NOT(ISNA(VLOOKUP(BT26,Answers!BQ:BT,4,FALSE))),VLOOKUP(BT26,Answers!BQ:BT,4,FALSE),\"Help!\"))","v":""},null,{"$f":"IF(BU26=\"\",\"\",BS26+IF(BU26=\"XX\",VLOOKUP(\"WRONG\",Answers!BQ:BT,4,FALSE),BU26)+BV26)","v":""},{"$f":"IF($B26=\"\",\"\",UPPER(Mainframe!U25))","v":""},{"$f":"IF(BX26=\"\",\"\",IF(NOT(ISNA(VLOOKUP(BX26,Answers!BU:BX,4,FALSE))),VLOOKUP(BX26,Answers!BU:BX,4,FALSE),\"Help!\"))","v":""},null,{"$f":"IF(BY26=\"\",\"\",BW26+IF(BY26=\"XX\",VLOOKUP(\"WRONG\",Answers!BU:BX,4,FALSE),BY26)+BZ26)","v":""},{"$f":"IF($B26=\"\",\"\",UPPER(Mainframe!V25))","v":""},{"$f":"IF(CB26=\"\",\"\",IF(NOT(ISNA(VLOOKUP(CB26,Answers!BY:CB,4,FALSE))),VLOOKUP(CB26,Answers!BY:CB,4,FALSE),\"Help!\"))","v":""},null,{"$f":"IF(CC26=\"\",\"\",CA26+IF(CC26=\"XX\",VLOOKUP(\"WRONG\",Answers!BY:CB,4,FALSE),CC26)+CD26)","v":""},null,null,1,{"$f":"IF(INDEX($B:$CE,ROW(),QNO*4-1)=DROPNAME,DROPNAME,IF(INDEX($B:$CE,ROW(),QNO*4-1)=SHEEPNAME,SHEEPNAME,IF(INDEX($B:$CE,ROW(),QNO*4)=\"XX\",INDEX($B:$CE,ROW(),QNO*4-1),INDEX(OFFSET(Answers!B:B,0,(QNO-1)*4),MATCH(INDEX($A:$CB,ROW(),QNO*4),OFFSET(Answers!A:A,0,(QNO-1)*4),0))&\" — \"&IF(INDEX($B:$CE,ROW(),QNO*4)=1,\"[b]Singleton![/b]\",CONCATENATE(INDEX($B:$CE,ROW(),QNO*4),\" responses\")))))","v":{"$error":"#N/A"}},"//////////////////////////////////////////////////////////////////////////////////////////////////////////////////////////////////////////////////////////////////////////////////////////////////////////////////","No",{"$f":"IF(B26=0,\"\",CONCATENATE(INDEX($CH:$CL,ROW(),1),\". \",INDEX($B:$CE,ROW(),1),\" — [b]\")&IF(QNO=1,CONCATENATE(INDEX($B:$CE,ROW(),QNO*4+2),\"[/b] pts\"),CONCATENATE(INDEX($B:$CE,ROW(),QNO*4-2),\" + \",IF(INDEX($B:$CE,ROW(),QNO*4)=\"XX\",INDEX(Answers!$A:$ZZ,2,QNO*4),INDEX($B:$CE,ROW(),QNO*4)),\" = \",INDEX($B:$CE,ROW(),QNO*4+2),\"[/b] pts \",IF(INDEX($C:$CE,ROW(),QNO*4)>0,\"(penalty: +\"&INDEX($C:$CE,ROW(),QNO*4)&\") \",IF(INDEX($C:$CE,ROW(),QNO*4)<0,\"(bonus: \"&INDEX($C:$CE,ROW(),QNO*4)&\") \",\"\"))&\"[[b]\"&IF(CN26>0,\"[color=#00BF00]↑\"&CN26,IF(CN26<0,\"[color=#FF0000]↓\"&ABS(CN26),\"[color=#0000FF]unch\"))&\"[/b][/color]]\")))","v":"1.  — [b][/b] pts"},1,0]
["[*]",{"$f":"IF(Mainframe!B26=\"\",\"\",INDEX(Mainframe!$B:$B,C27+1,1))","v":""},25,{"$f":"IF($B27=\"\",\"\",UPPER(Mainframe!C26))","v":""},{"$f":"IF(D27=\"\",\"\",IF(NOT(ISNA(VLOOKUP(D27,Answers!A:D,4,FALSE))),VLOOKUP(D27,Answers!A:D,4,FALSE),\"Help!\"))","v":""},null,{"$f":"IF(E27=\"\",\"\",IF(E27=\"XX\",VLOOKUP(\"WRONG\",Answers!A:D,4,FALSE),E27)+F27)","v":""},{"$f":"IF($B27=\"\",\"\",UPPER(Mainframe!D26))","v":""},{"$f":"IF(H27=\"\",\"\",IF(NOT(ISNA(VLOOKUP(H27,Answers!E:H,4,FALSE))),VLOOKUP(H27,Answers!E:H,4,FALSE),\"Help!\"))","v":""},null,{"$f":"IF(I27=\"\",\"\",G27+IF(I27=\"XX\",VLOOKUP(\"WRONG\",Answers!E:H,4,FALSE),I27)+J27)","v":""},{"$f":"IF($B27=\"\",\"\",UPPER(Mainframe!E26))","v":""},{"$f":"IF(L27=\"\",\"\",IF(NOT(ISNA(VLOOKUP(L27,Answers!I:L,4,FALSE))),VLOOKUP(L27,Answers!I:L,4,FALSE),\"Help!\"))","v":""},null,{"$f":"IF(M27=\"\",\"\",K27+IF(M27=\"XX\",VLOOKUP(\"WRONG\",Answers!I:L,4,FALSE),M27)+N27)","v":""},{"$f":"IF($B27=\"\",\"\",UPPER(Mainframe!F26))","v":""},{"$f":"IF(P27=\"\",\"\",IF(NOT(ISNA(VLOOKUP(P27,Answers!M:P,4,FALSE))),VLOOKUP(P27,Answers!M:P,4,FALSE),\"Help!\"))","v":""},null,{"$f":"IF(Q27=\"\",\"\",O27+IF(Q27=\"XX\",VLOOKUP(\"WRONG\",Answers!M:P,4,FALSE),Q27)+R27)","v":""},{"$f":"IF($B27=\"\",\"\",UPPER(Mainframe!G26))","v":""},{"$f":"IF(T27=\"\",\"\",IF(NOT(ISNA(VLOOKUP(T27,Answers!Q:T,4,FALSE))),VLOOKUP(T27,Answers!Q:T,4,FALSE),\"Help!\"))","v":""},null,{"$f":"IF(U27=\"\",\"\",S27+IF(U27=\"XX\",VLOOKUP(\"WRONG\",Answers!Q:T,4,FALSE),U27)+V27)","v":""},{"$f":"IF($B27=\"\",\"\",UPPER(Mainframe!H26))","v":""},{"$f":"IF(X27=\"\",\"\",IF(NOT(ISNA(VLOOKUP(X27,Answers!U:X,4,FALSE))),VLOOKUP(X27,Answers!U:X,4,FALSE),\"Help!\"))","v":""},null,{"$f":"IF(Y27=\"\",\"\",W27+IF(Y27=\"XX\",VLOOKUP(\"WRONG\",Answers!U:X,4,FALSE),Y27)+Z27)","v":""},{"$f":"IF($B27=\"\",\"\",UPPER(Mainframe!I26))","v":""},{"$f":"IF(AB27=\"\",\"\",IF(NOT(ISNA(VLOOKUP(AB27,Answers!Y:AB,4,FALSE))),VLOOKUP(AB27,Answers!Y:AB,4,FALSE),\"Help!\"))","v":""},null,{"$f":"IF(AC27=\"\",\"\",AA27+IF(AC27=\"XX\",VLOOKUP(\"WRONG\",Answers!Y:AB,4,FALSE),AC27)+AD27)","v":""},{"$f":"IF($B27=\"\",\"\",UPPER(Mainframe!J26))","v":""},{"$f":"IF(AF27=\"\",\"\",IF(NOT(ISNA(VLOOKUP(AF27,Answers!AC:AF,4,FALSE))),VLOOKUP(AF27,Answers!AC:AF,4,FALSE),\"Help!\"))","v":""},null,{"$f":"IF(AG27=\"\",\"\",AE27+IF(AG27=\"XX\",VLOOKUP(\"WRONG\",Answers!AC:AF,4,FALSE),AG27)+AH27)","v":""},{"$f":"IF($B27=\"\",\"\",UPPER(Mainframe!K26))","v":""},{"$f":"IF(AJ27=\"\",\"\",IF(NOT(ISNA(VLOOKUP(AJ27,Answers!AG:AJ,4,FALSE))),VLOOKUP(AJ27,Answers!AG:AJ,4,FALSE),\"Help!\"))","v":""},null,{"$f":"IF(AK27=\"\",\"\",AI27+IF(AK27=\"XX\",VLOOKUP(\"WRONG\",Answers!AG:AJ,4,FALSE),AK27)+AL27)","v":""},{"$f":"IF($B27=\"\",\"\",UPPER(Mainframe!L26))","v":""},{"$f":"IF(AN27=\"\",\"\",IF(NOT(ISNA(VLOOKUP(AN27,Answers!AK:AN,4,FALSE))),VLOOKUP(AN27,Answers!AK:AN,4,FALSE),\"Help!\"))","v":""},null,{"$f":"IF(AO27=\"\",\"\",AM27+IF(AO27=\"XX\",VLOOKUP(\"WRONG\",Answers!AK:AN,4,FALSE),AO27)+AP27)","v":""},{"$f":"IF($B27=\"\",\"\",UPPER(Mainframe!M26))","v":""},{"$f":"IF(AR27=\"\",\"\",IF(NOT(ISNA(VLOOKUP(AR27,Answers!AO:AR,4,FALSE))),VLOOKUP(AR27,Answers!AO:AR,4,FALSE),\"Help!\"))","v":""},null,{"$f":"IF(AS27=\"\",\"\",AQ27+IF(AS27=\"XX\",VLOOKUP(\"WRONG\",Answers!AO:AR,4,FALSE),AS27)+AT27)","v":""},{"$f":"IF($B27=\"\",\"\",UPPER(Mainframe!N26))","v":""},{"$f":"IF(AV27=\"\",\"\",IF(NOT(ISNA(VLOOKUP(AV27,Answers!AS:AV,4,FALSE))),VLOOKUP(AV27,Answers!AS:AV,4,FALSE),\"Help!\"))","v":""},null,{"$f":"IF(AW27=\"\",\"\",AU27+IF(AW27=\"XX\",VLOOKUP(\"WRONG\",Answers!AS:AV,4,FALSE),AW27)+AX27)","v":""},{"$f":"IF($B27=\"\",\"\",UPPER(Mainframe!O26))","v":""},{"$f":"IF(AZ27=\"\",\"\",IF(NOT(ISNA(VLOOKUP(AZ27,Answers!AW:AZ,4,FALSE))),VLOOKUP(AZ27,Answers!AW:AZ,4,FALSE),\"Help!\"))","v":""},null,{"$f":"IF(BA27=\"\",\"\",AY27+IF(BA27=\"XX\",VLOOKUP(\"WRONG\",Answers!AW:AZ,4,FALSE),BA27)+BB27)","v":""},{"$f":"IF($B27=\"\",\"\",UPPER(Mainframe!P26))","v":""},{"$f":"IF(BD27=\"\",\"\",IF(NOT(ISNA(VLOOKUP(BD27,Answers!BA:BD,4,FALSE))),VLOOKUP(BD27,Answers!BA:BD,4,FALSE),\"Help!\"))","v":""},null,{"$f":"IF(BE27=\"\",\"\",BC27+IF(BE27=\"XX\",VLOOKUP(\"WRONG\",Answers!BA:BD,4,FALSE),BE27)+BF27)","v":""},{"$f":"IF($B27=\"\",\"\",UPPER(Mainframe!Q26))","v":""},{"$f":"IF(BH27=\"\",\"\",IF(NOT(ISNA(VLOOKUP(BH27,Answers!BE:BH,4,FALSE))),VLOOKUP(BH27,Answers!BE:BH,4,FALSE),\"Help!\"))","v":""},null,{"$f":"IF(BI27=\"\",\"\",BG27+IF(BI27=\"XX\",VLOOKUP(\"WRONG\",Answers!BE:BH,4,FALSE),BI27)+BJ27)","v":""},{"$f":"IF($B27=\"\",\"\",UPPER(Mainframe!R26))","v":""},{"$f":"IF(BL27=\"\",\"\",IF(NOT(ISNA(VLOOKUP(BL27,Answers!BI:BL,4,FALSE))),VLOOKUP(BL27,Answers!BI:BL,4,FALSE),\"Help!\"))","v":""},null,{"$f":"IF(BM27=\"\",\"\",BK27+IF(BM27=\"XX\",VLOOKUP(\"WRONG\",Answers!BI:BL,4,FALSE),BM27)+BN27)","v":""},{"$f":"IF($B27=\"\",\"\",UPPER(Mainframe!S26))","v":""},{"$f":"IF(BP27=\"\",\"\",IF(NOT(ISNA(VLOOKUP(BP27,Answers!BM:BP,4,FALSE))),VLOOKUP(BP27,Answers!BM:BP,4,FALSE),\"Help!\"))","v":""},null,{"$f":"IF(BQ27=\"\",\"\",BO27+IF(BQ27=\"XX\",VLOOKUP(\"WRONG\",Answers!BM:BP,4,FALSE),BQ27)+BR27)","v":""},{"$f":"IF($B27=\"\",\"\",UPPER(Mainframe!T26))","v":""},{"$f":"IF(BT27=\"\",\"\",IF(NOT(ISNA(VLOOKUP(BT27,Answers!BQ:BT,4,FALSE))),VLOOKUP(BT27,Answers!BQ:BT,4,FALSE),\"Help!\"))","v":""},null,{"$f":"IF(BU27=\"\",\"\",BS27+IF(BU27=\"XX\",VLOOKUP(\"WRONG\",Answers!BQ:BT,4,FALSE),BU27)+BV27)","v":""},{"$f":"IF($B27=\"\",\"\",UPPER(Mainframe!U26))","v":""},{"$f":"IF(BX27=\"\",\"\",IF(NOT(ISNA(VLOOKUP(BX27,Answers!BU:BX,4,FALSE))),VLOOKUP(BX27,Answers!BU:BX,4,FALSE),\"Help!\"))","v":""},null,{"$f":"IF(BY27=\"\",\"\",BW27+IF(BY27=\"XX\",VLOOKUP(\"WRONG\",Answers!BU:BX,4,FALSE),BY27)+BZ27)","v":""},{"$f":"IF($B27=\"\",\"\",UPPER(Mainframe!V26))","v":""},{"$f":"IF(CB27=\"\",\"\",IF(NOT(ISNA(VLOOKUP(CB27,Answers!BY:CB,4,FALSE))),VLOOKUP(CB27,Answers!BY:CB,4,FALSE),\"Help!\"))","v":""},null,{"$f":"IF(CC27=\"\",\"\",CA27+IF(CC27=\"XX\",VLOOKUP(\"WRONG\",Answers!BY:CB,4,FALSE),CC27)+CD27)","v":""},null,null,1,{"$f":"IF(INDEX($B:$CE,ROW(),QNO*4-1)=DROPNAME,DROPNAME,IF(INDEX($B:$CE,ROW(),QNO*4-1)=SHEEPNAME,SHEEPNAME,IF(INDEX($B:$CE,ROW(),QNO*4)=\"XX\",INDEX($B:$CE,ROW(),QNO*4-1),INDEX(OFFSET(Answers!B:B,0,(QNO-1)*4),MATCH(INDEX($A:$CB,ROW(),QNO*4),OFFSET(Answers!A:A,0,(QNO-1)*4),0))&\" — \"&IF(INDEX($B:$CE,ROW(),QNO*4)=1,\"[b]Singleton![/b]\",CONCATENATE(INDEX($B:$CE,ROW(),QNO*4),\" responses\")))))","v":{"$error":"#N/A"}},"////////////////////////////////////////////////////////////////////////////////////////////////////////////////////////////////////////////////////////////////////////////////////////////////////////////////","No",{"$f":"IF(B27=0,\"\",CONCATENATE(INDEX($CH:$CL,ROW(),1),\". \",INDEX($B:$CE,ROW(),1),\" — [b]\")&IF(QNO=1,CONCATENATE(INDEX($B:$CE,ROW(),QNO*4+2),\"[/b] pts\"),CONCATENATE(INDEX($B:$CE,ROW(),QNO*4-2),\" + \",IF(INDEX($B:$CE,ROW(),QNO*4)=\"XX\",INDEX(Answers!$A:$ZZ,2,QNO*4),INDEX($B:$CE,ROW(),QNO*4)),\" = \",INDEX($B:$CE,ROW(),QNO*4+2),\"[/b] pts \",IF(INDEX($C:$CE,ROW(),QNO*4)>0,\"(penalty: +\"&INDEX($C:$CE,ROW(),QNO*4)&\") \",IF(INDEX($C:$CE,ROW(),QNO*4)<0,\"(bonus: \"&INDEX($C:$CE,ROW(),QNO*4)&\") \",\"\"))&\"[[b]\"&IF(CN27>0,\"[color=#00BF00]↑\"&CN27,IF(CN27<0,\"[color=#FF0000]↓\"&ABS(CN27),\"[color=#0000FF]unch\"))&\"[/b][/color]]\")))","v":"1.  — [b][/b] pts"},1,0]
["[*]",{"$f":"IF(Mainframe!B27=\"\",\"\",INDEX(Mainframe!$B:$B,C28+1,1))","v":""},26,{"$f":"IF($B28=\"\",\"\",UPPER(Mainframe!C27))","v":""},{"$f":"IF(D28=\"\",\"\",IF(NOT(ISNA(VLOOKUP(D28,Answers!A:D,4,FALSE))),VLOOKUP(D28,Answers!A:D,4,FALSE),\"Help!\"))","v":""},null,{"$f":"IF(E28=\"\",\"\",IF(E28=\"XX\",VLOOKUP(\"WRONG\",Answers!A:D,4,FALSE),E28)+F28)","v":""},{"$f":"IF($B28=\"\",\"\",UPPER(Mainframe!D27))","v":""},{"$f":"IF(H28=\"\",\"\",IF(NOT(ISNA(VLOOKUP(H28,Answers!E:H,4,FALSE))),VLOOKUP(H28,Answers!E:H,4,FALSE),\"Help!\"))","v":""},null,{"$f":"IF(I28=\"\",\"\",G28+IF(I28=\"XX\",VLOOKUP(\"WRONG\",Answers!E:H,4,FALSE),I28)+J28)","v":""},{"$f":"IF($B28=\"\",\"\",UPPER(Mainframe!E27))","v":""},{"$f":"IF(L28=\"\",\"\",IF(NOT(ISNA(VLOOKUP(L28,Answers!I:L,4,FALSE))),VLOOKUP(L28,Answers!I:L,4,FALSE),\"Help!\"))","v":""},null,{"$f":"IF(M28=\"\",\"\",K28+IF(M28=\"XX\",VLOOKUP(\"WRONG\",Answers!I:L,4,FALSE),M28)+N28)","v":""},{"$f":"IF($B28=\"\",\"\",UPPER(Mainframe!F27))","v":""},{"$f":"IF(P28=\"\",\"\",IF(NOT(ISNA(VLOOKUP(P28,Answers!M:P,4,FALSE))),VLOOKUP(P28,Answers!M:P,4,FALSE),\"Help!\"))","v":""},null,{"$f":"IF(Q28=\"\",\"\",O28+IF(Q28=\"XX\",VLOOKUP(\"WRONG\",Answers!M:P,4,FALSE),Q28)+R28)","v":""},{"$f":"IF($B28=\"\",\"\",UPPER(Mainframe!G27))","v":""},{"$f":"IF(T28=\"\",\"\",IF(NOT(ISNA(VLOOKUP(T28,Answers!Q:T,4,FALSE))),VLOOKUP(T28,Answers!Q:T,4,FALSE),\"Help!\"))","v":""},null,{"$f":"IF(U28=\"\",\"\",S28+IF(U28=\"XX\",VLOOKUP(\"WRONG\",Answers!Q:T,4,FALSE),U28)+V28)","v":""},{"$f":"IF($B28=\"\",\"\",UPPER(Mainframe!H27))","v":""},{"$f":"IF(X28=\"\",\"\",IF(NOT(ISNA(VLOOKUP(X28,Answers!U:X,4,FALSE))),VLOOKUP(X28,Answers!U:X,4,FALSE),\"Help!\"))","v":""},null,{"$f":"IF(Y28=\"\",\"\",W28+IF(Y28=\"XX\",VLOOKUP(\"WRONG\",Answers!U:X,4,FALSE),Y28)+Z28)","v":""},{"$f":"IF($B28=\"\",\"\",UPPER(Mainframe!I27))","v":""},{"$f":"IF(AB28=\"\",\"\",IF(NOT(ISNA(VLOOKUP(AB28,Answers!Y:AB,4,FALSE))),VLOOKUP(AB28,Answers!Y:AB,4,FALSE),\"Help!\"))","v":""},null,{"$f":"IF(AC28=\"\",\"\",AA28+IF(AC28=\"XX\",VLOOKUP(\"WRONG\",Answers!Y:AB,4,FALSE),AC28)+AD28)","v":""},{"$f":"IF($B28=\"\",\"\",UPPER(Mainframe!J27))","v":""},{"$f":"IF(AF28=\"\",\"\",IF(NOT(ISNA(VLOOKUP(AF28,Answers!AC:AF,4,FALSE))),VLOOKUP(AF28,Answers!AC:AF,4,FALSE),\"Help!\"))","v":""},null,{"$f":"IF(AG28=\"\",\"\",AE28+IF(AG28=\"XX\",VLOOKUP(\"WRONG\",Answers!AC:AF,4,FALSE),AG28)+AH28)","v":""},{"$f":"IF($B28=\"\",\"\",UPPER(Mainframe!K27))","v":""},{"$f":"IF(AJ28=\"\",\"\",IF(NOT(ISNA(VLOOKUP(AJ28,Answers!AG:AJ,4,FALSE))),VLOOKUP(AJ28,Answers!AG:AJ,4,FALSE),\"Help!\"))","v":""},null,{"$f":"IF(AK28=\"\",\"\",AI28+IF(AK28=\"XX\",VLOOKUP(\"WRONG\",Answers!AG:AJ,4,FALSE),AK28)+AL28)","v":""},{"$f":"IF($B28=\"\",\"\",UPPER(Mainframe!L27))","v":""},{"$f":"IF(AN28=\"\",\"\",IF(NOT(ISNA(VLOOKUP(AN28,Answers!AK:AN,4,FALSE))),VLOOKUP(AN28,Answers!AK:AN,4,FALSE),\"Help!\"))","v":""},null,{"$f":"IF(AO28=\"\",\"\",AM28+IF(AO28=\"XX\",VLOOKUP(\"WRONG\",Answers!AK:AN,4,FALSE),AO28)+AP28)","v":""},{"$f":"IF($B28=\"\",\"\",UPPER(Mainframe!M27))","v":""},{"$f":"IF(AR28=\"\",\"\",IF(NOT(ISNA(VLOOKUP(AR28,Answers!AO:AR,4,FALSE))),VLOOKUP(AR28,Answers!AO:AR,4,FALSE),\"Help!\"))","v":""},null,{"$f":"IF(AS28=\"\",\"\",AQ28+IF(AS28=\"XX\",VLOOKUP(\"WRONG\",Answers!AO:AR,4,FALSE),AS28)+AT28)","v":""},{"$f":"IF($B28=\"\",\"\",UPPER(Mainframe!N27))","v":""},{"$f":"IF(AV28=\"\",\"\",IF(NOT(ISNA(VLOOKUP(AV28,Answers!AS:AV,4,FALSE))),VLOOKUP(AV28,Answers!AS:AV,4,FALSE),\"Help!\"))","v":""},null,{"$f":"IF(AW28=\"\",\"\",AU28+IF(AW28=\"XX\",VLOOKUP(\"WRONG\",Answers!AS:AV,4,FALSE),AW28)+AX28)","v":""},{"$f":"IF($B28=\"\",\"\",UPPER(Mainframe!O27))","v":""},{"$f":"IF(AZ28=\"\",\"\",IF(NOT(ISNA(VLOOKUP(AZ28,Answers!AW:AZ,4,FALSE))),VLOOKUP(AZ28,Answers!AW:AZ,4,FALSE),\"Help!\"))","v":""},null,{"$f":"IF(BA28=\"\",\"\",AY28+IF(BA28=\"XX\",VLOOKUP(\"WRONG\",Answers!AW:AZ,4,FALSE),BA28)+BB28)","v":""},{"$f":"IF($B28=\"\",\"\",UPPER(Mainframe!P27))","v":""},{"$f":"IF(BD28=\"\",\"\",IF(NOT(ISNA(VLOOKUP(BD28,Answers!BA:BD,4,FALSE))),VLOOKUP(BD28,Answers!BA:BD,4,FALSE),\"Help!\"))","v":""},null,{"$f":"IF(BE28=\"\",\"\",BC28+IF(BE28=\"XX\",VLOOKUP(\"WRONG\",Answers!BA:BD,4,FALSE),BE28)+BF28)","v":""},{"$f":"IF($B28=\"\",\"\",UPPER(Mainframe!Q27))","v":""},{"$f":"IF(BH28=\"\",\"\",IF(NOT(ISNA(VLOOKUP(BH28,Answers!BE:BH,4,FALSE))),VLOOKUP(BH28,Answers!BE:BH,4,FALSE),\"Help!\"))","v":""},null,{"$f":"IF(BI28=\"\",\"\",BG28+IF(BI28=\"XX\",VLOOKUP(\"WRONG\",Answers!BE:BH,4,FALSE),BI28)+BJ28)","v":""},{"$f":"IF($B28=\"\",\"\",UPPER(Mainframe!R27))","v":""},{"$f":"IF(BL28=\"\",\"\",IF(NOT(ISNA(VLOOKUP(BL28,Answers!BI:BL,4,FALSE))),VLOOKUP(BL28,Answers!BI:BL,4,FALSE),\"Help!\"))","v":""},null,{"$f":"IF(BM28=\"\",\"\",BK28+IF(BM28=\"XX\",VLOOKUP(\"WRONG\",Answers!BI:BL,4,FALSE),BM28)+BN28)","v":""},{"$f":"IF($B28=\"\",\"\",UPPER(Mainframe!S27))","v":""},{"$f":"IF(BP28=\"\",\"\",IF(NOT(ISNA(VLOOKUP(BP28,Answers!BM:BP,4,FALSE))),VLOOKUP(BP28,Answers!BM:BP,4,FALSE),\"Help!\"))","v":""},null,{"$f":"IF(BQ28=\"\",\"\",BO28+IF(BQ28=\"XX\",VLOOKUP(\"WRONG\",Answers!BM:BP,4,FALSE),BQ28)+BR28)","v":""},{"$f":"IF($B28=\"\",\"\",UPPER(Mainframe!T27))","v":""},{"$f":"IF(BT28=\"\",\"\",IF(NOT(ISNA(VLOOKUP(BT28,Answers!BQ:BT,4,FALSE))),VLOOKUP(BT28,Answers!BQ:BT,4,FALSE),\"Help!\"))","v":""},null,{"$f":"IF(BU28=\"\",\"\",BS28+IF(BU28=\"XX\",VLOOKUP(\"WRONG\",Answers!BQ:BT,4,FALSE),BU28)+BV28)","v":""},{"$f":"IF($B28=\"\",\"\",UPPER(Mainframe!U27))","v":""},{"$f":"IF(BX28=\"\",\"\",IF(NOT(ISNA(VLOOKUP(BX28,Answers!BU:BX,4,FALSE))),VLOOKUP(BX28,Answers!BU:BX,4,FALSE),\"Help!\"))","v":""},null,{"$f":"IF(BY28=\"\",\"\",BW28+IF(BY28=\"XX\",VLOOKUP(\"WRONG\",Answers!BU:BX,4,FALSE),BY28)+BZ28)","v":""},{"$f":"IF($B28=\"\",\"\",UPPER(Mainframe!V27))","v":""},{"$f":"IF(CB28=\"\",\"\",IF(NOT(ISNA(VLOOKUP(CB28,Answers!BY:CB,4,FALSE))),VLOOKUP(CB28,Answers!BY:CB,4,FALSE),\"Help!\"))","v":""},null,{"$f":"IF(CC28=\"\",\"\",CA28+IF(CC28=\"XX\",VLOOKUP(\"WRONG\",Answers!BY:CB,4,FALSE),CC28)+CD28)","v":""},null,null,1,{"$f":"IF(INDEX($B:$CE,ROW(),QNO*4-1)=DROPNAME,DROPNAME,IF(INDEX($B:$CE,ROW(),QNO*4-1)=SHEEPNAME,SHEEPNAME,IF(INDEX($B:$CE,ROW(),QNO*4)=\"XX\",INDEX($B:$CE,ROW(),QNO*4-1),INDEX(OFFSET(Answers!B:B,0,(QNO-1)*4),MATCH(INDEX($A:$CB,ROW(),QNO*4),OFFSET(Answers!A:A,0,(QNO-1)*4),0))&\" — \"&IF(INDEX($B:$CE,ROW(),QNO*4)=1,\"[b]Singleton![/b]\",CONCATENATE(INDEX($B:$CE,ROW(),QNO*4),\" responses\")))))","v":{"$error":"#N/A"}},"//////////////////////////////////////////////////////////////////////////////////////////////////////////////////////////////////////////////////////////////////////////////////////////////////////////////","No",{"$f":"IF(B28=0,\"\",CONCATENATE(INDEX($CH:$CL,ROW(),1),\". \",INDEX($B:$CE,ROW(),1),\" — [b]\")&IF(QNO=1,CONCATENATE(INDEX($B:$CE,ROW(),QNO*4+2),\"[/b] pts\"),CONCATENATE(INDEX($B:$CE,ROW(),QNO*4-2),\" + \",IF(INDEX($B:$CE,ROW(),QNO*4)=\"XX\",INDEX(Answers!$A:$ZZ,2,QNO*4),INDEX($B:$CE,ROW(),QNO*4)),\" = \",INDEX($B:$CE,ROW(),QNO*4+2),\"[/b] pts \",IF(INDEX($C:$CE,ROW(),QNO*4)>0,\"(penalty: +\"&INDEX($C:$CE,ROW(),QNO*4)&\") \",IF(INDEX($C:$CE,ROW(),QNO*4)<0,\"(bonus: \"&INDEX($C:$CE,ROW(),QNO*4)&\") \",\"\"))&\"[[b]\"&IF(CN28>0,\"[color=#00BF00]↑\"&CN28,IF(CN28<0,\"[color=#FF0000]↓\"&ABS(CN28),\"[color=#0000FF]unch\"))&\"[/b][/color]]\")))","v":"1.  — [b][/b] pts"},1,0]
["[*]",{"$f":"IF(Mainframe!B28=\"\",\"\",INDEX(Mainframe!$B:$B,C29+1,1))","v":""},27,{"$f":"IF($B29=\"\",\"\",UPPER(Mainframe!C28))","v":""},{"$f":"IF(D29=\"\",\"\",IF(NOT(ISNA(VLOOKUP(D29,Answers!A:D,4,FALSE))),VLOOKUP(D29,Answers!A:D,4,FALSE),\"Help!\"))","v":""},null,{"$f":"IF(E29=\"\",\"\",IF(E29=\"XX\",VLOOKUP(\"WRONG\",Answers!A:D,4,FALSE),E29)+F29)","v":""},{"$f":"IF($B29=\"\",\"\",UPPER(Mainframe!D28))","v":""},{"$f":"IF(H29=\"\",\"\",IF(NOT(ISNA(VLOOKUP(H29,Answers!E:H,4,FALSE))),VLOOKUP(H29,Answers!E:H,4,FALSE),\"Help!\"))","v":""},null,{"$f":"IF(I29=\"\",\"\",G29+IF(I29=\"XX\",VLOOKUP(\"WRONG\",Answers!E:H,4,FALSE),I29)+J29)","v":""},{"$f":"IF($B29=\"\",\"\",UPPER(Mainframe!E28))","v":""},{"$f":"IF(L29=\"\",\"\",IF(NOT(ISNA(VLOOKUP(L29,Answers!I:L,4,FALSE))),VLOOKUP(L29,Answers!I:L,4,FALSE),\"Help!\"))","v":""},null,{"$f":"IF(M29=\"\",\"\",K29+IF(M29=\"XX\",VLOOKUP(\"WRONG\",Answers!I:L,4,FALSE),M29)+N29)","v":""},{"$f":"IF($B29=\"\",\"\",UPPER(Mainframe!F28))","v":""},{"$f":"IF(P29=\"\",\"\",IF(NOT(ISNA(VLOOKUP(P29,Answers!M:P,4,FALSE))),VLOOKUP(P29,Answers!M:P,4,FALSE),\"Help!\"))","v":""},null,{"$f":"IF(Q29=\"\",\"\",O29+IF(Q29=\"XX\",VLOOKUP(\"WRONG\",Answers!M:P,4,FALSE),Q29)+R29)","v":""},{"$f":"IF($B29=\"\",\"\",UPPER(Mainframe!G28))","v":""},{"$f":"IF(T29=\"\",\"\",IF(NOT(ISNA(VLOOKUP(T29,Answers!Q:T,4,FALSE))),VLOOKUP(T29,Answers!Q:T,4,FALSE),\"Help!\"))","v":""},null,{"$f":"IF(U29=\"\",\"\",S29+IF(U29=\"XX\",VLOOKUP(\"WRONG\",Answers!Q:T,4,FALSE),U29)+V29)","v":""},{"$f":"IF($B29=\"\",\"\",UPPER(Mainframe!H28))","v":""},{"$f":"IF(X29=\"\",\"\",IF(NOT(ISNA(VLOOKUP(X29,Answers!U:X,4,FALSE))),VLOOKUP(X29,Answers!U:X,4,FALSE),\"Help!\"))","v":""},null,{"$f":"IF(Y29=\"\",\"\",W29+IF(Y29=\"XX\",VLOOKUP(\"WRONG\",Answers!U:X,4,FALSE),Y29)+Z29)","v":""},{"$f":"IF($B29=\"\",\"\",UPPER(Mainframe!I28))","v":""},{"$f":"IF(AB29=\"\",\"\",IF(NOT(ISNA(VLOOKUP(AB29,Answers!Y:AB,4,FALSE))),VLOOKUP(AB29,Answers!Y:AB,4,FALSE),\"Help!\"))","v":""},null,{"$f":"IF(AC29=\"\",\"\",AA29+IF(AC29=\"XX\",VLOOKUP(\"WRONG\",Answers!Y:AB,4,FALSE),AC29)+AD29)","v":""},{"$f":"IF($B29=\"\",\"\",UPPER(Mainframe!J28))","v":""},{"$f":"IF(AF29=\"\",\"\",IF(NOT(ISNA(VLOOKUP(AF29,Answers!AC:AF,4,FALSE))),VLOOKUP(AF29,Answers!AC:AF,4,FALSE),\"Help!\"))","v":""},null,{"$f":"IF(AG29=\"\",\"\",AE29+IF(AG29=\"XX\",VLOOKUP(\"WRONG\",Answers!AC:AF,4,FALSE),AG29)+AH29)","v":""},{"$f":"IF($B29=\"\",\"\",UPPER(Mainframe!K28))","v":""},{"$f":"IF(AJ29=\"\",\"\",IF(NOT(ISNA(VLOOKUP(AJ29,Answers!AG:AJ,4,FALSE))),VLOOKUP(AJ29,Answers!AG:AJ,4,FALSE),\"Help!\"))","v":""},null,{"$f":"IF(AK29=\"\",\"\",AI29+IF(AK29=\"XX\",VLOOKUP(\"WRONG\",Answers!AG:AJ,4,FALSE),AK29)+AL29)","v":""},{"$f":"IF($B29=\"\",\"\",UPPER(Mainframe!L28))","v":""},{"$f":"IF(AN29=\"\",\"\",IF(NOT(ISNA(VLOOKUP(AN29,Answers!AK:AN,4,FALSE))),VLOOKUP(AN29,Answers!AK:AN,4,FALSE),\"Help!\"))","v":""},null,{"$f":"IF(AO29=\"\",\"\",AM29+IF(AO29=\"XX\",VLOOKUP(\"WRONG\",Answers!AK:AN,4,FALSE),AO29)+AP29)","v":""},{"$f":"IF($B29=\"\",\"\",UPPER(Mainframe!M28))","v":""},{"$f":"IF(AR29=\"\",\"\",IF(NOT(ISNA(VLOOKUP(AR29,Answers!AO:AR,4,FALSE))),VLOOKUP(AR29,Answers!AO:AR,4,FALSE),\"Help!\"))","v":""},null,{"$f":"IF(AS29=\"\",\"\",AQ29+IF(AS29=\"XX\",VLOOKUP(\"WRONG\",Answers!AO:AR,4,FALSE),AS29)+AT29)","v":""},{"$f":"IF($B29=\"\",\"\",UPPER(Mainframe!N28))","v":""},{"$f":"IF(AV29=\"\",\"\",IF(NOT(ISNA(VLOOKUP(AV29,Answers!AS:AV,4,FALSE))),VLOOKUP(AV29,Answers!AS:AV,4,FALSE),\"Help!\"))","v":""},null,{"$f":"IF(AW29=\"\",\"\",AU29+IF(AW29=\"XX\",VLOOKUP(\"WRONG\",Answers!AS:AV,4,FALSE),AW29)+AX29)","v":""},{"$f":"IF($B29=\"\",\"\",UPPER(Mainframe!O28))","v":""},{"$f":"IF(AZ29=\"\",\"\",IF(NOT(ISNA(VLOOKUP(AZ29,Answers!AW:AZ,4,FALSE))),VLOOKUP(AZ29,Answers!AW:AZ,4,FALSE),\"Help!\"))","v":""},null,{"$f":"IF(BA29=\"\",\"\",AY29+IF(BA29=\"XX\",VLOOKUP(\"WRONG\",Answers!AW:AZ,4,FALSE),BA29)+BB29)","v":""},{"$f":"IF($B29=\"\",\"\",UPPER(Mainframe!P28))","v":""},{"$f":"IF(BD29=\"\",\"\",IF(NOT(ISNA(VLOOKUP(BD29,Answers!BA:BD,4,FALSE))),VLOOKUP(BD29,Answers!BA:BD,4,FALSE),\"Help!\"))","v":""},null,{"$f":"IF(BE29=\"\",\"\",BC29+IF(BE29=\"XX\",VLOOKUP(\"WRONG\",Answers!BA:BD,4,FALSE),BE29)+BF29)","v":""},{"$f":"IF($B29=\"\",\"\",UPPER(Mainframe!Q28))","v":""},{"$f":"IF(BH29=\"\",\"\",IF(NOT(ISNA(VLOOKUP(BH29,Answers!BE:BH,4,FALSE))),VLOOKUP(BH29,Answers!BE:BH,4,FALSE),\"Help!\"))","v":""},null,{"$f":"IF(BI29=\"\",\"\",BG29+IF(BI29=\"XX\",VLOOKUP(\"WRONG\",Answers!BE:BH,4,FALSE),BI29)+BJ29)","v":""},{"$f":"IF($B29=\"\",\"\",UPPER(Mainframe!R28))","v":""},{"$f":"IF(BL29=\"\",\"\",IF(NOT(ISNA(VLOOKUP(BL29,Answers!BI:BL,4,FALSE))),VLOOKUP(BL29,Answers!BI:BL,4,FALSE),\"Help!\"))","v":""},null,{"$f":"IF(BM29=\"\",\"\",BK29+IF(BM29=\"XX\",VLOOKUP(\"WRONG\",Answers!BI:BL,4,FALSE),BM29)+BN29)","v":""},{"$f":"IF($B29=\"\",\"\",UPPER(Mainframe!S28))","v":""},{"$f":"IF(BP29=\"\",\"\",IF(NOT(ISNA(VLOOKUP(BP29,Answers!BM:BP,4,FALSE))),VLOOKUP(BP29,Answers!BM:BP,4,FALSE),\"Help!\"))","v":""},null,{"$f":"IF(BQ29=\"\",\"\",BO29+IF(BQ29=\"XX\",VLOOKUP(\"WRONG\",Answers!BM:BP,4,FALSE),BQ29)+BR29)","v":""},{"$f":"IF($B29=\"\",\"\",UPPER(Mainframe!T28))","v":""},{"$f":"IF(BT29=\"\",\"\",IF(NOT(ISNA(VLOOKUP(BT29,Answers!BQ:BT,4,FALSE))),VLOOKUP(BT29,Answers!BQ:BT,4,FALSE),\"Help!\"))","v":""},null,{"$f":"IF(BU29=\"\",\"\",BS29+IF(BU29=\"XX\",VLOOKUP(\"WRONG\",Answers!BQ:BT,4,FALSE),BU29)+BV29)","v":""},{"$f":"IF($B29=\"\",\"\",UPPER(Mainframe!U28))","v":""},{"$f":"IF(BX29=\"\",\"\",IF(NOT(ISNA(VLOOKUP(BX29,Answers!BU:BX,4,FALSE))),VLOOKUP(BX29,Answers!BU:BX,4,FALSE),\"Help!\"))","v":""},null,{"$f":"IF(BY29=\"\",\"\",BW29+IF(BY29=\"XX\",VLOOKUP(\"WRONG\",Answers!BU:BX,4,FALSE),BY29)+BZ29)","v":""},{"$f":"IF($B29=\"\",\"\",UPPER(Mainframe!V28))","v":""},{"$f":"IF(CB29=\"\",\"\",IF(NOT(ISNA(VLOOKUP(CB29,Answers!BY:CB,4,FALSE))),VLOOKUP(CB29,Answers!BY:CB,4,FALSE),\"Help!\"))","v":""},null,{"$f":"IF(CC29=\"\",\"\",CA29+IF(CC29=\"XX\",VLOOKUP(\"WRONG\",Answers!BY:CB,4,FALSE),CC29)+CD29)","v":""},null,null,1,{"$f":"IF(INDEX($B:$CE,ROW(),QNO*4-1)=DROPNAME,DROPNAME,IF(INDEX($B:$CE,ROW(),QNO*4-1)=SHEEPNAME,SHEEPNAME,IF(INDEX($B:$CE,ROW(),QNO*4)=\"XX\",INDEX($B:$CE,ROW(),QNO*4-1),INDEX(OFFSET(Answers!B:B,0,(QNO-1)*4),MATCH(INDEX($A:$CB,ROW(),QNO*4),OFFSET(Answers!A:A,0,(QNO-1)*4),0))&\" — \"&IF(INDEX($B:$CE,ROW(),QNO*4)=1,\"[b]Singleton![/b]\",CONCATENATE(INDEX($B:$CE,ROW(),QNO*4),\" responses\")))))","v":{"$error":"#N/A"}},"////////////////////////////////////////////////////////////////////////////////////////////////////////////////////////////////////////////////////////////////////////////////////////////////////////////","No",{"$f":"IF(B29=0,\"\",CONCATENATE(INDEX($CH:$CL,ROW(),1),\". \",INDEX($B:$CE,ROW(),1),\" — [b]\")&IF(QNO=1,CONCATENATE(INDEX($B:$CE,ROW(),QNO*4+2),\"[/b] pts\"),CONCATENATE(INDEX($B:$CE,ROW(),QNO*4-2),\" + \",IF(INDEX($B:$CE,ROW(),QNO*4)=\"XX\",INDEX(Answers!$A:$ZZ,2,QNO*4),INDEX($B:$CE,ROW(),QNO*4)),\" = \",INDEX($B:$CE,ROW(),QNO*4+2),\"[/b] pts \",IF(INDEX($C:$CE,ROW(),QNO*4)>0,\"(penalty: +\"&INDEX($C:$CE,ROW(),QNO*4)&\") \",IF(INDEX($C:$CE,ROW(),QNO*4)<0,\"(bonus: \"&INDEX($C:$CE,ROW(),QNO*4)&\") \",\"\"))&\"[[b]\"&IF(CN29>0,\"[color=#00BF00]↑\"&CN29,IF(CN29<0,\"[color=#FF0000]↓\"&ABS(CN29),\"[color=#0000FF]unch\"))&\"[/b][/color]]\")))","v":"1.  — [b][/b] pts"},1,0]
["[*]",{"$f":"IF(Mainframe!B29=\"\",\"\",INDEX(Mainframe!$B:$B,C30+1,1))","v":""},28,{"$f":"IF($B30=\"\",\"\",UPPER(Mainframe!C29))","v":""},{"$f":"IF(D30=\"\",\"\",IF(NOT(ISNA(VLOOKUP(D30,Answers!A:D,4,FALSE))),VLOOKUP(D30,Answers!A:D,4,FALSE),\"Help!\"))","v":""},null,{"$f":"IF(E30=\"\",\"\",IF(E30=\"XX\",VLOOKUP(\"WRONG\",Answers!A:D,4,FALSE),E30)+F30)","v":""},{"$f":"IF($B30=\"\",\"\",UPPER(Mainframe!D29))","v":""},{"$f":"IF(H30=\"\",\"\",IF(NOT(ISNA(VLOOKUP(H30,Answers!E:H,4,FALSE))),VLOOKUP(H30,Answers!E:H,4,FALSE),\"Help!\"))","v":""},null,{"$f":"IF(I30=\"\",\"\",G30+IF(I30=\"XX\",VLOOKUP(\"WRONG\",Answers!E:H,4,FALSE),I30)+J30)","v":""},{"$f":"IF($B30=\"\",\"\",UPPER(Mainframe!E29))","v":""},{"$f":"IF(L30=\"\",\"\",IF(NOT(ISNA(VLOOKUP(L30,Answers!I:L,4,FALSE))),VLOOKUP(L30,Answers!I:L,4,FALSE),\"Help!\"))","v":""},null,{"$f":"IF(M30=\"\",\"\",K30+IF(M30=\"XX\",VLOOKUP(\"WRONG\",Answers!I:L,4,FALSE),M30)+N30)","v":""},{"$f":"IF($B30=\"\",\"\",UPPER(Mainframe!F29))","v":""},{"$f":"IF(P30=\"\",\"\",IF(NOT(ISNA(VLOOKUP(P30,Answers!M:P,4,FALSE))),VLOOKUP(P30,Answers!M:P,4,FALSE),\"Help!\"))","v":""},null,{"$f":"IF(Q30=\"\",\"\",O30+IF(Q30=\"XX\",VLOOKUP(\"WRONG\",Answers!M:P,4,FALSE),Q30)+R30)","v":""},{"$f":"IF($B30=\"\",\"\",UPPER(Mainframe!G29))","v":""},{"$f":"IF(T30=\"\",\"\",IF(NOT(ISNA(VLOOKUP(T30,Answers!Q:T,4,FALSE))),VLOOKUP(T30,Answers!Q:T,4,FALSE),\"Help!\"))","v":""},null,{"$f":"IF(U30=\"\",\"\",S30+IF(U30=\"XX\",VLOOKUP(\"WRONG\",Answers!Q:T,4,FALSE),U30)+V30)","v":""},{"$f":"IF($B30=\"\",\"\",UPPER(Mainframe!H29))","v":""},{"$f":"IF(X30=\"\",\"\",IF(NOT(ISNA(VLOOKUP(X30,Answers!U:X,4,FALSE))),VLOOKUP(X30,Answers!U:X,4,FALSE),\"Help!\"))","v":""},null,{"$f":"IF(Y30=\"\",\"\",W30+IF(Y30=\"XX\",VLOOKUP(\"WRONG\",Answers!U:X,4,FALSE),Y30)+Z30)","v":""},{"$f":"IF($B30=\"\",\"\",UPPER(Mainframe!I29))","v":""},{"$f":"IF(AB30=\"\",\"\",IF(NOT(ISNA(VLOOKUP(AB30,Answers!Y:AB,4,FALSE))),VLOOKUP(AB30,Answers!Y:AB,4,FALSE),\"Help!\"))","v":""},null,{"$f":"IF(AC30=\"\",\"\",AA30+IF(AC30=\"XX\",VLOOKUP(\"WRONG\",Answers!Y:AB,4,FALSE),AC30)+AD30)","v":""},{"$f":"IF($B30=\"\",\"\",UPPER(Mainframe!J29))","v":""},{"$f":"IF(AF30=\"\",\"\",IF(NOT(ISNA(VLOOKUP(AF30,Answers!AC:AF,4,FALSE))),VLOOKUP(AF30,Answers!AC:AF,4,FALSE),\"Help!\"))","v":""},null,{"$f":"IF(AG30=\"\",\"\",AE30+IF(AG30=\"XX\",VLOOKUP(\"WRONG\",Answers!AC:AF,4,FALSE),AG30)+AH30)","v":""},{"$f":"IF($B30=\"\",\"\",UPPER(Mainframe!K29))","v":""},{"$f":"IF(AJ30=\"\",\"\",IF(NOT(ISNA(VLOOKUP(AJ30,Answers!AG:AJ,4,FALSE))),VLOOKUP(AJ30,Answers!AG:AJ,4,FALSE),\"Help!\"))","v":""},null,{"$f":"IF(AK30=\"\",\"\",AI30+IF(AK30=\"XX\",VLOOKUP(\"WRONG\",Answers!AG:AJ,4,FALSE),AK30)+AL30)","v":""},{"$f":"IF($B30=\"\",\"\",UPPER(Mainframe!L29))","v":""},{"$f":"IF(AN30=\"\",\"\",IF(NOT(ISNA(VLOOKUP(AN30,Answers!AK:AN,4,FALSE))),VLOOKUP(AN30,Answers!AK:AN,4,FALSE),\"Help!\"))","v":""},null,{"$f":"IF(AO30=\"\",\"\",AM30+IF(AO30=\"XX\",VLOOKUP(\"WRONG\",Answers!AK:AN,4,FALSE),AO30)+AP30)","v":""},{"$f":"IF($B30=\"\",\"\",UPPER(Mainframe!M29))","v":""},{"$f":"IF(AR30=\"\",\"\",IF(NOT(ISNA(VLOOKUP(AR30,Answers!AO:AR,4,FALSE))),VLOOKUP(AR30,Answers!AO:AR,4,FALSE),\"Help!\"))","v":""},null,{"$f":"IF(AS30=\"\",\"\",AQ30+IF(AS30=\"XX\",VLOOKUP(\"WRONG\",Answers!AO:AR,4,FALSE),AS30)+AT30)","v":""},{"$f":"IF($B30=\"\",\"\",UPPER(Mainframe!N29))","v":""},{"$f":"IF(AV30=\"\",\"\",IF(NOT(ISNA(VLOOKUP(AV30,Answers!AS:AV,4,FALSE))),VLOOKUP(AV30,Answers!AS:AV,4,FALSE),\"Help!\"))","v":""},null,{"$f":"IF(AW30=\"\",\"\",AU30+IF(AW30=\"XX\",VLOOKUP(\"WRONG\",Answers!AS:AV,4,FALSE),AW30)+AX30)","v":""},{"$f":"IF($B30=\"\",\"\",UPPER(Mainframe!O29))","v":""},{"$f":"IF(AZ30=\"\",\"\",IF(NOT(ISNA(VLOOKUP(AZ30,Answers!AW:AZ,4,FALSE))),VLOOKUP(AZ30,Answers!AW:AZ,4,FALSE),\"Help!\"))","v":""},null,{"$f":"IF(BA30=\"\",\"\",AY30+IF(BA30=\"XX\",VLOOKUP(\"WRONG\",Answers!AW:AZ,4,FALSE),BA30)+BB30)","v":""},{"$f":"IF($B30=\"\",\"\",UPPER(Mainframe!P29))","v":""},{"$f":"IF(BD30=\"\",\"\",IF(NOT(ISNA(VLOOKUP(BD30,Answers!BA:BD,4,FALSE))),VLOOKUP(BD30,Answers!BA:BD,4,FALSE),\"Help!\"))","v":""},null,{"$f":"IF(BE30=\"\",\"\",BC30+IF(BE30=\"XX\",VLOOKUP(\"WRONG\",Answers!BA:BD,4,FALSE),BE30)+BF30)","v":""},{"$f":"IF($B30=\"\",\"\",UPPER(Mainframe!Q29))","v":""},{"$f":"IF(BH30=\"\",\"\",IF(NOT(ISNA(VLOOKUP(BH30,Answers!BE:BH,4,FALSE))),VLOOKUP(BH30,Answers!BE:BH,4,FALSE),\"Help!\"))","v":""},null,{"$f":"IF(BI30=\"\",\"\",BG30+IF(BI30=\"XX\",VLOOKUP(\"WRONG\",Answers!BE:BH,4,FALSE),BI30)+BJ30)","v":""},{"$f":"IF($B30=\"\",\"\",UPPER(Mainframe!R29))","v":""},{"$f":"IF(BL30=\"\",\"\",IF(NOT(ISNA(VLOOKUP(BL30,Answers!BI:BL,4,FALSE))),VLOOKUP(BL30,Answers!BI:BL,4,FALSE),\"Help!\"))","v":""},null,{"$f":"IF(BM30=\"\",\"\",BK30+IF(BM30=\"XX\",VLOOKUP(\"WRONG\",Answers!BI:BL,4,FALSE),BM30)+BN30)","v":""},{"$f":"IF($B30=\"\",\"\",UPPER(Mainframe!S29))","v":""},{"$f":"IF(BP30=\"\",\"\",IF(NOT(ISNA(VLOOKUP(BP30,Answers!BM:BP,4,FALSE))),VLOOKUP(BP30,Answers!BM:BP,4,FALSE),\"Help!\"))","v":""},null,{"$f":"IF(BQ30=\"\",\"\",BO30+IF(BQ30=\"XX\",VLOOKUP(\"WRONG\",Answers!BM:BP,4,FALSE),BQ30)+BR30)","v":""},{"$f":"IF($B30=\"\",\"\",UPPER(Mainframe!T29))","v":""},{"$f":"IF(BT30=\"\",\"\",IF(NOT(ISNA(VLOOKUP(BT30,Answers!BQ:BT,4,FALSE))),VLOOKUP(BT30,Answers!BQ:BT,4,FALSE),\"Help!\"))","v":""},null,{"$f":"IF(BU30=\"\",\"\",BS30+IF(BU30=\"XX\",VLOOKUP(\"WRONG\",Answers!BQ:BT,4,FALSE),BU30)+BV30)","v":""},{"$f":"IF($B30=\"\",\"\",UPPER(Mainframe!U29))","v":""},{"$f":"IF(BX30=\"\",\"\",IF(NOT(ISNA(VLOOKUP(BX30,Answers!BU:BX,4,FALSE))),VLOOKUP(BX30,Answers!BU:BX,4,FALSE),\"Help!\"))","v":""},null,{"$f":"IF(BY30=\"\",\"\",BW30+IF(BY30=\"XX\",VLOOKUP(\"WRONG\",Answers!BU:BX,4,FALSE),BY30)+BZ30)","v":""},{"$f":"IF($B30=\"\",\"\",UPPER(Mainframe!V29))","v":""},{"$f":"IF(CB30=\"\",\"\",IF(NOT(ISNA(VLOOKUP(CB30,Answers!BY:CB,4,FALSE))),VLOOKUP(CB30,Answers!BY:CB,4,FALSE),\"Help!\"))","v":""},null,{"$f":"IF(CC30=\"\",\"\",CA30+IF(CC30=\"XX\",VLOOKUP(\"WRONG\",Answers!BY:CB,4,FALSE),CC30)+CD30)","v":""},null,null,1,{"$f":"IF(INDEX($B:$CE,ROW(),QNO*4-1)=DROPNAME,DROPNAME,IF(INDEX($B:$CE,ROW(),QNO*4-1)=SHEEPNAME,SHEEPNAME,IF(INDEX($B:$CE,ROW(),QNO*4)=\"XX\",INDEX($B:$CE,ROW(),QNO*4-1),INDEX(OFFSET(Answers!B:B,0,(QNO-1)*4),MATCH(INDEX($A:$CB,ROW(),QNO*4),OFFSET(Answers!A:A,0,(QNO-1)*4),0))&\" — \"&IF(INDEX($B:$CE,ROW(),QNO*4)=1,\"[b]Singleton![/b]\",CONCATENATE(INDEX($B:$CE,ROW(),QNO*4),\" responses\")))))","v":{"$error":"#N/A"}},"//////////////////////////////////////////////////////////////////////////////////////////////////////////////////////////////////////////////////////////////////////////////////////////////////////////","No",{"$f":"IF(B30=0,\"\",CONCATENATE(INDEX($CH:$CL,ROW(),1),\". \",INDEX($B:$CE,ROW(),1),\" — [b]\")&IF(QNO=1,CONCATENATE(INDEX($B:$CE,ROW(),QNO*4+2),\"[/b] pts\"),CONCATENATE(INDEX($B:$CE,ROW(),QNO*4-2),\" + \",IF(INDEX($B:$CE,ROW(),QNO*4)=\"XX\",INDEX(Answers!$A:$ZZ,2,QNO*4),INDEX($B:$CE,ROW(),QNO*4)),\" = \",INDEX($B:$CE,ROW(),QNO*4+2),\"[/b] pts \",IF(INDEX($C:$CE,ROW(),QNO*4)>0,\"(penalty: +\"&INDEX($C:$CE,ROW(),QNO*4)&\") \",IF(INDEX($C:$CE,ROW(),QNO*4)<0,\"(bonus: \"&INDEX($C:$CE,ROW(),QNO*4)&\") \",\"\"))&\"[[b]\"&IF(CN30>0,\"[color=#00BF00]↑\"&CN30,IF(CN30<0,\"[color=#FF0000]↓\"&ABS(CN30),\"[color=#0000FF]unch\"))&\"[/b][/color]]\")))","v":"1.  — [b][/b] pts"},1,0]
["[*]",{"$f":"IF(Mainframe!B30=\"\",\"\",INDEX(Mainframe!$B:$B,C31+1,1))","v":""},29,{"$f":"IF($B31=\"\",\"\",UPPER(Mainframe!C30))","v":""},{"$f":"IF(D31=\"\",\"\",IF(NOT(ISNA(VLOOKUP(D31,Answers!A:D,4,FALSE))),VLOOKUP(D31,Answers!A:D,4,FALSE),\"Help!\"))","v":""},null,{"$f":"IF(E31=\"\",\"\",IF(E31=\"XX\",VLOOKUP(\"WRONG\",Answers!A:D,4,FALSE),E31)+F31)","v":""},{"$f":"IF($B31=\"\",\"\",UPPER(Mainframe!D30))","v":""},{"$f":"IF(H31=\"\",\"\",IF(NOT(ISNA(VLOOKUP(H31,Answers!E:H,4,FALSE))),VLOOKUP(H31,Answers!E:H,4,FALSE),\"Help!\"))","v":""},null,{"$f":"IF(I31=\"\",\"\",G31+IF(I31=\"XX\",VLOOKUP(\"WRONG\",Answers!E:H,4,FALSE),I31)+J31)","v":""},{"$f":"IF($B31=\"\",\"\",UPPER(Mainframe!E30))","v":""},{"$f":"IF(L31=\"\",\"\",IF(NOT(ISNA(VLOOKUP(L31,Answers!I:L,4,FALSE))),VLOOKUP(L31,Answers!I:L,4,FALSE),\"Help!\"))","v":""},null,{"$f":"IF(M31=\"\",\"\",K31+IF(M31=\"XX\",VLOOKUP(\"WRONG\",Answers!I:L,4,FALSE),M31)+N31)","v":""},{"$f":"IF($B31=\"\",\"\",UPPER(Mainframe!F30))","v":""},{"$f":"IF(P31=\"\",\"\",IF(NOT(ISNA(VLOOKUP(P31,Answers!M:P,4,FALSE))),VLOOKUP(P31,Answers!M:P,4,FALSE),\"Help!\"))","v":""},null,{"$f":"IF(Q31=\"\",\"\",O31+IF(Q31=\"XX\",VLOOKUP(\"WRONG\",Answers!M:P,4,FALSE),Q31)+R31)","v":""},{"$f":"IF($B31=\"\",\"\",UPPER(Mainframe!G30))","v":""},{"$f":"IF(T31=\"\",\"\",IF(NOT(ISNA(VLOOKUP(T31,Answers!Q:T,4,FALSE))),VLOOKUP(T31,Answers!Q:T,4,FALSE),\"Help!\"))","v":""},null,{"$f":"IF(U31=\"\",\"\",S31+IF(U31=\"XX\",VLOOKUP(\"WRONG\",Answers!Q:T,4,FALSE),U31)+V31)","v":""},{"$f":"IF($B31=\"\",\"\",UPPER(Mainframe!H30))","v":""},{"$f":"IF(X31=\"\",\"\",IF(NOT(ISNA(VLOOKUP(X31,Answers!U:X,4,FALSE))),VLOOKUP(X31,Answers!U:X,4,FALSE),\"Help!\"))","v":""},null,{"$f":"IF(Y31=\"\",\"\",W31+IF(Y31=\"XX\",VLOOKUP(\"WRONG\",Answers!U:X,4,FALSE),Y31)+Z31)","v":""},{"$f":"IF($B31=\"\",\"\",UPPER(Mainframe!I30))","v":""},{"$f":"IF(AB31=\"\",\"\",IF(NOT(ISNA(VLOOKUP(AB31,Answers!Y:AB,4,FALSE))),VLOOKUP(AB31,Answers!Y:AB,4,FALSE),\"Help!\"))","v":""},null,{"$f":"IF(AC31=\"\",\"\",AA31+IF(AC31=\"XX\",VLOOKUP(\"WRONG\",Answers!Y:AB,4,FALSE),AC31)+AD31)","v":""},{"$f":"IF($B31=\"\",\"\",UPPER(Mainframe!J30))","v":""},{"$f":"IF(AF31=\"\",\"\",IF(NOT(ISNA(VLOOKUP(AF31,Answers!AC:AF,4,FALSE))),VLOOKUP(AF31,Answers!AC:AF,4,FALSE),\"Help!\"))","v":""},null,{"$f":"IF(AG31=\"\",\"\",AE31+IF(AG31=\"XX\",VLOOKUP(\"WRONG\",Answers!AC:AF,4,FALSE),AG31)+AH31)","v":""},{"$f":"IF($B31=\"\",\"\",UPPER(Mainframe!K30))","v":""},{"$f":"IF(AJ31=\"\",\"\",IF(NOT(ISNA(VLOOKUP(AJ31,Answers!AG:AJ,4,FALSE))),VLOOKUP(AJ31,Answers!AG:AJ,4,FALSE),\"Help!\"))","v":""},null,{"$f":"IF(AK31=\"\",\"\",AI31+IF(AK31=\"XX\",VLOOKUP(\"WRONG\",Answers!AG:AJ,4,FALSE),AK31)+AL31)","v":""},{"$f":"IF($B31=\"\",\"\",UPPER(Mainframe!L30))","v":""},{"$f":"IF(AN31=\"\",\"\",IF(NOT(ISNA(VLOOKUP(AN31,Answers!AK:AN,4,FALSE))),VLOOKUP(AN31,Answers!AK:AN,4,FALSE),\"Help!\"))","v":""},null,{"$f":"IF(AO31=\"\",\"\",AM31+IF(AO31=\"XX\",VLOOKUP(\"WRONG\",Answers!AK:AN,4,FALSE),AO31)+AP31)","v":""},{"$f":"IF($B31=\"\",\"\",UPPER(Mainframe!M30))","v":""},{"$f":"IF(AR31=\"\",\"\",IF(NOT(ISNA(VLOOKUP(AR31,Answers!AO:AR,4,FALSE))),VLOOKUP(AR31,Answers!AO:AR,4,FALSE),\"Help!\"))","v":""},null,{"$f":"IF(AS31=\"\",\"\",AQ31+IF(AS31=\"XX\",VLOOKUP(\"WRONG\",Answers!AO:AR,4,FALSE),AS31)+AT31)","v":""},{"$f":"IF($B31=\"\",\"\",UPPER(Mainframe!N30))","v":""},{"$f":"IF(AV31=\"\",\"\",IF(NOT(ISNA(VLOOKUP(AV31,Answers!AS:AV,4,FALSE))),VLOOKUP(AV31,Answers!AS:AV,4,FALSE),\"Help!\"))","v":""},null,{"$f":"IF(AW31=\"\",\"\",AU31+IF(AW31=\"XX\",VLOOKUP(\"WRONG\",Answers!AS:AV,4,FALSE),AW31)+AX31)","v":""},{"$f":"IF($B31=\"\",\"\",UPPER(Mainframe!O30))","v":""},{"$f":"IF(AZ31=\"\",\"\",IF(NOT(ISNA(VLOOKUP(AZ31,Answers!AW:AZ,4,FALSE))),VLOOKUP(AZ31,Answers!AW:AZ,4,FALSE),\"Help!\"))","v":""},null,{"$f":"IF(BA31=\"\",\"\",AY31+IF(BA31=\"XX\",VLOOKUP(\"WRONG\",Answers!AW:AZ,4,FALSE),BA31)+BB31)","v":""},{"$f":"IF($B31=\"\",\"\",UPPER(Mainframe!P30))","v":""},{"$f":"IF(BD31=\"\",\"\",IF(NOT(ISNA(VLOOKUP(BD31,Answers!BA:BD,4,FALSE))),VLOOKUP(BD31,Answers!BA:BD,4,FALSE),\"Help!\"))","v":""},null,{"$f":"IF(BE31=\"\",\"\",BC31+IF(BE31=\"XX\",VLOOKUP(\"WRONG\",Answers!BA:BD,4,FALSE),BE31)+BF31)","v":""},{"$f":"IF($B31=\"\",\"\",UPPER(Mainframe!Q30))","v":""},{"$f":"IF(BH31=\"\",\"\",IF(NOT(ISNA(VLOOKUP(BH31,Answers!BE:BH,4,FALSE))),VLOOKUP(BH31,Answers!BE:BH,4,FALSE),\"Help!\"))","v":""},null,{"$f":"IF(BI31=\"\",\"\",BG31+IF(BI31=\"XX\",VLOOKUP(\"WRONG\",Answers!BE:BH,4,FALSE),BI31)+BJ31)","v":""},{"$f":"IF($B31=\"\",\"\",UPPER(Mainframe!R30))","v":""},{"$f":"IF(BL31=\"\",\"\",IF(NOT(ISNA(VLOOKUP(BL31,Answers!BI:BL,4,FALSE))),VLOOKUP(BL31,Answers!BI:BL,4,FALSE),\"Help!\"))","v":""},null,{"$f":"IF(BM31=\"\",\"\",BK31+IF(BM31=\"XX\",VLOOKUP(\"WRONG\",Answers!BI:BL,4,FALSE),BM31)+BN31)","v":""},{"$f":"IF($B31=\"\",\"\",UPPER(Mainframe!S30))","v":""},{"$f":"IF(BP31=\"\",\"\",IF(NOT(ISNA(VLOOKUP(BP31,Answers!BM:BP,4,FALSE))),VLOOKUP(BP31,Answers!BM:BP,4,FALSE),\"Help!\"))","v":""},null,{"$f":"IF(BQ31=\"\",\"\",BO31+IF(BQ31=\"XX\",VLOOKUP(\"WRONG\",Answers!BM:BP,4,FALSE),BQ31)+BR31)","v":""},{"$f":"IF($B31=\"\",\"\",UPPER(Mainframe!T30))","v":""},{"$f":"IF(BT31=\"\",\"\",IF(NOT(ISNA(VLOOKUP(BT31,Answers!BQ:BT,4,FALSE))),VLOOKUP(BT31,Answers!BQ:BT,4,FALSE),\"Help!\"))","v":""},null,{"$f":"IF(BU31=\"\",\"\",BS31+IF(BU31=\"XX\",VLOOKUP(\"WRONG\",Answers!BQ:BT,4,FALSE),BU31)+BV31)","v":""},{"$f":"IF($B31=\"\",\"\",UPPER(Mainframe!U30))","v":""},{"$f":"IF(BX31=\"\",\"\",IF(NOT(ISNA(VLOOKUP(BX31,Answers!BU:BX,4,FALSE))),VLOOKUP(BX31,Answers!BU:BX,4,FALSE),\"Help!\"))","v":""},null,{"$f":"IF(BY31=\"\",\"\",BW31+IF(BY31=\"XX\",VLOOKUP(\"WRONG\",Answers!BU:BX,4,FALSE),BY31)+BZ31)","v":""},{"$f":"IF($B31=\"\",\"\",UPPER(Mainframe!V30))","v":""},{"$f":"IF(CB31=\"\",\"\",IF(NOT(ISNA(VLOOKUP(CB31,Answers!BY:CB,4,FALSE))),VLOOKUP(CB31,Answers!BY:CB,4,FALSE),\"Help!\"))","v":""},null,{"$f":"IF(CC31=\"\",\"\",CA31+IF(CC31=\"XX\",VLOOKUP(\"WRONG\",Answers!BY:CB,4,FALSE),CC31)+CD31)","v":""},null,null,1,{"$f":"IF(INDEX($B:$CE,ROW(),QNO*4-1)=DROPNAME,DROPNAME,IF(INDEX($B:$CE,ROW(),QNO*4-1)=SHEEPNAME,SHEEPNAME,IF(INDEX($B:$CE,ROW(),QNO*4)=\"XX\",INDEX($B:$CE,ROW(),QNO*4-1),INDEX(OFFSET(Answers!B:B,0,(QNO-1)*4),MATCH(INDEX($A:$CB,ROW(),QNO*4),OFFSET(Answers!A:A,0,(QNO-1)*4),0))&\" — \"&IF(INDEX($B:$CE,ROW(),QNO*4)=1,\"[b]Singleton![/b]\",CONCATENATE(INDEX($B:$CE,ROW(),QNO*4),\" responses\")))))","v":{"$error":"#N/A"}},"////////////////////////////////////////////////////////////////////////////////////////////////////////////////////////////////////////////////////////////////////////////////////////////////////////","No",{"$f":"IF(B31=0,\"\",CONCATENATE(INDEX($CH:$CL,ROW(),1),\". \",INDEX($B:$CE,ROW(),1),\" — [b]\")&IF(QNO=1,CONCATENATE(INDEX($B:$CE,ROW(),QNO*4+2),\"[/b] pts\"),CONCATENATE(INDEX($B:$CE,ROW(),QNO*4-2),\" + \",IF(INDEX($B:$CE,ROW(),QNO*4)=\"XX\",INDEX(Answers!$A:$ZZ,2,QNO*4),INDEX($B:$CE,ROW(),QNO*4)),\" = \",INDEX($B:$CE,ROW(),QNO*4+2),\"[/b] pts \",IF(INDEX($C:$CE,ROW(),QNO*4)>0,\"(penalty: +\"&INDEX($C:$CE,ROW(),QNO*4)&\") \",IF(INDEX($C:$CE,ROW(),QNO*4)<0,\"(bonus: \"&INDEX($C:$CE,ROW(),QNO*4)&\") \",\"\"))&\"[[b]\"&IF(CN31>0,\"[color=#00BF00]↑\"&CN31,IF(CN31<0,\"[color=#FF0000]↓\"&ABS(CN31),\"[color=#0000FF]unch\"))&\"[/b][/color]]\")))","v":"1.  — [b][/b] pts"},1,0]
["[*]",{"$f":"IF(Mainframe!B31=\"\",\"\",INDEX(Mainframe!$B:$B,C32+1,1))","v":""},30,{"$f":"IF($B32=\"\",\"\",UPPER(Mainframe!C31))","v":""},{"$f":"IF(D32=\"\",\"\",IF(NOT(ISNA(VLOOKUP(D32,Answers!A:D,4,FALSE))),VLOOKUP(D32,Answers!A:D,4,FALSE),\"Help!\"))","v":""},null,{"$f":"IF(E32=\"\",\"\",IF(E32=\"XX\",VLOOKUP(\"WRONG\",Answers!A:D,4,FALSE),E32)+F32)","v":""},{"$f":"IF($B32=\"\",\"\",UPPER(Mainframe!D31))","v":""},{"$f":"IF(H32=\"\",\"\",IF(NOT(ISNA(VLOOKUP(H32,Answers!E:H,4,FALSE))),VLOOKUP(H32,Answers!E:H,4,FALSE),\"Help!\"))","v":""},null,{"$f":"IF(I32=\"\",\"\",G32+IF(I32=\"XX\",VLOOKUP(\"WRONG\",Answers!E:H,4,FALSE),I32)+J32)","v":""},{"$f":"IF($B32=\"\",\"\",UPPER(Mainframe!E31))","v":""},{"$f":"IF(L32=\"\",\"\",IF(NOT(ISNA(VLOOKUP(L32,Answers!I:L,4,FALSE))),VLOOKUP(L32,Answers!I:L,4,FALSE),\"Help!\"))","v":""},null,{"$f":"IF(M32=\"\",\"\",K32+IF(M32=\"XX\",VLOOKUP(\"WRONG\",Answers!I:L,4,FALSE),M32)+N32)","v":""},{"$f":"IF($B32=\"\",\"\",UPPER(Mainframe!F31))","v":""},{"$f":"IF(P32=\"\",\"\",IF(NOT(ISNA(VLOOKUP(P32,Answers!M:P,4,FALSE))),VLOOKUP(P32,Answers!M:P,4,FALSE),\"Help!\"))","v":""},null,{"$f":"IF(Q32=\"\",\"\",O32+IF(Q32=\"XX\",VLOOKUP(\"WRONG\",Answers!M:P,4,FALSE),Q32)+R32)","v":""},{"$f":"IF($B32=\"\",\"\",UPPER(Mainframe!G31))","v":""},{"$f":"IF(T32=\"\",\"\",IF(NOT(ISNA(VLOOKUP(T32,Answers!Q:T,4,FALSE))),VLOOKUP(T32,Answers!Q:T,4,FALSE),\"Help!\"))","v":""},null,{"$f":"IF(U32=\"\",\"\",S32+IF(U32=\"XX\",VLOOKUP(\"WRONG\",Answers!Q:T,4,FALSE),U32)+V32)","v":""},{"$f":"IF($B32=\"\",\"\",UPPER(Mainframe!H31))","v":""},{"$f":"IF(X32=\"\",\"\",IF(NOT(ISNA(VLOOKUP(X32,Answers!U:X,4,FALSE))),VLOOKUP(X32,Answers!U:X,4,FALSE),\"Help!\"))","v":""},null,{"$f":"IF(Y32=\"\",\"\",W32+IF(Y32=\"XX\",VLOOKUP(\"WRONG\",Answers!U:X,4,FALSE),Y32)+Z32)","v":""},{"$f":"IF($B32=\"\",\"\",UPPER(Mainframe!I31))","v":""},{"$f":"IF(AB32=\"\",\"\",IF(NOT(ISNA(VLOOKUP(AB32,Answers!Y:AB,4,FALSE))),VLOOKUP(AB32,Answers!Y:AB,4,FALSE),\"Help!\"))","v":""},null,{"$f":"IF(AC32=\"\",\"\",AA32+IF(AC32=\"XX\",VLOOKUP(\"WRONG\",Answers!Y:AB,4,FALSE),AC32)+AD32)","v":""},{"$f":"IF($B32=\"\",\"\",UPPER(Mainframe!J31))","v":""},{"$f":"IF(AF32=\"\",\"\",IF(NOT(ISNA(VLOOKUP(AF32,Answers!AC:AF,4,FALSE))),VLOOKUP(AF32,Answers!AC:AF,4,FALSE),\"Help!\"))","v":""},null,{"$f":"IF(AG32=\"\",\"\",AE32+IF(AG32=\"XX\",VLOOKUP(\"WRONG\",Answers!AC:AF,4,FALSE),AG32)+AH32)","v":""},{"$f":"IF($B32=\"\",\"\",UPPER(Mainframe!K31))","v":""},{"$f":"IF(AJ32=\"\",\"\",IF(NOT(ISNA(VLOOKUP(AJ32,Answers!AG:AJ,4,FALSE))),VLOOKUP(AJ32,Answers!AG:AJ,4,FALSE),\"Help!\"))","v":""},null,{"$f":"IF(AK32=\"\",\"\",AI32+IF(AK32=\"XX\",VLOOKUP(\"WRONG\",Answers!AG:AJ,4,FALSE),AK32)+AL32)","v":""},{"$f":"IF($B32=\"\",\"\",UPPER(Mainframe!L31))","v":""},{"$f":"IF(AN32=\"\",\"\",IF(NOT(ISNA(VLOOKUP(AN32,Answers!AK:AN,4,FALSE))),VLOOKUP(AN32,Answers!AK:AN,4,FALSE),\"Help!\"))","v":""},null,{"$f":"IF(AO32=\"\",\"\",AM32+IF(AO32=\"XX\",VLOOKUP(\"WRONG\",Answers!AK:AN,4,FALSE),AO32)+AP32)","v":""},{"$f":"IF($B32=\"\",\"\",UPPER(Mainframe!M31))","v":""},{"$f":"IF(AR32=\"\",\"\",IF(NOT(ISNA(VLOOKUP(AR32,Answers!AO:AR,4,FALSE))),VLOOKUP(AR32,Answers!AO:AR,4,FALSE),\"Help!\"))","v":""},null,{"$f":"IF(AS32=\"\",\"\",AQ32+IF(AS32=\"XX\",VLOOKUP(\"WRONG\",Answers!AO:AR,4,FALSE),AS32)+AT32)","v":""},{"$f":"IF($B32=\"\",\"\",UPPER(Mainframe!N31))","v":""},{"$f":"IF(AV32=\"\",\"\",IF(NOT(ISNA(VLOOKUP(AV32,Answers!AS:AV,4,FALSE))),VLOOKUP(AV32,Answers!AS:AV,4,FALSE),\"Help!\"))","v":""},null,{"$f":"IF(AW32=\"\",\"\",AU32+IF(AW32=\"XX\",VLOOKUP(\"WRONG\",Answers!AS:AV,4,FALSE),AW32)+AX32)","v":""},{"$f":"IF($B32=\"\",\"\",UPPER(Mainframe!O31))","v":""},{"$f":"IF(AZ32=\"\",\"\",IF(NOT(ISNA(VLOOKUP(AZ32,Answers!AW:AZ,4,FALSE))),VLOOKUP(AZ32,Answers!AW:AZ,4,FALSE),\"Help!\"))","v":""},null,{"$f":"IF(BA32=\"\",\"\",AY32+IF(BA32=\"XX\",VLOOKUP(\"WRONG\",Answers!AW:AZ,4,FALSE),BA32)+BB32)","v":""},{"$f":"IF($B32=\"\",\"\",UPPER(Mainframe!P31))","v":""},{"$f":"IF(BD32=\"\",\"\",IF(NOT(ISNA(VLOOKUP(BD32,Answers!BA:BD,4,FALSE))),VLOOKUP(BD32,Answers!BA:BD,4,FALSE),\"Help!\"))","v":""},null,{"$f":"IF(BE32=\"\",\"\",BC32+IF(BE32=\"XX\",VLOOKUP(\"WRONG\",Answers!BA:BD,4,FALSE),BE32)+BF32)","v":""},{"$f":"IF($B32=\"\",\"\",UPPER(Mainframe!Q31))","v":""},{"$f":"IF(BH32=\"\",\"\",IF(NOT(ISNA(VLOOKUP(BH32,Answers!BE:BH,4,FALSE))),VLOOKUP(BH32,Answers!BE:BH,4,FALSE),\"Help!\"))","v":""},null,{"$f":"IF(BI32=\"\",\"\",BG32+IF(BI32=\"XX\",VLOOKUP(\"WRONG\",Answers!BE:BH,4,FALSE),BI32)+BJ32)","v":""},{"$f":"IF($B32=\"\",\"\",UPPER(Mainframe!R31))","v":""},{"$f":"IF(BL32=\"\",\"\",IF(NOT(ISNA(VLOOKUP(BL32,Answers!BI:BL,4,FALSE))),VLOOKUP(BL32,Answers!BI:BL,4,FALSE),\"Help!\"))","v":""},null,{"$f":"IF(BM32=\"\",\"\",BK32+IF(BM32=\"XX\",VLOOKUP(\"WRONG\",Answers!BI:BL,4,FALSE),BM32)+BN32)","v":""},{"$f":"IF($B32=\"\",\"\",UPPER(Mainframe!S31))","v":""},{"$f":"IF(BP32=\"\",\"\",IF(NOT(ISNA(VLOOKUP(BP32,Answers!BM:BP,4,FALSE))),VLOOKUP(BP32,Answers!BM:BP,4,FALSE),\"Help!\"))","v":""},null,{"$f":"IF(BQ32=\"\",\"\",BO32+IF(BQ32=\"XX\",VLOOKUP(\"WRONG\",Answers!BM:BP,4,FALSE),BQ32)+BR32)","v":""},{"$f":"IF($B32=\"\",\"\",UPPER(Mainframe!T31))","v":""},{"$f":"IF(BT32=\"\",\"\",IF(NOT(ISNA(VLOOKUP(BT32,Answers!BQ:BT,4,FALSE))),VLOOKUP(BT32,Answers!BQ:BT,4,FALSE),\"Help!\"))","v":""},null,{"$f":"IF(BU32=\"\",\"\",BS32+IF(BU32=\"XX\",VLOOKUP(\"WRONG\",Answers!BQ:BT,4,FALSE),BU32)+BV32)","v":""},{"$f":"IF($B32=\"\",\"\",UPPER(Mainframe!U31))","v":""},{"$f":"IF(BX32=\"\",\"\",IF(NOT(ISNA(VLOOKUP(BX32,Answers!BU:BX,4,FALSE))),VLOOKUP(BX32,Answers!BU:BX,4,FALSE),\"Help!\"))","v":""},null,{"$f":"IF(BY32=\"\",\"\",BW32+IF(BY32=\"XX\",VLOOKUP(\"WRONG\",Answers!BU:BX,4,FALSE),BY32)+BZ32)","v":""},{"$f":"IF($B32=\"\",\"\",UPPER(Mainframe!V31))","v":""},{"$f":"IF(CB32=\"\",\"\",IF(NOT(ISNA(VLOOKUP(CB32,Answers!BY:CB,4,FALSE))),VLOOKUP(CB32,Answers!BY:CB,4,FALSE),\"Help!\"))","v":""},null,{"$f":"IF(CC32=\"\",\"\",CA32+IF(CC32=\"XX\",VLOOKUP(\"WRONG\",Answers!BY:CB,4,FALSE),CC32)+CD32)","v":""},null,null,1,{"$f":"IF(INDEX($B:$CE,ROW(),QNO*4-1)=DROPNAME,DROPNAME,IF(INDEX($B:$CE,ROW(),QNO*4-1)=SHEEPNAME,SHEEPNAME,IF(INDEX($B:$CE,ROW(),QNO*4)=\"XX\",INDEX($B:$CE,ROW(),QNO*4-1),INDEX(OFFSET(Answers!B:B,0,(QNO-1)*4),MATCH(INDEX($A:$CB,ROW(),QNO*4),OFFSET(Answers!A:A,0,(QNO-1)*4),0))&\" — \"&IF(INDEX($B:$CE,ROW(),QNO*4)=1,\"[b]Singleton![/b]\",CONCATENATE(INDEX($B:$CE,ROW(),QNO*4),\" responses\")))))","v":{"$error":"#N/A"}},"//////////////////////////////////////////////////////////////////////////////////////////////////////////////////////////////////////////////////////////////////////////////////////////////////////","No",{"$f":"IF(B32=0,\"\",CONCATENATE(INDEX($CH:$CL,ROW(),1),\". \",INDEX($B:$CE,ROW(),1),\" — [b]\")&IF(QNO=1,CONCATENATE(INDEX($B:$CE,ROW(),QNO*4+2),\"[/b] pts\"),CONCATENATE(INDEX($B:$CE,ROW(),QNO*4-2),\" + \",IF(INDEX($B:$CE,ROW(),QNO*4)=\"XX\",INDEX(Answers!$A:$ZZ,2,QNO*4),INDEX($B:$CE,ROW(),QNO*4)),\" = \",INDEX($B:$CE,ROW(),QNO*4+2),\"[/b] pts \",IF(INDEX($C:$CE,ROW(),QNO*4)>0,\"(penalty: +\"&INDEX($C:$CE,ROW(),QNO*4)&\") \",IF(INDEX($C:$CE,ROW(),QNO*4)<0,\"(bonus: \"&INDEX($C:$CE,ROW(),QNO*4)&\") \",\"\"))&\"[[b]\"&IF(CN32>0,\"[color=#00BF00]↑\"&CN32,IF(CN32<0,\"[color=#FF0000]↓\"&ABS(CN32),\"[color=#0000FF]unch\"))&\"[/b][/color]]\")))","v":"1.  — [b][/b] pts"},1,0]
["[*]",{"$f":"IF(Mainframe!B32=\"\",\"\",INDEX(Mainframe!$B:$B,C33+1,1))","v":""},31,{"$f":"IF($B33=\"\",\"\",UPPER(Mainframe!C32))","v":""},{"$f":"IF(D33=\"\",\"\",IF(NOT(ISNA(VLOOKUP(D33,Answers!A:D,4,FALSE))),VLOOKUP(D33,Answers!A:D,4,FALSE),\"Help!\"))","v":""},null,{"$f":"IF(E33=\"\",\"\",IF(E33=\"XX\",VLOOKUP(\"WRONG\",Answers!A:D,4,FALSE),E33)+F33)","v":""},{"$f":"IF($B33=\"\",\"\",UPPER(Mainframe!D32))","v":""},{"$f":"IF(H33=\"\",\"\",IF(NOT(ISNA(VLOOKUP(H33,Answers!E:H,4,FALSE))),VLOOKUP(H33,Answers!E:H,4,FALSE),\"Help!\"))","v":""},null,{"$f":"IF(I33=\"\",\"\",G33+IF(I33=\"XX\",VLOOKUP(\"WRONG\",Answers!E:H,4,FALSE),I33)+J33)","v":""},{"$f":"IF($B33=\"\",\"\",UPPER(Mainframe!E32))","v":""},{"$f":"IF(L33=\"\",\"\",IF(NOT(ISNA(VLOOKUP(L33,Answers!I:L,4,FALSE))),VLOOKUP(L33,Answers!I:L,4,FALSE),\"Help!\"))","v":""},null,{"$f":"IF(M33=\"\",\"\",K33+IF(M33=\"XX\",VLOOKUP(\"WRONG\",Answers!I:L,4,FALSE),M33)+N33)","v":""},{"$f":"IF($B33=\"\",\"\",UPPER(Mainframe!F32))","v":""},{"$f":"IF(P33=\"\",\"\",IF(NOT(ISNA(VLOOKUP(P33,Answers!M:P,4,FALSE))),VLOOKUP(P33,Answers!M:P,4,FALSE),\"Help!\"))","v":""},null,{"$f":"IF(Q33=\"\",\"\",O33+IF(Q33=\"XX\",VLOOKUP(\"WRONG\",Answers!M:P,4,FALSE),Q33)+R33)","v":""},{"$f":"IF($B33=\"\",\"\",UPPER(Mainframe!G32))","v":""},{"$f":"IF(T33=\"\",\"\",IF(NOT(ISNA(VLOOKUP(T33,Answers!Q:T,4,FALSE))),VLOOKUP(T33,Answers!Q:T,4,FALSE),\"Help!\"))","v":""},null,{"$f":"IF(U33=\"\",\"\",S33+IF(U33=\"XX\",VLOOKUP(\"WRONG\",Answers!Q:T,4,FALSE),U33)+V33)","v":""},{"$f":"IF($B33=\"\",\"\",UPPER(Mainframe!H32))","v":""},{"$f":"IF(X33=\"\",\"\",IF(NOT(ISNA(VLOOKUP(X33,Answers!U:X,4,FALSE))),VLOOKUP(X33,Answers!U:X,4,FALSE),\"Help!\"))","v":""},null,{"$f":"IF(Y33=\"\",\"\",W33+IF(Y33=\"XX\",VLOOKUP(\"WRONG\",Answers!U:X,4,FALSE),Y33)+Z33)","v":""},{"$f":"IF($B33=\"\",\"\",UPPER(Mainframe!I32))","v":""},{"$f":"IF(AB33=\"\",\"\",IF(NOT(ISNA(VLOOKUP(AB33,Answers!Y:AB,4,FALSE))),VLOOKUP(AB33,Answers!Y:AB,4,FALSE),\"Help!\"))","v":""},null,{"$f":"IF(AC33=\"\",\"\",AA33+IF(AC33=\"XX\",VLOOKUP(\"WRONG\",Answers!Y:AB,4,FALSE),AC33)+AD33)","v":""},{"$f":"IF($B33=\"\",\"\",UPPER(Mainframe!J32))","v":""},{"$f":"IF(AF33=\"\",\"\",IF(NOT(ISNA(VLOOKUP(AF33,Answers!AC:AF,4,FALSE))),VLOOKUP(AF33,Answers!AC:AF,4,FALSE),\"Help!\"))","v":""},null,{"$f":"IF(AG33=\"\",\"\",AE33+IF(AG33=\"XX\",VLOOKUP(\"WRONG\",Answers!AC:AF,4,FALSE),AG33)+AH33)","v":""},{"$f":"IF($B33=\"\",\"\",UPPER(Mainframe!K32))","v":""},{"$f":"IF(AJ33=\"\",\"\",IF(NOT(ISNA(VLOOKUP(AJ33,Answers!AG:AJ,4,FALSE))),VLOOKUP(AJ33,Answers!AG:AJ,4,FALSE),\"Help!\"))","v":""},null,{"$f":"IF(AK33=\"\",\"\",AI33+IF(AK33=\"XX\",VLOOKUP(\"WRONG\",Answers!AG:AJ,4,FALSE),AK33)+AL33)","v":""},{"$f":"IF($B33=\"\",\"\",UPPER(Mainframe!L32))","v":""},{"$f":"IF(AN33=\"\",\"\",IF(NOT(ISNA(VLOOKUP(AN33,Answers!AK:AN,4,FALSE))),VLOOKUP(AN33,Answers!AK:AN,4,FALSE),\"Help!\"))","v":""},null,{"$f":"IF(AO33=\"\",\"\",AM33+IF(AO33=\"XX\",VLOOKUP(\"WRONG\",Answers!AK:AN,4,FALSE),AO33)+AP33)","v":""},{"$f":"IF($B33=\"\",\"\",UPPER(Mainframe!M32))","v":""},{"$f":"IF(AR33=\"\",\"\",IF(NOT(ISNA(VLOOKUP(AR33,Answers!AO:AR,4,FALSE))),VLOOKUP(AR33,Answers!AO:AR,4,FALSE),\"Help!\"))","v":""},null,{"$f":"IF(AS33=\"\",\"\",AQ33+IF(AS33=\"XX\",VLOOKUP(\"WRONG\",Answers!AO:AR,4,FALSE),AS33)+AT33)","v":""},{"$f":"IF($B33=\"\",\"\",UPPER(Mainframe!N32))","v":""},{"$f":"IF(AV33=\"\",\"\",IF(NOT(ISNA(VLOOKUP(AV33,Answers!AS:AV,4,FALSE))),VLOOKUP(AV33,Answers!AS:AV,4,FALSE),\"Help!\"))","v":""},null,{"$f":"IF(AW33=\"\",\"\",AU33+IF(AW33=\"XX\",VLOOKUP(\"WRONG\",Answers!AS:AV,4,FALSE),AW33)+AX33)","v":""},{"$f":"IF($B33=\"\",\"\",UPPER(Mainframe!O32))","v":""},{"$f":"IF(AZ33=\"\",\"\",IF(NOT(ISNA(VLOOKUP(AZ33,Answers!AW:AZ,4,FALSE))),VLOOKUP(AZ33,Answers!AW:AZ,4,FALSE),\"Help!\"))","v":""},null,{"$f":"IF(BA33=\"\",\"\",AY33+IF(BA33=\"XX\",VLOOKUP(\"WRONG\",Answers!AW:AZ,4,FALSE),BA33)+BB33)","v":""},{"$f":"IF($B33=\"\",\"\",UPPER(Mainframe!P32))","v":""},{"$f":"IF(BD33=\"\",\"\",IF(NOT(ISNA(VLOOKUP(BD33,Answers!BA:BD,4,FALSE))),VLOOKUP(BD33,Answers!BA:BD,4,FALSE),\"Help!\"))","v":""},null,{"$f":"IF(BE33=\"\",\"\",BC33+IF(BE33=\"XX\",VLOOKUP(\"WRONG\",Answers!BA:BD,4,FALSE),BE33)+BF33)","v":""},{"$f":"IF($B33=\"\",\"\",UPPER(Mainframe!Q32))","v":""},{"$f":"IF(BH33=\"\",\"\",IF(NOT(ISNA(VLOOKUP(BH33,Answers!BE:BH,4,FALSE))),VLOOKUP(BH33,Answers!BE:BH,4,FALSE),\"Help!\"))","v":""},null,{"$f":"IF(BI33=\"\",\"\",BG33+IF(BI33=\"XX\",VLOOKUP(\"WRONG\",Answers!BE:BH,4,FALSE),BI33)+BJ33)","v":""},{"$f":"IF($B33=\"\",\"\",UPPER(Mainframe!R32))","v":""},{"$f":"IF(BL33=\"\",\"\",IF(NOT(ISNA(VLOOKUP(BL33,Answers!BI:BL,4,FALSE))),VLOOKUP(BL33,Answers!BI:BL,4,FALSE),\"Help!\"))","v":""},null,{"$f":"IF(BM33=\"\",\"\",BK33+IF(BM33=\"XX\",VLOOKUP(\"WRONG\",Answers!BI:BL,4,FALSE),BM33)+BN33)","v":""},{"$f":"IF($B33=\"\",\"\",UPPER(Mainframe!S32))","v":""},{"$f":"IF(BP33=\"\",\"\",IF(NOT(ISNA(VLOOKUP(BP33,Answers!BM:BP,4,FALSE))),VLOOKUP(BP33,Answers!BM:BP,4,FALSE),\"Help!\"))","v":""},null,{"$f":"IF(BQ33=\"\",\"\",BO33+IF(BQ33=\"XX\",VLOOKUP(\"WRONG\",Answers!BM:BP,4,FALSE),BQ33)+BR33)","v":""},{"$f":"IF($B33=\"\",\"\",UPPER(Mainframe!T32))","v":""},{"$f":"IF(BT33=\"\",\"\",IF(NOT(ISNA(VLOOKUP(BT33,Answers!BQ:BT,4,FALSE))),VLOOKUP(BT33,Answers!BQ:BT,4,FALSE),\"Help!\"))","v":""},null,{"$f":"IF(BU33=\"\",\"\",BS33+IF(BU33=\"XX\",VLOOKUP(\"WRONG\",Answers!BQ:BT,4,FALSE),BU33)+BV33)","v":""},{"$f":"IF($B33=\"\",\"\",UPPER(Mainframe!U32))","v":""},{"$f":"IF(BX33=\"\",\"\",IF(NOT(ISNA(VLOOKUP(BX33,Answers!BU:BX,4,FALSE))),VLOOKUP(BX33,Answers!BU:BX,4,FALSE),\"Help!\"))","v":""},null,{"$f":"IF(BY33=\"\",\"\",BW33+IF(BY33=\"XX\",VLOOKUP(\"WRONG\",Answers!BU:BX,4,FALSE),BY33)+BZ33)","v":""},{"$f":"IF($B33=\"\",\"\",UPPER(Mainframe!V32))","v":""},{"$f":"IF(CB33=\"\",\"\",IF(NOT(ISNA(VLOOKUP(CB33,Answers!BY:CB,4,FALSE))),VLOOKUP(CB33,Answers!BY:CB,4,FALSE),\"Help!\"))","v":""},null,{"$f":"IF(CC33=\"\",\"\",CA33+IF(CC33=\"XX\",VLOOKUP(\"WRONG\",Answers!BY:CB,4,FALSE),CC33)+CD33)","v":""},null,null,1,{"$f":"IF(INDEX($B:$CE,ROW(),QNO*4-1)=DROPNAME,DROPNAME,IF(INDEX($B:$CE,ROW(),QNO*4-1)=SHEEPNAME,SHEEPNAME,IF(INDEX($B:$CE,ROW(),QNO*4)=\"XX\",INDEX($B:$CE,ROW(),QNO*4-1),INDEX(OFFSET(Answers!B:B,0,(QNO-1)*4),MATCH(INDEX($A:$CB,ROW(),QNO*4),OFFSET(Answers!A:A,0,(QNO-1)*4),0))&\" — \"&IF(INDEX($B:$CE,ROW(),QNO*4)=1,\"[b]Singleton![/b]\",CONCATENATE(INDEX($B:$CE,ROW(),QNO*4),\" responses\")))))","v":{"$error":"#N/A"}},"////////////////////////////////////////////////////////////////////////////////////////////////////////////////////////////////////////////////////////////////////////////////////////////////////","No",{"$f":"IF(B33=0,\"\",CONCATENATE(INDEX($CH:$CL,ROW(),1),\". \",INDEX($B:$CE,ROW(),1),\" — [b]\")&IF(QNO=1,CONCATENATE(INDEX($B:$CE,ROW(),QNO*4+2),\"[/b] pts\"),CONCATENATE(INDEX($B:$CE,ROW(),QNO*4-2),\" + \",IF(INDEX($B:$CE,ROW(),QNO*4)=\"XX\",INDEX(Answers!$A:$ZZ,2,QNO*4),INDEX($B:$CE,ROW(),QNO*4)),\" = \",INDEX($B:$CE,ROW(),QNO*4+2),\"[/b] pts \",IF(INDEX($C:$CE,ROW(),QNO*4)>0,\"(penalty: +\"&INDEX($C:$CE,ROW(),QNO*4)&\") \",IF(INDEX($C:$CE,ROW(),QNO*4)<0,\"(bonus: \"&INDEX($C:$CE,ROW(),QNO*4)&\") \",\"\"))&\"[[b]\"&IF(CN33>0,\"[color=#00BF00]↑\"&CN33,IF(CN33<0,\"[color=#FF0000]↓\"&ABS(CN33),\"[color=#0000FF]unch\"))&\"[/b][/color]]\")))","v":"1.  — [b][/b] pts"},1,0]
["[*]",{"$f":"IF(Mainframe!B33=\"\",\"\",INDEX(Mainframe!$B:$B,C34+1,1))","v":""},32,{"$f":"IF($B34=\"\",\"\",UPPER(Mainframe!C33))","v":""},{"$f":"IF(D34=\"\",\"\",IF(NOT(ISNA(VLOOKUP(D34,Answers!A:D,4,FALSE))),VLOOKUP(D34,Answers!A:D,4,FALSE),\"Help!\"))","v":""},null,{"$f":"IF(E34=\"\",\"\",IF(E34=\"XX\",VLOOKUP(\"WRONG\",Answers!A:D,4,FALSE),E34)+F34)","v":""},{"$f":"IF($B34=\"\",\"\",UPPER(Mainframe!D33))","v":""},{"$f":"IF(H34=\"\",\"\",IF(NOT(ISNA(VLOOKUP(H34,Answers!E:H,4,FALSE))),VLOOKUP(H34,Answers!E:H,4,FALSE),\"Help!\"))","v":""},null,{"$f":"IF(I34=\"\",\"\",G34+IF(I34=\"XX\",VLOOKUP(\"WRONG\",Answers!E:H,4,FALSE),I34)+J34)","v":""},{"$f":"IF($B34=\"\",\"\",UPPER(Mainframe!E33))","v":""},{"$f":"IF(L34=\"\",\"\",IF(NOT(ISNA(VLOOKUP(L34,Answers!I:L,4,FALSE))),VLOOKUP(L34,Answers!I:L,4,FALSE),\"Help!\"))","v":""},null,{"$f":"IF(M34=\"\",\"\",K34+IF(M34=\"XX\",VLOOKUP(\"WRONG\",Answers!I:L,4,FALSE),M34)+N34)","v":""},{"$f":"IF($B34=\"\",\"\",UPPER(Mainframe!F33))","v":""},{"$f":"IF(P34=\"\",\"\",IF(NOT(ISNA(VLOOKUP(P34,Answers!M:P,4,FALSE))),VLOOKUP(P34,Answers!M:P,4,FALSE),\"Help!\"))","v":""},null,{"$f":"IF(Q34=\"\",\"\",O34+IF(Q34=\"XX\",VLOOKUP(\"WRONG\",Answers!M:P,4,FALSE),Q34)+R34)","v":""},{"$f":"IF($B34=\"\",\"\",UPPER(Mainframe!G33))","v":""},{"$f":"IF(T34=\"\",\"\",IF(NOT(ISNA(VLOOKUP(T34,Answers!Q:T,4,FALSE))),VLOOKUP(T34,Answers!Q:T,4,FALSE),\"Help!\"))","v":""},null,{"$f":"IF(U34=\"\",\"\",S34+IF(U34=\"XX\",VLOOKUP(\"WRONG\",Answers!Q:T,4,FALSE),U34)+V34)","v":""},{"$f":"IF($B34=\"\",\"\",UPPER(Mainframe!H33))","v":""},{"$f":"IF(X34=\"\",\"\",IF(NOT(ISNA(VLOOKUP(X34,Answers!U:X,4,FALSE))),VLOOKUP(X34,Answers!U:X,4,FALSE),\"Help!\"))","v":""},null,{"$f":"IF(Y34=\"\",\"\",W34+IF(Y34=\"XX\",VLOOKUP(\"WRONG\",Answers!U:X,4,FALSE),Y34)+Z34)","v":""},{"$f":"IF($B34=\"\",\"\",UPPER(Mainframe!I33))","v":""},{"$f":"IF(AB34=\"\",\"\",IF(NOT(ISNA(VLOOKUP(AB34,Answers!Y:AB,4,FALSE))),VLOOKUP(AB34,Answers!Y:AB,4,FALSE),\"Help!\"))","v":""},null,{"$f":"IF(AC34=\"\",\"\",AA34+IF(AC34=\"XX\",VLOOKUP(\"WRONG\",Answers!Y:AB,4,FALSE),AC34)+AD34)","v":""},{"$f":"IF($B34=\"\",\"\",UPPER(Mainframe!J33))","v":""},{"$f":"IF(AF34=\"\",\"\",IF(NOT(ISNA(VLOOKUP(AF34,Answers!AC:AF,4,FALSE))),VLOOKUP(AF34,Answers!AC:AF,4,FALSE),\"Help!\"))","v":""},null,{"$f":"IF(AG34=\"\",\"\",AE34+IF(AG34=\"XX\",VLOOKUP(\"WRONG\",Answers!AC:AF,4,FALSE),AG34)+AH34)","v":""},{"$f":"IF($B34=\"\",\"\",UPPER(Mainframe!K33))","v":""},{"$f":"IF(AJ34=\"\",\"\",IF(NOT(ISNA(VLOOKUP(AJ34,Answers!AG:AJ,4,FALSE))),VLOOKUP(AJ34,Answers!AG:AJ,4,FALSE),\"Help!\"))","v":""},null,{"$f":"IF(AK34=\"\",\"\",AI34+IF(AK34=\"XX\",VLOOKUP(\"WRONG\",Answers!AG:AJ,4,FALSE),AK34)+AL34)","v":""},{"$f":"IF($B34=\"\",\"\",UPPER(Mainframe!L33))","v":""},{"$f":"IF(AN34=\"\",\"\",IF(NOT(ISNA(VLOOKUP(AN34,Answers!AK:AN,4,FALSE))),VLOOKUP(AN34,Answers!AK:AN,4,FALSE),\"Help!\"))","v":""},null,{"$f":"IF(AO34=\"\",\"\",AM34+IF(AO34=\"XX\",VLOOKUP(\"WRONG\",Answers!AK:AN,4,FALSE),AO34)+AP34)","v":""},{"$f":"IF($B34=\"\",\"\",UPPER(Mainframe!M33))","v":""},{"$f":"IF(AR34=\"\",\"\",IF(NOT(ISNA(VLOOKUP(AR34,Answers!AO:AR,4,FALSE))),VLOOKUP(AR34,Answers!AO:AR,4,FALSE),\"Help!\"))","v":""},null,{"$f":"IF(AS34=\"\",\"\",AQ34+IF(AS34=\"XX\",VLOOKUP(\"WRONG\",Answers!AO:AR,4,FALSE),AS34)+AT34)","v":""},{"$f":"IF($B34=\"\",\"\",UPPER(Mainframe!N33))","v":""},{"$f":"IF(AV34=\"\",\"\",IF(NOT(ISNA(VLOOKUP(AV34,Answers!AS:AV,4,FALSE))),VLOOKUP(AV34,Answers!AS:AV,4,FALSE),\"Help!\"))","v":""},null,{"$f":"IF(AW34=\"\",\"\",AU34+IF(AW34=\"XX\",VLOOKUP(\"WRONG\",Answers!AS:AV,4,FALSE),AW34)+AX34)","v":""},{"$f":"IF($B34=\"\",\"\",UPPER(Mainframe!O33))","v":""},{"$f":"IF(AZ34=\"\",\"\",IF(NOT(ISNA(VLOOKUP(AZ34,Answers!AW:AZ,4,FALSE))),VLOOKUP(AZ34,Answers!AW:AZ,4,FALSE),\"Help!\"))","v":""},null,{"$f":"IF(BA34=\"\",\"\",AY34+IF(BA34=\"XX\",VLOOKUP(\"WRONG\",Answers!AW:AZ,4,FALSE),BA34)+BB34)","v":""},{"$f":"IF($B34=\"\",\"\",UPPER(Mainframe!P33))","v":""},{"$f":"IF(BD34=\"\",\"\",IF(NOT(ISNA(VLOOKUP(BD34,Answers!BA:BD,4,FALSE))),VLOOKUP(BD34,Answers!BA:BD,4,FALSE),\"Help!\"))","v":""},null,{"$f":"IF(BE34=\"\",\"\",BC34+IF(BE34=\"XX\",VLOOKUP(\"WRONG\",Answers!BA:BD,4,FALSE),BE34)+BF34)","v":""},{"$f":"IF($B34=\"\",\"\",UPPER(Mainframe!Q33))","v":""},{"$f":"IF(BH34=\"\",\"\",IF(NOT(ISNA(VLOOKUP(BH34,Answers!BE:BH,4,FALSE))),VLOOKUP(BH34,Answers!BE:BH,4,FALSE),\"Help!\"))","v":""},null,{"$f":"IF(BI34=\"\",\"\",BG34+IF(BI34=\"XX\",VLOOKUP(\"WRONG\",Answers!BE:BH,4,FALSE),BI34)+BJ34)","v":""},{"$f":"IF($B34=\"\",\"\",UPPER(Mainframe!R33))","v":""},{"$f":"IF(BL34=\"\",\"\",IF(NOT(ISNA(VLOOKUP(BL34,Answers!BI:BL,4,FALSE))),VLOOKUP(BL34,Answers!BI:BL,4,FALSE),\"Help!\"))","v":""},null,{"$f":"IF(BM34=\"\",\"\",BK34+IF(BM34=\"XX\",VLOOKUP(\"WRONG\",Answers!BI:BL,4,FALSE),BM34)+BN34)","v":""},{"$f":"IF($B34=\"\",\"\",UPPER(Mainframe!S33))","v":""},{"$f":"IF(BP34=\"\",\"\",IF(NOT(ISNA(VLOOKUP(BP34,Answers!BM:BP,4,FALSE))),VLOOKUP(BP34,Answers!BM:BP,4,FALSE),\"Help!\"))","v":""},null,{"$f":"IF(BQ34=\"\",\"\",BO34+IF(BQ34=\"XX\",VLOOKUP(\"WRONG\",Answers!BM:BP,4,FALSE),BQ34)+BR34)","v":""},{"$f":"IF($B34=\"\",\"\",UPPER(Mainframe!T33))","v":""},{"$f":"IF(BT34=\"\",\"\",IF(NOT(ISNA(VLOOKUP(BT34,Answers!BQ:BT,4,FALSE))),VLOOKUP(BT34,Answers!BQ:BT,4,FALSE),\"Help!\"))","v":""},null,{"$f":"IF(BU34=\"\",\"\",BS34+IF(BU34=\"XX\",VLOOKUP(\"WRONG\",Answers!BQ:BT,4,FALSE),BU34)+BV34)","v":""},{"$f":"IF($B34=\"\",\"\",UPPER(Mainframe!U33))","v":""},{"$f":"IF(BX34=\"\",\"\",IF(NOT(ISNA(VLOOKUP(BX34,Answers!BU:BX,4,FALSE))),VLOOKUP(BX34,Answers!BU:BX,4,FALSE),\"Help!\"))","v":""},null,{"$f":"IF(BY34=\"\",\"\",BW34+IF(BY34=\"XX\",VLOOKUP(\"WRONG\",Answers!BU:BX,4,FALSE),BY34)+BZ34)","v":""},{"$f":"IF($B34=\"\",\"\",UPPER(Mainframe!V33))","v":""},{"$f":"IF(CB34=\"\",\"\",IF(NOT(ISNA(VLOOKUP(CB34,Answers!BY:CB,4,FALSE))),VLOOKUP(CB34,Answers!BY:CB,4,FALSE),\"Help!\"))","v":""},null,{"$f":"IF(CC34=\"\",\"\",CA34+IF(CC34=\"XX\",VLOOKUP(\"WRONG\",Answers!BY:CB,4,FALSE),CC34)+CD34)","v":""},null,null,1,{"$f":"IF(INDEX($B:$CE,ROW(),QNO*4-1)=DROPNAME,DROPNAME,IF(INDEX($B:$CE,ROW(),QNO*4-1)=SHEEPNAME,SHEEPNAME,IF(INDEX($B:$CE,ROW(),QNO*4)=\"XX\",INDEX($B:$CE,ROW(),QNO*4-1),INDEX(OFFSET(Answers!B:B,0,(QNO-1)*4),MATCH(INDEX($A:$CB,ROW(),QNO*4),OFFSET(Answers!A:A,0,(QNO-1)*4),0))&\" — \"&IF(INDEX($B:$CE,ROW(),QNO*4)=1,\"[b]Singleton![/b]\",CONCATENATE(INDEX($B:$CE,ROW(),QNO*4),\" responses\")))))","v":{"$error":"#N/A"}},"//////////////////////////////////////////////////////////////////////////////////////////////////////////////////////////////////////////////////////////////////////////////////////////////////","No",{"$f":"IF(B34=0,\"\",CONCATENATE(INDEX($CH:$CL,ROW(),1),\". \",INDEX($B:$CE,ROW(),1),\" — [b]\")&IF(QNO=1,CONCATENATE(INDEX($B:$CE,ROW(),QNO*4+2),\"[/b] pts\"),CONCATENATE(INDEX($B:$CE,ROW(),QNO*4-2),\" + \",IF(INDEX($B:$CE,ROW(),QNO*4)=\"XX\",INDEX(Answers!$A:$ZZ,2,QNO*4),INDEX($B:$CE,ROW(),QNO*4)),\" = \",INDEX($B:$CE,ROW(),QNO*4+2),\"[/b] pts \",IF(INDEX($C:$CE,ROW(),QNO*4)>0,\"(penalty: +\"&INDEX($C:$CE,ROW(),QNO*4)&\") \",IF(INDEX($C:$CE,ROW(),QNO*4)<0,\"(bonus: \"&INDEX($C:$CE,ROW(),QNO*4)&\") \",\"\"))&\"[[b]\"&IF(CN34>0,\"[color=#00BF00]↑\"&CN34,IF(CN34<0,\"[color=#FF0000]↓\"&ABS(CN34),\"[color=#0000FF]unch\"))&\"[/b][/color]]\")))","v":"1.  — [b][/b] pts"},1,0]
["[*]",{"$f":"IF(Mainframe!B34=\"\",\"\",INDEX(Mainframe!$B:$B,C35+1,1))","v":""},33,{"$f":"IF($B35=\"\",\"\",UPPER(Mainframe!C34))","v":""},{"$f":"IF(D35=\"\",\"\",IF(NOT(ISNA(VLOOKUP(D35,Answers!A:D,4,FALSE))),VLOOKUP(D35,Answers!A:D,4,FALSE),\"Help!\"))","v":""},null,{"$f":"IF(E35=\"\",\"\",IF(E35=\"XX\",VLOOKUP(\"WRONG\",Answers!A:D,4,FALSE),E35)+F35)","v":""},{"$f":"IF($B35=\"\",\"\",UPPER(Mainframe!D34))","v":""},{"$f":"IF(H35=\"\",\"\",IF(NOT(ISNA(VLOOKUP(H35,Answers!E:H,4,FALSE))),VLOOKUP(H35,Answers!E:H,4,FALSE),\"Help!\"))","v":""},null,{"$f":"IF(I35=\"\",\"\",G35+IF(I35=\"XX\",VLOOKUP(\"WRONG\",Answers!E:H,4,FALSE),I35)+J35)","v":""},{"$f":"IF($B35=\"\",\"\",UPPER(Mainframe!E34))","v":""},{"$f":"IF(L35=\"\",\"\",IF(NOT(ISNA(VLOOKUP(L35,Answers!I:L,4,FALSE))),VLOOKUP(L35,Answers!I:L,4,FALSE),\"Help!\"))","v":""},null,{"$f":"IF(M35=\"\",\"\",K35+IF(M35=\"XX\",VLOOKUP(\"WRONG\",Answers!I:L,4,FALSE),M35)+N35)","v":""},{"$f":"IF($B35=\"\",\"\",UPPER(Mainframe!F34))","v":""},{"$f":"IF(P35=\"\",\"\",IF(NOT(ISNA(VLOOKUP(P35,Answers!M:P,4,FALSE))),VLOOKUP(P35,Answers!M:P,4,FALSE),\"Help!\"))","v":""},null,{"$f":"IF(Q35=\"\",\"\",O35+IF(Q35=\"XX\",VLOOKUP(\"WRONG\",Answers!M:P,4,FALSE),Q35)+R35)","v":""},{"$f":"IF($B35=\"\",\"\",UPPER(Mainframe!G34))","v":""},{"$f":"IF(T35=\"\",\"\",IF(NOT(ISNA(VLOOKUP(T35,Answers!Q:T,4,FALSE))),VLOOKUP(T35,Answers!Q:T,4,FALSE),\"Help!\"))","v":""},null,{"$f":"IF(U35=\"\",\"\",S35+IF(U35=\"XX\",VLOOKUP(\"WRONG\",Answers!Q:T,4,FALSE),U35)+V35)","v":""},{"$f":"IF($B35=\"\",\"\",UPPER(Mainframe!H34))","v":""},{"$f":"IF(X35=\"\",\"\",IF(NOT(ISNA(VLOOKUP(X35,Answers!U:X,4,FALSE))),VLOOKUP(X35,Answers!U:X,4,FALSE),\"Help!\"))","v":""},null,{"$f":"IF(Y35=\"\",\"\",W35+IF(Y35=\"XX\",VLOOKUP(\"WRONG\",Answers!U:X,4,FALSE),Y35)+Z35)","v":""},{"$f":"IF($B35=\"\",\"\",UPPER(Mainframe!I34))","v":""},{"$f":"IF(AB35=\"\",\"\",IF(NOT(ISNA(VLOOKUP(AB35,Answers!Y:AB,4,FALSE))),VLOOKUP(AB35,Answers!Y:AB,4,FALSE),\"Help!\"))","v":""},null,{"$f":"IF(AC35=\"\",\"\",AA35+IF(AC35=\"XX\",VLOOKUP(\"WRONG\",Answers!Y:AB,4,FALSE),AC35)+AD35)","v":""},{"$f":"IF($B35=\"\",\"\",UPPER(Mainframe!J34))","v":""},{"$f":"IF(AF35=\"\",\"\",IF(NOT(ISNA(VLOOKUP(AF35,Answers!AC:AF,4,FALSE))),VLOOKUP(AF35,Answers!AC:AF,4,FALSE),\"Help!\"))","v":""},null,{"$f":"IF(AG35=\"\",\"\",AE35+IF(AG35=\"XX\",VLOOKUP(\"WRONG\",Answers!AC:AF,4,FALSE),AG35)+AH35)","v":""},{"$f":"IF($B35=\"\",\"\",UPPER(Mainframe!K34))","v":""},{"$f":"IF(AJ35=\"\",\"\",IF(NOT(ISNA(VLOOKUP(AJ35,Answers!AG:AJ,4,FALSE))),VLOOKUP(AJ35,Answers!AG:AJ,4,FALSE),\"Help!\"))","v":""},null,{"$f":"IF(AK35=\"\",\"\",AI35+IF(AK35=\"XX\",VLOOKUP(\"WRONG\",Answers!AG:AJ,4,FALSE),AK35)+AL35)","v":""},{"$f":"IF($B35=\"\",\"\",UPPER(Mainframe!L34))","v":""},{"$f":"IF(AN35=\"\",\"\",IF(NOT(ISNA(VLOOKUP(AN35,Answers!AK:AN,4,FALSE))),VLOOKUP(AN35,Answers!AK:AN,4,FALSE),\"Help!\"))","v":""},null,{"$f":"IF(AO35=\"\",\"\",AM35+IF(AO35=\"XX\",VLOOKUP(\"WRONG\",Answers!AK:AN,4,FALSE),AO35)+AP35)","v":""},{"$f":"IF($B35=\"\",\"\",UPPER(Mainframe!M34))","v":""},{"$f":"IF(AR35=\"\",\"\",IF(NOT(ISNA(VLOOKUP(AR35,Answers!AO:AR,4,FALSE))),VLOOKUP(AR35,Answers!AO:AR,4,FALSE),\"Help!\"))","v":""},null,{"$f":"IF(AS35=\"\",\"\",AQ35+IF(AS35=\"XX\",VLOOKUP(\"WRONG\",Answers!AO:AR,4,FALSE),AS35)+AT35)","v":""},{"$f":"IF($B35=\"\",\"\",UPPER(Mainframe!N34))","v":""},{"$f":"IF(AV35=\"\",\"\",IF(NOT(ISNA(VLOOKUP(AV35,Answers!AS:AV,4,FALSE))),VLOOKUP(AV35,Answers!AS:AV,4,FALSE),\"Help!\"))","v":""},null,{"$f":"IF(AW35=\"\",\"\",AU35+IF(AW35=\"XX\",VLOOKUP(\"WRONG\",Answers!AS:AV,4,FALSE),AW35)+AX35)","v":""},{"$f":"IF($B35=\"\",\"\",UPPER(Mainframe!O34))","v":""},{"$f":"IF(AZ35=\"\",\"\",IF(NOT(ISNA(VLOOKUP(AZ35,Answers!AW:AZ,4,FALSE))),VLOOKUP(AZ35,Answers!AW:AZ,4,FALSE),\"Help!\"))","v":""},null,{"$f":"IF(BA35=\"\",\"\",AY35+IF(BA35=\"XX\",VLOOKUP(\"WRONG\",Answers!AW:AZ,4,FALSE),BA35)+BB35)","v":""},{"$f":"IF($B35=\"\",\"\",UPPER(Mainframe!P34))","v":""},{"$f":"IF(BD35=\"\",\"\",IF(NOT(ISNA(VLOOKUP(BD35,Answers!BA:BD,4,FALSE))),VLOOKUP(BD35,Answers!BA:BD,4,FALSE),\"Help!\"))","v":""},null,{"$f":"IF(BE35=\"\",\"\",BC35+IF(BE35=\"XX\",VLOOKUP(\"WRONG\",Answers!BA:BD,4,FALSE),BE35)+BF35)","v":""},{"$f":"IF($B35=\"\",\"\",UPPER(Mainframe!Q34))","v":""},{"$f":"IF(BH35=\"\",\"\",IF(NOT(ISNA(VLOOKUP(BH35,Answers!BE:BH,4,FALSE))),VLOOKUP(BH35,Answers!BE:BH,4,FALSE),\"Help!\"))","v":""},null,{"$f":"IF(BI35=\"\",\"\",BG35+IF(BI35=\"XX\",VLOOKUP(\"WRONG\",Answers!BE:BH,4,FALSE),BI35)+BJ35)","v":""},{"$f":"IF($B35=\"\",\"\",UPPER(Mainframe!R34))","v":""},{"$f":"IF(BL35=\"\",\"\",IF(NOT(ISNA(VLOOKUP(BL35,Answers!BI:BL,4,FALSE))),VLOOKUP(BL35,Answers!BI:BL,4,FALSE),\"Help!\"))","v":""},null,{"$f":"IF(BM35=\"\",\"\",BK35+IF(BM35=\"XX\",VLOOKUP(\"WRONG\",Answers!BI:BL,4,FALSE),BM35)+BN35)","v":""},{"$f":"IF($B35=\"\",\"\",UPPER(Mainframe!S34))","v":""},{"$f":"IF(BP35=\"\",\"\",IF(NOT(ISNA(VLOOKUP(BP35,Answers!BM:BP,4,FALSE))),VLOOKUP(BP35,Answers!BM:BP,4,FALSE),\"Help!\"))","v":""},null,{"$f":"IF(BQ35=\"\",\"\",BO35+IF(BQ35=\"XX\",VLOOKUP(\"WRONG\",Answers!BM:BP,4,FALSE),BQ35)+BR35)","v":""},{"$f":"IF($B35=\"\",\"\",UPPER(Mainframe!T34))","v":""},{"$f":"IF(BT35=\"\",\"\",IF(NOT(ISNA(VLOOKUP(BT35,Answers!BQ:BT,4,FALSE))),VLOOKUP(BT35,Answers!BQ:BT,4,FALSE),\"Help!\"))","v":""},null,{"$f":"IF(BU35=\"\",\"\",BS35+IF(BU35=\"XX\",VLOOKUP(\"WRONG\",Answers!BQ:BT,4,FALSE),BU35)+BV35)","v":""},{"$f":"IF($B35=\"\",\"\",UPPER(Mainframe!U34))","v":""},{"$f":"IF(BX35=\"\",\"\",IF(NOT(ISNA(VLOOKUP(BX35,Answers!BU:BX,4,FALSE))),VLOOKUP(BX35,Answers!BU:BX,4,FALSE),\"Help!\"))","v":""},null,{"$f":"IF(BY35=\"\",\"\",BW35+IF(BY35=\"XX\",VLOOKUP(\"WRONG\",Answers!BU:BX,4,FALSE),BY35)+BZ35)","v":""},{"$f":"IF($B35=\"\",\"\",UPPER(Mainframe!V34))","v":""},{"$f":"IF(CB35=\"\",\"\",IF(NOT(ISNA(VLOOKUP(CB35,Answers!BY:CB,4,FALSE))),VLOOKUP(CB35,Answers!BY:CB,4,FALSE),\"Help!\"))","v":""},null,{"$f":"IF(CC35=\"\",\"\",CA35+IF(CC35=\"XX\",VLOOKUP(\"WRONG\",Answers!BY:CB,4,FALSE),CC35)+CD35)","v":""},null,null,{"$f":"IF(B35=0,\"\",IF(INDEX($B:$CE,ROW(),1)=0,\"\",IF(INDEX($B:$CE,ROW(),4*QNO+2)=INDEX($B:$CE,ROW()-1,4*QNO+2),$CH34,ROW()-2)))","v":1},{"$f":"IF(INDEX($B:$CE,ROW(),QNO*4-1)=DROPNAME,DROPNAME,IF(INDEX($B:$CE,ROW(),QNO*4-1)=SHEEPNAME,SHEEPNAME,IF(INDEX($B:$CE,ROW(),QNO*4)=\"XX\",INDEX($B:$CE,ROW(),QNO*4-1),INDEX(OFFSET(Answers!B:B,0,(QNO-1)*4),MATCH(INDEX($A:$CB,ROW(),QNO*4),OFFSET(Answers!A:A,0,(QNO-1)*4),0))&\" — \"&IF(INDEX($B:$CE,ROW(),QNO*4)=1,\"[b]Singleton![/b]\",CONCATENATE(INDEX($B:$CE,ROW(),QNO*4),\" responses\")))))","v":{"$error":"#N/A"}},"////////////////////////////////////////////////////////////////////////////////////////////////////////////////////////////////////////////////////////////////////////////////////////////////","No",{"$f":"IF(B35=0,\"\",CONCATENATE(INDEX($CH:$CL,ROW(),1),\". \",INDEX($B:$CE,ROW(),1),\" — [b]\")&IF(QNO=1,CONCATENATE(INDEX($B:$CE,ROW(),QNO*4+2),\"[/b] pts\"),CONCATENATE(INDEX($B:$CE,ROW(),QNO*4-2),\" + \",IF(INDEX($B:$CE,ROW(),QNO*4)=\"XX\",INDEX(Answers!$A:$ZZ,2,QNO*4),INDEX($B:$CE,ROW(),QNO*4)),\" = \",INDEX($B:$CE,ROW(),QNO*4+2),\"[/b] pts \",IF(INDEX($C:$CE,ROW(),QNO*4)>0,\"(penalty: +\"&INDEX($C:$CE,ROW(),QNO*4)&\") \",IF(INDEX($C:$CE,ROW(),QNO*4)<0,\"(bonus: \"&INDEX($C:$CE,ROW(),QNO*4)&\") \",\"\"))&\"[[b]\"&IF(CN35>0,\"[color=#00BF00]↑\"&CN35,IF(CN35<0,\"[color=#FF0000]↓\"&ABS(CN35),\"[color=#0000FF]unch\"))&\"[/b][/color]]\")))","v":"1.  — [b][/b] pts"},1,0]
["[*]",{"$f":"IF(Mainframe!B35=\"\",\"\",INDEX(Mainframe!$B:$B,C36+1,1))","v":""},34,{"$f":"IF($B36=\"\",\"\",UPPER(Mainframe!C35))","v":""},{"$f":"IF(D36=\"\",\"\",IF(NOT(ISNA(VLOOKUP(D36,Answers!A:D,4,FALSE))),VLOOKUP(D36,Answers!A:D,4,FALSE),\"Help!\"))","v":""},null,{"$f":"IF(E36=\"\",\"\",IF(E36=\"XX\",VLOOKUP(\"WRONG\",Answers!A:D,4,FALSE),E36)+F36)","v":""},{"$f":"IF($B36=\"\",\"\",UPPER(Mainframe!D35))","v":""},{"$f":"IF(H36=\"\",\"\",IF(NOT(ISNA(VLOOKUP(H36,Answers!E:H,4,FALSE))),VLOOKUP(H36,Answers!E:H,4,FALSE),\"Help!\"))","v":""},null,{"$f":"IF(I36=\"\",\"\",G36+IF(I36=\"XX\",VLOOKUP(\"WRONG\",Answers!E:H,4,FALSE),I36)+J36)","v":""},{"$f":"IF($B36=\"\",\"\",UPPER(Mainframe!E35))","v":""},{"$f":"IF(L36=\"\",\"\",IF(NOT(ISNA(VLOOKUP(L36,Answers!I:L,4,FALSE))),VLOOKUP(L36,Answers!I:L,4,FALSE),\"Help!\"))","v":""},null,{"$f":"IF(M36=\"\",\"\",K36+IF(M36=\"XX\",VLOOKUP(\"WRONG\",Answers!I:L,4,FALSE),M36)+N36)","v":""},{"$f":"IF($B36=\"\",\"\",UPPER(Mainframe!F35))","v":""},{"$f":"IF(P36=\"\",\"\",IF(NOT(ISNA(VLOOKUP(P36,Answers!M:P,4,FALSE))),VLOOKUP(P36,Answers!M:P,4,FALSE),\"Help!\"))","v":""},null,{"$f":"IF(Q36=\"\",\"\",O36+IF(Q36=\"XX\",VLOOKUP(\"WRONG\",Answers!M:P,4,FALSE),Q36)+R36)","v":""},{"$f":"IF($B36=\"\",\"\",UPPER(Mainframe!G35))","v":""},{"$f":"IF(T36=\"\",\"\",IF(NOT(ISNA(VLOOKUP(T36,Answers!Q:T,4,FALSE))),VLOOKUP(T36,Answers!Q:T,4,FALSE),\"Help!\"))","v":""},null,{"$f":"IF(U36=\"\",\"\",S36+IF(U36=\"XX\",VLOOKUP(\"WRONG\",Answers!Q:T,4,FALSE),U36)+V36)","v":""},{"$f":"IF($B36=\"\",\"\",UPPER(Mainframe!H35))","v":""},{"$f":"IF(X36=\"\",\"\",IF(NOT(ISNA(VLOOKUP(X36,Answers!U:X,4,FALSE))),VLOOKUP(X36,Answers!U:X,4,FALSE),\"Help!\"))","v":""},null,{"$f":"IF(Y36=\"\",\"\",W36+IF(Y36=\"XX\",VLOOKUP(\"WRONG\",Answers!U:X,4,FALSE),Y36)+Z36)","v":""},{"$f":"IF($B36=\"\",\"\",UPPER(Mainframe!I35))","v":""},{"$f":"IF(AB36=\"\",\"\",IF(NOT(ISNA(VLOOKUP(AB36,Answers!Y:AB,4,FALSE))),VLOOKUP(AB36,Answers!Y:AB,4,FALSE),\"Help!\"))","v":""},null,{"$f":"IF(AC36=\"\",\"\",AA36+IF(AC36=\"XX\",VLOOKUP(\"WRONG\",Answers!Y:AB,4,FALSE),AC36)+AD36)","v":""},{"$f":"IF($B36=\"\",\"\",UPPER(Mainframe!J35))","v":""},{"$f":"IF(AF36=\"\",\"\",IF(NOT(ISNA(VLOOKUP(AF36,Answers!AC:AF,4,FALSE))),VLOOKUP(AF36,Answers!AC:AF,4,FALSE),\"Help!\"))","v":""},null,{"$f":"IF(AG36=\"\",\"\",AE36+IF(AG36=\"XX\",VLOOKUP(\"WRONG\",Answers!AC:AF,4,FALSE),AG36)+AH36)","v":""},{"$f":"IF($B36=\"\",\"\",UPPER(Mainframe!K35))","v":""},{"$f":"IF(AJ36=\"\",\"\",IF(NOT(ISNA(VLOOKUP(AJ36,Answers!AG:AJ,4,FALSE))),VLOOKUP(AJ36,Answers!AG:AJ,4,FALSE),\"Help!\"))","v":""},null,{"$f":"IF(AK36=\"\",\"\",AI36+IF(AK36=\"XX\",VLOOKUP(\"WRONG\",Answers!AG:AJ,4,FALSE),AK36)+AL36)","v":""},{"$f":"IF($B36=\"\",\"\",UPPER(Mainframe!L35))","v":""},{"$f":"IF(AN36=\"\",\"\",IF(NOT(ISNA(VLOOKUP(AN36,Answers!AK:AN,4,FALSE))),VLOOKUP(AN36,Answers!AK:AN,4,FALSE),\"Help!\"))","v":""},null,{"$f":"IF(AO36=\"\",\"\",AM36+IF(AO36=\"XX\",VLOOKUP(\"WRONG\",Answers!AK:AN,4,FALSE),AO36)+AP36)","v":""},{"$f":"IF($B36=\"\",\"\",UPPER(Mainframe!M35))","v":""},{"$f":"IF(AR36=\"\",\"\",IF(NOT(ISNA(VLOOKUP(AR36,Answers!AO:AR,4,FALSE))),VLOOKUP(AR36,Answers!AO:AR,4,FALSE),\"Help!\"))","v":""},null,{"$f":"IF(AS36=\"\",\"\",AQ36+IF(AS36=\"XX\",VLOOKUP(\"WRONG\",Answers!AO:AR,4,FALSE),AS36)+AT36)","v":""},{"$f":"IF($B36=\"\",\"\",UPPER(Mainframe!N35))","v":""},{"$f":"IF(AV36=\"\",\"\",IF(NOT(ISNA(VLOOKUP(AV36,Answers!AS:AV,4,FALSE))),VLOOKUP(AV36,Answers!AS:AV,4,FALSE),\"Help!\"))","v":""},null,{"$f":"IF(AW36=\"\",\"\",AU36+IF(AW36=\"XX\",VLOOKUP(\"WRONG\",Answers!AS:AV,4,FALSE),AW36)+AX36)","v":""},{"$f":"IF($B36=\"\",\"\",UPPER(Mainframe!O35))","v":""},{"$f":"IF(AZ36=\"\",\"\",IF(NOT(ISNA(VLOOKUP(AZ36,Answers!AW:AZ,4,FALSE))),VLOOKUP(AZ36,Answers!AW:AZ,4,FALSE),\"Help!\"))","v":""},null,{"$f":"IF(BA36=\"\",\"\",AY36+IF(BA36=\"XX\",VLOOKUP(\"WRONG\",Answers!AW:AZ,4,FALSE),BA36)+BB36)","v":""},{"$f":"IF($B36=\"\",\"\",UPPER(Mainframe!P35))","v":""},{"$f":"IF(BD36=\"\",\"\",IF(NOT(ISNA(VLOOKUP(BD36,Answers!BA:BD,4,FALSE))),VLOOKUP(BD36,Answers!BA:BD,4,FALSE),\"Help!\"))","v":""},null,{"$f":"IF(BE36=\"\",\"\",BC36+IF(BE36=\"XX\",VLOOKUP(\"WRONG\",Answers!BA:BD,4,FALSE),BE36)+BF36)","v":""},{"$f":"IF($B36=\"\",\"\",UPPER(Mainframe!Q35))","v":""},{"$f":"IF(BH36=\"\",\"\",IF(NOT(ISNA(VLOOKUP(BH36,Answers!BE:BH,4,FALSE))),VLOOKUP(BH36,Answers!BE:BH,4,FALSE),\"Help!\"))","v":""},null,{"$f":"IF(BI36=\"\",\"\",BG36+IF(BI36=\"XX\",VLOOKUP(\"WRONG\",Answers!BE:BH,4,FALSE),BI36)+BJ36)","v":""},{"$f":"IF($B36=\"\",\"\",UPPER(Mainframe!R35))","v":""},{"$f":"IF(BL36=\"\",\"\",IF(NOT(ISNA(VLOOKUP(BL36,Answers!BI:BL,4,FALSE))),VLOOKUP(BL36,Answers!BI:BL,4,FALSE),\"Help!\"))","v":""},null,{"$f":"IF(BM36=\"\",\"\",BK36+IF(BM36=\"XX\",VLOOKUP(\"WRONG\",Answers!BI:BL,4,FALSE),BM36)+BN36)","v":""},{"$f":"IF($B36=\"\",\"\",UPPER(Mainframe!S35))","v":""},{"$f":"IF(BP36=\"\",\"\",IF(NOT(ISNA(VLOOKUP(BP36,Answers!BM:BP,4,FALSE))),VLOOKUP(BP36,Answers!BM:BP,4,FALSE),\"Help!\"))","v":""},null,{"$f":"IF(BQ36=\"\",\"\",BO36+IF(BQ36=\"XX\",VLOOKUP(\"WRONG\",Answers!BM:BP,4,FALSE),BQ36)+BR36)","v":""},{"$f":"IF($B36=\"\",\"\",UPPER(Mainframe!T35))","v":""},{"$f":"IF(BT36=\"\",\"\",IF(NOT(ISNA(VLOOKUP(BT36,Answers!BQ:BT,4,FALSE))),VLOOKUP(BT36,Answers!BQ:BT,4,FALSE),\"Help!\"))","v":""},null,{"$f":"IF(BU36=\"\",\"\",BS36+IF(BU36=\"XX\",VLOOKUP(\"WRONG\",Answers!BQ:BT,4,FALSE),BU36)+BV36)","v":""},{"$f":"IF($B36=\"\",\"\",UPPER(Mainframe!U35))","v":""},{"$f":"IF(BX36=\"\",\"\",IF(NOT(ISNA(VLOOKUP(BX36,Answers!BU:BX,4,FALSE))),VLOOKUP(BX36,Answers!BU:BX,4,FALSE),\"Help!\"))","v":""},null,{"$f":"IF(BY36=\"\",\"\",BW36+IF(BY36=\"XX\",VLOOKUP(\"WRONG\",Answers!BU:BX,4,FALSE),BY36)+BZ36)","v":""},{"$f":"IF($B36=\"\",\"\",UPPER(Mainframe!V35))","v":""},{"$f":"IF(CB36=\"\",\"\",IF(NOT(ISNA(VLOOKUP(CB36,Answers!BY:CB,4,FALSE))),VLOOKUP(CB36,Answers!BY:CB,4,FALSE),\"Help!\"))","v":""},null,{"$f":"IF(CC36=\"\",\"\",CA36+IF(CC36=\"XX\",VLOOKUP(\"WRONG\",Answers!BY:CB,4,FALSE),CC36)+CD36)","v":""},null,null,1,{"$f":"IF(INDEX($B:$CE,ROW(),QNO*4-1)=DROPNAME,DROPNAME,IF(INDEX($B:$CE,ROW(),QNO*4-1)=SHEEPNAME,SHEEPNAME,IF(INDEX($B:$CE,ROW(),QNO*4)=\"XX\",INDEX($B:$CE,ROW(),QNO*4-1),INDEX(OFFSET(Answers!B:B,0,(QNO-1)*4),MATCH(INDEX($A:$CB,ROW(),QNO*4),OFFSET(Answers!A:A,0,(QNO-1)*4),0))&\" — \"&IF(INDEX($B:$CE,ROW(),QNO*4)=1,\"[b]Singleton![/b]\",CONCATENATE(INDEX($B:$CE,ROW(),QNO*4),\" responses\")))))","v":{"$error":"#N/A"}},"//////////////////////////////////////////////////////////////////////////////////////////////////////////////////////////////////////////////////////////////////////////////////////////////","No",{"$f":"IF(B36=0,\"\",CONCATENATE(INDEX($CH:$CL,ROW(),1),\". \",INDEX($B:$CE,ROW(),1),\" — [b]\")&IF(QNO=1,CONCATENATE(INDEX($B:$CE,ROW(),QNO*4+2),\"[/b] pts\"),CONCATENATE(INDEX($B:$CE,ROW(),QNO*4-2),\" + \",IF(INDEX($B:$CE,ROW(),QNO*4)=\"XX\",INDEX(Answers!$A:$ZZ,2,QNO*4),INDEX($B:$CE,ROW(),QNO*4)),\" = \",INDEX($B:$CE,ROW(),QNO*4+2),\"[/b] pts \",IF(INDEX($C:$CE,ROW(),QNO*4)>0,\"(penalty: +\"&INDEX($C:$CE,ROW(),QNO*4)&\") \",IF(INDEX($C:$CE,ROW(),QNO*4)<0,\"(bonus: \"&INDEX($C:$CE,ROW(),QNO*4)&\") \",\"\"))&\"[[b]\"&IF(CN36>0,\"[color=#00BF00]↑\"&CN36,IF(CN36<0,\"[color=#FF0000]↓\"&ABS(CN36),\"[color=#0000FF]unch\"))&\"[/b][/color]]\")))","v":"1.  — [b][/b] pts"},1,0]
["[*]",{"$f":"IF(Mainframe!B36=\"\",\"\",INDEX(Mainframe!$B:$B,C37+1,1))","v":""},35,{"$f":"IF($B37=\"\",\"\",UPPER(Mainframe!C36))","v":""},{"$f":"IF(D37=\"\",\"\",IF(NOT(ISNA(VLOOKUP(D37,Answers!A:D,4,FALSE))),VLOOKUP(D37,Answers!A:D,4,FALSE),\"Help!\"))","v":""},null,{"$f":"IF(E37=\"\",\"\",IF(E37=\"XX\",VLOOKUP(\"WRONG\",Answers!A:D,4,FALSE),E37)+F37)","v":""},{"$f":"IF($B37=\"\",\"\",UPPER(Mainframe!D36))","v":""},{"$f":"IF(H37=\"\",\"\",IF(NOT(ISNA(VLOOKUP(H37,Answers!E:H,4,FALSE))),VLOOKUP(H37,Answers!E:H,4,FALSE),\"Help!\"))","v":""},null,{"$f":"IF(I37=\"\",\"\",G37+IF(I37=\"XX\",VLOOKUP(\"WRONG\",Answers!E:H,4,FALSE),I37)+J37)","v":""},{"$f":"IF($B37=\"\",\"\",UPPER(Mainframe!E36))","v":""},{"$f":"IF(L37=\"\",\"\",IF(NOT(ISNA(VLOOKUP(L37,Answers!I:L,4,FALSE))),VLOOKUP(L37,Answers!I:L,4,FALSE),\"Help!\"))","v":""},null,{"$f":"IF(M37=\"\",\"\",K37+IF(M37=\"XX\",VLOOKUP(\"WRONG\",Answers!I:L,4,FALSE),M37)+N37)","v":""},{"$f":"IF($B37=\"\",\"\",UPPER(Mainframe!F36))","v":""},{"$f":"IF(P37=\"\",\"\",IF(NOT(ISNA(VLOOKUP(P37,Answers!M:P,4,FALSE))),VLOOKUP(P37,Answers!M:P,4,FALSE),\"Help!\"))","v":""},null,{"$f":"IF(Q37=\"\",\"\",O37+IF(Q37=\"XX\",VLOOKUP(\"WRONG\",Answers!M:P,4,FALSE),Q37)+R37)","v":""},{"$f":"IF($B37=\"\",\"\",UPPER(Mainframe!G36))","v":""},{"$f":"IF(T37=\"\",\"\",IF(NOT(ISNA(VLOOKUP(T37,Answers!Q:T,4,FALSE))),VLOOKUP(T37,Answers!Q:T,4,FALSE),\"Help!\"))","v":""},null,{"$f":"IF(U37=\"\",\"\",S37+IF(U37=\"XX\",VLOOKUP(\"WRONG\",Answers!Q:T,4,FALSE),U37)+V37)","v":""},{"$f":"IF($B37=\"\",\"\",UPPER(Mainframe!H36))","v":""},{"$f":"IF(X37=\"\",\"\",IF(NOT(ISNA(VLOOKUP(X37,Answers!U:X,4,FALSE))),VLOOKUP(X37,Answers!U:X,4,FALSE),\"Help!\"))","v":""},null,{"$f":"IF(Y37=\"\",\"\",W37+IF(Y37=\"XX\",VLOOKUP(\"WRONG\",Answers!U:X,4,FALSE),Y37)+Z37)","v":""},{"$f":"IF($B37=\"\",\"\",UPPER(Mainframe!I36))","v":""},{"$f":"IF(AB37=\"\",\"\",IF(NOT(ISNA(VLOOKUP(AB37,Answers!Y:AB,4,FALSE))),VLOOKUP(AB37,Answers!Y:AB,4,FALSE),\"Help!\"))","v":""},null,{"$f":"IF(AC37=\"\",\"\",AA37+IF(AC37=\"XX\",VLOOKUP(\"WRONG\",Answers!Y:AB,4,FALSE),AC37)+AD37)","v":""},{"$f":"IF($B37=\"\",\"\",UPPER(Mainframe!J36))","v":""},{"$f":"IF(AF37=\"\",\"\",IF(NOT(ISNA(VLOOKUP(AF37,Answers!AC:AF,4,FALSE))),VLOOKUP(AF37,Answers!AC:AF,4,FALSE),\"Help!\"))","v":""},null,{"$f":"IF(AG37=\"\",\"\",AE37+IF(AG37=\"XX\",VLOOKUP(\"WRONG\",Answers!AC:AF,4,FALSE),AG37)+AH37)","v":""},{"$f":"IF($B37=\"\",\"\",UPPER(Mainframe!K36))","v":""},{"$f":"IF(AJ37=\"\",\"\",IF(NOT(ISNA(VLOOKUP(AJ37,Answers!AG:AJ,4,FALSE))),VLOOKUP(AJ37,Answers!AG:AJ,4,FALSE),\"Help!\"))","v":""},null,{"$f":"IF(AK37=\"\",\"\",AI37+IF(AK37=\"XX\",VLOOKUP(\"WRONG\",Answers!AG:AJ,4,FALSE),AK37)+AL37)","v":""},{"$f":"IF($B37=\"\",\"\",UPPER(Mainframe!L36))","v":""},{"$f":"IF(AN37=\"\",\"\",IF(NOT(ISNA(VLOOKUP(AN37,Answers!AK:AN,4,FALSE))),VLOOKUP(AN37,Answers!AK:AN,4,FALSE),\"Help!\"))","v":""},null,{"$f":"IF(AO37=\"\",\"\",AM37+IF(AO37=\"XX\",VLOOKUP(\"WRONG\",Answers!AK:AN,4,FALSE),AO37)+AP37)","v":""},{"$f":"IF($B37=\"\",\"\",UPPER(Mainframe!M36))","v":""},{"$f":"IF(AR37=\"\",\"\",IF(NOT(ISNA(VLOOKUP(AR37,Answers!AO:AR,4,FALSE))),VLOOKUP(AR37,Answers!AO:AR,4,FALSE),\"Help!\"))","v":""},null,{"$f":"IF(AS37=\"\",\"\",AQ37+IF(AS37=\"XX\",VLOOKUP(\"WRONG\",Answers!AO:AR,4,FALSE),AS37)+AT37)","v":""},{"$f":"IF($B37=\"\",\"\",UPPER(Mainframe!N36))","v":""},{"$f":"IF(AV37=\"\",\"\",IF(NOT(ISNA(VLOOKUP(AV37,Answers!AS:AV,4,FALSE))),VLOOKUP(AV37,Answers!AS:AV,4,FALSE),\"Help!\"))","v":""},null,{"$f":"IF(AW37=\"\",\"\",AU37+IF(AW37=\"XX\",VLOOKUP(\"WRONG\",Answers!AS:AV,4,FALSE),AW37)+AX37)","v":""},{"$f":"IF($B37=\"\",\"\",UPPER(Mainframe!O36))","v":""},{"$f":"IF(AZ37=\"\",\"\",IF(NOT(ISNA(VLOOKUP(AZ37,Answers!AW:AZ,4,FALSE))),VLOOKUP(AZ37,Answers!AW:AZ,4,FALSE),\"Help!\"))","v":""},null,{"$f":"IF(BA37=\"\",\"\",AY37+IF(BA37=\"XX\",VLOOKUP(\"WRONG\",Answers!AW:AZ,4,FALSE),BA37)+BB37)","v":""},{"$f":"IF($B37=\"\",\"\",UPPER(Mainframe!P36))","v":""},{"$f":"IF(BD37=\"\",\"\",IF(NOT(ISNA(VLOOKUP(BD37,Answers!BA:BD,4,FALSE))),VLOOKUP(BD37,Answers!BA:BD,4,FALSE),\"Help!\"))","v":""},null,{"$f":"IF(BE37=\"\",\"\",BC37+IF(BE37=\"XX\",VLOOKUP(\"WRONG\",Answers!BA:BD,4,FALSE),BE37)+BF37)","v":""},{"$f":"IF($B37=\"\",\"\",UPPER(Mainframe!Q36))","v":""},{"$f":"IF(BH37=\"\",\"\",IF(NOT(ISNA(VLOOKUP(BH37,Answers!BE:BH,4,FALSE))),VLOOKUP(BH37,Answers!BE:BH,4,FALSE),\"Help!\"))","v":""},null,{"$f":"IF(BI37=\"\",\"\",BG37+IF(BI37=\"XX\",VLOOKUP(\"WRONG\",Answers!BE:BH,4,FALSE),BI37)+BJ37)","v":""},{"$f":"IF($B37=\"\",\"\",UPPER(Mainframe!R36))","v":""},{"$f":"IF(BL37=\"\",\"\",IF(NOT(ISNA(VLOOKUP(BL37,Answers!BI:BL,4,FALSE))),VLOOKUP(BL37,Answers!BI:BL,4,FALSE),\"Help!\"))","v":""},null,{"$f":"IF(BM37=\"\",\"\",BK37+IF(BM37=\"XX\",VLOOKUP(\"WRONG\",Answers!BI:BL,4,FALSE),BM37)+BN37)","v":""},{"$f":"IF($B37=\"\",\"\",UPPER(Mainframe!S36))","v":""},{"$f":"IF(BP37=\"\",\"\",IF(NOT(ISNA(VLOOKUP(BP37,Answers!BM:BP,4,FALSE))),VLOOKUP(BP37,Answers!BM:BP,4,FALSE),\"Help!\"))","v":""},null,{"$f":"IF(BQ37=\"\",\"\",BO37+IF(BQ37=\"XX\",VLOOKUP(\"WRONG\",Answers!BM:BP,4,FALSE),BQ37)+BR37)","v":""},{"$f":"IF($B37=\"\",\"\",UPPER(Mainframe!T36))","v":""},{"$f":"IF(BT37=\"\",\"\",IF(NOT(ISNA(VLOOKUP(BT37,Answers!BQ:BT,4,FALSE))),VLOOKUP(BT37,Answers!BQ:BT,4,FALSE),\"Help!\"))","v":""},null,{"$f":"IF(BU37=\"\",\"\",BS37+IF(BU37=\"XX\",VLOOKUP(\"WRONG\",Answers!BQ:BT,4,FALSE),BU37)+BV37)","v":""},{"$f":"IF($B37=\"\",\"\",UPPER(Mainframe!U36))","v":""},{"$f":"IF(BX37=\"\",\"\",IF(NOT(ISNA(VLOOKUP(BX37,Answers!BU:BX,4,FALSE))),VLOOKUP(BX37,Answers!BU:BX,4,FALSE),\"Help!\"))","v":""},null,{"$f":"IF(BY37=\"\",\"\",BW37+IF(BY37=\"XX\",VLOOKUP(\"WRONG\",Answers!BU:BX,4,FALSE),BY37)+BZ37)","v":""},{"$f":"IF($B37=\"\",\"\",UPPER(Mainframe!V36))","v":""},{"$f":"IF(CB37=\"\",\"\",IF(NOT(ISNA(VLOOKUP(CB37,Answers!BY:CB,4,FALSE))),VLOOKUP(CB37,Answers!BY:CB,4,FALSE),\"Help!\"))","v":""},null,{"$f":"IF(CC37=\"\",\"\",CA37+IF(CC37=\"XX\",VLOOKUP(\"WRONG\",Answers!BY:CB,4,FALSE),CC37)+CD37)","v":""},null,null,1,{"$f":"IF(INDEX($B:$CE,ROW(),QNO*4-1)=DROPNAME,DROPNAME,IF(INDEX($B:$CE,ROW(),QNO*4-1)=SHEEPNAME,SHEEPNAME,IF(INDEX($B:$CE,ROW(),QNO*4)=\"XX\",INDEX($B:$CE,ROW(),QNO*4-1),INDEX(OFFSET(Answers!B:B,0,(QNO-1)*4),MATCH(INDEX($A:$CB,ROW(),QNO*4),OFFSET(Answers!A:A,0,(QNO-1)*4),0))&\" — \"&IF(INDEX($B:$CE,ROW(),QNO*4)=1,\"[b]Singleton![/b]\",CONCATENATE(INDEX($B:$CE,ROW(),QNO*4),\" responses\")))))","v":{"$error":"#N/A"}},"////////////////////////////////////////////////////////////////////////////////////////////////////////////////////////////////////////////////////////////////////////////////////////////","No",{"$f":"IF(B37=0,\"\",CONCATENATE(INDEX($CH:$CL,ROW(),1),\". \",INDEX($B:$CE,ROW(),1),\" — [b]\")&IF(QNO=1,CONCATENATE(INDEX($B:$CE,ROW(),QNO*4+2),\"[/b] pts\"),CONCATENATE(INDEX($B:$CE,ROW(),QNO*4-2),\" + \",IF(INDEX($B:$CE,ROW(),QNO*4)=\"XX\",INDEX(Answers!$A:$ZZ,2,QNO*4),INDEX($B:$CE,ROW(),QNO*4)),\" = \",INDEX($B:$CE,ROW(),QNO*4+2),\"[/b] pts \",IF(INDEX($C:$CE,ROW(),QNO*4)>0,\"(penalty: +\"&INDEX($C:$CE,ROW(),QNO*4)&\") \",IF(INDEX($C:$CE,ROW(),QNO*4)<0,\"(bonus: \"&INDEX($C:$CE,ROW(),QNO*4)&\") \",\"\"))&\"[[b]\"&IF(CN37>0,\"[color=#00BF00]↑\"&CN37,IF(CN37<0,\"[color=#FF0000]↓\"&ABS(CN37),\"[color=#0000FF]unch\"))&\"[/b][/color]]\")))","v":"1.  — [b][/b] pts"},1,0]
["[*]",{"$f":"IF(Mainframe!B37=\"\",\"\",INDEX(Mainframe!$B:$B,C38+1,1))","v":""},36,{"$f":"IF($B38=\"\",\"\",UPPER(Mainframe!C37))","v":""},{"$f":"IF(D38=\"\",\"\",IF(NOT(ISNA(VLOOKUP(D38,Answers!A:D,4,FALSE))),VLOOKUP(D38,Answers!A:D,4,FALSE),\"Help!\"))","v":""},null,{"$f":"IF(E38=\"\",\"\",IF(E38=\"XX\",VLOOKUP(\"WRONG\",Answers!A:D,4,FALSE),E38)+F38)","v":""},{"$f":"IF($B38=\"\",\"\",UPPER(Mainframe!D37))","v":""},{"$f":"IF(H38=\"\",\"\",IF(NOT(ISNA(VLOOKUP(H38,Answers!E:H,4,FALSE))),VLOOKUP(H38,Answers!E:H,4,FALSE),\"Help!\"))","v":""},null,{"$f":"IF(I38=\"\",\"\",G38+IF(I38=\"XX\",VLOOKUP(\"WRONG\",Answers!E:H,4,FALSE),I38)+J38)","v":""},{"$f":"IF($B38=\"\",\"\",UPPER(Mainframe!E37))","v":""},{"$f":"IF(L38=\"\",\"\",IF(NOT(ISNA(VLOOKUP(L38,Answers!I:L,4,FALSE))),VLOOKUP(L38,Answers!I:L,4,FALSE),\"Help!\"))","v":""},null,{"$f":"IF(M38=\"\",\"\",K38+IF(M38=\"XX\",VLOOKUP(\"WRONG\",Answers!I:L,4,FALSE),M38)+N38)","v":""},{"$f":"IF($B38=\"\",\"\",UPPER(Mainframe!F37))","v":""},{"$f":"IF(P38=\"\",\"\",IF(NOT(ISNA(VLOOKUP(P38,Answers!M:P,4,FALSE))),VLOOKUP(P38,Answers!M:P,4,FALSE),\"Help!\"))","v":""},null,{"$f":"IF(Q38=\"\",\"\",O38+IF(Q38=\"XX\",VLOOKUP(\"WRONG\",Answers!M:P,4,FALSE),Q38)+R38)","v":""},{"$f":"IF($B38=\"\",\"\",UPPER(Mainframe!G37))","v":""},{"$f":"IF(T38=\"\",\"\",IF(NOT(ISNA(VLOOKUP(T38,Answers!Q:T,4,FALSE))),VLOOKUP(T38,Answers!Q:T,4,FALSE),\"Help!\"))","v":""},null,{"$f":"IF(U38=\"\",\"\",S38+IF(U38=\"XX\",VLOOKUP(\"WRONG\",Answers!Q:T,4,FALSE),U38)+V38)","v":""},{"$f":"IF($B38=\"\",\"\",UPPER(Mainframe!H37))","v":""},{"$f":"IF(X38=\"\",\"\",IF(NOT(ISNA(VLOOKUP(X38,Answers!U:X,4,FALSE))),VLOOKUP(X38,Answers!U:X,4,FALSE),\"Help!\"))","v":""},null,{"$f":"IF(Y38=\"\",\"\",W38+IF(Y38=\"XX\",VLOOKUP(\"WRONG\",Answers!U:X,4,FALSE),Y38)+Z38)","v":""},{"$f":"IF($B38=\"\",\"\",UPPER(Mainframe!I37))","v":""},{"$f":"IF(AB38=\"\",\"\",IF(NOT(ISNA(VLOOKUP(AB38,Answers!Y:AB,4,FALSE))),VLOOKUP(AB38,Answers!Y:AB,4,FALSE),\"Help!\"))","v":""},null,{"$f":"IF(AC38=\"\",\"\",AA38+IF(AC38=\"XX\",VLOOKUP(\"WRONG\",Answers!Y:AB,4,FALSE),AC38)+AD38)","v":""},{"$f":"IF($B38=\"\",\"\",UPPER(Mainframe!J37))","v":""},{"$f":"IF(AF38=\"\",\"\",IF(NOT(ISNA(VLOOKUP(AF38,Answers!AC:AF,4,FALSE))),VLOOKUP(AF38,Answers!AC:AF,4,FALSE),\"Help!\"))","v":""},null,{"$f":"IF(AG38=\"\",\"\",AE38+IF(AG38=\"XX\",VLOOKUP(\"WRONG\",Answers!AC:AF,4,FALSE),AG38)+AH38)","v":""},{"$f":"IF($B38=\"\",\"\",UPPER(Mainframe!K37))","v":""},{"$f":"IF(AJ38=\"\",\"\",IF(NOT(ISNA(VLOOKUP(AJ38,Answers!AG:AJ,4,FALSE))),VLOOKUP(AJ38,Answers!AG:AJ,4,FALSE),\"Help!\"))","v":""},null,{"$f":"IF(AK38=\"\",\"\",AI38+IF(AK38=\"XX\",VLOOKUP(\"WRONG\",Answers!AG:AJ,4,FALSE),AK38)+AL38)","v":""},{"$f":"IF($B38=\"\",\"\",UPPER(Mainframe!L37))","v":""},{"$f":"IF(AN38=\"\",\"\",IF(NOT(ISNA(VLOOKUP(AN38,Answers!AK:AN,4,FALSE))),VLOOKUP(AN38,Answers!AK:AN,4,FALSE),\"Help!\"))","v":""},null,{"$f":"IF(AO38=\"\",\"\",AM38+IF(AO38=\"XX\",VLOOKUP(\"WRONG\",Answers!AK:AN,4,FALSE),AO38)+AP38)","v":""},{"$f":"IF($B38=\"\",\"\",UPPER(Mainframe!M37))","v":""},{"$f":"IF(AR38=\"\",\"\",IF(NOT(ISNA(VLOOKUP(AR38,Answers!AO:AR,4,FALSE))),VLOOKUP(AR38,Answers!AO:AR,4,FALSE),\"Help!\"))","v":""},null,{"$f":"IF(AS38=\"\",\"\",AQ38+IF(AS38=\"XX\",VLOOKUP(\"WRONG\",Answers!AO:AR,4,FALSE),AS38)+AT38)","v":""},{"$f":"IF($B38=\"\",\"\",UPPER(Mainframe!N37))","v":""},{"$f":"IF(AV38=\"\",\"\",IF(NOT(ISNA(VLOOKUP(AV38,Answers!AS:AV,4,FALSE))),VLOOKUP(AV38,Answers!AS:AV,4,FALSE),\"Help!\"))","v":""},null,{"$f":"IF(AW38=\"\",\"\",AU38+IF(AW38=\"XX\",VLOOKUP(\"WRONG\",Answers!AS:AV,4,FALSE),AW38)+AX38)","v":""},{"$f":"IF($B38=\"\",\"\",UPPER(Mainframe!O37))","v":""},{"$f":"IF(AZ38=\"\",\"\",IF(NOT(ISNA(VLOOKUP(AZ38,Answers!AW:AZ,4,FALSE))),VLOOKUP(AZ38,Answers!AW:AZ,4,FALSE),\"Help!\"))","v":""},null,{"$f":"IF(BA38=\"\",\"\",AY38+IF(BA38=\"XX\",VLOOKUP(\"WRONG\",Answers!AW:AZ,4,FALSE),BA38)+BB38)","v":""},{"$f":"IF($B38=\"\",\"\",UPPER(Mainframe!P37))","v":""},{"$f":"IF(BD38=\"\",\"\",IF(NOT(ISNA(VLOOKUP(BD38,Answers!BA:BD,4,FALSE))),VLOOKUP(BD38,Answers!BA:BD,4,FALSE),\"Help!\"))","v":""},null,{"$f":"IF(BE38=\"\",\"\",BC38+IF(BE38=\"XX\",VLOOKUP(\"WRONG\",Answers!BA:BD,4,FALSE),BE38)+BF38)","v":""},{"$f":"IF($B38=\"\",\"\",UPPER(Mainframe!Q37))","v":""},{"$f":"IF(BH38=\"\",\"\",IF(NOT(ISNA(VLOOKUP(BH38,Answers!BE:BH,4,FALSE))),VLOOKUP(BH38,Answers!BE:BH,4,FALSE),\"Help!\"))","v":""},null,{"$f":"IF(BI38=\"\",\"\",BG38+IF(BI38=\"XX\",VLOOKUP(\"WRONG\",Answers!BE:BH,4,FALSE),BI38)+BJ38)","v":""},{"$f":"IF($B38=\"\",\"\",UPPER(Mainframe!R37))","v":""},{"$f":"IF(BL38=\"\",\"\",IF(NOT(ISNA(VLOOKUP(BL38,Answers!BI:BL,4,FALSE))),VLOOKUP(BL38,Answers!BI:BL,4,FALSE),\"Help!\"))","v":""},null,{"$f":"IF(BM38=\"\",\"\",BK38+IF(BM38=\"XX\",VLOOKUP(\"WRONG\",Answers!BI:BL,4,FALSE),BM38)+BN38)","v":""},{"$f":"IF($B38=\"\",\"\",UPPER(Mainframe!S37))","v":""},{"$f":"IF(BP38=\"\",\"\",IF(NOT(ISNA(VLOOKUP(BP38,Answers!BM:BP,4,FALSE))),VLOOKUP(BP38,Answers!BM:BP,4,FALSE),\"Help!\"))","v":""},null,{"$f":"IF(BQ38=\"\",\"\",BO38+IF(BQ38=\"XX\",VLOOKUP(\"WRONG\",Answers!BM:BP,4,FALSE),BQ38)+BR38)","v":""},{"$f":"IF($B38=\"\",\"\",UPPER(Mainframe!T37))","v":""},{"$f":"IF(BT38=\"\",\"\",IF(NOT(ISNA(VLOOKUP(BT38,Answers!BQ:BT,4,FALSE))),VLOOKUP(BT38,Answers!BQ:BT,4,FALSE),\"Help!\"))","v":""},null,{"$f":"IF(BU38=\"\",\"\",BS38+IF(BU38=\"XX\",VLOOKUP(\"WRONG\",Answers!BQ:BT,4,FALSE),BU38)+BV38)","v":""},{"$f":"IF($B38=\"\",\"\",UPPER(Mainframe!U37))","v":""},{"$f":"IF(BX38=\"\",\"\",IF(NOT(ISNA(VLOOKUP(BX38,Answers!BU:BX,4,FALSE))),VLOOKUP(BX38,Answers!BU:BX,4,FALSE),\"Help!\"))","v":""},null,{"$f":"IF(BY38=\"\",\"\",BW38+IF(BY38=\"XX\",VLOOKUP(\"WRONG\",Answers!BU:BX,4,FALSE),BY38)+BZ38)","v":""},{"$f":"IF($B38=\"\",\"\",UPPER(Mainframe!V37))","v":""},{"$f":"IF(CB38=\"\",\"\",IF(NOT(ISNA(VLOOKUP(CB38,Answers!BY:CB,4,FALSE))),VLOOKUP(CB38,Answers!BY:CB,4,FALSE),\"Help!\"))","v":""},null,{"$f":"IF(CC38=\"\",\"\",CA38+IF(CC38=\"XX\",VLOOKUP(\"WRONG\",Answers!BY:CB,4,FALSE),CC38)+CD38)","v":""},null,null,1,{"$f":"IF(INDEX($B:$CE,ROW(),QNO*4-1)=DROPNAME,DROPNAME,IF(INDEX($B:$CE,ROW(),QNO*4-1)=SHEEPNAME,SHEEPNAME,IF(INDEX($B:$CE,ROW(),QNO*4)=\"XX\",INDEX($B:$CE,ROW(),QNO*4-1),INDEX(OFFSET(Answers!B:B,0,(QNO-1)*4),MATCH(INDEX($A:$CB,ROW(),QNO*4),OFFSET(Answers!A:A,0,(QNO-1)*4),0))&\" — \"&IF(INDEX($B:$CE,ROW(),QNO*4)=1,\"[b]Singleton![/b]\",CONCATENATE(INDEX($B:$CE,ROW(),QNO*4),\" responses\")))))","v":{"$error":"#N/A"}},"//////////////////////////////////////////////////////////////////////////////////////////////////////////////////////////////////////////////////////////////////////////////////////////","No",{"$f":"IF(B38=0,\"\",CONCATENATE(INDEX($CH:$CL,ROW(),1),\". \",INDEX($B:$CE,ROW(),1),\" — [b]\")&IF(QNO=1,CONCATENATE(INDEX($B:$CE,ROW(),QNO*4+2),\"[/b] pts\"),CONCATENATE(INDEX($B:$CE,ROW(),QNO*4-2),\" + \",IF(INDEX($B:$CE,ROW(),QNO*4)=\"XX\",INDEX(Answers!$A:$ZZ,2,QNO*4),INDEX($B:$CE,ROW(),QNO*4)),\" = \",INDEX($B:$CE,ROW(),QNO*4+2),\"[/b] pts \",IF(INDEX($C:$CE,ROW(),QNO*4)>0,\"(penalty: +\"&INDEX($C:$CE,ROW(),QNO*4)&\") \",IF(INDEX($C:$CE,ROW(),QNO*4)<0,\"(bonus: \"&INDEX($C:$CE,ROW(),QNO*4)&\") \",\"\"))&\"[[b]\"&IF(CN38>0,\"[color=#00BF00]↑\"&CN38,IF(CN38<0,\"[color=#FF0000]↓\"&ABS(CN38),\"[color=#0000FF]unch\"))&\"[/b][/color]]\")))","v":"1.  — [b][/b] pts"},1,0]
["[*]",{"$f":"IF(Mainframe!B38=\"\",\"\",INDEX(Mainframe!$B:$B,C39+1,1))","v":""},37,{"$f":"IF($B39=\"\",\"\",UPPER(Mainframe!C38))","v":""},{"$f":"IF(D39=\"\",\"\",IF(NOT(ISNA(VLOOKUP(D39,Answers!A:D,4,FALSE))),VLOOKUP(D39,Answers!A:D,4,FALSE),\"Help!\"))","v":""},null,{"$f":"IF(E39=\"\",\"\",IF(E39=\"XX\",VLOOKUP(\"WRONG\",Answers!A:D,4,FALSE),E39)+F39)","v":""},{"$f":"IF($B39=\"\",\"\",UPPER(Mainframe!D38))","v":""},{"$f":"IF(H39=\"\",\"\",IF(NOT(ISNA(VLOOKUP(H39,Answers!E:H,4,FALSE))),VLOOKUP(H39,Answers!E:H,4,FALSE),\"Help!\"))","v":""},null,{"$f":"IF(I39=\"\",\"\",G39+IF(I39=\"XX\",VLOOKUP(\"WRONG\",Answers!E:H,4,FALSE),I39)+J39)","v":""},{"$f":"IF($B39=\"\",\"\",UPPER(Mainframe!E38))","v":""},{"$f":"IF(L39=\"\",\"\",IF(NOT(ISNA(VLOOKUP(L39,Answers!I:L,4,FALSE))),VLOOKUP(L39,Answers!I:L,4,FALSE),\"Help!\"))","v":""},null,{"$f":"IF(M39=\"\",\"\",K39+IF(M39=\"XX\",VLOOKUP(\"WRONG\",Answers!I:L,4,FALSE),M39)+N39)","v":""},{"$f":"IF($B39=\"\",\"\",UPPER(Mainframe!F38))","v":""},{"$f":"IF(P39=\"\",\"\",IF(NOT(ISNA(VLOOKUP(P39,Answers!M:P,4,FALSE))),VLOOKUP(P39,Answers!M:P,4,FALSE),\"Help!\"))","v":""},null,{"$f":"IF(Q39=\"\",\"\",O39+IF(Q39=\"XX\",VLOOKUP(\"WRONG\",Answers!M:P,4,FALSE),Q39)+R39)","v":""},{"$f":"IF($B39=\"\",\"\",UPPER(Mainframe!G38))","v":""},{"$f":"IF(T39=\"\",\"\",IF(NOT(ISNA(VLOOKUP(T39,Answers!Q:T,4,FALSE))),VLOOKUP(T39,Answers!Q:T,4,FALSE),\"Help!\"))","v":""},null,{"$f":"IF(U39=\"\",\"\",S39+IF(U39=\"XX\",VLOOKUP(\"WRONG\",Answers!Q:T,4,FALSE),U39)+V39)","v":""},{"$f":"IF($B39=\"\",\"\",UPPER(Mainframe!H38))","v":""},{"$f":"IF(X39=\"\",\"\",IF(NOT(ISNA(VLOOKUP(X39,Answers!U:X,4,FALSE))),VLOOKUP(X39,Answers!U:X,4,FALSE),\"Help!\"))","v":""},null,{"$f":"IF(Y39=\"\",\"\",W39+IF(Y39=\"XX\",VLOOKUP(\"WRONG\",Answers!U:X,4,FALSE),Y39)+Z39)","v":""},{"$f":"IF($B39=\"\",\"\",UPPER(Mainframe!I38))","v":""},{"$f":"IF(AB39=\"\",\"\",IF(NOT(ISNA(VLOOKUP(AB39,Answers!Y:AB,4,FALSE))),VLOOKUP(AB39,Answers!Y:AB,4,FALSE),\"Help!\"))","v":""},null,{"$f":"IF(AC39=\"\",\"\",AA39+IF(AC39=\"XX\",VLOOKUP(\"WRONG\",Answers!Y:AB,4,FALSE),AC39)+AD39)","v":""},{"$f":"IF($B39=\"\",\"\",UPPER(Mainframe!J38))","v":""},{"$f":"IF(AF39=\"\",\"\",IF(NOT(ISNA(VLOOKUP(AF39,Answers!AC:AF,4,FALSE))),VLOOKUP(AF39,Answers!AC:AF,4,FALSE),\"Help!\"))","v":""},null,{"$f":"IF(AG39=\"\",\"\",AE39+IF(AG39=\"XX\",VLOOKUP(\"WRONG\",Answers!AC:AF,4,FALSE),AG39)+AH39)","v":""},{"$f":"IF($B39=\"\",\"\",UPPER(Mainframe!K38))","v":""},{"$f":"IF(AJ39=\"\",\"\",IF(NOT(ISNA(VLOOKUP(AJ39,Answers!AG:AJ,4,FALSE))),VLOOKUP(AJ39,Answers!AG:AJ,4,FALSE),\"Help!\"))","v":""},null,{"$f":"IF(AK39=\"\",\"\",AI39+IF(AK39=\"XX\",VLOOKUP(\"WRONG\",Answers!AG:AJ,4,FALSE),AK39)+AL39)","v":""},{"$f":"IF($B39=\"\",\"\",UPPER(Mainframe!L38))","v":""},{"$f":"IF(AN39=\"\",\"\",IF(NOT(ISNA(VLOOKUP(AN39,Answers!AK:AN,4,FALSE))),VLOOKUP(AN39,Answers!AK:AN,4,FALSE),\"Help!\"))","v":""},null,{"$f":"IF(AO39=\"\",\"\",AM39+IF(AO39=\"XX\",VLOOKUP(\"WRONG\",Answers!AK:AN,4,FALSE),AO39)+AP39)","v":""},{"$f":"IF($B39=\"\",\"\",UPPER(Mainframe!M38))","v":""},{"$f":"IF(AR39=\"\",\"\",IF(NOT(ISNA(VLOOKUP(AR39,Answers!AO:AR,4,FALSE))),VLOOKUP(AR39,Answers!AO:AR,4,FALSE),\"Help!\"))","v":""},null,{"$f":"IF(AS39=\"\",\"\",AQ39+IF(AS39=\"XX\",VLOOKUP(\"WRONG\",Answers!AO:AR,4,FALSE),AS39)+AT39)","v":""},{"$f":"IF($B39=\"\",\"\",UPPER(Mainframe!N38))","v":""},{"$f":"IF(AV39=\"\",\"\",IF(NOT(ISNA(VLOOKUP(AV39,Answers!AS:AV,4,FALSE))),VLOOKUP(AV39,Answers!AS:AV,4,FALSE),\"Help!\"))","v":""},null,{"$f":"IF(AW39=\"\",\"\",AU39+IF(AW39=\"XX\",VLOOKUP(\"WRONG\",Answers!AS:AV,4,FALSE),AW39)+AX39)","v":""},{"$f":"IF($B39=\"\",\"\",UPPER(Mainframe!O38))","v":""},{"$f":"IF(AZ39=\"\",\"\",IF(NOT(ISNA(VLOOKUP(AZ39,Answers!AW:AZ,4,FALSE))),VLOOKUP(AZ39,Answers!AW:AZ,4,FALSE),\"Help!\"))","v":""},null,{"$f":"IF(BA39=\"\",\"\",AY39+IF(BA39=\"XX\",VLOOKUP(\"WRONG\",Answers!AW:AZ,4,FALSE),BA39)+BB39)","v":""},{"$f":"IF($B39=\"\",\"\",UPPER(Mainframe!P38))","v":""},{"$f":"IF(BD39=\"\",\"\",IF(NOT(ISNA(VLOOKUP(BD39,Answers!BA:BD,4,FALSE))),VLOOKUP(BD39,Answers!BA:BD,4,FALSE),\"Help!\"))","v":""},null,{"$f":"IF(BE39=\"\",\"\",BC39+IF(BE39=\"XX\",VLOOKUP(\"WRONG\",Answers!BA:BD,4,FALSE),BE39)+BF39)","v":""},{"$f":"IF($B39=\"\",\"\",UPPER(Mainframe!Q38))","v":""},{"$f":"IF(BH39=\"\",\"\",IF(NOT(ISNA(VLOOKUP(BH39,Answers!BE:BH,4,FALSE))),VLOOKUP(BH39,Answers!BE:BH,4,FALSE),\"Help!\"))","v":""},null,{"$f":"IF(BI39=\"\",\"\",BG39+IF(BI39=\"XX\",VLOOKUP(\"WRONG\",Answers!BE:BH,4,FALSE),BI39)+BJ39)","v":""},{"$f":"IF($B39=\"\",\"\",UPPER(Mainframe!R38))","v":""},{"$f":"IF(BL39=\"\",\"\",IF(NOT(ISNA(VLOOKUP(BL39,Answers!BI:BL,4,FALSE))),VLOOKUP(BL39,Answers!BI:BL,4,FALSE),\"Help!\"))","v":""},null,{"$f":"IF(BM39=\"\",\"\",BK39+IF(BM39=\"XX\",VLOOKUP(\"WRONG\",Answers!BI:BL,4,FALSE),BM39)+BN39)","v":""},{"$f":"IF($B39=\"\",\"\",UPPER(Mainframe!S38))","v":""},{"$f":"IF(BP39=\"\",\"\",IF(NOT(ISNA(VLOOKUP(BP39,Answers!BM:BP,4,FALSE))),VLOOKUP(BP39,Answers!BM:BP,4,FALSE),\"Help!\"))","v":""},null,{"$f":"IF(BQ39=\"\",\"\",BO39+IF(BQ39=\"XX\",VLOOKUP(\"WRONG\",Answers!BM:BP,4,FALSE),BQ39)+BR39)","v":""},{"$f":"IF($B39=\"\",\"\",UPPER(Mainframe!T38))","v":""},{"$f":"IF(BT39=\"\",\"\",IF(NOT(ISNA(VLOOKUP(BT39,Answers!BQ:BT,4,FALSE))),VLOOKUP(BT39,Answers!BQ:BT,4,FALSE),\"Help!\"))","v":""},null,{"$f":"IF(BU39=\"\",\"\",BS39+IF(BU39=\"XX\",VLOOKUP(\"WRONG\",Answers!BQ:BT,4,FALSE),BU39)+BV39)","v":""},{"$f":"IF($B39=\"\",\"\",UPPER(Mainframe!U38))","v":""},{"$f":"IF(BX39=\"\",\"\",IF(NOT(ISNA(VLOOKUP(BX39,Answers!BU:BX,4,FALSE))),VLOOKUP(BX39,Answers!BU:BX,4,FALSE),\"Help!\"))","v":""},null,{"$f":"IF(BY39=\"\",\"\",BW39+IF(BY39=\"XX\",VLOOKUP(\"WRONG\",Answers!BU:BX,4,FALSE),BY39)+BZ39)","v":""},{"$f":"IF($B39=\"\",\"\",UPPER(Mainframe!V38))","v":""},{"$f":"IF(CB39=\"\",\"\",IF(NOT(ISNA(VLOOKUP(CB39,Answers!BY:CB,4,FALSE))),VLOOKUP(CB39,Answers!BY:CB,4,FALSE),\"Help!\"))","v":""},null,{"$f":"IF(CC39=\"\",\"\",CA39+IF(CC39=\"XX\",VLOOKUP(\"WRONG\",Answers!BY:CB,4,FALSE),CC39)+CD39)","v":""},null,null,1,{"$f":"IF(INDEX($B:$CE,ROW(),QNO*4-1)=DROPNAME,DROPNAME,IF(INDEX($B:$CE,ROW(),QNO*4-1)=SHEEPNAME,SHEEPNAME,IF(INDEX($B:$CE,ROW(),QNO*4)=\"XX\",INDEX($B:$CE,ROW(),QNO*4-1),INDEX(OFFSET(Answers!B:B,0,(QNO-1)*4),MATCH(INDEX($A:$CB,ROW(),QNO*4),OFFSET(Answers!A:A,0,(QNO-1)*4),0))&\" — \"&IF(INDEX($B:$CE,ROW(),QNO*4)=1,\"[b]Singleton![/b]\",CONCATENATE(INDEX($B:$CE,ROW(),QNO*4),\" responses\")))))","v":{"$error":"#N/A"}},"////////////////////////////////////////////////////////////////////////////////////////////////////////////////////////////////////////////////////////////////////////////////////////","No",{"$f":"IF(B39=0,\"\",CONCATENATE(INDEX($CH:$CL,ROW(),1),\". \",INDEX($B:$CE,ROW(),1),\" — [b]\")&IF(QNO=1,CONCATENATE(INDEX($B:$CE,ROW(),QNO*4+2),\"[/b] pts\"),CONCATENATE(INDEX($B:$CE,ROW(),QNO*4-2),\" + \",IF(INDEX($B:$CE,ROW(),QNO*4)=\"XX\",INDEX(Answers!$A:$ZZ,2,QNO*4),INDEX($B:$CE,ROW(),QNO*4)),\" = \",INDEX($B:$CE,ROW(),QNO*4+2),\"[/b] pts \",IF(INDEX($C:$CE,ROW(),QNO*4)>0,\"(penalty: +\"&INDEX($C:$CE,ROW(),QNO*4)&\") \",IF(INDEX($C:$CE,ROW(),QNO*4)<0,\"(bonus: \"&INDEX($C:$CE,ROW(),QNO*4)&\") \",\"\"))&\"[[b]\"&IF(CN39>0,\"[color=#00BF00]↑\"&CN39,IF(CN39<0,\"[color=#FF0000]↓\"&ABS(CN39),\"[color=#0000FF]unch\"))&\"[/b][/color]]\")))","v":"1.  — [b][/b] pts"},1,0]
["[*]",{"$f":"IF(Mainframe!B39=\"\",\"\",INDEX(Mainframe!$B:$B,C40+1,1))","v":""},38,{"$f":"IF($B40=\"\",\"\",UPPER(Mainframe!C39))","v":""},{"$f":"IF(D40=\"\",\"\",IF(NOT(ISNA(VLOOKUP(D40,Answers!A:D,4,FALSE))),VLOOKUP(D40,Answers!A:D,4,FALSE),\"Help!\"))","v":""},null,{"$f":"IF(E40=\"\",\"\",IF(E40=\"XX\",VLOOKUP(\"WRONG\",Answers!A:D,4,FALSE),E40)+F40)","v":""},{"$f":"IF($B40=\"\",\"\",UPPER(Mainframe!D39))","v":""},{"$f":"IF(H40=\"\",\"\",IF(NOT(ISNA(VLOOKUP(H40,Answers!E:H,4,FALSE))),VLOOKUP(H40,Answers!E:H,4,FALSE),\"Help!\"))","v":""},null,{"$f":"IF(I40=\"\",\"\",G40+IF(I40=\"XX\",VLOOKUP(\"WRONG\",Answers!E:H,4,FALSE),I40)+J40)","v":""},{"$f":"IF($B40=\"\",\"\",UPPER(Mainframe!E39))","v":""},{"$f":"IF(L40=\"\",\"\",IF(NOT(ISNA(VLOOKUP(L40,Answers!I:L,4,FALSE))),VLOOKUP(L40,Answers!I:L,4,FALSE),\"Help!\"))","v":""},null,{"$f":"IF(M40=\"\",\"\",K40+IF(M40=\"XX\",VLOOKUP(\"WRONG\",Answers!I:L,4,FALSE),M40)+N40)","v":""},{"$f":"IF($B40=\"\",\"\",UPPER(Mainframe!F39))","v":""},{"$f":"IF(P40=\"\",\"\",IF(NOT(ISNA(VLOOKUP(P40,Answers!M:P,4,FALSE))),VLOOKUP(P40,Answers!M:P,4,FALSE),\"Help!\"))","v":""},null,{"$f":"IF(Q40=\"\",\"\",O40+IF(Q40=\"XX\",VLOOKUP(\"WRONG\",Answers!M:P,4,FALSE),Q40)+R40)","v":""},{"$f":"IF($B40=\"\",\"\",UPPER(Mainframe!G39))","v":""},{"$f":"IF(T40=\"\",\"\",IF(NOT(ISNA(VLOOKUP(T40,Answers!Q:T,4,FALSE))),VLOOKUP(T40,Answers!Q:T,4,FALSE),\"Help!\"))","v":""},null,{"$f":"IF(U40=\"\",\"\",S40+IF(U40=\"XX\",VLOOKUP(\"WRONG\",Answers!Q:T,4,FALSE),U40)+V40)","v":""},{"$f":"IF($B40=\"\",\"\",UPPER(Mainframe!H39))","v":""},{"$f":"IF(X40=\"\",\"\",IF(NOT(ISNA(VLOOKUP(X40,Answers!U:X,4,FALSE))),VLOOKUP(X40,Answers!U:X,4,FALSE),\"Help!\"))","v":""},null,{"$f":"IF(Y40=\"\",\"\",W40+IF(Y40=\"XX\",VLOOKUP(\"WRONG\",Answers!U:X,4,FALSE),Y40)+Z40)","v":""},{"$f":"IF($B40=\"\",\"\",UPPER(Mainframe!I39))","v":""},{"$f":"IF(AB40=\"\",\"\",IF(NOT(ISNA(VLOOKUP(AB40,Answers!Y:AB,4,FALSE))),VLOOKUP(AB40,Answers!Y:AB,4,FALSE),\"Help!\"))","v":""},null,{"$f":"IF(AC40=\"\",\"\",AA40+IF(AC40=\"XX\",VLOOKUP(\"WRONG\",Answers!Y:AB,4,FALSE),AC40)+AD40)","v":""},{"$f":"IF($B40=\"\",\"\",UPPER(Mainframe!J39))","v":""},{"$f":"IF(AF40=\"\",\"\",IF(NOT(ISNA(VLOOKUP(AF40,Answers!AC:AF,4,FALSE))),VLOOKUP(AF40,Answers!AC:AF,4,FALSE),\"Help!\"))","v":""},null,{"$f":"IF(AG40=\"\",\"\",AE40+IF(AG40=\"XX\",VLOOKUP(\"WRONG\",Answers!AC:AF,4,FALSE),AG40)+AH40)","v":""},{"$f":"IF($B40=\"\",\"\",UPPER(Mainframe!K39))","v":""},{"$f":"IF(AJ40=\"\",\"\",IF(NOT(ISNA(VLOOKUP(AJ40,Answers!AG:AJ,4,FALSE))),VLOOKUP(AJ40,Answers!AG:AJ,4,FALSE),\"Help!\"))","v":""},null,{"$f":"IF(AK40=\"\",\"\",AI40+IF(AK40=\"XX\",VLOOKUP(\"WRONG\",Answers!AG:AJ,4,FALSE),AK40)+AL40)","v":""},{"$f":"IF($B40=\"\",\"\",UPPER(Mainframe!L39))","v":""},{"$f":"IF(AN40=\"\",\"\",IF(NOT(ISNA(VLOOKUP(AN40,Answers!AK:AN,4,FALSE))),VLOOKUP(AN40,Answers!AK:AN,4,FALSE),\"Help!\"))","v":""},null,{"$f":"IF(AO40=\"\",\"\",AM40+IF(AO40=\"XX\",VLOOKUP(\"WRONG\",Answers!AK:AN,4,FALSE),AO40)+AP40)","v":""},{"$f":"IF($B40=\"\",\"\",UPPER(Mainframe!M39))","v":""},{"$f":"IF(AR40=\"\",\"\",IF(NOT(ISNA(VLOOKUP(AR40,Answers!AO:AR,4,FALSE))),VLOOKUP(AR40,Answers!AO:AR,4,FALSE),\"Help!\"))","v":""},null,{"$f":"IF(AS40=\"\",\"\",AQ40+IF(AS40=\"XX\",VLOOKUP(\"WRONG\",Answers!AO:AR,4,FALSE),AS40)+AT40)","v":""},{"$f":"IF($B40=\"\",\"\",UPPER(Mainframe!N39))","v":""},{"$f":"IF(AV40=\"\",\"\",IF(NOT(ISNA(VLOOKUP(AV40,Answers!AS:AV,4,FALSE))),VLOOKUP(AV40,Answers!AS:AV,4,FALSE),\"Help!\"))","v":""},null,{"$f":"IF(AW40=\"\",\"\",AU40+IF(AW40=\"XX\",VLOOKUP(\"WRONG\",Answers!AS:AV,4,FALSE),AW40)+AX40)","v":""},{"$f":"IF($B40=\"\",\"\",UPPER(Mainframe!O39))","v":""},{"$f":"IF(AZ40=\"\",\"\",IF(NOT(ISNA(VLOOKUP(AZ40,Answers!AW:AZ,4,FALSE))),VLOOKUP(AZ40,Answers!AW:AZ,4,FALSE),\"Help!\"))","v":""},null,{"$f":"IF(BA40=\"\",\"\",AY40+IF(BA40=\"XX\",VLOOKUP(\"WRONG\",Answers!AW:AZ,4,FALSE),BA40)+BB40)","v":""},{"$f":"IF($B40=\"\",\"\",UPPER(Mainframe!P39))","v":""},{"$f":"IF(BD40=\"\",\"\",IF(NOT(ISNA(VLOOKUP(BD40,Answers!BA:BD,4,FALSE))),VLOOKUP(BD40,Answers!BA:BD,4,FALSE),\"Help!\"))","v":""},null,{"$f":"IF(BE40=\"\",\"\",BC40+IF(BE40=\"XX\",VLOOKUP(\"WRONG\",Answers!BA:BD,4,FALSE),BE40)+BF40)","v":""},{"$f":"IF($B40=\"\",\"\",UPPER(Mainframe!Q39))","v":""},{"$f":"IF(BH40=\"\",\"\",IF(NOT(ISNA(VLOOKUP(BH40,Answers!BE:BH,4,FALSE))),VLOOKUP(BH40,Answers!BE:BH,4,FALSE),\"Help!\"))","v":""},null,{"$f":"IF(BI40=\"\",\"\",BG40+IF(BI40=\"XX\",VLOOKUP(\"WRONG\",Answers!BE:BH,4,FALSE),BI40)+BJ40)","v":""},{"$f":"IF($B40=\"\",\"\",UPPER(Mainframe!R39))","v":""},{"$f":"IF(BL40=\"\",\"\",IF(NOT(ISNA(VLOOKUP(BL40,Answers!BI:BL,4,FALSE))),VLOOKUP(BL40,Answers!BI:BL,4,FALSE),\"Help!\"))","v":""},null,{"$f":"IF(BM40=\"\",\"\",BK40+IF(BM40=\"XX\",VLOOKUP(\"WRONG\",Answers!BI:BL,4,FALSE),BM40)+BN40)","v":""},{"$f":"IF($B40=\"\",\"\",UPPER(Mainframe!S39))","v":""},{"$f":"IF(BP40=\"\",\"\",IF(NOT(ISNA(VLOOKUP(BP40,Answers!BM:BP,4,FALSE))),VLOOKUP(BP40,Answers!BM:BP,4,FALSE),\"Help!\"))","v":""},null,{"$f":"IF(BQ40=\"\",\"\",BO40+IF(BQ40=\"XX\",VLOOKUP(\"WRONG\",Answers!BM:BP,4,FALSE),BQ40)+BR40)","v":""},{"$f":"IF($B40=\"\",\"\",UPPER(Mainframe!T39))","v":""},{"$f":"IF(BT40=\"\",\"\",IF(NOT(ISNA(VLOOKUP(BT40,Answers!BQ:BT,4,FALSE))),VLOOKUP(BT40,Answers!BQ:BT,4,FALSE),\"Help!\"))","v":""},null,{"$f":"IF(BU40=\"\",\"\",BS40+IF(BU40=\"XX\",VLOOKUP(\"WRONG\",Answers!BQ:BT,4,FALSE),BU40)+BV40)","v":""},{"$f":"IF($B40=\"\",\"\",UPPER(Mainframe!U39))","v":""},{"$f":"IF(BX40=\"\",\"\",IF(NOT(ISNA(VLOOKUP(BX40,Answers!BU:BX,4,FALSE))),VLOOKUP(BX40,Answers!BU:BX,4,FALSE),\"Help!\"))","v":""},null,{"$f":"IF(BY40=\"\",\"\",BW40+IF(BY40=\"XX\",VLOOKUP(\"WRONG\",Answers!BU:BX,4,FALSE),BY40)+BZ40)","v":""},{"$f":"IF($B40=\"\",\"\",UPPER(Mainframe!V39))","v":""},{"$f":"IF(CB40=\"\",\"\",IF(NOT(ISNA(VLOOKUP(CB40,Answers!BY:CB,4,FALSE))),VLOOKUP(CB40,Answers!BY:CB,4,FALSE),\"Help!\"))","v":""},null,{"$f":"IF(CC40=\"\",\"\",CA40+IF(CC40=\"XX\",VLOOKUP(\"WRONG\",Answers!BY:CB,4,FALSE),CC40)+CD40)","v":""},null,null,1,{"$f":"IF(INDEX($B:$CE,ROW(),QNO*4-1)=DROPNAME,DROPNAME,IF(INDEX($B:$CE,ROW(),QNO*4-1)=SHEEPNAME,SHEEPNAME,IF(INDEX($B:$CE,ROW(),QNO*4)=\"XX\",INDEX($B:$CE,ROW(),QNO*4-1),INDEX(OFFSET(Answers!B:B,0,(QNO-1)*4),MATCH(INDEX($A:$CB,ROW(),QNO*4),OFFSET(Answers!A:A,0,(QNO-1)*4),0))&\" — \"&IF(INDEX($B:$CE,ROW(),QNO*4)=1,\"[b]Singleton![/b]\",CONCATENATE(INDEX($B:$CE,ROW(),QNO*4),\" responses\")))))","v":{"$error":"#N/A"}},"//////////////////////////////////////////////////////////////////////////////////////////////////////////////////////////////////////////////////////////////////////////////////////","No",{"$f":"IF(B40=0,\"\",CONCATENATE(INDEX($CH:$CL,ROW(),1),\". \",INDEX($B:$CE,ROW(),1),\" — [b]\")&IF(QNO=1,CONCATENATE(INDEX($B:$CE,ROW(),QNO*4+2),\"[/b] pts\"),CONCATENATE(INDEX($B:$CE,ROW(),QNO*4-2),\" + \",IF(INDEX($B:$CE,ROW(),QNO*4)=\"XX\",INDEX(Answers!$A:$ZZ,2,QNO*4),INDEX($B:$CE,ROW(),QNO*4)),\" = \",INDEX($B:$CE,ROW(),QNO*4+2),\"[/b] pts \",IF(INDEX($C:$CE,ROW(),QNO*4)>0,\"(penalty: +\"&INDEX($C:$CE,ROW(),QNO*4)&\") \",IF(INDEX($C:$CE,ROW(),QNO*4)<0,\"(bonus: \"&INDEX($C:$CE,ROW(),QNO*4)&\") \",\"\"))&\"[[b]\"&IF(CN40>0,\"[color=#00BF00]↑\"&CN40,IF(CN40<0,\"[color=#FF0000]↓\"&ABS(CN40),\"[color=#0000FF]unch\"))&\"[/b][/color]]\")))","v":"1.  — [b][/b] pts"},1,0]
["[*]",{"$f":"IF(Mainframe!B40=\"\",\"\",INDEX(Mainframe!$B:$B,C41+1,1))","v":""},39,{"$f":"IF($B41=\"\",\"\",UPPER(Mainframe!C40))","v":""},{"$f":"IF(D41=\"\",\"\",IF(NOT(ISNA(VLOOKUP(D41,Answers!A:D,4,FALSE))),VLOOKUP(D41,Answers!A:D,4,FALSE),\"Help!\"))","v":""},null,{"$f":"IF(E41=\"\",\"\",IF(E41=\"XX\",VLOOKUP(\"WRONG\",Answers!A:D,4,FALSE),E41)+F41)","v":""},{"$f":"IF($B41=\"\",\"\",UPPER(Mainframe!D40))","v":""},{"$f":"IF(H41=\"\",\"\",IF(NOT(ISNA(VLOOKUP(H41,Answers!E:H,4,FALSE))),VLOOKUP(H41,Answers!E:H,4,FALSE),\"Help!\"))","v":""},null,{"$f":"IF(I41=\"\",\"\",G41+IF(I41=\"XX\",VLOOKUP(\"WRONG\",Answers!E:H,4,FALSE),I41)+J41)","v":""},{"$f":"IF($B41=\"\",\"\",UPPER(Mainframe!E40))","v":""},{"$f":"IF(L41=\"\",\"\",IF(NOT(ISNA(VLOOKUP(L41,Answers!I:L,4,FALSE))),VLOOKUP(L41,Answers!I:L,4,FALSE),\"Help!\"))","v":""},null,{"$f":"IF(M41=\"\",\"\",K41+IF(M41=\"XX\",VLOOKUP(\"WRONG\",Answers!I:L,4,FALSE),M41)+N41)","v":""},{"$f":"IF($B41=\"\",\"\",UPPER(Mainframe!F40))","v":""},{"$f":"IF(P41=\"\",\"\",IF(NOT(ISNA(VLOOKUP(P41,Answers!M:P,4,FALSE))),VLOOKUP(P41,Answers!M:P,4,FALSE),\"Help!\"))","v":""},null,{"$f":"IF(Q41=\"\",\"\",O41+IF(Q41=\"XX\",VLOOKUP(\"WRONG\",Answers!M:P,4,FALSE),Q41)+R41)","v":""},{"$f":"IF($B41=\"\",\"\",UPPER(Mainframe!G40))","v":""},{"$f":"IF(T41=\"\",\"\",IF(NOT(ISNA(VLOOKUP(T41,Answers!Q:T,4,FALSE))),VLOOKUP(T41,Answers!Q:T,4,FALSE),\"Help!\"))","v":""},null,{"$f":"IF(U41=\"\",\"\",S41+IF(U41=\"XX\",VLOOKUP(\"WRONG\",Answers!Q:T,4,FALSE),U41)+V41)","v":""},{"$f":"IF($B41=\"\",\"\",UPPER(Mainframe!H40))","v":""},{"$f":"IF(X41=\"\",\"\",IF(NOT(ISNA(VLOOKUP(X41,Answers!U:X,4,FALSE))),VLOOKUP(X41,Answers!U:X,4,FALSE),\"Help!\"))","v":""},null,{"$f":"IF(Y41=\"\",\"\",W41+IF(Y41=\"XX\",VLOOKUP(\"WRONG\",Answers!U:X,4,FALSE),Y41)+Z41)","v":""},{"$f":"IF($B41=\"\",\"\",UPPER(Mainframe!I40))","v":""},{"$f":"IF(AB41=\"\",\"\",IF(NOT(ISNA(VLOOKUP(AB41,Answers!Y:AB,4,FALSE))),VLOOKUP(AB41,Answers!Y:AB,4,FALSE),\"Help!\"))","v":""},null,{"$f":"IF(AC41=\"\",\"\",AA41+IF(AC41=\"XX\",VLOOKUP(\"WRONG\",Answers!Y:AB,4,FALSE),AC41)+AD41)","v":""},{"$f":"IF($B41=\"\",\"\",UPPER(Mainframe!J40))","v":""},{"$f":"IF(AF41=\"\",\"\",IF(NOT(ISNA(VLOOKUP(AF41,Answers!AC:AF,4,FALSE))),VLOOKUP(AF41,Answers!AC:AF,4,FALSE),\"Help!\"))","v":""},null,{"$f":"IF(AG41=\"\",\"\",AE41+IF(AG41=\"XX\",VLOOKUP(\"WRONG\",Answers!AC:AF,4,FALSE),AG41)+AH41)","v":""},{"$f":"IF($B41=\"\",\"\",UPPER(Mainframe!K40))","v":""},{"$f":"IF(AJ41=\"\",\"\",IF(NOT(ISNA(VLOOKUP(AJ41,Answers!AG:AJ,4,FALSE))),VLOOKUP(AJ41,Answers!AG:AJ,4,FALSE),\"Help!\"))","v":""},null,{"$f":"IF(AK41=\"\",\"\",AI41+IF(AK41=\"XX\",VLOOKUP(\"WRONG\",Answers!AG:AJ,4,FALSE),AK41)+AL41)","v":""},{"$f":"IF($B41=\"\",\"\",UPPER(Mainframe!L40))","v":""},{"$f":"IF(AN41=\"\",\"\",IF(NOT(ISNA(VLOOKUP(AN41,Answers!AK:AN,4,FALSE))),VLOOKUP(AN41,Answers!AK:AN,4,FALSE),\"Help!\"))","v":""},null,{"$f":"IF(AO41=\"\",\"\",AM41+IF(AO41=\"XX\",VLOOKUP(\"WRONG\",Answers!AK:AN,4,FALSE),AO41)+AP41)","v":""},{"$f":"IF($B41=\"\",\"\",UPPER(Mainframe!M40))","v":""},{"$f":"IF(AR41=\"\",\"\",IF(NOT(ISNA(VLOOKUP(AR41,Answers!AO:AR,4,FALSE))),VLOOKUP(AR41,Answers!AO:AR,4,FALSE),\"Help!\"))","v":""},null,{"$f":"IF(AS41=\"\",\"\",AQ41+IF(AS41=\"XX\",VLOOKUP(\"WRONG\",Answers!AO:AR,4,FALSE),AS41)+AT41)","v":""},{"$f":"IF($B41=\"\",\"\",UPPER(Mainframe!N40))","v":""},{"$f":"IF(AV41=\"\",\"\",IF(NOT(ISNA(VLOOKUP(AV41,Answers!AS:AV,4,FALSE))),VLOOKUP(AV41,Answers!AS:AV,4,FALSE),\"Help!\"))","v":""},null,{"$f":"IF(AW41=\"\",\"\",AU41+IF(AW41=\"XX\",VLOOKUP(\"WRONG\",Answers!AS:AV,4,FALSE),AW41)+AX41)","v":""},{"$f":"IF($B41=\"\",\"\",UPPER(Mainframe!O40))","v":""},{"$f":"IF(AZ41=\"\",\"\",IF(NOT(ISNA(VLOOKUP(AZ41,Answers!AW:AZ,4,FALSE))),VLOOKUP(AZ41,Answers!AW:AZ,4,FALSE),\"Help!\"))","v":""},null,{"$f":"IF(BA41=\"\",\"\",AY41+IF(BA41=\"XX\",VLOOKUP(\"WRONG\",Answers!AW:AZ,4,FALSE),BA41)+BB41)","v":""},{"$f":"IF($B41=\"\",\"\",UPPER(Mainframe!P40))","v":""},{"$f":"IF(BD41=\"\",\"\",IF(NOT(ISNA(VLOOKUP(BD41,Answers!BA:BD,4,FALSE))),VLOOKUP(BD41,Answers!BA:BD,4,FALSE),\"Help!\"))","v":""},null,{"$f":"IF(BE41=\"\",\"\",BC41+IF(BE41=\"XX\",VLOOKUP(\"WRONG\",Answers!BA:BD,4,FALSE),BE41)+BF41)","v":""},{"$f":"IF($B41=\"\",\"\",UPPER(Mainframe!Q40))","v":""},{"$f":"IF(BH41=\"\",\"\",IF(NOT(ISNA(VLOOKUP(BH41,Answers!BE:BH,4,FALSE))),VLOOKUP(BH41,Answers!BE:BH,4,FALSE),\"Help!\"))","v":""},null,{"$f":"IF(BI41=\"\",\"\",BG41+IF(BI41=\"XX\",VLOOKUP(\"WRONG\",Answers!BE:BH,4,FALSE),BI41)+BJ41)","v":""},{"$f":"IF($B41=\"\",\"\",UPPER(Mainframe!R40))","v":""},{"$f":"IF(BL41=\"\",\"\",IF(NOT(ISNA(VLOOKUP(BL41,Answers!BI:BL,4,FALSE))),VLOOKUP(BL41,Answers!BI:BL,4,FALSE),\"Help!\"))","v":""},null,{"$f":"IF(BM41=\"\",\"\",BK41+IF(BM41=\"XX\",VLOOKUP(\"WRONG\",Answers!BI:BL,4,FALSE),BM41)+BN41)","v":""},{"$f":"IF($B41=\"\",\"\",UPPER(Mainframe!S40))","v":""},{"$f":"IF(BP41=\"\",\"\",IF(NOT(ISNA(VLOOKUP(BP41,Answers!BM:BP,4,FALSE))),VLOOKUP(BP41,Answers!BM:BP,4,FALSE),\"Help!\"))","v":""},null,{"$f":"IF(BQ41=\"\",\"\",BO41+IF(BQ41=\"XX\",VLOOKUP(\"WRONG\",Answers!BM:BP,4,FALSE),BQ41)+BR41)","v":""},{"$f":"IF($B41=\"\",\"\",UPPER(Mainframe!T40))","v":""},{"$f":"IF(BT41=\"\",\"\",IF(NOT(ISNA(VLOOKUP(BT41,Answers!BQ:BT,4,FALSE))),VLOOKUP(BT41,Answers!BQ:BT,4,FALSE),\"Help!\"))","v":""},null,{"$f":"IF(BU41=\"\",\"\",BS41+IF(BU41=\"XX\",VLOOKUP(\"WRONG\",Answers!BQ:BT,4,FALSE),BU41)+BV41)","v":""},{"$f":"IF($B41=\"\",\"\",UPPER(Mainframe!U40))","v":""},{"$f":"IF(BX41=\"\",\"\",IF(NOT(ISNA(VLOOKUP(BX41,Answers!BU:BX,4,FALSE))),VLOOKUP(BX41,Answers!BU:BX,4,FALSE),\"Help!\"))","v":""},null,{"$f":"IF(BY41=\"\",\"\",BW41+IF(BY41=\"XX\",VLOOKUP(\"WRONG\",Answers!BU:BX,4,FALSE),BY41)+BZ41)","v":""},{"$f":"IF($B41=\"\",\"\",UPPER(Mainframe!V40))","v":""},{"$f":"IF(CB41=\"\",\"\",IF(NOT(ISNA(VLOOKUP(CB41,Answers!BY:CB,4,FALSE))),VLOOKUP(CB41,Answers!BY:CB,4,FALSE),\"Help!\"))","v":""},null,{"$f":"IF(CC41=\"\",\"\",CA41+IF(CC41=\"XX\",VLOOKUP(\"WRONG\",Answers!BY:CB,4,FALSE),CC41)+CD41)","v":""},null,null,1,{"$f":"IF(INDEX($B:$CE,ROW(),QNO*4-1)=DROPNAME,DROPNAME,IF(INDEX($B:$CE,ROW(),QNO*4-1)=SHEEPNAME,SHEEPNAME,IF(INDEX($B:$CE,ROW(),QNO*4)=\"XX\",INDEX($B:$CE,ROW(),QNO*4-1),INDEX(OFFSET(Answers!B:B,0,(QNO-1)*4),MATCH(INDEX($A:$CB,ROW(),QNO*4),OFFSET(Answers!A:A,0,(QNO-1)*4),0))&\" — \"&IF(INDEX($B:$CE,ROW(),QNO*4)=1,\"[b]Singleton![/b]\",CONCATENATE(INDEX($B:$CE,ROW(),QNO*4),\" responses\")))))","v":{"$error":"#N/A"}},"////////////////////////////////////////////////////////////////////////////////////////////////////////////////////////////////////////////////////////////////////////////////////","No",{"$f":"IF(B41=0,\"\",CONCATENATE(INDEX($CH:$CL,ROW(),1),\". \",INDEX($B:$CE,ROW(),1),\" — [b]\")&IF(QNO=1,CONCATENATE(INDEX($B:$CE,ROW(),QNO*4+2),\"[/b] pts\"),CONCATENATE(INDEX($B:$CE,ROW(),QNO*4-2),\" + \",IF(INDEX($B:$CE,ROW(),QNO*4)=\"XX\",INDEX(Answers!$A:$ZZ,2,QNO*4),INDEX($B:$CE,ROW(),QNO*4)),\" = \",INDEX($B:$CE,ROW(),QNO*4+2),\"[/b] pts \",IF(INDEX($C:$CE,ROW(),QNO*4)>0,\"(penalty: +\"&INDEX($C:$CE,ROW(),QNO*4)&\") \",IF(INDEX($C:$CE,ROW(),QNO*4)<0,\"(bonus: \"&INDEX($C:$CE,ROW(),QNO*4)&\") \",\"\"))&\"[[b]\"&IF(CN41>0,\"[color=#00BF00]↑\"&CN41,IF(CN41<0,\"[color=#FF0000]↓\"&ABS(CN41),\"[color=#0000FF]unch\"))&\"[/b][/color]]\")))","v":"1.  — [b][/b] pts"},1,0]
["[*]",{"$f":"IF(Mainframe!B41=\"\",\"\",INDEX(Mainframe!$B:$B,C42+1,1))","v":""},40,{"$f":"IF($B42=\"\",\"\",UPPER(Mainframe!C41))","v":""},{"$f":"IF(D42=\"\",\"\",IF(NOT(ISNA(VLOOKUP(D42,Answers!A:D,4,FALSE))),VLOOKUP(D42,Answers!A:D,4,FALSE),\"Help!\"))","v":""},null,{"$f":"IF(E42=\"\",\"\",IF(E42=\"XX\",VLOOKUP(\"WRONG\",Answers!A:D,4,FALSE),E42)+F42)","v":""},{"$f":"IF($B42=\"\",\"\",UPPER(Mainframe!D41))","v":""},{"$f":"IF(H42=\"\",\"\",IF(NOT(ISNA(VLOOKUP(H42,Answers!E:H,4,FALSE))),VLOOKUP(H42,Answers!E:H,4,FALSE),\"Help!\"))","v":""},null,{"$f":"IF(I42=\"\",\"\",G42+IF(I42=\"XX\",VLOOKUP(\"WRONG\",Answers!E:H,4,FALSE),I42)+J42)","v":""},{"$f":"IF($B42=\"\",\"\",UPPER(Mainframe!E41))","v":""},{"$f":"IF(L42=\"\",\"\",IF(NOT(ISNA(VLOOKUP(L42,Answers!I:L,4,FALSE))),VLOOKUP(L42,Answers!I:L,4,FALSE),\"Help!\"))","v":""},null,{"$f":"IF(M42=\"\",\"\",K42+IF(M42=\"XX\",VLOOKUP(\"WRONG\",Answers!I:L,4,FALSE),M42)+N42)","v":""},{"$f":"IF($B42=\"\",\"\",UPPER(Mainframe!F41))","v":""},{"$f":"IF(P42=\"\",\"\",IF(NOT(ISNA(VLOOKUP(P42,Answers!M:P,4,FALSE))),VLOOKUP(P42,Answers!M:P,4,FALSE),\"Help!\"))","v":""},null,{"$f":"IF(Q42=\"\",\"\",O42+IF(Q42=\"XX\",VLOOKUP(\"WRONG\",Answers!M:P,4,FALSE),Q42)+R42)","v":""},{"$f":"IF($B42=\"\",\"\",UPPER(Mainframe!G41))","v":""},{"$f":"IF(T42=\"\",\"\",IF(NOT(ISNA(VLOOKUP(T42,Answers!Q:T,4,FALSE))),VLOOKUP(T42,Answers!Q:T,4,FALSE),\"Help!\"))","v":""},null,{"$f":"IF(U42=\"\",\"\",S42+IF(U42=\"XX\",VLOOKUP(\"WRONG\",Answers!Q:T,4,FALSE),U42)+V42)","v":""},{"$f":"IF($B42=\"\",\"\",UPPER(Mainframe!H41))","v":""},{"$f":"IF(X42=\"\",\"\",IF(NOT(ISNA(VLOOKUP(X42,Answers!U:X,4,FALSE))),VLOOKUP(X42,Answers!U:X,4,FALSE),\"Help!\"))","v":""},null,{"$f":"IF(Y42=\"\",\"\",W42+IF(Y42=\"XX\",VLOOKUP(\"WRONG\",Answers!U:X,4,FALSE),Y42)+Z42)","v":""},{"$f":"IF($B42=\"\",\"\",UPPER(Mainframe!I41))","v":""},{"$f":"IF(AB42=\"\",\"\",IF(NOT(ISNA(VLOOKUP(AB42,Answers!Y:AB,4,FALSE))),VLOOKUP(AB42,Answers!Y:AB,4,FALSE),\"Help!\"))","v":""},null,{"$f":"IF(AC42=\"\",\"\",AA42+IF(AC42=\"XX\",VLOOKUP(\"WRONG\",Answers!Y:AB,4,FALSE),AC42)+AD42)","v":""},{"$f":"IF($B42=\"\",\"\",UPPER(Mainframe!J41))","v":""},{"$f":"IF(AF42=\"\",\"\",IF(NOT(ISNA(VLOOKUP(AF42,Answers!AC:AF,4,FALSE))),VLOOKUP(AF42,Answers!AC:AF,4,FALSE),\"Help!\"))","v":""},null,{"$f":"IF(AG42=\"\",\"\",AE42+IF(AG42=\"XX\",VLOOKUP(\"WRONG\",Answers!AC:AF,4,FALSE),AG42)+AH42)","v":""},{"$f":"IF($B42=\"\",\"\",UPPER(Mainframe!K41))","v":""},{"$f":"IF(AJ42=\"\",\"\",IF(NOT(ISNA(VLOOKUP(AJ42,Answers!AG:AJ,4,FALSE))),VLOOKUP(AJ42,Answers!AG:AJ,4,FALSE),\"Help!\"))","v":""},null,{"$f":"IF(AK42=\"\",\"\",AI42+IF(AK42=\"XX\",VLOOKUP(\"WRONG\",Answers!AG:AJ,4,FALSE),AK42)+AL42)","v":""},{"$f":"IF($B42=\"\",\"\",UPPER(Mainframe!L41))","v":""},{"$f":"IF(AN42=\"\",\"\",IF(NOT(ISNA(VLOOKUP(AN42,Answers!AK:AN,4,FALSE))),VLOOKUP(AN42,Answers!AK:AN,4,FALSE),\"Help!\"))","v":""},null,{"$f":"IF(AO42=\"\",\"\",AM42+IF(AO42=\"XX\",VLOOKUP(\"WRONG\",Answers!AK:AN,4,FALSE),AO42)+AP42)","v":""},{"$f":"IF($B42=\"\",\"\",UPPER(Mainframe!M41))","v":""},{"$f":"IF(AR42=\"\",\"\",IF(NOT(ISNA(VLOOKUP(AR42,Answers!AO:AR,4,FALSE))),VLOOKUP(AR42,Answers!AO:AR,4,FALSE),\"Help!\"))","v":""},null,{"$f":"IF(AS42=\"\",\"\",AQ42+IF(AS42=\"XX\",VLOOKUP(\"WRONG\",Answers!AO:AR,4,FALSE),AS42)+AT42)","v":""},{"$f":"IF($B42=\"\",\"\",UPPER(Mainframe!N41))","v":""},{"$f":"IF(AV42=\"\",\"\",IF(NOT(ISNA(VLOOKUP(AV42,Answers!AS:AV,4,FALSE))),VLOOKUP(AV42,Answers!AS:AV,4,FALSE),\"Help!\"))","v":""},null,{"$f":"IF(AW42=\"\",\"\",AU42+IF(AW42=\"XX\",VLOOKUP(\"WRONG\",Answers!AS:AV,4,FALSE),AW42)+AX42)","v":""},{"$f":"IF($B42=\"\",\"\",UPPER(Mainframe!O41))","v":""},{"$f":"IF(AZ42=\"\",\"\",IF(NOT(ISNA(VLOOKUP(AZ42,Answers!AW:AZ,4,FALSE))),VLOOKUP(AZ42,Answers!AW:AZ,4,FALSE),\"Help!\"))","v":""},null,{"$f":"IF(BA42=\"\",\"\",AY42+IF(BA42=\"XX\",VLOOKUP(\"WRONG\",Answers!AW:AZ,4,FALSE),BA42)+BB42)","v":""},{"$f":"IF($B42=\"\",\"\",UPPER(Mainframe!P41))","v":""},{"$f":"IF(BD42=\"\",\"\",IF(NOT(ISNA(VLOOKUP(BD42,Answers!BA:BD,4,FALSE))),VLOOKUP(BD42,Answers!BA:BD,4,FALSE),\"Help!\"))","v":""},null,{"$f":"IF(BE42=\"\",\"\",BC42+IF(BE42=\"XX\",VLOOKUP(\"WRONG\",Answers!BA:BD,4,FALSE),BE42)+BF42)","v":""},{"$f":"IF($B42=\"\",\"\",UPPER(Mainframe!Q41))","v":""},{"$f":"IF(BH42=\"\",\"\",IF(NOT(ISNA(VLOOKUP(BH42,Answers!BE:BH,4,FALSE))),VLOOKUP(BH42,Answers!BE:BH,4,FALSE),\"Help!\"))","v":""},null,{"$f":"IF(BI42=\"\",\"\",BG42+IF(BI42=\"XX\",VLOOKUP(\"WRONG\",Answers!BE:BH,4,FALSE),BI42)+BJ42)","v":""},{"$f":"IF($B42=\"\",\"\",UPPER(Mainframe!R41))","v":""},{"$f":"IF(BL42=\"\",\"\",IF(NOT(ISNA(VLOOKUP(BL42,Answers!BI:BL,4,FALSE))),VLOOKUP(BL42,Answers!BI:BL,4,FALSE),\"Help!\"))","v":""},null,{"$f":"IF(BM42=\"\",\"\",BK42+IF(BM42=\"XX\",VLOOKUP(\"WRONG\",Answers!BI:BL,4,FALSE),BM42)+BN42)","v":""},{"$f":"IF($B42=\"\",\"\",UPPER(Mainframe!S41))","v":""},{"$f":"IF(BP42=\"\",\"\",IF(NOT(ISNA(VLOOKUP(BP42,Answers!BM:BP,4,FALSE))),VLOOKUP(BP42,Answers!BM:BP,4,FALSE),\"Help!\"))","v":""},null,{"$f":"IF(BQ42=\"\",\"\",BO42+IF(BQ42=\"XX\",VLOOKUP(\"WRONG\",Answers!BM:BP,4,FALSE),BQ42)+BR42)","v":""},{"$f":"IF($B42=\"\",\"\",UPPER(Mainframe!T41))","v":""},{"$f":"IF(BT42=\"\",\"\",IF(NOT(ISNA(VLOOKUP(BT42,Answers!BQ:BT,4,FALSE))),VLOOKUP(BT42,Answers!BQ:BT,4,FALSE),\"Help!\"))","v":""},null,{"$f":"IF(BU42=\"\",\"\",BS42+IF(BU42=\"XX\",VLOOKUP(\"WRONG\",Answers!BQ:BT,4,FALSE),BU42)+BV42)","v":""},{"$f":"IF($B42=\"\",\"\",UPPER(Mainframe!U41))","v":""},{"$f":"IF(BX42=\"\",\"\",IF(NOT(ISNA(VLOOKUP(BX42,Answers!BU:BX,4,FALSE))),VLOOKUP(BX42,Answers!BU:BX,4,FALSE),\"Help!\"))","v":""},null,{"$f":"IF(BY42=\"\",\"\",BW42+IF(BY42=\"XX\",VLOOKUP(\"WRONG\",Answers!BU:BX,4,FALSE),BY42)+BZ42)","v":""},{"$f":"IF($B42=\"\",\"\",UPPER(Mainframe!V41))","v":""},{"$f":"IF(CB42=\"\",\"\",IF(NOT(ISNA(VLOOKUP(CB42,Answers!BY:CB,4,FALSE))),VLOOKUP(CB42,Answers!BY:CB,4,FALSE),\"Help!\"))","v":""},null,{"$f":"IF(CC42=\"\",\"\",CA42+IF(CC42=\"XX\",VLOOKUP(\"WRONG\",Answers!BY:CB,4,FALSE),CC42)+CD42)","v":""},null,null,1,{"$f":"IF(INDEX($B:$CE,ROW(),QNO*4-1)=DROPNAME,DROPNAME,IF(INDEX($B:$CE,ROW(),QNO*4-1)=SHEEPNAME,SHEEPNAME,IF(INDEX($B:$CE,ROW(),QNO*4)=\"XX\",INDEX($B:$CE,ROW(),QNO*4-1),INDEX(OFFSET(Answers!B:B,0,(QNO-1)*4),MATCH(INDEX($A:$CB,ROW(),QNO*4),OFFSET(Answers!A:A,0,(QNO-1)*4),0))&\" — \"&IF(INDEX($B:$CE,ROW(),QNO*4)=1,\"[b]Singleton![/b]\",CONCATENATE(INDEX($B:$CE,ROW(),QNO*4),\" responses\")))))","v":{"$error":"#N/A"}},"//////////////////////////////////////////////////////////////////////////////////////////////////////////////////////////////////////////////////////////////////////////////////","No",{"$f":"IF(B42=0,\"\",CONCATENATE(INDEX($CH:$CL,ROW(),1),\". \",INDEX($B:$CE,ROW(),1),\" — [b]\")&IF(QNO=1,CONCATENATE(INDEX($B:$CE,ROW(),QNO*4+2),\"[/b] pts\"),CONCATENATE(INDEX($B:$CE,ROW(),QNO*4-2),\" + \",IF(INDEX($B:$CE,ROW(),QNO*4)=\"XX\",INDEX(Answers!$A:$ZZ,2,QNO*4),INDEX($B:$CE,ROW(),QNO*4)),\" = \",INDEX($B:$CE,ROW(),QNO*4+2),\"[/b] pts \",IF(INDEX($C:$CE,ROW(),QNO*4)>0,\"(penalty: +\"&INDEX($C:$CE,ROW(),QNO*4)&\") \",IF(INDEX($C:$CE,ROW(),QNO*4)<0,\"(bonus: \"&INDEX($C:$CE,ROW(),QNO*4)&\") \",\"\"))&\"[[b]\"&IF(CN42>0,\"[color=#00BF00]↑\"&CN42,IF(CN42<0,\"[color=#FF0000]↓\"&ABS(CN42),\"[color=#0000FF]unch\"))&\"[/b][/color]]\")))","v":"1.  — [b][/b] pts"},1,0]
["[*]",{"$f":"IF(Mainframe!B42=\"\",\"\",INDEX(Mainframe!$B:$B,C43+1,1))","v":""},41,{"$f":"IF($B43=\"\",\"\",UPPER(Mainframe!C42))","v":""},{"$f":"IF(D43=\"\",\"\",IF(NOT(ISNA(VLOOKUP(D43,Answers!A:D,4,FALSE))),VLOOKUP(D43,Answers!A:D,4,FALSE),\"Help!\"))","v":""},null,{"$f":"IF(E43=\"\",\"\",IF(E43=\"XX\",VLOOKUP(\"WRONG\",Answers!A:D,4,FALSE),E43)+F43)","v":""},{"$f":"IF($B43=\"\",\"\",UPPER(Mainframe!D42))","v":""},{"$f":"IF(H43=\"\",\"\",IF(NOT(ISNA(VLOOKUP(H43,Answers!E:H,4,FALSE))),VLOOKUP(H43,Answers!E:H,4,FALSE),\"Help!\"))","v":""},null,{"$f":"IF(I43=\"\",\"\",G43+IF(I43=\"XX\",VLOOKUP(\"WRONG\",Answers!E:H,4,FALSE),I43)+J43)","v":""},{"$f":"IF($B43=\"\",\"\",UPPER(Mainframe!E42))","v":""},{"$f":"IF(L43=\"\",\"\",IF(NOT(ISNA(VLOOKUP(L43,Answers!I:L,4,FALSE))),VLOOKUP(L43,Answers!I:L,4,FALSE),\"Help!\"))","v":""},null,{"$f":"IF(M43=\"\",\"\",K43+IF(M43=\"XX\",VLOOKUP(\"WRONG\",Answers!I:L,4,FALSE),M43)+N43)","v":""},{"$f":"IF($B43=\"\",\"\",UPPER(Mainframe!F42))","v":""},{"$f":"IF(P43=\"\",\"\",IF(NOT(ISNA(VLOOKUP(P43,Answers!M:P,4,FALSE))),VLOOKUP(P43,Answers!M:P,4,FALSE),\"Help!\"))","v":""},null,{"$f":"IF(Q43=\"\",\"\",O43+IF(Q43=\"XX\",VLOOKUP(\"WRONG\",Answers!M:P,4,FALSE),Q43)+R43)","v":""},{"$f":"IF($B43=\"\",\"\",UPPER(Mainframe!G42))","v":""},{"$f":"IF(T43=\"\",\"\",IF(NOT(ISNA(VLOOKUP(T43,Answers!Q:T,4,FALSE))),VLOOKUP(T43,Answers!Q:T,4,FALSE),\"Help!\"))","v":""},null,{"$f":"IF(U43=\"\",\"\",S43+IF(U43=\"XX\",VLOOKUP(\"WRONG\",Answers!Q:T,4,FALSE),U43)+V43)","v":""},{"$f":"IF($B43=\"\",\"\",UPPER(Mainframe!H42))","v":""},{"$f":"IF(X43=\"\",\"\",IF(NOT(ISNA(VLOOKUP(X43,Answers!U:X,4,FALSE))),VLOOKUP(X43,Answers!U:X,4,FALSE),\"Help!\"))","v":""},null,{"$f":"IF(Y43=\"\",\"\",W43+IF(Y43=\"XX\",VLOOKUP(\"WRONG\",Answers!U:X,4,FALSE),Y43)+Z43)","v":""},{"$f":"IF($B43=\"\",\"\",UPPER(Mainframe!I42))","v":""},{"$f":"IF(AB43=\"\",\"\",IF(NOT(ISNA(VLOOKUP(AB43,Answers!Y:AB,4,FALSE))),VLOOKUP(AB43,Answers!Y:AB,4,FALSE),\"Help!\"))","v":""},null,{"$f":"IF(AC43=\"\",\"\",AA43+IF(AC43=\"XX\",VLOOKUP(\"WRONG\",Answers!Y:AB,4,FALSE),AC43)+AD43)","v":""},{"$f":"IF($B43=\"\",\"\",UPPER(Mainframe!J42))","v":""},{"$f":"IF(AF43=\"\",\"\",IF(NOT(ISNA(VLOOKUP(AF43,Answers!AC:AF,4,FALSE))),VLOOKUP(AF43,Answers!AC:AF,4,FALSE),\"Help!\"))","v":""},null,{"$f":"IF(AG43=\"\",\"\",AE43+IF(AG43=\"XX\",VLOOKUP(\"WRONG\",Answers!AC:AF,4,FALSE),AG43)+AH43)","v":""},{"$f":"IF($B43=\"\",\"\",UPPER(Mainframe!K42))","v":""},{"$f":"IF(AJ43=\"\",\"\",IF(NOT(ISNA(VLOOKUP(AJ43,Answers!AG:AJ,4,FALSE))),VLOOKUP(AJ43,Answers!AG:AJ,4,FALSE),\"Help!\"))","v":""},null,{"$f":"IF(AK43=\"\",\"\",AI43+IF(AK43=\"XX\",VLOOKUP(\"WRONG\",Answers!AG:AJ,4,FALSE),AK43)+AL43)","v":""},{"$f":"IF($B43=\"\",\"\",UPPER(Mainframe!L42))","v":""},{"$f":"IF(AN43=\"\",\"\",IF(NOT(ISNA(VLOOKUP(AN43,Answers!AK:AN,4,FALSE))),VLOOKUP(AN43,Answers!AK:AN,4,FALSE),\"Help!\"))","v":""},null,{"$f":"IF(AO43=\"\",\"\",AM43+IF(AO43=\"XX\",VLOOKUP(\"WRONG\",Answers!AK:AN,4,FALSE),AO43)+AP43)","v":""},{"$f":"IF($B43=\"\",\"\",UPPER(Mainframe!M42))","v":""},{"$f":"IF(AR43=\"\",\"\",IF(NOT(ISNA(VLOOKUP(AR43,Answers!AO:AR,4,FALSE))),VLOOKUP(AR43,Answers!AO:AR,4,FALSE),\"Help!\"))","v":""},null,{"$f":"IF(AS43=\"\",\"\",AQ43+IF(AS43=\"XX\",VLOOKUP(\"WRONG\",Answers!AO:AR,4,FALSE),AS43)+AT43)","v":""},{"$f":"IF($B43=\"\",\"\",UPPER(Mainframe!N42))","v":""},{"$f":"IF(AV43=\"\",\"\",IF(NOT(ISNA(VLOOKUP(AV43,Answers!AS:AV,4,FALSE))),VLOOKUP(AV43,Answers!AS:AV,4,FALSE),\"Help!\"))","v":""},null,{"$f":"IF(AW43=\"\",\"\",AU43+IF(AW43=\"XX\",VLOOKUP(\"WRONG\",Answers!AS:AV,4,FALSE),AW43)+AX43)","v":""},{"$f":"IF($B43=\"\",\"\",UPPER(Mainframe!O42))","v":""},{"$f":"IF(AZ43=\"\",\"\",IF(NOT(ISNA(VLOOKUP(AZ43,Answers!AW:AZ,4,FALSE))),VLOOKUP(AZ43,Answers!AW:AZ,4,FALSE),\"Help!\"))","v":""},null,{"$f":"IF(BA43=\"\",\"\",AY43+IF(BA43=\"XX\",VLOOKUP(\"WRONG\",Answers!AW:AZ,4,FALSE),BA43)+BB43)","v":""},{"$f":"IF($B43=\"\",\"\",UPPER(Mainframe!P42))","v":""},{"$f":"IF(BD43=\"\",\"\",IF(NOT(ISNA(VLOOKUP(BD43,Answers!BA:BD,4,FALSE))),VLOOKUP(BD43,Answers!BA:BD,4,FALSE),\"Help!\"))","v":""},null,{"$f":"IF(BE43=\"\",\"\",BC43+IF(BE43=\"XX\",VLOOKUP(\"WRONG\",Answers!BA:BD,4,FALSE),BE43)+BF43)","v":""},{"$f":"IF($B43=\"\",\"\",UPPER(Mainframe!Q42))","v":""},{"$f":"IF(BH43=\"\",\"\",IF(NOT(ISNA(VLOOKUP(BH43,Answers!BE:BH,4,FALSE))),VLOOKUP(BH43,Answers!BE:BH,4,FALSE),\"Help!\"))","v":""},null,{"$f":"IF(BI43=\"\",\"\",BG43+IF(BI43=\"XX\",VLOOKUP(\"WRONG\",Answers!BE:BH,4,FALSE),BI43)+BJ43)","v":""},{"$f":"IF($B43=\"\",\"\",UPPER(Mainframe!R42))","v":""},{"$f":"IF(BL43=\"\",\"\",IF(NOT(ISNA(VLOOKUP(BL43,Answers!BI:BL,4,FALSE))),VLOOKUP(BL43,Answers!BI:BL,4,FALSE),\"Help!\"))","v":""},null,{"$f":"IF(BM43=\"\",\"\",BK43+IF(BM43=\"XX\",VLOOKUP(\"WRONG\",Answers!BI:BL,4,FALSE),BM43)+BN43)","v":""},{"$f":"IF($B43=\"\",\"\",UPPER(Mainframe!S42))","v":""},{"$f":"IF(BP43=\"\",\"\",IF(NOT(ISNA(VLOOKUP(BP43,Answers!BM:BP,4,FALSE))),VLOOKUP(BP43,Answers!BM:BP,4,FALSE),\"Help!\"))","v":""},null,{"$f":"IF(BQ43=\"\",\"\",BO43+IF(BQ43=\"XX\",VLOOKUP(\"WRONG\",Answers!BM:BP,4,FALSE),BQ43)+BR43)","v":""},{"$f":"IF($B43=\"\",\"\",UPPER(Mainframe!T42))","v":""},{"$f":"IF(BT43=\"\",\"\",IF(NOT(ISNA(VLOOKUP(BT43,Answers!BQ:BT,4,FALSE))),VLOOKUP(BT43,Answers!BQ:BT,4,FALSE),\"Help!\"))","v":""},null,{"$f":"IF(BU43=\"\",\"\",BS43+IF(BU43=\"XX\",VLOOKUP(\"WRONG\",Answers!BQ:BT,4,FALSE),BU43)+BV43)","v":""},{"$f":"IF($B43=\"\",\"\",UPPER(Mainframe!U42))","v":""},{"$f":"IF(BX43=\"\",\"\",IF(NOT(ISNA(VLOOKUP(BX43,Answers!BU:BX,4,FALSE))),VLOOKUP(BX43,Answers!BU:BX,4,FALSE),\"Help!\"))","v":""},null,{"$f":"IF(BY43=\"\",\"\",BW43+IF(BY43=\"XX\",VLOOKUP(\"WRONG\",Answers!BU:BX,4,FALSE),BY43)+BZ43)","v":""},{"$f":"IF($B43=\"\",\"\",UPPER(Mainframe!V42))","v":""},{"$f":"IF(CB43=\"\",\"\",IF(NOT(ISNA(VLOOKUP(CB43,Answers!BY:CB,4,FALSE))),VLOOKUP(CB43,Answers!BY:CB,4,FALSE),\"Help!\"))","v":""},null,{"$f":"IF(CC43=\"\",\"\",CA43+IF(CC43=\"XX\",VLOOKUP(\"WRONG\",Answers!BY:CB,4,FALSE),CC43)+CD43)","v":""},null,null,1,{"$f":"IF(INDEX($B:$CE,ROW(),QNO*4-1)=DROPNAME,DROPNAME,IF(INDEX($B:$CE,ROW(),QNO*4-1)=SHEEPNAME,SHEEPNAME,IF(INDEX($B:$CE,ROW(),QNO*4)=\"XX\",INDEX($B:$CE,ROW(),QNO*4-1),INDEX(OFFSET(Answers!B:B,0,(QNO-1)*4),MATCH(INDEX($A:$CB,ROW(),QNO*4),OFFSET(Answers!A:A,0,(QNO-1)*4),0))&\" — \"&IF(INDEX($B:$CE,ROW(),QNO*4)=1,\"[b]Singleton![/b]\",CONCATENATE(INDEX($B:$CE,ROW(),QNO*4),\" responses\")))))","v":{"$error":"#N/A"}},"////////////////////////////////////////////////////////////////////////////////////////////////////////////////////////////////////////////////////////////////////////////////","No",{"$f":"IF(B43=0,\"\",CONCATENATE(INDEX($CH:$CL,ROW(),1),\". \",INDEX($B:$CE,ROW(),1),\" — [b]\")&IF(QNO=1,CONCATENATE(INDEX($B:$CE,ROW(),QNO*4+2),\"[/b] pts\"),CONCATENATE(INDEX($B:$CE,ROW(),QNO*4-2),\" + \",IF(INDEX($B:$CE,ROW(),QNO*4)=\"XX\",INDEX(Answers!$A:$ZZ,2,QNO*4),INDEX($B:$CE,ROW(),QNO*4)),\" = \",INDEX($B:$CE,ROW(),QNO*4+2),\"[/b] pts \",IF(INDEX($C:$CE,ROW(),QNO*4)>0,\"(penalty: +\"&INDEX($C:$CE,ROW(),QNO*4)&\") \",IF(INDEX($C:$CE,ROW(),QNO*4)<0,\"(bonus: \"&INDEX($C:$CE,ROW(),QNO*4)&\") \",\"\"))&\"[[b]\"&IF(CN43>0,\"[color=#00BF00]↑\"&CN43,IF(CN43<0,\"[color=#FF0000]↓\"&ABS(CN43),\"[color=#0000FF]unch\"))&\"[/b][/color]]\")))","v":"1.  — [b][/b] pts"},1,0]
["[*]",{"$f":"IF(Mainframe!B43=\"\",\"\",INDEX(Mainframe!$B:$B,C44+1,1))","v":""},42,{"$f":"IF($B44=\"\",\"\",UPPER(Mainframe!C43))","v":""},{"$f":"IF(D44=\"\",\"\",IF(NOT(ISNA(VLOOKUP(D44,Answers!A:D,4,FALSE))),VLOOKUP(D44,Answers!A:D,4,FALSE),\"Help!\"))","v":""},null,{"$f":"IF(E44=\"\",\"\",IF(E44=\"XX\",VLOOKUP(\"WRONG\",Answers!A:D,4,FALSE),E44)+F44)","v":""},{"$f":"IF($B44=\"\",\"\",UPPER(Mainframe!D43))","v":""},{"$f":"IF(H44=\"\",\"\",IF(NOT(ISNA(VLOOKUP(H44,Answers!E:H,4,FALSE))),VLOOKUP(H44,Answers!E:H,4,FALSE),\"Help!\"))","v":""},null,{"$f":"IF(I44=\"\",\"\",G44+IF(I44=\"XX\",VLOOKUP(\"WRONG\",Answers!E:H,4,FALSE),I44)+J44)","v":""},{"$f":"IF($B44=\"\",\"\",UPPER(Mainframe!E43))","v":""},{"$f":"IF(L44=\"\",\"\",IF(NOT(ISNA(VLOOKUP(L44,Answers!I:L,4,FALSE))),VLOOKUP(L44,Answers!I:L,4,FALSE),\"Help!\"))","v":""},null,{"$f":"IF(M44=\"\",\"\",K44+IF(M44=\"XX\",VLOOKUP(\"WRONG\",Answers!I:L,4,FALSE),M44)+N44)","v":""},{"$f":"IF($B44=\"\",\"\",UPPER(Mainframe!F43))","v":""},{"$f":"IF(P44=\"\",\"\",IF(NOT(ISNA(VLOOKUP(P44,Answers!M:P,4,FALSE))),VLOOKUP(P44,Answers!M:P,4,FALSE),\"Help!\"))","v":""},null,{"$f":"IF(Q44=\"\",\"\",O44+IF(Q44=\"XX\",VLOOKUP(\"WRONG\",Answers!M:P,4,FALSE),Q44)+R44)","v":""},{"$f":"IF($B44=\"\",\"\",UPPER(Mainframe!G43))","v":""},{"$f":"IF(T44=\"\",\"\",IF(NOT(ISNA(VLOOKUP(T44,Answers!Q:T,4,FALSE))),VLOOKUP(T44,Answers!Q:T,4,FALSE),\"Help!\"))","v":""},null,{"$f":"IF(U44=\"\",\"\",S44+IF(U44=\"XX\",VLOOKUP(\"WRONG\",Answers!Q:T,4,FALSE),U44)+V44)","v":""},{"$f":"IF($B44=\"\",\"\",UPPER(Mainframe!H43))","v":""},{"$f":"IF(X44=\"\",\"\",IF(NOT(ISNA(VLOOKUP(X44,Answers!U:X,4,FALSE))),VLOOKUP(X44,Answers!U:X,4,FALSE),\"Help!\"))","v":""},null,{"$f":"IF(Y44=\"\",\"\",W44+IF(Y44=\"XX\",VLOOKUP(\"WRONG\",Answers!U:X,4,FALSE),Y44)+Z44)","v":""},{"$f":"IF($B44=\"\",\"\",UPPER(Mainframe!I43))","v":""},{"$f":"IF(AB44=\"\",\"\",IF(NOT(ISNA(VLOOKUP(AB44,Answers!Y:AB,4,FALSE))),VLOOKUP(AB44,Answers!Y:AB,4,FALSE),\"Help!\"))","v":""},null,{"$f":"IF(AC44=\"\",\"\",AA44+IF(AC44=\"XX\",VLOOKUP(\"WRONG\",Answers!Y:AB,4,FALSE),AC44)+AD44)","v":""},{"$f":"IF($B44=\"\",\"\",UPPER(Mainframe!J43))","v":""},{"$f":"IF(AF44=\"\",\"\",IF(NOT(ISNA(VLOOKUP(AF44,Answers!AC:AF,4,FALSE))),VLOOKUP(AF44,Answers!AC:AF,4,FALSE),\"Help!\"))","v":""},null,{"$f":"IF(AG44=\"\",\"\",AE44+IF(AG44=\"XX\",VLOOKUP(\"WRONG\",Answers!AC:AF,4,FALSE),AG44)+AH44)","v":""},{"$f":"IF($B44=\"\",\"\",UPPER(Mainframe!K43))","v":""},{"$f":"IF(AJ44=\"\",\"\",IF(NOT(ISNA(VLOOKUP(AJ44,Answers!AG:AJ,4,FALSE))),VLOOKUP(AJ44,Answers!AG:AJ,4,FALSE),\"Help!\"))","v":""},null,{"$f":"IF(AK44=\"\",\"\",AI44+IF(AK44=\"XX\",VLOOKUP(\"WRONG\",Answers!AG:AJ,4,FALSE),AK44)+AL44)","v":""},{"$f":"IF($B44=\"\",\"\",UPPER(Mainframe!L43))","v":""},{"$f":"IF(AN44=\"\",\"\",IF(NOT(ISNA(VLOOKUP(AN44,Answers!AK:AN,4,FALSE))),VLOOKUP(AN44,Answers!AK:AN,4,FALSE),\"Help!\"))","v":""},null,{"$f":"IF(AO44=\"\",\"\",AM44+IF(AO44=\"XX\",VLOOKUP(\"WRONG\",Answers!AK:AN,4,FALSE),AO44)+AP44)","v":""},{"$f":"IF($B44=\"\",\"\",UPPER(Mainframe!M43))","v":""},{"$f":"IF(AR44=\"\",\"\",IF(NOT(ISNA(VLOOKUP(AR44,Answers!AO:AR,4,FALSE))),VLOOKUP(AR44,Answers!AO:AR,4,FALSE),\"Help!\"))","v":""},null,{"$f":"IF(AS44=\"\",\"\",AQ44+IF(AS44=\"XX\",VLOOKUP(\"WRONG\",Answers!AO:AR,4,FALSE),AS44)+AT44)","v":""},{"$f":"IF($B44=\"\",\"\",UPPER(Mainframe!N43))","v":""},{"$f":"IF(AV44=\"\",\"\",IF(NOT(ISNA(VLOOKUP(AV44,Answers!AS:AV,4,FALSE))),VLOOKUP(AV44,Answers!AS:AV,4,FALSE),\"Help!\"))","v":""},null,{"$f":"IF(AW44=\"\",\"\",AU44+IF(AW44=\"XX\",VLOOKUP(\"WRONG\",Answers!AS:AV,4,FALSE),AW44)+AX44)","v":""},{"$f":"IF($B44=\"\",\"\",UPPER(Mainframe!O43))","v":""},{"$f":"IF(AZ44=\"\",\"\",IF(NOT(ISNA(VLOOKUP(AZ44,Answers!AW:AZ,4,FALSE))),VLOOKUP(AZ44,Answers!AW:AZ,4,FALSE),\"Help!\"))","v":""},null,{"$f":"IF(BA44=\"\",\"\",AY44+IF(BA44=\"XX\",VLOOKUP(\"WRONG\",Answers!AW:AZ,4,FALSE),BA44)+BB44)","v":""},{"$f":"IF($B44=\"\",\"\",UPPER(Mainframe!P43))","v":""},{"$f":"IF(BD44=\"\",\"\",IF(NOT(ISNA(VLOOKUP(BD44,Answers!BA:BD,4,FALSE))),VLOOKUP(BD44,Answers!BA:BD,4,FALSE),\"Help!\"))","v":""},null,{"$f":"IF(BE44=\"\",\"\",BC44+IF(BE44=\"XX\",VLOOKUP(\"WRONG\",Answers!BA:BD,4,FALSE),BE44)+BF44)","v":""},{"$f":"IF($B44=\"\",\"\",UPPER(Mainframe!Q43))","v":""},{"$f":"IF(BH44=\"\",\"\",IF(NOT(ISNA(VLOOKUP(BH44,Answers!BE:BH,4,FALSE))),VLOOKUP(BH44,Answers!BE:BH,4,FALSE),\"Help!\"))","v":""},null,{"$f":"IF(BI44=\"\",\"\",BG44+IF(BI44=\"XX\",VLOOKUP(\"WRONG\",Answers!BE:BH,4,FALSE),BI44)+BJ44)","v":""},{"$f":"IF($B44=\"\",\"\",UPPER(Mainframe!R43))","v":""},{"$f":"IF(BL44=\"\",\"\",IF(NOT(ISNA(VLOOKUP(BL44,Answers!BI:BL,4,FALSE))),VLOOKUP(BL44,Answers!BI:BL,4,FALSE),\"Help!\"))","v":""},null,{"$f":"IF(BM44=\"\",\"\",BK44+IF(BM44=\"XX\",VLOOKUP(\"WRONG\",Answers!BI:BL,4,FALSE),BM44)+BN44)","v":""},{"$f":"IF($B44=\"\",\"\",UPPER(Mainframe!S43))","v":""},{"$f":"IF(BP44=\"\",\"\",IF(NOT(ISNA(VLOOKUP(BP44,Answers!BM:BP,4,FALSE))),VLOOKUP(BP44,Answers!BM:BP,4,FALSE),\"Help!\"))","v":""},null,{"$f":"IF(BQ44=\"\",\"\",BO44+IF(BQ44=\"XX\",VLOOKUP(\"WRONG\",Answers!BM:BP,4,FALSE),BQ44)+BR44)","v":""},{"$f":"IF($B44=\"\",\"\",UPPER(Mainframe!T43))","v":""},{"$f":"IF(BT44=\"\",\"\",IF(NOT(ISNA(VLOOKUP(BT44,Answers!BQ:BT,4,FALSE))),VLOOKUP(BT44,Answers!BQ:BT,4,FALSE),\"Help!\"))","v":""},null,{"$f":"IF(BU44=\"\",\"\",BS44+IF(BU44=\"XX\",VLOOKUP(\"WRONG\",Answers!BQ:BT,4,FALSE),BU44)+BV44)","v":""},{"$f":"IF($B44=\"\",\"\",UPPER(Mainframe!U43))","v":""},{"$f":"IF(BX44=\"\",\"\",IF(NOT(ISNA(VLOOKUP(BX44,Answers!BU:BX,4,FALSE))),VLOOKUP(BX44,Answers!BU:BX,4,FALSE),\"Help!\"))","v":""},null,{"$f":"IF(BY44=\"\",\"\",BW44+IF(BY44=\"XX\",VLOOKUP(\"WRONG\",Answers!BU:BX,4,FALSE),BY44)+BZ44)","v":""},{"$f":"IF($B44=\"\",\"\",UPPER(Mainframe!V43))","v":""},{"$f":"IF(CB44=\"\",\"\",IF(NOT(ISNA(VLOOKUP(CB44,Answers!BY:CB,4,FALSE))),VLOOKUP(CB44,Answers!BY:CB,4,FALSE),\"Help!\"))","v":""},null,{"$f":"IF(CC44=\"\",\"\",CA44+IF(CC44=\"XX\",VLOOKUP(\"WRONG\",Answers!BY:CB,4,FALSE),CC44)+CD44)","v":""},null,null,1,{"$f":"IF(INDEX($B:$CE,ROW(),QNO*4-1)=DROPNAME,DROPNAME,IF(INDEX($B:$CE,ROW(),QNO*4-1)=SHEEPNAME,SHEEPNAME,IF(INDEX($B:$CE,ROW(),QNO*4)=\"XX\",INDEX($B:$CE,ROW(),QNO*4-1),INDEX(OFFSET(Answers!B:B,0,(QNO-1)*4),MATCH(INDEX($A:$CB,ROW(),QNO*4),OFFSET(Answers!A:A,0,(QNO-1)*4),0))&\" — \"&IF(INDEX($B:$CE,ROW(),QNO*4)=1,\"[b]Singleton![/b]\",CONCATENATE(INDEX($B:$CE,ROW(),QNO*4),\" responses\")))))","v":{"$error":"#N/A"}},"//////////////////////////////////////////////////////////////////////////////////////////////////////////////////////////////////////////////////////////////////////////////","No",{"$f":"IF(B44=0,\"\",CONCATENATE(INDEX($CH:$CL,ROW(),1),\". \",INDEX($B:$CE,ROW(),1),\" — [b]\")&IF(QNO=1,CONCATENATE(INDEX($B:$CE,ROW(),QNO*4+2),\"[/b] pts\"),CONCATENATE(INDEX($B:$CE,ROW(),QNO*4-2),\" + \",IF(INDEX($B:$CE,ROW(),QNO*4)=\"XX\",INDEX(Answers!$A:$ZZ,2,QNO*4),INDEX($B:$CE,ROW(),QNO*4)),\" = \",INDEX($B:$CE,ROW(),QNO*4+2),\"[/b] pts \",IF(INDEX($C:$CE,ROW(),QNO*4)>0,\"(penalty: +\"&INDEX($C:$CE,ROW(),QNO*4)&\") \",IF(INDEX($C:$CE,ROW(),QNO*4)<0,\"(bonus: \"&INDEX($C:$CE,ROW(),QNO*4)&\") \",\"\"))&\"[[b]\"&IF(CN44>0,\"[color=#00BF00]↑\"&CN44,IF(CN44<0,\"[color=#FF0000]↓\"&ABS(CN44),\"[color=#0000FF]unch\"))&\"[/b][/color]]\")))","v":"1.  — [b][/b] pts"},1,0]
["[*]",{"$f":"IF(Mainframe!B44=\"\",\"\",INDEX(Mainframe!$B:$B,C45+1,1))","v":""},43,{"$f":"IF($B45=\"\",\"\",UPPER(Mainframe!C44))","v":""},{"$f":"IF(D45=\"\",\"\",IF(NOT(ISNA(VLOOKUP(D45,Answers!A:D,4,FALSE))),VLOOKUP(D45,Answers!A:D,4,FALSE),\"Help!\"))","v":""},null,{"$f":"IF(E45=\"\",\"\",IF(E45=\"XX\",VLOOKUP(\"WRONG\",Answers!A:D,4,FALSE),E45)+F45)","v":""},{"$f":"IF($B45=\"\",\"\",UPPER(Mainframe!D44))","v":""},{"$f":"IF(H45=\"\",\"\",IF(NOT(ISNA(VLOOKUP(H45,Answers!E:H,4,FALSE))),VLOOKUP(H45,Answers!E:H,4,FALSE),\"Help!\"))","v":""},null,{"$f":"IF(I45=\"\",\"\",G45+IF(I45=\"XX\",VLOOKUP(\"WRONG\",Answers!E:H,4,FALSE),I45)+J45)","v":""},{"$f":"IF($B45=\"\",\"\",UPPER(Mainframe!E44))","v":""},{"$f":"IF(L45=\"\",\"\",IF(NOT(ISNA(VLOOKUP(L45,Answers!I:L,4,FALSE))),VLOOKUP(L45,Answers!I:L,4,FALSE),\"Help!\"))","v":""},null,{"$f":"IF(M45=\"\",\"\",K45+IF(M45=\"XX\",VLOOKUP(\"WRONG\",Answers!I:L,4,FALSE),M45)+N45)","v":""},{"$f":"IF($B45=\"\",\"\",UPPER(Mainframe!F44))","v":""},{"$f":"IF(P45=\"\",\"\",IF(NOT(ISNA(VLOOKUP(P45,Answers!M:P,4,FALSE))),VLOOKUP(P45,Answers!M:P,4,FALSE),\"Help!\"))","v":""},null,{"$f":"IF(Q45=\"\",\"\",O45+IF(Q45=\"XX\",VLOOKUP(\"WRONG\",Answers!M:P,4,FALSE),Q45)+R45)","v":""},{"$f":"IF($B45=\"\",\"\",UPPER(Mainframe!G44))","v":""},{"$f":"IF(T45=\"\",\"\",IF(NOT(ISNA(VLOOKUP(T45,Answers!Q:T,4,FALSE))),VLOOKUP(T45,Answers!Q:T,4,FALSE),\"Help!\"))","v":""},null,{"$f":"IF(U45=\"\",\"\",S45+IF(U45=\"XX\",VLOOKUP(\"WRONG\",Answers!Q:T,4,FALSE),U45)+V45)","v":""},{"$f":"IF($B45=\"\",\"\",UPPER(Mainframe!H44))","v":""},{"$f":"IF(X45=\"\",\"\",IF(NOT(ISNA(VLOOKUP(X45,Answers!U:X,4,FALSE))),VLOOKUP(X45,Answers!U:X,4,FALSE),\"Help!\"))","v":""},null,{"$f":"IF(Y45=\"\",\"\",W45+IF(Y45=\"XX\",VLOOKUP(\"WRONG\",Answers!U:X,4,FALSE),Y45)+Z45)","v":""},{"$f":"IF($B45=\"\",\"\",UPPER(Mainframe!I44))","v":""},{"$f":"IF(AB45=\"\",\"\",IF(NOT(ISNA(VLOOKUP(AB45,Answers!Y:AB,4,FALSE))),VLOOKUP(AB45,Answers!Y:AB,4,FALSE),\"Help!\"))","v":""},null,{"$f":"IF(AC45=\"\",\"\",AA45+IF(AC45=\"XX\",VLOOKUP(\"WRONG\",Answers!Y:AB,4,FALSE),AC45)+AD45)","v":""},{"$f":"IF($B45=\"\",\"\",UPPER(Mainframe!J44))","v":""},{"$f":"IF(AF45=\"\",\"\",IF(NOT(ISNA(VLOOKUP(AF45,Answers!AC:AF,4,FALSE))),VLOOKUP(AF45,Answers!AC:AF,4,FALSE),\"Help!\"))","v":""},null,{"$f":"IF(AG45=\"\",\"\",AE45+IF(AG45=\"XX\",VLOOKUP(\"WRONG\",Answers!AC:AF,4,FALSE),AG45)+AH45)","v":""},{"$f":"IF($B45=\"\",\"\",UPPER(Mainframe!K44))","v":""},{"$f":"IF(AJ45=\"\",\"\",IF(NOT(ISNA(VLOOKUP(AJ45,Answers!AG:AJ,4,FALSE))),VLOOKUP(AJ45,Answers!AG:AJ,4,FALSE),\"Help!\"))","v":""},null,{"$f":"IF(AK45=\"\",\"\",AI45+IF(AK45=\"XX\",VLOOKUP(\"WRONG\",Answers!AG:AJ,4,FALSE),AK45)+AL45)","v":""},{"$f":"IF($B45=\"\",\"\",UPPER(Mainframe!L44))","v":""},{"$f":"IF(AN45=\"\",\"\",IF(NOT(ISNA(VLOOKUP(AN45,Answers!AK:AN,4,FALSE))),VLOOKUP(AN45,Answers!AK:AN,4,FALSE),\"Help!\"))","v":""},null,{"$f":"IF(AO45=\"\",\"\",AM45+IF(AO45=\"XX\",VLOOKUP(\"WRONG\",Answers!AK:AN,4,FALSE),AO45)+AP45)","v":""},{"$f":"IF($B45=\"\",\"\",UPPER(Mainframe!M44))","v":""},{"$f":"IF(AR45=\"\",\"\",IF(NOT(ISNA(VLOOKUP(AR45,Answers!AO:AR,4,FALSE))),VLOOKUP(AR45,Answers!AO:AR,4,FALSE),\"Help!\"))","v":""},null,{"$f":"IF(AS45=\"\",\"\",AQ45+IF(AS45=\"XX\",VLOOKUP(\"WRONG\",Answers!AO:AR,4,FALSE),AS45)+AT45)","v":""},{"$f":"IF($B45=\"\",\"\",UPPER(Mainframe!N44))","v":""},{"$f":"IF(AV45=\"\",\"\",IF(NOT(ISNA(VLOOKUP(AV45,Answers!AS:AV,4,FALSE))),VLOOKUP(AV45,Answers!AS:AV,4,FALSE),\"Help!\"))","v":""},null,{"$f":"IF(AW45=\"\",\"\",AU45+IF(AW45=\"XX\",VLOOKUP(\"WRONG\",Answers!AS:AV,4,FALSE),AW45)+AX45)","v":""},{"$f":"IF($B45=\"\",\"\",UPPER(Mainframe!O44))","v":""},{"$f":"IF(AZ45=\"\",\"\",IF(NOT(ISNA(VLOOKUP(AZ45,Answers!AW:AZ,4,FALSE))),VLOOKUP(AZ45,Answers!AW:AZ,4,FALSE),\"Help!\"))","v":""},null,{"$f":"IF(BA45=\"\",\"\",AY45+IF(BA45=\"XX\",VLOOKUP(\"WRONG\",Answers!AW:AZ,4,FALSE),BA45)+BB45)","v":""},{"$f":"IF($B45=\"\",\"\",UPPER(Mainframe!P44))","v":""},{"$f":"IF(BD45=\"\",\"\",IF(NOT(ISNA(VLOOKUP(BD45,Answers!BA:BD,4,FALSE))),VLOOKUP(BD45,Answers!BA:BD,4,FALSE),\"Help!\"))","v":""},null,{"$f":"IF(BE45=\"\",\"\",BC45+IF(BE45=\"XX\",VLOOKUP(\"WRONG\",Answers!BA:BD,4,FALSE),BE45)+BF45)","v":""},{"$f":"IF($B45=\"\",\"\",UPPER(Mainframe!Q44))","v":""},{"$f":"IF(BH45=\"\",\"\",IF(NOT(ISNA(VLOOKUP(BH45,Answers!BE:BH,4,FALSE))),VLOOKUP(BH45,Answers!BE:BH,4,FALSE),\"Help!\"))","v":""},null,{"$f":"IF(BI45=\"\",\"\",BG45+IF(BI45=\"XX\",VLOOKUP(\"WRONG\",Answers!BE:BH,4,FALSE),BI45)+BJ45)","v":""},{"$f":"IF($B45=\"\",\"\",UPPER(Mainframe!R44))","v":""},{"$f":"IF(BL45=\"\",\"\",IF(NOT(ISNA(VLOOKUP(BL45,Answers!BI:BL,4,FALSE))),VLOOKUP(BL45,Answers!BI:BL,4,FALSE),\"Help!\"))","v":""},null,{"$f":"IF(BM45=\"\",\"\",BK45+IF(BM45=\"XX\",VLOOKUP(\"WRONG\",Answers!BI:BL,4,FALSE),BM45)+BN45)","v":""},{"$f":"IF($B45=\"\",\"\",UPPER(Mainframe!S44))","v":""},{"$f":"IF(BP45=\"\",\"\",IF(NOT(ISNA(VLOOKUP(BP45,Answers!BM:BP,4,FALSE))),VLOOKUP(BP45,Answers!BM:BP,4,FALSE),\"Help!\"))","v":""},null,{"$f":"IF(BQ45=\"\",\"\",BO45+IF(BQ45=\"XX\",VLOOKUP(\"WRONG\",Answers!BM:BP,4,FALSE),BQ45)+BR45)","v":""},{"$f":"IF($B45=\"\",\"\",UPPER(Mainframe!T44))","v":""},{"$f":"IF(BT45=\"\",\"\",IF(NOT(ISNA(VLOOKUP(BT45,Answers!BQ:BT,4,FALSE))),VLOOKUP(BT45,Answers!BQ:BT,4,FALSE),\"Help!\"))","v":""},null,{"$f":"IF(BU45=\"\",\"\",BS45+IF(BU45=\"XX\",VLOOKUP(\"WRONG\",Answers!BQ:BT,4,FALSE),BU45)+BV45)","v":""},{"$f":"IF($B45=\"\",\"\",UPPER(Mainframe!U44))","v":""},{"$f":"IF(BX45=\"\",\"\",IF(NOT(ISNA(VLOOKUP(BX45,Answers!BU:BX,4,FALSE))),VLOOKUP(BX45,Answers!BU:BX,4,FALSE),\"Help!\"))","v":""},null,{"$f":"IF(BY45=\"\",\"\",BW45+IF(BY45=\"XX\",VLOOKUP(\"WRONG\",Answers!BU:BX,4,FALSE),BY45)+BZ45)","v":""},{"$f":"IF($B45=\"\",\"\",UPPER(Mainframe!V44))","v":""},{"$f":"IF(CB45=\"\",\"\",IF(NOT(ISNA(VLOOKUP(CB45,Answers!BY:CB,4,FALSE))),VLOOKUP(CB45,Answers!BY:CB,4,FALSE),\"Help!\"))","v":""},null,{"$f":"IF(CC45=\"\",\"\",CA45+IF(CC45=\"XX\",VLOOKUP(\"WRONG\",Answers!BY:CB,4,FALSE),CC45)+CD45)","v":""},null,null,1,{"$f":"IF(INDEX($B:$CE,ROW(),QNO*4-1)=DROPNAME,DROPNAME,IF(INDEX($B:$CE,ROW(),QNO*4-1)=SHEEPNAME,SHEEPNAME,IF(INDEX($B:$CE,ROW(),QNO*4)=\"XX\",INDEX($B:$CE,ROW(),QNO*4-1),INDEX(OFFSET(Answers!B:B,0,(QNO-1)*4),MATCH(INDEX($A:$CB,ROW(),QNO*4),OFFSET(Answers!A:A,0,(QNO-1)*4),0))&\" — \"&IF(INDEX($B:$CE,ROW(),QNO*4)=1,\"[b]Singleton![/b]\",CONCATENATE(INDEX($B:$CE,ROW(),QNO*4),\" responses\")))))","v":{"$error":"#N/A"}},"////////////////////////////////////////////////////////////////////////////////////////////////////////////////////////////////////////////////////////////////////////////","No",{"$f":"IF(B45=0,\"\",CONCATENATE(INDEX($CH:$CL,ROW(),1),\". \",INDEX($B:$CE,ROW(),1),\" — [b]\")&IF(QNO=1,CONCATENATE(INDEX($B:$CE,ROW(),QNO*4+2),\"[/b] pts\"),CONCATENATE(INDEX($B:$CE,ROW(),QNO*4-2),\" + \",IF(INDEX($B:$CE,ROW(),QNO*4)=\"XX\",INDEX(Answers!$A:$ZZ,2,QNO*4),INDEX($B:$CE,ROW(),QNO*4)),\" = \",INDEX($B:$CE,ROW(),QNO*4+2),\"[/b] pts \",IF(INDEX($C:$CE,ROW(),QNO*4)>0,\"(penalty: +\"&INDEX($C:$CE,ROW(),QNO*4)&\") \",IF(INDEX($C:$CE,ROW(),QNO*4)<0,\"(bonus: \"&INDEX($C:$CE,ROW(),QNO*4)&\") \",\"\"))&\"[[b]\"&IF(CN45>0,\"[color=#00BF00]↑\"&CN45,IF(CN45<0,\"[color=#FF0000]↓\"&ABS(CN45),\"[color=#0000FF]unch\"))&\"[/b][/color]]\")))","v":"1.  — [b][/b] pts"},1,0]
["[*]",{"$f":"IF(Mainframe!B45=\"\",\"\",INDEX(Mainframe!$B:$B,C46+1,1))","v":""},44,{"$f":"IF($B46=\"\",\"\",UPPER(Mainframe!C45))","v":""},{"$f":"IF(D46=\"\",\"\",IF(NOT(ISNA(VLOOKUP(D46,Answers!A:D,4,FALSE))),VLOOKUP(D46,Answers!A:D,4,FALSE),\"Help!\"))","v":""},null,{"$f":"IF(E46=\"\",\"\",IF(E46=\"XX\",VLOOKUP(\"WRONG\",Answers!A:D,4,FALSE),E46)+F46)","v":""},{"$f":"IF($B46=\"\",\"\",UPPER(Mainframe!D45))","v":""},{"$f":"IF(H46=\"\",\"\",IF(NOT(ISNA(VLOOKUP(H46,Answers!E:H,4,FALSE))),VLOOKUP(H46,Answers!E:H,4,FALSE),\"Help!\"))","v":""},null,{"$f":"IF(I46=\"\",\"\",G46+IF(I46=\"XX\",VLOOKUP(\"WRONG\",Answers!E:H,4,FALSE),I46)+J46)","v":""},{"$f":"IF($B46=\"\",\"\",UPPER(Mainframe!E45))","v":""},{"$f":"IF(L46=\"\",\"\",IF(NOT(ISNA(VLOOKUP(L46,Answers!I:L,4,FALSE))),VLOOKUP(L46,Answers!I:L,4,FALSE),\"Help!\"))","v":""},null,{"$f":"IF(M46=\"\",\"\",K46+IF(M46=\"XX\",VLOOKUP(\"WRONG\",Answers!I:L,4,FALSE),M46)+N46)","v":""},{"$f":"IF($B46=\"\",\"\",UPPER(Mainframe!F45))","v":""},{"$f":"IF(P46=\"\",\"\",IF(NOT(ISNA(VLOOKUP(P46,Answers!M:P,4,FALSE))),VLOOKUP(P46,Answers!M:P,4,FALSE),\"Help!\"))","v":""},null,{"$f":"IF(Q46=\"\",\"\",O46+IF(Q46=\"XX\",VLOOKUP(\"WRONG\",Answers!M:P,4,FALSE),Q46)+R46)","v":""},{"$f":"IF($B46=\"\",\"\",UPPER(Mainframe!G45))","v":""},{"$f":"IF(T46=\"\",\"\",IF(NOT(ISNA(VLOOKUP(T46,Answers!Q:T,4,FALSE))),VLOOKUP(T46,Answers!Q:T,4,FALSE),\"Help!\"))","v":""},null,{"$f":"IF(U46=\"\",\"\",S46+IF(U46=\"XX\",VLOOKUP(\"WRONG\",Answers!Q:T,4,FALSE),U46)+V46)","v":""},{"$f":"IF($B46=\"\",\"\",UPPER(Mainframe!H45))","v":""},{"$f":"IF(X46=\"\",\"\",IF(NOT(ISNA(VLOOKUP(X46,Answers!U:X,4,FALSE))),VLOOKUP(X46,Answers!U:X,4,FALSE),\"Help!\"))","v":""},null,{"$f":"IF(Y46=\"\",\"\",W46+IF(Y46=\"XX\",VLOOKUP(\"WRONG\",Answers!U:X,4,FALSE),Y46)+Z46)","v":""},{"$f":"IF($B46=\"\",\"\",UPPER(Mainframe!I45))","v":""},{"$f":"IF(AB46=\"\",\"\",IF(NOT(ISNA(VLOOKUP(AB46,Answers!Y:AB,4,FALSE))),VLOOKUP(AB46,Answers!Y:AB,4,FALSE),\"Help!\"))","v":""},null,{"$f":"IF(AC46=\"\",\"\",AA46+IF(AC46=\"XX\",VLOOKUP(\"WRONG\",Answers!Y:AB,4,FALSE),AC46)+AD46)","v":""},{"$f":"IF($B46=\"\",\"\",UPPER(Mainframe!J45))","v":""},{"$f":"IF(AF46=\"\",\"\",IF(NOT(ISNA(VLOOKUP(AF46,Answers!AC:AF,4,FALSE))),VLOOKUP(AF46,Answers!AC:AF,4,FALSE),\"Help!\"))","v":""},null,{"$f":"IF(AG46=\"\",\"\",AE46+IF(AG46=\"XX\",VLOOKUP(\"WRONG\",Answers!AC:AF,4,FALSE),AG46)+AH46)","v":""},{"$f":"IF($B46=\"\",\"\",UPPER(Mainframe!K45))","v":""},{"$f":"IF(AJ46=\"\",\"\",IF(NOT(ISNA(VLOOKUP(AJ46,Answers!AG:AJ,4,FALSE))),VLOOKUP(AJ46,Answers!AG:AJ,4,FALSE),\"Help!\"))","v":""},null,{"$f":"IF(AK46=\"\",\"\",AI46+IF(AK46=\"XX\",VLOOKUP(\"WRONG\",Answers!AG:AJ,4,FALSE),AK46)+AL46)","v":""},{"$f":"IF($B46=\"\",\"\",UPPER(Mainframe!L45))","v":""},{"$f":"IF(AN46=\"\",\"\",IF(NOT(ISNA(VLOOKUP(AN46,Answers!AK:AN,4,FALSE))),VLOOKUP(AN46,Answers!AK:AN,4,FALSE),\"Help!\"))","v":""},null,{"$f":"IF(AO46=\"\",\"\",AM46+IF(AO46=\"XX\",VLOOKUP(\"WRONG\",Answers!AK:AN,4,FALSE),AO46)+AP46)","v":""},{"$f":"IF($B46=\"\",\"\",UPPER(Mainframe!M45))","v":""},{"$f":"IF(AR46=\"\",\"\",IF(NOT(ISNA(VLOOKUP(AR46,Answers!AO:AR,4,FALSE))),VLOOKUP(AR46,Answers!AO:AR,4,FALSE),\"Help!\"))","v":""},null,{"$f":"IF(AS46=\"\",\"\",AQ46+IF(AS46=\"XX\",VLOOKUP(\"WRONG\",Answers!AO:AR,4,FALSE),AS46)+AT46)","v":""},{"$f":"IF($B46=\"\",\"\",UPPER(Mainframe!N45))","v":""},{"$f":"IF(AV46=\"\",\"\",IF(NOT(ISNA(VLOOKUP(AV46,Answers!AS:AV,4,FALSE))),VLOOKUP(AV46,Answers!AS:AV,4,FALSE),\"Help!\"))","v":""},null,{"$f":"IF(AW46=\"\",\"\",AU46+IF(AW46=\"XX\",VLOOKUP(\"WRONG\",Answers!AS:AV,4,FALSE),AW46)+AX46)","v":""},{"$f":"IF($B46=\"\",\"\",UPPER(Mainframe!O45))","v":""},{"$f":"IF(AZ46=\"\",\"\",IF(NOT(ISNA(VLOOKUP(AZ46,Answers!AW:AZ,4,FALSE))),VLOOKUP(AZ46,Answers!AW:AZ,4,FALSE),\"Help!\"))","v":""},null,{"$f":"IF(BA46=\"\",\"\",AY46+IF(BA46=\"XX\",VLOOKUP(\"WRONG\",Answers!AW:AZ,4,FALSE),BA46)+BB46)","v":""},{"$f":"IF($B46=\"\",\"\",UPPER(Mainframe!P45))","v":""},{"$f":"IF(BD46=\"\",\"\",IF(NOT(ISNA(VLOOKUP(BD46,Answers!BA:BD,4,FALSE))),VLOOKUP(BD46,Answers!BA:BD,4,FALSE),\"Help!\"))","v":""},null,{"$f":"IF(BE46=\"\",\"\",BC46+IF(BE46=\"XX\",VLOOKUP(\"WRONG\",Answers!BA:BD,4,FALSE),BE46)+BF46)","v":""},{"$f":"IF($B46=\"\",\"\",UPPER(Mainframe!Q45))","v":""},{"$f":"IF(BH46=\"\",\"\",IF(NOT(ISNA(VLOOKUP(BH46,Answers!BE:BH,4,FALSE))),VLOOKUP(BH46,Answers!BE:BH,4,FALSE),\"Help!\"))","v":""},null,{"$f":"IF(BI46=\"\",\"\",BG46+IF(BI46=\"XX\",VLOOKUP(\"WRONG\",Answers!BE:BH,4,FALSE),BI46)+BJ46)","v":""},{"$f":"IF($B46=\"\",\"\",UPPER(Mainframe!R45))","v":""},{"$f":"IF(BL46=\"\",\"\",IF(NOT(ISNA(VLOOKUP(BL46,Answers!BI:BL,4,FALSE))),VLOOKUP(BL46,Answers!BI:BL,4,FALSE),\"Help!\"))","v":""},null,{"$f":"IF(BM46=\"\",\"\",BK46+IF(BM46=\"XX\",VLOOKUP(\"WRONG\",Answers!BI:BL,4,FALSE),BM46)+BN46)","v":""},{"$f":"IF($B46=\"\",\"\",UPPER(Mainframe!S45))","v":""},{"$f":"IF(BP46=\"\",\"\",IF(NOT(ISNA(VLOOKUP(BP46,Answers!BM:BP,4,FALSE))),VLOOKUP(BP46,Answers!BM:BP,4,FALSE),\"Help!\"))","v":""},null,{"$f":"IF(BQ46=\"\",\"\",BO46+IF(BQ46=\"XX\",VLOOKUP(\"WRONG\",Answers!BM:BP,4,FALSE),BQ46)+BR46)","v":""},{"$f":"IF($B46=\"\",\"\",UPPER(Mainframe!T45))","v":""},{"$f":"IF(BT46=\"\",\"\",IF(NOT(ISNA(VLOOKUP(BT46,Answers!BQ:BT,4,FALSE))),VLOOKUP(BT46,Answers!BQ:BT,4,FALSE),\"Help!\"))","v":""},null,{"$f":"IF(BU46=\"\",\"\",BS46+IF(BU46=\"XX\",VLOOKUP(\"WRONG\",Answers!BQ:BT,4,FALSE),BU46)+BV46)","v":""},{"$f":"IF($B46=\"\",\"\",UPPER(Mainframe!U45))","v":""},{"$f":"IF(BX46=\"\",\"\",IF(NOT(ISNA(VLOOKUP(BX46,Answers!BU:BX,4,FALSE))),VLOOKUP(BX46,Answers!BU:BX,4,FALSE),\"Help!\"))","v":""},null,{"$f":"IF(BY46=\"\",\"\",BW46+IF(BY46=\"XX\",VLOOKUP(\"WRONG\",Answers!BU:BX,4,FALSE),BY46)+BZ46)","v":""},{"$f":"IF($B46=\"\",\"\",UPPER(Mainframe!V45))","v":""},{"$f":"IF(CB46=\"\",\"\",IF(NOT(ISNA(VLOOKUP(CB46,Answers!BY:CB,4,FALSE))),VLOOKUP(CB46,Answers!BY:CB,4,FALSE),\"Help!\"))","v":""},null,{"$f":"IF(CC46=\"\",\"\",CA46+IF(CC46=\"XX\",VLOOKUP(\"WRONG\",Answers!BY:CB,4,FALSE),CC46)+CD46)","v":""},null,null,1,{"$f":"IF(INDEX($B:$CE,ROW(),QNO*4-1)=DROPNAME,DROPNAME,IF(INDEX($B:$CE,ROW(),QNO*4-1)=SHEEPNAME,SHEEPNAME,IF(INDEX($B:$CE,ROW(),QNO*4)=\"XX\",INDEX($B:$CE,ROW(),QNO*4-1),INDEX(OFFSET(Answers!B:B,0,(QNO-1)*4),MATCH(INDEX($A:$CB,ROW(),QNO*4),OFFSET(Answers!A:A,0,(QNO-1)*4),0))&\" — \"&IF(INDEX($B:$CE,ROW(),QNO*4)=1,\"[b]Singleton![/b]\",CONCATENATE(INDEX($B:$CE,ROW(),QNO*4),\" responses\")))))","v":{"$error":"#N/A"}},"//////////////////////////////////////////////////////////////////////////////////////////////////////////////////////////////////////////////////////////////////////////","No",{"$f":"IF(B46=0,\"\",CONCATENATE(INDEX($CH:$CL,ROW(),1),\". \",INDEX($B:$CE,ROW(),1),\" — [b]\")&IF(QNO=1,CONCATENATE(INDEX($B:$CE,ROW(),QNO*4+2),\"[/b] pts\"),CONCATENATE(INDEX($B:$CE,ROW(),QNO*4-2),\" + \",IF(INDEX($B:$CE,ROW(),QNO*4)=\"XX\",INDEX(Answers!$A:$ZZ,2,QNO*4),INDEX($B:$CE,ROW(),QNO*4)),\" = \",INDEX($B:$CE,ROW(),QNO*4+2),\"[/b] pts \",IF(INDEX($C:$CE,ROW(),QNO*4)>0,\"(penalty: +\"&INDEX($C:$CE,ROW(),QNO*4)&\") \",IF(INDEX($C:$CE,ROW(),QNO*4)<0,\"(bonus: \"&INDEX($C:$CE,ROW(),QNO*4)&\") \",\"\"))&\"[[b]\"&IF(CN46>0,\"[color=#00BF00]↑\"&CN46,IF(CN46<0,\"[color=#FF0000]↓\"&ABS(CN46),\"[color=#0000FF]unch\"))&\"[/b][/color]]\")))","v":"1.  — [b][/b] pts"},1,0]
["[*]",{"$f":"IF(Mainframe!B46=\"\",\"\",INDEX(Mainframe!$B:$B,C47+1,1))","v":""},45,{"$f":"IF($B47=\"\",\"\",UPPER(Mainframe!C46))","v":""},{"$f":"IF(D47=\"\",\"\",IF(NOT(ISNA(VLOOKUP(D47,Answers!A:D,4,FALSE))),VLOOKUP(D47,Answers!A:D,4,FALSE),\"Help!\"))","v":""},null,{"$f":"IF(E47=\"\",\"\",IF(E47=\"XX\",VLOOKUP(\"WRONG\",Answers!A:D,4,FALSE),E47)+F47)","v":""},{"$f":"IF($B47=\"\",\"\",UPPER(Mainframe!D46))","v":""},{"$f":"IF(H47=\"\",\"\",IF(NOT(ISNA(VLOOKUP(H47,Answers!E:H,4,FALSE))),VLOOKUP(H47,Answers!E:H,4,FALSE),\"Help!\"))","v":""},null,{"$f":"IF(I47=\"\",\"\",G47+IF(I47=\"XX\",VLOOKUP(\"WRONG\",Answers!E:H,4,FALSE),I47)+J47)","v":""},{"$f":"IF($B47=\"\",\"\",UPPER(Mainframe!E46))","v":""},{"$f":"IF(L47=\"\",\"\",IF(NOT(ISNA(VLOOKUP(L47,Answers!I:L,4,FALSE))),VLOOKUP(L47,Answers!I:L,4,FALSE),\"Help!\"))","v":""},null,{"$f":"IF(M47=\"\",\"\",K47+IF(M47=\"XX\",VLOOKUP(\"WRONG\",Answers!I:L,4,FALSE),M47)+N47)","v":""},{"$f":"IF($B47=\"\",\"\",UPPER(Mainframe!F46))","v":""},{"$f":"IF(P47=\"\",\"\",IF(NOT(ISNA(VLOOKUP(P47,Answers!M:P,4,FALSE))),VLOOKUP(P47,Answers!M:P,4,FALSE),\"Help!\"))","v":""},null,{"$f":"IF(Q47=\"\",\"\",O47+IF(Q47=\"XX\",VLOOKUP(\"WRONG\",Answers!M:P,4,FALSE),Q47)+R47)","v":""},{"$f":"IF($B47=\"\",\"\",UPPER(Mainframe!G46))","v":""},{"$f":"IF(T47=\"\",\"\",IF(NOT(ISNA(VLOOKUP(T47,Answers!Q:T,4,FALSE))),VLOOKUP(T47,Answers!Q:T,4,FALSE),\"Help!\"))","v":""},null,{"$f":"IF(U47=\"\",\"\",S47+IF(U47=\"XX\",VLOOKUP(\"WRONG\",Answers!Q:T,4,FALSE),U47)+V47)","v":""},{"$f":"IF($B47=\"\",\"\",UPPER(Mainframe!H46))","v":""},{"$f":"IF(X47=\"\",\"\",IF(NOT(ISNA(VLOOKUP(X47,Answers!U:X,4,FALSE))),VLOOKUP(X47,Answers!U:X,4,FALSE),\"Help!\"))","v":""},null,{"$f":"IF(Y47=\"\",\"\",W47+IF(Y47=\"XX\",VLOOKUP(\"WRONG\",Answers!U:X,4,FALSE),Y47)+Z47)","v":""},{"$f":"IF($B47=\"\",\"\",UPPER(Mainframe!I46))","v":""},{"$f":"IF(AB47=\"\",\"\",IF(NOT(ISNA(VLOOKUP(AB47,Answers!Y:AB,4,FALSE))),VLOOKUP(AB47,Answers!Y:AB,4,FALSE),\"Help!\"))","v":""},null,{"$f":"IF(AC47=\"\",\"\",AA47+IF(AC47=\"XX\",VLOOKUP(\"WRONG\",Answers!Y:AB,4,FALSE),AC47)+AD47)","v":""},{"$f":"IF($B47=\"\",\"\",UPPER(Mainframe!J46))","v":""},{"$f":"IF(AF47=\"\",\"\",IF(NOT(ISNA(VLOOKUP(AF47,Answers!AC:AF,4,FALSE))),VLOOKUP(AF47,Answers!AC:AF,4,FALSE),\"Help!\"))","v":""},null,{"$f":"IF(AG47=\"\",\"\",AE47+IF(AG47=\"XX\",VLOOKUP(\"WRONG\",Answers!AC:AF,4,FALSE),AG47)+AH47)","v":""},{"$f":"IF($B47=\"\",\"\",UPPER(Mainframe!K46))","v":""},{"$f":"IF(AJ47=\"\",\"\",IF(NOT(ISNA(VLOOKUP(AJ47,Answers!AG:AJ,4,FALSE))),VLOOKUP(AJ47,Answers!AG:AJ,4,FALSE),\"Help!\"))","v":""},null,{"$f":"IF(AK47=\"\",\"\",AI47+IF(AK47=\"XX\",VLOOKUP(\"WRONG\",Answers!AG:AJ,4,FALSE),AK47)+AL47)","v":""},{"$f":"IF($B47=\"\",\"\",UPPER(Mainframe!L46))","v":""},{"$f":"IF(AN47=\"\",\"\",IF(NOT(ISNA(VLOOKUP(AN47,Answers!AK:AN,4,FALSE))),VLOOKUP(AN47,Answers!AK:AN,4,FALSE),\"Help!\"))","v":""},null,{"$f":"IF(AO47=\"\",\"\",AM47+IF(AO47=\"XX\",VLOOKUP(\"WRONG\",Answers!AK:AN,4,FALSE),AO47)+AP47)","v":""},{"$f":"IF($B47=\"\",\"\",UPPER(Mainframe!M46))","v":""},{"$f":"IF(AR47=\"\",\"\",IF(NOT(ISNA(VLOOKUP(AR47,Answers!AO:AR,4,FALSE))),VLOOKUP(AR47,Answers!AO:AR,4,FALSE),\"Help!\"))","v":""},null,{"$f":"IF(AS47=\"\",\"\",AQ47+IF(AS47=\"XX\",VLOOKUP(\"WRONG\",Answers!AO:AR,4,FALSE),AS47)+AT47)","v":""},{"$f":"IF($B47=\"\",\"\",UPPER(Mainframe!N46))","v":""},{"$f":"IF(AV47=\"\",\"\",IF(NOT(ISNA(VLOOKUP(AV47,Answers!AS:AV,4,FALSE))),VLOOKUP(AV47,Answers!AS:AV,4,FALSE),\"Help!\"))","v":""},null,{"$f":"IF(AW47=\"\",\"\",AU47+IF(AW47=\"XX\",VLOOKUP(\"WRONG\",Answers!AS:AV,4,FALSE),AW47)+AX47)","v":""},{"$f":"IF($B47=\"\",\"\",UPPER(Mainframe!O46))","v":""},{"$f":"IF(AZ47=\"\",\"\",IF(NOT(ISNA(VLOOKUP(AZ47,Answers!AW:AZ,4,FALSE))),VLOOKUP(AZ47,Answers!AW:AZ,4,FALSE),\"Help!\"))","v":""},null,{"$f":"IF(BA47=\"\",\"\",AY47+IF(BA47=\"XX\",VLOOKUP(\"WRONG\",Answers!AW:AZ,4,FALSE),BA47)+BB47)","v":""},{"$f":"IF($B47=\"\",\"\",UPPER(Mainframe!P46))","v":""},{"$f":"IF(BD47=\"\",\"\",IF(NOT(ISNA(VLOOKUP(BD47,Answers!BA:BD,4,FALSE))),VLOOKUP(BD47,Answers!BA:BD,4,FALSE),\"Help!\"))","v":""},null,{"$f":"IF(BE47=\"\",\"\",BC47+IF(BE47=\"XX\",VLOOKUP(\"WRONG\",Answers!BA:BD,4,FALSE),BE47)+BF47)","v":""},{"$f":"IF($B47=\"\",\"\",UPPER(Mainframe!Q46))","v":""},{"$f":"IF(BH47=\"\",\"\",IF(NOT(ISNA(VLOOKUP(BH47,Answers!BE:BH,4,FALSE))),VLOOKUP(BH47,Answers!BE:BH,4,FALSE),\"Help!\"))","v":""},null,{"$f":"IF(BI47=\"\",\"\",BG47+IF(BI47=\"XX\",VLOOKUP(\"WRONG\",Answers!BE:BH,4,FALSE),BI47)+BJ47)","v":""},{"$f":"IF($B47=\"\",\"\",UPPER(Mainframe!R46))","v":""},{"$f":"IF(BL47=\"\",\"\",IF(NOT(ISNA(VLOOKUP(BL47,Answers!BI:BL,4,FALSE))),VLOOKUP(BL47,Answers!BI:BL,4,FALSE),\"Help!\"))","v":""},null,{"$f":"IF(BM47=\"\",\"\",BK47+IF(BM47=\"XX\",VLOOKUP(\"WRONG\",Answers!BI:BL,4,FALSE),BM47)+BN47)","v":""},{"$f":"IF($B47=\"\",\"\",UPPER(Mainframe!S46))","v":""},{"$f":"IF(BP47=\"\",\"\",IF(NOT(ISNA(VLOOKUP(BP47,Answers!BM:BP,4,FALSE))),VLOOKUP(BP47,Answers!BM:BP,4,FALSE),\"Help!\"))","v":""},null,{"$f":"IF(BQ47=\"\",\"\",BO47+IF(BQ47=\"XX\",VLOOKUP(\"WRONG\",Answers!BM:BP,4,FALSE),BQ47)+BR47)","v":""},{"$f":"IF($B47=\"\",\"\",UPPER(Mainframe!T46))","v":""},{"$f":"IF(BT47=\"\",\"\",IF(NOT(ISNA(VLOOKUP(BT47,Answers!BQ:BT,4,FALSE))),VLOOKUP(BT47,Answers!BQ:BT,4,FALSE),\"Help!\"))","v":""},null,{"$f":"IF(BU47=\"\",\"\",BS47+IF(BU47=\"XX\",VLOOKUP(\"WRONG\",Answers!BQ:BT,4,FALSE),BU47)+BV47)","v":""},{"$f":"IF($B47=\"\",\"\",UPPER(Mainframe!U46))","v":""},{"$f":"IF(BX47=\"\",\"\",IF(NOT(ISNA(VLOOKUP(BX47,Answers!BU:BX,4,FALSE))),VLOOKUP(BX47,Answers!BU:BX,4,FALSE),\"Help!\"))","v":""},null,{"$f":"IF(BY47=\"\",\"\",BW47+IF(BY47=\"XX\",VLOOKUP(\"WRONG\",Answers!BU:BX,4,FALSE),BY47)+BZ47)","v":""},{"$f":"IF($B47=\"\",\"\",UPPER(Mainframe!V46))","v":""},{"$f":"IF(CB47=\"\",\"\",IF(NOT(ISNA(VLOOKUP(CB47,Answers!BY:CB,4,FALSE))),VLOOKUP(CB47,Answers!BY:CB,4,FALSE),\"Help!\"))","v":""},null,{"$f":"IF(CC47=\"\",\"\",CA47+IF(CC47=\"XX\",VLOOKUP(\"WRONG\",Answers!BY:CB,4,FALSE),CC47)+CD47)","v":""},null,null,1,{"$f":"IF(INDEX($B:$CE,ROW(),QNO*4-1)=DROPNAME,DROPNAME,IF(INDEX($B:$CE,ROW(),QNO*4-1)=SHEEPNAME,SHEEPNAME,IF(INDEX($B:$CE,ROW(),QNO*4)=\"XX\",INDEX($B:$CE,ROW(),QNO*4-1),INDEX(OFFSET(Answers!B:B,0,(QNO-1)*4),MATCH(INDEX($A:$CB,ROW(),QNO*4),OFFSET(Answers!A:A,0,(QNO-1)*4),0))&\" — \"&IF(INDEX($B:$CE,ROW(),QNO*4)=1,\"[b]Singleton![/b]\",CONCATENATE(INDEX($B:$CE,ROW(),QNO*4),\" responses\")))))","v":{"$error":"#N/A"}},"////////////////////////////////////////////////////////////////////////////////////////////////////////////////////////////////////////////////////////////////////////","No",{"$f":"IF(B47=0,\"\",CONCATENATE(INDEX($CH:$CL,ROW(),1),\". \",INDEX($B:$CE,ROW(),1),\" — [b]\")&IF(QNO=1,CONCATENATE(INDEX($B:$CE,ROW(),QNO*4+2),\"[/b] pts\"),CONCATENATE(INDEX($B:$CE,ROW(),QNO*4-2),\" + \",IF(INDEX($B:$CE,ROW(),QNO*4)=\"XX\",INDEX(Answers!$A:$ZZ,2,QNO*4),INDEX($B:$CE,ROW(),QNO*4)),\" = \",INDEX($B:$CE,ROW(),QNO*4+2),\"[/b] pts \",IF(INDEX($C:$CE,ROW(),QNO*4)>0,\"(penalty: +\"&INDEX($C:$CE,ROW(),QNO*4)&\") \",IF(INDEX($C:$CE,ROW(),QNO*4)<0,\"(bonus: \"&INDEX($C:$CE,ROW(),QNO*4)&\") \",\"\"))&\"[[b]\"&IF(CN47>0,\"[color=#00BF00]↑\"&CN47,IF(CN47<0,\"[color=#FF0000]↓\"&ABS(CN47),\"[color=#0000FF]unch\"))&\"[/b][/color]]\")))","v":"1.  — [b][/b] pts"},1,0]
["[*]",{"$f":"IF(Mainframe!B47=\"\",\"\",INDEX(Mainframe!$B:$B,C48+1,1))","v":""},46,{"$f":"IF($B48=\"\",\"\",UPPER(Mainframe!C47))","v":""},{"$f":"IF(D48=\"\",\"\",IF(NOT(ISNA(VLOOKUP(D48,Answers!A:D,4,FALSE))),VLOOKUP(D48,Answers!A:D,4,FALSE),\"Help!\"))","v":""},null,{"$f":"IF(E48=\"\",\"\",IF(E48=\"XX\",VLOOKUP(\"WRONG\",Answers!A:D,4,FALSE),E48)+F48)","v":""},{"$f":"IF($B48=\"\",\"\",UPPER(Mainframe!D47))","v":""},{"$f":"IF(H48=\"\",\"\",IF(NOT(ISNA(VLOOKUP(H48,Answers!E:H,4,FALSE))),VLOOKUP(H48,Answers!E:H,4,FALSE),\"Help!\"))","v":""},null,{"$f":"IF(I48=\"\",\"\",G48+IF(I48=\"XX\",VLOOKUP(\"WRONG\",Answers!E:H,4,FALSE),I48)+J48)","v":""},{"$f":"IF($B48=\"\",\"\",UPPER(Mainframe!E47))","v":""},{"$f":"IF(L48=\"\",\"\",IF(NOT(ISNA(VLOOKUP(L48,Answers!I:L,4,FALSE))),VLOOKUP(L48,Answers!I:L,4,FALSE),\"Help!\"))","v":""},null,{"$f":"IF(M48=\"\",\"\",K48+IF(M48=\"XX\",VLOOKUP(\"WRONG\",Answers!I:L,4,FALSE),M48)+N48)","v":""},{"$f":"IF($B48=\"\",\"\",UPPER(Mainframe!F47))","v":""},{"$f":"IF(P48=\"\",\"\",IF(NOT(ISNA(VLOOKUP(P48,Answers!M:P,4,FALSE))),VLOOKUP(P48,Answers!M:P,4,FALSE),\"Help!\"))","v":""},null,{"$f":"IF(Q48=\"\",\"\",O48+IF(Q48=\"XX\",VLOOKUP(\"WRONG\",Answers!M:P,4,FALSE),Q48)+R48)","v":""},{"$f":"IF($B48=\"\",\"\",UPPER(Mainframe!G47))","v":""},{"$f":"IF(T48=\"\",\"\",IF(NOT(ISNA(VLOOKUP(T48,Answers!Q:T,4,FALSE))),VLOOKUP(T48,Answers!Q:T,4,FALSE),\"Help!\"))","v":""},null,{"$f":"IF(U48=\"\",\"\",S48+IF(U48=\"XX\",VLOOKUP(\"WRONG\",Answers!Q:T,4,FALSE),U48)+V48)","v":""},{"$f":"IF($B48=\"\",\"\",UPPER(Mainframe!H47))","v":""},{"$f":"IF(X48=\"\",\"\",IF(NOT(ISNA(VLOOKUP(X48,Answers!U:X,4,FALSE))),VLOOKUP(X48,Answers!U:X,4,FALSE),\"Help!\"))","v":""},null,{"$f":"IF(Y48=\"\",\"\",W48+IF(Y48=\"XX\",VLOOKUP(\"WRONG\",Answers!U:X,4,FALSE),Y48)+Z48)","v":""},{"$f":"IF($B48=\"\",\"\",UPPER(Mainframe!I47))","v":""},{"$f":"IF(AB48=\"\",\"\",IF(NOT(ISNA(VLOOKUP(AB48,Answers!Y:AB,4,FALSE))),VLOOKUP(AB48,Answers!Y:AB,4,FALSE),\"Help!\"))","v":""},null,{"$f":"IF(AC48=\"\",\"\",AA48+IF(AC48=\"XX\",VLOOKUP(\"WRONG\",Answers!Y:AB,4,FALSE),AC48)+AD48)","v":""},{"$f":"IF($B48=\"\",\"\",UPPER(Mainframe!J47))","v":""},{"$f":"IF(AF48=\"\",\"\",IF(NOT(ISNA(VLOOKUP(AF48,Answers!AC:AF,4,FALSE))),VLOOKUP(AF48,Answers!AC:AF,4,FALSE),\"Help!\"))","v":""},null,{"$f":"IF(AG48=\"\",\"\",AE48+IF(AG48=\"XX\",VLOOKUP(\"WRONG\",Answers!AC:AF,4,FALSE),AG48)+AH48)","v":""},{"$f":"IF($B48=\"\",\"\",UPPER(Mainframe!K47))","v":""},{"$f":"IF(AJ48=\"\",\"\",IF(NOT(ISNA(VLOOKUP(AJ48,Answers!AG:AJ,4,FALSE))),VLOOKUP(AJ48,Answers!AG:AJ,4,FALSE),\"Help!\"))","v":""},null,{"$f":"IF(AK48=\"\",\"\",AI48+IF(AK48=\"XX\",VLOOKUP(\"WRONG\",Answers!AG:AJ,4,FALSE),AK48)+AL48)","v":""},{"$f":"IF($B48=\"\",\"\",UPPER(Mainframe!L47))","v":""},{"$f":"IF(AN48=\"\",\"\",IF(NOT(ISNA(VLOOKUP(AN48,Answers!AK:AN,4,FALSE))),VLOOKUP(AN48,Answers!AK:AN,4,FALSE),\"Help!\"))","v":""},null,{"$f":"IF(AO48=\"\",\"\",AM48+IF(AO48=\"XX\",VLOOKUP(\"WRONG\",Answers!AK:AN,4,FALSE),AO48)+AP48)","v":""},{"$f":"IF($B48=\"\",\"\",UPPER(Mainframe!M47))","v":""},{"$f":"IF(AR48=\"\",\"\",IF(NOT(ISNA(VLOOKUP(AR48,Answers!AO:AR,4,FALSE))),VLOOKUP(AR48,Answers!AO:AR,4,FALSE),\"Help!\"))","v":""},null,{"$f":"IF(AS48=\"\",\"\",AQ48+IF(AS48=\"XX\",VLOOKUP(\"WRONG\",Answers!AO:AR,4,FALSE),AS48)+AT48)","v":""},{"$f":"IF($B48=\"\",\"\",UPPER(Mainframe!N47))","v":""},{"$f":"IF(AV48=\"\",\"\",IF(NOT(ISNA(VLOOKUP(AV48,Answers!AS:AV,4,FALSE))),VLOOKUP(AV48,Answers!AS:AV,4,FALSE),\"Help!\"))","v":""},null,{"$f":"IF(AW48=\"\",\"\",AU48+IF(AW48=\"XX\",VLOOKUP(\"WRONG\",Answers!AS:AV,4,FALSE),AW48)+AX48)","v":""},{"$f":"IF($B48=\"\",\"\",UPPER(Mainframe!O47))","v":""},{"$f":"IF(AZ48=\"\",\"\",IF(NOT(ISNA(VLOOKUP(AZ48,Answers!AW:AZ,4,FALSE))),VLOOKUP(AZ48,Answers!AW:AZ,4,FALSE),\"Help!\"))","v":""},null,{"$f":"IF(BA48=\"\",\"\",AY48+IF(BA48=\"XX\",VLOOKUP(\"WRONG\",Answers!AW:AZ,4,FALSE),BA48)+BB48)","v":""},{"$f":"IF($B48=\"\",\"\",UPPER(Mainframe!P47))","v":""},{"$f":"IF(BD48=\"\",\"\",IF(NOT(ISNA(VLOOKUP(BD48,Answers!BA:BD,4,FALSE))),VLOOKUP(BD48,Answers!BA:BD,4,FALSE),\"Help!\"))","v":""},null,{"$f":"IF(BE48=\"\",\"\",BC48+IF(BE48=\"XX\",VLOOKUP(\"WRONG\",Answers!BA:BD,4,FALSE),BE48)+BF48)","v":""},{"$f":"IF($B48=\"\",\"\",UPPER(Mainframe!Q47))","v":""},{"$f":"IF(BH48=\"\",\"\",IF(NOT(ISNA(VLOOKUP(BH48,Answers!BE:BH,4,FALSE))),VLOOKUP(BH48,Answers!BE:BH,4,FALSE),\"Help!\"))","v":""},null,{"$f":"IF(BI48=\"\",\"\",BG48+IF(BI48=\"XX\",VLOOKUP(\"WRONG\",Answers!BE:BH,4,FALSE),BI48)+BJ48)","v":""},{"$f":"IF($B48=\"\",\"\",UPPER(Mainframe!R47))","v":""},{"$f":"IF(BL48=\"\",\"\",IF(NOT(ISNA(VLOOKUP(BL48,Answers!BI:BL,4,FALSE))),VLOOKUP(BL48,Answers!BI:BL,4,FALSE),\"Help!\"))","v":""},null,{"$f":"IF(BM48=\"\",\"\",BK48+IF(BM48=\"XX\",VLOOKUP(\"WRONG\",Answers!BI:BL,4,FALSE),BM48)+BN48)","v":""},{"$f":"IF($B48=\"\",\"\",UPPER(Mainframe!S47))","v":""},{"$f":"IF(BP48=\"\",\"\",IF(NOT(ISNA(VLOOKUP(BP48,Answers!BM:BP,4,FALSE))),VLOOKUP(BP48,Answers!BM:BP,4,FALSE),\"Help!\"))","v":""},null,{"$f":"IF(BQ48=\"\",\"\",BO48+IF(BQ48=\"XX\",VLOOKUP(\"WRONG\",Answers!BM:BP,4,FALSE),BQ48)+BR48)","v":""},{"$f":"IF($B48=\"\",\"\",UPPER(Mainframe!T47))","v":""},{"$f":"IF(BT48=\"\",\"\",IF(NOT(ISNA(VLOOKUP(BT48,Answers!BQ:BT,4,FALSE))),VLOOKUP(BT48,Answers!BQ:BT,4,FALSE),\"Help!\"))","v":""},null,{"$f":"IF(BU48=\"\",\"\",BS48+IF(BU48=\"XX\",VLOOKUP(\"WRONG\",Answers!BQ:BT,4,FALSE),BU48)+BV48)","v":""},{"$f":"IF($B48=\"\",\"\",UPPER(Mainframe!U47))","v":""},{"$f":"IF(BX48=\"\",\"\",IF(NOT(ISNA(VLOOKUP(BX48,Answers!BU:BX,4,FALSE))),VLOOKUP(BX48,Answers!BU:BX,4,FALSE),\"Help!\"))","v":""},null,{"$f":"IF(BY48=\"\",\"\",BW48+IF(BY48=\"XX\",VLOOKUP(\"WRONG\",Answers!BU:BX,4,FALSE),BY48)+BZ48)","v":""},{"$f":"IF($B48=\"\",\"\",UPPER(Mainframe!V47))","v":""},{"$f":"IF(CB48=\"\",\"\",IF(NOT(ISNA(VLOOKUP(CB48,Answers!BY:CB,4,FALSE))),VLOOKUP(CB48,Answers!BY:CB,4,FALSE),\"Help!\"))","v":""},null,{"$f":"IF(CC48=\"\",\"\",CA48+IF(CC48=\"XX\",VLOOKUP(\"WRONG\",Answers!BY:CB,4,FALSE),CC48)+CD48)","v":""},null,null,1,{"$f":"IF(INDEX($B:$CE,ROW(),QNO*4-1)=DROPNAME,DROPNAME,IF(INDEX($B:$CE,ROW(),QNO*4-1)=SHEEPNAME,SHEEPNAME,IF(INDEX($B:$CE,ROW(),QNO*4)=\"XX\",INDEX($B:$CE,ROW(),QNO*4-1),INDEX(OFFSET(Answers!B:B,0,(QNO-1)*4),MATCH(INDEX($A:$CB,ROW(),QNO*4),OFFSET(Answers!A:A,0,(QNO-1)*4),0))&\" — \"&IF(INDEX($B:$CE,ROW(),QNO*4)=1,\"[b]Singleton![/b]\",CONCATENATE(INDEX($B:$CE,ROW(),QNO*4),\" responses\")))))","v":{"$error":"#N/A"}},"//////////////////////////////////////////////////////////////////////////////////////////////////////////////////////////////////////////////////////////////////////","No",{"$f":"IF(B48=0,\"\",CONCATENATE(INDEX($CH:$CL,ROW(),1),\". \",INDEX($B:$CE,ROW(),1),\" — [b]\")&IF(QNO=1,CONCATENATE(INDEX($B:$CE,ROW(),QNO*4+2),\"[/b] pts\"),CONCATENATE(INDEX($B:$CE,ROW(),QNO*4-2),\" + \",IF(INDEX($B:$CE,ROW(),QNO*4)=\"XX\",INDEX(Answers!$A:$ZZ,2,QNO*4),INDEX($B:$CE,ROW(),QNO*4)),\" = \",INDEX($B:$CE,ROW(),QNO*4+2),\"[/b] pts \",IF(INDEX($C:$CE,ROW(),QNO*4)>0,\"(penalty: +\"&INDEX($C:$CE,ROW(),QNO*4)&\") \",IF(INDEX($C:$CE,ROW(),QNO*4)<0,\"(bonus: \"&INDEX($C:$CE,ROW(),QNO*4)&\") \",\"\"))&\"[[b]\"&IF(CN48>0,\"[color=#00BF00]↑\"&CN48,IF(CN48<0,\"[color=#FF0000]↓\"&ABS(CN48),\"[color=#0000FF]unch\"))&\"[/b][/color]]\")))","v":"1.  — [b][/b] pts"},1,0]
["[*]",{"$f":"IF(Mainframe!B48=\"\",\"\",INDEX(Mainframe!$B:$B,C49+1,1))","v":""},47,{"$f":"IF($B49=\"\",\"\",UPPER(Mainframe!C48))","v":""},{"$f":"IF(D49=\"\",\"\",IF(NOT(ISNA(VLOOKUP(D49,Answers!A:D,4,FALSE))),VLOOKUP(D49,Answers!A:D,4,FALSE),\"Help!\"))","v":""},null,{"$f":"IF(E49=\"\",\"\",IF(E49=\"XX\",VLOOKUP(\"WRONG\",Answers!A:D,4,FALSE),E49)+F49)","v":""},{"$f":"IF($B49=\"\",\"\",UPPER(Mainframe!D48))","v":""},{"$f":"IF(H49=\"\",\"\",IF(NOT(ISNA(VLOOKUP(H49,Answers!E:H,4,FALSE))),VLOOKUP(H49,Answers!E:H,4,FALSE),\"Help!\"))","v":""},null,{"$f":"IF(I49=\"\",\"\",G49+IF(I49=\"XX\",VLOOKUP(\"WRONG\",Answers!E:H,4,FALSE),I49)+J49)","v":""},{"$f":"IF($B49=\"\",\"\",UPPER(Mainframe!E48))","v":""},{"$f":"IF(L49=\"\",\"\",IF(NOT(ISNA(VLOOKUP(L49,Answers!I:L,4,FALSE))),VLOOKUP(L49,Answers!I:L,4,FALSE),\"Help!\"))","v":""},null,{"$f":"IF(M49=\"\",\"\",K49+IF(M49=\"XX\",VLOOKUP(\"WRONG\",Answers!I:L,4,FALSE),M49)+N49)","v":""},{"$f":"IF($B49=\"\",\"\",UPPER(Mainframe!F48))","v":""},{"$f":"IF(P49=\"\",\"\",IF(NOT(ISNA(VLOOKUP(P49,Answers!M:P,4,FALSE))),VLOOKUP(P49,Answers!M:P,4,FALSE),\"Help!\"))","v":""},null,{"$f":"IF(Q49=\"\",\"\",O49+IF(Q49=\"XX\",VLOOKUP(\"WRONG\",Answers!M:P,4,FALSE),Q49)+R49)","v":""},{"$f":"IF($B49=\"\",\"\",UPPER(Mainframe!G48))","v":""},{"$f":"IF(T49=\"\",\"\",IF(NOT(ISNA(VLOOKUP(T49,Answers!Q:T,4,FALSE))),VLOOKUP(T49,Answers!Q:T,4,FALSE),\"Help!\"))","v":""},null,{"$f":"IF(U49=\"\",\"\",S49+IF(U49=\"XX\",VLOOKUP(\"WRONG\",Answers!Q:T,4,FALSE),U49)+V49)","v":""},{"$f":"IF($B49=\"\",\"\",UPPER(Mainframe!H48))","v":""},{"$f":"IF(X49=\"\",\"\",IF(NOT(ISNA(VLOOKUP(X49,Answers!U:X,4,FALSE))),VLOOKUP(X49,Answers!U:X,4,FALSE),\"Help!\"))","v":""},null,{"$f":"IF(Y49=\"\",\"\",W49+IF(Y49=\"XX\",VLOOKUP(\"WRONG\",Answers!U:X,4,FALSE),Y49)+Z49)","v":""},{"$f":"IF($B49=\"\",\"\",UPPER(Mainframe!I48))","v":""},{"$f":"IF(AB49=\"\",\"\",IF(NOT(ISNA(VLOOKUP(AB49,Answers!Y:AB,4,FALSE))),VLOOKUP(AB49,Answers!Y:AB,4,FALSE),\"Help!\"))","v":""},null,{"$f":"IF(AC49=\"\",\"\",AA49+IF(AC49=\"XX\",VLOOKUP(\"WRONG\",Answers!Y:AB,4,FALSE),AC49)+AD49)","v":""},{"$f":"IF($B49=\"\",\"\",UPPER(Mainframe!J48))","v":""},{"$f":"IF(AF49=\"\",\"\",IF(NOT(ISNA(VLOOKUP(AF49,Answers!AC:AF,4,FALSE))),VLOOKUP(AF49,Answers!AC:AF,4,FALSE),\"Help!\"))","v":""},null,{"$f":"IF(AG49=\"\",\"\",AE49+IF(AG49=\"XX\",VLOOKUP(\"WRONG\",Answers!AC:AF,4,FALSE),AG49)+AH49)","v":""},{"$f":"IF($B49=\"\",\"\",UPPER(Mainframe!K48))","v":""},{"$f":"IF(AJ49=\"\",\"\",IF(NOT(ISNA(VLOOKUP(AJ49,Answers!AG:AJ,4,FALSE))),VLOOKUP(AJ49,Answers!AG:AJ,4,FALSE),\"Help!\"))","v":""},null,{"$f":"IF(AK49=\"\",\"\",AI49+IF(AK49=\"XX\",VLOOKUP(\"WRONG\",Answers!AG:AJ,4,FALSE),AK49)+AL49)","v":""},{"$f":"IF($B49=\"\",\"\",UPPER(Mainframe!L48))","v":""},{"$f":"IF(AN49=\"\",\"\",IF(NOT(ISNA(VLOOKUP(AN49,Answers!AK:AN,4,FALSE))),VLOOKUP(AN49,Answers!AK:AN,4,FALSE),\"Help!\"))","v":""},null,{"$f":"IF(AO49=\"\",\"\",AM49+IF(AO49=\"XX\",VLOOKUP(\"WRONG\",Answers!AK:AN,4,FALSE),AO49)+AP49)","v":""},{"$f":"IF($B49=\"\",\"\",UPPER(Mainframe!M48))","v":""},{"$f":"IF(AR49=\"\",\"\",IF(NOT(ISNA(VLOOKUP(AR49,Answers!AO:AR,4,FALSE))),VLOOKUP(AR49,Answers!AO:AR,4,FALSE),\"Help!\"))","v":""},null,{"$f":"IF(AS49=\"\",\"\",AQ49+IF(AS49=\"XX\",VLOOKUP(\"WRONG\",Answers!AO:AR,4,FALSE),AS49)+AT49)","v":""},{"$f":"IF($B49=\"\",\"\",UPPER(Mainframe!N48))","v":""},{"$f":"IF(AV49=\"\",\"\",IF(NOT(ISNA(VLOOKUP(AV49,Answers!AS:AV,4,FALSE))),VLOOKUP(AV49,Answers!AS:AV,4,FALSE),\"Help!\"))","v":""},null,{"$f":"IF(AW49=\"\",\"\",AU49+IF(AW49=\"XX\",VLOOKUP(\"WRONG\",Answers!AS:AV,4,FALSE),AW49)+AX49)","v":""},{"$f":"IF($B49=\"\",\"\",UPPER(Mainframe!O48))","v":""},{"$f":"IF(AZ49=\"\",\"\",IF(NOT(ISNA(VLOOKUP(AZ49,Answers!AW:AZ,4,FALSE))),VLOOKUP(AZ49,Answers!AW:AZ,4,FALSE),\"Help!\"))","v":""},null,{"$f":"IF(BA49=\"\",\"\",AY49+IF(BA49=\"XX\",VLOOKUP(\"WRONG\",Answers!AW:AZ,4,FALSE),BA49)+BB49)","v":""},{"$f":"IF($B49=\"\",\"\",UPPER(Mainframe!P48))","v":""},{"$f":"IF(BD49=\"\",\"\",IF(NOT(ISNA(VLOOKUP(BD49,Answers!BA:BD,4,FALSE))),VLOOKUP(BD49,Answers!BA:BD,4,FALSE),\"Help!\"))","v":""},null,{"$f":"IF(BE49=\"\",\"\",BC49+IF(BE49=\"XX\",VLOOKUP(\"WRONG\",Answers!BA:BD,4,FALSE),BE49)+BF49)","v":""},{"$f":"IF($B49=\"\",\"\",UPPER(Mainframe!Q48))","v":""},{"$f":"IF(BH49=\"\",\"\",IF(NOT(ISNA(VLOOKUP(BH49,Answers!BE:BH,4,FALSE))),VLOOKUP(BH49,Answers!BE:BH,4,FALSE),\"Help!\"))","v":""},null,{"$f":"IF(BI49=\"\",\"\",BG49+IF(BI49=\"XX\",VLOOKUP(\"WRONG\",Answers!BE:BH,4,FALSE),BI49)+BJ49)","v":""},{"$f":"IF($B49=\"\",\"\",UPPER(Mainframe!R48))","v":""},{"$f":"IF(BL49=\"\",\"\",IF(NOT(ISNA(VLOOKUP(BL49,Answers!BI:BL,4,FALSE))),VLOOKUP(BL49,Answers!BI:BL,4,FALSE),\"Help!\"))","v":""},null,{"$f":"IF(BM49=\"\",\"\",BK49+IF(BM49=\"XX\",VLOOKUP(\"WRONG\",Answers!BI:BL,4,FALSE),BM49)+BN49)","v":""},{"$f":"IF($B49=\"\",\"\",UPPER(Mainframe!S48))","v":""},{"$f":"IF(BP49=\"\",\"\",IF(NOT(ISNA(VLOOKUP(BP49,Answers!BM:BP,4,FALSE))),VLOOKUP(BP49,Answers!BM:BP,4,FALSE),\"Help!\"))","v":""},null,{"$f":"IF(BQ49=\"\",\"\",BO49+IF(BQ49=\"XX\",VLOOKUP(\"WRONG\",Answers!BM:BP,4,FALSE),BQ49)+BR49)","v":""},{"$f":"IF($B49=\"\",\"\",UPPER(Mainframe!T48))","v":""},{"$f":"IF(BT49=\"\",\"\",IF(NOT(ISNA(VLOOKUP(BT49,Answers!BQ:BT,4,FALSE))),VLOOKUP(BT49,Answers!BQ:BT,4,FALSE),\"Help!\"))","v":""},null,{"$f":"IF(BU49=\"\",\"\",BS49+IF(BU49=\"XX\",VLOOKUP(\"WRONG\",Answers!BQ:BT,4,FALSE),BU49)+BV49)","v":""},{"$f":"IF($B49=\"\",\"\",UPPER(Mainframe!U48))","v":""},{"$f":"IF(BX49=\"\",\"\",IF(NOT(ISNA(VLOOKUP(BX49,Answers!BU:BX,4,FALSE))),VLOOKUP(BX49,Answers!BU:BX,4,FALSE),\"Help!\"))","v":""},null,{"$f":"IF(BY49=\"\",\"\",BW49+IF(BY49=\"XX\",VLOOKUP(\"WRONG\",Answers!BU:BX,4,FALSE),BY49)+BZ49)","v":""},{"$f":"IF($B49=\"\",\"\",UPPER(Mainframe!V48))","v":""},{"$f":"IF(CB49=\"\",\"\",IF(NOT(ISNA(VLOOKUP(CB49,Answers!BY:CB,4,FALSE))),VLOOKUP(CB49,Answers!BY:CB,4,FALSE),\"Help!\"))","v":""},null,{"$f":"IF(CC49=\"\",\"\",CA49+IF(CC49=\"XX\",VLOOKUP(\"WRONG\",Answers!BY:CB,4,FALSE),CC49)+CD49)","v":""},null,null,1,{"$f":"IF(INDEX($B:$CE,ROW(),QNO*4-1)=DROPNAME,DROPNAME,IF(INDEX($B:$CE,ROW(),QNO*4-1)=SHEEPNAME,SHEEPNAME,IF(INDEX($B:$CE,ROW(),QNO*4)=\"XX\",INDEX($B:$CE,ROW(),QNO*4-1),INDEX(OFFSET(Answers!B:B,0,(QNO-1)*4),MATCH(INDEX($A:$CB,ROW(),QNO*4),OFFSET(Answers!A:A,0,(QNO-1)*4),0))&\" — \"&IF(INDEX($B:$CE,ROW(),QNO*4)=1,\"[b]Singleton![/b]\",CONCATENATE(INDEX($B:$CE,ROW(),QNO*4),\" responses\")))))","v":{"$error":"#N/A"}},"////////////////////////////////////////////////////////////////////////////////////////////////////////////////////////////////////////////////////////////////////","No",{"$f":"IF(B49=0,\"\",CONCATENATE(INDEX($CH:$CL,ROW(),1),\". \",INDEX($B:$CE,ROW(),1),\" — [b]\")&IF(QNO=1,CONCATENATE(INDEX($B:$CE,ROW(),QNO*4+2),\"[/b] pts\"),CONCATENATE(INDEX($B:$CE,ROW(),QNO*4-2),\" + \",IF(INDEX($B:$CE,ROW(),QNO*4)=\"XX\",INDEX(Answers!$A:$ZZ,2,QNO*4),INDEX($B:$CE,ROW(),QNO*4)),\" = \",INDEX($B:$CE,ROW(),QNO*4+2),\"[/b] pts \",IF(INDEX($C:$CE,ROW(),QNO*4)>0,\"(penalty: +\"&INDEX($C:$CE,ROW(),QNO*4)&\") \",IF(INDEX($C:$CE,ROW(),QNO*4)<0,\"(bonus: \"&INDEX($C:$CE,ROW(),QNO*4)&\") \",\"\"))&\"[[b]\"&IF(CN49>0,\"[color=#00BF00]↑\"&CN49,IF(CN49<0,\"[color=#FF0000]↓\"&ABS(CN49),\"[color=#0000FF]unch\"))&\"[/b][/color]]\")))","v":"1.  — [b][/b] pts"},1,0]
["[*]",{"$f":"IF(Mainframe!B49=\"\",\"\",INDEX(Mainframe!$B:$B,C50+1,1))","v":""},48,{"$f":"IF($B50=\"\",\"\",UPPER(Mainframe!C49))","v":""},{"$f":"IF(D50=\"\",\"\",IF(NOT(ISNA(VLOOKUP(D50,Answers!A:D,4,FALSE))),VLOOKUP(D50,Answers!A:D,4,FALSE),\"Help!\"))","v":""},null,{"$f":"IF(E50=\"\",\"\",IF(E50=\"XX\",VLOOKUP(\"WRONG\",Answers!A:D,4,FALSE),E50)+F50)","v":""},{"$f":"IF($B50=\"\",\"\",UPPER(Mainframe!D49))","v":""},{"$f":"IF(H50=\"\",\"\",IF(NOT(ISNA(VLOOKUP(H50,Answers!E:H,4,FALSE))),VLOOKUP(H50,Answers!E:H,4,FALSE),\"Help!\"))","v":""},null,{"$f":"IF(I50=\"\",\"\",G50+IF(I50=\"XX\",VLOOKUP(\"WRONG\",Answers!E:H,4,FALSE),I50)+J50)","v":""},{"$f":"IF($B50=\"\",\"\",UPPER(Mainframe!E49))","v":""},{"$f":"IF(L50=\"\",\"\",IF(NOT(ISNA(VLOOKUP(L50,Answers!I:L,4,FALSE))),VLOOKUP(L50,Answers!I:L,4,FALSE),\"Help!\"))","v":""},null,{"$f":"IF(M50=\"\",\"\",K50+IF(M50=\"XX\",VLOOKUP(\"WRONG\",Answers!I:L,4,FALSE),M50)+N50)","v":""},{"$f":"IF($B50=\"\",\"\",UPPER(Mainframe!F49))","v":""},{"$f":"IF(P50=\"\",\"\",IF(NOT(ISNA(VLOOKUP(P50,Answers!M:P,4,FALSE))),VLOOKUP(P50,Answers!M:P,4,FALSE),\"Help!\"))","v":""},null,{"$f":"IF(Q50=\"\",\"\",O50+IF(Q50=\"XX\",VLOOKUP(\"WRONG\",Answers!M:P,4,FALSE),Q50)+R50)","v":""},{"$f":"IF($B50=\"\",\"\",UPPER(Mainframe!G49))","v":""},{"$f":"IF(T50=\"\",\"\",IF(NOT(ISNA(VLOOKUP(T50,Answers!Q:T,4,FALSE))),VLOOKUP(T50,Answers!Q:T,4,FALSE),\"Help!\"))","v":""},null,{"$f":"IF(U50=\"\",\"\",S50+IF(U50=\"XX\",VLOOKUP(\"WRONG\",Answers!Q:T,4,FALSE),U50)+V50)","v":""},{"$f":"IF($B50=\"\",\"\",UPPER(Mainframe!H49))","v":""},{"$f":"IF(X50=\"\",\"\",IF(NOT(ISNA(VLOOKUP(X50,Answers!U:X,4,FALSE))),VLOOKUP(X50,Answers!U:X,4,FALSE),\"Help!\"))","v":""},null,{"$f":"IF(Y50=\"\",\"\",W50+IF(Y50=\"XX\",VLOOKUP(\"WRONG\",Answers!U:X,4,FALSE),Y50)+Z50)","v":""},{"$f":"IF($B50=\"\",\"\",UPPER(Mainframe!I49))","v":""},{"$f":"IF(AB50=\"\",\"\",IF(NOT(ISNA(VLOOKUP(AB50,Answers!Y:AB,4,FALSE))),VLOOKUP(AB50,Answers!Y:AB,4,FALSE),\"Help!\"))","v":""},null,{"$f":"IF(AC50=\"\",\"\",AA50+IF(AC50=\"XX\",VLOOKUP(\"WRONG\",Answers!Y:AB,4,FALSE),AC50)+AD50)","v":""},{"$f":"IF($B50=\"\",\"\",UPPER(Mainframe!J49))","v":""},{"$f":"IF(AF50=\"\",\"\",IF(NOT(ISNA(VLOOKUP(AF50,Answers!AC:AF,4,FALSE))),VLOOKUP(AF50,Answers!AC:AF,4,FALSE),\"Help!\"))","v":""},null,{"$f":"IF(AG50=\"\",\"\",AE50+IF(AG50=\"XX\",VLOOKUP(\"WRONG\",Answers!AC:AF,4,FALSE),AG50)+AH50)","v":""},{"$f":"IF($B50=\"\",\"\",UPPER(Mainframe!K49))","v":""},{"$f":"IF(AJ50=\"\",\"\",IF(NOT(ISNA(VLOOKUP(AJ50,Answers!AG:AJ,4,FALSE))),VLOOKUP(AJ50,Answers!AG:AJ,4,FALSE),\"Help!\"))","v":""},null,{"$f":"IF(AK50=\"\",\"\",AI50+IF(AK50=\"XX\",VLOOKUP(\"WRONG\",Answers!AG:AJ,4,FALSE),AK50)+AL50)","v":""},{"$f":"IF($B50=\"\",\"\",UPPER(Mainframe!L49))","v":""},{"$f":"IF(AN50=\"\",\"\",IF(NOT(ISNA(VLOOKUP(AN50,Answers!AK:AN,4,FALSE))),VLOOKUP(AN50,Answers!AK:AN,4,FALSE),\"Help!\"))","v":""},null,{"$f":"IF(AO50=\"\",\"\",AM50+IF(AO50=\"XX\",VLOOKUP(\"WRONG\",Answers!AK:AN,4,FALSE),AO50)+AP50)","v":""},{"$f":"IF($B50=\"\",\"\",UPPER(Mainframe!M49))","v":""},{"$f":"IF(AR50=\"\",\"\",IF(NOT(ISNA(VLOOKUP(AR50,Answers!AO:AR,4,FALSE))),VLOOKUP(AR50,Answers!AO:AR,4,FALSE),\"Help!\"))","v":""},null,{"$f":"IF(AS50=\"\",\"\",AQ50+IF(AS50=\"XX\",VLOOKUP(\"WRONG\",Answers!AO:AR,4,FALSE),AS50)+AT50)","v":""},{"$f":"IF($B50=\"\",\"\",UPPER(Mainframe!N49))","v":""},{"$f":"IF(AV50=\"\",\"\",IF(NOT(ISNA(VLOOKUP(AV50,Answers!AS:AV,4,FALSE))),VLOOKUP(AV50,Answers!AS:AV,4,FALSE),\"Help!\"))","v":""},null,{"$f":"IF(AW50=\"\",\"\",AU50+IF(AW50=\"XX\",VLOOKUP(\"WRONG\",Answers!AS:AV,4,FALSE),AW50)+AX50)","v":""},{"$f":"IF($B50=\"\",\"\",UPPER(Mainframe!O49))","v":""},{"$f":"IF(AZ50=\"\",\"\",IF(NOT(ISNA(VLOOKUP(AZ50,Answers!AW:AZ,4,FALSE))),VLOOKUP(AZ50,Answers!AW:AZ,4,FALSE),\"Help!\"))","v":""},null,{"$f":"IF(BA50=\"\",\"\",AY50+IF(BA50=\"XX\",VLOOKUP(\"WRONG\",Answers!AW:AZ,4,FALSE),BA50)+BB50)","v":""},{"$f":"IF($B50=\"\",\"\",UPPER(Mainframe!P49))","v":""},{"$f":"IF(BD50=\"\",\"\",IF(NOT(ISNA(VLOOKUP(BD50,Answers!BA:BD,4,FALSE))),VLOOKUP(BD50,Answers!BA:BD,4,FALSE),\"Help!\"))","v":""},null,{"$f":"IF(BE50=\"\",\"\",BC50+IF(BE50=\"XX\",VLOOKUP(\"WRONG\",Answers!BA:BD,4,FALSE),BE50)+BF50)","v":""},{"$f":"IF($B50=\"\",\"\",UPPER(Mainframe!Q49))","v":""},{"$f":"IF(BH50=\"\",\"\",IF(NOT(ISNA(VLOOKUP(BH50,Answers!BE:BH,4,FALSE))),VLOOKUP(BH50,Answers!BE:BH,4,FALSE),\"Help!\"))","v":""},null,{"$f":"IF(BI50=\"\",\"\",BG50+IF(BI50=\"XX\",VLOOKUP(\"WRONG\",Answers!BE:BH,4,FALSE),BI50)+BJ50)","v":""},{"$f":"IF($B50=\"\",\"\",UPPER(Mainframe!R49))","v":""},{"$f":"IF(BL50=\"\",\"\",IF(NOT(ISNA(VLOOKUP(BL50,Answers!BI:BL,4,FALSE))),VLOOKUP(BL50,Answers!BI:BL,4,FALSE),\"Help!\"))","v":""},null,{"$f":"IF(BM50=\"\",\"\",BK50+IF(BM50=\"XX\",VLOOKUP(\"WRONG\",Answers!BI:BL,4,FALSE),BM50)+BN50)","v":""},{"$f":"IF($B50=\"\",\"\",UPPER(Mainframe!S49))","v":""},{"$f":"IF(BP50=\"\",\"\",IF(NOT(ISNA(VLOOKUP(BP50,Answers!BM:BP,4,FALSE))),VLOOKUP(BP50,Answers!BM:BP,4,FALSE),\"Help!\"))","v":""},null,{"$f":"IF(BQ50=\"\",\"\",BO50+IF(BQ50=\"XX\",VLOOKUP(\"WRONG\",Answers!BM:BP,4,FALSE),BQ50)+BR50)","v":""},{"$f":"IF($B50=\"\",\"\",UPPER(Mainframe!T49))","v":""},{"$f":"IF(BT50=\"\",\"\",IF(NOT(ISNA(VLOOKUP(BT50,Answers!BQ:BT,4,FALSE))),VLOOKUP(BT50,Answers!BQ:BT,4,FALSE),\"Help!\"))","v":""},null,{"$f":"IF(BU50=\"\",\"\",BS50+IF(BU50=\"XX\",VLOOKUP(\"WRONG\",Answers!BQ:BT,4,FALSE),BU50)+BV50)","v":""},{"$f":"IF($B50=\"\",\"\",UPPER(Mainframe!U49))","v":""},{"$f":"IF(BX50=\"\",\"\",IF(NOT(ISNA(VLOOKUP(BX50,Answers!BU:BX,4,FALSE))),VLOOKUP(BX50,Answers!BU:BX,4,FALSE),\"Help!\"))","v":""},null,{"$f":"IF(BY50=\"\",\"\",BW50+IF(BY50=\"XX\",VLOOKUP(\"WRONG\",Answers!BU:BX,4,FALSE),BY50)+BZ50)","v":""},{"$f":"IF($B50=\"\",\"\",UPPER(Mainframe!V49))","v":""},{"$f":"IF(CB50=\"\",\"\",IF(NOT(ISNA(VLOOKUP(CB50,Answers!BY:CB,4,FALSE))),VLOOKUP(CB50,Answers!BY:CB,4,FALSE),\"Help!\"))","v":""},null,{"$f":"IF(CC50=\"\",\"\",CA50+IF(CC50=\"XX\",VLOOKUP(\"WRONG\",Answers!BY:CB,4,FALSE),CC50)+CD50)","v":""},null,null,1,{"$f":"IF(INDEX($B:$CE,ROW(),QNO*4-1)=DROPNAME,DROPNAME,IF(INDEX($B:$CE,ROW(),QNO*4-1)=SHEEPNAME,SHEEPNAME,IF(INDEX($B:$CE,ROW(),QNO*4)=\"XX\",INDEX($B:$CE,ROW(),QNO*4-1),INDEX(OFFSET(Answers!B:B,0,(QNO-1)*4),MATCH(INDEX($A:$CB,ROW(),QNO*4),OFFSET(Answers!A:A,0,(QNO-1)*4),0))&\" — \"&IF(INDEX($B:$CE,ROW(),QNO*4)=1,\"[b]Singleton![/b]\",CONCATENATE(INDEX($B:$CE,ROW(),QNO*4),\" responses\")))))","v":{"$error":"#N/A"}},"//////////////////////////////////////////////////////////////////////////////////////////////////////////////////////////////////////////////////////////////////","No",{"$f":"IF(B50=0,\"\",CONCATENATE(INDEX($CH:$CL,ROW(),1),\". \",INDEX($B:$CE,ROW(),1),\" — [b]\")&IF(QNO=1,CONCATENATE(INDEX($B:$CE,ROW(),QNO*4+2),\"[/b] pts\"),CONCATENATE(INDEX($B:$CE,ROW(),QNO*4-2),\" + \",IF(INDEX($B:$CE,ROW(),QNO*4)=\"XX\",INDEX(Answers!$A:$ZZ,2,QNO*4),INDEX($B:$CE,ROW(),QNO*4)),\" = \",INDEX($B:$CE,ROW(),QNO*4+2),\"[/b] pts \",IF(INDEX($C:$CE,ROW(),QNO*4)>0,\"(penalty: +\"&INDEX($C:$CE,ROW(),QNO*4)&\") \",IF(INDEX($C:$CE,ROW(),QNO*4)<0,\"(bonus: \"&INDEX($C:$CE,ROW(),QNO*4)&\") \",\"\"))&\"[[b]\"&IF(CN50>0,\"[color=#00BF00]↑\"&CN50,IF(CN50<0,\"[color=#FF0000]↓\"&ABS(CN50),\"[color=#0000FF]unch\"))&\"[/b][/color]]\")))","v":"1.  — [b][/b] pts"},1,0]
["[*]",{"$f":"IF(Mainframe!B50=\"\",\"\",INDEX(Mainframe!$B:$B,C51+1,1))","v":""},49,{"$f":"IF($B51=\"\",\"\",UPPER(Mainframe!C50))","v":""},{"$f":"IF(D51=\"\",\"\",IF(NOT(ISNA(VLOOKUP(D51,Answers!A:D,4,FALSE))),VLOOKUP(D51,Answers!A:D,4,FALSE),\"Help!\"))","v":""},null,{"$f":"IF(E51=\"\",\"\",IF(E51=\"XX\",VLOOKUP(\"WRONG\",Answers!A:D,4,FALSE),E51)+F51)","v":""},{"$f":"IF($B51=\"\",\"\",UPPER(Mainframe!D50))","v":""},{"$f":"IF(H51=\"\",\"\",IF(NOT(ISNA(VLOOKUP(H51,Answers!E:H,4,FALSE))),VLOOKUP(H51,Answers!E:H,4,FALSE),\"Help!\"))","v":""},null,{"$f":"IF(I51=\"\",\"\",G51+IF(I51=\"XX\",VLOOKUP(\"WRONG\",Answers!E:H,4,FALSE),I51)+J51)","v":""},{"$f":"IF($B51=\"\",\"\",UPPER(Mainframe!E50))","v":""},{"$f":"IF(L51=\"\",\"\",IF(NOT(ISNA(VLOOKUP(L51,Answers!I:L,4,FALSE))),VLOOKUP(L51,Answers!I:L,4,FALSE),\"Help!\"))","v":""},null,{"$f":"IF(M51=\"\",\"\",K51+IF(M51=\"XX\",VLOOKUP(\"WRONG\",Answers!I:L,4,FALSE),M51)+N51)","v":""},{"$f":"IF($B51=\"\",\"\",UPPER(Mainframe!F50))","v":""},{"$f":"IF(P51=\"\",\"\",IF(NOT(ISNA(VLOOKUP(P51,Answers!M:P,4,FALSE))),VLOOKUP(P51,Answers!M:P,4,FALSE),\"Help!\"))","v":""},null,{"$f":"IF(Q51=\"\",\"\",O51+IF(Q51=\"XX\",VLOOKUP(\"WRONG\",Answers!M:P,4,FALSE),Q51)+R51)","v":""},{"$f":"IF($B51=\"\",\"\",UPPER(Mainframe!G50))","v":""},{"$f":"IF(T51=\"\",\"\",IF(NOT(ISNA(VLOOKUP(T51,Answers!Q:T,4,FALSE))),VLOOKUP(T51,Answers!Q:T,4,FALSE),\"Help!\"))","v":""},null,{"$f":"IF(U51=\"\",\"\",S51+IF(U51=\"XX\",VLOOKUP(\"WRONG\",Answers!Q:T,4,FALSE),U51)+V51)","v":""},{"$f":"IF($B51=\"\",\"\",UPPER(Mainframe!H50))","v":""},{"$f":"IF(X51=\"\",\"\",IF(NOT(ISNA(VLOOKUP(X51,Answers!U:X,4,FALSE))),VLOOKUP(X51,Answers!U:X,4,FALSE),\"Help!\"))","v":""},null,{"$f":"IF(Y51=\"\",\"\",W51+IF(Y51=\"XX\",VLOOKUP(\"WRONG\",Answers!U:X,4,FALSE),Y51)+Z51)","v":""},{"$f":"IF($B51=\"\",\"\",UPPER(Mainframe!I50))","v":""},{"$f":"IF(AB51=\"\",\"\",IF(NOT(ISNA(VLOOKUP(AB51,Answers!Y:AB,4,FALSE))),VLOOKUP(AB51,Answers!Y:AB,4,FALSE),\"Help!\"))","v":""},null,{"$f":"IF(AC51=\"\",\"\",AA51+IF(AC51=\"XX\",VLOOKUP(\"WRONG\",Answers!Y:AB,4,FALSE),AC51)+AD51)","v":""},{"$f":"IF($B51=\"\",\"\",UPPER(Mainframe!J50))","v":""},{"$f":"IF(AF51=\"\",\"\",IF(NOT(ISNA(VLOOKUP(AF51,Answers!AC:AF,4,FALSE))),VLOOKUP(AF51,Answers!AC:AF,4,FALSE),\"Help!\"))","v":""},null,{"$f":"IF(AG51=\"\",\"\",AE51+IF(AG51=\"XX\",VLOOKUP(\"WRONG\",Answers!AC:AF,4,FALSE),AG51)+AH51)","v":""},{"$f":"IF($B51=\"\",\"\",UPPER(Mainframe!K50))","v":""},{"$f":"IF(AJ51=\"\",\"\",IF(NOT(ISNA(VLOOKUP(AJ51,Answers!AG:AJ,4,FALSE))),VLOOKUP(AJ51,Answers!AG:AJ,4,FALSE),\"Help!\"))","v":""},null,{"$f":"IF(AK51=\"\",\"\",AI51+IF(AK51=\"XX\",VLOOKUP(\"WRONG\",Answers!AG:AJ,4,FALSE),AK51)+AL51)","v":""},{"$f":"IF($B51=\"\",\"\",UPPER(Mainframe!L50))","v":""},{"$f":"IF(AN51=\"\",\"\",IF(NOT(ISNA(VLOOKUP(AN51,Answers!AK:AN,4,FALSE))),VLOOKUP(AN51,Answers!AK:AN,4,FALSE),\"Help!\"))","v":""},null,{"$f":"IF(AO51=\"\",\"\",AM51+IF(AO51=\"XX\",VLOOKUP(\"WRONG\",Answers!AK:AN,4,FALSE),AO51)+AP51)","v":""},{"$f":"IF($B51=\"\",\"\",UPPER(Mainframe!M50))","v":""},{"$f":"IF(AR51=\"\",\"\",IF(NOT(ISNA(VLOOKUP(AR51,Answers!AO:AR,4,FALSE))),VLOOKUP(AR51,Answers!AO:AR,4,FALSE),\"Help!\"))","v":""},null,{"$f":"IF(AS51=\"\",\"\",AQ51+IF(AS51=\"XX\",VLOOKUP(\"WRONG\",Answers!AO:AR,4,FALSE),AS51)+AT51)","v":""},{"$f":"IF($B51=\"\",\"\",UPPER(Mainframe!N50))","v":""},{"$f":"IF(AV51=\"\",\"\",IF(NOT(ISNA(VLOOKUP(AV51,Answers!AS:AV,4,FALSE))),VLOOKUP(AV51,Answers!AS:AV,4,FALSE),\"Help!\"))","v":""},null,{"$f":"IF(AW51=\"\",\"\",AU51+IF(AW51=\"XX\",VLOOKUP(\"WRONG\",Answers!AS:AV,4,FALSE),AW51)+AX51)","v":""},{"$f":"IF($B51=\"\",\"\",UPPER(Mainframe!O50))","v":""},{"$f":"IF(AZ51=\"\",\"\",IF(NOT(ISNA(VLOOKUP(AZ51,Answers!AW:AZ,4,FALSE))),VLOOKUP(AZ51,Answers!AW:AZ,4,FALSE),\"Help!\"))","v":""},null,{"$f":"IF(BA51=\"\",\"\",AY51+IF(BA51=\"XX\",VLOOKUP(\"WRONG\",Answers!AW:AZ,4,FALSE),BA51)+BB51)","v":""},{"$f":"IF($B51=\"\",\"\",UPPER(Mainframe!P50))","v":""},{"$f":"IF(BD51=\"\",\"\",IF(NOT(ISNA(VLOOKUP(BD51,Answers!BA:BD,4,FALSE))),VLOOKUP(BD51,Answers!BA:BD,4,FALSE),\"Help!\"))","v":""},null,{"$f":"IF(BE51=\"\",\"\",BC51+IF(BE51=\"XX\",VLOOKUP(\"WRONG\",Answers!BA:BD,4,FALSE),BE51)+BF51)","v":""},{"$f":"IF($B51=\"\",\"\",UPPER(Mainframe!Q50))","v":""},{"$f":"IF(BH51=\"\",\"\",IF(NOT(ISNA(VLOOKUP(BH51,Answers!BE:BH,4,FALSE))),VLOOKUP(BH51,Answers!BE:BH,4,FALSE),\"Help!\"))","v":""},null,{"$f":"IF(BI51=\"\",\"\",BG51+IF(BI51=\"XX\",VLOOKUP(\"WRONG\",Answers!BE:BH,4,FALSE),BI51)+BJ51)","v":""},{"$f":"IF($B51=\"\",\"\",UPPER(Mainframe!R50))","v":""},{"$f":"IF(BL51=\"\",\"\",IF(NOT(ISNA(VLOOKUP(BL51,Answers!BI:BL,4,FALSE))),VLOOKUP(BL51,Answers!BI:BL,4,FALSE),\"Help!\"))","v":""},null,{"$f":"IF(BM51=\"\",\"\",BK51+IF(BM51=\"XX\",VLOOKUP(\"WRONG\",Answers!BI:BL,4,FALSE),BM51)+BN51)","v":""},{"$f":"IF($B51=\"\",\"\",UPPER(Mainframe!S50))","v":""},{"$f":"IF(BP51=\"\",\"\",IF(NOT(ISNA(VLOOKUP(BP51,Answers!BM:BP,4,FALSE))),VLOOKUP(BP51,Answers!BM:BP,4,FALSE),\"Help!\"))","v":""},null,{"$f":"IF(BQ51=\"\",\"\",BO51+IF(BQ51=\"XX\",VLOOKUP(\"WRONG\",Answers!BM:BP,4,FALSE),BQ51)+BR51)","v":""},{"$f":"IF($B51=\"\",\"\",UPPER(Mainframe!T50))","v":""},{"$f":"IF(BT51=\"\",\"\",IF(NOT(ISNA(VLOOKUP(BT51,Answers!BQ:BT,4,FALSE))),VLOOKUP(BT51,Answers!BQ:BT,4,FALSE),\"Help!\"))","v":""},null,{"$f":"IF(BU51=\"\",\"\",BS51+IF(BU51=\"XX\",VLOOKUP(\"WRONG\",Answers!BQ:BT,4,FALSE),BU51)+BV51)","v":""},{"$f":"IF($B51=\"\",\"\",UPPER(Mainframe!U50))","v":""},{"$f":"IF(BX51=\"\",\"\",IF(NOT(ISNA(VLOOKUP(BX51,Answers!BU:BX,4,FALSE))),VLOOKUP(BX51,Answers!BU:BX,4,FALSE),\"Help!\"))","v":""},null,{"$f":"IF(BY51=\"\",\"\",BW51+IF(BY51=\"XX\",VLOOKUP(\"WRONG\",Answers!BU:BX,4,FALSE),BY51)+BZ51)","v":""},{"$f":"IF($B51=\"\",\"\",UPPER(Mainframe!V50))","v":""},{"$f":"IF(CB51=\"\",\"\",IF(NOT(ISNA(VLOOKUP(CB51,Answers!BY:CB,4,FALSE))),VLOOKUP(CB51,Answers!BY:CB,4,FALSE),\"Help!\"))","v":""},null,{"$f":"IF(CC51=\"\",\"\",CA51+IF(CC51=\"XX\",VLOOKUP(\"WRONG\",Answers!BY:CB,4,FALSE),CC51)+CD51)","v":""},null,null,1,{"$f":"IF(INDEX($B:$CE,ROW(),QNO*4-1)=DROPNAME,DROPNAME,IF(INDEX($B:$CE,ROW(),QNO*4-1)=SHEEPNAME,SHEEPNAME,IF(INDEX($B:$CE,ROW(),QNO*4)=\"XX\",INDEX($B:$CE,ROW(),QNO*4-1),INDEX(OFFSET(Answers!B:B,0,(QNO-1)*4),MATCH(INDEX($A:$CB,ROW(),QNO*4),OFFSET(Answers!A:A,0,(QNO-1)*4),0))&\" — \"&IF(INDEX($B:$CE,ROW(),QNO*4)=1,\"[b]Singleton![/b]\",CONCATENATE(INDEX($B:$CE,ROW(),QNO*4),\" responses\")))))","v":{"$error":"#N/A"}},"////////////////////////////////////////////////////////////////////////////////////////////////////////////////////////////////////////////////////////////////","No",{"$f":"IF(B51=0,\"\",CONCATENATE(INDEX($CH:$CL,ROW(),1),\". \",INDEX($B:$CE,ROW(),1),\" — [b]\")&IF(QNO=1,CONCATENATE(INDEX($B:$CE,ROW(),QNO*4+2),\"[/b] pts\"),CONCATENATE(INDEX($B:$CE,ROW(),QNO*4-2),\" + \",IF(INDEX($B:$CE,ROW(),QNO*4)=\"XX\",INDEX(Answers!$A:$ZZ,2,QNO*4),INDEX($B:$CE,ROW(),QNO*4)),\" = \",INDEX($B:$CE,ROW(),QNO*4+2),\"[/b] pts \",IF(INDEX($C:$CE,ROW(),QNO*4)>0,\"(penalty: +\"&INDEX($C:$CE,ROW(),QNO*4)&\") \",IF(INDEX($C:$CE,ROW(),QNO*4)<0,\"(bonus: \"&INDEX($C:$CE,ROW(),QNO*4)&\") \",\"\"))&\"[[b]\"&IF(CN51>0,\"[color=#00BF00]↑\"&CN51,IF(CN51<0,\"[color=#FF0000]↓\"&ABS(CN51),\"[color=#0000FF]unch\"))&\"[/b][/color]]\")))","v":"1.  — [b][/b] pts"},1,0]
["[*]",{"$f":"IF(Mainframe!B51=\"\",\"\",INDEX(Mainframe!$B:$B,C52+1,1))","v":""},50,{"$f":"IF($B52=\"\",\"\",UPPER(Mainframe!C51))","v":""},{"$f":"IF(D52=\"\",\"\",IF(NOT(ISNA(VLOOKUP(D52,Answers!A:D,4,FALSE))),VLOOKUP(D52,Answers!A:D,4,FALSE),\"Help!\"))","v":""},null,{"$f":"IF(E52=\"\",\"\",IF(E52=\"XX\",VLOOKUP(\"WRONG\",Answers!A:D,4,FALSE),E52)+F52)","v":""},{"$f":"IF($B52=\"\",\"\",UPPER(Mainframe!D51))","v":""},{"$f":"IF(H52=\"\",\"\",IF(NOT(ISNA(VLOOKUP(H52,Answers!E:H,4,FALSE))),VLOOKUP(H52,Answers!E:H,4,FALSE),\"Help!\"))","v":""},null,{"$f":"IF(I52=\"\",\"\",G52+IF(I52=\"XX\",VLOOKUP(\"WRONG\",Answers!E:H,4,FALSE),I52)+J52)","v":""},{"$f":"IF($B52=\"\",\"\",UPPER(Mainframe!E51))","v":""},{"$f":"IF(L52=\"\",\"\",IF(NOT(ISNA(VLOOKUP(L52,Answers!I:L,4,FALSE))),VLOOKUP(L52,Answers!I:L,4,FALSE),\"Help!\"))","v":""},null,{"$f":"IF(M52=\"\",\"\",K52+IF(M52=\"XX\",VLOOKUP(\"WRONG\",Answers!I:L,4,FALSE),M52)+N52)","v":""},{"$f":"IF($B52=\"\",\"\",UPPER(Mainframe!F51))","v":""},{"$f":"IF(P52=\"\",\"\",IF(NOT(ISNA(VLOOKUP(P52,Answers!M:P,4,FALSE))),VLOOKUP(P52,Answers!M:P,4,FALSE),\"Help!\"))","v":""},null,{"$f":"IF(Q52=\"\",\"\",O52+IF(Q52=\"XX\",VLOOKUP(\"WRONG\",Answers!M:P,4,FALSE),Q52)+R52)","v":""},{"$f":"IF($B52=\"\",\"\",UPPER(Mainframe!G51))","v":""},{"$f":"IF(T52=\"\",\"\",IF(NOT(ISNA(VLOOKUP(T52,Answers!Q:T,4,FALSE))),VLOOKUP(T52,Answers!Q:T,4,FALSE),\"Help!\"))","v":""},null,{"$f":"IF(U52=\"\",\"\",S52+IF(U52=\"XX\",VLOOKUP(\"WRONG\",Answers!Q:T,4,FALSE),U52)+V52)","v":""},{"$f":"IF($B52=\"\",\"\",UPPER(Mainframe!H51))","v":""},{"$f":"IF(X52=\"\",\"\",IF(NOT(ISNA(VLOOKUP(X52,Answers!U:X,4,FALSE))),VLOOKUP(X52,Answers!U:X,4,FALSE),\"Help!\"))","v":""},null,{"$f":"IF(Y52=\"\",\"\",W52+IF(Y52=\"XX\",VLOOKUP(\"WRONG\",Answers!U:X,4,FALSE),Y52)+Z52)","v":""},{"$f":"IF($B52=\"\",\"\",UPPER(Mainframe!I51))","v":""},{"$f":"IF(AB52=\"\",\"\",IF(NOT(ISNA(VLOOKUP(AB52,Answers!Y:AB,4,FALSE))),VLOOKUP(AB52,Answers!Y:AB,4,FALSE),\"Help!\"))","v":""},null,{"$f":"IF(AC52=\"\",\"\",AA52+IF(AC52=\"XX\",VLOOKUP(\"WRONG\",Answers!Y:AB,4,FALSE),AC52)+AD52)","v":""},{"$f":"IF($B52=\"\",\"\",UPPER(Mainframe!J51))","v":""},{"$f":"IF(AF52=\"\",\"\",IF(NOT(ISNA(VLOOKUP(AF52,Answers!AC:AF,4,FALSE))),VLOOKUP(AF52,Answers!AC:AF,4,FALSE),\"Help!\"))","v":""},null,{"$f":"IF(AG52=\"\",\"\",AE52+IF(AG52=\"XX\",VLOOKUP(\"WRONG\",Answers!AC:AF,4,FALSE),AG52)+AH52)","v":""},{"$f":"IF($B52=\"\",\"\",UPPER(Mainframe!K51))","v":""},{"$f":"IF(AJ52=\"\",\"\",IF(NOT(ISNA(VLOOKUP(AJ52,Answers!AG:AJ,4,FALSE))),VLOOKUP(AJ52,Answers!AG:AJ,4,FALSE),\"Help!\"))","v":""},null,{"$f":"IF(AK52=\"\",\"\",AI52+IF(AK52=\"XX\",VLOOKUP(\"WRONG\",Answers!AG:AJ,4,FALSE),AK52)+AL52)","v":""},{"$f":"IF($B52=\"\",\"\",UPPER(Mainframe!L51))","v":""},{"$f":"IF(AN52=\"\",\"\",IF(NOT(ISNA(VLOOKUP(AN52,Answers!AK:AN,4,FALSE))),VLOOKUP(AN52,Answers!AK:AN,4,FALSE),\"Help!\"))","v":""},null,{"$f":"IF(AO52=\"\",\"\",AM52+IF(AO52=\"XX\",VLOOKUP(\"WRONG\",Answers!AK:AN,4,FALSE),AO52)+AP52)","v":""},{"$f":"IF($B52=\"\",\"\",UPPER(Mainframe!M51))","v":""},{"$f":"IF(AR52=\"\",\"\",IF(NOT(ISNA(VLOOKUP(AR52,Answers!AO:AR,4,FALSE))),VLOOKUP(AR52,Answers!AO:AR,4,FALSE),\"Help!\"))","v":""},null,{"$f":"IF(AS52=\"\",\"\",AQ52+IF(AS52=\"XX\",VLOOKUP(\"WRONG\",Answers!AO:AR,4,FALSE),AS52)+AT52)","v":""},{"$f":"IF($B52=\"\",\"\",UPPER(Mainframe!N51))","v":""},{"$f":"IF(AV52=\"\",\"\",IF(NOT(ISNA(VLOOKUP(AV52,Answers!AS:AV,4,FALSE))),VLOOKUP(AV52,Answers!AS:AV,4,FALSE),\"Help!\"))","v":""},null,{"$f":"IF(AW52=\"\",\"\",AU52+IF(AW52=\"XX\",VLOOKUP(\"WRONG\",Answers!AS:AV,4,FALSE),AW52)+AX52)","v":""},{"$f":"IF($B52=\"\",\"\",UPPER(Mainframe!O51))","v":""},{"$f":"IF(AZ52=\"\",\"\",IF(NOT(ISNA(VLOOKUP(AZ52,Answers!AW:AZ,4,FALSE))),VLOOKUP(AZ52,Answers!AW:AZ,4,FALSE),\"Help!\"))","v":""},null,{"$f":"IF(BA52=\"\",\"\",AY52+IF(BA52=\"XX\",VLOOKUP(\"WRONG\",Answers!AW:AZ,4,FALSE),BA52)+BB52)","v":""},{"$f":"IF($B52=\"\",\"\",UPPER(Mainframe!P51))","v":""},{"$f":"IF(BD52=\"\",\"\",IF(NOT(ISNA(VLOOKUP(BD52,Answers!BA:BD,4,FALSE))),VLOOKUP(BD52,Answers!BA:BD,4,FALSE),\"Help!\"))","v":""},null,{"$f":"IF(BE52=\"\",\"\",BC52+IF(BE52=\"XX\",VLOOKUP(\"WRONG\",Answers!BA:BD,4,FALSE),BE52)+BF52)","v":""},{"$f":"IF($B52=\"\",\"\",UPPER(Mainframe!Q51))","v":""},{"$f":"IF(BH52=\"\",\"\",IF(NOT(ISNA(VLOOKUP(BH52,Answers!BE:BH,4,FALSE))),VLOOKUP(BH52,Answers!BE:BH,4,FALSE),\"Help!\"))","v":""},null,{"$f":"IF(BI52=\"\",\"\",BG52+IF(BI52=\"XX\",VLOOKUP(\"WRONG\",Answers!BE:BH,4,FALSE),BI52)+BJ52)","v":""},{"$f":"IF($B52=\"\",\"\",UPPER(Mainframe!R51))","v":""},{"$f":"IF(BL52=\"\",\"\",IF(NOT(ISNA(VLOOKUP(BL52,Answers!BI:BL,4,FALSE))),VLOOKUP(BL52,Answers!BI:BL,4,FALSE),\"Help!\"))","v":""},null,{"$f":"IF(BM52=\"\",\"\",BK52+IF(BM52=\"XX\",VLOOKUP(\"WRONG\",Answers!BI:BL,4,FALSE),BM52)+BN52)","v":""},{"$f":"IF($B52=\"\",\"\",UPPER(Mainframe!S51))","v":""},{"$f":"IF(BP52=\"\",\"\",IF(NOT(ISNA(VLOOKUP(BP52,Answers!BM:BP,4,FALSE))),VLOOKUP(BP52,Answers!BM:BP,4,FALSE),\"Help!\"))","v":""},null,{"$f":"IF(BQ52=\"\",\"\",BO52+IF(BQ52=\"XX\",VLOOKUP(\"WRONG\",Answers!BM:BP,4,FALSE),BQ52)+BR52)","v":""},{"$f":"IF($B52=\"\",\"\",UPPER(Mainframe!T51))","v":""},{"$f":"IF(BT52=\"\",\"\",IF(NOT(ISNA(VLOOKUP(BT52,Answers!BQ:BT,4,FALSE))),VLOOKUP(BT52,Answers!BQ:BT,4,FALSE),\"Help!\"))","v":""},null,{"$f":"IF(BU52=\"\",\"\",BS52+IF(BU52=\"XX\",VLOOKUP(\"WRONG\",Answers!BQ:BT,4,FALSE),BU52)+BV52)","v":""},{"$f":"IF($B52=\"\",\"\",UPPER(Mainframe!U51))","v":""},{"$f":"IF(BX52=\"\",\"\",IF(NOT(ISNA(VLOOKUP(BX52,Answers!BU:BX,4,FALSE))),VLOOKUP(BX52,Answers!BU:BX,4,FALSE),\"Help!\"))","v":""},null,{"$f":"IF(BY52=\"\",\"\",BW52+IF(BY52=\"XX\",VLOOKUP(\"WRONG\",Answers!BU:BX,4,FALSE),BY52)+BZ52)","v":""},{"$f":"IF($B52=\"\",\"\",UPPER(Mainframe!V51))","v":""},{"$f":"IF(CB52=\"\",\"\",IF(NOT(ISNA(VLOOKUP(CB52,Answers!BY:CB,4,FALSE))),VLOOKUP(CB52,Answers!BY:CB,4,FALSE),\"Help!\"))","v":""},null,{"$f":"IF(CC52=\"\",\"\",CA52+IF(CC52=\"XX\",VLOOKUP(\"WRONG\",Answers!BY:CB,4,FALSE),CC52)+CD52)","v":""},null,null,1,{"$f":"IF(INDEX($B:$CE,ROW(),QNO*4-1)=DROPNAME,DROPNAME,IF(INDEX($B:$CE,ROW(),QNO*4-1)=SHEEPNAME,SHEEPNAME,IF(INDEX($B:$CE,ROW(),QNO*4)=\"XX\",INDEX($B:$CE,ROW(),QNO*4-1),INDEX(OFFSET(Answers!B:B,0,(QNO-1)*4),MATCH(INDEX($A:$CB,ROW(),QNO*4),OFFSET(Answers!A:A,0,(QNO-1)*4),0))&\" — \"&IF(INDEX($B:$CE,ROW(),QNO*4)=1,\"[b]Singleton![/b]\",CONCATENATE(INDEX($B:$CE,ROW(),QNO*4),\" responses\")))))","v":{"$error":"#N/A"}},"//////////////////////////////////////////////////////////////////////////////////////////////////////////////////////////////////////////////////////////////","No",{"$f":"IF(B52=0,\"\",CONCATENATE(INDEX($CH:$CL,ROW(),1),\". \",INDEX($B:$CE,ROW(),1),\" — [b]\")&IF(QNO=1,CONCATENATE(INDEX($B:$CE,ROW(),QNO*4+2),\"[/b] pts\"),CONCATENATE(INDEX($B:$CE,ROW(),QNO*4-2),\" + \",IF(INDEX($B:$CE,ROW(),QNO*4)=\"XX\",INDEX(Answers!$A:$ZZ,2,QNO*4),INDEX($B:$CE,ROW(),QNO*4)),\" = \",INDEX($B:$CE,ROW(),QNO*4+2),\"[/b] pts \",IF(INDEX($C:$CE,ROW(),QNO*4)>0,\"(penalty: +\"&INDEX($C:$CE,ROW(),QNO*4)&\") \",IF(INDEX($C:$CE,ROW(),QNO*4)<0,\"(bonus: \"&INDEX($C:$CE,ROW(),QNO*4)&\") \",\"\"))&\"[[b]\"&IF(CN52>0,\"[color=#00BF00]↑\"&CN52,IF(CN52<0,\"[color=#FF0000]↓\"&ABS(CN52),\"[color=#0000FF]unch\"))&\"[/b][/color]]\")))","v":"1.  — [b][/b] pts"},1,0]
["[*]",{"$f":"IF(Mainframe!B52=\"\",\"\",INDEX(Mainframe!$B:$B,C53+1,1))","v":""},51,{"$f":"IF($B53=\"\",\"\",UPPER(Mainframe!C52))","v":""},{"$f":"IF(D53=\"\",\"\",IF(NOT(ISNA(VLOOKUP(D53,Answers!A:D,4,FALSE))),VLOOKUP(D53,Answers!A:D,4,FALSE),\"Help!\"))","v":""},null,{"$f":"IF(E53=\"\",\"\",IF(E53=\"XX\",VLOOKUP(\"WRONG\",Answers!A:D,4,FALSE),E53)+F53)","v":""},{"$f":"IF($B53=\"\",\"\",UPPER(Mainframe!D52))","v":""},{"$f":"IF(H53=\"\",\"\",IF(NOT(ISNA(VLOOKUP(H53,Answers!E:H,4,FALSE))),VLOOKUP(H53,Answers!E:H,4,FALSE),\"Help!\"))","v":""},null,{"$f":"IF(I53=\"\",\"\",G53+IF(I53=\"XX\",VLOOKUP(\"WRONG\",Answers!E:H,4,FALSE),I53)+J53)","v":""},{"$f":"IF($B53=\"\",\"\",UPPER(Mainframe!E52))","v":""},{"$f":"IF(L53=\"\",\"\",IF(NOT(ISNA(VLOOKUP(L53,Answers!I:L,4,FALSE))),VLOOKUP(L53,Answers!I:L,4,FALSE),\"Help!\"))","v":""},null,{"$f":"IF(M53=\"\",\"\",K53+IF(M53=\"XX\",VLOOKUP(\"WRONG\",Answers!I:L,4,FALSE),M53)+N53)","v":""},{"$f":"IF($B53=\"\",\"\",UPPER(Mainframe!F52))","v":""},{"$f":"IF(P53=\"\",\"\",IF(NOT(ISNA(VLOOKUP(P53,Answers!M:P,4,FALSE))),VLOOKUP(P53,Answers!M:P,4,FALSE),\"Help!\"))","v":""},null,{"$f":"IF(Q53=\"\",\"\",O53+IF(Q53=\"XX\",VLOOKUP(\"WRONG\",Answers!M:P,4,FALSE),Q53)+R53)","v":""},{"$f":"IF($B53=\"\",\"\",UPPER(Mainframe!G52))","v":""},{"$f":"IF(T53=\"\",\"\",IF(NOT(ISNA(VLOOKUP(T53,Answers!Q:T,4,FALSE))),VLOOKUP(T53,Answers!Q:T,4,FALSE),\"Help!\"))","v":""},null,{"$f":"IF(U53=\"\",\"\",S53+IF(U53=\"XX\",VLOOKUP(\"WRONG\",Answers!Q:T,4,FALSE),U53)+V53)","v":""},{"$f":"IF($B53=\"\",\"\",UPPER(Mainframe!H52))","v":""},{"$f":"IF(X53=\"\",\"\",IF(NOT(ISNA(VLOOKUP(X53,Answers!U:X,4,FALSE))),VLOOKUP(X53,Answers!U:X,4,FALSE),\"Help!\"))","v":""},null,{"$f":"IF(Y53=\"\",\"\",W53+IF(Y53=\"XX\",VLOOKUP(\"WRONG\",Answers!U:X,4,FALSE),Y53)+Z53)","v":""},{"$f":"IF($B53=\"\",\"\",UPPER(Mainframe!I52))","v":""},{"$f":"IF(AB53=\"\",\"\",IF(NOT(ISNA(VLOOKUP(AB53,Answers!Y:AB,4,FALSE))),VLOOKUP(AB53,Answers!Y:AB,4,FALSE),\"Help!\"))","v":""},null,{"$f":"IF(AC53=\"\",\"\",AA53+IF(AC53=\"XX\",VLOOKUP(\"WRONG\",Answers!Y:AB,4,FALSE),AC53)+AD53)","v":""},{"$f":"IF($B53=\"\",\"\",UPPER(Mainframe!J52))","v":""},{"$f":"IF(AF53=\"\",\"\",IF(NOT(ISNA(VLOOKUP(AF53,Answers!AC:AF,4,FALSE))),VLOOKUP(AF53,Answers!AC:AF,4,FALSE),\"Help!\"))","v":""},null,{"$f":"IF(AG53=\"\",\"\",AE53+IF(AG53=\"XX\",VLOOKUP(\"WRONG\",Answers!AC:AF,4,FALSE),AG53)+AH53)","v":""},{"$f":"IF($B53=\"\",\"\",UPPER(Mainframe!K52))","v":""},{"$f":"IF(AJ53=\"\",\"\",IF(NOT(ISNA(VLOOKUP(AJ53,Answers!AG:AJ,4,FALSE))),VLOOKUP(AJ53,Answers!AG:AJ,4,FALSE),\"Help!\"))","v":""},null,{"$f":"IF(AK53=\"\",\"\",AI53+IF(AK53=\"XX\",VLOOKUP(\"WRONG\",Answers!AG:AJ,4,FALSE),AK53)+AL53)","v":""},{"$f":"IF($B53=\"\",\"\",UPPER(Mainframe!L52))","v":""},{"$f":"IF(AN53=\"\",\"\",IF(NOT(ISNA(VLOOKUP(AN53,Answers!AK:AN,4,FALSE))),VLOOKUP(AN53,Answers!AK:AN,4,FALSE),\"Help!\"))","v":""},null,{"$f":"IF(AO53=\"\",\"\",AM53+IF(AO53=\"XX\",VLOOKUP(\"WRONG\",Answers!AK:AN,4,FALSE),AO53)+AP53)","v":""},{"$f":"IF($B53=\"\",\"\",UPPER(Mainframe!M52))","v":""},{"$f":"IF(AR53=\"\",\"\",IF(NOT(ISNA(VLOOKUP(AR53,Answers!AO:AR,4,FALSE))),VLOOKUP(AR53,Answers!AO:AR,4,FALSE),\"Help!\"))","v":""},null,{"$f":"IF(AS53=\"\",\"\",AQ53+IF(AS53=\"XX\",VLOOKUP(\"WRONG\",Answers!AO:AR,4,FALSE),AS53)+AT53)","v":""},{"$f":"IF($B53=\"\",\"\",UPPER(Mainframe!N52))","v":""},{"$f":"IF(AV53=\"\",\"\",IF(NOT(ISNA(VLOOKUP(AV53,Answers!AS:AV,4,FALSE))),VLOOKUP(AV53,Answers!AS:AV,4,FALSE),\"Help!\"))","v":""},null,{"$f":"IF(AW53=\"\",\"\",AU53+IF(AW53=\"XX\",VLOOKUP(\"WRONG\",Answers!AS:AV,4,FALSE),AW53)+AX53)","v":""},{"$f":"IF($B53=\"\",\"\",UPPER(Mainframe!O52))","v":""},{"$f":"IF(AZ53=\"\",\"\",IF(NOT(ISNA(VLOOKUP(AZ53,Answers!AW:AZ,4,FALSE))),VLOOKUP(AZ53,Answers!AW:AZ,4,FALSE),\"Help!\"))","v":""},null,{"$f":"IF(BA53=\"\",\"\",AY53+IF(BA53=\"XX\",VLOOKUP(\"WRONG\",Answers!AW:AZ,4,FALSE),BA53)+BB53)","v":""},{"$f":"IF($B53=\"\",\"\",UPPER(Mainframe!P52))","v":""},{"$f":"IF(BD53=\"\",\"\",IF(NOT(ISNA(VLOOKUP(BD53,Answers!BA:BD,4,FALSE))),VLOOKUP(BD53,Answers!BA:BD,4,FALSE),\"Help!\"))","v":""},null,{"$f":"IF(BE53=\"\",\"\",BC53+IF(BE53=\"XX\",VLOOKUP(\"WRONG\",Answers!BA:BD,4,FALSE),BE53)+BF53)","v":""},{"$f":"IF($B53=\"\",\"\",UPPER(Mainframe!Q52))","v":""},{"$f":"IF(BH53=\"\",\"\",IF(NOT(ISNA(VLOOKUP(BH53,Answers!BE:BH,4,FALSE))),VLOOKUP(BH53,Answers!BE:BH,4,FALSE),\"Help!\"))","v":""},null,{"$f":"IF(BI53=\"\",\"\",BG53+IF(BI53=\"XX\",VLOOKUP(\"WRONG\",Answers!BE:BH,4,FALSE),BI53)+BJ53)","v":""},{"$f":"IF($B53=\"\",\"\",UPPER(Mainframe!R52))","v":""},{"$f":"IF(BL53=\"\",\"\",IF(NOT(ISNA(VLOOKUP(BL53,Answers!BI:BL,4,FALSE))),VLOOKUP(BL53,Answers!BI:BL,4,FALSE),\"Help!\"))","v":""},null,{"$f":"IF(BM53=\"\",\"\",BK53+IF(BM53=\"XX\",VLOOKUP(\"WRONG\",Answers!BI:BL,4,FALSE),BM53)+BN53)","v":""},{"$f":"IF($B53=\"\",\"\",UPPER(Mainframe!S52))","v":""},{"$f":"IF(BP53=\"\",\"\",IF(NOT(ISNA(VLOOKUP(BP53,Answers!BM:BP,4,FALSE))),VLOOKUP(BP53,Answers!BM:BP,4,FALSE),\"Help!\"))","v":""},null,{"$f":"IF(BQ53=\"\",\"\",BO53+IF(BQ53=\"XX\",VLOOKUP(\"WRONG\",Answers!BM:BP,4,FALSE),BQ53)+BR53)","v":""},{"$f":"IF($B53=\"\",\"\",UPPER(Mainframe!T52))","v":""},{"$f":"IF(BT53=\"\",\"\",IF(NOT(ISNA(VLOOKUP(BT53,Answers!BQ:BT,4,FALSE))),VLOOKUP(BT53,Answers!BQ:BT,4,FALSE),\"Help!\"))","v":""},null,{"$f":"IF(BU53=\"\",\"\",BS53+IF(BU53=\"XX\",VLOOKUP(\"WRONG\",Answers!BQ:BT,4,FALSE),BU53)+BV53)","v":""},{"$f":"IF($B53=\"\",\"\",UPPER(Mainframe!U52))","v":""},{"$f":"IF(BX53=\"\",\"\",IF(NOT(ISNA(VLOOKUP(BX53,Answers!BU:BX,4,FALSE))),VLOOKUP(BX53,Answers!BU:BX,4,FALSE),\"Help!\"))","v":""},null,{"$f":"IF(BY53=\"\",\"\",BW53+IF(BY53=\"XX\",VLOOKUP(\"WRONG\",Answers!BU:BX,4,FALSE),BY53)+BZ53)","v":""},{"$f":"IF($B53=\"\",\"\",UPPER(Mainframe!V52))","v":""},{"$f":"IF(CB53=\"\",\"\",IF(NOT(ISNA(VLOOKUP(CB53,Answers!BY:CB,4,FALSE))),VLOOKUP(CB53,Answers!BY:CB,4,FALSE),\"Help!\"))","v":""},null,{"$f":"IF(CC53=\"\",\"\",CA53+IF(CC53=\"XX\",VLOOKUP(\"WRONG\",Answers!BY:CB,4,FALSE),CC53)+CD53)","v":""},null,null,1,{"$f":"IF(INDEX($B:$CE,ROW(),QNO*4-1)=DROPNAME,DROPNAME,IF(INDEX($B:$CE,ROW(),QNO*4-1)=SHEEPNAME,SHEEPNAME,IF(INDEX($B:$CE,ROW(),QNO*4)=\"XX\",INDEX($B:$CE,ROW(),QNO*4-1),INDEX(OFFSET(Answers!B:B,0,(QNO-1)*4),MATCH(INDEX($A:$CB,ROW(),QNO*4),OFFSET(Answers!A:A,0,(QNO-1)*4),0))&\" — \"&IF(INDEX($B:$CE,ROW(),QNO*4)=1,\"[b]Singleton![/b]\",CONCATENATE(INDEX($B:$CE,ROW(),QNO*4),\" responses\")))))","v":{"$error":"#N/A"}},"////////////////////////////////////////////////////////////////////////////////////////////////////////////////////////////////////////////////////////////","No",{"$f":"IF(B53=0,\"\",CONCATENATE(INDEX($CH:$CL,ROW(),1),\". \",INDEX($B:$CE,ROW(),1),\" — [b]\")&IF(QNO=1,CONCATENATE(INDEX($B:$CE,ROW(),QNO*4+2),\"[/b] pts\"),CONCATENATE(INDEX($B:$CE,ROW(),QNO*4-2),\" + \",IF(INDEX($B:$CE,ROW(),QNO*4)=\"XX\",INDEX(Answers!$A:$ZZ,2,QNO*4),INDEX($B:$CE,ROW(),QNO*4)),\" = \",INDEX($B:$CE,ROW(),QNO*4+2),\"[/b] pts \",IF(INDEX($C:$CE,ROW(),QNO*4)>0,\"(penalty: +\"&INDEX($C:$CE,ROW(),QNO*4)&\") \",IF(INDEX($C:$CE,ROW(),QNO*4)<0,\"(bonus: \"&INDEX($C:$CE,ROW(),QNO*4)&\") \",\"\"))&\"[[b]\"&IF(CN53>0,\"[color=#00BF00]↑\"&CN53,IF(CN53<0,\"[color=#FF0000]↓\"&ABS(CN53),\"[color=#0000FF]unch\"))&\"[/b][/color]]\")))","v":"1.  — [b][/b] pts"},1,0]
["[*]",{"$f":"IF(Mainframe!B53=\"\",\"\",INDEX(Mainframe!$B:$B,C54+1,1))","v":""},52,{"$f":"IF($B54=\"\",\"\",UPPER(Mainframe!C53))","v":""},{"$f":"IF(D54=\"\",\"\",IF(NOT(ISNA(VLOOKUP(D54,Answers!A:D,4,FALSE))),VLOOKUP(D54,Answers!A:D,4,FALSE),\"Help!\"))","v":""},null,{"$f":"IF(E54=\"\",\"\",IF(E54=\"XX\",VLOOKUP(\"WRONG\",Answers!A:D,4,FALSE),E54)+F54)","v":""},{"$f":"IF($B54=\"\",\"\",UPPER(Mainframe!D53))","v":""},{"$f":"IF(H54=\"\",\"\",IF(NOT(ISNA(VLOOKUP(H54,Answers!E:H,4,FALSE))),VLOOKUP(H54,Answers!E:H,4,FALSE),\"Help!\"))","v":""},null,{"$f":"IF(I54=\"\",\"\",G54+IF(I54=\"XX\",VLOOKUP(\"WRONG\",Answers!E:H,4,FALSE),I54)+J54)","v":""},{"$f":"IF($B54=\"\",\"\",UPPER(Mainframe!E53))","v":""},{"$f":"IF(L54=\"\",\"\",IF(NOT(ISNA(VLOOKUP(L54,Answers!I:L,4,FALSE))),VLOOKUP(L54,Answers!I:L,4,FALSE),\"Help!\"))","v":""},null,{"$f":"IF(M54=\"\",\"\",K54+IF(M54=\"XX\",VLOOKUP(\"WRONG\",Answers!I:L,4,FALSE),M54)+N54)","v":""},{"$f":"IF($B54=\"\",\"\",UPPER(Mainframe!F53))","v":""},{"$f":"IF(P54=\"\",\"\",IF(NOT(ISNA(VLOOKUP(P54,Answers!M:P,4,FALSE))),VLOOKUP(P54,Answers!M:P,4,FALSE),\"Help!\"))","v":""},null,{"$f":"IF(Q54=\"\",\"\",O54+IF(Q54=\"XX\",VLOOKUP(\"WRONG\",Answers!M:P,4,FALSE),Q54)+R54)","v":""},{"$f":"IF($B54=\"\",\"\",UPPER(Mainframe!G53))","v":""},{"$f":"IF(T54=\"\",\"\",IF(NOT(ISNA(VLOOKUP(T54,Answers!Q:T,4,FALSE))),VLOOKUP(T54,Answers!Q:T,4,FALSE),\"Help!\"))","v":""},null,{"$f":"IF(U54=\"\",\"\",S54+IF(U54=\"XX\",VLOOKUP(\"WRONG\",Answers!Q:T,4,FALSE),U54)+V54)","v":""},{"$f":"IF($B54=\"\",\"\",UPPER(Mainframe!H53))","v":""},{"$f":"IF(X54=\"\",\"\",IF(NOT(ISNA(VLOOKUP(X54,Answers!U:X,4,FALSE))),VLOOKUP(X54,Answers!U:X,4,FALSE),\"Help!\"))","v":""},null,{"$f":"IF(Y54=\"\",\"\",W54+IF(Y54=\"XX\",VLOOKUP(\"WRONG\",Answers!U:X,4,FALSE),Y54)+Z54)","v":""},{"$f":"IF($B54=\"\",\"\",UPPER(Mainframe!I53))","v":""},{"$f":"IF(AB54=\"\",\"\",IF(NOT(ISNA(VLOOKUP(AB54,Answers!Y:AB,4,FALSE))),VLOOKUP(AB54,Answers!Y:AB,4,FALSE),\"Help!\"))","v":""},null,{"$f":"IF(AC54=\"\",\"\",AA54+IF(AC54=\"XX\",VLOOKUP(\"WRONG\",Answers!Y:AB,4,FALSE),AC54)+AD54)","v":""},{"$f":"IF($B54=\"\",\"\",UPPER(Mainframe!J53))","v":""},{"$f":"IF(AF54=\"\",\"\",IF(NOT(ISNA(VLOOKUP(AF54,Answers!AC:AF,4,FALSE))),VLOOKUP(AF54,Answers!AC:AF,4,FALSE),\"Help!\"))","v":""},null,{"$f":"IF(AG54=\"\",\"\",AE54+IF(AG54=\"XX\",VLOOKUP(\"WRONG\",Answers!AC:AF,4,FALSE),AG54)+AH54)","v":""},{"$f":"IF($B54=\"\",\"\",UPPER(Mainframe!K53))","v":""},{"$f":"IF(AJ54=\"\",\"\",IF(NOT(ISNA(VLOOKUP(AJ54,Answers!AG:AJ,4,FALSE))),VLOOKUP(AJ54,Answers!AG:AJ,4,FALSE),\"Help!\"))","v":""},null,{"$f":"IF(AK54=\"\",\"\",AI54+IF(AK54=\"XX\",VLOOKUP(\"WRONG\",Answers!AG:AJ,4,FALSE),AK54)+AL54)","v":""},{"$f":"IF($B54=\"\",\"\",UPPER(Mainframe!L53))","v":""},{"$f":"IF(AN54=\"\",\"\",IF(NOT(ISNA(VLOOKUP(AN54,Answers!AK:AN,4,FALSE))),VLOOKUP(AN54,Answers!AK:AN,4,FALSE),\"Help!\"))","v":""},null,{"$f":"IF(AO54=\"\",\"\",AM54+IF(AO54=\"XX\",VLOOKUP(\"WRONG\",Answers!AK:AN,4,FALSE),AO54)+AP54)","v":""},{"$f":"IF($B54=\"\",\"\",UPPER(Mainframe!M53))","v":""},{"$f":"IF(AR54=\"\",\"\",IF(NOT(ISNA(VLOOKUP(AR54,Answers!AO:AR,4,FALSE))),VLOOKUP(AR54,Answers!AO:AR,4,FALSE),\"Help!\"))","v":""},null,{"$f":"IF(AS54=\"\",\"\",AQ54+IF(AS54=\"XX\",VLOOKUP(\"WRONG\",Answers!AO:AR,4,FALSE),AS54)+AT54)","v":""},{"$f":"IF($B54=\"\",\"\",UPPER(Mainframe!N53))","v":""},{"$f":"IF(AV54=\"\",\"\",IF(NOT(ISNA(VLOOKUP(AV54,Answers!AS:AV,4,FALSE))),VLOOKUP(AV54,Answers!AS:AV,4,FALSE),\"Help!\"))","v":""},null,{"$f":"IF(AW54=\"\",\"\",AU54+IF(AW54=\"XX\",VLOOKUP(\"WRONG\",Answers!AS:AV,4,FALSE),AW54)+AX54)","v":""},{"$f":"IF($B54=\"\",\"\",UPPER(Mainframe!O53))","v":""},{"$f":"IF(AZ54=\"\",\"\",IF(NOT(ISNA(VLOOKUP(AZ54,Answers!AW:AZ,4,FALSE))),VLOOKUP(AZ54,Answers!AW:AZ,4,FALSE),\"Help!\"))","v":""},null,{"$f":"IF(BA54=\"\",\"\",AY54+IF(BA54=\"XX\",VLOOKUP(\"WRONG\",Answers!AW:AZ,4,FALSE),BA54)+BB54)","v":""},{"$f":"IF($B54=\"\",\"\",UPPER(Mainframe!P53))","v":""},{"$f":"IF(BD54=\"\",\"\",IF(NOT(ISNA(VLOOKUP(BD54,Answers!BA:BD,4,FALSE))),VLOOKUP(BD54,Answers!BA:BD,4,FALSE),\"Help!\"))","v":""},null,{"$f":"IF(BE54=\"\",\"\",BC54+IF(BE54=\"XX\",VLOOKUP(\"WRONG\",Answers!BA:BD,4,FALSE),BE54)+BF54)","v":""},{"$f":"IF($B54=\"\",\"\",UPPER(Mainframe!Q53))","v":""},{"$f":"IF(BH54=\"\",\"\",IF(NOT(ISNA(VLOOKUP(BH54,Answers!BE:BH,4,FALSE))),VLOOKUP(BH54,Answers!BE:BH,4,FALSE),\"Help!\"))","v":""},null,{"$f":"IF(BI54=\"\",\"\",BG54+IF(BI54=\"XX\",VLOOKUP(\"WRONG\",Answers!BE:BH,4,FALSE),BI54)+BJ54)","v":""},{"$f":"IF($B54=\"\",\"\",UPPER(Mainframe!R53))","v":""},{"$f":"IF(BL54=\"\",\"\",IF(NOT(ISNA(VLOOKUP(BL54,Answers!BI:BL,4,FALSE))),VLOOKUP(BL54,Answers!BI:BL,4,FALSE),\"Help!\"))","v":""},null,{"$f":"IF(BM54=\"\",\"\",BK54+IF(BM54=\"XX\",VLOOKUP(\"WRONG\",Answers!BI:BL,4,FALSE),BM54)+BN54)","v":""},{"$f":"IF($B54=\"\",\"\",UPPER(Mainframe!S53))","v":""},{"$f":"IF(BP54=\"\",\"\",IF(NOT(ISNA(VLOOKUP(BP54,Answers!BM:BP,4,FALSE))),VLOOKUP(BP54,Answers!BM:BP,4,FALSE),\"Help!\"))","v":""},null,{"$f":"IF(BQ54=\"\",\"\",BO54+IF(BQ54=\"XX\",VLOOKUP(\"WRONG\",Answers!BM:BP,4,FALSE),BQ54)+BR54)","v":""},{"$f":"IF($B54=\"\",\"\",UPPER(Mainframe!T53))","v":""},{"$f":"IF(BT54=\"\",\"\",IF(NOT(ISNA(VLOOKUP(BT54,Answers!BQ:BT,4,FALSE))),VLOOKUP(BT54,Answers!BQ:BT,4,FALSE),\"Help!\"))","v":""},null,{"$f":"IF(BU54=\"\",\"\",BS54+IF(BU54=\"XX\",VLOOKUP(\"WRONG\",Answers!BQ:BT,4,FALSE),BU54)+BV54)","v":""},{"$f":"IF($B54=\"\",\"\",UPPER(Mainframe!U53))","v":""},{"$f":"IF(BX54=\"\",\"\",IF(NOT(ISNA(VLOOKUP(BX54,Answers!BU:BX,4,FALSE))),VLOOKUP(BX54,Answers!BU:BX,4,FALSE),\"Help!\"))","v":""},null,{"$f":"IF(BY54=\"\",\"\",BW54+IF(BY54=\"XX\",VLOOKUP(\"WRONG\",Answers!BU:BX,4,FALSE),BY54)+BZ54)","v":""},{"$f":"IF($B54=\"\",\"\",UPPER(Mainframe!V53))","v":""},{"$f":"IF(CB54=\"\",\"\",IF(NOT(ISNA(VLOOKUP(CB54,Answers!BY:CB,4,FALSE))),VLOOKUP(CB54,Answers!BY:CB,4,FALSE),\"Help!\"))","v":""},null,{"$f":"IF(CC54=\"\",\"\",CA54+IF(CC54=\"XX\",VLOOKUP(\"WRONG\",Answers!BY:CB,4,FALSE),CC54)+CD54)","v":""},null,null,1,{"$f":"IF(INDEX($B:$CE,ROW(),QNO*4-1)=DROPNAME,DROPNAME,IF(INDEX($B:$CE,ROW(),QNO*4-1)=SHEEPNAME,SHEEPNAME,IF(INDEX($B:$CE,ROW(),QNO*4)=\"XX\",INDEX($B:$CE,ROW(),QNO*4-1),INDEX(OFFSET(Answers!B:B,0,(QNO-1)*4),MATCH(INDEX($A:$CB,ROW(),QNO*4),OFFSET(Answers!A:A,0,(QNO-1)*4),0))&\" — \"&IF(INDEX($B:$CE,ROW(),QNO*4)=1,\"[b]Singleton![/b]\",CONCATENATE(INDEX($B:$CE,ROW(),QNO*4),\" responses\")))))","v":{"$error":"#N/A"}},"//////////////////////////////////////////////////////////////////////////////////////////////////////////////////////////////////////////////////////////","No",{"$f":"IF(B54=0,\"\",CONCATENATE(INDEX($CH:$CL,ROW(),1),\". \",INDEX($B:$CE,ROW(),1),\" — [b]\")&IF(QNO=1,CONCATENATE(INDEX($B:$CE,ROW(),QNO*4+2),\"[/b] pts\"),CONCATENATE(INDEX($B:$CE,ROW(),QNO*4-2),\" + \",IF(INDEX($B:$CE,ROW(),QNO*4)=\"XX\",INDEX(Answers!$A:$ZZ,2,QNO*4),INDEX($B:$CE,ROW(),QNO*4)),\" = \",INDEX($B:$CE,ROW(),QNO*4+2),\"[/b] pts \",IF(INDEX($C:$CE,ROW(),QNO*4)>0,\"(penalty: +\"&INDEX($C:$CE,ROW(),QNO*4)&\") \",IF(INDEX($C:$CE,ROW(),QNO*4)<0,\"(bonus: \"&INDEX($C:$CE,ROW(),QNO*4)&\") \",\"\"))&\"[[b]\"&IF(CN54>0,\"[color=#00BF00]↑\"&CN54,IF(CN54<0,\"[color=#FF0000]↓\"&ABS(CN54),\"[color=#0000FF]unch\"))&\"[/b][/color]]\")))","v":"1.  — [b][/b] pts"},1,0]
["[*]",{"$f":"IF(Mainframe!B54=\"\",\"\",INDEX(Mainframe!$B:$B,C55+1,1))","v":""},53,{"$f":"IF($B55=\"\",\"\",UPPER(Mainframe!C54))","v":""},{"$f":"IF(D55=\"\",\"\",IF(NOT(ISNA(VLOOKUP(D55,Answers!A:D,4,FALSE))),VLOOKUP(D55,Answers!A:D,4,FALSE),\"Help!\"))","v":""},null,{"$f":"IF(E55=\"\",\"\",IF(E55=\"XX\",VLOOKUP(\"WRONG\",Answers!A:D,4,FALSE),E55)+F55)","v":""},{"$f":"IF($B55=\"\",\"\",UPPER(Mainframe!D54))","v":""},{"$f":"IF(H55=\"\",\"\",IF(NOT(ISNA(VLOOKUP(H55,Answers!E:H,4,FALSE))),VLOOKUP(H55,Answers!E:H,4,FALSE),\"Help!\"))","v":""},null,{"$f":"IF(I55=\"\",\"\",G55+IF(I55=\"XX\",VLOOKUP(\"WRONG\",Answers!E:H,4,FALSE),I55)+J55)","v":""},{"$f":"IF($B55=\"\",\"\",UPPER(Mainframe!E54))","v":""},{"$f":"IF(L55=\"\",\"\",IF(NOT(ISNA(VLOOKUP(L55,Answers!I:L,4,FALSE))),VLOOKUP(L55,Answers!I:L,4,FALSE),\"Help!\"))","v":""},null,{"$f":"IF(M55=\"\",\"\",K55+IF(M55=\"XX\",VLOOKUP(\"WRONG\",Answers!I:L,4,FALSE),M55)+N55)","v":""},{"$f":"IF($B55=\"\",\"\",UPPER(Mainframe!F54))","v":""},{"$f":"IF(P55=\"\",\"\",IF(NOT(ISNA(VLOOKUP(P55,Answers!M:P,4,FALSE))),VLOOKUP(P55,Answers!M:P,4,FALSE),\"Help!\"))","v":""},null,{"$f":"IF(Q55=\"\",\"\",O55+IF(Q55=\"XX\",VLOOKUP(\"WRONG\",Answers!M:P,4,FALSE),Q55)+R55)","v":""},{"$f":"IF($B55=\"\",\"\",UPPER(Mainframe!G54))","v":""},{"$f":"IF(T55=\"\",\"\",IF(NOT(ISNA(VLOOKUP(T55,Answers!Q:T,4,FALSE))),VLOOKUP(T55,Answers!Q:T,4,FALSE),\"Help!\"))","v":""},null,{"$f":"IF(U55=\"\",\"\",S55+IF(U55=\"XX\",VLOOKUP(\"WRONG\",Answers!Q:T,4,FALSE),U55)+V55)","v":""},{"$f":"IF($B55=\"\",\"\",UPPER(Mainframe!H54))","v":""},{"$f":"IF(X55=\"\",\"\",IF(NOT(ISNA(VLOOKUP(X55,Answers!U:X,4,FALSE))),VLOOKUP(X55,Answers!U:X,4,FALSE),\"Help!\"))","v":""},null,{"$f":"IF(Y55=\"\",\"\",W55+IF(Y55=\"XX\",VLOOKUP(\"WRONG\",Answers!U:X,4,FALSE),Y55)+Z55)","v":""},{"$f":"IF($B55=\"\",\"\",UPPER(Mainframe!I54))","v":""},{"$f":"IF(AB55=\"\",\"\",IF(NOT(ISNA(VLOOKUP(AB55,Answers!Y:AB,4,FALSE))),VLOOKUP(AB55,Answers!Y:AB,4,FALSE),\"Help!\"))","v":""},null,{"$f":"IF(AC55=\"\",\"\",AA55+IF(AC55=\"XX\",VLOOKUP(\"WRONG\",Answers!Y:AB,4,FALSE),AC55)+AD55)","v":""},{"$f":"IF($B55=\"\",\"\",UPPER(Mainframe!J54))","v":""},{"$f":"IF(AF55=\"\",\"\",IF(NOT(ISNA(VLOOKUP(AF55,Answers!AC:AF,4,FALSE))),VLOOKUP(AF55,Answers!AC:AF,4,FALSE),\"Help!\"))","v":""},null,{"$f":"IF(AG55=\"\",\"\",AE55+IF(AG55=\"XX\",VLOOKUP(\"WRONG\",Answers!AC:AF,4,FALSE),AG55)+AH55)","v":""},{"$f":"IF($B55=\"\",\"\",UPPER(Mainframe!K54))","v":""},{"$f":"IF(AJ55=\"\",\"\",IF(NOT(ISNA(VLOOKUP(AJ55,Answers!AG:AJ,4,FALSE))),VLOOKUP(AJ55,Answers!AG:AJ,4,FALSE),\"Help!\"))","v":""},null,{"$f":"IF(AK55=\"\",\"\",AI55+IF(AK55=\"XX\",VLOOKUP(\"WRONG\",Answers!AG:AJ,4,FALSE),AK55)+AL55)","v":""},{"$f":"IF($B55=\"\",\"\",UPPER(Mainframe!L54))","v":""},{"$f":"IF(AN55=\"\",\"\",IF(NOT(ISNA(VLOOKUP(AN55,Answers!AK:AN,4,FALSE))),VLOOKUP(AN55,Answers!AK:AN,4,FALSE),\"Help!\"))","v":""},null,{"$f":"IF(AO55=\"\",\"\",AM55+IF(AO55=\"XX\",VLOOKUP(\"WRONG\",Answers!AK:AN,4,FALSE),AO55)+AP55)","v":""},{"$f":"IF($B55=\"\",\"\",UPPER(Mainframe!M54))","v":""},{"$f":"IF(AR55=\"\",\"\",IF(NOT(ISNA(VLOOKUP(AR55,Answers!AO:AR,4,FALSE))),VLOOKUP(AR55,Answers!AO:AR,4,FALSE),\"Help!\"))","v":""},null,{"$f":"IF(AS55=\"\",\"\",AQ55+IF(AS55=\"XX\",VLOOKUP(\"WRONG\",Answers!AO:AR,4,FALSE),AS55)+AT55)","v":""},{"$f":"IF($B55=\"\",\"\",UPPER(Mainframe!N54))","v":""},{"$f":"IF(AV55=\"\",\"\",IF(NOT(ISNA(VLOOKUP(AV55,Answers!AS:AV,4,FALSE))),VLOOKUP(AV55,Answers!AS:AV,4,FALSE),\"Help!\"))","v":""},null,{"$f":"IF(AW55=\"\",\"\",AU55+IF(AW55=\"XX\",VLOOKUP(\"WRONG\",Answers!AS:AV,4,FALSE),AW55)+AX55)","v":""},{"$f":"IF($B55=\"\",\"\",UPPER(Mainframe!O54))","v":""},{"$f":"IF(AZ55=\"\",\"\",IF(NOT(ISNA(VLOOKUP(AZ55,Answers!AW:AZ,4,FALSE))),VLOOKUP(AZ55,Answers!AW:AZ,4,FALSE),\"Help!\"))","v":""},null,{"$f":"IF(BA55=\"\",\"\",AY55+IF(BA55=\"XX\",VLOOKUP(\"WRONG\",Answers!AW:AZ,4,FALSE),BA55)+BB55)","v":""},{"$f":"IF($B55=\"\",\"\",UPPER(Mainframe!P54))","v":""},{"$f":"IF(BD55=\"\",\"\",IF(NOT(ISNA(VLOOKUP(BD55,Answers!BA:BD,4,FALSE))),VLOOKUP(BD55,Answers!BA:BD,4,FALSE),\"Help!\"))","v":""},null,{"$f":"IF(BE55=\"\",\"\",BC55+IF(BE55=\"XX\",VLOOKUP(\"WRONG\",Answers!BA:BD,4,FALSE),BE55)+BF55)","v":""},{"$f":"IF($B55=\"\",\"\",UPPER(Mainframe!Q54))","v":""},{"$f":"IF(BH55=\"\",\"\",IF(NOT(ISNA(VLOOKUP(BH55,Answers!BE:BH,4,FALSE))),VLOOKUP(BH55,Answers!BE:BH,4,FALSE),\"Help!\"))","v":""},null,{"$f":"IF(BI55=\"\",\"\",BG55+IF(BI55=\"XX\",VLOOKUP(\"WRONG\",Answers!BE:BH,4,FALSE),BI55)+BJ55)","v":""},{"$f":"IF($B55=\"\",\"\",UPPER(Mainframe!R54))","v":""},{"$f":"IF(BL55=\"\",\"\",IF(NOT(ISNA(VLOOKUP(BL55,Answers!BI:BL,4,FALSE))),VLOOKUP(BL55,Answers!BI:BL,4,FALSE),\"Help!\"))","v":""},null,{"$f":"IF(BM55=\"\",\"\",BK55+IF(BM55=\"XX\",VLOOKUP(\"WRONG\",Answers!BI:BL,4,FALSE),BM55)+BN55)","v":""},{"$f":"IF($B55=\"\",\"\",UPPER(Mainframe!S54))","v":""},{"$f":"IF(BP55=\"\",\"\",IF(NOT(ISNA(VLOOKUP(BP55,Answers!BM:BP,4,FALSE))),VLOOKUP(BP55,Answers!BM:BP,4,FALSE),\"Help!\"))","v":""},null,{"$f":"IF(BQ55=\"\",\"\",BO55+IF(BQ55=\"XX\",VLOOKUP(\"WRONG\",Answers!BM:BP,4,FALSE),BQ55)+BR55)","v":""},{"$f":"IF($B55=\"\",\"\",UPPER(Mainframe!T54))","v":""},{"$f":"IF(BT55=\"\",\"\",IF(NOT(ISNA(VLOOKUP(BT55,Answers!BQ:BT,4,FALSE))),VLOOKUP(BT55,Answers!BQ:BT,4,FALSE),\"Help!\"))","v":""},null,{"$f":"IF(BU55=\"\",\"\",BS55+IF(BU55=\"XX\",VLOOKUP(\"WRONG\",Answers!BQ:BT,4,FALSE),BU55)+BV55)","v":""},{"$f":"IF($B55=\"\",\"\",UPPER(Mainframe!U54))","v":""},{"$f":"IF(BX55=\"\",\"\",IF(NOT(ISNA(VLOOKUP(BX55,Answers!BU:BX,4,FALSE))),VLOOKUP(BX55,Answers!BU:BX,4,FALSE),\"Help!\"))","v":""},null,{"$f":"IF(BY55=\"\",\"\",BW55+IF(BY55=\"XX\",VLOOKUP(\"WRONG\",Answers!BU:BX,4,FALSE),BY55)+BZ55)","v":""},{"$f":"IF($B55=\"\",\"\",UPPER(Mainframe!V54))","v":""},{"$f":"IF(CB55=\"\",\"\",IF(NOT(ISNA(VLOOKUP(CB55,Answers!BY:CB,4,FALSE))),VLOOKUP(CB55,Answers!BY:CB,4,FALSE),\"Help!\"))","v":""},null,{"$f":"IF(CC55=\"\",\"\",CA55+IF(CC55=\"XX\",VLOOKUP(\"WRONG\",Answers!BY:CB,4,FALSE),CC55)+CD55)","v":""},null,null,1,{"$f":"IF(INDEX($B:$CE,ROW(),QNO*4-1)=DROPNAME,DROPNAME,IF(INDEX($B:$CE,ROW(),QNO*4-1)=SHEEPNAME,SHEEPNAME,IF(INDEX($B:$CE,ROW(),QNO*4)=\"XX\",INDEX($B:$CE,ROW(),QNO*4-1),INDEX(OFFSET(Answers!B:B,0,(QNO-1)*4),MATCH(INDEX($A:$CB,ROW(),QNO*4),OFFSET(Answers!A:A,0,(QNO-1)*4),0))&\" — \"&IF(INDEX($B:$CE,ROW(),QNO*4)=1,\"[b]Singleton![/b]\",CONCATENATE(INDEX($B:$CE,ROW(),QNO*4),\" responses\")))))","v":{"$error":"#N/A"}},"////////////////////////////////////////////////////////////////////////////////////////////////////////////////////////////////////////////////////////","No",{"$f":"IF(B55=0,\"\",CONCATENATE(INDEX($CH:$CL,ROW(),1),\". \",INDEX($B:$CE,ROW(),1),\" — [b]\")&IF(QNO=1,CONCATENATE(INDEX($B:$CE,ROW(),QNO*4+2),\"[/b] pts\"),CONCATENATE(INDEX($B:$CE,ROW(),QNO*4-2),\" + \",IF(INDEX($B:$CE,ROW(),QNO*4)=\"XX\",INDEX(Answers!$A:$ZZ,2,QNO*4),INDEX($B:$CE,ROW(),QNO*4)),\" = \",INDEX($B:$CE,ROW(),QNO*4+2),\"[/b] pts \",IF(INDEX($C:$CE,ROW(),QNO*4)>0,\"(penalty: +\"&INDEX($C:$CE,ROW(),QNO*4)&\") \",IF(INDEX($C:$CE,ROW(),QNO*4)<0,\"(bonus: \"&INDEX($C:$CE,ROW(),QNO*4)&\") \",\"\"))&\"[[b]\"&IF(CN55>0,\"[color=#00BF00]↑\"&CN55,IF(CN55<0,\"[color=#FF0000]↓\"&ABS(CN55),\"[color=#0000FF]unch\"))&\"[/b][/color]]\")))","v":"1.  — [b][/b] pts"},1,0]
["[*]",{"$f":"IF(Mainframe!B55=\"\",\"\",INDEX(Mainframe!$B:$B,C56+1,1))","v":""},54,{"$f":"IF($B56=\"\",\"\",UPPER(Mainframe!C55))","v":""},{"$f":"IF(D56=\"\",\"\",IF(NOT(ISNA(VLOOKUP(D56,Answers!A:D,4,FALSE))),VLOOKUP(D56,Answers!A:D,4,FALSE),\"Help!\"))","v":""},null,{"$f":"IF(E56=\"\",\"\",IF(E56=\"XX\",VLOOKUP(\"WRONG\",Answers!A:D,4,FALSE),E56)+F56)","v":""},{"$f":"IF($B56=\"\",\"\",UPPER(Mainframe!D55))","v":""},{"$f":"IF(H56=\"\",\"\",IF(NOT(ISNA(VLOOKUP(H56,Answers!E:H,4,FALSE))),VLOOKUP(H56,Answers!E:H,4,FALSE),\"Help!\"))","v":""},null,{"$f":"IF(I56=\"\",\"\",G56+IF(I56=\"XX\",VLOOKUP(\"WRONG\",Answers!E:H,4,FALSE),I56)+J56)","v":""},{"$f":"IF($B56=\"\",\"\",UPPER(Mainframe!E55))","v":""},{"$f":"IF(L56=\"\",\"\",IF(NOT(ISNA(VLOOKUP(L56,Answers!I:L,4,FALSE))),VLOOKUP(L56,Answers!I:L,4,FALSE),\"Help!\"))","v":""},null,{"$f":"IF(M56=\"\",\"\",K56+IF(M56=\"XX\",VLOOKUP(\"WRONG\",Answers!I:L,4,FALSE),M56)+N56)","v":""},{"$f":"IF($B56=\"\",\"\",UPPER(Mainframe!F55))","v":""},{"$f":"IF(P56=\"\",\"\",IF(NOT(ISNA(VLOOKUP(P56,Answers!M:P,4,FALSE))),VLOOKUP(P56,Answers!M:P,4,FALSE),\"Help!\"))","v":""},null,{"$f":"IF(Q56=\"\",\"\",O56+IF(Q56=\"XX\",VLOOKUP(\"WRONG\",Answers!M:P,4,FALSE),Q56)+R56)","v":""},{"$f":"IF($B56=\"\",\"\",UPPER(Mainframe!G55))","v":""},{"$f":"IF(T56=\"\",\"\",IF(NOT(ISNA(VLOOKUP(T56,Answers!Q:T,4,FALSE))),VLOOKUP(T56,Answers!Q:T,4,FALSE),\"Help!\"))","v":""},null,{"$f":"IF(U56=\"\",\"\",S56+IF(U56=\"XX\",VLOOKUP(\"WRONG\",Answers!Q:T,4,FALSE),U56)+V56)","v":""},{"$f":"IF($B56=\"\",\"\",UPPER(Mainframe!H55))","v":""},{"$f":"IF(X56=\"\",\"\",IF(NOT(ISNA(VLOOKUP(X56,Answers!U:X,4,FALSE))),VLOOKUP(X56,Answers!U:X,4,FALSE),\"Help!\"))","v":""},null,{"$f":"IF(Y56=\"\",\"\",W56+IF(Y56=\"XX\",VLOOKUP(\"WRONG\",Answers!U:X,4,FALSE),Y56)+Z56)","v":""},{"$f":"IF($B56=\"\",\"\",UPPER(Mainframe!I55))","v":""},{"$f":"IF(AB56=\"\",\"\",IF(NOT(ISNA(VLOOKUP(AB56,Answers!Y:AB,4,FALSE))),VLOOKUP(AB56,Answers!Y:AB,4,FALSE),\"Help!\"))","v":""},null,{"$f":"IF(AC56=\"\",\"\",AA56+IF(AC56=\"XX\",VLOOKUP(\"WRONG\",Answers!Y:AB,4,FALSE),AC56)+AD56)","v":""},{"$f":"IF($B56=\"\",\"\",UPPER(Mainframe!J55))","v":""},{"$f":"IF(AF56=\"\",\"\",IF(NOT(ISNA(VLOOKUP(AF56,Answers!AC:AF,4,FALSE))),VLOOKUP(AF56,Answers!AC:AF,4,FALSE),\"Help!\"))","v":""},null,{"$f":"IF(AG56=\"\",\"\",AE56+IF(AG56=\"XX\",VLOOKUP(\"WRONG\",Answers!AC:AF,4,FALSE),AG56)+AH56)","v":""},{"$f":"IF($B56=\"\",\"\",UPPER(Mainframe!K55))","v":""},{"$f":"IF(AJ56=\"\",\"\",IF(NOT(ISNA(VLOOKUP(AJ56,Answers!AG:AJ,4,FALSE))),VLOOKUP(AJ56,Answers!AG:AJ,4,FALSE),\"Help!\"))","v":""},null,{"$f":"IF(AK56=\"\",\"\",AI56+IF(AK56=\"XX\",VLOOKUP(\"WRONG\",Answers!AG:AJ,4,FALSE),AK56)+AL56)","v":""},{"$f":"IF($B56=\"\",\"\",UPPER(Mainframe!L55))","v":""},{"$f":"IF(AN56=\"\",\"\",IF(NOT(ISNA(VLOOKUP(AN56,Answers!AK:AN,4,FALSE))),VLOOKUP(AN56,Answers!AK:AN,4,FALSE),\"Help!\"))","v":""},null,{"$f":"IF(AO56=\"\",\"\",AM56+IF(AO56=\"XX\",VLOOKUP(\"WRONG\",Answers!AK:AN,4,FALSE),AO56)+AP56)","v":""},{"$f":"IF($B56=\"\",\"\",UPPER(Mainframe!M55))","v":""},{"$f":"IF(AR56=\"\",\"\",IF(NOT(ISNA(VLOOKUP(AR56,Answers!AO:AR,4,FALSE))),VLOOKUP(AR56,Answers!AO:AR,4,FALSE),\"Help!\"))","v":""},null,{"$f":"IF(AS56=\"\",\"\",AQ56+IF(AS56=\"XX\",VLOOKUP(\"WRONG\",Answers!AO:AR,4,FALSE),AS56)+AT56)","v":""},{"$f":"IF($B56=\"\",\"\",UPPER(Mainframe!N55))","v":""},{"$f":"IF(AV56=\"\",\"\",IF(NOT(ISNA(VLOOKUP(AV56,Answers!AS:AV,4,FALSE))),VLOOKUP(AV56,Answers!AS:AV,4,FALSE),\"Help!\"))","v":""},null,{"$f":"IF(AW56=\"\",\"\",AU56+IF(AW56=\"XX\",VLOOKUP(\"WRONG\",Answers!AS:AV,4,FALSE),AW56)+AX56)","v":""},{"$f":"IF($B56=\"\",\"\",UPPER(Mainframe!O55))","v":""},{"$f":"IF(AZ56=\"\",\"\",IF(NOT(ISNA(VLOOKUP(AZ56,Answers!AW:AZ,4,FALSE))),VLOOKUP(AZ56,Answers!AW:AZ,4,FALSE),\"Help!\"))","v":""},null,{"$f":"IF(BA56=\"\",\"\",AY56+IF(BA56=\"XX\",VLOOKUP(\"WRONG\",Answers!AW:AZ,4,FALSE),BA56)+BB56)","v":""},{"$f":"IF($B56=\"\",\"\",UPPER(Mainframe!P55))","v":""},{"$f":"IF(BD56=\"\",\"\",IF(NOT(ISNA(VLOOKUP(BD56,Answers!BA:BD,4,FALSE))),VLOOKUP(BD56,Answers!BA:BD,4,FALSE),\"Help!\"))","v":""},null,{"$f":"IF(BE56=\"\",\"\",BC56+IF(BE56=\"XX\",VLOOKUP(\"WRONG\",Answers!BA:BD,4,FALSE),BE56)+BF56)","v":""},{"$f":"IF($B56=\"\",\"\",UPPER(Mainframe!Q55))","v":""},{"$f":"IF(BH56=\"\",\"\",IF(NOT(ISNA(VLOOKUP(BH56,Answers!BE:BH,4,FALSE))),VLOOKUP(BH56,Answers!BE:BH,4,FALSE),\"Help!\"))","v":""},null,{"$f":"IF(BI56=\"\",\"\",BG56+IF(BI56=\"XX\",VLOOKUP(\"WRONG\",Answers!BE:BH,4,FALSE),BI56)+BJ56)","v":""},{"$f":"IF($B56=\"\",\"\",UPPER(Mainframe!R55))","v":""},{"$f":"IF(BL56=\"\",\"\",IF(NOT(ISNA(VLOOKUP(BL56,Answers!BI:BL,4,FALSE))),VLOOKUP(BL56,Answers!BI:BL,4,FALSE),\"Help!\"))","v":""},null,{"$f":"IF(BM56=\"\",\"\",BK56+IF(BM56=\"XX\",VLOOKUP(\"WRONG\",Answers!BI:BL,4,FALSE),BM56)+BN56)","v":""},{"$f":"IF($B56=\"\",\"\",UPPER(Mainframe!S55))","v":""},{"$f":"IF(BP56=\"\",\"\",IF(NOT(ISNA(VLOOKUP(BP56,Answers!BM:BP,4,FALSE))),VLOOKUP(BP56,Answers!BM:BP,4,FALSE),\"Help!\"))","v":""},null,{"$f":"IF(BQ56=\"\",\"\",BO56+IF(BQ56=\"XX\",VLOOKUP(\"WRONG\",Answers!BM:BP,4,FALSE),BQ56)+BR56)","v":""},{"$f":"IF($B56=\"\",\"\",UPPER(Mainframe!T55))","v":""},{"$f":"IF(BT56=\"\",\"\",IF(NOT(ISNA(VLOOKUP(BT56,Answers!BQ:BT,4,FALSE))),VLOOKUP(BT56,Answers!BQ:BT,4,FALSE),\"Help!\"))","v":""},null,{"$f":"IF(BU56=\"\",\"\",BS56+IF(BU56=\"XX\",VLOOKUP(\"WRONG\",Answers!BQ:BT,4,FALSE),BU56)+BV56)","v":""},{"$f":"IF($B56=\"\",\"\",UPPER(Mainframe!U55))","v":""},{"$f":"IF(BX56=\"\",\"\",IF(NOT(ISNA(VLOOKUP(BX56,Answers!BU:BX,4,FALSE))),VLOOKUP(BX56,Answers!BU:BX,4,FALSE),\"Help!\"))","v":""},null,{"$f":"IF(BY56=\"\",\"\",BW56+IF(BY56=\"XX\",VLOOKUP(\"WRONG\",Answers!BU:BX,4,FALSE),BY56)+BZ56)","v":""},{"$f":"IF($B56=\"\",\"\",UPPER(Mainframe!V55))","v":""},{"$f":"IF(CB56=\"\",\"\",IF(NOT(ISNA(VLOOKUP(CB56,Answers!BY:CB,4,FALSE))),VLOOKUP(CB56,Answers!BY:CB,4,FALSE),\"Help!\"))","v":""},null,{"$f":"IF(CC56=\"\",\"\",CA56+IF(CC56=\"XX\",VLOOKUP(\"WRONG\",Answers!BY:CB,4,FALSE),CC56)+CD56)","v":""},null,null,1,{"$f":"IF(INDEX($B:$CE,ROW(),QNO*4-1)=DROPNAME,DROPNAME,IF(INDEX($B:$CE,ROW(),QNO*4-1)=SHEEPNAME,SHEEPNAME,IF(INDEX($B:$CE,ROW(),QNO*4)=\"XX\",INDEX($B:$CE,ROW(),QNO*4-1),INDEX(OFFSET(Answers!B:B,0,(QNO-1)*4),MATCH(INDEX($A:$CB,ROW(),QNO*4),OFFSET(Answers!A:A,0,(QNO-1)*4),0))&\" — \"&IF(INDEX($B:$CE,ROW(),QNO*4)=1,\"[b]Singleton![/b]\",CONCATENATE(INDEX($B:$CE,ROW(),QNO*4),\" responses\")))))","v":{"$error":"#N/A"}},"//////////////////////////////////////////////////////////////////////////////////////////////////////////////////////////////////////////////////////","No",{"$f":"IF(B56=0,\"\",CONCATENATE(INDEX($CH:$CL,ROW(),1),\". \",INDEX($B:$CE,ROW(),1),\" — [b]\")&IF(QNO=1,CONCATENATE(INDEX($B:$CE,ROW(),QNO*4+2),\"[/b] pts\"),CONCATENATE(INDEX($B:$CE,ROW(),QNO*4-2),\" + \",IF(INDEX($B:$CE,ROW(),QNO*4)=\"XX\",INDEX(Answers!$A:$ZZ,2,QNO*4),INDEX($B:$CE,ROW(),QNO*4)),\" = \",INDEX($B:$CE,ROW(),QNO*4+2),\"[/b] pts \",IF(INDEX($C:$CE,ROW(),QNO*4)>0,\"(penalty: +\"&INDEX($C:$CE,ROW(),QNO*4)&\") \",IF(INDEX($C:$CE,ROW(),QNO*4)<0,\"(bonus: \"&INDEX($C:$CE,ROW(),QNO*4)&\") \",\"\"))&\"[[b]\"&IF(CN56>0,\"[color=#00BF00]↑\"&CN56,IF(CN56<0,\"[color=#FF0000]↓\"&ABS(CN56),\"[color=#0000FF]unch\"))&\"[/b][/color]]\")))","v":"1.  — [b][/b] pts"},1,0]
["[*]",{"$f":"IF(Mainframe!B56=\"\",\"\",INDEX(Mainframe!$B:$B,C57+1,1))","v":""},55,{"$f":"IF($B57=\"\",\"\",UPPER(Mainframe!C56))","v":""},{"$f":"IF(D57=\"\",\"\",IF(NOT(ISNA(VLOOKUP(D57,Answers!A:D,4,FALSE))),VLOOKUP(D57,Answers!A:D,4,FALSE),\"Help!\"))","v":""},null,{"$f":"IF(E57=\"\",\"\",IF(E57=\"XX\",VLOOKUP(\"WRONG\",Answers!A:D,4,FALSE),E57)+F57)","v":""},{"$f":"IF($B57=\"\",\"\",UPPER(Mainframe!D56))","v":""},{"$f":"IF(H57=\"\",\"\",IF(NOT(ISNA(VLOOKUP(H57,Answers!E:H,4,FALSE))),VLOOKUP(H57,Answers!E:H,4,FALSE),\"Help!\"))","v":""},null,{"$f":"IF(I57=\"\",\"\",G57+IF(I57=\"XX\",VLOOKUP(\"WRONG\",Answers!E:H,4,FALSE),I57)+J57)","v":""},{"$f":"IF($B57=\"\",\"\",UPPER(Mainframe!E56))","v":""},{"$f":"IF(L57=\"\",\"\",IF(NOT(ISNA(VLOOKUP(L57,Answers!I:L,4,FALSE))),VLOOKUP(L57,Answers!I:L,4,FALSE),\"Help!\"))","v":""},null,{"$f":"IF(M57=\"\",\"\",K57+IF(M57=\"XX\",VLOOKUP(\"WRONG\",Answers!I:L,4,FALSE),M57)+N57)","v":""},{"$f":"IF($B57=\"\",\"\",UPPER(Mainframe!F56))","v":""},{"$f":"IF(P57=\"\",\"\",IF(NOT(ISNA(VLOOKUP(P57,Answers!M:P,4,FALSE))),VLOOKUP(P57,Answers!M:P,4,FALSE),\"Help!\"))","v":""},null,{"$f":"IF(Q57=\"\",\"\",O57+IF(Q57=\"XX\",VLOOKUP(\"WRONG\",Answers!M:P,4,FALSE),Q57)+R57)","v":""},{"$f":"IF($B57=\"\",\"\",UPPER(Mainframe!G56))","v":""},{"$f":"IF(T57=\"\",\"\",IF(NOT(ISNA(VLOOKUP(T57,Answers!Q:T,4,FALSE))),VLOOKUP(T57,Answers!Q:T,4,FALSE),\"Help!\"))","v":""},null,{"$f":"IF(U57=\"\",\"\",S57+IF(U57=\"XX\",VLOOKUP(\"WRONG\",Answers!Q:T,4,FALSE),U57)+V57)","v":""},{"$f":"IF($B57=\"\",\"\",UPPER(Mainframe!H56))","v":""},{"$f":"IF(X57=\"\",\"\",IF(NOT(ISNA(VLOOKUP(X57,Answers!U:X,4,FALSE))),VLOOKUP(X57,Answers!U:X,4,FALSE),\"Help!\"))","v":""},null,{"$f":"IF(Y57=\"\",\"\",W57+IF(Y57=\"XX\",VLOOKUP(\"WRONG\",Answers!U:X,4,FALSE),Y57)+Z57)","v":""},{"$f":"IF($B57=\"\",\"\",UPPER(Mainframe!I56))","v":""},{"$f":"IF(AB57=\"\",\"\",IF(NOT(ISNA(VLOOKUP(AB57,Answers!Y:AB,4,FALSE))),VLOOKUP(AB57,Answers!Y:AB,4,FALSE),\"Help!\"))","v":""},null,{"$f":"IF(AC57=\"\",\"\",AA57+IF(AC57=\"XX\",VLOOKUP(\"WRONG\",Answers!Y:AB,4,FALSE),AC57)+AD57)","v":""},{"$f":"IF($B57=\"\",\"\",UPPER(Mainframe!J56))","v":""},{"$f":"IF(AF57=\"\",\"\",IF(NOT(ISNA(VLOOKUP(AF57,Answers!AC:AF,4,FALSE))),VLOOKUP(AF57,Answers!AC:AF,4,FALSE),\"Help!\"))","v":""},null,{"$f":"IF(AG57=\"\",\"\",AE57+IF(AG57=\"XX\",VLOOKUP(\"WRONG\",Answers!AC:AF,4,FALSE),AG57)+AH57)","v":""},{"$f":"IF($B57=\"\",\"\",UPPER(Mainframe!K56))","v":""},{"$f":"IF(AJ57=\"\",\"\",IF(NOT(ISNA(VLOOKUP(AJ57,Answers!AG:AJ,4,FALSE))),VLOOKUP(AJ57,Answers!AG:AJ,4,FALSE),\"Help!\"))","v":""},null,{"$f":"IF(AK57=\"\",\"\",AI57+IF(AK57=\"XX\",VLOOKUP(\"WRONG\",Answers!AG:AJ,4,FALSE),AK57)+AL57)","v":""},{"$f":"IF($B57=\"\",\"\",UPPER(Mainframe!L56))","v":""},{"$f":"IF(AN57=\"\",\"\",IF(NOT(ISNA(VLOOKUP(AN57,Answers!AK:AN,4,FALSE))),VLOOKUP(AN57,Answers!AK:AN,4,FALSE),\"Help!\"))","v":""},null,{"$f":"IF(AO57=\"\",\"\",AM57+IF(AO57=\"XX\",VLOOKUP(\"WRONG\",Answers!AK:AN,4,FALSE),AO57)+AP57)","v":""},{"$f":"IF($B57=\"\",\"\",UPPER(Mainframe!M56))","v":""},{"$f":"IF(AR57=\"\",\"\",IF(NOT(ISNA(VLOOKUP(AR57,Answers!AO:AR,4,FALSE))),VLOOKUP(AR57,Answers!AO:AR,4,FALSE),\"Help!\"))","v":""},null,{"$f":"IF(AS57=\"\",\"\",AQ57+IF(AS57=\"XX\",VLOOKUP(\"WRONG\",Answers!AO:AR,4,FALSE),AS57)+AT57)","v":""},{"$f":"IF($B57=\"\",\"\",UPPER(Mainframe!N56))","v":""},{"$f":"IF(AV57=\"\",\"\",IF(NOT(ISNA(VLOOKUP(AV57,Answers!AS:AV,4,FALSE))),VLOOKUP(AV57,Answers!AS:AV,4,FALSE),\"Help!\"))","v":""},null,{"$f":"IF(AW57=\"\",\"\",AU57+IF(AW57=\"XX\",VLOOKUP(\"WRONG\",Answers!AS:AV,4,FALSE),AW57)+AX57)","v":""},{"$f":"IF($B57=\"\",\"\",UPPER(Mainframe!O56))","v":""},{"$f":"IF(AZ57=\"\",\"\",IF(NOT(ISNA(VLOOKUP(AZ57,Answers!AW:AZ,4,FALSE))),VLOOKUP(AZ57,Answers!AW:AZ,4,FALSE),\"Help!\"))","v":""},null,{"$f":"IF(BA57=\"\",\"\",AY57+IF(BA57=\"XX\",VLOOKUP(\"WRONG\",Answers!AW:AZ,4,FALSE),BA57)+BB57)","v":""},{"$f":"IF($B57=\"\",\"\",UPPER(Mainframe!P56))","v":""},{"$f":"IF(BD57=\"\",\"\",IF(NOT(ISNA(VLOOKUP(BD57,Answers!BA:BD,4,FALSE))),VLOOKUP(BD57,Answers!BA:BD,4,FALSE),\"Help!\"))","v":""},null,{"$f":"IF(BE57=\"\",\"\",BC57+IF(BE57=\"XX\",VLOOKUP(\"WRONG\",Answers!BA:BD,4,FALSE),BE57)+BF57)","v":""},{"$f":"IF($B57=\"\",\"\",UPPER(Mainframe!Q56))","v":""},{"$f":"IF(BH57=\"\",\"\",IF(NOT(ISNA(VLOOKUP(BH57,Answers!BE:BH,4,FALSE))),VLOOKUP(BH57,Answers!BE:BH,4,FALSE),\"Help!\"))","v":""},null,{"$f":"IF(BI57=\"\",\"\",BG57+IF(BI57=\"XX\",VLOOKUP(\"WRONG\",Answers!BE:BH,4,FALSE),BI57)+BJ57)","v":""},{"$f":"IF($B57=\"\",\"\",UPPER(Mainframe!R56))","v":""},{"$f":"IF(BL57=\"\",\"\",IF(NOT(ISNA(VLOOKUP(BL57,Answers!BI:BL,4,FALSE))),VLOOKUP(BL57,Answers!BI:BL,4,FALSE),\"Help!\"))","v":""},null,{"$f":"IF(BM57=\"\",\"\",BK57+IF(BM57=\"XX\",VLOOKUP(\"WRONG\",Answers!BI:BL,4,FALSE),BM57)+BN57)","v":""},{"$f":"IF($B57=\"\",\"\",UPPER(Mainframe!S56))","v":""},{"$f":"IF(BP57=\"\",\"\",IF(NOT(ISNA(VLOOKUP(BP57,Answers!BM:BP,4,FALSE))),VLOOKUP(BP57,Answers!BM:BP,4,FALSE),\"Help!\"))","v":""},null,{"$f":"IF(BQ57=\"\",\"\",BO57+IF(BQ57=\"XX\",VLOOKUP(\"WRONG\",Answers!BM:BP,4,FALSE),BQ57)+BR57)","v":""},{"$f":"IF($B57=\"\",\"\",UPPER(Mainframe!T56))","v":""},{"$f":"IF(BT57=\"\",\"\",IF(NOT(ISNA(VLOOKUP(BT57,Answers!BQ:BT,4,FALSE))),VLOOKUP(BT57,Answers!BQ:BT,4,FALSE),\"Help!\"))","v":""},null,{"$f":"IF(BU57=\"\",\"\",BS57+IF(BU57=\"XX\",VLOOKUP(\"WRONG\",Answers!BQ:BT,4,FALSE),BU57)+BV57)","v":""},{"$f":"IF($B57=\"\",\"\",UPPER(Mainframe!U56))","v":""},{"$f":"IF(BX57=\"\",\"\",IF(NOT(ISNA(VLOOKUP(BX57,Answers!BU:BX,4,FALSE))),VLOOKUP(BX57,Answers!BU:BX,4,FALSE),\"Help!\"))","v":""},null,{"$f":"IF(BY57=\"\",\"\",BW57+IF(BY57=\"XX\",VLOOKUP(\"WRONG\",Answers!BU:BX,4,FALSE),BY57)+BZ57)","v":""},{"$f":"IF($B57=\"\",\"\",UPPER(Mainframe!V56))","v":""},{"$f":"IF(CB57=\"\",\"\",IF(NOT(ISNA(VLOOKUP(CB57,Answers!BY:CB,4,FALSE))),VLOOKUP(CB57,Answers!BY:CB,4,FALSE),\"Help!\"))","v":""},null,{"$f":"IF(CC57=\"\",\"\",CA57+IF(CC57=\"XX\",VLOOKUP(\"WRONG\",Answers!BY:CB,4,FALSE),CC57)+CD57)","v":""},null,null,1,{"$f":"IF(INDEX($B:$CE,ROW(),QNO*4-1)=DROPNAME,DROPNAME,IF(INDEX($B:$CE,ROW(),QNO*4-1)=SHEEPNAME,SHEEPNAME,IF(INDEX($B:$CE,ROW(),QNO*4)=\"XX\",INDEX($B:$CE,ROW(),QNO*4-1),INDEX(OFFSET(Answers!B:B,0,(QNO-1)*4),MATCH(INDEX($A:$CB,ROW(),QNO*4),OFFSET(Answers!A:A,0,(QNO-1)*4),0))&\" — \"&IF(INDEX($B:$CE,ROW(),QNO*4)=1,\"[b]Singleton![/b]\",CONCATENATE(INDEX($B:$CE,ROW(),QNO*4),\" responses\")))))","v":{"$error":"#N/A"}},"////////////////////////////////////////////////////////////////////////////////////////////////////////////////////////////////////////////////////","No",{"$f":"IF(B57=0,\"\",CONCATENATE(INDEX($CH:$CL,ROW(),1),\". \",INDEX($B:$CE,ROW(),1),\" — [b]\")&IF(QNO=1,CONCATENATE(INDEX($B:$CE,ROW(),QNO*4+2),\"[/b] pts\"),CONCATENATE(INDEX($B:$CE,ROW(),QNO*4-2),\" + \",IF(INDEX($B:$CE,ROW(),QNO*4)=\"XX\",INDEX(Answers!$A:$ZZ,2,QNO*4),INDEX($B:$CE,ROW(),QNO*4)),\" = \",INDEX($B:$CE,ROW(),QNO*4+2),\"[/b] pts \",IF(INDEX($C:$CE,ROW(),QNO*4)>0,\"(penalty: +\"&INDEX($C:$CE,ROW(),QNO*4)&\") \",IF(INDEX($C:$CE,ROW(),QNO*4)<0,\"(bonus: \"&INDEX($C:$CE,ROW(),QNO*4)&\") \",\"\"))&\"[[b]\"&IF(CN57>0,\"[color=#00BF00]↑\"&CN57,IF(CN57<0,\"[color=#FF0000]↓\"&ABS(CN57),\"[color=#0000FF]unch\"))&\"[/b][/color]]\")))","v":"1.  — [b][/b] pts"},1,0]
["[*]",{"$f":"IF(Mainframe!B57=\"\",\"\",INDEX(Mainframe!$B:$B,C58+1,1))","v":""},56,{"$f":"IF($B58=\"\",\"\",UPPER(Mainframe!C57))","v":""},{"$f":"IF(D58=\"\",\"\",IF(NOT(ISNA(VLOOKUP(D58,Answers!A:D,4,FALSE))),VLOOKUP(D58,Answers!A:D,4,FALSE),\"Help!\"))","v":""},null,{"$f":"IF(E58=\"\",\"\",IF(E58=\"XX\",VLOOKUP(\"WRONG\",Answers!A:D,4,FALSE),E58)+F58)","v":""},{"$f":"IF($B58=\"\",\"\",UPPER(Mainframe!D57))","v":""},{"$f":"IF(H58=\"\",\"\",IF(NOT(ISNA(VLOOKUP(H58,Answers!E:H,4,FALSE))),VLOOKUP(H58,Answers!E:H,4,FALSE),\"Help!\"))","v":""},null,{"$f":"IF(I58=\"\",\"\",G58+IF(I58=\"XX\",VLOOKUP(\"WRONG\",Answers!E:H,4,FALSE),I58)+J58)","v":""},{"$f":"IF($B58=\"\",\"\",UPPER(Mainframe!E57))","v":""},{"$f":"IF(L58=\"\",\"\",IF(NOT(ISNA(VLOOKUP(L58,Answers!I:L,4,FALSE))),VLOOKUP(L58,Answers!I:L,4,FALSE),\"Help!\"))","v":""},null,{"$f":"IF(M58=\"\",\"\",K58+IF(M58=\"XX\",VLOOKUP(\"WRONG\",Answers!I:L,4,FALSE),M58)+N58)","v":""},{"$f":"IF($B58=\"\",\"\",UPPER(Mainframe!F57))","v":""},{"$f":"IF(P58=\"\",\"\",IF(NOT(ISNA(VLOOKUP(P58,Answers!M:P,4,FALSE))),VLOOKUP(P58,Answers!M:P,4,FALSE),\"Help!\"))","v":""},null,{"$f":"IF(Q58=\"\",\"\",O58+IF(Q58=\"XX\",VLOOKUP(\"WRONG\",Answers!M:P,4,FALSE),Q58)+R58)","v":""},{"$f":"IF($B58=\"\",\"\",UPPER(Mainframe!G57))","v":""},{"$f":"IF(T58=\"\",\"\",IF(NOT(ISNA(VLOOKUP(T58,Answers!Q:T,4,FALSE))),VLOOKUP(T58,Answers!Q:T,4,FALSE),\"Help!\"))","v":""},null,{"$f":"IF(U58=\"\",\"\",S58+IF(U58=\"XX\",VLOOKUP(\"WRONG\",Answers!Q:T,4,FALSE),U58)+V58)","v":""},{"$f":"IF($B58=\"\",\"\",UPPER(Mainframe!H57))","v":""},{"$f":"IF(X58=\"\",\"\",IF(NOT(ISNA(VLOOKUP(X58,Answers!U:X,4,FALSE))),VLOOKUP(X58,Answers!U:X,4,FALSE),\"Help!\"))","v":""},null,{"$f":"IF(Y58=\"\",\"\",W58+IF(Y58=\"XX\",VLOOKUP(\"WRONG\",Answers!U:X,4,FALSE),Y58)+Z58)","v":""},{"$f":"IF($B58=\"\",\"\",UPPER(Mainframe!I57))","v":""},{"$f":"IF(AB58=\"\",\"\",IF(NOT(ISNA(VLOOKUP(AB58,Answers!Y:AB,4,FALSE))),VLOOKUP(AB58,Answers!Y:AB,4,FALSE),\"Help!\"))","v":""},null,{"$f":"IF(AC58=\"\",\"\",AA58+IF(AC58=\"XX\",VLOOKUP(\"WRONG\",Answers!Y:AB,4,FALSE),AC58)+AD58)","v":""},{"$f":"IF($B58=\"\",\"\",UPPER(Mainframe!J57))","v":""},{"$f":"IF(AF58=\"\",\"\",IF(NOT(ISNA(VLOOKUP(AF58,Answers!AC:AF,4,FALSE))),VLOOKUP(AF58,Answers!AC:AF,4,FALSE),\"Help!\"))","v":""},null,{"$f":"IF(AG58=\"\",\"\",AE58+IF(AG58=\"XX\",VLOOKUP(\"WRONG\",Answers!AC:AF,4,FALSE),AG58)+AH58)","v":""},{"$f":"IF($B58=\"\",\"\",UPPER(Mainframe!K57))","v":""},{"$f":"IF(AJ58=\"\",\"\",IF(NOT(ISNA(VLOOKUP(AJ58,Answers!AG:AJ,4,FALSE))),VLOOKUP(AJ58,Answers!AG:AJ,4,FALSE),\"Help!\"))","v":""},null,{"$f":"IF(AK58=\"\",\"\",AI58+IF(AK58=\"XX\",VLOOKUP(\"WRONG\",Answers!AG:AJ,4,FALSE),AK58)+AL58)","v":""},{"$f":"IF($B58=\"\",\"\",UPPER(Mainframe!L57))","v":""},{"$f":"IF(AN58=\"\",\"\",IF(NOT(ISNA(VLOOKUP(AN58,Answers!AK:AN,4,FALSE))),VLOOKUP(AN58,Answers!AK:AN,4,FALSE),\"Help!\"))","v":""},null,{"$f":"IF(AO58=\"\",\"\",AM58+IF(AO58=\"XX\",VLOOKUP(\"WRONG\",Answers!AK:AN,4,FALSE),AO58)+AP58)","v":""},{"$f":"IF($B58=\"\",\"\",UPPER(Mainframe!M57))","v":""},{"$f":"IF(AR58=\"\",\"\",IF(NOT(ISNA(VLOOKUP(AR58,Answers!AO:AR,4,FALSE))),VLOOKUP(AR58,Answers!AO:AR,4,FALSE),\"Help!\"))","v":""},null,{"$f":"IF(AS58=\"\",\"\",AQ58+IF(AS58=\"XX\",VLOOKUP(\"WRONG\",Answers!AO:AR,4,FALSE),AS58)+AT58)","v":""},{"$f":"IF($B58=\"\",\"\",UPPER(Mainframe!N57))","v":""},{"$f":"IF(AV58=\"\",\"\",IF(NOT(ISNA(VLOOKUP(AV58,Answers!AS:AV,4,FALSE))),VLOOKUP(AV58,Answers!AS:AV,4,FALSE),\"Help!\"))","v":""},null,{"$f":"IF(AW58=\"\",\"\",AU58+IF(AW58=\"XX\",VLOOKUP(\"WRONG\",Answers!AS:AV,4,FALSE),AW58)+AX58)","v":""},{"$f":"IF($B58=\"\",\"\",UPPER(Mainframe!O57))","v":""},{"$f":"IF(AZ58=\"\",\"\",IF(NOT(ISNA(VLOOKUP(AZ58,Answers!AW:AZ,4,FALSE))),VLOOKUP(AZ58,Answers!AW:AZ,4,FALSE),\"Help!\"))","v":""},null,{"$f":"IF(BA58=\"\",\"\",AY58+IF(BA58=\"XX\",VLOOKUP(\"WRONG\",Answers!AW:AZ,4,FALSE),BA58)+BB58)","v":""},{"$f":"IF($B58=\"\",\"\",UPPER(Mainframe!P57))","v":""},{"$f":"IF(BD58=\"\",\"\",IF(NOT(ISNA(VLOOKUP(BD58,Answers!BA:BD,4,FALSE))),VLOOKUP(BD58,Answers!BA:BD,4,FALSE),\"Help!\"))","v":""},null,{"$f":"IF(BE58=\"\",\"\",BC58+IF(BE58=\"XX\",VLOOKUP(\"WRONG\",Answers!BA:BD,4,FALSE),BE58)+BF58)","v":""},{"$f":"IF($B58=\"\",\"\",UPPER(Mainframe!Q57))","v":""},{"$f":"IF(BH58=\"\",\"\",IF(NOT(ISNA(VLOOKUP(BH58,Answers!BE:BH,4,FALSE))),VLOOKUP(BH58,Answers!BE:BH,4,FALSE),\"Help!\"))","v":""},null,{"$f":"IF(BI58=\"\",\"\",BG58+IF(BI58=\"XX\",VLOOKUP(\"WRONG\",Answers!BE:BH,4,FALSE),BI58)+BJ58)","v":""},{"$f":"IF($B58=\"\",\"\",UPPER(Mainframe!R57))","v":""},{"$f":"IF(BL58=\"\",\"\",IF(NOT(ISNA(VLOOKUP(BL58,Answers!BI:BL,4,FALSE))),VLOOKUP(BL58,Answers!BI:BL,4,FALSE),\"Help!\"))","v":""},null,{"$f":"IF(BM58=\"\",\"\",BK58+IF(BM58=\"XX\",VLOOKUP(\"WRONG\",Answers!BI:BL,4,FALSE),BM58)+BN58)","v":""},{"$f":"IF($B58=\"\",\"\",UPPER(Mainframe!S57))","v":""},{"$f":"IF(BP58=\"\",\"\",IF(NOT(ISNA(VLOOKUP(BP58,Answers!BM:BP,4,FALSE))),VLOOKUP(BP58,Answers!BM:BP,4,FALSE),\"Help!\"))","v":""},null,{"$f":"IF(BQ58=\"\",\"\",BO58+IF(BQ58=\"XX\",VLOOKUP(\"WRONG\",Answers!BM:BP,4,FALSE),BQ58)+BR58)","v":""},{"$f":"IF($B58=\"\",\"\",UPPER(Mainframe!T57))","v":""},{"$f":"IF(BT58=\"\",\"\",IF(NOT(ISNA(VLOOKUP(BT58,Answers!BQ:BT,4,FALSE))),VLOOKUP(BT58,Answers!BQ:BT,4,FALSE),\"Help!\"))","v":""},null,{"$f":"IF(BU58=\"\",\"\",BS58+IF(BU58=\"XX\",VLOOKUP(\"WRONG\",Answers!BQ:BT,4,FALSE),BU58)+BV58)","v":""},{"$f":"IF($B58=\"\",\"\",UPPER(Mainframe!U57))","v":""},{"$f":"IF(BX58=\"\",\"\",IF(NOT(ISNA(VLOOKUP(BX58,Answers!BU:BX,4,FALSE))),VLOOKUP(BX58,Answers!BU:BX,4,FALSE),\"Help!\"))","v":""},null,{"$f":"IF(BY58=\"\",\"\",BW58+IF(BY58=\"XX\",VLOOKUP(\"WRONG\",Answers!BU:BX,4,FALSE),BY58)+BZ58)","v":""},{"$f":"IF($B58=\"\",\"\",UPPER(Mainframe!V57))","v":""},{"$f":"IF(CB58=\"\",\"\",IF(NOT(ISNA(VLOOKUP(CB58,Answers!BY:CB,4,FALSE))),VLOOKUP(CB58,Answers!BY:CB,4,FALSE),\"Help!\"))","v":""},null,{"$f":"IF(CC58=\"\",\"\",CA58+IF(CC58=\"XX\",VLOOKUP(\"WRONG\",Answers!BY:CB,4,FALSE),CC58)+CD58)","v":""},null,null,1,{"$f":"IF(INDEX($B:$CE,ROW(),QNO*4-1)=DROPNAME,DROPNAME,IF(INDEX($B:$CE,ROW(),QNO*4-1)=SHEEPNAME,SHEEPNAME,IF(INDEX($B:$CE,ROW(),QNO*4)=\"XX\",INDEX($B:$CE,ROW(),QNO*4-1),INDEX(OFFSET(Answers!B:B,0,(QNO-1)*4),MATCH(INDEX($A:$CB,ROW(),QNO*4),OFFSET(Answers!A:A,0,(QNO-1)*4),0))&\" — \"&IF(INDEX($B:$CE,ROW(),QNO*4)=1,\"[b]Singleton![/b]\",CONCATENATE(INDEX($B:$CE,ROW(),QNO*4),\" responses\")))))","v":{"$error":"#N/A"}},"//////////////////////////////////////////////////////////////////////////////////////////////////////////////////////////////////////////////////","No",{"$f":"IF(B58=0,\"\",CONCATENATE(INDEX($CH:$CL,ROW(),1),\". \",INDEX($B:$CE,ROW(),1),\" — [b]\")&IF(QNO=1,CONCATENATE(INDEX($B:$CE,ROW(),QNO*4+2),\"[/b] pts\"),CONCATENATE(INDEX($B:$CE,ROW(),QNO*4-2),\" + \",IF(INDEX($B:$CE,ROW(),QNO*4)=\"XX\",INDEX(Answers!$A:$ZZ,2,QNO*4),INDEX($B:$CE,ROW(),QNO*4)),\" = \",INDEX($B:$CE,ROW(),QNO*4+2),\"[/b] pts \",IF(INDEX($C:$CE,ROW(),QNO*4)>0,\"(penalty: +\"&INDEX($C:$CE,ROW(),QNO*4)&\") \",IF(INDEX($C:$CE,ROW(),QNO*4)<0,\"(bonus: \"&INDEX($C:$CE,ROW(),QNO*4)&\") \",\"\"))&\"[[b]\"&IF(CN58>0,\"[color=#00BF00]↑\"&CN58,IF(CN58<0,\"[color=#FF0000]↓\"&ABS(CN58),\"[color=#0000FF]unch\"))&\"[/b][/color]]\")))","v":"1.  — [b][/b] pts"},1,0]
["[*]",{"$f":"IF(Mainframe!B58=\"\",\"\",INDEX(Mainframe!$B:$B,C59+1,1))","v":""},57,{"$f":"IF($B59=\"\",\"\",UPPER(Mainframe!C58))","v":""},{"$f":"IF(D59=\"\",\"\",IF(NOT(ISNA(VLOOKUP(D59,Answers!A:D,4,FALSE))),VLOOKUP(D59,Answers!A:D,4,FALSE),\"Help!\"))","v":""},null,{"$f":"IF(E59=\"\",\"\",IF(E59=\"XX\",VLOOKUP(\"WRONG\",Answers!A:D,4,FALSE),E59)+F59)","v":""},{"$f":"IF($B59=\"\",\"\",UPPER(Mainframe!D58))","v":""},{"$f":"IF(H59=\"\",\"\",IF(NOT(ISNA(VLOOKUP(H59,Answers!E:H,4,FALSE))),VLOOKUP(H59,Answers!E:H,4,FALSE),\"Help!\"))","v":""},null,{"$f":"IF(I59=\"\",\"\",G59+IF(I59=\"XX\",VLOOKUP(\"WRONG\",Answers!E:H,4,FALSE),I59)+J59)","v":""},{"$f":"IF($B59=\"\",\"\",UPPER(Mainframe!E58))","v":""},{"$f":"IF(L59=\"\",\"\",IF(NOT(ISNA(VLOOKUP(L59,Answers!I:L,4,FALSE))),VLOOKUP(L59,Answers!I:L,4,FALSE),\"Help!\"))","v":""},null,{"$f":"IF(M59=\"\",\"\",K59+IF(M59=\"XX\",VLOOKUP(\"WRONG\",Answers!I:L,4,FALSE),M59)+N59)","v":""},{"$f":"IF($B59=\"\",\"\",UPPER(Mainframe!F58))","v":""},{"$f":"IF(P59=\"\",\"\",IF(NOT(ISNA(VLOOKUP(P59,Answers!M:P,4,FALSE))),VLOOKUP(P59,Answers!M:P,4,FALSE),\"Help!\"))","v":""},null,{"$f":"IF(Q59=\"\",\"\",O59+IF(Q59=\"XX\",VLOOKUP(\"WRONG\",Answers!M:P,4,FALSE),Q59)+R59)","v":""},{"$f":"IF($B59=\"\",\"\",UPPER(Mainframe!G58))","v":""},{"$f":"IF(T59=\"\",\"\",IF(NOT(ISNA(VLOOKUP(T59,Answers!Q:T,4,FALSE))),VLOOKUP(T59,Answers!Q:T,4,FALSE),\"Help!\"))","v":""},null,{"$f":"IF(U59=\"\",\"\",S59+IF(U59=\"XX\",VLOOKUP(\"WRONG\",Answers!Q:T,4,FALSE),U59)+V59)","v":""},{"$f":"IF($B59=\"\",\"\",UPPER(Mainframe!H58))","v":""},{"$f":"IF(X59=\"\",\"\",IF(NOT(ISNA(VLOOKUP(X59,Answers!U:X,4,FALSE))),VLOOKUP(X59,Answers!U:X,4,FALSE),\"Help!\"))","v":""},null,{"$f":"IF(Y59=\"\",\"\",W59+IF(Y59=\"XX\",VLOOKUP(\"WRONG\",Answers!U:X,4,FALSE),Y59)+Z59)","v":""},{"$f":"IF($B59=\"\",\"\",UPPER(Mainframe!I58))","v":""},{"$f":"IF(AB59=\"\",\"\",IF(NOT(ISNA(VLOOKUP(AB59,Answers!Y:AB,4,FALSE))),VLOOKUP(AB59,Answers!Y:AB,4,FALSE),\"Help!\"))","v":""},null,{"$f":"IF(AC59=\"\",\"\",AA59+IF(AC59=\"XX\",VLOOKUP(\"WRONG\",Answers!Y:AB,4,FALSE),AC59)+AD59)","v":""},{"$f":"IF($B59=\"\",\"\",UPPER(Mainframe!J58))","v":""},{"$f":"IF(AF59=\"\",\"\",IF(NOT(ISNA(VLOOKUP(AF59,Answers!AC:AF,4,FALSE))),VLOOKUP(AF59,Answers!AC:AF,4,FALSE),\"Help!\"))","v":""},null,{"$f":"IF(AG59=\"\",\"\",AE59+IF(AG59=\"XX\",VLOOKUP(\"WRONG\",Answers!AC:AF,4,FALSE),AG59)+AH59)","v":""},{"$f":"IF($B59=\"\",\"\",UPPER(Mainframe!K58))","v":""},{"$f":"IF(AJ59=\"\",\"\",IF(NOT(ISNA(VLOOKUP(AJ59,Answers!AG:AJ,4,FALSE))),VLOOKUP(AJ59,Answers!AG:AJ,4,FALSE),\"Help!\"))","v":""},null,{"$f":"IF(AK59=\"\",\"\",AI59+IF(AK59=\"XX\",VLOOKUP(\"WRONG\",Answers!AG:AJ,4,FALSE),AK59)+AL59)","v":""},{"$f":"IF($B59=\"\",\"\",UPPER(Mainframe!L58))","v":""},{"$f":"IF(AN59=\"\",\"\",IF(NOT(ISNA(VLOOKUP(AN59,Answers!AK:AN,4,FALSE))),VLOOKUP(AN59,Answers!AK:AN,4,FALSE),\"Help!\"))","v":""},null,{"$f":"IF(AO59=\"\",\"\",AM59+IF(AO59=\"XX\",VLOOKUP(\"WRONG\",Answers!AK:AN,4,FALSE),AO59)+AP59)","v":""},{"$f":"IF($B59=\"\",\"\",UPPER(Mainframe!M58))","v":""},{"$f":"IF(AR59=\"\",\"\",IF(NOT(ISNA(VLOOKUP(AR59,Answers!AO:AR,4,FALSE))),VLOOKUP(AR59,Answers!AO:AR,4,FALSE),\"Help!\"))","v":""},null,{"$f":"IF(AS59=\"\",\"\",AQ59+IF(AS59=\"XX\",VLOOKUP(\"WRONG\",Answers!AO:AR,4,FALSE),AS59)+AT59)","v":""},{"$f":"IF($B59=\"\",\"\",UPPER(Mainframe!N58))","v":""},{"$f":"IF(AV59=\"\",\"\",IF(NOT(ISNA(VLOOKUP(AV59,Answers!AS:AV,4,FALSE))),VLOOKUP(AV59,Answers!AS:AV,4,FALSE),\"Help!\"))","v":""},null,{"$f":"IF(AW59=\"\",\"\",AU59+IF(AW59=\"XX\",VLOOKUP(\"WRONG\",Answers!AS:AV,4,FALSE),AW59)+AX59)","v":""},{"$f":"IF($B59=\"\",\"\",UPPER(Mainframe!O58))","v":""},{"$f":"IF(AZ59=\"\",\"\",IF(NOT(ISNA(VLOOKUP(AZ59,Answers!AW:AZ,4,FALSE))),VLOOKUP(AZ59,Answers!AW:AZ,4,FALSE),\"Help!\"))","v":""},null,{"$f":"IF(BA59=\"\",\"\",AY59+IF(BA59=\"XX\",VLOOKUP(\"WRONG\",Answers!AW:AZ,4,FALSE),BA59)+BB59)","v":""},{"$f":"IF($B59=\"\",\"\",UPPER(Mainframe!P58))","v":""},{"$f":"IF(BD59=\"\",\"\",IF(NOT(ISNA(VLOOKUP(BD59,Answers!BA:BD,4,FALSE))),VLOOKUP(BD59,Answers!BA:BD,4,FALSE),\"Help!\"))","v":""},null,{"$f":"IF(BE59=\"\",\"\",BC59+IF(BE59=\"XX\",VLOOKUP(\"WRONG\",Answers!BA:BD,4,FALSE),BE59)+BF59)","v":""},{"$f":"IF($B59=\"\",\"\",UPPER(Mainframe!Q58))","v":""},{"$f":"IF(BH59=\"\",\"\",IF(NOT(ISNA(VLOOKUP(BH59,Answers!BE:BH,4,FALSE))),VLOOKUP(BH59,Answers!BE:BH,4,FALSE),\"Help!\"))","v":""},null,{"$f":"IF(BI59=\"\",\"\",BG59+IF(BI59=\"XX\",VLOOKUP(\"WRONG\",Answers!BE:BH,4,FALSE),BI59)+BJ59)","v":""},{"$f":"IF($B59=\"\",\"\",UPPER(Mainframe!R58))","v":""},{"$f":"IF(BL59=\"\",\"\",IF(NOT(ISNA(VLOOKUP(BL59,Answers!BI:BL,4,FALSE))),VLOOKUP(BL59,Answers!BI:BL,4,FALSE),\"Help!\"))","v":""},null,{"$f":"IF(BM59=\"\",\"\",BK59+IF(BM59=\"XX\",VLOOKUP(\"WRONG\",Answers!BI:BL,4,FALSE),BM59)+BN59)","v":""},{"$f":"IF($B59=\"\",\"\",UPPER(Mainframe!S58))","v":""},{"$f":"IF(BP59=\"\",\"\",IF(NOT(ISNA(VLOOKUP(BP59,Answers!BM:BP,4,FALSE))),VLOOKUP(BP59,Answers!BM:BP,4,FALSE),\"Help!\"))","v":""},null,{"$f":"IF(BQ59=\"\",\"\",BO59+IF(BQ59=\"XX\",VLOOKUP(\"WRONG\",Answers!BM:BP,4,FALSE),BQ59)+BR59)","v":""},{"$f":"IF($B59=\"\",\"\",UPPER(Mainframe!T58))","v":""},{"$f":"IF(BT59=\"\",\"\",IF(NOT(ISNA(VLOOKUP(BT59,Answers!BQ:BT,4,FALSE))),VLOOKUP(BT59,Answers!BQ:BT,4,FALSE),\"Help!\"))","v":""},null,{"$f":"IF(BU59=\"\",\"\",BS59+IF(BU59=\"XX\",VLOOKUP(\"WRONG\",Answers!BQ:BT,4,FALSE),BU59)+BV59)","v":""},{"$f":"IF($B59=\"\",\"\",UPPER(Mainframe!U58))","v":""},{"$f":"IF(BX59=\"\",\"\",IF(NOT(ISNA(VLOOKUP(BX59,Answers!BU:BX,4,FALSE))),VLOOKUP(BX59,Answers!BU:BX,4,FALSE),\"Help!\"))","v":""},null,{"$f":"IF(BY59=\"\",\"\",BW59+IF(BY59=\"XX\",VLOOKUP(\"WRONG\",Answers!BU:BX,4,FALSE),BY59)+BZ59)","v":""},{"$f":"IF($B59=\"\",\"\",UPPER(Mainframe!V58))","v":""},{"$f":"IF(CB59=\"\",\"\",IF(NOT(ISNA(VLOOKUP(CB59,Answers!BY:CB,4,FALSE))),VLOOKUP(CB59,Answers!BY:CB,4,FALSE),\"Help!\"))","v":""},null,{"$f":"IF(CC59=\"\",\"\",CA59+IF(CC59=\"XX\",VLOOKUP(\"WRONG\",Answers!BY:CB,4,FALSE),CC59)+CD59)","v":""},null,null,1,{"$f":"IF(INDEX($B:$CE,ROW(),QNO*4-1)=DROPNAME,DROPNAME,IF(INDEX($B:$CE,ROW(),QNO*4-1)=SHEEPNAME,SHEEPNAME,IF(INDEX($B:$CE,ROW(),QNO*4)=\"XX\",INDEX($B:$CE,ROW(),QNO*4-1),INDEX(OFFSET(Answers!B:B,0,(QNO-1)*4),MATCH(INDEX($A:$CB,ROW(),QNO*4),OFFSET(Answers!A:A,0,(QNO-1)*4),0))&\" — \"&IF(INDEX($B:$CE,ROW(),QNO*4)=1,\"[b]Singleton![/b]\",CONCATENATE(INDEX($B:$CE,ROW(),QNO*4),\" responses\")))))","v":{"$error":"#N/A"}},"////////////////////////////////////////////////////////////////////////////////////////////////////////////////////////////////////////////////","No",{"$f":"IF(B59=0,\"\",CONCATENATE(INDEX($CH:$CL,ROW(),1),\". \",INDEX($B:$CE,ROW(),1),\" — [b]\")&IF(QNO=1,CONCATENATE(INDEX($B:$CE,ROW(),QNO*4+2),\"[/b] pts\"),CONCATENATE(INDEX($B:$CE,ROW(),QNO*4-2),\" + \",IF(INDEX($B:$CE,ROW(),QNO*4)=\"XX\",INDEX(Answers!$A:$ZZ,2,QNO*4),INDEX($B:$CE,ROW(),QNO*4)),\" = \",INDEX($B:$CE,ROW(),QNO*4+2),\"[/b] pts \",IF(INDEX($C:$CE,ROW(),QNO*4)>0,\"(penalty: +\"&INDEX($C:$CE,ROW(),QNO*4)&\") \",IF(INDEX($C:$CE,ROW(),QNO*4)<0,\"(bonus: \"&INDEX($C:$CE,ROW(),QNO*4)&\") \",\"\"))&\"[[b]\"&IF(CN59>0,\"[color=#00BF00]↑\"&CN59,IF(CN59<0,\"[color=#FF0000]↓\"&ABS(CN59),\"[color=#0000FF]unch\"))&\"[/b][/color]]\")))","v":"1.  — [b][/b] pts"},1,0]
["[*]",{"$f":"IF(Mainframe!B59=\"\",\"\",INDEX(Mainframe!$B:$B,C60+1,1))","v":""},58,{"$f":"IF($B60=\"\",\"\",UPPER(Mainframe!C59))","v":""},{"$f":"IF(D60=\"\",\"\",IF(NOT(ISNA(VLOOKUP(D60,Answers!A:D,4,FALSE))),VLOOKUP(D60,Answers!A:D,4,FALSE),\"Help!\"))","v":""},null,{"$f":"IF(E60=\"\",\"\",IF(E60=\"XX\",VLOOKUP(\"WRONG\",Answers!A:D,4,FALSE),E60)+F60)","v":""},{"$f":"IF($B60=\"\",\"\",UPPER(Mainframe!D59))","v":""},{"$f":"IF(H60=\"\",\"\",IF(NOT(ISNA(VLOOKUP(H60,Answers!E:H,4,FALSE))),VLOOKUP(H60,Answers!E:H,4,FALSE),\"Help!\"))","v":""},null,{"$f":"IF(I60=\"\",\"\",G60+IF(I60=\"XX\",VLOOKUP(\"WRONG\",Answers!E:H,4,FALSE),I60)+J60)","v":""},{"$f":"IF($B60=\"\",\"\",UPPER(Mainframe!E59))","v":""},{"$f":"IF(L60=\"\",\"\",IF(NOT(ISNA(VLOOKUP(L60,Answers!I:L,4,FALSE))),VLOOKUP(L60,Answers!I:L,4,FALSE),\"Help!\"))","v":""},null,{"$f":"IF(M60=\"\",\"\",K60+IF(M60=\"XX\",VLOOKUP(\"WRONG\",Answers!I:L,4,FALSE),M60)+N60)","v":""},{"$f":"IF($B60=\"\",\"\",UPPER(Mainframe!F59))","v":""},{"$f":"IF(P60=\"\",\"\",IF(NOT(ISNA(VLOOKUP(P60,Answers!M:P,4,FALSE))),VLOOKUP(P60,Answers!M:P,4,FALSE),\"Help!\"))","v":""},null,{"$f":"IF(Q60=\"\",\"\",O60+IF(Q60=\"XX\",VLOOKUP(\"WRONG\",Answers!M:P,4,FALSE),Q60)+R60)","v":""},{"$f":"IF($B60=\"\",\"\",UPPER(Mainframe!G59))","v":""},{"$f":"IF(T60=\"\",\"\",IF(NOT(ISNA(VLOOKUP(T60,Answers!Q:T,4,FALSE))),VLOOKUP(T60,Answers!Q:T,4,FALSE),\"Help!\"))","v":""},null,{"$f":"IF(U60=\"\",\"\",S60+IF(U60=\"XX\",VLOOKUP(\"WRONG\",Answers!Q:T,4,FALSE),U60)+V60)","v":""},{"$f":"IF($B60=\"\",\"\",UPPER(Mainframe!H59))","v":""},{"$f":"IF(X60=\"\",\"\",IF(NOT(ISNA(VLOOKUP(X60,Answers!U:X,4,FALSE))),VLOOKUP(X60,Answers!U:X,4,FALSE),\"Help!\"))","v":""},null,{"$f":"IF(Y60=\"\",\"\",W60+IF(Y60=\"XX\",VLOOKUP(\"WRONG\",Answers!U:X,4,FALSE),Y60)+Z60)","v":""},{"$f":"IF($B60=\"\",\"\",UPPER(Mainframe!I59))","v":""},{"$f":"IF(AB60=\"\",\"\",IF(NOT(ISNA(VLOOKUP(AB60,Answers!Y:AB,4,FALSE))),VLOOKUP(AB60,Answers!Y:AB,4,FALSE),\"Help!\"))","v":""},null,{"$f":"IF(AC60=\"\",\"\",AA60+IF(AC60=\"XX\",VLOOKUP(\"WRONG\",Answers!Y:AB,4,FALSE),AC60)+AD60)","v":""},{"$f":"IF($B60=\"\",\"\",UPPER(Mainframe!J59))","v":""},{"$f":"IF(AF60=\"\",\"\",IF(NOT(ISNA(VLOOKUP(AF60,Answers!AC:AF,4,FALSE))),VLOOKUP(AF60,Answers!AC:AF,4,FALSE),\"Help!\"))","v":""},null,{"$f":"IF(AG60=\"\",\"\",AE60+IF(AG60=\"XX\",VLOOKUP(\"WRONG\",Answers!AC:AF,4,FALSE),AG60)+AH60)","v":""},{"$f":"IF($B60=\"\",\"\",UPPER(Mainframe!K59))","v":""},{"$f":"IF(AJ60=\"\",\"\",IF(NOT(ISNA(VLOOKUP(AJ60,Answers!AG:AJ,4,FALSE))),VLOOKUP(AJ60,Answers!AG:AJ,4,FALSE),\"Help!\"))","v":""},null,{"$f":"IF(AK60=\"\",\"\",AI60+IF(AK60=\"XX\",VLOOKUP(\"WRONG\",Answers!AG:AJ,4,FALSE),AK60)+AL60)","v":""},{"$f":"IF($B60=\"\",\"\",UPPER(Mainframe!L59))","v":""},{"$f":"IF(AN60=\"\",\"\",IF(NOT(ISNA(VLOOKUP(AN60,Answers!AK:AN,4,FALSE))),VLOOKUP(AN60,Answers!AK:AN,4,FALSE),\"Help!\"))","v":""},null,{"$f":"IF(AO60=\"\",\"\",AM60+IF(AO60=\"XX\",VLOOKUP(\"WRONG\",Answers!AK:AN,4,FALSE),AO60)+AP60)","v":""},{"$f":"IF($B60=\"\",\"\",UPPER(Mainframe!M59))","v":""},{"$f":"IF(AR60=\"\",\"\",IF(NOT(ISNA(VLOOKUP(AR60,Answers!AO:AR,4,FALSE))),VLOOKUP(AR60,Answers!AO:AR,4,FALSE),\"Help!\"))","v":""},null,{"$f":"IF(AS60=\"\",\"\",AQ60+IF(AS60=\"XX\",VLOOKUP(\"WRONG\",Answers!AO:AR,4,FALSE),AS60)+AT60)","v":""},{"$f":"IF($B60=\"\",\"\",UPPER(Mainframe!N59))","v":""},{"$f":"IF(AV60=\"\",\"\",IF(NOT(ISNA(VLOOKUP(AV60,Answers!AS:AV,4,FALSE))),VLOOKUP(AV60,Answers!AS:AV,4,FALSE),\"Help!\"))","v":""},null,{"$f":"IF(AW60=\"\",\"\",AU60+IF(AW60=\"XX\",VLOOKUP(\"WRONG\",Answers!AS:AV,4,FALSE),AW60)+AX60)","v":""},{"$f":"IF($B60=\"\",\"\",UPPER(Mainframe!O59))","v":""},{"$f":"IF(AZ60=\"\",\"\",IF(NOT(ISNA(VLOOKUP(AZ60,Answers!AW:AZ,4,FALSE))),VLOOKUP(AZ60,Answers!AW:AZ,4,FALSE),\"Help!\"))","v":""},null,{"$f":"IF(BA60=\"\",\"\",AY60+IF(BA60=\"XX\",VLOOKUP(\"WRONG\",Answers!AW:AZ,4,FALSE),BA60)+BB60)","v":""},{"$f":"IF($B60=\"\",\"\",UPPER(Mainframe!P59))","v":""},{"$f":"IF(BD60=\"\",\"\",IF(NOT(ISNA(VLOOKUP(BD60,Answers!BA:BD,4,FALSE))),VLOOKUP(BD60,Answers!BA:BD,4,FALSE),\"Help!\"))","v":""},null,{"$f":"IF(BE60=\"\",\"\",BC60+IF(BE60=\"XX\",VLOOKUP(\"WRONG\",Answers!BA:BD,4,FALSE),BE60)+BF60)","v":""},{"$f":"IF($B60=\"\",\"\",UPPER(Mainframe!Q59))","v":""},{"$f":"IF(BH60=\"\",\"\",IF(NOT(ISNA(VLOOKUP(BH60,Answers!BE:BH,4,FALSE))),VLOOKUP(BH60,Answers!BE:BH,4,FALSE),\"Help!\"))","v":""},null,{"$f":"IF(BI60=\"\",\"\",BG60+IF(BI60=\"XX\",VLOOKUP(\"WRONG\",Answers!BE:BH,4,FALSE),BI60)+BJ60)","v":""},{"$f":"IF($B60=\"\",\"\",UPPER(Mainframe!R59))","v":""},{"$f":"IF(BL60=\"\",\"\",IF(NOT(ISNA(VLOOKUP(BL60,Answers!BI:BL,4,FALSE))),VLOOKUP(BL60,Answers!BI:BL,4,FALSE),\"Help!\"))","v":""},null,{"$f":"IF(BM60=\"\",\"\",BK60+IF(BM60=\"XX\",VLOOKUP(\"WRONG\",Answers!BI:BL,4,FALSE),BM60)+BN60)","v":""},{"$f":"IF($B60=\"\",\"\",UPPER(Mainframe!S59))","v":""},{"$f":"IF(BP60=\"\",\"\",IF(NOT(ISNA(VLOOKUP(BP60,Answers!BM:BP,4,FALSE))),VLOOKUP(BP60,Answers!BM:BP,4,FALSE),\"Help!\"))","v":""},null,{"$f":"IF(BQ60=\"\",\"\",BO60+IF(BQ60=\"XX\",VLOOKUP(\"WRONG\",Answers!BM:BP,4,FALSE),BQ60)+BR60)","v":""},{"$f":"IF($B60=\"\",\"\",UPPER(Mainframe!T59))","v":""},{"$f":"IF(BT60=\"\",\"\",IF(NOT(ISNA(VLOOKUP(BT60,Answers!BQ:BT,4,FALSE))),VLOOKUP(BT60,Answers!BQ:BT,4,FALSE),\"Help!\"))","v":""},null,{"$f":"IF(BU60=\"\",\"\",BS60+IF(BU60=\"XX\",VLOOKUP(\"WRONG\",Answers!BQ:BT,4,FALSE),BU60)+BV60)","v":""},{"$f":"IF($B60=\"\",\"\",UPPER(Mainframe!U59))","v":""},{"$f":"IF(BX60=\"\",\"\",IF(NOT(ISNA(VLOOKUP(BX60,Answers!BU:BX,4,FALSE))),VLOOKUP(BX60,Answers!BU:BX,4,FALSE),\"Help!\"))","v":""},null,{"$f":"IF(BY60=\"\",\"\",BW60+IF(BY60=\"XX\",VLOOKUP(\"WRONG\",Answers!BU:BX,4,FALSE),BY60)+BZ60)","v":""},{"$f":"IF($B60=\"\",\"\",UPPER(Mainframe!V59))","v":""},{"$f":"IF(CB60=\"\",\"\",IF(NOT(ISNA(VLOOKUP(CB60,Answers!BY:CB,4,FALSE))),VLOOKUP(CB60,Answers!BY:CB,4,FALSE),\"Help!\"))","v":""},null,{"$f":"IF(CC60=\"\",\"\",CA60+IF(CC60=\"XX\",VLOOKUP(\"WRONG\",Answers!BY:CB,4,FALSE),CC60)+CD60)","v":""},null,null,1,{"$f":"IF(INDEX($B:$CE,ROW(),QNO*4-1)=DROPNAME,DROPNAME,IF(INDEX($B:$CE,ROW(),QNO*4-1)=SHEEPNAME,SHEEPNAME,IF(INDEX($B:$CE,ROW(),QNO*4)=\"XX\",INDEX($B:$CE,ROW(),QNO*4-1),INDEX(OFFSET(Answers!B:B,0,(QNO-1)*4),MATCH(INDEX($A:$CB,ROW(),QNO*4),OFFSET(Answers!A:A,0,(QNO-1)*4),0))&\" — \"&IF(INDEX($B:$CE,ROW(),QNO*4)=1,\"[b]Singleton![/b]\",CONCATENATE(INDEX($B:$CE,ROW(),QNO*4),\" responses\")))))","v":{"$error":"#N/A"}},"//////////////////////////////////////////////////////////////////////////////////////////////////////////////////////////////////////////////","No",{"$f":"IF(B60=0,\"\",CONCATENATE(INDEX($CH:$CL,ROW(),1),\". \",INDEX($B:$CE,ROW(),1),\" — [b]\")&IF(QNO=1,CONCATENATE(INDEX($B:$CE,ROW(),QNO*4+2),\"[/b] pts\"),CONCATENATE(INDEX($B:$CE,ROW(),QNO*4-2),\" + \",IF(INDEX($B:$CE,ROW(),QNO*4)=\"XX\",INDEX(Answers!$A:$ZZ,2,QNO*4),INDEX($B:$CE,ROW(),QNO*4)),\" = \",INDEX($B:$CE,ROW(),QNO*4+2),\"[/b] pts \",IF(INDEX($C:$CE,ROW(),QNO*4)>0,\"(penalty: +\"&INDEX($C:$CE,ROW(),QNO*4)&\") \",IF(INDEX($C:$CE,ROW(),QNO*4)<0,\"(bonus: \"&INDEX($C:$CE,ROW(),QNO*4)&\") \",\"\"))&\"[[b]\"&IF(CN60>0,\"[color=#00BF00]↑\"&CN60,IF(CN60<0,\"[color=#FF0000]↓\"&ABS(CN60),\"[color=#0000FF]unch\"))&\"[/b][/color]]\")))","v":"1.  — [b][/b] pts"},1,0]
["[*]",{"$f":"IF(Mainframe!B60=\"\",\"\",INDEX(Mainframe!$B:$B,C61+1,1))","v":""},59,{"$f":"IF($B61=\"\",\"\",UPPER(Mainframe!C60))","v":""},{"$f":"IF(D61=\"\",\"\",IF(NOT(ISNA(VLOOKUP(D61,Answers!A:D,4,FALSE))),VLOOKUP(D61,Answers!A:D,4,FALSE),\"Help!\"))","v":""},null,{"$f":"IF(E61=\"\",\"\",IF(E61=\"XX\",VLOOKUP(\"WRONG\",Answers!A:D,4,FALSE),E61)+F61)","v":""},{"$f":"IF($B61=\"\",\"\",UPPER(Mainframe!D60))","v":""},{"$f":"IF(H61=\"\",\"\",IF(NOT(ISNA(VLOOKUP(H61,Answers!E:H,4,FALSE))),VLOOKUP(H61,Answers!E:H,4,FALSE),\"Help!\"))","v":""},null,{"$f":"IF(I61=\"\",\"\",G61+IF(I61=\"XX\",VLOOKUP(\"WRONG\",Answers!E:H,4,FALSE),I61)+J61)","v":""},{"$f":"IF($B61=\"\",\"\",UPPER(Mainframe!E60))","v":""},{"$f":"IF(L61=\"\",\"\",IF(NOT(ISNA(VLOOKUP(L61,Answers!I:L,4,FALSE))),VLOOKUP(L61,Answers!I:L,4,FALSE),\"Help!\"))","v":""},null,{"$f":"IF(M61=\"\",\"\",K61+IF(M61=\"XX\",VLOOKUP(\"WRONG\",Answers!I:L,4,FALSE),M61)+N61)","v":""},{"$f":"IF($B61=\"\",\"\",UPPER(Mainframe!F60))","v":""},{"$f":"IF(P61=\"\",\"\",IF(NOT(ISNA(VLOOKUP(P61,Answers!M:P,4,FALSE))),VLOOKUP(P61,Answers!M:P,4,FALSE),\"Help!\"))","v":""},null,{"$f":"IF(Q61=\"\",\"\",O61+IF(Q61=\"XX\",VLOOKUP(\"WRONG\",Answers!M:P,4,FALSE),Q61)+R61)","v":""},{"$f":"IF($B61=\"\",\"\",UPPER(Mainframe!G60))","v":""},{"$f":"IF(T61=\"\",\"\",IF(NOT(ISNA(VLOOKUP(T61,Answers!Q:T,4,FALSE))),VLOOKUP(T61,Answers!Q:T,4,FALSE),\"Help!\"))","v":""},null,{"$f":"IF(U61=\"\",\"\",S61+IF(U61=\"XX\",VLOOKUP(\"WRONG\",Answers!Q:T,4,FALSE),U61)+V61)","v":""},{"$f":"IF($B61=\"\",\"\",UPPER(Mainframe!H60))","v":""},{"$f":"IF(X61=\"\",\"\",IF(NOT(ISNA(VLOOKUP(X61,Answers!U:X,4,FALSE))),VLOOKUP(X61,Answers!U:X,4,FALSE),\"Help!\"))","v":""},null,{"$f":"IF(Y61=\"\",\"\",W61+IF(Y61=\"XX\",VLOOKUP(\"WRONG\",Answers!U:X,4,FALSE),Y61)+Z61)","v":""},{"$f":"IF($B61=\"\",\"\",UPPER(Mainframe!I60))","v":""},{"$f":"IF(AB61=\"\",\"\",IF(NOT(ISNA(VLOOKUP(AB61,Answers!Y:AB,4,FALSE))),VLOOKUP(AB61,Answers!Y:AB,4,FALSE),\"Help!\"))","v":""},null,{"$f":"IF(AC61=\"\",\"\",AA61+IF(AC61=\"XX\",VLOOKUP(\"WRONG\",Answers!Y:AB,4,FALSE),AC61)+AD61)","v":""},{"$f":"IF($B61=\"\",\"\",UPPER(Mainframe!J60))","v":""},{"$f":"IF(AF61=\"\",\"\",IF(NOT(ISNA(VLOOKUP(AF61,Answers!AC:AF,4,FALSE))),VLOOKUP(AF61,Answers!AC:AF,4,FALSE),\"Help!\"))","v":""},null,{"$f":"IF(AG61=\"\",\"\",AE61+IF(AG61=\"XX\",VLOOKUP(\"WRONG\",Answers!AC:AF,4,FALSE),AG61)+AH61)","v":""},{"$f":"IF($B61=\"\",\"\",UPPER(Mainframe!K60))","v":""},{"$f":"IF(AJ61=\"\",\"\",IF(NOT(ISNA(VLOOKUP(AJ61,Answers!AG:AJ,4,FALSE))),VLOOKUP(AJ61,Answers!AG:AJ,4,FALSE),\"Help!\"))","v":""},null,{"$f":"IF(AK61=\"\",\"\",AI61+IF(AK61=\"XX\",VLOOKUP(\"WRONG\",Answers!AG:AJ,4,FALSE),AK61)+AL61)","v":""},{"$f":"IF($B61=\"\",\"\",UPPER(Mainframe!L60))","v":""},{"$f":"IF(AN61=\"\",\"\",IF(NOT(ISNA(VLOOKUP(AN61,Answers!AK:AN,4,FALSE))),VLOOKUP(AN61,Answers!AK:AN,4,FALSE),\"Help!\"))","v":""},null,{"$f":"IF(AO61=\"\",\"\",AM61+IF(AO61=\"XX\",VLOOKUP(\"WRONG\",Answers!AK:AN,4,FALSE),AO61)+AP61)","v":""},{"$f":"IF($B61=\"\",\"\",UPPER(Mainframe!M60))","v":""},{"$f":"IF(AR61=\"\",\"\",IF(NOT(ISNA(VLOOKUP(AR61,Answers!AO:AR,4,FALSE))),VLOOKUP(AR61,Answers!AO:AR,4,FALSE),\"Help!\"))","v":""},null,{"$f":"IF(AS61=\"\",\"\",AQ61+IF(AS61=\"XX\",VLOOKUP(\"WRONG\",Answers!AO:AR,4,FALSE),AS61)+AT61)","v":""},{"$f":"IF($B61=\"\",\"\",UPPER(Mainframe!N60))","v":""},{"$f":"IF(AV61=\"\",\"\",IF(NOT(ISNA(VLOOKUP(AV61,Answers!AS:AV,4,FALSE))),VLOOKUP(AV61,Answers!AS:AV,4,FALSE),\"Help!\"))","v":""},null,{"$f":"IF(AW61=\"\",\"\",AU61+IF(AW61=\"XX\",VLOOKUP(\"WRONG\",Answers!AS:AV,4,FALSE),AW61)+AX61)","v":""},{"$f":"IF($B61=\"\",\"\",UPPER(Mainframe!O60))","v":""},{"$f":"IF(AZ61=\"\",\"\",IF(NOT(ISNA(VLOOKUP(AZ61,Answers!AW:AZ,4,FALSE))),VLOOKUP(AZ61,Answers!AW:AZ,4,FALSE),\"Help!\"))","v":""},null,{"$f":"IF(BA61=\"\",\"\",AY61+IF(BA61=\"XX\",VLOOKUP(\"WRONG\",Answers!AW:AZ,4,FALSE),BA61)+BB61)","v":""},{"$f":"IF($B61=\"\",\"\",UPPER(Mainframe!P60))","v":""},{"$f":"IF(BD61=\"\",\"\",IF(NOT(ISNA(VLOOKUP(BD61,Answers!BA:BD,4,FALSE))),VLOOKUP(BD61,Answers!BA:BD,4,FALSE),\"Help!\"))","v":""},null,{"$f":"IF(BE61=\"\",\"\",BC61+IF(BE61=\"XX\",VLOOKUP(\"WRONG\",Answers!BA:BD,4,FALSE),BE61)+BF61)","v":""},{"$f":"IF($B61=\"\",\"\",UPPER(Mainframe!Q60))","v":""},{"$f":"IF(BH61=\"\",\"\",IF(NOT(ISNA(VLOOKUP(BH61,Answers!BE:BH,4,FALSE))),VLOOKUP(BH61,Answers!BE:BH,4,FALSE),\"Help!\"))","v":""},null,{"$f":"IF(BI61=\"\",\"\",BG61+IF(BI61=\"XX\",VLOOKUP(\"WRONG\",Answers!BE:BH,4,FALSE),BI61)+BJ61)","v":""},{"$f":"IF($B61=\"\",\"\",UPPER(Mainframe!R60))","v":""},{"$f":"IF(BL61=\"\",\"\",IF(NOT(ISNA(VLOOKUP(BL61,Answers!BI:BL,4,FALSE))),VLOOKUP(BL61,Answers!BI:BL,4,FALSE),\"Help!\"))","v":""},null,{"$f":"IF(BM61=\"\",\"\",BK61+IF(BM61=\"XX\",VLOOKUP(\"WRONG\",Answers!BI:BL,4,FALSE),BM61)+BN61)","v":""},{"$f":"IF($B61=\"\",\"\",UPPER(Mainframe!S60))","v":""},{"$f":"IF(BP61=\"\",\"\",IF(NOT(ISNA(VLOOKUP(BP61,Answers!BM:BP,4,FALSE))),VLOOKUP(BP61,Answers!BM:BP,4,FALSE),\"Help!\"))","v":""},null,{"$f":"IF(BQ61=\"\",\"\",BO61+IF(BQ61=\"XX\",VLOOKUP(\"WRONG\",Answers!BM:BP,4,FALSE),BQ61)+BR61)","v":""},{"$f":"IF($B61=\"\",\"\",UPPER(Mainframe!T60))","v":""},{"$f":"IF(BT61=\"\",\"\",IF(NOT(ISNA(VLOOKUP(BT61,Answers!BQ:BT,4,FALSE))),VLOOKUP(BT61,Answers!BQ:BT,4,FALSE),\"Help!\"))","v":""},null,{"$f":"IF(BU61=\"\",\"\",BS61+IF(BU61=\"XX\",VLOOKUP(\"WRONG\",Answers!BQ:BT,4,FALSE),BU61)+BV61)","v":""},{"$f":"IF($B61=\"\",\"\",UPPER(Mainframe!U60))","v":""},{"$f":"IF(BX61=\"\",\"\",IF(NOT(ISNA(VLOOKUP(BX61,Answers!BU:BX,4,FALSE))),VLOOKUP(BX61,Answers!BU:BX,4,FALSE),\"Help!\"))","v":""},null,{"$f":"IF(BY61=\"\",\"\",BW61+IF(BY61=\"XX\",VLOOKUP(\"WRONG\",Answers!BU:BX,4,FALSE),BY61)+BZ61)","v":""},{"$f":"IF($B61=\"\",\"\",UPPER(Mainframe!V60))","v":""},{"$f":"IF(CB61=\"\",\"\",IF(NOT(ISNA(VLOOKUP(CB61,Answers!BY:CB,4,FALSE))),VLOOKUP(CB61,Answers!BY:CB,4,FALSE),\"Help!\"))","v":""},null,{"$f":"IF(CC61=\"\",\"\",CA61+IF(CC61=\"XX\",VLOOKUP(\"WRONG\",Answers!BY:CB,4,FALSE),CC61)+CD61)","v":""},null,null,1,{"$f":"IF(INDEX($B:$CE,ROW(),QNO*4-1)=DROPNAME,DROPNAME,IF(INDEX($B:$CE,ROW(),QNO*4-1)=SHEEPNAME,SHEEPNAME,IF(INDEX($B:$CE,ROW(),QNO*4)=\"XX\",INDEX($B:$CE,ROW(),QNO*4-1),INDEX(OFFSET(Answers!B:B,0,(QNO-1)*4),MATCH(INDEX($A:$CB,ROW(),QNO*4),OFFSET(Answers!A:A,0,(QNO-1)*4),0))&\" — \"&IF(INDEX($B:$CE,ROW(),QNO*4)=1,\"[b]Singleton![/b]\",CONCATENATE(INDEX($B:$CE,ROW(),QNO*4),\" responses\")))))","v":{"$error":"#N/A"}},"////////////////////////////////////////////////////////////////////////////////////////////////////////////////////////////////////////////","No",{"$f":"IF(B61=0,\"\",CONCATENATE(INDEX($CH:$CL,ROW(),1),\". \",INDEX($B:$CE,ROW(),1),\" — [b]\")&IF(QNO=1,CONCATENATE(INDEX($B:$CE,ROW(),QNO*4+2),\"[/b] pts\"),CONCATENATE(INDEX($B:$CE,ROW(),QNO*4-2),\" + \",IF(INDEX($B:$CE,ROW(),QNO*4)=\"XX\",INDEX(Answers!$A:$ZZ,2,QNO*4),INDEX($B:$CE,ROW(),QNO*4)),\" = \",INDEX($B:$CE,ROW(),QNO*4+2),\"[/b] pts \",IF(INDEX($C:$CE,ROW(),QNO*4)>0,\"(penalty: +\"&INDEX($C:$CE,ROW(),QNO*4)&\") \",IF(INDEX($C:$CE,ROW(),QNO*4)<0,\"(bonus: \"&INDEX($C:$CE,ROW(),QNO*4)&\") \",\"\"))&\"[[b]\"&IF(CN61>0,\"[color=#00BF00]↑\"&CN61,IF(CN61<0,\"[color=#FF0000]↓\"&ABS(CN61),\"[color=#0000FF]unch\"))&\"[/b][/color]]\")))","v":"1.  — [b][/b] pts"},1,0]
["[*]",{"$f":"IF(Mainframe!B61=\"\",\"\",INDEX(Mainframe!$B:$B,C62+1,1))","v":""},60,{"$f":"IF($B62=\"\",\"\",UPPER(Mainframe!C61))","v":""},{"$f":"IF(D62=\"\",\"\",IF(NOT(ISNA(VLOOKUP(D62,Answers!A:D,4,FALSE))),VLOOKUP(D62,Answers!A:D,4,FALSE),\"Help!\"))","v":""},null,{"$f":"IF(E62=\"\",\"\",IF(E62=\"XX\",VLOOKUP(\"WRONG\",Answers!A:D,4,FALSE),E62)+F62)","v":""},{"$f":"IF($B62=\"\",\"\",UPPER(Mainframe!D61))","v":""},{"$f":"IF(H62=\"\",\"\",IF(NOT(ISNA(VLOOKUP(H62,Answers!E:H,4,FALSE))),VLOOKUP(H62,Answers!E:H,4,FALSE),\"Help!\"))","v":""},null,{"$f":"IF(I62=\"\",\"\",G62+IF(I62=\"XX\",VLOOKUP(\"WRONG\",Answers!E:H,4,FALSE),I62)+J62)","v":""},{"$f":"IF($B62=\"\",\"\",UPPER(Mainframe!E61))","v":""},{"$f":"IF(L62=\"\",\"\",IF(NOT(ISNA(VLOOKUP(L62,Answers!I:L,4,FALSE))),VLOOKUP(L62,Answers!I:L,4,FALSE),\"Help!\"))","v":""},null,{"$f":"IF(M62=\"\",\"\",K62+IF(M62=\"XX\",VLOOKUP(\"WRONG\",Answers!I:L,4,FALSE),M62)+N62)","v":""},{"$f":"IF($B62=\"\",\"\",UPPER(Mainframe!F61))","v":""},{"$f":"IF(P62=\"\",\"\",IF(NOT(ISNA(VLOOKUP(P62,Answers!M:P,4,FALSE))),VLOOKUP(P62,Answers!M:P,4,FALSE),\"Help!\"))","v":""},null,{"$f":"IF(Q62=\"\",\"\",O62+IF(Q62=\"XX\",VLOOKUP(\"WRONG\",Answers!M:P,4,FALSE),Q62)+R62)","v":""},{"$f":"IF($B62=\"\",\"\",UPPER(Mainframe!G61))","v":""},{"$f":"IF(T62=\"\",\"\",IF(NOT(ISNA(VLOOKUP(T62,Answers!Q:T,4,FALSE))),VLOOKUP(T62,Answers!Q:T,4,FALSE),\"Help!\"))","v":""},null,{"$f":"IF(U62=\"\",\"\",S62+IF(U62=\"XX\",VLOOKUP(\"WRONG\",Answers!Q:T,4,FALSE),U62)+V62)","v":""},{"$f":"IF($B62=\"\",\"\",UPPER(Mainframe!H61))","v":""},{"$f":"IF(X62=\"\",\"\",IF(NOT(ISNA(VLOOKUP(X62,Answers!U:X,4,FALSE))),VLOOKUP(X62,Answers!U:X,4,FALSE),\"Help!\"))","v":""},null,{"$f":"IF(Y62=\"\",\"\",W62+IF(Y62=\"XX\",VLOOKUP(\"WRONG\",Answers!U:X,4,FALSE),Y62)+Z62)","v":""},{"$f":"IF($B62=\"\",\"\",UPPER(Mainframe!I61))","v":""},{"$f":"IF(AB62=\"\",\"\",IF(NOT(ISNA(VLOOKUP(AB62,Answers!Y:AB,4,FALSE))),VLOOKUP(AB62,Answers!Y:AB,4,FALSE),\"Help!\"))","v":""},null,{"$f":"IF(AC62=\"\",\"\",AA62+IF(AC62=\"XX\",VLOOKUP(\"WRONG\",Answers!Y:AB,4,FALSE),AC62)+AD62)","v":""},{"$f":"IF($B62=\"\",\"\",UPPER(Mainframe!J61))","v":""},{"$f":"IF(AF62=\"\",\"\",IF(NOT(ISNA(VLOOKUP(AF62,Answers!AC:AF,4,FALSE))),VLOOKUP(AF62,Answers!AC:AF,4,FALSE),\"Help!\"))","v":""},null,{"$f":"IF(AG62=\"\",\"\",AE62+IF(AG62=\"XX\",VLOOKUP(\"WRONG\",Answers!AC:AF,4,FALSE),AG62)+AH62)","v":""},{"$f":"IF($B62=\"\",\"\",UPPER(Mainframe!K61))","v":""},{"$f":"IF(AJ62=\"\",\"\",IF(NOT(ISNA(VLOOKUP(AJ62,Answers!AG:AJ,4,FALSE))),VLOOKUP(AJ62,Answers!AG:AJ,4,FALSE),\"Help!\"))","v":""},null,{"$f":"IF(AK62=\"\",\"\",AI62+IF(AK62=\"XX\",VLOOKUP(\"WRONG\",Answers!AG:AJ,4,FALSE),AK62)+AL62)","v":""},{"$f":"IF($B62=\"\",\"\",UPPER(Mainframe!L61))","v":""},{"$f":"IF(AN62=\"\",\"\",IF(NOT(ISNA(VLOOKUP(AN62,Answers!AK:AN,4,FALSE))),VLOOKUP(AN62,Answers!AK:AN,4,FALSE),\"Help!\"))","v":""},null,{"$f":"IF(AO62=\"\",\"\",AM62+IF(AO62=\"XX\",VLOOKUP(\"WRONG\",Answers!AK:AN,4,FALSE),AO62)+AP62)","v":""},{"$f":"IF($B62=\"\",\"\",UPPER(Mainframe!M61))","v":""},{"$f":"IF(AR62=\"\",\"\",IF(NOT(ISNA(VLOOKUP(AR62,Answers!AO:AR,4,FALSE))),VLOOKUP(AR62,Answers!AO:AR,4,FALSE),\"Help!\"))","v":""},null,{"$f":"IF(AS62=\"\",\"\",AQ62+IF(AS62=\"XX\",VLOOKUP(\"WRONG\",Answers!AO:AR,4,FALSE),AS62)+AT62)","v":""},{"$f":"IF($B62=\"\",\"\",UPPER(Mainframe!N61))","v":""},{"$f":"IF(AV62=\"\",\"\",IF(NOT(ISNA(VLOOKUP(AV62,Answers!AS:AV,4,FALSE))),VLOOKUP(AV62,Answers!AS:AV,4,FALSE),\"Help!\"))","v":""},null,{"$f":"IF(AW62=\"\",\"\",AU62+IF(AW62=\"XX\",VLOOKUP(\"WRONG\",Answers!AS:AV,4,FALSE),AW62)+AX62)","v":""},{"$f":"IF($B62=\"\",\"\",UPPER(Mainframe!O61))","v":""},{"$f":"IF(AZ62=\"\",\"\",IF(NOT(ISNA(VLOOKUP(AZ62,Answers!AW:AZ,4,FALSE))),VLOOKUP(AZ62,Answers!AW:AZ,4,FALSE),\"Help!\"))","v":""},null,{"$f":"IF(BA62=\"\",\"\",AY62+IF(BA62=\"XX\",VLOOKUP(\"WRONG\",Answers!AW:AZ,4,FALSE),BA62)+BB62)","v":""},{"$f":"IF($B62=\"\",\"\",UPPER(Mainframe!P61))","v":""},{"$f":"IF(BD62=\"\",\"\",IF(NOT(ISNA(VLOOKUP(BD62,Answers!BA:BD,4,FALSE))),VLOOKUP(BD62,Answers!BA:BD,4,FALSE),\"Help!\"))","v":""},null,{"$f":"IF(BE62=\"\",\"\",BC62+IF(BE62=\"XX\",VLOOKUP(\"WRONG\",Answers!BA:BD,4,FALSE),BE62)+BF62)","v":""},{"$f":"IF($B62=\"\",\"\",UPPER(Mainframe!Q61))","v":""},{"$f":"IF(BH62=\"\",\"\",IF(NOT(ISNA(VLOOKUP(BH62,Answers!BE:BH,4,FALSE))),VLOOKUP(BH62,Answers!BE:BH,4,FALSE),\"Help!\"))","v":""},null,{"$f":"IF(BI62=\"\",\"\",BG62+IF(BI62=\"XX\",VLOOKUP(\"WRONG\",Answers!BE:BH,4,FALSE),BI62)+BJ62)","v":""},{"$f":"IF($B62=\"\",\"\",UPPER(Mainframe!R61))","v":""},{"$f":"IF(BL62=\"\",\"\",IF(NOT(ISNA(VLOOKUP(BL62,Answers!BI:BL,4,FALSE))),VLOOKUP(BL62,Answers!BI:BL,4,FALSE),\"Help!\"))","v":""},null,{"$f":"IF(BM62=\"\",\"\",BK62+IF(BM62=\"XX\",VLOOKUP(\"WRONG\",Answers!BI:BL,4,FALSE),BM62)+BN62)","v":""},{"$f":"IF($B62=\"\",\"\",UPPER(Mainframe!S61))","v":""},{"$f":"IF(BP62=\"\",\"\",IF(NOT(ISNA(VLOOKUP(BP62,Answers!BM:BP,4,FALSE))),VLOOKUP(BP62,Answers!BM:BP,4,FALSE),\"Help!\"))","v":""},null,{"$f":"IF(BQ62=\"\",\"\",BO62+IF(BQ62=\"XX\",VLOOKUP(\"WRONG\",Answers!BM:BP,4,FALSE),BQ62)+BR62)","v":""},{"$f":"IF($B62=\"\",\"\",UPPER(Mainframe!T61))","v":""},{"$f":"IF(BT62=\"\",\"\",IF(NOT(ISNA(VLOOKUP(BT62,Answers!BQ:BT,4,FALSE))),VLOOKUP(BT62,Answers!BQ:BT,4,FALSE),\"Help!\"))","v":""},null,{"$f":"IF(BU62=\"\",\"\",BS62+IF(BU62=\"XX\",VLOOKUP(\"WRONG\",Answers!BQ:BT,4,FALSE),BU62)+BV62)","v":""},{"$f":"IF($B62=\"\",\"\",UPPER(Mainframe!U61))","v":""},{"$f":"IF(BX62=\"\",\"\",IF(NOT(ISNA(VLOOKUP(BX62,Answers!BU:BX,4,FALSE))),VLOOKUP(BX62,Answers!BU:BX,4,FALSE),\"Help!\"))","v":""},null,{"$f":"IF(BY62=\"\",\"\",BW62+IF(BY62=\"XX\",VLOOKUP(\"WRONG\",Answers!BU:BX,4,FALSE),BY62)+BZ62)","v":""},{"$f":"IF($B62=\"\",\"\",UPPER(Mainframe!V61))","v":""},{"$f":"IF(CB62=\"\",\"\",IF(NOT(ISNA(VLOOKUP(CB62,Answers!BY:CB,4,FALSE))),VLOOKUP(CB62,Answers!BY:CB,4,FALSE),\"Help!\"))","v":""},null,{"$f":"IF(CC62=\"\",\"\",CA62+IF(CC62=\"XX\",VLOOKUP(\"WRONG\",Answers!BY:CB,4,FALSE),CC62)+CD62)","v":""},null,null,1,{"$f":"IF(INDEX($B:$CE,ROW(),QNO*4-1)=DROPNAME,DROPNAME,IF(INDEX($B:$CE,ROW(),QNO*4-1)=SHEEPNAME,SHEEPNAME,IF(INDEX($B:$CE,ROW(),QNO*4)=\"XX\",INDEX($B:$CE,ROW(),QNO*4-1),INDEX(OFFSET(Answers!B:B,0,(QNO-1)*4),MATCH(INDEX($A:$CB,ROW(),QNO*4),OFFSET(Answers!A:A,0,(QNO-1)*4),0))&\" — \"&IF(INDEX($B:$CE,ROW(),QNO*4)=1,\"[b]Singleton![/b]\",CONCATENATE(INDEX($B:$CE,ROW(),QNO*4),\" responses\")))))","v":{"$error":"#N/A"}},"//////////////////////////////////////////////////////////////////////////////////////////////////////////////////////////////////////////","No",{"$f":"IF(B62=0,\"\",CONCATENATE(INDEX($CH:$CL,ROW(),1),\". \",INDEX($B:$CE,ROW(),1),\" — [b]\")&IF(QNO=1,CONCATENATE(INDEX($B:$CE,ROW(),QNO*4+2),\"[/b] pts\"),CONCATENATE(INDEX($B:$CE,ROW(),QNO*4-2),\" + \",IF(INDEX($B:$CE,ROW(),QNO*4)=\"XX\",INDEX(Answers!$A:$ZZ,2,QNO*4),INDEX($B:$CE,ROW(),QNO*4)),\" = \",INDEX($B:$CE,ROW(),QNO*4+2),\"[/b] pts \",IF(INDEX($C:$CE,ROW(),QNO*4)>0,\"(penalty: +\"&INDEX($C:$CE,ROW(),QNO*4)&\") \",IF(INDEX($C:$CE,ROW(),QNO*4)<0,\"(bonus: \"&INDEX($C:$CE,ROW(),QNO*4)&\") \",\"\"))&\"[[b]\"&IF(CN62>0,\"[color=#00BF00]↑\"&CN62,IF(CN62<0,\"[color=#FF0000]↓\"&ABS(CN62),\"[color=#0000FF]unch\"))&\"[/b][/color]]\")))","v":"1.  — [b][/b] pts"},1,0]
["[*]",{"$f":"IF(Mainframe!B62=\"\",\"\",INDEX(Mainframe!$B:$B,C63+1,1))","v":""},61,{"$f":"IF($B63=\"\",\"\",UPPER(Mainframe!C62))","v":""},{"$f":"IF(D63=\"\",\"\",IF(NOT(ISNA(VLOOKUP(D63,Answers!A:D,4,FALSE))),VLOOKUP(D63,Answers!A:D,4,FALSE),\"Help!\"))","v":""},null,{"$f":"IF(E63=\"\",\"\",IF(E63=\"XX\",VLOOKUP(\"WRONG\",Answers!A:D,4,FALSE),E63)+F63)","v":""},{"$f":"IF($B63=\"\",\"\",UPPER(Mainframe!D62))","v":""},{"$f":"IF(H63=\"\",\"\",IF(NOT(ISNA(VLOOKUP(H63,Answers!E:H,4,FALSE))),VLOOKUP(H63,Answers!E:H,4,FALSE),\"Help!\"))","v":""},null,{"$f":"IF(I63=\"\",\"\",G63+IF(I63=\"XX\",VLOOKUP(\"WRONG\",Answers!E:H,4,FALSE),I63)+J63)","v":""},{"$f":"IF($B63=\"\",\"\",UPPER(Mainframe!E62))","v":""},{"$f":"IF(L63=\"\",\"\",IF(NOT(ISNA(VLOOKUP(L63,Answers!I:L,4,FALSE))),VLOOKUP(L63,Answers!I:L,4,FALSE),\"Help!\"))","v":""},null,{"$f":"IF(M63=\"\",\"\",K63+IF(M63=\"XX\",VLOOKUP(\"WRONG\",Answers!I:L,4,FALSE),M63)+N63)","v":""},{"$f":"IF($B63=\"\",\"\",UPPER(Mainframe!F62))","v":""},{"$f":"IF(P63=\"\",\"\",IF(NOT(ISNA(VLOOKUP(P63,Answers!M:P,4,FALSE))),VLOOKUP(P63,Answers!M:P,4,FALSE),\"Help!\"))","v":""},null,{"$f":"IF(Q63=\"\",\"\",O63+IF(Q63=\"XX\",VLOOKUP(\"WRONG\",Answers!M:P,4,FALSE),Q63)+R63)","v":""},{"$f":"IF($B63=\"\",\"\",UPPER(Mainframe!G62))","v":""},{"$f":"IF(T63=\"\",\"\",IF(NOT(ISNA(VLOOKUP(T63,Answers!Q:T,4,FALSE))),VLOOKUP(T63,Answers!Q:T,4,FALSE),\"Help!\"))","v":""},null,{"$f":"IF(U63=\"\",\"\",S63+IF(U63=\"XX\",VLOOKUP(\"WRONG\",Answers!Q:T,4,FALSE),U63)+V63)","v":""},{"$f":"IF($B63=\"\",\"\",UPPER(Mainframe!H62))","v":""},{"$f":"IF(X63=\"\",\"\",IF(NOT(ISNA(VLOOKUP(X63,Answers!U:X,4,FALSE))),VLOOKUP(X63,Answers!U:X,4,FALSE),\"Help!\"))","v":""},null,{"$f":"IF(Y63=\"\",\"\",W63+IF(Y63=\"XX\",VLOOKUP(\"WRONG\",Answers!U:X,4,FALSE),Y63)+Z63)","v":""},{"$f":"IF($B63=\"\",\"\",UPPER(Mainframe!I62))","v":""},{"$f":"IF(AB63=\"\",\"\",IF(NOT(ISNA(VLOOKUP(AB63,Answers!Y:AB,4,FALSE))),VLOOKUP(AB63,Answers!Y:AB,4,FALSE),\"Help!\"))","v":""},null,{"$f":"IF(AC63=\"\",\"\",AA63+IF(AC63=\"XX\",VLOOKUP(\"WRONG\",Answers!Y:AB,4,FALSE),AC63)+AD63)","v":""},{"$f":"IF($B63=\"\",\"\",UPPER(Mainframe!J62))","v":""},{"$f":"IF(AF63=\"\",\"\",IF(NOT(ISNA(VLOOKUP(AF63,Answers!AC:AF,4,FALSE))),VLOOKUP(AF63,Answers!AC:AF,4,FALSE),\"Help!\"))","v":""},null,{"$f":"IF(AG63=\"\",\"\",AE63+IF(AG63=\"XX\",VLOOKUP(\"WRONG\",Answers!AC:AF,4,FALSE),AG63)+AH63)","v":""},{"$f":"IF($B63=\"\",\"\",UPPER(Mainframe!K62))","v":""},{"$f":"IF(AJ63=\"\",\"\",IF(NOT(ISNA(VLOOKUP(AJ63,Answers!AG:AJ,4,FALSE))),VLOOKUP(AJ63,Answers!AG:AJ,4,FALSE),\"Help!\"))","v":""},null,{"$f":"IF(AK63=\"\",\"\",AI63+IF(AK63=\"XX\",VLOOKUP(\"WRONG\",Answers!AG:AJ,4,FALSE),AK63)+AL63)","v":""},{"$f":"IF($B63=\"\",\"\",UPPER(Mainframe!L62))","v":""},{"$f":"IF(AN63=\"\",\"\",IF(NOT(ISNA(VLOOKUP(AN63,Answers!AK:AN,4,FALSE))),VLOOKUP(AN63,Answers!AK:AN,4,FALSE),\"Help!\"))","v":""},null,{"$f":"IF(AO63=\"\",\"\",AM63+IF(AO63=\"XX\",VLOOKUP(\"WRONG\",Answers!AK:AN,4,FALSE),AO63)+AP63)","v":""},{"$f":"IF($B63=\"\",\"\",UPPER(Mainframe!M62))","v":""},{"$f":"IF(AR63=\"\",\"\",IF(NOT(ISNA(VLOOKUP(AR63,Answers!AO:AR,4,FALSE))),VLOOKUP(AR63,Answers!AO:AR,4,FALSE),\"Help!\"))","v":""},null,{"$f":"IF(AS63=\"\",\"\",AQ63+IF(AS63=\"XX\",VLOOKUP(\"WRONG\",Answers!AO:AR,4,FALSE),AS63)+AT63)","v":""},{"$f":"IF($B63=\"\",\"\",UPPER(Mainframe!N62))","v":""},{"$f":"IF(AV63=\"\",\"\",IF(NOT(ISNA(VLOOKUP(AV63,Answers!AS:AV,4,FALSE))),VLOOKUP(AV63,Answers!AS:AV,4,FALSE),\"Help!\"))","v":""},null,{"$f":"IF(AW63=\"\",\"\",AU63+IF(AW63=\"XX\",VLOOKUP(\"WRONG\",Answers!AS:AV,4,FALSE),AW63)+AX63)","v":""},{"$f":"IF($B63=\"\",\"\",UPPER(Mainframe!O62))","v":""},{"$f":"IF(AZ63=\"\",\"\",IF(NOT(ISNA(VLOOKUP(AZ63,Answers!AW:AZ,4,FALSE))),VLOOKUP(AZ63,Answers!AW:AZ,4,FALSE),\"Help!\"))","v":""},null,{"$f":"IF(BA63=\"\",\"\",AY63+IF(BA63=\"XX\",VLOOKUP(\"WRONG\",Answers!AW:AZ,4,FALSE),BA63)+BB63)","v":""},{"$f":"IF($B63=\"\",\"\",UPPER(Mainframe!P62))","v":""},{"$f":"IF(BD63=\"\",\"\",IF(NOT(ISNA(VLOOKUP(BD63,Answers!BA:BD,4,FALSE))),VLOOKUP(BD63,Answers!BA:BD,4,FALSE),\"Help!\"))","v":""},null,{"$f":"IF(BE63=\"\",\"\",BC63+IF(BE63=\"XX\",VLOOKUP(\"WRONG\",Answers!BA:BD,4,FALSE),BE63)+BF63)","v":""},{"$f":"IF($B63=\"\",\"\",UPPER(Mainframe!Q62))","v":""},{"$f":"IF(BH63=\"\",\"\",IF(NOT(ISNA(VLOOKUP(BH63,Answers!BE:BH,4,FALSE))),VLOOKUP(BH63,Answers!BE:BH,4,FALSE),\"Help!\"))","v":""},null,{"$f":"IF(BI63=\"\",\"\",BG63+IF(BI63=\"XX\",VLOOKUP(\"WRONG\",Answers!BE:BH,4,FALSE),BI63)+BJ63)","v":""},{"$f":"IF($B63=\"\",\"\",UPPER(Mainframe!R62))","v":""},{"$f":"IF(BL63=\"\",\"\",IF(NOT(ISNA(VLOOKUP(BL63,Answers!BI:BL,4,FALSE))),VLOOKUP(BL63,Answers!BI:BL,4,FALSE),\"Help!\"))","v":""},null,{"$f":"IF(BM63=\"\",\"\",BK63+IF(BM63=\"XX\",VLOOKUP(\"WRONG\",Answers!BI:BL,4,FALSE),BM63)+BN63)","v":""},{"$f":"IF($B63=\"\",\"\",UPPER(Mainframe!S62))","v":""},{"$f":"IF(BP63=\"\",\"\",IF(NOT(ISNA(VLOOKUP(BP63,Answers!BM:BP,4,FALSE))),VLOOKUP(BP63,Answers!BM:BP,4,FALSE),\"Help!\"))","v":""},null,{"$f":"IF(BQ63=\"\",\"\",BO63+IF(BQ63=\"XX\",VLOOKUP(\"WRONG\",Answers!BM:BP,4,FALSE),BQ63)+BR63)","v":""},{"$f":"IF($B63=\"\",\"\",UPPER(Mainframe!T62))","v":""},{"$f":"IF(BT63=\"\",\"\",IF(NOT(ISNA(VLOOKUP(BT63,Answers!BQ:BT,4,FALSE))),VLOOKUP(BT63,Answers!BQ:BT,4,FALSE),\"Help!\"))","v":""},null,{"$f":"IF(BU63=\"\",\"\",BS63+IF(BU63=\"XX\",VLOOKUP(\"WRONG\",Answers!BQ:BT,4,FALSE),BU63)+BV63)","v":""},{"$f":"IF($B63=\"\",\"\",UPPER(Mainframe!U62))","v":""},{"$f":"IF(BX63=\"\",\"\",IF(NOT(ISNA(VLOOKUP(BX63,Answers!BU:BX,4,FALSE))),VLOOKUP(BX63,Answers!BU:BX,4,FALSE),\"Help!\"))","v":""},null,{"$f":"IF(BY63=\"\",\"\",BW63+IF(BY63=\"XX\",VLOOKUP(\"WRONG\",Answers!BU:BX,4,FALSE),BY63)+BZ63)","v":""},{"$f":"IF($B63=\"\",\"\",UPPER(Mainframe!V62))","v":""},{"$f":"IF(CB63=\"\",\"\",IF(NOT(ISNA(VLOOKUP(CB63,Answers!BY:CB,4,FALSE))),VLOOKUP(CB63,Answers!BY:CB,4,FALSE),\"Help!\"))","v":""},null,{"$f":"IF(CC63=\"\",\"\",CA63+IF(CC63=\"XX\",VLOOKUP(\"WRONG\",Answers!BY:CB,4,FALSE),CC63)+CD63)","v":""},null,null,1,{"$f":"IF(INDEX($B:$CE,ROW(),QNO*4-1)=DROPNAME,DROPNAME,IF(INDEX($B:$CE,ROW(),QNO*4-1)=SHEEPNAME,SHEEPNAME,IF(INDEX($B:$CE,ROW(),QNO*4)=\"XX\",INDEX($B:$CE,ROW(),QNO*4-1),INDEX(OFFSET(Answers!B:B,0,(QNO-1)*4),MATCH(INDEX($A:$CB,ROW(),QNO*4),OFFSET(Answers!A:A,0,(QNO-1)*4),0))&\" — \"&IF(INDEX($B:$CE,ROW(),QNO*4)=1,\"[b]Singleton![/b]\",CONCATENATE(INDEX($B:$CE,ROW(),QNO*4),\" responses\")))))","v":{"$error":"#N/A"}},"////////////////////////////////////////////////////////////////////////////////////////////////////////////////////////////////////////","No",{"$f":"IF(B63=0,\"\",CONCATENATE(INDEX($CH:$CL,ROW(),1),\". \",INDEX($B:$CE,ROW(),1),\" — [b]\")&IF(QNO=1,CONCATENATE(INDEX($B:$CE,ROW(),QNO*4+2),\"[/b] pts\"),CONCATENATE(INDEX($B:$CE,ROW(),QNO*4-2),\" + \",IF(INDEX($B:$CE,ROW(),QNO*4)=\"XX\",INDEX(Answers!$A:$ZZ,2,QNO*4),INDEX($B:$CE,ROW(),QNO*4)),\" = \",INDEX($B:$CE,ROW(),QNO*4+2),\"[/b] pts \",IF(INDEX($C:$CE,ROW(),QNO*4)>0,\"(penalty: +\"&INDEX($C:$CE,ROW(),QNO*4)&\") \",IF(INDEX($C:$CE,ROW(),QNO*4)<0,\"(bonus: \"&INDEX($C:$CE,ROW(),QNO*4)&\") \",\"\"))&\"[[b]\"&IF(CN63>0,\"[color=#00BF00]↑\"&CN63,IF(CN63<0,\"[color=#FF0000]↓\"&ABS(CN63),\"[color=#0000FF]unch\"))&\"[/b][/color]]\")))","v":"1.  — [b][/b] pts"},1,0]
["[*]",{"$f":"IF(Mainframe!B63=\"\",\"\",INDEX(Mainframe!$B:$B,C64+1,1))","v":""},62,{"$f":"IF($B64=\"\",\"\",UPPER(Mainframe!C63))","v":""},{"$f":"IF(D64=\"\",\"\",IF(NOT(ISNA(VLOOKUP(D64,Answers!A:D,4,FALSE))),VLOOKUP(D64,Answers!A:D,4,FALSE),\"Help!\"))","v":""},null,{"$f":"IF(E64=\"\",\"\",IF(E64=\"XX\",VLOOKUP(\"WRONG\",Answers!A:D,4,FALSE),E64)+F64)","v":""},{"$f":"IF($B64=\"\",\"\",UPPER(Mainframe!D63))","v":""},{"$f":"IF(H64=\"\",\"\",IF(NOT(ISNA(VLOOKUP(H64,Answers!E:H,4,FALSE))),VLOOKUP(H64,Answers!E:H,4,FALSE),\"Help!\"))","v":""},null,{"$f":"IF(I64=\"\",\"\",G64+IF(I64=\"XX\",VLOOKUP(\"WRONG\",Answers!E:H,4,FALSE),I64)+J64)","v":""},{"$f":"IF($B64=\"\",\"\",UPPER(Mainframe!E63))","v":""},{"$f":"IF(L64=\"\",\"\",IF(NOT(ISNA(VLOOKUP(L64,Answers!I:L,4,FALSE))),VLOOKUP(L64,Answers!I:L,4,FALSE),\"Help!\"))","v":""},null,{"$f":"IF(M64=\"\",\"\",K64+IF(M64=\"XX\",VLOOKUP(\"WRONG\",Answers!I:L,4,FALSE),M64)+N64)","v":""},{"$f":"IF($B64=\"\",\"\",UPPER(Mainframe!F63))","v":""},{"$f":"IF(P64=\"\",\"\",IF(NOT(ISNA(VLOOKUP(P64,Answers!M:P,4,FALSE))),VLOOKUP(P64,Answers!M:P,4,FALSE),\"Help!\"))","v":""},null,{"$f":"IF(Q64=\"\",\"\",O64+IF(Q64=\"XX\",VLOOKUP(\"WRONG\",Answers!M:P,4,FALSE),Q64)+R64)","v":""},{"$f":"IF($B64=\"\",\"\",UPPER(Mainframe!G63))","v":""},{"$f":"IF(T64=\"\",\"\",IF(NOT(ISNA(VLOOKUP(T64,Answers!Q:T,4,FALSE))),VLOOKUP(T64,Answers!Q:T,4,FALSE),\"Help!\"))","v":""},null,{"$f":"IF(U64=\"\",\"\",S64+IF(U64=\"XX\",VLOOKUP(\"WRONG\",Answers!Q:T,4,FALSE),U64)+V64)","v":""},{"$f":"IF($B64=\"\",\"\",UPPER(Mainframe!H63))","v":""},{"$f":"IF(X64=\"\",\"\",IF(NOT(ISNA(VLOOKUP(X64,Answers!U:X,4,FALSE))),VLOOKUP(X64,Answers!U:X,4,FALSE),\"Help!\"))","v":""},null,{"$f":"IF(Y64=\"\",\"\",W64+IF(Y64=\"XX\",VLOOKUP(\"WRONG\",Answers!U:X,4,FALSE),Y64)+Z64)","v":""},{"$f":"IF($B64=\"\",\"\",UPPER(Mainframe!I63))","v":""},{"$f":"IF(AB64=\"\",\"\",IF(NOT(ISNA(VLOOKUP(AB64,Answers!Y:AB,4,FALSE))),VLOOKUP(AB64,Answers!Y:AB,4,FALSE),\"Help!\"))","v":""},null,{"$f":"IF(AC64=\"\",\"\",AA64+IF(AC64=\"XX\",VLOOKUP(\"WRONG\",Answers!Y:AB,4,FALSE),AC64)+AD64)","v":""},{"$f":"IF($B64=\"\",\"\",UPPER(Mainframe!J63))","v":""},{"$f":"IF(AF64=\"\",\"\",IF(NOT(ISNA(VLOOKUP(AF64,Answers!AC:AF,4,FALSE))),VLOOKUP(AF64,Answers!AC:AF,4,FALSE),\"Help!\"))","v":""},null,{"$f":"IF(AG64=\"\",\"\",AE64+IF(AG64=\"XX\",VLOOKUP(\"WRONG\",Answers!AC:AF,4,FALSE),AG64)+AH64)","v":""},{"$f":"IF($B64=\"\",\"\",UPPER(Mainframe!K63))","v":""},{"$f":"IF(AJ64=\"\",\"\",IF(NOT(ISNA(VLOOKUP(AJ64,Answers!AG:AJ,4,FALSE))),VLOOKUP(AJ64,Answers!AG:AJ,4,FALSE),\"Help!\"))","v":""},null,{"$f":"IF(AK64=\"\",\"\",AI64+IF(AK64=\"XX\",VLOOKUP(\"WRONG\",Answers!AG:AJ,4,FALSE),AK64)+AL64)","v":""},{"$f":"IF($B64=\"\",\"\",UPPER(Mainframe!L63))","v":""},{"$f":"IF(AN64=\"\",\"\",IF(NOT(ISNA(VLOOKUP(AN64,Answers!AK:AN,4,FALSE))),VLOOKUP(AN64,Answers!AK:AN,4,FALSE),\"Help!\"))","v":""},null,{"$f":"IF(AO64=\"\",\"\",AM64+IF(AO64=\"XX\",VLOOKUP(\"WRONG\",Answers!AK:AN,4,FALSE),AO64)+AP64)","v":""},{"$f":"IF($B64=\"\",\"\",UPPER(Mainframe!M63))","v":""},{"$f":"IF(AR64=\"\",\"\",IF(NOT(ISNA(VLOOKUP(AR64,Answers!AO:AR,4,FALSE))),VLOOKUP(AR64,Answers!AO:AR,4,FALSE),\"Help!\"))","v":""},null,{"$f":"IF(AS64=\"\",\"\",AQ64+IF(AS64=\"XX\",VLOOKUP(\"WRONG\",Answers!AO:AR,4,FALSE),AS64)+AT64)","v":""},{"$f":"IF($B64=\"\",\"\",UPPER(Mainframe!N63))","v":""},{"$f":"IF(AV64=\"\",\"\",IF(NOT(ISNA(VLOOKUP(AV64,Answers!AS:AV,4,FALSE))),VLOOKUP(AV64,Answers!AS:AV,4,FALSE),\"Help!\"))","v":""},null,{"$f":"IF(AW64=\"\",\"\",AU64+IF(AW64=\"XX\",VLOOKUP(\"WRONG\",Answers!AS:AV,4,FALSE),AW64)+AX64)","v":""},{"$f":"IF($B64=\"\",\"\",UPPER(Mainframe!O63))","v":""},{"$f":"IF(AZ64=\"\",\"\",IF(NOT(ISNA(VLOOKUP(AZ64,Answers!AW:AZ,4,FALSE))),VLOOKUP(AZ64,Answers!AW:AZ,4,FALSE),\"Help!\"))","v":""},null,{"$f":"IF(BA64=\"\",\"\",AY64+IF(BA64=\"XX\",VLOOKUP(\"WRONG\",Answers!AW:AZ,4,FALSE),BA64)+BB64)","v":""},{"$f":"IF($B64=\"\",\"\",UPPER(Mainframe!P63))","v":""},{"$f":"IF(BD64=\"\",\"\",IF(NOT(ISNA(VLOOKUP(BD64,Answers!BA:BD,4,FALSE))),VLOOKUP(BD64,Answers!BA:BD,4,FALSE),\"Help!\"))","v":""},null,{"$f":"IF(BE64=\"\",\"\",BC64+IF(BE64=\"XX\",VLOOKUP(\"WRONG\",Answers!BA:BD,4,FALSE),BE64)+BF64)","v":""},{"$f":"IF($B64=\"\",\"\",UPPER(Mainframe!Q63))","v":""},{"$f":"IF(BH64=\"\",\"\",IF(NOT(ISNA(VLOOKUP(BH64,Answers!BE:BH,4,FALSE))),VLOOKUP(BH64,Answers!BE:BH,4,FALSE),\"Help!\"))","v":""},null,{"$f":"IF(BI64=\"\",\"\",BG64+IF(BI64=\"XX\",VLOOKUP(\"WRONG\",Answers!BE:BH,4,FALSE),BI64)+BJ64)","v":""},{"$f":"IF($B64=\"\",\"\",UPPER(Mainframe!R63))","v":""},{"$f":"IF(BL64=\"\",\"\",IF(NOT(ISNA(VLOOKUP(BL64,Answers!BI:BL,4,FALSE))),VLOOKUP(BL64,Answers!BI:BL,4,FALSE),\"Help!\"))","v":""},null,{"$f":"IF(BM64=\"\",\"\",BK64+IF(BM64=\"XX\",VLOOKUP(\"WRONG\",Answers!BI:BL,4,FALSE),BM64)+BN64)","v":""},{"$f":"IF($B64=\"\",\"\",UPPER(Mainframe!S63))","v":""},{"$f":"IF(BP64=\"\",\"\",IF(NOT(ISNA(VLOOKUP(BP64,Answers!BM:BP,4,FALSE))),VLOOKUP(BP64,Answers!BM:BP,4,FALSE),\"Help!\"))","v":""},null,{"$f":"IF(BQ64=\"\",\"\",BO64+IF(BQ64=\"XX\",VLOOKUP(\"WRONG\",Answers!BM:BP,4,FALSE),BQ64)+BR64)","v":""},{"$f":"IF($B64=\"\",\"\",UPPER(Mainframe!T63))","v":""},{"$f":"IF(BT64=\"\",\"\",IF(NOT(ISNA(VLOOKUP(BT64,Answers!BQ:BT,4,FALSE))),VLOOKUP(BT64,Answers!BQ:BT,4,FALSE),\"Help!\"))","v":""},null,{"$f":"IF(BU64=\"\",\"\",BS64+IF(BU64=\"XX\",VLOOKUP(\"WRONG\",Answers!BQ:BT,4,FALSE),BU64)+BV64)","v":""},{"$f":"IF($B64=\"\",\"\",UPPER(Mainframe!U63))","v":""},{"$f":"IF(BX64=\"\",\"\",IF(NOT(ISNA(VLOOKUP(BX64,Answers!BU:BX,4,FALSE))),VLOOKUP(BX64,Answers!BU:BX,4,FALSE),\"Help!\"))","v":""},null,{"$f":"IF(BY64=\"\",\"\",BW64+IF(BY64=\"XX\",VLOOKUP(\"WRONG\",Answers!BU:BX,4,FALSE),BY64)+BZ64)","v":""},{"$f":"IF($B64=\"\",\"\",UPPER(Mainframe!V63))","v":""},{"$f":"IF(CB64=\"\",\"\",IF(NOT(ISNA(VLOOKUP(CB64,Answers!BY:CB,4,FALSE))),VLOOKUP(CB64,Answers!BY:CB,4,FALSE),\"Help!\"))","v":""},null,{"$f":"IF(CC64=\"\",\"\",CA64+IF(CC64=\"XX\",VLOOKUP(\"WRONG\",Answers!BY:CB,4,FALSE),CC64)+CD64)","v":""},null,null,1,{"$f":"IF(INDEX($B:$CE,ROW(),QNO*4-1)=DROPNAME,DROPNAME,IF(INDEX($B:$CE,ROW(),QNO*4-1)=SHEEPNAME,SHEEPNAME,IF(INDEX($B:$CE,ROW(),QNO*4)=\"XX\",INDEX($B:$CE,ROW(),QNO*4-1),INDEX(OFFSET(Answers!B:B,0,(QNO-1)*4),MATCH(INDEX($A:$CB,ROW(),QNO*4),OFFSET(Answers!A:A,0,(QNO-1)*4),0))&\" — \"&IF(INDEX($B:$CE,ROW(),QNO*4)=1,\"[b]Singleton![/b]\",CONCATENATE(INDEX($B:$CE,ROW(),QNO*4),\" responses\")))))","v":{"$error":"#N/A"}},"//////////////////////////////////////////////////////////////////////////////////////////////////////////////////////////////////////","No",{"$f":"IF(B64=0,\"\",CONCATENATE(INDEX($CH:$CL,ROW(),1),\". \",INDEX($B:$CE,ROW(),1),\" — [b]\")&IF(QNO=1,CONCATENATE(INDEX($B:$CE,ROW(),QNO*4+2),\"[/b] pts\"),CONCATENATE(INDEX($B:$CE,ROW(),QNO*4-2),\" + \",IF(INDEX($B:$CE,ROW(),QNO*4)=\"XX\",INDEX(Answers!$A:$ZZ,2,QNO*4),INDEX($B:$CE,ROW(),QNO*4)),\" = \",INDEX($B:$CE,ROW(),QNO*4+2),\"[/b] pts \",IF(INDEX($C:$CE,ROW(),QNO*4)>0,\"(penalty: +\"&INDEX($C:$CE,ROW(),QNO*4)&\") \",IF(INDEX($C:$CE,ROW(),QNO*4)<0,\"(bonus: \"&INDEX($C:$CE,ROW(),QNO*4)&\") \",\"\"))&\"[[b]\"&IF(CN64>0,\"[color=#00BF00]↑\"&CN64,IF(CN64<0,\"[color=#FF0000]↓\"&ABS(CN64),\"[color=#0000FF]unch\"))&\"[/b][/color]]\")))","v":"1.  — [b][/b] pts"},1,0]
["[*]",{"$f":"IF(Mainframe!B64=\"\",\"\",INDEX(Mainframe!$B:$B,C65+1,1))","v":""},63,{"$f":"IF($B65=\"\",\"\",UPPER(Mainframe!C64))","v":""},{"$f":"IF(D65=\"\",\"\",IF(NOT(ISNA(VLOOKUP(D65,Answers!A:D,4,FALSE))),VLOOKUP(D65,Answers!A:D,4,FALSE),\"Help!\"))","v":""},null,{"$f":"IF(E65=\"\",\"\",IF(E65=\"XX\",VLOOKUP(\"WRONG\",Answers!A:D,4,FALSE),E65)+F65)","v":""},{"$f":"IF($B65=\"\",\"\",UPPER(Mainframe!D64))","v":""},{"$f":"IF(H65=\"\",\"\",IF(NOT(ISNA(VLOOKUP(H65,Answers!E:H,4,FALSE))),VLOOKUP(H65,Answers!E:H,4,FALSE),\"Help!\"))","v":""},null,{"$f":"IF(I65=\"\",\"\",G65+IF(I65=\"XX\",VLOOKUP(\"WRONG\",Answers!E:H,4,FALSE),I65)+J65)","v":""},{"$f":"IF($B65=\"\",\"\",UPPER(Mainframe!E64))","v":""},{"$f":"IF(L65=\"\",\"\",IF(NOT(ISNA(VLOOKUP(L65,Answers!I:L,4,FALSE))),VLOOKUP(L65,Answers!I:L,4,FALSE),\"Help!\"))","v":""},null,{"$f":"IF(M65=\"\",\"\",K65+IF(M65=\"XX\",VLOOKUP(\"WRONG\",Answers!I:L,4,FALSE),M65)+N65)","v":""},{"$f":"IF($B65=\"\",\"\",UPPER(Mainframe!F64))","v":""},{"$f":"IF(P65=\"\",\"\",IF(NOT(ISNA(VLOOKUP(P65,Answers!M:P,4,FALSE))),VLOOKUP(P65,Answers!M:P,4,FALSE),\"Help!\"))","v":""},null,{"$f":"IF(Q65=\"\",\"\",O65+IF(Q65=\"XX\",VLOOKUP(\"WRONG\",Answers!M:P,4,FALSE),Q65)+R65)","v":""},{"$f":"IF($B65=\"\",\"\",UPPER(Mainframe!G64))","v":""},{"$f":"IF(T65=\"\",\"\",IF(NOT(ISNA(VLOOKUP(T65,Answers!Q:T,4,FALSE))),VLOOKUP(T65,Answers!Q:T,4,FALSE),\"Help!\"))","v":""},null,{"$f":"IF(U65=\"\",\"\",S65+IF(U65=\"XX\",VLOOKUP(\"WRONG\",Answers!Q:T,4,FALSE),U65)+V65)","v":""},{"$f":"IF($B65=\"\",\"\",UPPER(Mainframe!H64))","v":""},{"$f":"IF(X65=\"\",\"\",IF(NOT(ISNA(VLOOKUP(X65,Answers!U:X,4,FALSE))),VLOOKUP(X65,Answers!U:X,4,FALSE),\"Help!\"))","v":""},null,{"$f":"IF(Y65=\"\",\"\",W65+IF(Y65=\"XX\",VLOOKUP(\"WRONG\",Answers!U:X,4,FALSE),Y65)+Z65)","v":""},{"$f":"IF($B65=\"\",\"\",UPPER(Mainframe!I64))","v":""},{"$f":"IF(AB65=\"\",\"\",IF(NOT(ISNA(VLOOKUP(AB65,Answers!Y:AB,4,FALSE))),VLOOKUP(AB65,Answers!Y:AB,4,FALSE),\"Help!\"))","v":""},null,{"$f":"IF(AC65=\"\",\"\",AA65+IF(AC65=\"XX\",VLOOKUP(\"WRONG\",Answers!Y:AB,4,FALSE),AC65)+AD65)","v":""},{"$f":"IF($B65=\"\",\"\",UPPER(Mainframe!J64))","v":""},{"$f":"IF(AF65=\"\",\"\",IF(NOT(ISNA(VLOOKUP(AF65,Answers!AC:AF,4,FALSE))),VLOOKUP(AF65,Answers!AC:AF,4,FALSE),\"Help!\"))","v":""},null,{"$f":"IF(AG65=\"\",\"\",AE65+IF(AG65=\"XX\",VLOOKUP(\"WRONG\",Answers!AC:AF,4,FALSE),AG65)+AH65)","v":""},{"$f":"IF($B65=\"\",\"\",UPPER(Mainframe!K64))","v":""},{"$f":"IF(AJ65=\"\",\"\",IF(NOT(ISNA(VLOOKUP(AJ65,Answers!AG:AJ,4,FALSE))),VLOOKUP(AJ65,Answers!AG:AJ,4,FALSE),\"Help!\"))","v":""},null,{"$f":"IF(AK65=\"\",\"\",AI65+IF(AK65=\"XX\",VLOOKUP(\"WRONG\",Answers!AG:AJ,4,FALSE),AK65)+AL65)","v":""},{"$f":"IF($B65=\"\",\"\",UPPER(Mainframe!L64))","v":""},{"$f":"IF(AN65=\"\",\"\",IF(NOT(ISNA(VLOOKUP(AN65,Answers!AK:AN,4,FALSE))),VLOOKUP(AN65,Answers!AK:AN,4,FALSE),\"Help!\"))","v":""},null,{"$f":"IF(AO65=\"\",\"\",AM65+IF(AO65=\"XX\",VLOOKUP(\"WRONG\",Answers!AK:AN,4,FALSE),AO65)+AP65)","v":""},{"$f":"IF($B65=\"\",\"\",UPPER(Mainframe!M64))","v":""},{"$f":"IF(AR65=\"\",\"\",IF(NOT(ISNA(VLOOKUP(AR65,Answers!AO:AR,4,FALSE))),VLOOKUP(AR65,Answers!AO:AR,4,FALSE),\"Help!\"))","v":""},null,{"$f":"IF(AS65=\"\",\"\",AQ65+IF(AS65=\"XX\",VLOOKUP(\"WRONG\",Answers!AO:AR,4,FALSE),AS65)+AT65)","v":""},{"$f":"IF($B65=\"\",\"\",UPPER(Mainframe!N64))","v":""},{"$f":"IF(AV65=\"\",\"\",IF(NOT(ISNA(VLOOKUP(AV65,Answers!AS:AV,4,FALSE))),VLOOKUP(AV65,Answers!AS:AV,4,FALSE),\"Help!\"))","v":""},null,{"$f":"IF(AW65=\"\",\"\",AU65+IF(AW65=\"XX\",VLOOKUP(\"WRONG\",Answers!AS:AV,4,FALSE),AW65)+AX65)","v":""},{"$f":"IF($B65=\"\",\"\",UPPER(Mainframe!O64))","v":""},{"$f":"IF(AZ65=\"\",\"\",IF(NOT(ISNA(VLOOKUP(AZ65,Answers!AW:AZ,4,FALSE))),VLOOKUP(AZ65,Answers!AW:AZ,4,FALSE),\"Help!\"))","v":""},null,{"$f":"IF(BA65=\"\",\"\",AY65+IF(BA65=\"XX\",VLOOKUP(\"WRONG\",Answers!AW:AZ,4,FALSE),BA65)+BB65)","v":""},{"$f":"IF($B65=\"\",\"\",UPPER(Mainframe!P64))","v":""},{"$f":"IF(BD65=\"\",\"\",IF(NOT(ISNA(VLOOKUP(BD65,Answers!BA:BD,4,FALSE))),VLOOKUP(BD65,Answers!BA:BD,4,FALSE),\"Help!\"))","v":""},null,{"$f":"IF(BE65=\"\",\"\",BC65+IF(BE65=\"XX\",VLOOKUP(\"WRONG\",Answers!BA:BD,4,FALSE),BE65)+BF65)","v":""},{"$f":"IF($B65=\"\",\"\",UPPER(Mainframe!Q64))","v":""},{"$f":"IF(BH65=\"\",\"\",IF(NOT(ISNA(VLOOKUP(BH65,Answers!BE:BH,4,FALSE))),VLOOKUP(BH65,Answers!BE:BH,4,FALSE),\"Help!\"))","v":""},null,{"$f":"IF(BI65=\"\",\"\",BG65+IF(BI65=\"XX\",VLOOKUP(\"WRONG\",Answers!BE:BH,4,FALSE),BI65)+BJ65)","v":""},{"$f":"IF($B65=\"\",\"\",UPPER(Mainframe!R64))","v":""},{"$f":"IF(BL65=\"\",\"\",IF(NOT(ISNA(VLOOKUP(BL65,Answers!BI:BL,4,FALSE))),VLOOKUP(BL65,Answers!BI:BL,4,FALSE),\"Help!\"))","v":""},null,{"$f":"IF(BM65=\"\",\"\",BK65+IF(BM65=\"XX\",VLOOKUP(\"WRONG\",Answers!BI:BL,4,FALSE),BM65)+BN65)","v":""},{"$f":"IF($B65=\"\",\"\",UPPER(Mainframe!S64))","v":""},{"$f":"IF(BP65=\"\",\"\",IF(NOT(ISNA(VLOOKUP(BP65,Answers!BM:BP,4,FALSE))),VLOOKUP(BP65,Answers!BM:BP,4,FALSE),\"Help!\"))","v":""},null,{"$f":"IF(BQ65=\"\",\"\",BO65+IF(BQ65=\"XX\",VLOOKUP(\"WRONG\",Answers!BM:BP,4,FALSE),BQ65)+BR65)","v":""},{"$f":"IF($B65=\"\",\"\",UPPER(Mainframe!T64))","v":""},{"$f":"IF(BT65=\"\",\"\",IF(NOT(ISNA(VLOOKUP(BT65,Answers!BQ:BT,4,FALSE))),VLOOKUP(BT65,Answers!BQ:BT,4,FALSE),\"Help!\"))","v":""},null,{"$f":"IF(BU65=\"\",\"\",BS65+IF(BU65=\"XX\",VLOOKUP(\"WRONG\",Answers!BQ:BT,4,FALSE),BU65)+BV65)","v":""},{"$f":"IF($B65=\"\",\"\",UPPER(Mainframe!U64))","v":""},{"$f":"IF(BX65=\"\",\"\",IF(NOT(ISNA(VLOOKUP(BX65,Answers!BU:BX,4,FALSE))),VLOOKUP(BX65,Answers!BU:BX,4,FALSE),\"Help!\"))","v":""},null,{"$f":"IF(BY65=\"\",\"\",BW65+IF(BY65=\"XX\",VLOOKUP(\"WRONG\",Answers!BU:BX,4,FALSE),BY65)+BZ65)","v":""},{"$f":"IF($B65=\"\",\"\",UPPER(Mainframe!V64))","v":""},{"$f":"IF(CB65=\"\",\"\",IF(NOT(ISNA(VLOOKUP(CB65,Answers!BY:CB,4,FALSE))),VLOOKUP(CB65,Answers!BY:CB,4,FALSE),\"Help!\"))","v":""},null,{"$f":"IF(CC65=\"\",\"\",CA65+IF(CC65=\"XX\",VLOOKUP(\"WRONG\",Answers!BY:CB,4,FALSE),CC65)+CD65)","v":""},null,null,1,{"$f":"IF(INDEX($B:$CE,ROW(),QNO*4-1)=DROPNAME,DROPNAME,IF(INDEX($B:$CE,ROW(),QNO*4-1)=SHEEPNAME,SHEEPNAME,IF(INDEX($B:$CE,ROW(),QNO*4)=\"XX\",INDEX($B:$CE,ROW(),QNO*4-1),INDEX(OFFSET(Answers!B:B,0,(QNO-1)*4),MATCH(INDEX($A:$CB,ROW(),QNO*4),OFFSET(Answers!A:A,0,(QNO-1)*4),0))&\" — \"&IF(INDEX($B:$CE,ROW(),QNO*4)=1,\"[b]Singleton![/b]\",CONCATENATE(INDEX($B:$CE,ROW(),QNO*4),\" responses\")))))","v":{"$error":"#N/A"}},"////////////////////////////////////////////////////////////////////////////////////////////////////////////////////////////////////","No",{"$f":"IF(B65=0,\"\",CONCATENATE(INDEX($CH:$CL,ROW(),1),\". \",INDEX($B:$CE,ROW(),1),\" — [b]\")&IF(QNO=1,CONCATENATE(INDEX($B:$CE,ROW(),QNO*4+2),\"[/b] pts\"),CONCATENATE(INDEX($B:$CE,ROW(),QNO*4-2),\" + \",IF(INDEX($B:$CE,ROW(),QNO*4)=\"XX\",INDEX(Answers!$A:$ZZ,2,QNO*4),INDEX($B:$CE,ROW(),QNO*4)),\" = \",INDEX($B:$CE,ROW(),QNO*4+2),\"[/b] pts \",IF(INDEX($C:$CE,ROW(),QNO*4)>0,\"(penalty: +\"&INDEX($C:$CE,ROW(),QNO*4)&\") \",IF(INDEX($C:$CE,ROW(),QNO*4)<0,\"(bonus: \"&INDEX($C:$CE,ROW(),QNO*4)&\") \",\"\"))&\"[[b]\"&IF(CN65>0,\"[color=#00BF00]↑\"&CN65,IF(CN65<0,\"[color=#FF0000]↓\"&ABS(CN65),\"[color=#0000FF]unch\"))&\"[/b][/color]]\")))","v":"1.  — [b][/b] pts"},1,0]
["[*]",{"$f":"IF(Mainframe!B65=\"\",\"\",INDEX(Mainframe!$B:$B,C66+1,1))","v":""},64,{"$f":"IF($B66=\"\",\"\",UPPER(Mainframe!C65))","v":""},{"$f":"IF(D66=\"\",\"\",IF(NOT(ISNA(VLOOKUP(D66,Answers!A:D,4,FALSE))),VLOOKUP(D66,Answers!A:D,4,FALSE),\"Help!\"))","v":""},null,{"$f":"IF(E66=\"\",\"\",IF(E66=\"XX\",VLOOKUP(\"WRONG\",Answers!A:D,4,FALSE),E66)+F66)","v":""},{"$f":"IF($B66=\"\",\"\",UPPER(Mainframe!D65))","v":""},{"$f":"IF(H66=\"\",\"\",IF(NOT(ISNA(VLOOKUP(H66,Answers!E:H,4,FALSE))),VLOOKUP(H66,Answers!E:H,4,FALSE),\"Help!\"))","v":""},null,{"$f":"IF(I66=\"\",\"\",G66+IF(I66=\"XX\",VLOOKUP(\"WRONG\",Answers!E:H,4,FALSE),I66)+J66)","v":""},{"$f":"IF($B66=\"\",\"\",UPPER(Mainframe!E65))","v":""},{"$f":"IF(L66=\"\",\"\",IF(NOT(ISNA(VLOOKUP(L66,Answers!I:L,4,FALSE))),VLOOKUP(L66,Answers!I:L,4,FALSE),\"Help!\"))","v":""},null,{"$f":"IF(M66=\"\",\"\",K66+IF(M66=\"XX\",VLOOKUP(\"WRONG\",Answers!I:L,4,FALSE),M66)+N66)","v":""},{"$f":"IF($B66=\"\",\"\",UPPER(Mainframe!F65))","v":""},{"$f":"IF(P66=\"\",\"\",IF(NOT(ISNA(VLOOKUP(P66,Answers!M:P,4,FALSE))),VLOOKUP(P66,Answers!M:P,4,FALSE),\"Help!\"))","v":""},null,{"$f":"IF(Q66=\"\",\"\",O66+IF(Q66=\"XX\",VLOOKUP(\"WRONG\",Answers!M:P,4,FALSE),Q66)+R66)","v":""},{"$f":"IF($B66=\"\",\"\",UPPER(Mainframe!G65))","v":""},{"$f":"IF(T66=\"\",\"\",IF(NOT(ISNA(VLOOKUP(T66,Answers!Q:T,4,FALSE))),VLOOKUP(T66,Answers!Q:T,4,FALSE),\"Help!\"))","v":""},null,{"$f":"IF(U66=\"\",\"\",S66+IF(U66=\"XX\",VLOOKUP(\"WRONG\",Answers!Q:T,4,FALSE),U66)+V66)","v":""},{"$f":"IF($B66=\"\",\"\",UPPER(Mainframe!H65))","v":""},{"$f":"IF(X66=\"\",\"\",IF(NOT(ISNA(VLOOKUP(X66,Answers!U:X,4,FALSE))),VLOOKUP(X66,Answers!U:X,4,FALSE),\"Help!\"))","v":""},null,{"$f":"IF(Y66=\"\",\"\",W66+IF(Y66=\"XX\",VLOOKUP(\"WRONG\",Answers!U:X,4,FALSE),Y66)+Z66)","v":""},{"$f":"IF($B66=\"\",\"\",UPPER(Mainframe!I65))","v":""},{"$f":"IF(AB66=\"\",\"\",IF(NOT(ISNA(VLOOKUP(AB66,Answers!Y:AB,4,FALSE))),VLOOKUP(AB66,Answers!Y:AB,4,FALSE),\"Help!\"))","v":""},null,{"$f":"IF(AC66=\"\",\"\",AA66+IF(AC66=\"XX\",VLOOKUP(\"WRONG\",Answers!Y:AB,4,FALSE),AC66)+AD66)","v":""},{"$f":"IF($B66=\"\",\"\",UPPER(Mainframe!J65))","v":""},{"$f":"IF(AF66=\"\",\"\",IF(NOT(ISNA(VLOOKUP(AF66,Answers!AC:AF,4,FALSE))),VLOOKUP(AF66,Answers!AC:AF,4,FALSE),\"Help!\"))","v":""},null,{"$f":"IF(AG66=\"\",\"\",AE66+IF(AG66=\"XX\",VLOOKUP(\"WRONG\",Answers!AC:AF,4,FALSE),AG66)+AH66)","v":""},{"$f":"IF($B66=\"\",\"\",UPPER(Mainframe!K65))","v":""},{"$f":"IF(AJ66=\"\",\"\",IF(NOT(ISNA(VLOOKUP(AJ66,Answers!AG:AJ,4,FALSE))),VLOOKUP(AJ66,Answers!AG:AJ,4,FALSE),\"Help!\"))","v":""},null,{"$f":"IF(AK66=\"\",\"\",AI66+IF(AK66=\"XX\",VLOOKUP(\"WRONG\",Answers!AG:AJ,4,FALSE),AK66)+AL66)","v":""},{"$f":"IF($B66=\"\",\"\",UPPER(Mainframe!L65))","v":""},{"$f":"IF(AN66=\"\",\"\",IF(NOT(ISNA(VLOOKUP(AN66,Answers!AK:AN,4,FALSE))),VLOOKUP(AN66,Answers!AK:AN,4,FALSE),\"Help!\"))","v":""},null,{"$f":"IF(AO66=\"\",\"\",AM66+IF(AO66=\"XX\",VLOOKUP(\"WRONG\",Answers!AK:AN,4,FALSE),AO66)+AP66)","v":""},{"$f":"IF($B66=\"\",\"\",UPPER(Mainframe!M65))","v":""},{"$f":"IF(AR66=\"\",\"\",IF(NOT(ISNA(VLOOKUP(AR66,Answers!AO:AR,4,FALSE))),VLOOKUP(AR66,Answers!AO:AR,4,FALSE),\"Help!\"))","v":""},null,{"$f":"IF(AS66=\"\",\"\",AQ66+IF(AS66=\"XX\",VLOOKUP(\"WRONG\",Answers!AO:AR,4,FALSE),AS66)+AT66)","v":""},{"$f":"IF($B66=\"\",\"\",UPPER(Mainframe!N65))","v":""},{"$f":"IF(AV66=\"\",\"\",IF(NOT(ISNA(VLOOKUP(AV66,Answers!AS:AV,4,FALSE))),VLOOKUP(AV66,Answers!AS:AV,4,FALSE),\"Help!\"))","v":""},null,{"$f":"IF(AW66=\"\",\"\",AU66+IF(AW66=\"XX\",VLOOKUP(\"WRONG\",Answers!AS:AV,4,FALSE),AW66)+AX66)","v":""},{"$f":"IF($B66=\"\",\"\",UPPER(Mainframe!O65))","v":""},{"$f":"IF(AZ66=\"\",\"\",IF(NOT(ISNA(VLOOKUP(AZ66,Answers!AW:AZ,4,FALSE))),VLOOKUP(AZ66,Answers!AW:AZ,4,FALSE),\"Help!\"))","v":""},null,{"$f":"IF(BA66=\"\",\"\",AY66+IF(BA66=\"XX\",VLOOKUP(\"WRONG\",Answers!AW:AZ,4,FALSE),BA66)+BB66)","v":""},{"$f":"IF($B66=\"\",\"\",UPPER(Mainframe!P65))","v":""},{"$f":"IF(BD66=\"\",\"\",IF(NOT(ISNA(VLOOKUP(BD66,Answers!BA:BD,4,FALSE))),VLOOKUP(BD66,Answers!BA:BD,4,FALSE),\"Help!\"))","v":""},null,{"$f":"IF(BE66=\"\",\"\",BC66+IF(BE66=\"XX\",VLOOKUP(\"WRONG\",Answers!BA:BD,4,FALSE),BE66)+BF66)","v":""},{"$f":"IF($B66=\"\",\"\",UPPER(Mainframe!Q65))","v":""},{"$f":"IF(BH66=\"\",\"\",IF(NOT(ISNA(VLOOKUP(BH66,Answers!BE:BH,4,FALSE))),VLOOKUP(BH66,Answers!BE:BH,4,FALSE),\"Help!\"))","v":""},null,{"$f":"IF(BI66=\"\",\"\",BG66+IF(BI66=\"XX\",VLOOKUP(\"WRONG\",Answers!BE:BH,4,FALSE),BI66)+BJ66)","v":""},{"$f":"IF($B66=\"\",\"\",UPPER(Mainframe!R65))","v":""},{"$f":"IF(BL66=\"\",\"\",IF(NOT(ISNA(VLOOKUP(BL66,Answers!BI:BL,4,FALSE))),VLOOKUP(BL66,Answers!BI:BL,4,FALSE),\"Help!\"))","v":""},null,{"$f":"IF(BM66=\"\",\"\",BK66+IF(BM66=\"XX\",VLOOKUP(\"WRONG\",Answers!BI:BL,4,FALSE),BM66)+BN66)","v":""},{"$f":"IF($B66=\"\",\"\",UPPER(Mainframe!S65))","v":""},{"$f":"IF(BP66=\"\",\"\",IF(NOT(ISNA(VLOOKUP(BP66,Answers!BM:BP,4,FALSE))),VLOOKUP(BP66,Answers!BM:BP,4,FALSE),\"Help!\"))","v":""},null,{"$f":"IF(BQ66=\"\",\"\",BO66+IF(BQ66=\"XX\",VLOOKUP(\"WRONG\",Answers!BM:BP,4,FALSE),BQ66)+BR66)","v":""},{"$f":"IF($B66=\"\",\"\",UPPER(Mainframe!T65))","v":""},{"$f":"IF(BT66=\"\",\"\",IF(NOT(ISNA(VLOOKUP(BT66,Answers!BQ:BT,4,FALSE))),VLOOKUP(BT66,Answers!BQ:BT,4,FALSE),\"Help!\"))","v":""},null,{"$f":"IF(BU66=\"\",\"\",BS66+IF(BU66=\"XX\",VLOOKUP(\"WRONG\",Answers!BQ:BT,4,FALSE),BU66)+BV66)","v":""},{"$f":"IF($B66=\"\",\"\",UPPER(Mainframe!U65))","v":""},{"$f":"IF(BX66=\"\",\"\",IF(NOT(ISNA(VLOOKUP(BX66,Answers!BU:BX,4,FALSE))),VLOOKUP(BX66,Answers!BU:BX,4,FALSE),\"Help!\"))","v":""},null,{"$f":"IF(BY66=\"\",\"\",BW66+IF(BY66=\"XX\",VLOOKUP(\"WRONG\",Answers!BU:BX,4,FALSE),BY66)+BZ66)","v":""},{"$f":"IF($B66=\"\",\"\",UPPER(Mainframe!V65))","v":""},{"$f":"IF(CB66=\"\",\"\",IF(NOT(ISNA(VLOOKUP(CB66,Answers!BY:CB,4,FALSE))),VLOOKUP(CB66,Answers!BY:CB,4,FALSE),\"Help!\"))","v":""},null,{"$f":"IF(CC66=\"\",\"\",CA66+IF(CC66=\"XX\",VLOOKUP(\"WRONG\",Answers!BY:CB,4,FALSE),CC66)+CD66)","v":""},null,null,1,{"$f":"IF(INDEX($B:$CE,ROW(),QNO*4-1)=DROPNAME,DROPNAME,IF(INDEX($B:$CE,ROW(),QNO*4-1)=SHEEPNAME,SHEEPNAME,IF(INDEX($B:$CE,ROW(),QNO*4)=\"XX\",INDEX($B:$CE,ROW(),QNO*4-1),INDEX(OFFSET(Answers!B:B,0,(QNO-1)*4),MATCH(INDEX($A:$CB,ROW(),QNO*4),OFFSET(Answers!A:A,0,(QNO-1)*4),0))&\" — \"&IF(INDEX($B:$CE,ROW(),QNO*4)=1,\"[b]Singleton![/b]\",CONCATENATE(INDEX($B:$CE,ROW(),QNO*4),\" responses\")))))","v":{"$error":"#N/A"}},"//////////////////////////////////////////////////////////////////////////////////////////////////////////////////////////////////","No",{"$f":"IF(B66=0,\"\",CONCATENATE(INDEX($CH:$CL,ROW(),1),\". \",INDEX($B:$CE,ROW(),1),\" — [b]\")&IF(QNO=1,CONCATENATE(INDEX($B:$CE,ROW(),QNO*4+2),\"[/b] pts\"),CONCATENATE(INDEX($B:$CE,ROW(),QNO*4-2),\" + \",IF(INDEX($B:$CE,ROW(),QNO*4)=\"XX\",INDEX(Answers!$A:$ZZ,2,QNO*4),INDEX($B:$CE,ROW(),QNO*4)),\" = \",INDEX($B:$CE,ROW(),QNO*4+2),\"[/b] pts \",IF(INDEX($C:$CE,ROW(),QNO*4)>0,\"(penalty: +\"&INDEX($C:$CE,ROW(),QNO*4)&\") \",IF(INDEX($C:$CE,ROW(),QNO*4)<0,\"(bonus: \"&INDEX($C:$CE,ROW(),QNO*4)&\") \",\"\"))&\"[[b]\"&IF(CN66>0,\"[color=#00BF00]↑\"&CN66,IF(CN66<0,\"[color=#FF0000]↓\"&ABS(CN66),\"[color=#0000FF]unch\"))&\"[/b][/color]]\")))","v":"1.  — [b][/b] pts"},1,{"$f":"CM66-CH66","v":0}]
["[*]",{"$f":"IF(Mainframe!B66=\"\",\"\",INDEX(Mainframe!$B:$B,C67+1,1))","v":""},65,{"$f":"IF($B67=\"\",\"\",UPPER(Mainframe!C66))","v":""},{"$f":"IF(D67=\"\",\"\",IF(NOT(ISNA(VLOOKUP(D67,Answers!A:D,4,FALSE))),VLOOKUP(D67,Answers!A:D,4,FALSE),\"Help!\"))","v":""},null,{"$f":"IF(E67=\"\",\"\",IF(E67=\"XX\",VLOOKUP(\"WRONG\",Answers!A:D,4,FALSE),E67)+F67)","v":""},{"$f":"IF($B67=\"\",\"\",UPPER(Mainframe!D66))","v":""},{"$f":"IF(H67=\"\",\"\",IF(NOT(ISNA(VLOOKUP(H67,Answers!E:H,4,FALSE))),VLOOKUP(H67,Answers!E:H,4,FALSE),\"Help!\"))","v":""},null,{"$f":"IF(I67=\"\",\"\",G67+IF(I67=\"XX\",VLOOKUP(\"WRONG\",Answers!E:H,4,FALSE),I67)+J67)","v":""},{"$f":"IF($B67=\"\",\"\",UPPER(Mainframe!E66))","v":""},{"$f":"IF(L67=\"\",\"\",IF(NOT(ISNA(VLOOKUP(L67,Answers!I:L,4,FALSE))),VLOOKUP(L67,Answers!I:L,4,FALSE),\"Help!\"))","v":""},null,{"$f":"IF(M67=\"\",\"\",K67+IF(M67=\"XX\",VLOOKUP(\"WRONG\",Answers!I:L,4,FALSE),M67)+N67)","v":""},{"$f":"IF($B67=\"\",\"\",UPPER(Mainframe!F66))","v":""},{"$f":"IF(P67=\"\",\"\",IF(NOT(ISNA(VLOOKUP(P67,Answers!M:P,4,FALSE))),VLOOKUP(P67,Answers!M:P,4,FALSE),\"Help!\"))","v":""},null,{"$f":"IF(Q67=\"\",\"\",O67+IF(Q67=\"XX\",VLOOKUP(\"WRONG\",Answers!M:P,4,FALSE),Q67)+R67)","v":""},{"$f":"IF($B67=\"\",\"\",UPPER(Mainframe!G66))","v":""},{"$f":"IF(T67=\"\",\"\",IF(NOT(ISNA(VLOOKUP(T67,Answers!Q:T,4,FALSE))),VLOOKUP(T67,Answers!Q:T,4,FALSE),\"Help!\"))","v":""},null,{"$f":"IF(U67=\"\",\"\",S67+IF(U67=\"XX\",VLOOKUP(\"WRONG\",Answers!Q:T,4,FALSE),U67)+V67)","v":""},{"$f":"IF($B67=\"\",\"\",UPPER(Mainframe!H66))","v":""},{"$f":"IF(X67=\"\",\"\",IF(NOT(ISNA(VLOOKUP(X67,Answers!U:X,4,FALSE))),VLOOKUP(X67,Answers!U:X,4,FALSE),\"Help!\"))","v":""},null,{"$f":"IF(Y67=\"\",\"\",W67+IF(Y67=\"XX\",VLOOKUP(\"WRONG\",Answers!U:X,4,FALSE),Y67)+Z67)","v":""},{"$f":"IF($B67=\"\",\"\",UPPER(Mainframe!I66))","v":""},{"$f":"IF(AB67=\"\",\"\",IF(NOT(ISNA(VLOOKUP(AB67,Answers!Y:AB,4,FALSE))),VLOOKUP(AB67,Answers!Y:AB,4,FALSE),\"Help!\"))","v":""},null,{"$f":"IF(AC67=\"\",\"\",AA67+IF(AC67=\"XX\",VLOOKUP(\"WRONG\",Answers!Y:AB,4,FALSE),AC67)+AD67)","v":""},{"$f":"IF($B67=\"\",\"\",UPPER(Mainframe!J66))","v":""},{"$f":"IF(AF67=\"\",\"\",IF(NOT(ISNA(VLOOKUP(AF67,Answers!AC:AF,4,FALSE))),VLOOKUP(AF67,Answers!AC:AF,4,FALSE),\"Help!\"))","v":""},null,{"$f":"IF(AG67=\"\",\"\",AE67+IF(AG67=\"XX\",VLOOKUP(\"WRONG\",Answers!AC:AF,4,FALSE),AG67)+AH67)","v":""},{"$f":"IF($B67=\"\",\"\",UPPER(Mainframe!K66))","v":""},{"$f":"IF(AJ67=\"\",\"\",IF(NOT(ISNA(VLOOKUP(AJ67,Answers!AG:AJ,4,FALSE))),VLOOKUP(AJ67,Answers!AG:AJ,4,FALSE),\"Help!\"))","v":""},null,{"$f":"IF(AK67=\"\",\"\",AI67+IF(AK67=\"XX\",VLOOKUP(\"WRONG\",Answers!AG:AJ,4,FALSE),AK67)+AL67)","v":""},{"$f":"IF($B67=\"\",\"\",UPPER(Mainframe!L66))","v":""},{"$f":"IF(AN67=\"\",\"\",IF(NOT(ISNA(VLOOKUP(AN67,Answers!AK:AN,4,FALSE))),VLOOKUP(AN67,Answers!AK:AN,4,FALSE),\"Help!\"))","v":""},null,{"$f":"IF(AO67=\"\",\"\",AM67+IF(AO67=\"XX\",VLOOKUP(\"WRONG\",Answers!AK:AN,4,FALSE),AO67)+AP67)","v":""},{"$f":"IF($B67=\"\",\"\",UPPER(Mainframe!M66))","v":""},{"$f":"IF(AR67=\"\",\"\",IF(NOT(ISNA(VLOOKUP(AR67,Answers!AO:AR,4,FALSE))),VLOOKUP(AR67,Answers!AO:AR,4,FALSE),\"Help!\"))","v":""},null,{"$f":"IF(AS67=\"\",\"\",AQ67+IF(AS67=\"XX\",VLOOKUP(\"WRONG\",Answers!AO:AR,4,FALSE),AS67)+AT67)","v":""},{"$f":"IF($B67=\"\",\"\",UPPER(Mainframe!N66))","v":""},{"$f":"IF(AV67=\"\",\"\",IF(NOT(ISNA(VLOOKUP(AV67,Answers!AS:AV,4,FALSE))),VLOOKUP(AV67,Answers!AS:AV,4,FALSE),\"Help!\"))","v":""},null,{"$f":"IF(AW67=\"\",\"\",AU67+IF(AW67=\"XX\",VLOOKUP(\"WRONG\",Answers!AS:AV,4,FALSE),AW67)+AX67)","v":""},{"$f":"IF($B67=\"\",\"\",UPPER(Mainframe!O66))","v":""},{"$f":"IF(AZ67=\"\",\"\",IF(NOT(ISNA(VLOOKUP(AZ67,Answers!AW:AZ,4,FALSE))),VLOOKUP(AZ67,Answers!AW:AZ,4,FALSE),\"Help!\"))","v":""},null,{"$f":"IF(BA67=\"\",\"\",AY67+IF(BA67=\"XX\",VLOOKUP(\"WRONG\",Answers!AW:AZ,4,FALSE),BA67)+BB67)","v":""},{"$f":"IF($B67=\"\",\"\",UPPER(Mainframe!P66))","v":""},{"$f":"IF(BD67=\"\",\"\",IF(NOT(ISNA(VLOOKUP(BD67,Answers!BA:BD,4,FALSE))),VLOOKUP(BD67,Answers!BA:BD,4,FALSE),\"Help!\"))","v":""},null,{"$f":"IF(BE67=\"\",\"\",BC67+IF(BE67=\"XX\",VLOOKUP(\"WRONG\",Answers!BA:BD,4,FALSE),BE67)+BF67)","v":""},{"$f":"IF($B67=\"\",\"\",UPPER(Mainframe!Q66))","v":""},{"$f":"IF(BH67=\"\",\"\",IF(NOT(ISNA(VLOOKUP(BH67,Answers!BE:BH,4,FALSE))),VLOOKUP(BH67,Answers!BE:BH,4,FALSE),\"Help!\"))","v":""},null,{"$f":"IF(BI67=\"\",\"\",BG67+IF(BI67=\"XX\",VLOOKUP(\"WRONG\",Answers!BE:BH,4,FALSE),BI67)+BJ67)","v":""},{"$f":"IF($B67=\"\",\"\",UPPER(Mainframe!R66))","v":""},{"$f":"IF(BL67=\"\",\"\",IF(NOT(ISNA(VLOOKUP(BL67,Answers!BI:BL,4,FALSE))),VLOOKUP(BL67,Answers!BI:BL,4,FALSE),\"Help!\"))","v":""},null,{"$f":"IF(BM67=\"\",\"\",BK67+IF(BM67=\"XX\",VLOOKUP(\"WRONG\",Answers!BI:BL,4,FALSE),BM67)+BN67)","v":""},{"$f":"IF($B67=\"\",\"\",UPPER(Mainframe!S66))","v":""},{"$f":"IF(BP67=\"\",\"\",IF(NOT(ISNA(VLOOKUP(BP67,Answers!BM:BP,4,FALSE))),VLOOKUP(BP67,Answers!BM:BP,4,FALSE),\"Help!\"))","v":""},null,{"$f":"IF(BQ67=\"\",\"\",BO67+IF(BQ67=\"XX\",VLOOKUP(\"WRONG\",Answers!BM:BP,4,FALSE),BQ67)+BR67)","v":""},{"$f":"IF($B67=\"\",\"\",UPPER(Mainframe!T66))","v":""},{"$f":"IF(BT67=\"\",\"\",IF(NOT(ISNA(VLOOKUP(BT67,Answers!BQ:BT,4,FALSE))),VLOOKUP(BT67,Answers!BQ:BT,4,FALSE),\"Help!\"))","v":""},null,{"$f":"IF(BU67=\"\",\"\",BS67+IF(BU67=\"XX\",VLOOKUP(\"WRONG\",Answers!BQ:BT,4,FALSE),BU67)+BV67)","v":""},{"$f":"IF($B67=\"\",\"\",UPPER(Mainframe!U66))","v":""},{"$f":"IF(BX67=\"\",\"\",IF(NOT(ISNA(VLOOKUP(BX67,Answers!BU:BX,4,FALSE))),VLOOKUP(BX67,Answers!BU:BX,4,FALSE),\"Help!\"))","v":""},null,{"$f":"IF(BY67=\"\",\"\",BW67+IF(BY67=\"XX\",VLOOKUP(\"WRONG\",Answers!BU:BX,4,FALSE),BY67)+BZ67)","v":""},{"$f":"IF($B67=\"\",\"\",UPPER(Mainframe!V66))","v":""},{"$f":"IF(CB67=\"\",\"\",IF(NOT(ISNA(VLOOKUP(CB67,Answers!BY:CB,4,FALSE))),VLOOKUP(CB67,Answers!BY:CB,4,FALSE),\"Help!\"))","v":""},null,{"$f":"IF(CC67=\"\",\"\",CA67+IF(CC67=\"XX\",VLOOKUP(\"WRONG\",Answers!BY:CB,4,FALSE),CC67)+CD67)","v":""},null,null,{"$f":"IF(B67=0,\"\",IF(INDEX($B:$CE,ROW(),1)=0,\"\",IF(INDEX($B:$CE,ROW(),4*QNO+2)=INDEX($B:$CE,ROW()-1,4*QNO+2),$CH66,ROW()-2)))","v":1},{"$f":"IF(INDEX($B:$CE,ROW(),QNO*4-1)=DROPNAME,DROPNAME,IF(INDEX($B:$CE,ROW(),QNO*4-1)=SHEEPNAME,SHEEPNAME,IF(INDEX($B:$CE,ROW(),QNO*4)=\"XX\",INDEX($B:$CE,ROW(),QNO*4-1),INDEX(OFFSET(Answers!B:B,0,(QNO-1)*4),MATCH(INDEX($A:$CB,ROW(),QNO*4),OFFSET(Answers!A:A,0,(QNO-1)*4),0))&\" — \"&IF(INDEX($B:$CE,ROW(),QNO*4)=1,\"[b]Singleton![/b]\",CONCATENATE(INDEX($B:$CE,ROW(),QNO*4),\" responses\")))))","v":{"$error":"#N/A"}},{"$f":"IF(INDEX($B:$CE,ROW(),1)=0,\"\",IF(INDEX($B:$CE,ROW(),QNO*4-1)=INDEX($B:$CE,ROW()+1,QNO*4-1),CONCATENATE(INDEX($B:$CE,ROW(),1),\"//\",INDEX($CJ:$CJ,ROW()+1,1)),INDEX($B:$CE,ROW(),1)))","v":"////////////////////////////////////////////////////////////////////////////////////////////////////////////////////////////////"},{"$f":"IF(INDEX($B:$CE,ROW(),1)=0,\"\",IF(ISNUMBER(SEARCH(\"//\",INDEX($CJ:$CJ,ROW()-1,1))),\"No\",\"Yes\"))","v":"No"},{"$f":"IF(B67=0,\"\",CONCATENATE(INDEX($CH:$CL,ROW(),1),\". \",INDEX($B:$CE,ROW(),1),\" — [b]\")&IF(QNO=1,CONCATENATE(INDEX($B:$CE,ROW(),QNO*4+2),\"[/b] pts\"),CONCATENATE(INDEX($B:$CE,ROW(),QNO*4-2),\" + \",IF(INDEX($B:$CE,ROW(),QNO*4)=\"XX\",INDEX(Answers!$A:$ZZ,2,QNO*4),INDEX($B:$CE,ROW(),QNO*4)),\" = \",INDEX($B:$CE,ROW(),QNO*4+2),\"[/b] pts \",IF(INDEX($C:$CE,ROW(),QNO*4)>0,\"(penalty: +\"&INDEX($C:$CE,ROW(),QNO*4)&\") \",IF(INDEX($C:$CE,ROW(),QNO*4)<0,\"(bonus: \"&INDEX($C:$CE,ROW(),QNO*4)&\") \",\"\"))&\"[[b]\"&IF(CN67>0,\"[color=#00BF00]↑\"&CN67,IF(CN67<0,\"[color=#FF0000]↓\"&ABS(CN67),\"[color=#0000FF]unch\"))&\"[/b][/color]]\")))","v":"1.  — [b][/b] pts"},1,{"$f":"CM67-CH67","v":0}]
["[*]",{"$f":"IF(Mainframe!B67=\"\",\"\",INDEX(Mainframe!$B:$B,C68+1,1))","v":""},66,{"$f":"IF($B68=\"\",\"\",UPPER(Mainframe!C67))","v":""},{"$f":"IF(D68=\"\",\"\",IF(NOT(ISNA(VLOOKUP(D68,Answers!A:D,4,FALSE))),VLOOKUP(D68,Answers!A:D,4,FALSE),\"Help!\"))","v":""},null,{"$f":"IF(E68=\"\",\"\",IF(E68=\"XX\",VLOOKUP(\"WRONG\",Answers!A:D,4,FALSE),E68)+F68)","v":""},{"$f":"IF($B68=\"\",\"\",UPPER(Mainframe!D67))","v":""},{"$f":"IF(H68=\"\",\"\",IF(NOT(ISNA(VLOOKUP(H68,Answers!E:H,4,FALSE))),VLOOKUP(H68,Answers!E:H,4,FALSE),\"Help!\"))","v":""},null,{"$f":"IF(I68=\"\",\"\",G68+IF(I68=\"XX\",VLOOKUP(\"WRONG\",Answers!E:H,4,FALSE),I68)+J68)","v":""},{"$f":"IF($B68=\"\",\"\",UPPER(Mainframe!E67))","v":""},{"$f":"IF(L68=\"\",\"\",IF(NOT(ISNA(VLOOKUP(L68,Answers!I:L,4,FALSE))),VLOOKUP(L68,Answers!I:L,4,FALSE),\"Help!\"))","v":""},null,{"$f":"IF(M68=\"\",\"\",K68+IF(M68=\"XX\",VLOOKUP(\"WRONG\",Answers!I:L,4,FALSE),M68)+N68)","v":""},{"$f":"IF($B68=\"\",\"\",UPPER(Mainframe!F67))","v":""},{"$f":"IF(P68=\"\",\"\",IF(NOT(ISNA(VLOOKUP(P68,Answers!M:P,4,FALSE))),VLOOKUP(P68,Answers!M:P,4,FALSE),\"Help!\"))","v":""},null,{"$f":"IF(Q68=\"\",\"\",O68+IF(Q68=\"XX\",VLOOKUP(\"WRONG\",Answers!M:P,4,FALSE),Q68)+R68)","v":""},{"$f":"IF($B68=\"\",\"\",UPPER(Mainframe!G67))","v":""},{"$f":"IF(T68=\"\",\"\",IF(NOT(ISNA(VLOOKUP(T68,Answers!Q:T,4,FALSE))),VLOOKUP(T68,Answers!Q:T,4,FALSE),\"Help!\"))","v":""},null,{"$f":"IF(U68=\"\",\"\",S68+IF(U68=\"XX\",VLOOKUP(\"WRONG\",Answers!Q:T,4,FALSE),U68)+V68)","v":""},{"$f":"IF($B68=\"\",\"\",UPPER(Mainframe!H67))","v":""},{"$f":"IF(X68=\"\",\"\",IF(NOT(ISNA(VLOOKUP(X68,Answers!U:X,4,FALSE))),VLOOKUP(X68,Answers!U:X,4,FALSE),\"Help!\"))","v":""},null,{"$f":"IF(Y68=\"\",\"\",W68+IF(Y68=\"XX\",VLOOKUP(\"WRONG\",Answers!U:X,4,FALSE),Y68)+Z68)","v":""},{"$f":"IF($B68=\"\",\"\",UPPER(Mainframe!I67))","v":""},{"$f":"IF(AB68=\"\",\"\",IF(NOT(ISNA(VLOOKUP(AB68,Answers!Y:AB,4,FALSE))),VLOOKUP(AB68,Answers!Y:AB,4,FALSE),\"Help!\"))","v":""},null,{"$f":"IF(AC68=\"\",\"\",AA68+IF(AC68=\"XX\",VLOOKUP(\"WRONG\",Answers!Y:AB,4,FALSE),AC68)+AD68)","v":""},{"$f":"IF($B68=\"\",\"\",UPPER(Mainframe!J67))","v":""},{"$f":"IF(AF68=\"\",\"\",IF(NOT(ISNA(VLOOKUP(AF68,Answers!AC:AF,4,FALSE))),VLOOKUP(AF68,Answers!AC:AF,4,FALSE),\"Help!\"))","v":""},null,{"$f":"IF(AG68=\"\",\"\",AE68+IF(AG68=\"XX\",VLOOKUP(\"WRONG\",Answers!AC:AF,4,FALSE),AG68)+AH68)","v":""},{"$f":"IF($B68=\"\",\"\",UPPER(Mainframe!K67))","v":""},{"$f":"IF(AJ68=\"\",\"\",IF(NOT(ISNA(VLOOKUP(AJ68,Answers!AG:AJ,4,FALSE))),VLOOKUP(AJ68,Answers!AG:AJ,4,FALSE),\"Help!\"))","v":""},null,{"$f":"IF(AK68=\"\",\"\",AI68+IF(AK68=\"XX\",VLOOKUP(\"WRONG\",Answers!AG:AJ,4,FALSE),AK68)+AL68)","v":""},{"$f":"IF($B68=\"\",\"\",UPPER(Mainframe!L67))","v":""},{"$f":"IF(AN68=\"\",\"\",IF(NOT(ISNA(VLOOKUP(AN68,Answers!AK:AN,4,FALSE))),VLOOKUP(AN68,Answers!AK:AN,4,FALSE),\"Help!\"))","v":""},null,{"$f":"IF(AO68=\"\",\"\",AM68+IF(AO68=\"XX\",VLOOKUP(\"WRONG\",Answers!AK:AN,4,FALSE),AO68)+AP68)","v":""},{"$f":"IF($B68=\"\",\"\",UPPER(Mainframe!M67))","v":""},{"$f":"IF(AR68=\"\",\"\",IF(NOT(ISNA(VLOOKUP(AR68,Answers!AO:AR,4,FALSE))),VLOOKUP(AR68,Answers!AO:AR,4,FALSE),\"Help!\"))","v":""},null,{"$f":"IF(AS68=\"\",\"\",AQ68+IF(AS68=\"XX\",VLOOKUP(\"WRONG\",Answers!AO:AR,4,FALSE),AS68)+AT68)","v":""},{"$f":"IF($B68=\"\",\"\",UPPER(Mainframe!N67))","v":""},{"$f":"IF(AV68=\"\",\"\",IF(NOT(ISNA(VLOOKUP(AV68,Answers!AS:AV,4,FALSE))),VLOOKUP(AV68,Answers!AS:AV,4,FALSE),\"Help!\"))","v":""},null,{"$f":"IF(AW68=\"\",\"\",AU68+IF(AW68=\"XX\",VLOOKUP(\"WRONG\",Answers!AS:AV,4,FALSE),AW68)+AX68)","v":""},{"$f":"IF($B68=\"\",\"\",UPPER(Mainframe!O67))","v":""},{"$f":"IF(AZ68=\"\",\"\",IF(NOT(ISNA(VLOOKUP(AZ68,Answers!AW:AZ,4,FALSE))),VLOOKUP(AZ68,Answers!AW:AZ,4,FALSE),\"Help!\"))","v":""},null,{"$f":"IF(BA68=\"\",\"\",AY68+IF(BA68=\"XX\",VLOOKUP(\"WRONG\",Answers!AW:AZ,4,FALSE),BA68)+BB68)","v":""},{"$f":"IF($B68=\"\",\"\",UPPER(Mainframe!P67))","v":""},{"$f":"IF(BD68=\"\",\"\",IF(NOT(ISNA(VLOOKUP(BD68,Answers!BA:BD,4,FALSE))),VLOOKUP(BD68,Answers!BA:BD,4,FALSE),\"Help!\"))","v":""},null,{"$f":"IF(BE68=\"\",\"\",BC68+IF(BE68=\"XX\",VLOOKUP(\"WRONG\",Answers!BA:BD,4,FALSE),BE68)+BF68)","v":""},{"$f":"IF($B68=\"\",\"\",UPPER(Mainframe!Q67))","v":""},{"$f":"IF(BH68=\"\",\"\",IF(NOT(ISNA(VLOOKUP(BH68,Answers!BE:BH,4,FALSE))),VLOOKUP(BH68,Answers!BE:BH,4,FALSE),\"Help!\"))","v":""},null,{"$f":"IF(BI68=\"\",\"\",BG68+IF(BI68=\"XX\",VLOOKUP(\"WRONG\",Answers!BE:BH,4,FALSE),BI68)+BJ68)","v":""},{"$f":"IF($B68=\"\",\"\",UPPER(Mainframe!R67))","v":""},{"$f":"IF(BL68=\"\",\"\",IF(NOT(ISNA(VLOOKUP(BL68,Answers!BI:BL,4,FALSE))),VLOOKUP(BL68,Answers!BI:BL,4,FALSE),\"Help!\"))","v":""},null,{"$f":"IF(BM68=\"\",\"\",BK68+IF(BM68=\"XX\",VLOOKUP(\"WRONG\",Answers!BI:BL,4,FALSE),BM68)+BN68)","v":""},{"$f":"IF($B68=\"\",\"\",UPPER(Mainframe!S67))","v":""},{"$f":"IF(BP68=\"\",\"\",IF(NOT(ISNA(VLOOKUP(BP68,Answers!BM:BP,4,FALSE))),VLOOKUP(BP68,Answers!BM:BP,4,FALSE),\"Help!\"))","v":""},null,{"$f":"IF(BQ68=\"\",\"\",BO68+IF(BQ68=\"XX\",VLOOKUP(\"WRONG\",Answers!BM:BP,4,FALSE),BQ68)+BR68)","v":""},{"$f":"IF($B68=\"\",\"\",UPPER(Mainframe!T67))","v":""},{"$f":"IF(BT68=\"\",\"\",IF(NOT(ISNA(VLOOKUP(BT68,Answers!BQ:BT,4,FALSE))),VLOOKUP(BT68,Answers!BQ:BT,4,FALSE),\"Help!\"))","v":""},null,{"$f":"IF(BU68=\"\",\"\",BS68+IF(BU68=\"XX\",VLOOKUP(\"WRONG\",Answers!BQ:BT,4,FALSE),BU68)+BV68)","v":""},{"$f":"IF($B68=\"\",\"\",UPPER(Mainframe!U67))","v":""},{"$f":"IF(BX68=\"\",\"\",IF(NOT(ISNA(VLOOKUP(BX68,Answers!BU:BX,4,FALSE))),VLOOKUP(BX68,Answers!BU:BX,4,FALSE),\"Help!\"))","v":""},null,{"$f":"IF(BY68=\"\",\"\",BW68+IF(BY68=\"XX\",VLOOKUP(\"WRONG\",Answers!BU:BX,4,FALSE),BY68)+BZ68)","v":""},{"$f":"IF($B68=\"\",\"\",UPPER(Mainframe!V67))","v":""},{"$f":"IF(CB68=\"\",\"\",IF(NOT(ISNA(VLOOKUP(CB68,Answers!BY:CB,4,FALSE))),VLOOKUP(CB68,Answers!BY:CB,4,FALSE),\"Help!\"))","v":""},null,{"$f":"IF(CC68=\"\",\"\",CA68+IF(CC68=\"XX\",VLOOKUP(\"WRONG\",Answers!BY:CB,4,FALSE),CC68)+CD68)","v":""},null,null,1,{"$f":"IF(INDEX($B:$CE,ROW(),QNO*4-1)=DROPNAME,DROPNAME,IF(INDEX($B:$CE,ROW(),QNO*4-1)=SHEEPNAME,SHEEPNAME,IF(INDEX($B:$CE,ROW(),QNO*4)=\"XX\",INDEX($B:$CE,ROW(),QNO*4-1),INDEX(OFFSET(Answers!B:B,0,(QNO-1)*4),MATCH(INDEX($A:$CB,ROW(),QNO*4),OFFSET(Answers!A:A,0,(QNO-1)*4),0))&\" — \"&IF(INDEX($B:$CE,ROW(),QNO*4)=1,\"[b]Singleton![/b]\",CONCATENATE(INDEX($B:$CE,ROW(),QNO*4),\" responses\")))))","v":{"$error":"#N/A"}},"//////////////////////////////////////////////////////////////////////////////////////////////////////////////////////////////","No",{"$f":"IF(B68=0,\"\",CONCATENATE(INDEX($CH:$CL,ROW(),1),\". \",INDEX($B:$CE,ROW(),1),\" — [b]\")&IF(QNO=1,CONCATENATE(INDEX($B:$CE,ROW(),QNO*4+2),\"[/b] pts\"),CONCATENATE(INDEX($B:$CE,ROW(),QNO*4-2),\" + \",IF(INDEX($B:$CE,ROW(),QNO*4)=\"XX\",INDEX(Answers!$A:$ZZ,2,QNO*4),INDEX($B:$CE,ROW(),QNO*4)),\" = \",INDEX($B:$CE,ROW(),QNO*4+2),\"[/b] pts \",IF(INDEX($C:$CE,ROW(),QNO*4)>0,\"(penalty: +\"&INDEX($C:$CE,ROW(),QNO*4)&\") \",IF(INDEX($C:$CE,ROW(),QNO*4)<0,\"(bonus: \"&INDEX($C:$CE,ROW(),QNO*4)&\") \",\"\"))&\"[[b]\"&IF(CN68>0,\"[color=#00BF00]↑\"&CN68,IF(CN68<0,\"[color=#FF0000]↓\"&ABS(CN68),\"[color=#0000FF]unch\"))&\"[/b][/color]]\")))","v":"1.  — [b][/b] pts"},1,0]
["[*]",{"$f":"IF(Mainframe!B68=\"\",\"\",INDEX(Mainframe!$B:$B,C69+1,1))","v":""},67,{"$f":"IF($B69=\"\",\"\",UPPER(Mainframe!C68))","v":""},{"$f":"IF(D69=\"\",\"\",IF(NOT(ISNA(VLOOKUP(D69,Answers!A:D,4,FALSE))),VLOOKUP(D69,Answers!A:D,4,FALSE),\"Help!\"))","v":""},null,{"$f":"IF(E69=\"\",\"\",IF(E69=\"XX\",VLOOKUP(\"WRONG\",Answers!A:D,4,FALSE),E69)+F69)","v":""},{"$f":"IF($B69=\"\",\"\",UPPER(Mainframe!D68))","v":""},{"$f":"IF(H69=\"\",\"\",IF(NOT(ISNA(VLOOKUP(H69,Answers!E:H,4,FALSE))),VLOOKUP(H69,Answers!E:H,4,FALSE),\"Help!\"))","v":""},null,{"$f":"IF(I69=\"\",\"\",G69+IF(I69=\"XX\",VLOOKUP(\"WRONG\",Answers!E:H,4,FALSE),I69)+J69)","v":""},{"$f":"IF($B69=\"\",\"\",UPPER(Mainframe!E68))","v":""},{"$f":"IF(L69=\"\",\"\",IF(NOT(ISNA(VLOOKUP(L69,Answers!I:L,4,FALSE))),VLOOKUP(L69,Answers!I:L,4,FALSE),\"Help!\"))","v":""},null,{"$f":"IF(M69=\"\",\"\",K69+IF(M69=\"XX\",VLOOKUP(\"WRONG\",Answers!I:L,4,FALSE),M69)+N69)","v":""},{"$f":"IF($B69=\"\",\"\",UPPER(Mainframe!F68))","v":""},{"$f":"IF(P69=\"\",\"\",IF(NOT(ISNA(VLOOKUP(P69,Answers!M:P,4,FALSE))),VLOOKUP(P69,Answers!M:P,4,FALSE),\"Help!\"))","v":""},null,{"$f":"IF(Q69=\"\",\"\",O69+IF(Q69=\"XX\",VLOOKUP(\"WRONG\",Answers!M:P,4,FALSE),Q69)+R69)","v":""},{"$f":"IF($B69=\"\",\"\",UPPER(Mainframe!G68))","v":""},{"$f":"IF(T69=\"\",\"\",IF(NOT(ISNA(VLOOKUP(T69,Answers!Q:T,4,FALSE))),VLOOKUP(T69,Answers!Q:T,4,FALSE),\"Help!\"))","v":""},null,{"$f":"IF(U69=\"\",\"\",S69+IF(U69=\"XX\",VLOOKUP(\"WRONG\",Answers!Q:T,4,FALSE),U69)+V69)","v":""},{"$f":"IF($B69=\"\",\"\",UPPER(Mainframe!H68))","v":""},{"$f":"IF(X69=\"\",\"\",IF(NOT(ISNA(VLOOKUP(X69,Answers!U:X,4,FALSE))),VLOOKUP(X69,Answers!U:X,4,FALSE),\"Help!\"))","v":""},null,{"$f":"IF(Y69=\"\",\"\",W69+IF(Y69=\"XX\",VLOOKUP(\"WRONG\",Answers!U:X,4,FALSE),Y69)+Z69)","v":""},{"$f":"IF($B69=\"\",\"\",UPPER(Mainframe!I68))","v":""},{"$f":"IF(AB69=\"\",\"\",IF(NOT(ISNA(VLOOKUP(AB69,Answers!Y:AB,4,FALSE))),VLOOKUP(AB69,Answers!Y:AB,4,FALSE),\"Help!\"))","v":""},null,{"$f":"IF(AC69=\"\",\"\",AA69+IF(AC69=\"XX\",VLOOKUP(\"WRONG\",Answers!Y:AB,4,FALSE),AC69)+AD69)","v":""},{"$f":"IF($B69=\"\",\"\",UPPER(Mainframe!J68))","v":""},{"$f":"IF(AF69=\"\",\"\",IF(NOT(ISNA(VLOOKUP(AF69,Answers!AC:AF,4,FALSE))),VLOOKUP(AF69,Answers!AC:AF,4,FALSE),\"Help!\"))","v":""},null,{"$f":"IF(AG69=\"\",\"\",AE69+IF(AG69=\"XX\",VLOOKUP(\"WRONG\",Answers!AC:AF,4,FALSE),AG69)+AH69)","v":""},{"$f":"IF($B69=\"\",\"\",UPPER(Mainframe!K68))","v":""},{"$f":"IF(AJ69=\"\",\"\",IF(NOT(ISNA(VLOOKUP(AJ69,Answers!AG:AJ,4,FALSE))),VLOOKUP(AJ69,Answers!AG:AJ,4,FALSE),\"Help!\"))","v":""},null,{"$f":"IF(AK69=\"\",\"\",AI69+IF(AK69=\"XX\",VLOOKUP(\"WRONG\",Answers!AG:AJ,4,FALSE),AK69)+AL69)","v":""},{"$f":"IF($B69=\"\",\"\",UPPER(Mainframe!L68))","v":""},{"$f":"IF(AN69=\"\",\"\",IF(NOT(ISNA(VLOOKUP(AN69,Answers!AK:AN,4,FALSE))),VLOOKUP(AN69,Answers!AK:AN,4,FALSE),\"Help!\"))","v":""},null,{"$f":"IF(AO69=\"\",\"\",AM69+IF(AO69=\"XX\",VLOOKUP(\"WRONG\",Answers!AK:AN,4,FALSE),AO69)+AP69)","v":""},{"$f":"IF($B69=\"\",\"\",UPPER(Mainframe!M68))","v":""},{"$f":"IF(AR69=\"\",\"\",IF(NOT(ISNA(VLOOKUP(AR69,Answers!AO:AR,4,FALSE))),VLOOKUP(AR69,Answers!AO:AR,4,FALSE),\"Help!\"))","v":""},null,{"$f":"IF(AS69=\"\",\"\",AQ69+IF(AS69=\"XX\",VLOOKUP(\"WRONG\",Answers!AO:AR,4,FALSE),AS69)+AT69)","v":""},{"$f":"IF($B69=\"\",\"\",UPPER(Mainframe!N68))","v":""},{"$f":"IF(AV69=\"\",\"\",IF(NOT(ISNA(VLOOKUP(AV69,Answers!AS:AV,4,FALSE))),VLOOKUP(AV69,Answers!AS:AV,4,FALSE),\"Help!\"))","v":""},null,{"$f":"IF(AW69=\"\",\"\",AU69+IF(AW69=\"XX\",VLOOKUP(\"WRONG\",Answers!AS:AV,4,FALSE),AW69)+AX69)","v":""},{"$f":"IF($B69=\"\",\"\",UPPER(Mainframe!O68))","v":""},{"$f":"IF(AZ69=\"\",\"\",IF(NOT(ISNA(VLOOKUP(AZ69,Answers!AW:AZ,4,FALSE))),VLOOKUP(AZ69,Answers!AW:AZ,4,FALSE),\"Help!\"))","v":""},null,{"$f":"IF(BA69=\"\",\"\",AY69+IF(BA69=\"XX\",VLOOKUP(\"WRONG\",Answers!AW:AZ,4,FALSE),BA69)+BB69)","v":""},{"$f":"IF($B69=\"\",\"\",UPPER(Mainframe!P68))","v":""},{"$f":"IF(BD69=\"\",\"\",IF(NOT(ISNA(VLOOKUP(BD69,Answers!BA:BD,4,FALSE))),VLOOKUP(BD69,Answers!BA:BD,4,FALSE),\"Help!\"))","v":""},null,{"$f":"IF(BE69=\"\",\"\",BC69+IF(BE69=\"XX\",VLOOKUP(\"WRONG\",Answers!BA:BD,4,FALSE),BE69)+BF69)","v":""},{"$f":"IF($B69=\"\",\"\",UPPER(Mainframe!Q68))","v":""},{"$f":"IF(BH69=\"\",\"\",IF(NOT(ISNA(VLOOKUP(BH69,Answers!BE:BH,4,FALSE))),VLOOKUP(BH69,Answers!BE:BH,4,FALSE),\"Help!\"))","v":""},null,{"$f":"IF(BI69=\"\",\"\",BG69+IF(BI69=\"XX\",VLOOKUP(\"WRONG\",Answers!BE:BH,4,FALSE),BI69)+BJ69)","v":""},{"$f":"IF($B69=\"\",\"\",UPPER(Mainframe!R68))","v":""},{"$f":"IF(BL69=\"\",\"\",IF(NOT(ISNA(VLOOKUP(BL69,Answers!BI:BL,4,FALSE))),VLOOKUP(BL69,Answers!BI:BL,4,FALSE),\"Help!\"))","v":""},null,{"$f":"IF(BM69=\"\",\"\",BK69+IF(BM69=\"XX\",VLOOKUP(\"WRONG\",Answers!BI:BL,4,FALSE),BM69)+BN69)","v":""},{"$f":"IF($B69=\"\",\"\",UPPER(Mainframe!S68))","v":""},{"$f":"IF(BP69=\"\",\"\",IF(NOT(ISNA(VLOOKUP(BP69,Answers!BM:BP,4,FALSE))),VLOOKUP(BP69,Answers!BM:BP,4,FALSE),\"Help!\"))","v":""},null,{"$f":"IF(BQ69=\"\",\"\",BO69+IF(BQ69=\"XX\",VLOOKUP(\"WRONG\",Answers!BM:BP,4,FALSE),BQ69)+BR69)","v":""},{"$f":"IF($B69=\"\",\"\",UPPER(Mainframe!T68))","v":""},{"$f":"IF(BT69=\"\",\"\",IF(NOT(ISNA(VLOOKUP(BT69,Answers!BQ:BT,4,FALSE))),VLOOKUP(BT69,Answers!BQ:BT,4,FALSE),\"Help!\"))","v":""},null,{"$f":"IF(BU69=\"\",\"\",BS69+IF(BU69=\"XX\",VLOOKUP(\"WRONG\",Answers!BQ:BT,4,FALSE),BU69)+BV69)","v":""},{"$f":"IF($B69=\"\",\"\",UPPER(Mainframe!U68))","v":""},{"$f":"IF(BX69=\"\",\"\",IF(NOT(ISNA(VLOOKUP(BX69,Answers!BU:BX,4,FALSE))),VLOOKUP(BX69,Answers!BU:BX,4,FALSE),\"Help!\"))","v":""},null,{"$f":"IF(BY69=\"\",\"\",BW69+IF(BY69=\"XX\",VLOOKUP(\"WRONG\",Answers!BU:BX,4,FALSE),BY69)+BZ69)","v":""},{"$f":"IF($B69=\"\",\"\",UPPER(Mainframe!V68))","v":""},{"$f":"IF(CB69=\"\",\"\",IF(NOT(ISNA(VLOOKUP(CB69,Answers!BY:CB,4,FALSE))),VLOOKUP(CB69,Answers!BY:CB,4,FALSE),\"Help!\"))","v":""},null,{"$f":"IF(CC69=\"\",\"\",CA69+IF(CC69=\"XX\",VLOOKUP(\"WRONG\",Answers!BY:CB,4,FALSE),CC69)+CD69)","v":""},null,null,1,{"$f":"IF(INDEX($B:$CE,ROW(),QNO*4-1)=DROPNAME,DROPNAME,IF(INDEX($B:$CE,ROW(),QNO*4-1)=SHEEPNAME,SHEEPNAME,IF(INDEX($B:$CE,ROW(),QNO*4)=\"XX\",INDEX($B:$CE,ROW(),QNO*4-1),INDEX(OFFSET(Answers!B:B,0,(QNO-1)*4),MATCH(INDEX($A:$CB,ROW(),QNO*4),OFFSET(Answers!A:A,0,(QNO-1)*4),0))&\" — \"&IF(INDEX($B:$CE,ROW(),QNO*4)=1,\"[b]Singleton![/b]\",CONCATENATE(INDEX($B:$CE,ROW(),QNO*4),\" responses\")))))","v":{"$error":"#N/A"}},"////////////////////////////////////////////////////////////////////////////////////////////////////////////////////////////","No",{"$f":"IF(B69=0,\"\",CONCATENATE(INDEX($CH:$CL,ROW(),1),\". \",INDEX($B:$CE,ROW(),1),\" — [b]\")&IF(QNO=1,CONCATENATE(INDEX($B:$CE,ROW(),QNO*4+2),\"[/b] pts\"),CONCATENATE(INDEX($B:$CE,ROW(),QNO*4-2),\" + \",IF(INDEX($B:$CE,ROW(),QNO*4)=\"XX\",INDEX(Answers!$A:$ZZ,2,QNO*4),INDEX($B:$CE,ROW(),QNO*4)),\" = \",INDEX($B:$CE,ROW(),QNO*4+2),\"[/b] pts \",IF(INDEX($C:$CE,ROW(),QNO*4)>0,\"(penalty: +\"&INDEX($C:$CE,ROW(),QNO*4)&\") \",IF(INDEX($C:$CE,ROW(),QNO*4)<0,\"(bonus: \"&INDEX($C:$CE,ROW(),QNO*4)&\") \",\"\"))&\"[[b]\"&IF(CN69>0,\"[color=#00BF00]↑\"&CN69,IF(CN69<0,\"[color=#FF0000]↓\"&ABS(CN69),\"[color=#0000FF]unch\"))&\"[/b][/color]]\")))","v":"1.  — [b][/b] pts"},1,0]
["[*]",{"$f":"IF(Mainframe!B69=\"\",\"\",INDEX(Mainframe!$B:$B,C70+1,1))","v":""},68,{"$f":"IF($B70=\"\",\"\",UPPER(Mainframe!C69))","v":""},{"$f":"IF(D70=\"\",\"\",IF(NOT(ISNA(VLOOKUP(D70,Answers!A:D,4,FALSE))),VLOOKUP(D70,Answers!A:D,4,FALSE),\"Help!\"))","v":""},null,{"$f":"IF(E70=\"\",\"\",IF(E70=\"XX\",VLOOKUP(\"WRONG\",Answers!A:D,4,FALSE),E70)+F70)","v":""},{"$f":"IF($B70=\"\",\"\",UPPER(Mainframe!D69))","v":""},{"$f":"IF(H70=\"\",\"\",IF(NOT(ISNA(VLOOKUP(H70,Answers!E:H,4,FALSE))),VLOOKUP(H70,Answers!E:H,4,FALSE),\"Help!\"))","v":""},null,{"$f":"IF(I70=\"\",\"\",G70+IF(I70=\"XX\",VLOOKUP(\"WRONG\",Answers!E:H,4,FALSE),I70)+J70)","v":""},{"$f":"IF($B70=\"\",\"\",UPPER(Mainframe!E69))","v":""},{"$f":"IF(L70=\"\",\"\",IF(NOT(ISNA(VLOOKUP(L70,Answers!I:L,4,FALSE))),VLOOKUP(L70,Answers!I:L,4,FALSE),\"Help!\"))","v":""},null,{"$f":"IF(M70=\"\",\"\",K70+IF(M70=\"XX\",VLOOKUP(\"WRONG\",Answers!I:L,4,FALSE),M70)+N70)","v":""},{"$f":"IF($B70=\"\",\"\",UPPER(Mainframe!F69))","v":""},{"$f":"IF(P70=\"\",\"\",IF(NOT(ISNA(VLOOKUP(P70,Answers!M:P,4,FALSE))),VLOOKUP(P70,Answers!M:P,4,FALSE),\"Help!\"))","v":""},null,{"$f":"IF(Q70=\"\",\"\",O70+IF(Q70=\"XX\",VLOOKUP(\"WRONG\",Answers!M:P,4,FALSE),Q70)+R70)","v":""},{"$f":"IF($B70=\"\",\"\",UPPER(Mainframe!G69))","v":""},{"$f":"IF(T70=\"\",\"\",IF(NOT(ISNA(VLOOKUP(T70,Answers!Q:T,4,FALSE))),VLOOKUP(T70,Answers!Q:T,4,FALSE),\"Help!\"))","v":""},null,{"$f":"IF(U70=\"\",\"\",S70+IF(U70=\"XX\",VLOOKUP(\"WRONG\",Answers!Q:T,4,FALSE),U70)+V70)","v":""},{"$f":"IF($B70=\"\",\"\",UPPER(Mainframe!H69))","v":""},{"$f":"IF(X70=\"\",\"\",IF(NOT(ISNA(VLOOKUP(X70,Answers!U:X,4,FALSE))),VLOOKUP(X70,Answers!U:X,4,FALSE),\"Help!\"))","v":""},null,{"$f":"IF(Y70=\"\",\"\",W70+IF(Y70=\"XX\",VLOOKUP(\"WRONG\",Answers!U:X,4,FALSE),Y70)+Z70)","v":""},{"$f":"IF($B70=\"\",\"\",UPPER(Mainframe!I69))","v":""},{"$f":"IF(AB70=\"\",\"\",IF(NOT(ISNA(VLOOKUP(AB70,Answers!Y:AB,4,FALSE))),VLOOKUP(AB70,Answers!Y:AB,4,FALSE),\"Help!\"))","v":""},null,{"$f":"IF(AC70=\"\",\"\",AA70+IF(AC70=\"XX\",VLOOKUP(\"WRONG\",Answers!Y:AB,4,FALSE),AC70)+AD70)","v":""},{"$f":"IF($B70=\"\",\"\",UPPER(Mainframe!J69))","v":""},{"$f":"IF(AF70=\"\",\"\",IF(NOT(ISNA(VLOOKUP(AF70,Answers!AC:AF,4,FALSE))),VLOOKUP(AF70,Answers!AC:AF,4,FALSE),\"Help!\"))","v":""},null,{"$f":"IF(AG70=\"\",\"\",AE70+IF(AG70=\"XX\",VLOOKUP(\"WRONG\",Answers!AC:AF,4,FALSE),AG70)+AH70)","v":""},{"$f":"IF($B70=\"\",\"\",UPPER(Mainframe!K69))","v":""},{"$f":"IF(AJ70=\"\",\"\",IF(NOT(ISNA(VLOOKUP(AJ70,Answers!AG:AJ,4,FALSE))),VLOOKUP(AJ70,Answers!AG:AJ,4,FALSE),\"Help!\"))","v":""},null,{"$f":"IF(AK70=\"\",\"\",AI70+IF(AK70=\"XX\",VLOOKUP(\"WRONG\",Answers!AG:AJ,4,FALSE),AK70)+AL70)","v":""},{"$f":"IF($B70=\"\",\"\",UPPER(Mainframe!L69))","v":""},{"$f":"IF(AN70=\"\",\"\",IF(NOT(ISNA(VLOOKUP(AN70,Answers!AK:AN,4,FALSE))),VLOOKUP(AN70,Answers!AK:AN,4,FALSE),\"Help!\"))","v":""},null,{"$f":"IF(AO70=\"\",\"\",AM70+IF(AO70=\"XX\",VLOOKUP(\"WRONG\",Answers!AK:AN,4,FALSE),AO70)+AP70)","v":""},{"$f":"IF($B70=\"\",\"\",UPPER(Mainframe!M69))","v":""},{"$f":"IF(AR70=\"\",\"\",IF(NOT(ISNA(VLOOKUP(AR70,Answers!AO:AR,4,FALSE))),VLOOKUP(AR70,Answers!AO:AR,4,FALSE),\"Help!\"))","v":""},null,{"$f":"IF(AS70=\"\",\"\",AQ70+IF(AS70=\"XX\",VLOOKUP(\"WRONG\",Answers!AO:AR,4,FALSE),AS70)+AT70)","v":""},{"$f":"IF($B70=\"\",\"\",UPPER(Mainframe!N69))","v":""},{"$f":"IF(AV70=\"\",\"\",IF(NOT(ISNA(VLOOKUP(AV70,Answers!AS:AV,4,FALSE))),VLOOKUP(AV70,Answers!AS:AV,4,FALSE),\"Help!\"))","v":""},null,{"$f":"IF(AW70=\"\",\"\",AU70+IF(AW70=\"XX\",VLOOKUP(\"WRONG\",Answers!AS:AV,4,FALSE),AW70)+AX70)","v":""},{"$f":"IF($B70=\"\",\"\",UPPER(Mainframe!O69))","v":""},{"$f":"IF(AZ70=\"\",\"\",IF(NOT(ISNA(VLOOKUP(AZ70,Answers!AW:AZ,4,FALSE))),VLOOKUP(AZ70,Answers!AW:AZ,4,FALSE),\"Help!\"))","v":""},null,{"$f":"IF(BA70=\"\",\"\",AY70+IF(BA70=\"XX\",VLOOKUP(\"WRONG\",Answers!AW:AZ,4,FALSE),BA70)+BB70)","v":""},{"$f":"IF($B70=\"\",\"\",UPPER(Mainframe!P69))","v":""},{"$f":"IF(BD70=\"\",\"\",IF(NOT(ISNA(VLOOKUP(BD70,Answers!BA:BD,4,FALSE))),VLOOKUP(BD70,Answers!BA:BD,4,FALSE),\"Help!\"))","v":""},null,{"$f":"IF(BE70=\"\",\"\",BC70+IF(BE70=\"XX\",VLOOKUP(\"WRONG\",Answers!BA:BD,4,FALSE),BE70)+BF70)","v":""},{"$f":"IF($B70=\"\",\"\",UPPER(Mainframe!Q69))","v":""},{"$f":"IF(BH70=\"\",\"\",IF(NOT(ISNA(VLOOKUP(BH70,Answers!BE:BH,4,FALSE))),VLOOKUP(BH70,Answers!BE:BH,4,FALSE),\"Help!\"))","v":""},null,{"$f":"IF(BI70=\"\",\"\",BG70+IF(BI70=\"XX\",VLOOKUP(\"WRONG\",Answers!BE:BH,4,FALSE),BI70)+BJ70)","v":""},{"$f":"IF($B70=\"\",\"\",UPPER(Mainframe!R69))","v":""},{"$f":"IF(BL70=\"\",\"\",IF(NOT(ISNA(VLOOKUP(BL70,Answers!BI:BL,4,FALSE))),VLOOKUP(BL70,Answers!BI:BL,4,FALSE),\"Help!\"))","v":""},null,{"$f":"IF(BM70=\"\",\"\",BK70+IF(BM70=\"XX\",VLOOKUP(\"WRONG\",Answers!BI:BL,4,FALSE),BM70)+BN70)","v":""},{"$f":"IF($B70=\"\",\"\",UPPER(Mainframe!S69))","v":""},{"$f":"IF(BP70=\"\",\"\",IF(NOT(ISNA(VLOOKUP(BP70,Answers!BM:BP,4,FALSE))),VLOOKUP(BP70,Answers!BM:BP,4,FALSE),\"Help!\"))","v":""},null,{"$f":"IF(BQ70=\"\",\"\",BO70+IF(BQ70=\"XX\",VLOOKUP(\"WRONG\",Answers!BM:BP,4,FALSE),BQ70)+BR70)","v":""},{"$f":"IF($B70=\"\",\"\",UPPER(Mainframe!T69))","v":""},{"$f":"IF(BT70=\"\",\"\",IF(NOT(ISNA(VLOOKUP(BT70,Answers!BQ:BT,4,FALSE))),VLOOKUP(BT70,Answers!BQ:BT,4,FALSE),\"Help!\"))","v":""},null,{"$f":"IF(BU70=\"\",\"\",BS70+IF(BU70=\"XX\",VLOOKUP(\"WRONG\",Answers!BQ:BT,4,FALSE),BU70)+BV70)","v":""},{"$f":"IF($B70=\"\",\"\",UPPER(Mainframe!U69))","v":""},{"$f":"IF(BX70=\"\",\"\",IF(NOT(ISNA(VLOOKUP(BX70,Answers!BU:BX,4,FALSE))),VLOOKUP(BX70,Answers!BU:BX,4,FALSE),\"Help!\"))","v":""},null,{"$f":"IF(BY70=\"\",\"\",BW70+IF(BY70=\"XX\",VLOOKUP(\"WRONG\",Answers!BU:BX,4,FALSE),BY70)+BZ70)","v":""},{"$f":"IF($B70=\"\",\"\",UPPER(Mainframe!V69))","v":""},{"$f":"IF(CB70=\"\",\"\",IF(NOT(ISNA(VLOOKUP(CB70,Answers!BY:CB,4,FALSE))),VLOOKUP(CB70,Answers!BY:CB,4,FALSE),\"Help!\"))","v":""},null,{"$f":"IF(CC70=\"\",\"\",CA70+IF(CC70=\"XX\",VLOOKUP(\"WRONG\",Answers!BY:CB,4,FALSE),CC70)+CD70)","v":""},null,null,1,{"$f":"IF(INDEX($B:$CE,ROW(),QNO*4-1)=DROPNAME,DROPNAME,IF(INDEX($B:$CE,ROW(),QNO*4-1)=SHEEPNAME,SHEEPNAME,IF(INDEX($B:$CE,ROW(),QNO*4)=\"XX\",INDEX($B:$CE,ROW(),QNO*4-1),INDEX(OFFSET(Answers!B:B,0,(QNO-1)*4),MATCH(INDEX($A:$CB,ROW(),QNO*4),OFFSET(Answers!A:A,0,(QNO-1)*4),0))&\" — \"&IF(INDEX($B:$CE,ROW(),QNO*4)=1,\"[b]Singleton![/b]\",CONCATENATE(INDEX($B:$CE,ROW(),QNO*4),\" responses\")))))","v":{"$error":"#N/A"}},"//////////////////////////////////////////////////////////////////////////////////////////////////////////////////////////","No",{"$f":"IF(B70=0,\"\",CONCATENATE(INDEX($CH:$CL,ROW(),1),\". \",INDEX($B:$CE,ROW(),1),\" — [b]\")&IF(QNO=1,CONCATENATE(INDEX($B:$CE,ROW(),QNO*4+2),\"[/b] pts\"),CONCATENATE(INDEX($B:$CE,ROW(),QNO*4-2),\" + \",IF(INDEX($B:$CE,ROW(),QNO*4)=\"XX\",INDEX(Answers!$A:$ZZ,2,QNO*4),INDEX($B:$CE,ROW(),QNO*4)),\" = \",INDEX($B:$CE,ROW(),QNO*4+2),\"[/b] pts \",IF(INDEX($C:$CE,ROW(),QNO*4)>0,\"(penalty: +\"&INDEX($C:$CE,ROW(),QNO*4)&\") \",IF(INDEX($C:$CE,ROW(),QNO*4)<0,\"(bonus: \"&INDEX($C:$CE,ROW(),QNO*4)&\") \",\"\"))&\"[[b]\"&IF(CN70>0,\"[color=#00BF00]↑\"&CN70,IF(CN70<0,\"[color=#FF0000]↓\"&ABS(CN70),\"[color=#0000FF]unch\"))&\"[/b][/color]]\")))","v":"1.  — [b][/b] pts"},1,0]
["[*]",{"$f":"IF(Mainframe!B70=\"\",\"\",INDEX(Mainframe!$B:$B,C71+1,1))","v":""},69,{"$f":"IF($B71=\"\",\"\",UPPER(Mainframe!C70))","v":""},{"$f":"IF(D71=\"\",\"\",IF(NOT(ISNA(VLOOKUP(D71,Answers!A:D,4,FALSE))),VLOOKUP(D71,Answers!A:D,4,FALSE),\"Help!\"))","v":""},null,{"$f":"IF(E71=\"\",\"\",IF(E71=\"XX\",VLOOKUP(\"WRONG\",Answers!A:D,4,FALSE),E71)+F71)","v":""},{"$f":"IF($B71=\"\",\"\",UPPER(Mainframe!D70))","v":""},{"$f":"IF(H71=\"\",\"\",IF(NOT(ISNA(VLOOKUP(H71,Answers!E:H,4,FALSE))),VLOOKUP(H71,Answers!E:H,4,FALSE),\"Help!\"))","v":""},null,{"$f":"IF(I71=\"\",\"\",G71+IF(I71=\"XX\",VLOOKUP(\"WRONG\",Answers!E:H,4,FALSE),I71)+J71)","v":""},{"$f":"IF($B71=\"\",\"\",UPPER(Mainframe!E70))","v":""},{"$f":"IF(L71=\"\",\"\",IF(NOT(ISNA(VLOOKUP(L71,Answers!I:L,4,FALSE))),VLOOKUP(L71,Answers!I:L,4,FALSE),\"Help!\"))","v":""},null,{"$f":"IF(M71=\"\",\"\",K71+IF(M71=\"XX\",VLOOKUP(\"WRONG\",Answers!I:L,4,FALSE),M71)+N71)","v":""},{"$f":"IF($B71=\"\",\"\",UPPER(Mainframe!F70))","v":""},{"$f":"IF(P71=\"\",\"\",IF(NOT(ISNA(VLOOKUP(P71,Answers!M:P,4,FALSE))),VLOOKUP(P71,Answers!M:P,4,FALSE),\"Help!\"))","v":""},null,{"$f":"IF(Q71=\"\",\"\",O71+IF(Q71=\"XX\",VLOOKUP(\"WRONG\",Answers!M:P,4,FALSE),Q71)+R71)","v":""},{"$f":"IF($B71=\"\",\"\",UPPER(Mainframe!G70))","v":""},{"$f":"IF(T71=\"\",\"\",IF(NOT(ISNA(VLOOKUP(T71,Answers!Q:T,4,FALSE))),VLOOKUP(T71,Answers!Q:T,4,FALSE),\"Help!\"))","v":""},null,{"$f":"IF(U71=\"\",\"\",S71+IF(U71=\"XX\",VLOOKUP(\"WRONG\",Answers!Q:T,4,FALSE),U71)+V71)","v":""},{"$f":"IF($B71=\"\",\"\",UPPER(Mainframe!H70))","v":""},{"$f":"IF(X71=\"\",\"\",IF(NOT(ISNA(VLOOKUP(X71,Answers!U:X,4,FALSE))),VLOOKUP(X71,Answers!U:X,4,FALSE),\"Help!\"))","v":""},null,{"$f":"IF(Y71=\"\",\"\",W71+IF(Y71=\"XX\",VLOOKUP(\"WRONG\",Answers!U:X,4,FALSE),Y71)+Z71)","v":""},{"$f":"IF($B71=\"\",\"\",UPPER(Mainframe!I70))","v":""},{"$f":"IF(AB71=\"\",\"\",IF(NOT(ISNA(VLOOKUP(AB71,Answers!Y:AB,4,FALSE))),VLOOKUP(AB71,Answers!Y:AB,4,FALSE),\"Help!\"))","v":""},null,{"$f":"IF(AC71=\"\",\"\",AA71+IF(AC71=\"XX\",VLOOKUP(\"WRONG\",Answers!Y:AB,4,FALSE),AC71)+AD71)","v":""},{"$f":"IF($B71=\"\",\"\",UPPER(Mainframe!J70))","v":""},{"$f":"IF(AF71=\"\",\"\",IF(NOT(ISNA(VLOOKUP(AF71,Answers!AC:AF,4,FALSE))),VLOOKUP(AF71,Answers!AC:AF,4,FALSE),\"Help!\"))","v":""},null,{"$f":"IF(AG71=\"\",\"\",AE71+IF(AG71=\"XX\",VLOOKUP(\"WRONG\",Answers!AC:AF,4,FALSE),AG71)+AH71)","v":""},{"$f":"IF($B71=\"\",\"\",UPPER(Mainframe!K70))","v":""},{"$f":"IF(AJ71=\"\",\"\",IF(NOT(ISNA(VLOOKUP(AJ71,Answers!AG:AJ,4,FALSE))),VLOOKUP(AJ71,Answers!AG:AJ,4,FALSE),\"Help!\"))","v":""},null,{"$f":"IF(AK71=\"\",\"\",AI71+IF(AK71=\"XX\",VLOOKUP(\"WRONG\",Answers!AG:AJ,4,FALSE),AK71)+AL71)","v":""},{"$f":"IF($B71=\"\",\"\",UPPER(Mainframe!L70))","v":""},{"$f":"IF(AN71=\"\",\"\",IF(NOT(ISNA(VLOOKUP(AN71,Answers!AK:AN,4,FALSE))),VLOOKUP(AN71,Answers!AK:AN,4,FALSE),\"Help!\"))","v":""},null,{"$f":"IF(AO71=\"\",\"\",AM71+IF(AO71=\"XX\",VLOOKUP(\"WRONG\",Answers!AK:AN,4,FALSE),AO71)+AP71)","v":""},{"$f":"IF($B71=\"\",\"\",UPPER(Mainframe!M70))","v":""},{"$f":"IF(AR71=\"\",\"\",IF(NOT(ISNA(VLOOKUP(AR71,Answers!AO:AR,4,FALSE))),VLOOKUP(AR71,Answers!AO:AR,4,FALSE),\"Help!\"))","v":""},null,{"$f":"IF(AS71=\"\",\"\",AQ71+IF(AS71=\"XX\",VLOOKUP(\"WRONG\",Answers!AO:AR,4,FALSE),AS71)+AT71)","v":""},{"$f":"IF($B71=\"\",\"\",UPPER(Mainframe!N70))","v":""},{"$f":"IF(AV71=\"\",\"\",IF(NOT(ISNA(VLOOKUP(AV71,Answers!AS:AV,4,FALSE))),VLOOKUP(AV71,Answers!AS:AV,4,FALSE),\"Help!\"))","v":""},null,{"$f":"IF(AW71=\"\",\"\",AU71+IF(AW71=\"XX\",VLOOKUP(\"WRONG\",Answers!AS:AV,4,FALSE),AW71)+AX71)","v":""},{"$f":"IF($B71=\"\",\"\",UPPER(Mainframe!O70))","v":""},{"$f":"IF(AZ71=\"\",\"\",IF(NOT(ISNA(VLOOKUP(AZ71,Answers!AW:AZ,4,FALSE))),VLOOKUP(AZ71,Answers!AW:AZ,4,FALSE),\"Help!\"))","v":""},null,{"$f":"IF(BA71=\"\",\"\",AY71+IF(BA71=\"XX\",VLOOKUP(\"WRONG\",Answers!AW:AZ,4,FALSE),BA71)+BB71)","v":""},{"$f":"IF($B71=\"\",\"\",UPPER(Mainframe!P70))","v":""},{"$f":"IF(BD71=\"\",\"\",IF(NOT(ISNA(VLOOKUP(BD71,Answers!BA:BD,4,FALSE))),VLOOKUP(BD71,Answers!BA:BD,4,FALSE),\"Help!\"))","v":""},null,{"$f":"IF(BE71=\"\",\"\",BC71+IF(BE71=\"XX\",VLOOKUP(\"WRONG\",Answers!BA:BD,4,FALSE),BE71)+BF71)","v":""},{"$f":"IF($B71=\"\",\"\",UPPER(Mainframe!Q70))","v":""},{"$f":"IF(BH71=\"\",\"\",IF(NOT(ISNA(VLOOKUP(BH71,Answers!BE:BH,4,FALSE))),VLOOKUP(BH71,Answers!BE:BH,4,FALSE),\"Help!\"))","v":""},null,{"$f":"IF(BI71=\"\",\"\",BG71+IF(BI71=\"XX\",VLOOKUP(\"WRONG\",Answers!BE:BH,4,FALSE),BI71)+BJ71)","v":""},{"$f":"IF($B71=\"\",\"\",UPPER(Mainframe!R70))","v":""},{"$f":"IF(BL71=\"\",\"\",IF(NOT(ISNA(VLOOKUP(BL71,Answers!BI:BL,4,FALSE))),VLOOKUP(BL71,Answers!BI:BL,4,FALSE),\"Help!\"))","v":""},null,{"$f":"IF(BM71=\"\",\"\",BK71+IF(BM71=\"XX\",VLOOKUP(\"WRONG\",Answers!BI:BL,4,FALSE),BM71)+BN71)","v":""},{"$f":"IF($B71=\"\",\"\",UPPER(Mainframe!S70))","v":""},{"$f":"IF(BP71=\"\",\"\",IF(NOT(ISNA(VLOOKUP(BP71,Answers!BM:BP,4,FALSE))),VLOOKUP(BP71,Answers!BM:BP,4,FALSE),\"Help!\"))","v":""},null,{"$f":"IF(BQ71=\"\",\"\",BO71+IF(BQ71=\"XX\",VLOOKUP(\"WRONG\",Answers!BM:BP,4,FALSE),BQ71)+BR71)","v":""},{"$f":"IF($B71=\"\",\"\",UPPER(Mainframe!T70))","v":""},{"$f":"IF(BT71=\"\",\"\",IF(NOT(ISNA(VLOOKUP(BT71,Answers!BQ:BT,4,FALSE))),VLOOKUP(BT71,Answers!BQ:BT,4,FALSE),\"Help!\"))","v":""},null,{"$f":"IF(BU71=\"\",\"\",BS71+IF(BU71=\"XX\",VLOOKUP(\"WRONG\",Answers!BQ:BT,4,FALSE),BU71)+BV71)","v":""},{"$f":"IF($B71=\"\",\"\",UPPER(Mainframe!U70))","v":""},{"$f":"IF(BX71=\"\",\"\",IF(NOT(ISNA(VLOOKUP(BX71,Answers!BU:BX,4,FALSE))),VLOOKUP(BX71,Answers!BU:BX,4,FALSE),\"Help!\"))","v":""},null,{"$f":"IF(BY71=\"\",\"\",BW71+IF(BY71=\"XX\",VLOOKUP(\"WRONG\",Answers!BU:BX,4,FALSE),BY71)+BZ71)","v":""},{"$f":"IF($B71=\"\",\"\",UPPER(Mainframe!V70))","v":""},{"$f":"IF(CB71=\"\",\"\",IF(NOT(ISNA(VLOOKUP(CB71,Answers!BY:CB,4,FALSE))),VLOOKUP(CB71,Answers!BY:CB,4,FALSE),\"Help!\"))","v":""},null,{"$f":"IF(CC71=\"\",\"\",CA71+IF(CC71=\"XX\",VLOOKUP(\"WRONG\",Answers!BY:CB,4,FALSE),CC71)+CD71)","v":""},null,null,1,{"$f":"IF(INDEX($B:$CE,ROW(),QNO*4-1)=DROPNAME,DROPNAME,IF(INDEX($B:$CE,ROW(),QNO*4-1)=SHEEPNAME,SHEEPNAME,IF(INDEX($B:$CE,ROW(),QNO*4)=\"XX\",INDEX($B:$CE,ROW(),QNO*4-1),INDEX(OFFSET(Answers!B:B,0,(QNO-1)*4),MATCH(INDEX($A:$CB,ROW(),QNO*4),OFFSET(Answers!A:A,0,(QNO-1)*4),0))&\" — \"&IF(INDEX($B:$CE,ROW(),QNO*4)=1,\"[b]Singleton![/b]\",CONCATENATE(INDEX($B:$CE,ROW(),QNO*4),\" responses\")))))","v":{"$error":"#N/A"}},"////////////////////////////////////////////////////////////////////////////////////////////////////////////////////////","No",{"$f":"IF(B71=0,\"\",CONCATENATE(INDEX($CH:$CL,ROW(),1),\". \",INDEX($B:$CE,ROW(),1),\" — [b]\")&IF(QNO=1,CONCATENATE(INDEX($B:$CE,ROW(),QNO*4+2),\"[/b] pts\"),CONCATENATE(INDEX($B:$CE,ROW(),QNO*4-2),\" + \",IF(INDEX($B:$CE,ROW(),QNO*4)=\"XX\",INDEX(Answers!$A:$ZZ,2,QNO*4),INDEX($B:$CE,ROW(),QNO*4)),\" = \",INDEX($B:$CE,ROW(),QNO*4+2),\"[/b] pts \",IF(INDEX($C:$CE,ROW(),QNO*4)>0,\"(penalty: +\"&INDEX($C:$CE,ROW(),QNO*4)&\") \",IF(INDEX($C:$CE,ROW(),QNO*4)<0,\"(bonus: \"&INDEX($C:$CE,ROW(),QNO*4)&\") \",\"\"))&\"[[b]\"&IF(CN71>0,\"[color=#00BF00]↑\"&CN71,IF(CN71<0,\"[color=#FF0000]↓\"&ABS(CN71),\"[color=#0000FF]unch\"))&\"[/b][/color]]\")))","v":"1.  — [b][/b] pts"},1,0]
["[*]",{"$f":"IF(Mainframe!B71=\"\",\"\",INDEX(Mainframe!$B:$B,C72+1,1))","v":""},70,{"$f":"IF($B72=\"\",\"\",UPPER(Mainframe!C71))","v":""},{"$f":"IF(D72=\"\",\"\",IF(NOT(ISNA(VLOOKUP(D72,Answers!A:D,4,FALSE))),VLOOKUP(D72,Answers!A:D,4,FALSE),\"Help!\"))","v":""},null,{"$f":"IF(E72=\"\",\"\",IF(E72=\"XX\",VLOOKUP(\"WRONG\",Answers!A:D,4,FALSE),E72)+F72)","v":""},{"$f":"IF($B72=\"\",\"\",UPPER(Mainframe!D71))","v":""},{"$f":"IF(H72=\"\",\"\",IF(NOT(ISNA(VLOOKUP(H72,Answers!E:H,4,FALSE))),VLOOKUP(H72,Answers!E:H,4,FALSE),\"Help!\"))","v":""},null,{"$f":"IF(I72=\"\",\"\",G72+IF(I72=\"XX\",VLOOKUP(\"WRONG\",Answers!E:H,4,FALSE),I72)+J72)","v":""},{"$f":"IF($B72=\"\",\"\",UPPER(Mainframe!E71))","v":""},{"$f":"IF(L72=\"\",\"\",IF(NOT(ISNA(VLOOKUP(L72,Answers!I:L,4,FALSE))),VLOOKUP(L72,Answers!I:L,4,FALSE),\"Help!\"))","v":""},null,{"$f":"IF(M72=\"\",\"\",K72+IF(M72=\"XX\",VLOOKUP(\"WRONG\",Answers!I:L,4,FALSE),M72)+N72)","v":""},{"$f":"IF($B72=\"\",\"\",UPPER(Mainframe!F71))","v":""},{"$f":"IF(P72=\"\",\"\",IF(NOT(ISNA(VLOOKUP(P72,Answers!M:P,4,FALSE))),VLOOKUP(P72,Answers!M:P,4,FALSE),\"Help!\"))","v":""},null,{"$f":"IF(Q72=\"\",\"\",O72+IF(Q72=\"XX\",VLOOKUP(\"WRONG\",Answers!M:P,4,FALSE),Q72)+R72)","v":""},{"$f":"IF($B72=\"\",\"\",UPPER(Mainframe!G71))","v":""},{"$f":"IF(T72=\"\",\"\",IF(NOT(ISNA(VLOOKUP(T72,Answers!Q:T,4,FALSE))),VLOOKUP(T72,Answers!Q:T,4,FALSE),\"Help!\"))","v":""},null,{"$f":"IF(U72=\"\",\"\",S72+IF(U72=\"XX\",VLOOKUP(\"WRONG\",Answers!Q:T,4,FALSE),U72)+V72)","v":""},{"$f":"IF($B72=\"\",\"\",UPPER(Mainframe!H71))","v":""},{"$f":"IF(X72=\"\",\"\",IF(NOT(ISNA(VLOOKUP(X72,Answers!U:X,4,FALSE))),VLOOKUP(X72,Answers!U:X,4,FALSE),\"Help!\"))","v":""},null,{"$f":"IF(Y72=\"\",\"\",W72+IF(Y72=\"XX\",VLOOKUP(\"WRONG\",Answers!U:X,4,FALSE),Y72)+Z72)","v":""},{"$f":"IF($B72=\"\",\"\",UPPER(Mainframe!I71))","v":""},{"$f":"IF(AB72=\"\",\"\",IF(NOT(ISNA(VLOOKUP(AB72,Answers!Y:AB,4,FALSE))),VLOOKUP(AB72,Answers!Y:AB,4,FALSE),\"Help!\"))","v":""},null,{"$f":"IF(AC72=\"\",\"\",AA72+IF(AC72=\"XX\",VLOOKUP(\"WRONG\",Answers!Y:AB,4,FALSE),AC72)+AD72)","v":""},{"$f":"IF($B72=\"\",\"\",UPPER(Mainframe!J71))","v":""},{"$f":"IF(AF72=\"\",\"\",IF(NOT(ISNA(VLOOKUP(AF72,Answers!AC:AF,4,FALSE))),VLOOKUP(AF72,Answers!AC:AF,4,FALSE),\"Help!\"))","v":""},null,{"$f":"IF(AG72=\"\",\"\",AE72+IF(AG72=\"XX\",VLOOKUP(\"WRONG\",Answers!AC:AF,4,FALSE),AG72)+AH72)","v":""},{"$f":"IF($B72=\"\",\"\",UPPER(Mainframe!K71))","v":""},{"$f":"IF(AJ72=\"\",\"\",IF(NOT(ISNA(VLOOKUP(AJ72,Answers!AG:AJ,4,FALSE))),VLOOKUP(AJ72,Answers!AG:AJ,4,FALSE),\"Help!\"))","v":""},null,{"$f":"IF(AK72=\"\",\"\",AI72+IF(AK72=\"XX\",VLOOKUP(\"WRONG\",Answers!AG:AJ,4,FALSE),AK72)+AL72)","v":""},{"$f":"IF($B72=\"\",\"\",UPPER(Mainframe!L71))","v":""},{"$f":"IF(AN72=\"\",\"\",IF(NOT(ISNA(VLOOKUP(AN72,Answers!AK:AN,4,FALSE))),VLOOKUP(AN72,Answers!AK:AN,4,FALSE),\"Help!\"))","v":""},null,{"$f":"IF(AO72=\"\",\"\",AM72+IF(AO72=\"XX\",VLOOKUP(\"WRONG\",Answers!AK:AN,4,FALSE),AO72)+AP72)","v":""},{"$f":"IF($B72=\"\",\"\",UPPER(Mainframe!M71))","v":""},{"$f":"IF(AR72=\"\",\"\",IF(NOT(ISNA(VLOOKUP(AR72,Answers!AO:AR,4,FALSE))),VLOOKUP(AR72,Answers!AO:AR,4,FALSE),\"Help!\"))","v":""},null,{"$f":"IF(AS72=\"\",\"\",AQ72+IF(AS72=\"XX\",VLOOKUP(\"WRONG\",Answers!AO:AR,4,FALSE),AS72)+AT72)","v":""},{"$f":"IF($B72=\"\",\"\",UPPER(Mainframe!N71))","v":""},{"$f":"IF(AV72=\"\",\"\",IF(NOT(ISNA(VLOOKUP(AV72,Answers!AS:AV,4,FALSE))),VLOOKUP(AV72,Answers!AS:AV,4,FALSE),\"Help!\"))","v":""},null,{"$f":"IF(AW72=\"\",\"\",AU72+IF(AW72=\"XX\",VLOOKUP(\"WRONG\",Answers!AS:AV,4,FALSE),AW72)+AX72)","v":""},{"$f":"IF($B72=\"\",\"\",UPPER(Mainframe!O71))","v":""},{"$f":"IF(AZ72=\"\",\"\",IF(NOT(ISNA(VLOOKUP(AZ72,Answers!AW:AZ,4,FALSE))),VLOOKUP(AZ72,Answers!AW:AZ,4,FALSE),\"Help!\"))","v":""},null,{"$f":"IF(BA72=\"\",\"\",AY72+IF(BA72=\"XX\",VLOOKUP(\"WRONG\",Answers!AW:AZ,4,FALSE),BA72)+BB72)","v":""},{"$f":"IF($B72=\"\",\"\",UPPER(Mainframe!P71))","v":""},{"$f":"IF(BD72=\"\",\"\",IF(NOT(ISNA(VLOOKUP(BD72,Answers!BA:BD,4,FALSE))),VLOOKUP(BD72,Answers!BA:BD,4,FALSE),\"Help!\"))","v":""},null,{"$f":"IF(BE72=\"\",\"\",BC72+IF(BE72=\"XX\",VLOOKUP(\"WRONG\",Answers!BA:BD,4,FALSE),BE72)+BF72)","v":""},{"$f":"IF($B72=\"\",\"\",UPPER(Mainframe!Q71))","v":""},{"$f":"IF(BH72=\"\",\"\",IF(NOT(ISNA(VLOOKUP(BH72,Answers!BE:BH,4,FALSE))),VLOOKUP(BH72,Answers!BE:BH,4,FALSE),\"Help!\"))","v":""},null,{"$f":"IF(BI72=\"\",\"\",BG72+IF(BI72=\"XX\",VLOOKUP(\"WRONG\",Answers!BE:BH,4,FALSE),BI72)+BJ72)","v":""},{"$f":"IF($B72=\"\",\"\",UPPER(Mainframe!R71))","v":""},{"$f":"IF(BL72=\"\",\"\",IF(NOT(ISNA(VLOOKUP(BL72,Answers!BI:BL,4,FALSE))),VLOOKUP(BL72,Answers!BI:BL,4,FALSE),\"Help!\"))","v":""},null,{"$f":"IF(BM72=\"\",\"\",BK72+IF(BM72=\"XX\",VLOOKUP(\"WRONG\",Answers!BI:BL,4,FALSE),BM72)+BN72)","v":""},{"$f":"IF($B72=\"\",\"\",UPPER(Mainframe!S71))","v":""},{"$f":"IF(BP72=\"\",\"\",IF(NOT(ISNA(VLOOKUP(BP72,Answers!BM:BP,4,FALSE))),VLOOKUP(BP72,Answers!BM:BP,4,FALSE),\"Help!\"))","v":""},null,{"$f":"IF(BQ72=\"\",\"\",BO72+IF(BQ72=\"XX\",VLOOKUP(\"WRONG\",Answers!BM:BP,4,FALSE),BQ72)+BR72)","v":""},{"$f":"IF($B72=\"\",\"\",UPPER(Mainframe!T71))","v":""},{"$f":"IF(BT72=\"\",\"\",IF(NOT(ISNA(VLOOKUP(BT72,Answers!BQ:BT,4,FALSE))),VLOOKUP(BT72,Answers!BQ:BT,4,FALSE),\"Help!\"))","v":""},null,{"$f":"IF(BU72=\"\",\"\",BS72+IF(BU72=\"XX\",VLOOKUP(\"WRONG\",Answers!BQ:BT,4,FALSE),BU72)+BV72)","v":""},{"$f":"IF($B72=\"\",\"\",UPPER(Mainframe!U71))","v":""},{"$f":"IF(BX72=\"\",\"\",IF(NOT(ISNA(VLOOKUP(BX72,Answers!BU:BX,4,FALSE))),VLOOKUP(BX72,Answers!BU:BX,4,FALSE),\"Help!\"))","v":""},null,{"$f":"IF(BY72=\"\",\"\",BW72+IF(BY72=\"XX\",VLOOKUP(\"WRONG\",Answers!BU:BX,4,FALSE),BY72)+BZ72)","v":""},{"$f":"IF($B72=\"\",\"\",UPPER(Mainframe!V71))","v":""},{"$f":"IF(CB72=\"\",\"\",IF(NOT(ISNA(VLOOKUP(CB72,Answers!BY:CB,4,FALSE))),VLOOKUP(CB72,Answers!BY:CB,4,FALSE),\"Help!\"))","v":""},null,{"$f":"IF(CC72=\"\",\"\",CA72+IF(CC72=\"XX\",VLOOKUP(\"WRONG\",Answers!BY:CB,4,FALSE),CC72)+CD72)","v":""},null,null,1,{"$f":"IF(INDEX($B:$CE,ROW(),QNO*4-1)=DROPNAME,DROPNAME,IF(INDEX($B:$CE,ROW(),QNO*4-1)=SHEEPNAME,SHEEPNAME,IF(INDEX($B:$CE,ROW(),QNO*4)=\"XX\",INDEX($B:$CE,ROW(),QNO*4-1),INDEX(OFFSET(Answers!B:B,0,(QNO-1)*4),MATCH(INDEX($A:$CB,ROW(),QNO*4),OFFSET(Answers!A:A,0,(QNO-1)*4),0))&\" — \"&IF(INDEX($B:$CE,ROW(),QNO*4)=1,\"[b]Singleton![/b]\",CONCATENATE(INDEX($B:$CE,ROW(),QNO*4),\" responses\")))))","v":{"$error":"#N/A"}},"//////////////////////////////////////////////////////////////////////////////////////////////////////////////////////","No",{"$f":"IF(B72=0,\"\",CONCATENATE(INDEX($CH:$CL,ROW(),1),\". \",INDEX($B:$CE,ROW(),1),\" — [b]\")&IF(QNO=1,CONCATENATE(INDEX($B:$CE,ROW(),QNO*4+2),\"[/b] pts\"),CONCATENATE(INDEX($B:$CE,ROW(),QNO*4-2),\" + \",IF(INDEX($B:$CE,ROW(),QNO*4)=\"XX\",INDEX(Answers!$A:$ZZ,2,QNO*4),INDEX($B:$CE,ROW(),QNO*4)),\" = \",INDEX($B:$CE,ROW(),QNO*4+2),\"[/b] pts \",IF(INDEX($C:$CE,ROW(),QNO*4)>0,\"(penalty: +\"&INDEX($C:$CE,ROW(),QNO*4)&\") \",IF(INDEX($C:$CE,ROW(),QNO*4)<0,\"(bonus: \"&INDEX($C:$CE,ROW(),QNO*4)&\") \",\"\"))&\"[[b]\"&IF(CN72>0,\"[color=#00BF00]↑\"&CN72,IF(CN72<0,\"[color=#FF0000]↓\"&ABS(CN72),\"[color=#0000FF]unch\"))&\"[/b][/color]]\")))","v":"1.  — [b][/b] pts"},1,0]
["[*]",{"$f":"IF(Mainframe!B72=\"\",\"\",INDEX(Mainframe!$B:$B,C73+1,1))","v":""},71,{"$f":"IF($B73=\"\",\"\",UPPER(Mainframe!C72))","v":""},{"$f":"IF(D73=\"\",\"\",IF(NOT(ISNA(VLOOKUP(D73,Answers!A:D,4,FALSE))),VLOOKUP(D73,Answers!A:D,4,FALSE),\"Help!\"))","v":""},null,{"$f":"IF(E73=\"\",\"\",IF(E73=\"XX\",VLOOKUP(\"WRONG\",Answers!A:D,4,FALSE),E73)+F73)","v":""},{"$f":"IF($B73=\"\",\"\",UPPER(Mainframe!D72))","v":""},{"$f":"IF(H73=\"\",\"\",IF(NOT(ISNA(VLOOKUP(H73,Answers!E:H,4,FALSE))),VLOOKUP(H73,Answers!E:H,4,FALSE),\"Help!\"))","v":""},null,{"$f":"IF(I73=\"\",\"\",G73+IF(I73=\"XX\",VLOOKUP(\"WRONG\",Answers!E:H,4,FALSE),I73)+J73)","v":""},{"$f":"IF($B73=\"\",\"\",UPPER(Mainframe!E72))","v":""},{"$f":"IF(L73=\"\",\"\",IF(NOT(ISNA(VLOOKUP(L73,Answers!I:L,4,FALSE))),VLOOKUP(L73,Answers!I:L,4,FALSE),\"Help!\"))","v":""},null,{"$f":"IF(M73=\"\",\"\",K73+IF(M73=\"XX\",VLOOKUP(\"WRONG\",Answers!I:L,4,FALSE),M73)+N73)","v":""},{"$f":"IF($B73=\"\",\"\",UPPER(Mainframe!F72))","v":""},{"$f":"IF(P73=\"\",\"\",IF(NOT(ISNA(VLOOKUP(P73,Answers!M:P,4,FALSE))),VLOOKUP(P73,Answers!M:P,4,FALSE),\"Help!\"))","v":""},null,{"$f":"IF(Q73=\"\",\"\",O73+IF(Q73=\"XX\",VLOOKUP(\"WRONG\",Answers!M:P,4,FALSE),Q73)+R73)","v":""},{"$f":"IF($B73=\"\",\"\",UPPER(Mainframe!G72))","v":""},{"$f":"IF(T73=\"\",\"\",IF(NOT(ISNA(VLOOKUP(T73,Answers!Q:T,4,FALSE))),VLOOKUP(T73,Answers!Q:T,4,FALSE),\"Help!\"))","v":""},null,{"$f":"IF(U73=\"\",\"\",S73+IF(U73=\"XX\",VLOOKUP(\"WRONG\",Answers!Q:T,4,FALSE),U73)+V73)","v":""},{"$f":"IF($B73=\"\",\"\",UPPER(Mainframe!H72))","v":""},{"$f":"IF(X73=\"\",\"\",IF(NOT(ISNA(VLOOKUP(X73,Answers!U:X,4,FALSE))),VLOOKUP(X73,Answers!U:X,4,FALSE),\"Help!\"))","v":""},null,{"$f":"IF(Y73=\"\",\"\",W73+IF(Y73=\"XX\",VLOOKUP(\"WRONG\",Answers!U:X,4,FALSE),Y73)+Z73)","v":""},{"$f":"IF($B73=\"\",\"\",UPPER(Mainframe!I72))","v":""},{"$f":"IF(AB73=\"\",\"\",IF(NOT(ISNA(VLOOKUP(AB73,Answers!Y:AB,4,FALSE))),VLOOKUP(AB73,Answers!Y:AB,4,FALSE),\"Help!\"))","v":""},null,{"$f":"IF(AC73=\"\",\"\",AA73+IF(AC73=\"XX\",VLOOKUP(\"WRONG\",Answers!Y:AB,4,FALSE),AC73)+AD73)","v":""},{"$f":"IF($B73=\"\",\"\",UPPER(Mainframe!J72))","v":""},{"$f":"IF(AF73=\"\",\"\",IF(NOT(ISNA(VLOOKUP(AF73,Answers!AC:AF,4,FALSE))),VLOOKUP(AF73,Answers!AC:AF,4,FALSE),\"Help!\"))","v":""},null,{"$f":"IF(AG73=\"\",\"\",AE73+IF(AG73=\"XX\",VLOOKUP(\"WRONG\",Answers!AC:AF,4,FALSE),AG73)+AH73)","v":""},{"$f":"IF($B73=\"\",\"\",UPPER(Mainframe!K72))","v":""},{"$f":"IF(AJ73=\"\",\"\",IF(NOT(ISNA(VLOOKUP(AJ73,Answers!AG:AJ,4,FALSE))),VLOOKUP(AJ73,Answers!AG:AJ,4,FALSE),\"Help!\"))","v":""},null,{"$f":"IF(AK73=\"\",\"\",AI73+IF(AK73=\"XX\",VLOOKUP(\"WRONG\",Answers!AG:AJ,4,FALSE),AK73)+AL73)","v":""},{"$f":"IF($B73=\"\",\"\",UPPER(Mainframe!L72))","v":""},{"$f":"IF(AN73=\"\",\"\",IF(NOT(ISNA(VLOOKUP(AN73,Answers!AK:AN,4,FALSE))),VLOOKUP(AN73,Answers!AK:AN,4,FALSE),\"Help!\"))","v":""},null,{"$f":"IF(AO73=\"\",\"\",AM73+IF(AO73=\"XX\",VLOOKUP(\"WRONG\",Answers!AK:AN,4,FALSE),AO73)+AP73)","v":""},{"$f":"IF($B73=\"\",\"\",UPPER(Mainframe!M72))","v":""},{"$f":"IF(AR73=\"\",\"\",IF(NOT(ISNA(VLOOKUP(AR73,Answers!AO:AR,4,FALSE))),VLOOKUP(AR73,Answers!AO:AR,4,FALSE),\"Help!\"))","v":""},null,{"$f":"IF(AS73=\"\",\"\",AQ73+IF(AS73=\"XX\",VLOOKUP(\"WRONG\",Answers!AO:AR,4,FALSE),AS73)+AT73)","v":""},{"$f":"IF($B73=\"\",\"\",UPPER(Mainframe!N72))","v":""},{"$f":"IF(AV73=\"\",\"\",IF(NOT(ISNA(VLOOKUP(AV73,Answers!AS:AV,4,FALSE))),VLOOKUP(AV73,Answers!AS:AV,4,FALSE),\"Help!\"))","v":""},null,{"$f":"IF(AW73=\"\",\"\",AU73+IF(AW73=\"XX\",VLOOKUP(\"WRONG\",Answers!AS:AV,4,FALSE),AW73)+AX73)","v":""},{"$f":"IF($B73=\"\",\"\",UPPER(Mainframe!O72))","v":""},{"$f":"IF(AZ73=\"\",\"\",IF(NOT(ISNA(VLOOKUP(AZ73,Answers!AW:AZ,4,FALSE))),VLOOKUP(AZ73,Answers!AW:AZ,4,FALSE),\"Help!\"))","v":""},null,{"$f":"IF(BA73=\"\",\"\",AY73+IF(BA73=\"XX\",VLOOKUP(\"WRONG\",Answers!AW:AZ,4,FALSE),BA73)+BB73)","v":""},{"$f":"IF($B73=\"\",\"\",UPPER(Mainframe!P72))","v":""},{"$f":"IF(BD73=\"\",\"\",IF(NOT(ISNA(VLOOKUP(BD73,Answers!BA:BD,4,FALSE))),VLOOKUP(BD73,Answers!BA:BD,4,FALSE),\"Help!\"))","v":""},null,{"$f":"IF(BE73=\"\",\"\",BC73+IF(BE73=\"XX\",VLOOKUP(\"WRONG\",Answers!BA:BD,4,FALSE),BE73)+BF73)","v":""},{"$f":"IF($B73=\"\",\"\",UPPER(Mainframe!Q72))","v":""},{"$f":"IF(BH73=\"\",\"\",IF(NOT(ISNA(VLOOKUP(BH73,Answers!BE:BH,4,FALSE))),VLOOKUP(BH73,Answers!BE:BH,4,FALSE),\"Help!\"))","v":""},null,{"$f":"IF(BI73=\"\",\"\",BG73+IF(BI73=\"XX\",VLOOKUP(\"WRONG\",Answers!BE:BH,4,FALSE),BI73)+BJ73)","v":""},{"$f":"IF($B73=\"\",\"\",UPPER(Mainframe!R72))","v":""},{"$f":"IF(BL73=\"\",\"\",IF(NOT(ISNA(VLOOKUP(BL73,Answers!BI:BL,4,FALSE))),VLOOKUP(BL73,Answers!BI:BL,4,FALSE),\"Help!\"))","v":""},null,{"$f":"IF(BM73=\"\",\"\",BK73+IF(BM73=\"XX\",VLOOKUP(\"WRONG\",Answers!BI:BL,4,FALSE),BM73)+BN73)","v":""},{"$f":"IF($B73=\"\",\"\",UPPER(Mainframe!S72))","v":""},{"$f":"IF(BP73=\"\",\"\",IF(NOT(ISNA(VLOOKUP(BP73,Answers!BM:BP,4,FALSE))),VLOOKUP(BP73,Answers!BM:BP,4,FALSE),\"Help!\"))","v":""},null,{"$f":"IF(BQ73=\"\",\"\",BO73+IF(BQ73=\"XX\",VLOOKUP(\"WRONG\",Answers!BM:BP,4,FALSE),BQ73)+BR73)","v":""},{"$f":"IF($B73=\"\",\"\",UPPER(Mainframe!T72))","v":""},{"$f":"IF(BT73=\"\",\"\",IF(NOT(ISNA(VLOOKUP(BT73,Answers!BQ:BT,4,FALSE))),VLOOKUP(BT73,Answers!BQ:BT,4,FALSE),\"Help!\"))","v":""},null,{"$f":"IF(BU73=\"\",\"\",BS73+IF(BU73=\"XX\",VLOOKUP(\"WRONG\",Answers!BQ:BT,4,FALSE),BU73)+BV73)","v":""},{"$f":"IF($B73=\"\",\"\",UPPER(Mainframe!U72))","v":""},{"$f":"IF(BX73=\"\",\"\",IF(NOT(ISNA(VLOOKUP(BX73,Answers!BU:BX,4,FALSE))),VLOOKUP(BX73,Answers!BU:BX,4,FALSE),\"Help!\"))","v":""},null,{"$f":"IF(BY73=\"\",\"\",BW73+IF(BY73=\"XX\",VLOOKUP(\"WRONG\",Answers!BU:BX,4,FALSE),BY73)+BZ73)","v":""},{"$f":"IF($B73=\"\",\"\",UPPER(Mainframe!V72))","v":""},{"$f":"IF(CB73=\"\",\"\",IF(NOT(ISNA(VLOOKUP(CB73,Answers!BY:CB,4,FALSE))),VLOOKUP(CB73,Answers!BY:CB,4,FALSE),\"Help!\"))","v":""},null,{"$f":"IF(CC73=\"\",\"\",CA73+IF(CC73=\"XX\",VLOOKUP(\"WRONG\",Answers!BY:CB,4,FALSE),CC73)+CD73)","v":""},null,null,1,{"$f":"IF(INDEX($B:$CE,ROW(),QNO*4-1)=DROPNAME,DROPNAME,IF(INDEX($B:$CE,ROW(),QNO*4-1)=SHEEPNAME,SHEEPNAME,IF(INDEX($B:$CE,ROW(),QNO*4)=\"XX\",INDEX($B:$CE,ROW(),QNO*4-1),INDEX(OFFSET(Answers!B:B,0,(QNO-1)*4),MATCH(INDEX($A:$CB,ROW(),QNO*4),OFFSET(Answers!A:A,0,(QNO-1)*4),0))&\" — \"&IF(INDEX($B:$CE,ROW(),QNO*4)=1,\"[b]Singleton![/b]\",CONCATENATE(INDEX($B:$CE,ROW(),QNO*4),\" responses\")))))","v":{"$error":"#N/A"}},"////////////////////////////////////////////////////////////////////////////////////////////////////////////////////","No",{"$f":"IF(B73=0,\"\",CONCATENATE(INDEX($CH:$CL,ROW(),1),\". \",INDEX($B:$CE,ROW(),1),\" — [b]\")&IF(QNO=1,CONCATENATE(INDEX($B:$CE,ROW(),QNO*4+2),\"[/b] pts\"),CONCATENATE(INDEX($B:$CE,ROW(),QNO*4-2),\" + \",IF(INDEX($B:$CE,ROW(),QNO*4)=\"XX\",INDEX(Answers!$A:$ZZ,2,QNO*4),INDEX($B:$CE,ROW(),QNO*4)),\" = \",INDEX($B:$CE,ROW(),QNO*4+2),\"[/b] pts \",IF(INDEX($C:$CE,ROW(),QNO*4)>0,\"(penalty: +\"&INDEX($C:$CE,ROW(),QNO*4)&\") \",IF(INDEX($C:$CE,ROW(),QNO*4)<0,\"(bonus: \"&INDEX($C:$CE,ROW(),QNO*4)&\") \",\"\"))&\"[[b]\"&IF(CN73>0,\"[color=#00BF00]↑\"&CN73,IF(CN73<0,\"[color=#FF0000]↓\"&ABS(CN73),\"[color=#0000FF]unch\"))&\"[/b][/color]]\")))","v":"1.  — [b][/b] pts"},1,0]
["[*]",{"$f":"IF(Mainframe!B73=\"\",\"\",INDEX(Mainframe!$B:$B,C74+1,1))","v":""},72,{"$f":"IF($B74=\"\",\"\",UPPER(Mainframe!C73))","v":""},{"$f":"IF(D74=\"\",\"\",IF(NOT(ISNA(VLOOKUP(D74,Answers!A:D,4,FALSE))),VLOOKUP(D74,Answers!A:D,4,FALSE),\"Help!\"))","v":""},null,{"$f":"IF(E74=\"\",\"\",IF(E74=\"XX\",VLOOKUP(\"WRONG\",Answers!A:D,4,FALSE),E74)+F74)","v":""},{"$f":"IF($B74=\"\",\"\",UPPER(Mainframe!D73))","v":""},{"$f":"IF(H74=\"\",\"\",IF(NOT(ISNA(VLOOKUP(H74,Answers!E:H,4,FALSE))),VLOOKUP(H74,Answers!E:H,4,FALSE),\"Help!\"))","v":""},null,{"$f":"IF(I74=\"\",\"\",G74+IF(I74=\"XX\",VLOOKUP(\"WRONG\",Answers!E:H,4,FALSE),I74)+J74)","v":""},{"$f":"IF($B74=\"\",\"\",UPPER(Mainframe!E73))","v":""},{"$f":"IF(L74=\"\",\"\",IF(NOT(ISNA(VLOOKUP(L74,Answers!I:L,4,FALSE))),VLOOKUP(L74,Answers!I:L,4,FALSE),\"Help!\"))","v":""},null,{"$f":"IF(M74=\"\",\"\",K74+IF(M74=\"XX\",VLOOKUP(\"WRONG\",Answers!I:L,4,FALSE),M74)+N74)","v":""},{"$f":"IF($B74=\"\",\"\",UPPER(Mainframe!F73))","v":""},{"$f":"IF(P74=\"\",\"\",IF(NOT(ISNA(VLOOKUP(P74,Answers!M:P,4,FALSE))),VLOOKUP(P74,Answers!M:P,4,FALSE),\"Help!\"))","v":""},null,{"$f":"IF(Q74=\"\",\"\",O74+IF(Q74=\"XX\",VLOOKUP(\"WRONG\",Answers!M:P,4,FALSE),Q74)+R74)","v":""},{"$f":"IF($B74=\"\",\"\",UPPER(Mainframe!G73))","v":""},{"$f":"IF(T74=\"\",\"\",IF(NOT(ISNA(VLOOKUP(T74,Answers!Q:T,4,FALSE))),VLOOKUP(T74,Answers!Q:T,4,FALSE),\"Help!\"))","v":""},null,{"$f":"IF(U74=\"\",\"\",S74+IF(U74=\"XX\",VLOOKUP(\"WRONG\",Answers!Q:T,4,FALSE),U74)+V74)","v":""},{"$f":"IF($B74=\"\",\"\",UPPER(Mainframe!H73))","v":""},{"$f":"IF(X74=\"\",\"\",IF(NOT(ISNA(VLOOKUP(X74,Answers!U:X,4,FALSE))),VLOOKUP(X74,Answers!U:X,4,FALSE),\"Help!\"))","v":""},null,{"$f":"IF(Y74=\"\",\"\",W74+IF(Y74=\"XX\",VLOOKUP(\"WRONG\",Answers!U:X,4,FALSE),Y74)+Z74)","v":""},{"$f":"IF($B74=\"\",\"\",UPPER(Mainframe!I73))","v":""},{"$f":"IF(AB74=\"\",\"\",IF(NOT(ISNA(VLOOKUP(AB74,Answers!Y:AB,4,FALSE))),VLOOKUP(AB74,Answers!Y:AB,4,FALSE),\"Help!\"))","v":""},null,{"$f":"IF(AC74=\"\",\"\",AA74+IF(AC74=\"XX\",VLOOKUP(\"WRONG\",Answers!Y:AB,4,FALSE),AC74)+AD74)","v":""},{"$f":"IF($B74=\"\",\"\",UPPER(Mainframe!J73))","v":""},{"$f":"IF(AF74=\"\",\"\",IF(NOT(ISNA(VLOOKUP(AF74,Answers!AC:AF,4,FALSE))),VLOOKUP(AF74,Answers!AC:AF,4,FALSE),\"Help!\"))","v":""},null,{"$f":"IF(AG74=\"\",\"\",AE74+IF(AG74=\"XX\",VLOOKUP(\"WRONG\",Answers!AC:AF,4,FALSE),AG74)+AH74)","v":""},{"$f":"IF($B74=\"\",\"\",UPPER(Mainframe!K73))","v":""},{"$f":"IF(AJ74=\"\",\"\",IF(NOT(ISNA(VLOOKUP(AJ74,Answers!AG:AJ,4,FALSE))),VLOOKUP(AJ74,Answers!AG:AJ,4,FALSE),\"Help!\"))","v":""},null,{"$f":"IF(AK74=\"\",\"\",AI74+IF(AK74=\"XX\",VLOOKUP(\"WRONG\",Answers!AG:AJ,4,FALSE),AK74)+AL74)","v":""},{"$f":"IF($B74=\"\",\"\",UPPER(Mainframe!L73))","v":""},{"$f":"IF(AN74=\"\",\"\",IF(NOT(ISNA(VLOOKUP(AN74,Answers!AK:AN,4,FALSE))),VLOOKUP(AN74,Answers!AK:AN,4,FALSE),\"Help!\"))","v":""},null,{"$f":"IF(AO74=\"\",\"\",AM74+IF(AO74=\"XX\",VLOOKUP(\"WRONG\",Answers!AK:AN,4,FALSE),AO74)+AP74)","v":""},{"$f":"IF($B74=\"\",\"\",UPPER(Mainframe!M73))","v":""},{"$f":"IF(AR74=\"\",\"\",IF(NOT(ISNA(VLOOKUP(AR74,Answers!AO:AR,4,FALSE))),VLOOKUP(AR74,Answers!AO:AR,4,FALSE),\"Help!\"))","v":""},null,{"$f":"IF(AS74=\"\",\"\",AQ74+IF(AS74=\"XX\",VLOOKUP(\"WRONG\",Answers!AO:AR,4,FALSE),AS74)+AT74)","v":""},{"$f":"IF($B74=\"\",\"\",UPPER(Mainframe!N73))","v":""},{"$f":"IF(AV74=\"\",\"\",IF(NOT(ISNA(VLOOKUP(AV74,Answers!AS:AV,4,FALSE))),VLOOKUP(AV74,Answers!AS:AV,4,FALSE),\"Help!\"))","v":""},null,{"$f":"IF(AW74=\"\",\"\",AU74+IF(AW74=\"XX\",VLOOKUP(\"WRONG\",Answers!AS:AV,4,FALSE),AW74)+AX74)","v":""},{"$f":"IF($B74=\"\",\"\",UPPER(Mainframe!O73))","v":""},{"$f":"IF(AZ74=\"\",\"\",IF(NOT(ISNA(VLOOKUP(AZ74,Answers!AW:AZ,4,FALSE))),VLOOKUP(AZ74,Answers!AW:AZ,4,FALSE),\"Help!\"))","v":""},null,{"$f":"IF(BA74=\"\",\"\",AY74+IF(BA74=\"XX\",VLOOKUP(\"WRONG\",Answers!AW:AZ,4,FALSE),BA74)+BB74)","v":""},{"$f":"IF($B74=\"\",\"\",UPPER(Mainframe!P73))","v":""},{"$f":"IF(BD74=\"\",\"\",IF(NOT(ISNA(VLOOKUP(BD74,Answers!BA:BD,4,FALSE))),VLOOKUP(BD74,Answers!BA:BD,4,FALSE),\"Help!\"))","v":""},null,{"$f":"IF(BE74=\"\",\"\",BC74+IF(BE74=\"XX\",VLOOKUP(\"WRONG\",Answers!BA:BD,4,FALSE),BE74)+BF74)","v":""},{"$f":"IF($B74=\"\",\"\",UPPER(Mainframe!Q73))","v":""},{"$f":"IF(BH74=\"\",\"\",IF(NOT(ISNA(VLOOKUP(BH74,Answers!BE:BH,4,FALSE))),VLOOKUP(BH74,Answers!BE:BH,4,FALSE),\"Help!\"))","v":""},null,{"$f":"IF(BI74=\"\",\"\",BG74+IF(BI74=\"XX\",VLOOKUP(\"WRONG\",Answers!BE:BH,4,FALSE),BI74)+BJ74)","v":""},{"$f":"IF($B74=\"\",\"\",UPPER(Mainframe!R73))","v":""},{"$f":"IF(BL74=\"\",\"\",IF(NOT(ISNA(VLOOKUP(BL74,Answers!BI:BL,4,FALSE))),VLOOKUP(BL74,Answers!BI:BL,4,FALSE),\"Help!\"))","v":""},null,{"$f":"IF(BM74=\"\",\"\",BK74+IF(BM74=\"XX\",VLOOKUP(\"WRONG\",Answers!BI:BL,4,FALSE),BM74)+BN74)","v":""},{"$f":"IF($B74=\"\",\"\",UPPER(Mainframe!S73))","v":""},{"$f":"IF(BP74=\"\",\"\",IF(NOT(ISNA(VLOOKUP(BP74,Answers!BM:BP,4,FALSE))),VLOOKUP(BP74,Answers!BM:BP,4,FALSE),\"Help!\"))","v":""},null,{"$f":"IF(BQ74=\"\",\"\",BO74+IF(BQ74=\"XX\",VLOOKUP(\"WRONG\",Answers!BM:BP,4,FALSE),BQ74)+BR74)","v":""},{"$f":"IF($B74=\"\",\"\",UPPER(Mainframe!T73))","v":""},{"$f":"IF(BT74=\"\",\"\",IF(NOT(ISNA(VLOOKUP(BT74,Answers!BQ:BT,4,FALSE))),VLOOKUP(BT74,Answers!BQ:BT,4,FALSE),\"Help!\"))","v":""},null,{"$f":"IF(BU74=\"\",\"\",BS74+IF(BU74=\"XX\",VLOOKUP(\"WRONG\",Answers!BQ:BT,4,FALSE),BU74)+BV74)","v":""},{"$f":"IF($B74=\"\",\"\",UPPER(Mainframe!U73))","v":""},{"$f":"IF(BX74=\"\",\"\",IF(NOT(ISNA(VLOOKUP(BX74,Answers!BU:BX,4,FALSE))),VLOOKUP(BX74,Answers!BU:BX,4,FALSE),\"Help!\"))","v":""},null,{"$f":"IF(BY74=\"\",\"\",BW74+IF(BY74=\"XX\",VLOOKUP(\"WRONG\",Answers!BU:BX,4,FALSE),BY74)+BZ74)","v":""},{"$f":"IF($B74=\"\",\"\",UPPER(Mainframe!V73))","v":""},{"$f":"IF(CB74=\"\",\"\",IF(NOT(ISNA(VLOOKUP(CB74,Answers!BY:CB,4,FALSE))),VLOOKUP(CB74,Answers!BY:CB,4,FALSE),\"Help!\"))","v":""},null,{"$f":"IF(CC74=\"\",\"\",CA74+IF(CC74=\"XX\",VLOOKUP(\"WRONG\",Answers!BY:CB,4,FALSE),CC74)+CD74)","v":""},null,null,1,{"$f":"IF(INDEX($B:$CE,ROW(),QNO*4-1)=DROPNAME,DROPNAME,IF(INDEX($B:$CE,ROW(),QNO*4-1)=SHEEPNAME,SHEEPNAME,IF(INDEX($B:$CE,ROW(),QNO*4)=\"XX\",INDEX($B:$CE,ROW(),QNO*4-1),INDEX(OFFSET(Answers!B:B,0,(QNO-1)*4),MATCH(INDEX($A:$CB,ROW(),QNO*4),OFFSET(Answers!A:A,0,(QNO-1)*4),0))&\" — \"&IF(INDEX($B:$CE,ROW(),QNO*4)=1,\"[b]Singleton![/b]\",CONCATENATE(INDEX($B:$CE,ROW(),QNO*4),\" responses\")))))","v":{"$error":"#N/A"}},"//////////////////////////////////////////////////////////////////////////////////////////////////////////////////","No",{"$f":"IF(B74=0,\"\",CONCATENATE(INDEX($CH:$CL,ROW(),1),\". \",INDEX($B:$CE,ROW(),1),\" — [b]\")&IF(QNO=1,CONCATENATE(INDEX($B:$CE,ROW(),QNO*4+2),\"[/b] pts\"),CONCATENATE(INDEX($B:$CE,ROW(),QNO*4-2),\" + \",IF(INDEX($B:$CE,ROW(),QNO*4)=\"XX\",INDEX(Answers!$A:$ZZ,2,QNO*4),INDEX($B:$CE,ROW(),QNO*4)),\" = \",INDEX($B:$CE,ROW(),QNO*4+2),\"[/b] pts \",IF(INDEX($C:$CE,ROW(),QNO*4)>0,\"(penalty: +\"&INDEX($C:$CE,ROW(),QNO*4)&\") \",IF(INDEX($C:$CE,ROW(),QNO*4)<0,\"(bonus: \"&INDEX($C:$CE,ROW(),QNO*4)&\") \",\"\"))&\"[[b]\"&IF(CN74>0,\"[color=#00BF00]↑\"&CN74,IF(CN74<0,\"[color=#FF0000]↓\"&ABS(CN74),\"[color=#0000FF]unch\"))&\"[/b][/color]]\")))","v":"1.  — [b][/b] pts"},1,0]
["[*]",{"$f":"IF(Mainframe!B74=\"\",\"\",INDEX(Mainframe!$B:$B,C75+1,1))","v":""},73,{"$f":"IF($B75=\"\",\"\",UPPER(Mainframe!C74))","v":""},{"$f":"IF(D75=\"\",\"\",IF(NOT(ISNA(VLOOKUP(D75,Answers!A:D,4,FALSE))),VLOOKUP(D75,Answers!A:D,4,FALSE),\"Help!\"))","v":""},null,{"$f":"IF(E75=\"\",\"\",IF(E75=\"XX\",VLOOKUP(\"WRONG\",Answers!A:D,4,FALSE),E75)+F75)","v":""},{"$f":"IF($B75=\"\",\"\",UPPER(Mainframe!D74))","v":""},{"$f":"IF(H75=\"\",\"\",IF(NOT(ISNA(VLOOKUP(H75,Answers!E:H,4,FALSE))),VLOOKUP(H75,Answers!E:H,4,FALSE),\"Help!\"))","v":""},null,{"$f":"IF(I75=\"\",\"\",G75+IF(I75=\"XX\",VLOOKUP(\"WRONG\",Answers!E:H,4,FALSE),I75)+J75)","v":""},{"$f":"IF($B75=\"\",\"\",UPPER(Mainframe!E74))","v":""},{"$f":"IF(L75=\"\",\"\",IF(NOT(ISNA(VLOOKUP(L75,Answers!I:L,4,FALSE))),VLOOKUP(L75,Answers!I:L,4,FALSE),\"Help!\"))","v":""},null,{"$f":"IF(M75=\"\",\"\",K75+IF(M75=\"XX\",VLOOKUP(\"WRONG\",Answers!I:L,4,FALSE),M75)+N75)","v":""},{"$f":"IF($B75=\"\",\"\",UPPER(Mainframe!F74))","v":""},{"$f":"IF(P75=\"\",\"\",IF(NOT(ISNA(VLOOKUP(P75,Answers!M:P,4,FALSE))),VLOOKUP(P75,Answers!M:P,4,FALSE),\"Help!\"))","v":""},null,{"$f":"IF(Q75=\"\",\"\",O75+IF(Q75=\"XX\",VLOOKUP(\"WRONG\",Answers!M:P,4,FALSE),Q75)+R75)","v":""},{"$f":"IF($B75=\"\",\"\",UPPER(Mainframe!G74))","v":""},{"$f":"IF(T75=\"\",\"\",IF(NOT(ISNA(VLOOKUP(T75,Answers!Q:T,4,FALSE))),VLOOKUP(T75,Answers!Q:T,4,FALSE),\"Help!\"))","v":""},null,{"$f":"IF(U75=\"\",\"\",S75+IF(U75=\"XX\",VLOOKUP(\"WRONG\",Answers!Q:T,4,FALSE),U75)+V75)","v":""},{"$f":"IF($B75=\"\",\"\",UPPER(Mainframe!H74))","v":""},{"$f":"IF(X75=\"\",\"\",IF(NOT(ISNA(VLOOKUP(X75,Answers!U:X,4,FALSE))),VLOOKUP(X75,Answers!U:X,4,FALSE),\"Help!\"))","v":""},null,{"$f":"IF(Y75=\"\",\"\",W75+IF(Y75=\"XX\",VLOOKUP(\"WRONG\",Answers!U:X,4,FALSE),Y75)+Z75)","v":""},{"$f":"IF($B75=\"\",\"\",UPPER(Mainframe!I74))","v":""},{"$f":"IF(AB75=\"\",\"\",IF(NOT(ISNA(VLOOKUP(AB75,Answers!Y:AB,4,FALSE))),VLOOKUP(AB75,Answers!Y:AB,4,FALSE),\"Help!\"))","v":""},null,{"$f":"IF(AC75=\"\",\"\",AA75+IF(AC75=\"XX\",VLOOKUP(\"WRONG\",Answers!Y:AB,4,FALSE),AC75)+AD75)","v":""},{"$f":"IF($B75=\"\",\"\",UPPER(Mainframe!J74))","v":""},{"$f":"IF(AF75=\"\",\"\",IF(NOT(ISNA(VLOOKUP(AF75,Answers!AC:AF,4,FALSE))),VLOOKUP(AF75,Answers!AC:AF,4,FALSE),\"Help!\"))","v":""},null,{"$f":"IF(AG75=\"\",\"\",AE75+IF(AG75=\"XX\",VLOOKUP(\"WRONG\",Answers!AC:AF,4,FALSE),AG75)+AH75)","v":""},{"$f":"IF($B75=\"\",\"\",UPPER(Mainframe!K74))","v":""},{"$f":"IF(AJ75=\"\",\"\",IF(NOT(ISNA(VLOOKUP(AJ75,Answers!AG:AJ,4,FALSE))),VLOOKUP(AJ75,Answers!AG:AJ,4,FALSE),\"Help!\"))","v":""},null,{"$f":"IF(AK75=\"\",\"\",AI75+IF(AK75=\"XX\",VLOOKUP(\"WRONG\",Answers!AG:AJ,4,FALSE),AK75)+AL75)","v":""},{"$f":"IF($B75=\"\",\"\",UPPER(Mainframe!L74))","v":""},{"$f":"IF(AN75=\"\",\"\",IF(NOT(ISNA(VLOOKUP(AN75,Answers!AK:AN,4,FALSE))),VLOOKUP(AN75,Answers!AK:AN,4,FALSE),\"Help!\"))","v":""},null,{"$f":"IF(AO75=\"\",\"\",AM75+IF(AO75=\"XX\",VLOOKUP(\"WRONG\",Answers!AK:AN,4,FALSE),AO75)+AP75)","v":""},{"$f":"IF($B75=\"\",\"\",UPPER(Mainframe!M74))","v":""},{"$f":"IF(AR75=\"\",\"\",IF(NOT(ISNA(VLOOKUP(AR75,Answers!AO:AR,4,FALSE))),VLOOKUP(AR75,Answers!AO:AR,4,FALSE),\"Help!\"))","v":""},null,{"$f":"IF(AS75=\"\",\"\",AQ75+IF(AS75=\"XX\",VLOOKUP(\"WRONG\",Answers!AO:AR,4,FALSE),AS75)+AT75)","v":""},{"$f":"IF($B75=\"\",\"\",UPPER(Mainframe!N74))","v":""},{"$f":"IF(AV75=\"\",\"\",IF(NOT(ISNA(VLOOKUP(AV75,Answers!AS:AV,4,FALSE))),VLOOKUP(AV75,Answers!AS:AV,4,FALSE),\"Help!\"))","v":""},null,{"$f":"IF(AW75=\"\",\"\",AU75+IF(AW75=\"XX\",VLOOKUP(\"WRONG\",Answers!AS:AV,4,FALSE),AW75)+AX75)","v":""},{"$f":"IF($B75=\"\",\"\",UPPER(Mainframe!O74))","v":""},{"$f":"IF(AZ75=\"\",\"\",IF(NOT(ISNA(VLOOKUP(AZ75,Answers!AW:AZ,4,FALSE))),VLOOKUP(AZ75,Answers!AW:AZ,4,FALSE),\"Help!\"))","v":""},null,{"$f":"IF(BA75=\"\",\"\",AY75+IF(BA75=\"XX\",VLOOKUP(\"WRONG\",Answers!AW:AZ,4,FALSE),BA75)+BB75)","v":""},{"$f":"IF($B75=\"\",\"\",UPPER(Mainframe!P74))","v":""},{"$f":"IF(BD75=\"\",\"\",IF(NOT(ISNA(VLOOKUP(BD75,Answers!BA:BD,4,FALSE))),VLOOKUP(BD75,Answers!BA:BD,4,FALSE),\"Help!\"))","v":""},null,{"$f":"IF(BE75=\"\",\"\",BC75+IF(BE75=\"XX\",VLOOKUP(\"WRONG\",Answers!BA:BD,4,FALSE),BE75)+BF75)","v":""},{"$f":"IF($B75=\"\",\"\",UPPER(Mainframe!Q74))","v":""},{"$f":"IF(BH75=\"\",\"\",IF(NOT(ISNA(VLOOKUP(BH75,Answers!BE:BH,4,FALSE))),VLOOKUP(BH75,Answers!BE:BH,4,FALSE),\"Help!\"))","v":""},null,{"$f":"IF(BI75=\"\",\"\",BG75+IF(BI75=\"XX\",VLOOKUP(\"WRONG\",Answers!BE:BH,4,FALSE),BI75)+BJ75)","v":""},{"$f":"IF($B75=\"\",\"\",UPPER(Mainframe!R74))","v":""},{"$f":"IF(BL75=\"\",\"\",IF(NOT(ISNA(VLOOKUP(BL75,Answers!BI:BL,4,FALSE))),VLOOKUP(BL75,Answers!BI:BL,4,FALSE),\"Help!\"))","v":""},null,{"$f":"IF(BM75=\"\",\"\",BK75+IF(BM75=\"XX\",VLOOKUP(\"WRONG\",Answers!BI:BL,4,FALSE),BM75)+BN75)","v":""},{"$f":"IF($B75=\"\",\"\",UPPER(Mainframe!S74))","v":""},{"$f":"IF(BP75=\"\",\"\",IF(NOT(ISNA(VLOOKUP(BP75,Answers!BM:BP,4,FALSE))),VLOOKUP(BP75,Answers!BM:BP,4,FALSE),\"Help!\"))","v":""},null,{"$f":"IF(BQ75=\"\",\"\",BO75+IF(BQ75=\"XX\",VLOOKUP(\"WRONG\",Answers!BM:BP,4,FALSE),BQ75)+BR75)","v":""},{"$f":"IF($B75=\"\",\"\",UPPER(Mainframe!T74))","v":""},{"$f":"IF(BT75=\"\",\"\",IF(NOT(ISNA(VLOOKUP(BT75,Answers!BQ:BT,4,FALSE))),VLOOKUP(BT75,Answers!BQ:BT,4,FALSE),\"Help!\"))","v":""},null,{"$f":"IF(BU75=\"\",\"\",BS75+IF(BU75=\"XX\",VLOOKUP(\"WRONG\",Answers!BQ:BT,4,FALSE),BU75)+BV75)","v":""},{"$f":"IF($B75=\"\",\"\",UPPER(Mainframe!U74))","v":""},{"$f":"IF(BX75=\"\",\"\",IF(NOT(ISNA(VLOOKUP(BX75,Answers!BU:BX,4,FALSE))),VLOOKUP(BX75,Answers!BU:BX,4,FALSE),\"Help!\"))","v":""},null,{"$f":"IF(BY75=\"\",\"\",BW75+IF(BY75=\"XX\",VLOOKUP(\"WRONG\",Answers!BU:BX,4,FALSE),BY75)+BZ75)","v":""},{"$f":"IF($B75=\"\",\"\",UPPER(Mainframe!V74))","v":""},{"$f":"IF(CB75=\"\",\"\",IF(NOT(ISNA(VLOOKUP(CB75,Answers!BY:CB,4,FALSE))),VLOOKUP(CB75,Answers!BY:CB,4,FALSE),\"Help!\"))","v":""},null,{"$f":"IF(CC75=\"\",\"\",CA75+IF(CC75=\"XX\",VLOOKUP(\"WRONG\",Answers!BY:CB,4,FALSE),CC75)+CD75)","v":""},null,null,1,{"$f":"IF(INDEX($B:$CE,ROW(),QNO*4-1)=DROPNAME,DROPNAME,IF(INDEX($B:$CE,ROW(),QNO*4-1)=SHEEPNAME,SHEEPNAME,IF(INDEX($B:$CE,ROW(),QNO*4)=\"XX\",INDEX($B:$CE,ROW(),QNO*4-1),INDEX(OFFSET(Answers!B:B,0,(QNO-1)*4),MATCH(INDEX($A:$CB,ROW(),QNO*4),OFFSET(Answers!A:A,0,(QNO-1)*4),0))&\" — \"&IF(INDEX($B:$CE,ROW(),QNO*4)=1,\"[b]Singleton![/b]\",CONCATENATE(INDEX($B:$CE,ROW(),QNO*4),\" responses\")))))","v":{"$error":"#N/A"}},"////////////////////////////////////////////////////////////////////////////////////////////////////////////////","No",{"$f":"IF(B75=0,\"\",CONCATENATE(INDEX($CH:$CL,ROW(),1),\". \",INDEX($B:$CE,ROW(),1),\" — [b]\")&IF(QNO=1,CONCATENATE(INDEX($B:$CE,ROW(),QNO*4+2),\"[/b] pts\"),CONCATENATE(INDEX($B:$CE,ROW(),QNO*4-2),\" + \",IF(INDEX($B:$CE,ROW(),QNO*4)=\"XX\",INDEX(Answers!$A:$ZZ,2,QNO*4),INDEX($B:$CE,ROW(),QNO*4)),\" = \",INDEX($B:$CE,ROW(),QNO*4+2),\"[/b] pts \",IF(INDEX($C:$CE,ROW(),QNO*4)>0,\"(penalty: +\"&INDEX($C:$CE,ROW(),QNO*4)&\") \",IF(INDEX($C:$CE,ROW(),QNO*4)<0,\"(bonus: \"&INDEX($C:$CE,ROW(),QNO*4)&\") \",\"\"))&\"[[b]\"&IF(CN75>0,\"[color=#00BF00]↑\"&CN75,IF(CN75<0,\"[color=#FF0000]↓\"&ABS(CN75),\"[color=#0000FF]unch\"))&\"[/b][/color]]\")))","v":"1.  — [b][/b] pts"},1,0]
["[*]",{"$f":"IF(Mainframe!B75=\"\",\"\",INDEX(Mainframe!$B:$B,C76+1,1))","v":""},74,{"$f":"IF($B76=\"\",\"\",UPPER(Mainframe!C75))","v":""},{"$f":"IF(D76=\"\",\"\",IF(NOT(ISNA(VLOOKUP(D76,Answers!A:D,4,FALSE))),VLOOKUP(D76,Answers!A:D,4,FALSE),\"Help!\"))","v":""},null,{"$f":"IF(E76=\"\",\"\",IF(E76=\"XX\",VLOOKUP(\"WRONG\",Answers!A:D,4,FALSE),E76)+F76)","v":""},{"$f":"IF($B76=\"\",\"\",UPPER(Mainframe!D75))","v":""},{"$f":"IF(H76=\"\",\"\",IF(NOT(ISNA(VLOOKUP(H76,Answers!E:H,4,FALSE))),VLOOKUP(H76,Answers!E:H,4,FALSE),\"Help!\"))","v":""},null,{"$f":"IF(I76=\"\",\"\",G76+IF(I76=\"XX\",VLOOKUP(\"WRONG\",Answers!E:H,4,FALSE),I76)+J76)","v":""},{"$f":"IF($B76=\"\",\"\",UPPER(Mainframe!E75))","v":""},{"$f":"IF(L76=\"\",\"\",IF(NOT(ISNA(VLOOKUP(L76,Answers!I:L,4,FALSE))),VLOOKUP(L76,Answers!I:L,4,FALSE),\"Help!\"))","v":""},null,{"$f":"IF(M76=\"\",\"\",K76+IF(M76=\"XX\",VLOOKUP(\"WRONG\",Answers!I:L,4,FALSE),M76)+N76)","v":""},{"$f":"IF($B76=\"\",\"\",UPPER(Mainframe!F75))","v":""},{"$f":"IF(P76=\"\",\"\",IF(NOT(ISNA(VLOOKUP(P76,Answers!M:P,4,FALSE))),VLOOKUP(P76,Answers!M:P,4,FALSE),\"Help!\"))","v":""},null,{"$f":"IF(Q76=\"\",\"\",O76+IF(Q76=\"XX\",VLOOKUP(\"WRONG\",Answers!M:P,4,FALSE),Q76)+R76)","v":""},{"$f":"IF($B76=\"\",\"\",UPPER(Mainframe!G75))","v":""},{"$f":"IF(T76=\"\",\"\",IF(NOT(ISNA(VLOOKUP(T76,Answers!Q:T,4,FALSE))),VLOOKUP(T76,Answers!Q:T,4,FALSE),\"Help!\"))","v":""},null,{"$f":"IF(U76=\"\",\"\",S76+IF(U76=\"XX\",VLOOKUP(\"WRONG\",Answers!Q:T,4,FALSE),U76)+V76)","v":""},{"$f":"IF($B76=\"\",\"\",UPPER(Mainframe!H75))","v":""},{"$f":"IF(X76=\"\",\"\",IF(NOT(ISNA(VLOOKUP(X76,Answers!U:X,4,FALSE))),VLOOKUP(X76,Answers!U:X,4,FALSE),\"Help!\"))","v":""},null,{"$f":"IF(Y76=\"\",\"\",W76+IF(Y76=\"XX\",VLOOKUP(\"WRONG\",Answers!U:X,4,FALSE),Y76)+Z76)","v":""},{"$f":"IF($B76=\"\",\"\",UPPER(Mainframe!I75))","v":""},{"$f":"IF(AB76=\"\",\"\",IF(NOT(ISNA(VLOOKUP(AB76,Answers!Y:AB,4,FALSE))),VLOOKUP(AB76,Answers!Y:AB,4,FALSE),\"Help!\"))","v":""},null,{"$f":"IF(AC76=\"\",\"\",AA76+IF(AC76=\"XX\",VLOOKUP(\"WRONG\",Answers!Y:AB,4,FALSE),AC76)+AD76)","v":""},{"$f":"IF($B76=\"\",\"\",UPPER(Mainframe!J75))","v":""},{"$f":"IF(AF76=\"\",\"\",IF(NOT(ISNA(VLOOKUP(AF76,Answers!AC:AF,4,FALSE))),VLOOKUP(AF76,Answers!AC:AF,4,FALSE),\"Help!\"))","v":""},null,{"$f":"IF(AG76=\"\",\"\",AE76+IF(AG76=\"XX\",VLOOKUP(\"WRONG\",Answers!AC:AF,4,FALSE),AG76)+AH76)","v":""},{"$f":"IF($B76=\"\",\"\",UPPER(Mainframe!K75))","v":""},{"$f":"IF(AJ76=\"\",\"\",IF(NOT(ISNA(VLOOKUP(AJ76,Answers!AG:AJ,4,FALSE))),VLOOKUP(AJ76,Answers!AG:AJ,4,FALSE),\"Help!\"))","v":""},null,{"$f":"IF(AK76=\"\",\"\",AI76+IF(AK76=\"XX\",VLOOKUP(\"WRONG\",Answers!AG:AJ,4,FALSE),AK76)+AL76)","v":""},{"$f":"IF($B76=\"\",\"\",UPPER(Mainframe!L75))","v":""},{"$f":"IF(AN76=\"\",\"\",IF(NOT(ISNA(VLOOKUP(AN76,Answers!AK:AN,4,FALSE))),VLOOKUP(AN76,Answers!AK:AN,4,FALSE),\"Help!\"))","v":""},null,{"$f":"IF(AO76=\"\",\"\",AM76+IF(AO76=\"XX\",VLOOKUP(\"WRONG\",Answers!AK:AN,4,FALSE),AO76)+AP76)","v":""},{"$f":"IF($B76=\"\",\"\",UPPER(Mainframe!M75))","v":""},{"$f":"IF(AR76=\"\",\"\",IF(NOT(ISNA(VLOOKUP(AR76,Answers!AO:AR,4,FALSE))),VLOOKUP(AR76,Answers!AO:AR,4,FALSE),\"Help!\"))","v":""},null,{"$f":"IF(AS76=\"\",\"\",AQ76+IF(AS76=\"XX\",VLOOKUP(\"WRONG\",Answers!AO:AR,4,FALSE),AS76)+AT76)","v":""},{"$f":"IF($B76=\"\",\"\",UPPER(Mainframe!N75))","v":""},{"$f":"IF(AV76=\"\",\"\",IF(NOT(ISNA(VLOOKUP(AV76,Answers!AS:AV,4,FALSE))),VLOOKUP(AV76,Answers!AS:AV,4,FALSE),\"Help!\"))","v":""},null,{"$f":"IF(AW76=\"\",\"\",AU76+IF(AW76=\"XX\",VLOOKUP(\"WRONG\",Answers!AS:AV,4,FALSE),AW76)+AX76)","v":""},{"$f":"IF($B76=\"\",\"\",UPPER(Mainframe!O75))","v":""},{"$f":"IF(AZ76=\"\",\"\",IF(NOT(ISNA(VLOOKUP(AZ76,Answers!AW:AZ,4,FALSE))),VLOOKUP(AZ76,Answers!AW:AZ,4,FALSE),\"Help!\"))","v":""},null,{"$f":"IF(BA76=\"\",\"\",AY76+IF(BA76=\"XX\",VLOOKUP(\"WRONG\",Answers!AW:AZ,4,FALSE),BA76)+BB76)","v":""},{"$f":"IF($B76=\"\",\"\",UPPER(Mainframe!P75))","v":""},{"$f":"IF(BD76=\"\",\"\",IF(NOT(ISNA(VLOOKUP(BD76,Answers!BA:BD,4,FALSE))),VLOOKUP(BD76,Answers!BA:BD,4,FALSE),\"Help!\"))","v":""},null,{"$f":"IF(BE76=\"\",\"\",BC76+IF(BE76=\"XX\",VLOOKUP(\"WRONG\",Answers!BA:BD,4,FALSE),BE76)+BF76)","v":""},{"$f":"IF($B76=\"\",\"\",UPPER(Mainframe!Q75))","v":""},{"$f":"IF(BH76=\"\",\"\",IF(NOT(ISNA(VLOOKUP(BH76,Answers!BE:BH,4,FALSE))),VLOOKUP(BH76,Answers!BE:BH,4,FALSE),\"Help!\"))","v":""},null,{"$f":"IF(BI76=\"\",\"\",BG76+IF(BI76=\"XX\",VLOOKUP(\"WRONG\",Answers!BE:BH,4,FALSE),BI76)+BJ76)","v":""},{"$f":"IF($B76=\"\",\"\",UPPER(Mainframe!R75))","v":""},{"$f":"IF(BL76=\"\",\"\",IF(NOT(ISNA(VLOOKUP(BL76,Answers!BI:BL,4,FALSE))),VLOOKUP(BL76,Answers!BI:BL,4,FALSE),\"Help!\"))","v":""},null,{"$f":"IF(BM76=\"\",\"\",BK76+IF(BM76=\"XX\",VLOOKUP(\"WRONG\",Answers!BI:BL,4,FALSE),BM76)+BN76)","v":""},{"$f":"IF($B76=\"\",\"\",UPPER(Mainframe!S75))","v":""},{"$f":"IF(BP76=\"\",\"\",IF(NOT(ISNA(VLOOKUP(BP76,Answers!BM:BP,4,FALSE))),VLOOKUP(BP76,Answers!BM:BP,4,FALSE),\"Help!\"))","v":""},null,{"$f":"IF(BQ76=\"\",\"\",BO76+IF(BQ76=\"XX\",VLOOKUP(\"WRONG\",Answers!BM:BP,4,FALSE),BQ76)+BR76)","v":""},{"$f":"IF($B76=\"\",\"\",UPPER(Mainframe!T75))","v":""},{"$f":"IF(BT76=\"\",\"\",IF(NOT(ISNA(VLOOKUP(BT76,Answers!BQ:BT,4,FALSE))),VLOOKUP(BT76,Answers!BQ:BT,4,FALSE),\"Help!\"))","v":""},null,{"$f":"IF(BU76=\"\",\"\",BS76+IF(BU76=\"XX\",VLOOKUP(\"WRONG\",Answers!BQ:BT,4,FALSE),BU76)+BV76)","v":""},{"$f":"IF($B76=\"\",\"\",UPPER(Mainframe!U75))","v":""},{"$f":"IF(BX76=\"\",\"\",IF(NOT(ISNA(VLOOKUP(BX76,Answers!BU:BX,4,FALSE))),VLOOKUP(BX76,Answers!BU:BX,4,FALSE),\"Help!\"))","v":""},null,{"$f":"IF(BY76=\"\",\"\",BW76+IF(BY76=\"XX\",VLOOKUP(\"WRONG\",Answers!BU:BX,4,FALSE),BY76)+BZ76)","v":""},{"$f":"IF($B76=\"\",\"\",UPPER(Mainframe!V75))","v":""},{"$f":"IF(CB76=\"\",\"\",IF(NOT(ISNA(VLOOKUP(CB76,Answers!BY:CB,4,FALSE))),VLOOKUP(CB76,Answers!BY:CB,4,FALSE),\"Help!\"))","v":""},null,{"$f":"IF(CC76=\"\",\"\",CA76+IF(CC76=\"XX\",VLOOKUP(\"WRONG\",Answers!BY:CB,4,FALSE),CC76)+CD76)","v":""},null,null,1,{"$f":"IF(INDEX($B:$CE,ROW(),QNO*4-1)=DROPNAME,DROPNAME,IF(INDEX($B:$CE,ROW(),QNO*4-1)=SHEEPNAME,SHEEPNAME,IF(INDEX($B:$CE,ROW(),QNO*4)=\"XX\",INDEX($B:$CE,ROW(),QNO*4-1),INDEX(OFFSET(Answers!B:B,0,(QNO-1)*4),MATCH(INDEX($A:$CB,ROW(),QNO*4),OFFSET(Answers!A:A,0,(QNO-1)*4),0))&\" — \"&IF(INDEX($B:$CE,ROW(),QNO*4)=1,\"[b]Singleton![/b]\",CONCATENATE(INDEX($B:$CE,ROW(),QNO*4),\" responses\")))))","v":{"$error":"#N/A"}},"//////////////////////////////////////////////////////////////////////////////////////////////////////////////","No",{"$f":"IF(B76=0,\"\",CONCATENATE(INDEX($CH:$CL,ROW(),1),\". \",INDEX($B:$CE,ROW(),1),\" — [b]\")&IF(QNO=1,CONCATENATE(INDEX($B:$CE,ROW(),QNO*4+2),\"[/b] pts\"),CONCATENATE(INDEX($B:$CE,ROW(),QNO*4-2),\" + \",IF(INDEX($B:$CE,ROW(),QNO*4)=\"XX\",INDEX(Answers!$A:$ZZ,2,QNO*4),INDEX($B:$CE,ROW(),QNO*4)),\" = \",INDEX($B:$CE,ROW(),QNO*4+2),\"[/b] pts \",IF(INDEX($C:$CE,ROW(),QNO*4)>0,\"(penalty: +\"&INDEX($C:$CE,ROW(),QNO*4)&\") \",IF(INDEX($C:$CE,ROW(),QNO*4)<0,\"(bonus: \"&INDEX($C:$CE,ROW(),QNO*4)&\") \",\"\"))&\"[[b]\"&IF(CN76>0,\"[color=#00BF00]↑\"&CN76,IF(CN76<0,\"[color=#FF0000]↓\"&ABS(CN76),\"[color=#0000FF]unch\"))&\"[/b][/color]]\")))","v":"1.  — [b][/b] pts"},1,0]
["[*]",{"$f":"IF(Mainframe!B76=\"\",\"\",INDEX(Mainframe!$B:$B,C77+1,1))","v":""},75,{"$f":"IF($B77=\"\",\"\",UPPER(Mainframe!C76))","v":""},{"$f":"IF(D77=\"\",\"\",IF(NOT(ISNA(VLOOKUP(D77,Answers!A:D,4,FALSE))),VLOOKUP(D77,Answers!A:D,4,FALSE),\"Help!\"))","v":""},null,{"$f":"IF(E77=\"\",\"\",IF(E77=\"XX\",VLOOKUP(\"WRONG\",Answers!A:D,4,FALSE),E77)+F77)","v":""},{"$f":"IF($B77=\"\",\"\",UPPER(Mainframe!D76))","v":""},{"$f":"IF(H77=\"\",\"\",IF(NOT(ISNA(VLOOKUP(H77,Answers!E:H,4,FALSE))),VLOOKUP(H77,Answers!E:H,4,FALSE),\"Help!\"))","v":""},null,{"$f":"IF(I77=\"\",\"\",G77+IF(I77=\"XX\",VLOOKUP(\"WRONG\",Answers!E:H,4,FALSE),I77)+J77)","v":""},{"$f":"IF($B77=\"\",\"\",UPPER(Mainframe!E76))","v":""},{"$f":"IF(L77=\"\",\"\",IF(NOT(ISNA(VLOOKUP(L77,Answers!I:L,4,FALSE))),VLOOKUP(L77,Answers!I:L,4,FALSE),\"Help!\"))","v":""},null,{"$f":"IF(M77=\"\",\"\",K77+IF(M77=\"XX\",VLOOKUP(\"WRONG\",Answers!I:L,4,FALSE),M77)+N77)","v":""},{"$f":"IF($B77=\"\",\"\",UPPER(Mainframe!F76))","v":""},{"$f":"IF(P77=\"\",\"\",IF(NOT(ISNA(VLOOKUP(P77,Answers!M:P,4,FALSE))),VLOOKUP(P77,Answers!M:P,4,FALSE),\"Help!\"))","v":""},null,{"$f":"IF(Q77=\"\",\"\",O77+IF(Q77=\"XX\",VLOOKUP(\"WRONG\",Answers!M:P,4,FALSE),Q77)+R77)","v":""},{"$f":"IF($B77=\"\",\"\",UPPER(Mainframe!G76))","v":""},{"$f":"IF(T77=\"\",\"\",IF(NOT(ISNA(VLOOKUP(T77,Answers!Q:T,4,FALSE))),VLOOKUP(T77,Answers!Q:T,4,FALSE),\"Help!\"))","v":""},null,{"$f":"IF(U77=\"\",\"\",S77+IF(U77=\"XX\",VLOOKUP(\"WRONG\",Answers!Q:T,4,FALSE),U77)+V77)","v":""},{"$f":"IF($B77=\"\",\"\",UPPER(Mainframe!H76))","v":""},{"$f":"IF(X77=\"\",\"\",IF(NOT(ISNA(VLOOKUP(X77,Answers!U:X,4,FALSE))),VLOOKUP(X77,Answers!U:X,4,FALSE),\"Help!\"))","v":""},null,{"$f":"IF(Y77=\"\",\"\",W77+IF(Y77=\"XX\",VLOOKUP(\"WRONG\",Answers!U:X,4,FALSE),Y77)+Z77)","v":""},{"$f":"IF($B77=\"\",\"\",UPPER(Mainframe!I76))","v":""},{"$f":"IF(AB77=\"\",\"\",IF(NOT(ISNA(VLOOKUP(AB77,Answers!Y:AB,4,FALSE))),VLOOKUP(AB77,Answers!Y:AB,4,FALSE),\"Help!\"))","v":""},null,{"$f":"IF(AC77=\"\",\"\",AA77+IF(AC77=\"XX\",VLOOKUP(\"WRONG\",Answers!Y:AB,4,FALSE),AC77)+AD77)","v":""},{"$f":"IF($B77=\"\",\"\",UPPER(Mainframe!J76))","v":""},{"$f":"IF(AF77=\"\",\"\",IF(NOT(ISNA(VLOOKUP(AF77,Answers!AC:AF,4,FALSE))),VLOOKUP(AF77,Answers!AC:AF,4,FALSE),\"Help!\"))","v":""},null,{"$f":"IF(AG77=\"\",\"\",AE77+IF(AG77=\"XX\",VLOOKUP(\"WRONG\",Answers!AC:AF,4,FALSE),AG77)+AH77)","v":""},{"$f":"IF($B77=\"\",\"\",UPPER(Mainframe!K76))","v":""},{"$f":"IF(AJ77=\"\",\"\",IF(NOT(ISNA(VLOOKUP(AJ77,Answers!AG:AJ,4,FALSE))),VLOOKUP(AJ77,Answers!AG:AJ,4,FALSE),\"Help!\"))","v":""},null,{"$f":"IF(AK77=\"\",\"\",AI77+IF(AK77=\"XX\",VLOOKUP(\"WRONG\",Answers!AG:AJ,4,FALSE),AK77)+AL77)","v":""},{"$f":"IF($B77=\"\",\"\",UPPER(Mainframe!L76))","v":""},{"$f":"IF(AN77=\"\",\"\",IF(NOT(ISNA(VLOOKUP(AN77,Answers!AK:AN,4,FALSE))),VLOOKUP(AN77,Answers!AK:AN,4,FALSE),\"Help!\"))","v":""},null,{"$f":"IF(AO77=\"\",\"\",AM77+IF(AO77=\"XX\",VLOOKUP(\"WRONG\",Answers!AK:AN,4,FALSE),AO77)+AP77)","v":""},{"$f":"IF($B77=\"\",\"\",UPPER(Mainframe!M76))","v":""},{"$f":"IF(AR77=\"\",\"\",IF(NOT(ISNA(VLOOKUP(AR77,Answers!AO:AR,4,FALSE))),VLOOKUP(AR77,Answers!AO:AR,4,FALSE),\"Help!\"))","v":""},null,{"$f":"IF(AS77=\"\",\"\",AQ77+IF(AS77=\"XX\",VLOOKUP(\"WRONG\",Answers!AO:AR,4,FALSE),AS77)+AT77)","v":""},{"$f":"IF($B77=\"\",\"\",UPPER(Mainframe!N76))","v":""},{"$f":"IF(AV77=\"\",\"\",IF(NOT(ISNA(VLOOKUP(AV77,Answers!AS:AV,4,FALSE))),VLOOKUP(AV77,Answers!AS:AV,4,FALSE),\"Help!\"))","v":""},null,{"$f":"IF(AW77=\"\",\"\",AU77+IF(AW77=\"XX\",VLOOKUP(\"WRONG\",Answers!AS:AV,4,FALSE),AW77)+AX77)","v":""},{"$f":"IF($B77=\"\",\"\",UPPER(Mainframe!O76))","v":""},{"$f":"IF(AZ77=\"\",\"\",IF(NOT(ISNA(VLOOKUP(AZ77,Answers!AW:AZ,4,FALSE))),VLOOKUP(AZ77,Answers!AW:AZ,4,FALSE),\"Help!\"))","v":""},null,{"$f":"IF(BA77=\"\",\"\",AY77+IF(BA77=\"XX\",VLOOKUP(\"WRONG\",Answers!AW:AZ,4,FALSE),BA77)+BB77)","v":""},{"$f":"IF($B77=\"\",\"\",UPPER(Mainframe!P76))","v":""},{"$f":"IF(BD77=\"\",\"\",IF(NOT(ISNA(VLOOKUP(BD77,Answers!BA:BD,4,FALSE))),VLOOKUP(BD77,Answers!BA:BD,4,FALSE),\"Help!\"))","v":""},null,{"$f":"IF(BE77=\"\",\"\",BC77+IF(BE77=\"XX\",VLOOKUP(\"WRONG\",Answers!BA:BD,4,FALSE),BE77)+BF77)","v":""},{"$f":"IF($B77=\"\",\"\",UPPER(Mainframe!Q76))","v":""},{"$f":"IF(BH77=\"\",\"\",IF(NOT(ISNA(VLOOKUP(BH77,Answers!BE:BH,4,FALSE))),VLOOKUP(BH77,Answers!BE:BH,4,FALSE),\"Help!\"))","v":""},null,{"$f":"IF(BI77=\"\",\"\",BG77+IF(BI77=\"XX\",VLOOKUP(\"WRONG\",Answers!BE:BH,4,FALSE),BI77)+BJ77)","v":""},{"$f":"IF($B77=\"\",\"\",UPPER(Mainframe!R76))","v":""},{"$f":"IF(BL77=\"\",\"\",IF(NOT(ISNA(VLOOKUP(BL77,Answers!BI:BL,4,FALSE))),VLOOKUP(BL77,Answers!BI:BL,4,FALSE),\"Help!\"))","v":""},null,{"$f":"IF(BM77=\"\",\"\",BK77+IF(BM77=\"XX\",VLOOKUP(\"WRONG\",Answers!BI:BL,4,FALSE),BM77)+BN77)","v":""},{"$f":"IF($B77=\"\",\"\",UPPER(Mainframe!S76))","v":""},{"$f":"IF(BP77=\"\",\"\",IF(NOT(ISNA(VLOOKUP(BP77,Answers!BM:BP,4,FALSE))),VLOOKUP(BP77,Answers!BM:BP,4,FALSE),\"Help!\"))","v":""},null,{"$f":"IF(BQ77=\"\",\"\",BO77+IF(BQ77=\"XX\",VLOOKUP(\"WRONG\",Answers!BM:BP,4,FALSE),BQ77)+BR77)","v":""},{"$f":"IF($B77=\"\",\"\",UPPER(Mainframe!T76))","v":""},{"$f":"IF(BT77=\"\",\"\",IF(NOT(ISNA(VLOOKUP(BT77,Answers!BQ:BT,4,FALSE))),VLOOKUP(BT77,Answers!BQ:BT,4,FALSE),\"Help!\"))","v":""},null,{"$f":"IF(BU77=\"\",\"\",BS77+IF(BU77=\"XX\",VLOOKUP(\"WRONG\",Answers!BQ:BT,4,FALSE),BU77)+BV77)","v":""},{"$f":"IF($B77=\"\",\"\",UPPER(Mainframe!U76))","v":""},{"$f":"IF(BX77=\"\",\"\",IF(NOT(ISNA(VLOOKUP(BX77,Answers!BU:BX,4,FALSE))),VLOOKUP(BX77,Answers!BU:BX,4,FALSE),\"Help!\"))","v":""},null,{"$f":"IF(BY77=\"\",\"\",BW77+IF(BY77=\"XX\",VLOOKUP(\"WRONG\",Answers!BU:BX,4,FALSE),BY77)+BZ77)","v":""},{"$f":"IF($B77=\"\",\"\",UPPER(Mainframe!V76))","v":""},{"$f":"IF(CB77=\"\",\"\",IF(NOT(ISNA(VLOOKUP(CB77,Answers!BY:CB,4,FALSE))),VLOOKUP(CB77,Answers!BY:CB,4,FALSE),\"Help!\"))","v":""},null,{"$f":"IF(CC77=\"\",\"\",CA77+IF(CC77=\"XX\",VLOOKUP(\"WRONG\",Answers!BY:CB,4,FALSE),CC77)+CD77)","v":""},null,null,1,{"$f":"IF(INDEX($B:$CE,ROW(),QNO*4-1)=DROPNAME,DROPNAME,IF(INDEX($B:$CE,ROW(),QNO*4-1)=SHEEPNAME,SHEEPNAME,IF(INDEX($B:$CE,ROW(),QNO*4)=\"XX\",INDEX($B:$CE,ROW(),QNO*4-1),INDEX(OFFSET(Answers!B:B,0,(QNO-1)*4),MATCH(INDEX($A:$CB,ROW(),QNO*4),OFFSET(Answers!A:A,0,(QNO-1)*4),0))&\" — \"&IF(INDEX($B:$CE,ROW(),QNO*4)=1,\"[b]Singleton![/b]\",CONCATENATE(INDEX($B:$CE,ROW(),QNO*4),\" responses\")))))","v":{"$error":"#N/A"}},"////////////////////////////////////////////////////////////////////////////////////////////////////////////","No",{"$f":"IF(B77=0,\"\",CONCATENATE(INDEX($CH:$CL,ROW(),1),\". \",INDEX($B:$CE,ROW(),1),\" — [b]\")&IF(QNO=1,CONCATENATE(INDEX($B:$CE,ROW(),QNO*4+2),\"[/b] pts\"),CONCATENATE(INDEX($B:$CE,ROW(),QNO*4-2),\" + \",IF(INDEX($B:$CE,ROW(),QNO*4)=\"XX\",INDEX(Answers!$A:$ZZ,2,QNO*4),INDEX($B:$CE,ROW(),QNO*4)),\" = \",INDEX($B:$CE,ROW(),QNO*4+2),\"[/b] pts \",IF(INDEX($C:$CE,ROW(),QNO*4)>0,\"(penalty: +\"&INDEX($C:$CE,ROW(),QNO*4)&\") \",IF(INDEX($C:$CE,ROW(),QNO*4)<0,\"(bonus: \"&INDEX($C:$CE,ROW(),QNO*4)&\") \",\"\"))&\"[[b]\"&IF(CN77>0,\"[color=#00BF00]↑\"&CN77,IF(CN77<0,\"[color=#FF0000]↓\"&ABS(CN77),\"[color=#0000FF]unch\"))&\"[/b][/color]]\")))","v":"1.  — [b][/b] pts"},1,0]
["[*]",{"$f":"IF(Mainframe!B77=\"\",\"\",INDEX(Mainframe!$B:$B,C78+1,1))","v":""},76,{"$f":"IF($B78=\"\",\"\",UPPER(Mainframe!C77))","v":""},{"$f":"IF(D78=\"\",\"\",IF(NOT(ISNA(VLOOKUP(D78,Answers!A:D,4,FALSE))),VLOOKUP(D78,Answers!A:D,4,FALSE),\"Help!\"))","v":""},null,{"$f":"IF(E78=\"\",\"\",IF(E78=\"XX\",VLOOKUP(\"WRONG\",Answers!A:D,4,FALSE),E78)+F78)","v":""},{"$f":"IF($B78=\"\",\"\",UPPER(Mainframe!D77))","v":""},{"$f":"IF(H78=\"\",\"\",IF(NOT(ISNA(VLOOKUP(H78,Answers!E:H,4,FALSE))),VLOOKUP(H78,Answers!E:H,4,FALSE),\"Help!\"))","v":""},null,{"$f":"IF(I78=\"\",\"\",G78+IF(I78=\"XX\",VLOOKUP(\"WRONG\",Answers!E:H,4,FALSE),I78)+J78)","v":""},{"$f":"IF($B78=\"\",\"\",UPPER(Mainframe!E77))","v":""},{"$f":"IF(L78=\"\",\"\",IF(NOT(ISNA(VLOOKUP(L78,Answers!I:L,4,FALSE))),VLOOKUP(L78,Answers!I:L,4,FALSE),\"Help!\"))","v":""},null,{"$f":"IF(M78=\"\",\"\",K78+IF(M78=\"XX\",VLOOKUP(\"WRONG\",Answers!I:L,4,FALSE),M78)+N78)","v":""},{"$f":"IF($B78=\"\",\"\",UPPER(Mainframe!F77))","v":""},{"$f":"IF(P78=\"\",\"\",IF(NOT(ISNA(VLOOKUP(P78,Answers!M:P,4,FALSE))),VLOOKUP(P78,Answers!M:P,4,FALSE),\"Help!\"))","v":""},null,{"$f":"IF(Q78=\"\",\"\",O78+IF(Q78=\"XX\",VLOOKUP(\"WRONG\",Answers!M:P,4,FALSE),Q78)+R78)","v":""},{"$f":"IF($B78=\"\",\"\",UPPER(Mainframe!G77))","v":""},{"$f":"IF(T78=\"\",\"\",IF(NOT(ISNA(VLOOKUP(T78,Answers!Q:T,4,FALSE))),VLOOKUP(T78,Answers!Q:T,4,FALSE),\"Help!\"))","v":""},null,{"$f":"IF(U78=\"\",\"\",S78+IF(U78=\"XX\",VLOOKUP(\"WRONG\",Answers!Q:T,4,FALSE),U78)+V78)","v":""},{"$f":"IF($B78=\"\",\"\",UPPER(Mainframe!H77))","v":""},{"$f":"IF(X78=\"\",\"\",IF(NOT(ISNA(VLOOKUP(X78,Answers!U:X,4,FALSE))),VLOOKUP(X78,Answers!U:X,4,FALSE),\"Help!\"))","v":""},null,{"$f":"IF(Y78=\"\",\"\",W78+IF(Y78=\"XX\",VLOOKUP(\"WRONG\",Answers!U:X,4,FALSE),Y78)+Z78)","v":""},{"$f":"IF($B78=\"\",\"\",UPPER(Mainframe!I77))","v":""},{"$f":"IF(AB78=\"\",\"\",IF(NOT(ISNA(VLOOKUP(AB78,Answers!Y:AB,4,FALSE))),VLOOKUP(AB78,Answers!Y:AB,4,FALSE),\"Help!\"))","v":""},null,{"$f":"IF(AC78=\"\",\"\",AA78+IF(AC78=\"XX\",VLOOKUP(\"WRONG\",Answers!Y:AB,4,FALSE),AC78)+AD78)","v":""},{"$f":"IF($B78=\"\",\"\",UPPER(Mainframe!J77))","v":""},{"$f":"IF(AF78=\"\",\"\",IF(NOT(ISNA(VLOOKUP(AF78,Answers!AC:AF,4,FALSE))),VLOOKUP(AF78,Answers!AC:AF,4,FALSE),\"Help!\"))","v":""},null,{"$f":"IF(AG78=\"\",\"\",AE78+IF(AG78=\"XX\",VLOOKUP(\"WRONG\",Answers!AC:AF,4,FALSE),AG78)+AH78)","v":""},{"$f":"IF($B78=\"\",\"\",UPPER(Mainframe!K77))","v":""},{"$f":"IF(AJ78=\"\",\"\",IF(NOT(ISNA(VLOOKUP(AJ78,Answers!AG:AJ,4,FALSE))),VLOOKUP(AJ78,Answers!AG:AJ,4,FALSE),\"Help!\"))","v":""},null,{"$f":"IF(AK78=\"\",\"\",AI78+IF(AK78=\"XX\",VLOOKUP(\"WRONG\",Answers!AG:AJ,4,FALSE),AK78)+AL78)","v":""},{"$f":"IF($B78=\"\",\"\",UPPER(Mainframe!L77))","v":""},{"$f":"IF(AN78=\"\",\"\",IF(NOT(ISNA(VLOOKUP(AN78,Answers!AK:AN,4,FALSE))),VLOOKUP(AN78,Answers!AK:AN,4,FALSE),\"Help!\"))","v":""},null,{"$f":"IF(AO78=\"\",\"\",AM78+IF(AO78=\"XX\",VLOOKUP(\"WRONG\",Answers!AK:AN,4,FALSE),AO78)+AP78)","v":""},{"$f":"IF($B78=\"\",\"\",UPPER(Mainframe!M77))","v":""},{"$f":"IF(AR78=\"\",\"\",IF(NOT(ISNA(VLOOKUP(AR78,Answers!AO:AR,4,FALSE))),VLOOKUP(AR78,Answers!AO:AR,4,FALSE),\"Help!\"))","v":""},null,{"$f":"IF(AS78=\"\",\"\",AQ78+IF(AS78=\"XX\",VLOOKUP(\"WRONG\",Answers!AO:AR,4,FALSE),AS78)+AT78)","v":""},{"$f":"IF($B78=\"\",\"\",UPPER(Mainframe!N77))","v":""},{"$f":"IF(AV78=\"\",\"\",IF(NOT(ISNA(VLOOKUP(AV78,Answers!AS:AV,4,FALSE))),VLOOKUP(AV78,Answers!AS:AV,4,FALSE),\"Help!\"))","v":""},null,{"$f":"IF(AW78=\"\",\"\",AU78+IF(AW78=\"XX\",VLOOKUP(\"WRONG\",Answers!AS:AV,4,FALSE),AW78)+AX78)","v":""},{"$f":"IF($B78=\"\",\"\",UPPER(Mainframe!O77))","v":""},{"$f":"IF(AZ78=\"\",\"\",IF(NOT(ISNA(VLOOKUP(AZ78,Answers!AW:AZ,4,FALSE))),VLOOKUP(AZ78,Answers!AW:AZ,4,FALSE),\"Help!\"))","v":""},null,{"$f":"IF(BA78=\"\",\"\",AY78+IF(BA78=\"XX\",VLOOKUP(\"WRONG\",Answers!AW:AZ,4,FALSE),BA78)+BB78)","v":""},{"$f":"IF($B78=\"\",\"\",UPPER(Mainframe!P77))","v":""},{"$f":"IF(BD78=\"\",\"\",IF(NOT(ISNA(VLOOKUP(BD78,Answers!BA:BD,4,FALSE))),VLOOKUP(BD78,Answers!BA:BD,4,FALSE),\"Help!\"))","v":""},null,{"$f":"IF(BE78=\"\",\"\",BC78+IF(BE78=\"XX\",VLOOKUP(\"WRONG\",Answers!BA:BD,4,FALSE),BE78)+BF78)","v":""},{"$f":"IF($B78=\"\",\"\",UPPER(Mainframe!Q77))","v":""},{"$f":"IF(BH78=\"\",\"\",IF(NOT(ISNA(VLOOKUP(BH78,Answers!BE:BH,4,FALSE))),VLOOKUP(BH78,Answers!BE:BH,4,FALSE),\"Help!\"))","v":""},null,{"$f":"IF(BI78=\"\",\"\",BG78+IF(BI78=\"XX\",VLOOKUP(\"WRONG\",Answers!BE:BH,4,FALSE),BI78)+BJ78)","v":""},{"$f":"IF($B78=\"\",\"\",UPPER(Mainframe!R77))","v":""},{"$f":"IF(BL78=\"\",\"\",IF(NOT(ISNA(VLOOKUP(BL78,Answers!BI:BL,4,FALSE))),VLOOKUP(BL78,Answers!BI:BL,4,FALSE),\"Help!\"))","v":""},null,{"$f":"IF(BM78=\"\",\"\",BK78+IF(BM78=\"XX\",VLOOKUP(\"WRONG\",Answers!BI:BL,4,FALSE),BM78)+BN78)","v":""},{"$f":"IF($B78=\"\",\"\",UPPER(Mainframe!S77))","v":""},{"$f":"IF(BP78=\"\",\"\",IF(NOT(ISNA(VLOOKUP(BP78,Answers!BM:BP,4,FALSE))),VLOOKUP(BP78,Answers!BM:BP,4,FALSE),\"Help!\"))","v":""},null,{"$f":"IF(BQ78=\"\",\"\",BO78+IF(BQ78=\"XX\",VLOOKUP(\"WRONG\",Answers!BM:BP,4,FALSE),BQ78)+BR78)","v":""},{"$f":"IF($B78=\"\",\"\",UPPER(Mainframe!T77))","v":""},{"$f":"IF(BT78=\"\",\"\",IF(NOT(ISNA(VLOOKUP(BT78,Answers!BQ:BT,4,FALSE))),VLOOKUP(BT78,Answers!BQ:BT,4,FALSE),\"Help!\"))","v":""},null,{"$f":"IF(BU78=\"\",\"\",BS78+IF(BU78=\"XX\",VLOOKUP(\"WRONG\",Answers!BQ:BT,4,FALSE),BU78)+BV78)","v":""},{"$f":"IF($B78=\"\",\"\",UPPER(Mainframe!U77))","v":""},{"$f":"IF(BX78=\"\",\"\",IF(NOT(ISNA(VLOOKUP(BX78,Answers!BU:BX,4,FALSE))),VLOOKUP(BX78,Answers!BU:BX,4,FALSE),\"Help!\"))","v":""},null,{"$f":"IF(BY78=\"\",\"\",BW78+IF(BY78=\"XX\",VLOOKUP(\"WRONG\",Answers!BU:BX,4,FALSE),BY78)+BZ78)","v":""},{"$f":"IF($B78=\"\",\"\",UPPER(Mainframe!V77))","v":""},{"$f":"IF(CB78=\"\",\"\",IF(NOT(ISNA(VLOOKUP(CB78,Answers!BY:CB,4,FALSE))),VLOOKUP(CB78,Answers!BY:CB,4,FALSE),\"Help!\"))","v":""},null,{"$f":"IF(CC78=\"\",\"\",CA78+IF(CC78=\"XX\",VLOOKUP(\"WRONG\",Answers!BY:CB,4,FALSE),CC78)+CD78)","v":""},null,null,1,{"$f":"IF(INDEX($B:$CE,ROW(),QNO*4-1)=DROPNAME,DROPNAME,IF(INDEX($B:$CE,ROW(),QNO*4-1)=SHEEPNAME,SHEEPNAME,IF(INDEX($B:$CE,ROW(),QNO*4)=\"XX\",INDEX($B:$CE,ROW(),QNO*4-1),INDEX(OFFSET(Answers!B:B,0,(QNO-1)*4),MATCH(INDEX($A:$CB,ROW(),QNO*4),OFFSET(Answers!A:A,0,(QNO-1)*4),0))&\" — \"&IF(INDEX($B:$CE,ROW(),QNO*4)=1,\"[b]Singleton![/b]\",CONCATENATE(INDEX($B:$CE,ROW(),QNO*4),\" responses\")))))","v":{"$error":"#N/A"}},"//////////////////////////////////////////////////////////////////////////////////////////////////////////","No",{"$f":"IF(B78=0,\"\",CONCATENATE(INDEX($CH:$CL,ROW(),1),\". \",INDEX($B:$CE,ROW(),1),\" — [b]\")&IF(QNO=1,CONCATENATE(INDEX($B:$CE,ROW(),QNO*4+2),\"[/b] pts\"),CONCATENATE(INDEX($B:$CE,ROW(),QNO*4-2),\" + \",IF(INDEX($B:$CE,ROW(),QNO*4)=\"XX\",INDEX(Answers!$A:$ZZ,2,QNO*4),INDEX($B:$CE,ROW(),QNO*4)),\" = \",INDEX($B:$CE,ROW(),QNO*4+2),\"[/b] pts \",IF(INDEX($C:$CE,ROW(),QNO*4)>0,\"(penalty: +\"&INDEX($C:$CE,ROW(),QNO*4)&\") \",IF(INDEX($C:$CE,ROW(),QNO*4)<0,\"(bonus: \"&INDEX($C:$CE,ROW(),QNO*4)&\") \",\"\"))&\"[[b]\"&IF(CN78>0,\"[color=#00BF00]↑\"&CN78,IF(CN78<0,\"[color=#FF0000]↓\"&ABS(CN78),\"[color=#0000FF]unch\"))&\"[/b][/color]]\")))","v":"1.  — [b][/b] pts"},1,0]
["[*]",{"$f":"IF(Mainframe!B78=\"\",\"\",INDEX(Mainframe!$B:$B,C79+1,1))","v":""},77,{"$f":"IF($B79=\"\",\"\",UPPER(Mainframe!C78))","v":""},{"$f":"IF(D79=\"\",\"\",IF(NOT(ISNA(VLOOKUP(D79,Answers!A:D,4,FALSE))),VLOOKUP(D79,Answers!A:D,4,FALSE),\"Help!\"))","v":""},null,{"$f":"IF(E79=\"\",\"\",IF(E79=\"XX\",VLOOKUP(\"WRONG\",Answers!A:D,4,FALSE),E79)+F79)","v":""},{"$f":"IF($B79=\"\",\"\",UPPER(Mainframe!D78))","v":""},{"$f":"IF(H79=\"\",\"\",IF(NOT(ISNA(VLOOKUP(H79,Answers!E:H,4,FALSE))),VLOOKUP(H79,Answers!E:H,4,FALSE),\"Help!\"))","v":""},null,{"$f":"IF(I79=\"\",\"\",G79+IF(I79=\"XX\",VLOOKUP(\"WRONG\",Answers!E:H,4,FALSE),I79)+J79)","v":""},{"$f":"IF($B79=\"\",\"\",UPPER(Mainframe!E78))","v":""},{"$f":"IF(L79=\"\",\"\",IF(NOT(ISNA(VLOOKUP(L79,Answers!I:L,4,FALSE))),VLOOKUP(L79,Answers!I:L,4,FALSE),\"Help!\"))","v":""},null,{"$f":"IF(M79=\"\",\"\",K79+IF(M79=\"XX\",VLOOKUP(\"WRONG\",Answers!I:L,4,FALSE),M79)+N79)","v":""},{"$f":"IF($B79=\"\",\"\",UPPER(Mainframe!F78))","v":""},{"$f":"IF(P79=\"\",\"\",IF(NOT(ISNA(VLOOKUP(P79,Answers!M:P,4,FALSE))),VLOOKUP(P79,Answers!M:P,4,FALSE),\"Help!\"))","v":""},null,{"$f":"IF(Q79=\"\",\"\",O79+IF(Q79=\"XX\",VLOOKUP(\"WRONG\",Answers!M:P,4,FALSE),Q79)+R79)","v":""},{"$f":"IF($B79=\"\",\"\",UPPER(Mainframe!G78))","v":""},{"$f":"IF(T79=\"\",\"\",IF(NOT(ISNA(VLOOKUP(T79,Answers!Q:T,4,FALSE))),VLOOKUP(T79,Answers!Q:T,4,FALSE),\"Help!\"))","v":""},null,{"$f":"IF(U79=\"\",\"\",S79+IF(U79=\"XX\",VLOOKUP(\"WRONG\",Answers!Q:T,4,FALSE),U79)+V79)","v":""},{"$f":"IF($B79=\"\",\"\",UPPER(Mainframe!H78))","v":""},{"$f":"IF(X79=\"\",\"\",IF(NOT(ISNA(VLOOKUP(X79,Answers!U:X,4,FALSE))),VLOOKUP(X79,Answers!U:X,4,FALSE),\"Help!\"))","v":""},null,{"$f":"IF(Y79=\"\",\"\",W79+IF(Y79=\"XX\",VLOOKUP(\"WRONG\",Answers!U:X,4,FALSE),Y79)+Z79)","v":""},{"$f":"IF($B79=\"\",\"\",UPPER(Mainframe!I78))","v":""},{"$f":"IF(AB79=\"\",\"\",IF(NOT(ISNA(VLOOKUP(AB79,Answers!Y:AB,4,FALSE))),VLOOKUP(AB79,Answers!Y:AB,4,FALSE),\"Help!\"))","v":""},null,{"$f":"IF(AC79=\"\",\"\",AA79+IF(AC79=\"XX\",VLOOKUP(\"WRONG\",Answers!Y:AB,4,FALSE),AC79)+AD79)","v":""},{"$f":"IF($B79=\"\",\"\",UPPER(Mainframe!J78))","v":""},{"$f":"IF(AF79=\"\",\"\",IF(NOT(ISNA(VLOOKUP(AF79,Answers!AC:AF,4,FALSE))),VLOOKUP(AF79,Answers!AC:AF,4,FALSE),\"Help!\"))","v":""},null,{"$f":"IF(AG79=\"\",\"\",AE79+IF(AG79=\"XX\",VLOOKUP(\"WRONG\",Answers!AC:AF,4,FALSE),AG79)+AH79)","v":""},{"$f":"IF($B79=\"\",\"\",UPPER(Mainframe!K78))","v":""},{"$f":"IF(AJ79=\"\",\"\",IF(NOT(ISNA(VLOOKUP(AJ79,Answers!AG:AJ,4,FALSE))),VLOOKUP(AJ79,Answers!AG:AJ,4,FALSE),\"Help!\"))","v":""},null,{"$f":"IF(AK79=\"\",\"\",AI79+IF(AK79=\"XX\",VLOOKUP(\"WRONG\",Answers!AG:AJ,4,FALSE),AK79)+AL79)","v":""},{"$f":"IF($B79=\"\",\"\",UPPER(Mainframe!L78))","v":""},{"$f":"IF(AN79=\"\",\"\",IF(NOT(ISNA(VLOOKUP(AN79,Answers!AK:AN,4,FALSE))),VLOOKUP(AN79,Answers!AK:AN,4,FALSE),\"Help!\"))","v":""},null,{"$f":"IF(AO79=\"\",\"\",AM79+IF(AO79=\"XX\",VLOOKUP(\"WRONG\",Answers!AK:AN,4,FALSE),AO79)+AP79)","v":""},{"$f":"IF($B79=\"\",\"\",UPPER(Mainframe!M78))","v":""},{"$f":"IF(AR79=\"\",\"\",IF(NOT(ISNA(VLOOKUP(AR79,Answers!AO:AR,4,FALSE))),VLOOKUP(AR79,Answers!AO:AR,4,FALSE),\"Help!\"))","v":""},null,{"$f":"IF(AS79=\"\",\"\",AQ79+IF(AS79=\"XX\",VLOOKUP(\"WRONG\",Answers!AO:AR,4,FALSE),AS79)+AT79)","v":""},{"$f":"IF($B79=\"\",\"\",UPPER(Mainframe!N78))","v":""},{"$f":"IF(AV79=\"\",\"\",IF(NOT(ISNA(VLOOKUP(AV79,Answers!AS:AV,4,FALSE))),VLOOKUP(AV79,Answers!AS:AV,4,FALSE),\"Help!\"))","v":""},null,{"$f":"IF(AW79=\"\",\"\",AU79+IF(AW79=\"XX\",VLOOKUP(\"WRONG\",Answers!AS:AV,4,FALSE),AW79)+AX79)","v":""},{"$f":"IF($B79=\"\",\"\",UPPER(Mainframe!O78))","v":""},{"$f":"IF(AZ79=\"\",\"\",IF(NOT(ISNA(VLOOKUP(AZ79,Answers!AW:AZ,4,FALSE))),VLOOKUP(AZ79,Answers!AW:AZ,4,FALSE),\"Help!\"))","v":""},null,{"$f":"IF(BA79=\"\",\"\",AY79+IF(BA79=\"XX\",VLOOKUP(\"WRONG\",Answers!AW:AZ,4,FALSE),BA79)+BB79)","v":""},{"$f":"IF($B79=\"\",\"\",UPPER(Mainframe!P78))","v":""},{"$f":"IF(BD79=\"\",\"\",IF(NOT(ISNA(VLOOKUP(BD79,Answers!BA:BD,4,FALSE))),VLOOKUP(BD79,Answers!BA:BD,4,FALSE),\"Help!\"))","v":""},null,{"$f":"IF(BE79=\"\",\"\",BC79+IF(BE79=\"XX\",VLOOKUP(\"WRONG\",Answers!BA:BD,4,FALSE),BE79)+BF79)","v":""},{"$f":"IF($B79=\"\",\"\",UPPER(Mainframe!Q78))","v":""},{"$f":"IF(BH79=\"\",\"\",IF(NOT(ISNA(VLOOKUP(BH79,Answers!BE:BH,4,FALSE))),VLOOKUP(BH79,Answers!BE:BH,4,FALSE),\"Help!\"))","v":""},null,{"$f":"IF(BI79=\"\",\"\",BG79+IF(BI79=\"XX\",VLOOKUP(\"WRONG\",Answers!BE:BH,4,FALSE),BI79)+BJ79)","v":""},{"$f":"IF($B79=\"\",\"\",UPPER(Mainframe!R78))","v":""},{"$f":"IF(BL79=\"\",\"\",IF(NOT(ISNA(VLOOKUP(BL79,Answers!BI:BL,4,FALSE))),VLOOKUP(BL79,Answers!BI:BL,4,FALSE),\"Help!\"))","v":""},null,{"$f":"IF(BM79=\"\",\"\",BK79+IF(BM79=\"XX\",VLOOKUP(\"WRONG\",Answers!BI:BL,4,FALSE),BM79)+BN79)","v":""},{"$f":"IF($B79=\"\",\"\",UPPER(Mainframe!S78))","v":""},{"$f":"IF(BP79=\"\",\"\",IF(NOT(ISNA(VLOOKUP(BP79,Answers!BM:BP,4,FALSE))),VLOOKUP(BP79,Answers!BM:BP,4,FALSE),\"Help!\"))","v":""},null,{"$f":"IF(BQ79=\"\",\"\",BO79+IF(BQ79=\"XX\",VLOOKUP(\"WRONG\",Answers!BM:BP,4,FALSE),BQ79)+BR79)","v":""},{"$f":"IF($B79=\"\",\"\",UPPER(Mainframe!T78))","v":""},{"$f":"IF(BT79=\"\",\"\",IF(NOT(ISNA(VLOOKUP(BT79,Answers!BQ:BT,4,FALSE))),VLOOKUP(BT79,Answers!BQ:BT,4,FALSE),\"Help!\"))","v":""},null,{"$f":"IF(BU79=\"\",\"\",BS79+IF(BU79=\"XX\",VLOOKUP(\"WRONG\",Answers!BQ:BT,4,FALSE),BU79)+BV79)","v":""},{"$f":"IF($B79=\"\",\"\",UPPER(Mainframe!U78))","v":""},{"$f":"IF(BX79=\"\",\"\",IF(NOT(ISNA(VLOOKUP(BX79,Answers!BU:BX,4,FALSE))),VLOOKUP(BX79,Answers!BU:BX,4,FALSE),\"Help!\"))","v":""},null,{"$f":"IF(BY79=\"\",\"\",BW79+IF(BY79=\"XX\",VLOOKUP(\"WRONG\",Answers!BU:BX,4,FALSE),BY79)+BZ79)","v":""},{"$f":"IF($B79=\"\",\"\",UPPER(Mainframe!V78))","v":""},{"$f":"IF(CB79=\"\",\"\",IF(NOT(ISNA(VLOOKUP(CB79,Answers!BY:CB,4,FALSE))),VLOOKUP(CB79,Answers!BY:CB,4,FALSE),\"Help!\"))","v":""},null,{"$f":"IF(CC79=\"\",\"\",CA79+IF(CC79=\"XX\",VLOOKUP(\"WRONG\",Answers!BY:CB,4,FALSE),CC79)+CD79)","v":""},null,null,1,{"$f":"IF(INDEX($B:$CE,ROW(),QNO*4-1)=DROPNAME,DROPNAME,IF(INDEX($B:$CE,ROW(),QNO*4-1)=SHEEPNAME,SHEEPNAME,IF(INDEX($B:$CE,ROW(),QNO*4)=\"XX\",INDEX($B:$CE,ROW(),QNO*4-1),INDEX(OFFSET(Answers!B:B,0,(QNO-1)*4),MATCH(INDEX($A:$CB,ROW(),QNO*4),OFFSET(Answers!A:A,0,(QNO-1)*4),0))&\" — \"&IF(INDEX($B:$CE,ROW(),QNO*4)=1,\"[b]Singleton![/b]\",CONCATENATE(INDEX($B:$CE,ROW(),QNO*4),\" responses\")))))","v":{"$error":"#N/A"}},"////////////////////////////////////////////////////////////////////////////////////////////////////////","No",{"$f":"IF(B79=0,\"\",CONCATENATE(INDEX($CH:$CL,ROW(),1),\". \",INDEX($B:$CE,ROW(),1),\" — [b]\")&IF(QNO=1,CONCATENATE(INDEX($B:$CE,ROW(),QNO*4+2),\"[/b] pts\"),CONCATENATE(INDEX($B:$CE,ROW(),QNO*4-2),\" + \",IF(INDEX($B:$CE,ROW(),QNO*4)=\"XX\",INDEX(Answers!$A:$ZZ,2,QNO*4),INDEX($B:$CE,ROW(),QNO*4)),\" = \",INDEX($B:$CE,ROW(),QNO*4+2),\"[/b] pts \",IF(INDEX($C:$CE,ROW(),QNO*4)>0,\"(penalty: +\"&INDEX($C:$CE,ROW(),QNO*4)&\") \",IF(INDEX($C:$CE,ROW(),QNO*4)<0,\"(bonus: \"&INDEX($C:$CE,ROW(),QNO*4)&\") \",\"\"))&\"[[b]\"&IF(CN79>0,\"[color=#00BF00]↑\"&CN79,IF(CN79<0,\"[color=#FF0000]↓\"&ABS(CN79),\"[color=#0000FF]unch\"))&\"[/b][/color]]\")))","v":"1.  — [b][/b] pts"},1,0]
["[*]",{"$f":"IF(Mainframe!B79=\"\",\"\",INDEX(Mainframe!$B:$B,C80+1,1))","v":""},78,{"$f":"IF($B80=\"\",\"\",UPPER(Mainframe!C79))","v":""},{"$f":"IF(D80=\"\",\"\",IF(NOT(ISNA(VLOOKUP(D80,Answers!A:D,4,FALSE))),VLOOKUP(D80,Answers!A:D,4,FALSE),\"Help!\"))","v":""},null,{"$f":"IF(E80=\"\",\"\",IF(E80=\"XX\",VLOOKUP(\"WRONG\",Answers!A:D,4,FALSE),E80)+F80)","v":""},{"$f":"IF($B80=\"\",\"\",UPPER(Mainframe!D79))","v":""},{"$f":"IF(H80=\"\",\"\",IF(NOT(ISNA(VLOOKUP(H80,Answers!E:H,4,FALSE))),VLOOKUP(H80,Answers!E:H,4,FALSE),\"Help!\"))","v":""},null,{"$f":"IF(I80=\"\",\"\",G80+IF(I80=\"XX\",VLOOKUP(\"WRONG\",Answers!E:H,4,FALSE),I80)+J80)","v":""},{"$f":"IF($B80=\"\",\"\",UPPER(Mainframe!E79))","v":""},{"$f":"IF(L80=\"\",\"\",IF(NOT(ISNA(VLOOKUP(L80,Answers!I:L,4,FALSE))),VLOOKUP(L80,Answers!I:L,4,FALSE),\"Help!\"))","v":""},null,{"$f":"IF(M80=\"\",\"\",K80+IF(M80=\"XX\",VLOOKUP(\"WRONG\",Answers!I:L,4,FALSE),M80)+N80)","v":""},{"$f":"IF($B80=\"\",\"\",UPPER(Mainframe!F79))","v":""},{"$f":"IF(P80=\"\",\"\",IF(NOT(ISNA(VLOOKUP(P80,Answers!M:P,4,FALSE))),VLOOKUP(P80,Answers!M:P,4,FALSE),\"Help!\"))","v":""},null,{"$f":"IF(Q80=\"\",\"\",O80+IF(Q80=\"XX\",VLOOKUP(\"WRONG\",Answers!M:P,4,FALSE),Q80)+R80)","v":""},{"$f":"IF($B80=\"\",\"\",UPPER(Mainframe!G79))","v":""},{"$f":"IF(T80=\"\",\"\",IF(NOT(ISNA(VLOOKUP(T80,Answers!Q:T,4,FALSE))),VLOOKUP(T80,Answers!Q:T,4,FALSE),\"Help!\"))","v":""},null,{"$f":"IF(U80=\"\",\"\",S80+IF(U80=\"XX\",VLOOKUP(\"WRONG\",Answers!Q:T,4,FALSE),U80)+V80)","v":""},{"$f":"IF($B80=\"\",\"\",UPPER(Mainframe!H79))","v":""},{"$f":"IF(X80=\"\",\"\",IF(NOT(ISNA(VLOOKUP(X80,Answers!U:X,4,FALSE))),VLOOKUP(X80,Answers!U:X,4,FALSE),\"Help!\"))","v":""},null,{"$f":"IF(Y80=\"\",\"\",W80+IF(Y80=\"XX\",VLOOKUP(\"WRONG\",Answers!U:X,4,FALSE),Y80)+Z80)","v":""},{"$f":"IF($B80=\"\",\"\",UPPER(Mainframe!I79))","v":""},{"$f":"IF(AB80=\"\",\"\",IF(NOT(ISNA(VLOOKUP(AB80,Answers!Y:AB,4,FALSE))),VLOOKUP(AB80,Answers!Y:AB,4,FALSE),\"Help!\"))","v":""},null,{"$f":"IF(AC80=\"\",\"\",AA80+IF(AC80=\"XX\",VLOOKUP(\"WRONG\",Answers!Y:AB,4,FALSE),AC80)+AD80)","v":""},{"$f":"IF($B80=\"\",\"\",UPPER(Mainframe!J79))","v":""},{"$f":"IF(AF80=\"\",\"\",IF(NOT(ISNA(VLOOKUP(AF80,Answers!AC:AF,4,FALSE))),VLOOKUP(AF80,Answers!AC:AF,4,FALSE),\"Help!\"))","v":""},null,{"$f":"IF(AG80=\"\",\"\",AE80+IF(AG80=\"XX\",VLOOKUP(\"WRONG\",Answers!AC:AF,4,FALSE),AG80)+AH80)","v":""},{"$f":"IF($B80=\"\",\"\",UPPER(Mainframe!K79))","v":""},{"$f":"IF(AJ80=\"\",\"\",IF(NOT(ISNA(VLOOKUP(AJ80,Answers!AG:AJ,4,FALSE))),VLOOKUP(AJ80,Answers!AG:AJ,4,FALSE),\"Help!\"))","v":""},null,{"$f":"IF(AK80=\"\",\"\",AI80+IF(AK80=\"XX\",VLOOKUP(\"WRONG\",Answers!AG:AJ,4,FALSE),AK80)+AL80)","v":""},{"$f":"IF($B80=\"\",\"\",UPPER(Mainframe!L79))","v":""},{"$f":"IF(AN80=\"\",\"\",IF(NOT(ISNA(VLOOKUP(AN80,Answers!AK:AN,4,FALSE))),VLOOKUP(AN80,Answers!AK:AN,4,FALSE),\"Help!\"))","v":""},null,{"$f":"IF(AO80=\"\",\"\",AM80+IF(AO80=\"XX\",VLOOKUP(\"WRONG\",Answers!AK:AN,4,FALSE),AO80)+AP80)","v":""},{"$f":"IF($B80=\"\",\"\",UPPER(Mainframe!M79))","v":""},{"$f":"IF(AR80=\"\",\"\",IF(NOT(ISNA(VLOOKUP(AR80,Answers!AO:AR,4,FALSE))),VLOOKUP(AR80,Answers!AO:AR,4,FALSE),\"Help!\"))","v":""},null,{"$f":"IF(AS80=\"\",\"\",AQ80+IF(AS80=\"XX\",VLOOKUP(\"WRONG\",Answers!AO:AR,4,FALSE),AS80)+AT80)","v":""},{"$f":"IF($B80=\"\",\"\",UPPER(Mainframe!N79))","v":""},{"$f":"IF(AV80=\"\",\"\",IF(NOT(ISNA(VLOOKUP(AV80,Answers!AS:AV,4,FALSE))),VLOOKUP(AV80,Answers!AS:AV,4,FALSE),\"Help!\"))","v":""},null,{"$f":"IF(AW80=\"\",\"\",AU80+IF(AW80=\"XX\",VLOOKUP(\"WRONG\",Answers!AS:AV,4,FALSE),AW80)+AX80)","v":""},{"$f":"IF($B80=\"\",\"\",UPPER(Mainframe!O79))","v":""},{"$f":"IF(AZ80=\"\",\"\",IF(NOT(ISNA(VLOOKUP(AZ80,Answers!AW:AZ,4,FALSE))),VLOOKUP(AZ80,Answers!AW:AZ,4,FALSE),\"Help!\"))","v":""},null,{"$f":"IF(BA80=\"\",\"\",AY80+IF(BA80=\"XX\",VLOOKUP(\"WRONG\",Answers!AW:AZ,4,FALSE),BA80)+BB80)","v":""},{"$f":"IF($B80=\"\",\"\",UPPER(Mainframe!P79))","v":""},{"$f":"IF(BD80=\"\",\"\",IF(NOT(ISNA(VLOOKUP(BD80,Answers!BA:BD,4,FALSE))),VLOOKUP(BD80,Answers!BA:BD,4,FALSE),\"Help!\"))","v":""},null,{"$f":"IF(BE80=\"\",\"\",BC80+IF(BE80=\"XX\",VLOOKUP(\"WRONG\",Answers!BA:BD,4,FALSE),BE80)+BF80)","v":""},{"$f":"IF($B80=\"\",\"\",UPPER(Mainframe!Q79))","v":""},{"$f":"IF(BH80=\"\",\"\",IF(NOT(ISNA(VLOOKUP(BH80,Answers!BE:BH,4,FALSE))),VLOOKUP(BH80,Answers!BE:BH,4,FALSE),\"Help!\"))","v":""},null,{"$f":"IF(BI80=\"\",\"\",BG80+IF(BI80=\"XX\",VLOOKUP(\"WRONG\",Answers!BE:BH,4,FALSE),BI80)+BJ80)","v":""},{"$f":"IF($B80=\"\",\"\",UPPER(Mainframe!R79))","v":""},{"$f":"IF(BL80=\"\",\"\",IF(NOT(ISNA(VLOOKUP(BL80,Answers!BI:BL,4,FALSE))),VLOOKUP(BL80,Answers!BI:BL,4,FALSE),\"Help!\"))","v":""},null,{"$f":"IF(BM80=\"\",\"\",BK80+IF(BM80=\"XX\",VLOOKUP(\"WRONG\",Answers!BI:BL,4,FALSE),BM80)+BN80)","v":""},{"$f":"IF($B80=\"\",\"\",UPPER(Mainframe!S79))","v":""},{"$f":"IF(BP80=\"\",\"\",IF(NOT(ISNA(VLOOKUP(BP80,Answers!BM:BP,4,FALSE))),VLOOKUP(BP80,Answers!BM:BP,4,FALSE),\"Help!\"))","v":""},null,{"$f":"IF(BQ80=\"\",\"\",BO80+IF(BQ80=\"XX\",VLOOKUP(\"WRONG\",Answers!BM:BP,4,FALSE),BQ80)+BR80)","v":""},{"$f":"IF($B80=\"\",\"\",UPPER(Mainframe!T79))","v":""},{"$f":"IF(BT80=\"\",\"\",IF(NOT(ISNA(VLOOKUP(BT80,Answers!BQ:BT,4,FALSE))),VLOOKUP(BT80,Answers!BQ:BT,4,FALSE),\"Help!\"))","v":""},null,{"$f":"IF(BU80=\"\",\"\",BS80+IF(BU80=\"XX\",VLOOKUP(\"WRONG\",Answers!BQ:BT,4,FALSE),BU80)+BV80)","v":""},{"$f":"IF($B80=\"\",\"\",UPPER(Mainframe!U79))","v":""},{"$f":"IF(BX80=\"\",\"\",IF(NOT(ISNA(VLOOKUP(BX80,Answers!BU:BX,4,FALSE))),VLOOKUP(BX80,Answers!BU:BX,4,FALSE),\"Help!\"))","v":""},null,{"$f":"IF(BY80=\"\",\"\",BW80+IF(BY80=\"XX\",VLOOKUP(\"WRONG\",Answers!BU:BX,4,FALSE),BY80)+BZ80)","v":""},{"$f":"IF($B80=\"\",\"\",UPPER(Mainframe!V79))","v":""},{"$f":"IF(CB80=\"\",\"\",IF(NOT(ISNA(VLOOKUP(CB80,Answers!BY:CB,4,FALSE))),VLOOKUP(CB80,Answers!BY:CB,4,FALSE),\"Help!\"))","v":""},null,{"$f":"IF(CC80=\"\",\"\",CA80+IF(CC80=\"XX\",VLOOKUP(\"WRONG\",Answers!BY:CB,4,FALSE),CC80)+CD80)","v":""},null,null,1,{"$f":"IF(INDEX($B:$CE,ROW(),QNO*4-1)=DROPNAME,DROPNAME,IF(INDEX($B:$CE,ROW(),QNO*4-1)=SHEEPNAME,SHEEPNAME,IF(INDEX($B:$CE,ROW(),QNO*4)=\"XX\",INDEX($B:$CE,ROW(),QNO*4-1),INDEX(OFFSET(Answers!B:B,0,(QNO-1)*4),MATCH(INDEX($A:$CB,ROW(),QNO*4),OFFSET(Answers!A:A,0,(QNO-1)*4),0))&\" — \"&IF(INDEX($B:$CE,ROW(),QNO*4)=1,\"[b]Singleton![/b]\",CONCATENATE(INDEX($B:$CE,ROW(),QNO*4),\" responses\")))))","v":{"$error":"#N/A"}},"//////////////////////////////////////////////////////////////////////////////////////////////////////","No",{"$f":"IF(B80=0,\"\",CONCATENATE(INDEX($CH:$CL,ROW(),1),\". \",INDEX($B:$CE,ROW(),1),\" — [b]\")&IF(QNO=1,CONCATENATE(INDEX($B:$CE,ROW(),QNO*4+2),\"[/b] pts\"),CONCATENATE(INDEX($B:$CE,ROW(),QNO*4-2),\" + \",IF(INDEX($B:$CE,ROW(),QNO*4)=\"XX\",INDEX(Answers!$A:$ZZ,2,QNO*4),INDEX($B:$CE,ROW(),QNO*4)),\" = \",INDEX($B:$CE,ROW(),QNO*4+2),\"[/b] pts \",IF(INDEX($C:$CE,ROW(),QNO*4)>0,\"(penalty: +\"&INDEX($C:$CE,ROW(),QNO*4)&\") \",IF(INDEX($C:$CE,ROW(),QNO*4)<0,\"(bonus: \"&INDEX($C:$CE,ROW(),QNO*4)&\") \",\"\"))&\"[[b]\"&IF(CN80>0,\"[color=#00BF00]↑\"&CN80,IF(CN80<0,\"[color=#FF0000]↓\"&ABS(CN80),\"[color=#0000FF]unch\"))&\"[/b][/color]]\")))","v":"1.  — [b][/b] pts"},1,0]
["[*]",{"$f":"IF(Mainframe!B80=\"\",\"\",INDEX(Mainframe!$B:$B,C81+1,1))","v":""},79,{"$f":"IF($B81=\"\",\"\",UPPER(Mainframe!C80))","v":""},{"$f":"IF(D81=\"\",\"\",IF(NOT(ISNA(VLOOKUP(D81,Answers!A:D,4,FALSE))),VLOOKUP(D81,Answers!A:D,4,FALSE),\"Help!\"))","v":""},null,{"$f":"IF(E81=\"\",\"\",IF(E81=\"XX\",VLOOKUP(\"WRONG\",Answers!A:D,4,FALSE),E81)+F81)","v":""},{"$f":"IF($B81=\"\",\"\",UPPER(Mainframe!D80))","v":""},{"$f":"IF(H81=\"\",\"\",IF(NOT(ISNA(VLOOKUP(H81,Answers!E:H,4,FALSE))),VLOOKUP(H81,Answers!E:H,4,FALSE),\"Help!\"))","v":""},null,{"$f":"IF(I81=\"\",\"\",G81+IF(I81=\"XX\",VLOOKUP(\"WRONG\",Answers!E:H,4,FALSE),I81)+J81)","v":""},{"$f":"IF($B81=\"\",\"\",UPPER(Mainframe!E80))","v":""},{"$f":"IF(L81=\"\",\"\",IF(NOT(ISNA(VLOOKUP(L81,Answers!I:L,4,FALSE))),VLOOKUP(L81,Answers!I:L,4,FALSE),\"Help!\"))","v":""},null,{"$f":"IF(M81=\"\",\"\",K81+IF(M81=\"XX\",VLOOKUP(\"WRONG\",Answers!I:L,4,FALSE),M81)+N81)","v":""},{"$f":"IF($B81=\"\",\"\",UPPER(Mainframe!F80))","v":""},{"$f":"IF(P81=\"\",\"\",IF(NOT(ISNA(VLOOKUP(P81,Answers!M:P,4,FALSE))),VLOOKUP(P81,Answers!M:P,4,FALSE),\"Help!\"))","v":""},null,{"$f":"IF(Q81=\"\",\"\",O81+IF(Q81=\"XX\",VLOOKUP(\"WRONG\",Answers!M:P,4,FALSE),Q81)+R81)","v":""},{"$f":"IF($B81=\"\",\"\",UPPER(Mainframe!G80))","v":""},{"$f":"IF(T81=\"\",\"\",IF(NOT(ISNA(VLOOKUP(T81,Answers!Q:T,4,FALSE))),VLOOKUP(T81,Answers!Q:T,4,FALSE),\"Help!\"))","v":""},null,{"$f":"IF(U81=\"\",\"\",S81+IF(U81=\"XX\",VLOOKUP(\"WRONG\",Answers!Q:T,4,FALSE),U81)+V81)","v":""},{"$f":"IF($B81=\"\",\"\",UPPER(Mainframe!H80))","v":""},{"$f":"IF(X81=\"\",\"\",IF(NOT(ISNA(VLOOKUP(X81,Answers!U:X,4,FALSE))),VLOOKUP(X81,Answers!U:X,4,FALSE),\"Help!\"))","v":""},null,{"$f":"IF(Y81=\"\",\"\",W81+IF(Y81=\"XX\",VLOOKUP(\"WRONG\",Answers!U:X,4,FALSE),Y81)+Z81)","v":""},{"$f":"IF($B81=\"\",\"\",UPPER(Mainframe!I80))","v":""},{"$f":"IF(AB81=\"\",\"\",IF(NOT(ISNA(VLOOKUP(AB81,Answers!Y:AB,4,FALSE))),VLOOKUP(AB81,Answers!Y:AB,4,FALSE),\"Help!\"))","v":""},null,{"$f":"IF(AC81=\"\",\"\",AA81+IF(AC81=\"XX\",VLOOKUP(\"WRONG\",Answers!Y:AB,4,FALSE),AC81)+AD81)","v":""},{"$f":"IF($B81=\"\",\"\",UPPER(Mainframe!J80))","v":""},{"$f":"IF(AF81=\"\",\"\",IF(NOT(ISNA(VLOOKUP(AF81,Answers!AC:AF,4,FALSE))),VLOOKUP(AF81,Answers!AC:AF,4,FALSE),\"Help!\"))","v":""},null,{"$f":"IF(AG81=\"\",\"\",AE81+IF(AG81=\"XX\",VLOOKUP(\"WRONG\",Answers!AC:AF,4,FALSE),AG81)+AH81)","v":""},{"$f":"IF($B81=\"\",\"\",UPPER(Mainframe!K80))","v":""},{"$f":"IF(AJ81=\"\",\"\",IF(NOT(ISNA(VLOOKUP(AJ81,Answers!AG:AJ,4,FALSE))),VLOOKUP(AJ81,Answers!AG:AJ,4,FALSE),\"Help!\"))","v":""},null,{"$f":"IF(AK81=\"\",\"\",AI81+IF(AK81=\"XX\",VLOOKUP(\"WRONG\",Answers!AG:AJ,4,FALSE),AK81)+AL81)","v":""},{"$f":"IF($B81=\"\",\"\",UPPER(Mainframe!L80))","v":""},{"$f":"IF(AN81=\"\",\"\",IF(NOT(ISNA(VLOOKUP(AN81,Answers!AK:AN,4,FALSE))),VLOOKUP(AN81,Answers!AK:AN,4,FALSE),\"Help!\"))","v":""},null,{"$f":"IF(AO81=\"\",\"\",AM81+IF(AO81=\"XX\",VLOOKUP(\"WRONG\",Answers!AK:AN,4,FALSE),AO81)+AP81)","v":""},{"$f":"IF($B81=\"\",\"\",UPPER(Mainframe!M80))","v":""},{"$f":"IF(AR81=\"\",\"\",IF(NOT(ISNA(VLOOKUP(AR81,Answers!AO:AR,4,FALSE))),VLOOKUP(AR81,Answers!AO:AR,4,FALSE),\"Help!\"))","v":""},null,{"$f":"IF(AS81=\"\",\"\",AQ81+IF(AS81=\"XX\",VLOOKUP(\"WRONG\",Answers!AO:AR,4,FALSE),AS81)+AT81)","v":""},{"$f":"IF($B81=\"\",\"\",UPPER(Mainframe!N80))","v":""},{"$f":"IF(AV81=\"\",\"\",IF(NOT(ISNA(VLOOKUP(AV81,Answers!AS:AV,4,FALSE))),VLOOKUP(AV81,Answers!AS:AV,4,FALSE),\"Help!\"))","v":""},null,{"$f":"IF(AW81=\"\",\"\",AU81+IF(AW81=\"XX\",VLOOKUP(\"WRONG\",Answers!AS:AV,4,FALSE),AW81)+AX81)","v":""},{"$f":"IF($B81=\"\",\"\",UPPER(Mainframe!O80))","v":""},{"$f":"IF(AZ81=\"\",\"\",IF(NOT(ISNA(VLOOKUP(AZ81,Answers!AW:AZ,4,FALSE))),VLOOKUP(AZ81,Answers!AW:AZ,4,FALSE),\"Help!\"))","v":""},null,{"$f":"IF(BA81=\"\",\"\",AY81+IF(BA81=\"XX\",VLOOKUP(\"WRONG\",Answers!AW:AZ,4,FALSE),BA81)+BB81)","v":""},{"$f":"IF($B81=\"\",\"\",UPPER(Mainframe!P80))","v":""},{"$f":"IF(BD81=\"\",\"\",IF(NOT(ISNA(VLOOKUP(BD81,Answers!BA:BD,4,FALSE))),VLOOKUP(BD81,Answers!BA:BD,4,FALSE),\"Help!\"))","v":""},null,{"$f":"IF(BE81=\"\",\"\",BC81+IF(BE81=\"XX\",VLOOKUP(\"WRONG\",Answers!BA:BD,4,FALSE),BE81)+BF81)","v":""},{"$f":"IF($B81=\"\",\"\",UPPER(Mainframe!Q80))","v":""},{"$f":"IF(BH81=\"\",\"\",IF(NOT(ISNA(VLOOKUP(BH81,Answers!BE:BH,4,FALSE))),VLOOKUP(BH81,Answers!BE:BH,4,FALSE),\"Help!\"))","v":""},null,{"$f":"IF(BI81=\"\",\"\",BG81+IF(BI81=\"XX\",VLOOKUP(\"WRONG\",Answers!BE:BH,4,FALSE),BI81)+BJ81)","v":""},{"$f":"IF($B81=\"\",\"\",UPPER(Mainframe!R80))","v":""},{"$f":"IF(BL81=\"\",\"\",IF(NOT(ISNA(VLOOKUP(BL81,Answers!BI:BL,4,FALSE))),VLOOKUP(BL81,Answers!BI:BL,4,FALSE),\"Help!\"))","v":""},null,{"$f":"IF(BM81=\"\",\"\",BK81+IF(BM81=\"XX\",VLOOKUP(\"WRONG\",Answers!BI:BL,4,FALSE),BM81)+BN81)","v":""},{"$f":"IF($B81=\"\",\"\",UPPER(Mainframe!S80))","v":""},{"$f":"IF(BP81=\"\",\"\",IF(NOT(ISNA(VLOOKUP(BP81,Answers!BM:BP,4,FALSE))),VLOOKUP(BP81,Answers!BM:BP,4,FALSE),\"Help!\"))","v":""},null,{"$f":"IF(BQ81=\"\",\"\",BO81+IF(BQ81=\"XX\",VLOOKUP(\"WRONG\",Answers!BM:BP,4,FALSE),BQ81)+BR81)","v":""},{"$f":"IF($B81=\"\",\"\",UPPER(Mainframe!T80))","v":""},{"$f":"IF(BT81=\"\",\"\",IF(NOT(ISNA(VLOOKUP(BT81,Answers!BQ:BT,4,FALSE))),VLOOKUP(BT81,Answers!BQ:BT,4,FALSE),\"Help!\"))","v":""},null,{"$f":"IF(BU81=\"\",\"\",BS81+IF(BU81=\"XX\",VLOOKUP(\"WRONG\",Answers!BQ:BT,4,FALSE),BU81)+BV81)","v":""},{"$f":"IF($B81=\"\",\"\",UPPER(Mainframe!U80))","v":""},{"$f":"IF(BX81=\"\",\"\",IF(NOT(ISNA(VLOOKUP(BX81,Answers!BU:BX,4,FALSE))),VLOOKUP(BX81,Answers!BU:BX,4,FALSE),\"Help!\"))","v":""},null,{"$f":"IF(BY81=\"\",\"\",BW81+IF(BY81=\"XX\",VLOOKUP(\"WRONG\",Answers!BU:BX,4,FALSE),BY81)+BZ81)","v":""},{"$f":"IF($B81=\"\",\"\",UPPER(Mainframe!V80))","v":""},{"$f":"IF(CB81=\"\",\"\",IF(NOT(ISNA(VLOOKUP(CB81,Answers!BY:CB,4,FALSE))),VLOOKUP(CB81,Answers!BY:CB,4,FALSE),\"Help!\"))","v":""},null,{"$f":"IF(CC81=\"\",\"\",CA81+IF(CC81=\"XX\",VLOOKUP(\"WRONG\",Answers!BY:CB,4,FALSE),CC81)+CD81)","v":""},null,null,1,{"$f":"IF(INDEX($B:$CE,ROW(),QNO*4-1)=DROPNAME,DROPNAME,IF(INDEX($B:$CE,ROW(),QNO*4-1)=SHEEPNAME,SHEEPNAME,IF(INDEX($B:$CE,ROW(),QNO*4)=\"XX\",INDEX($B:$CE,ROW(),QNO*4-1),INDEX(OFFSET(Answers!B:B,0,(QNO-1)*4),MATCH(INDEX($A:$CB,ROW(),QNO*4),OFFSET(Answers!A:A,0,(QNO-1)*4),0))&\" — \"&IF(INDEX($B:$CE,ROW(),QNO*4)=1,\"[b]Singleton![/b]\",CONCATENATE(INDEX($B:$CE,ROW(),QNO*4),\" responses\")))))","v":{"$error":"#N/A"}},"////////////////////////////////////////////////////////////////////////////////////////////////////","No",{"$f":"IF(B81=0,\"\",CONCATENATE(INDEX($CH:$CL,ROW(),1),\". \",INDEX($B:$CE,ROW(),1),\" — [b]\")&IF(QNO=1,CONCATENATE(INDEX($B:$CE,ROW(),QNO*4+2),\"[/b] pts\"),CONCATENATE(INDEX($B:$CE,ROW(),QNO*4-2),\" + \",IF(INDEX($B:$CE,ROW(),QNO*4)=\"XX\",INDEX(Answers!$A:$ZZ,2,QNO*4),INDEX($B:$CE,ROW(),QNO*4)),\" = \",INDEX($B:$CE,ROW(),QNO*4+2),\"[/b] pts \",IF(INDEX($C:$CE,ROW(),QNO*4)>0,\"(penalty: +\"&INDEX($C:$CE,ROW(),QNO*4)&\") \",IF(INDEX($C:$CE,ROW(),QNO*4)<0,\"(bonus: \"&INDEX($C:$CE,ROW(),QNO*4)&\") \",\"\"))&\"[[b]\"&IF(CN81>0,\"[color=#00BF00]↑\"&CN81,IF(CN81<0,\"[color=#FF0000]↓\"&ABS(CN81),\"[color=#0000FF]unch\"))&\"[/b][/color]]\")))","v":"1.  — [b][/b] pts"},1,0]
["[*]",{"$f":"IF(Mainframe!B81=\"\",\"\",INDEX(Mainframe!$B:$B,C82+1,1))","v":""},80,{"$f":"IF($B82=\"\",\"\",UPPER(Mainframe!C81))","v":""},{"$f":"IF(D82=\"\",\"\",IF(NOT(ISNA(VLOOKUP(D82,Answers!A:D,4,FALSE))),VLOOKUP(D82,Answers!A:D,4,FALSE),\"Help!\"))","v":""},null,{"$f":"IF(E82=\"\",\"\",IF(E82=\"XX\",VLOOKUP(\"WRONG\",Answers!A:D,4,FALSE),E82)+F82)","v":""},{"$f":"IF($B82=\"\",\"\",UPPER(Mainframe!D81))","v":""},{"$f":"IF(H82=\"\",\"\",IF(NOT(ISNA(VLOOKUP(H82,Answers!E:H,4,FALSE))),VLOOKUP(H82,Answers!E:H,4,FALSE),\"Help!\"))","v":""},null,{"$f":"IF(I82=\"\",\"\",G82+IF(I82=\"XX\",VLOOKUP(\"WRONG\",Answers!E:H,4,FALSE),I82)+J82)","v":""},{"$f":"IF($B82=\"\",\"\",UPPER(Mainframe!E81))","v":""},{"$f":"IF(L82=\"\",\"\",IF(NOT(ISNA(VLOOKUP(L82,Answers!I:L,4,FALSE))),VLOOKUP(L82,Answers!I:L,4,FALSE),\"Help!\"))","v":""},null,{"$f":"IF(M82=\"\",\"\",K82+IF(M82=\"XX\",VLOOKUP(\"WRONG\",Answers!I:L,4,FALSE),M82)+N82)","v":""},{"$f":"IF($B82=\"\",\"\",UPPER(Mainframe!F81))","v":""},{"$f":"IF(P82=\"\",\"\",IF(NOT(ISNA(VLOOKUP(P82,Answers!M:P,4,FALSE))),VLOOKUP(P82,Answers!M:P,4,FALSE),\"Help!\"))","v":""},null,{"$f":"IF(Q82=\"\",\"\",O82+IF(Q82=\"XX\",VLOOKUP(\"WRONG\",Answers!M:P,4,FALSE),Q82)+R82)","v":""},{"$f":"IF($B82=\"\",\"\",UPPER(Mainframe!G81))","v":""},{"$f":"IF(T82=\"\",\"\",IF(NOT(ISNA(VLOOKUP(T82,Answers!Q:T,4,FALSE))),VLOOKUP(T82,Answers!Q:T,4,FALSE),\"Help!\"))","v":""},null,{"$f":"IF(U82=\"\",\"\",S82+IF(U82=\"XX\",VLOOKUP(\"WRONG\",Answers!Q:T,4,FALSE),U82)+V82)","v":""},{"$f":"IF($B82=\"\",\"\",UPPER(Mainframe!H81))","v":""},{"$f":"IF(X82=\"\",\"\",IF(NOT(ISNA(VLOOKUP(X82,Answers!U:X,4,FALSE))),VLOOKUP(X82,Answers!U:X,4,FALSE),\"Help!\"))","v":""},null,{"$f":"IF(Y82=\"\",\"\",W82+IF(Y82=\"XX\",VLOOKUP(\"WRONG\",Answers!U:X,4,FALSE),Y82)+Z82)","v":""},{"$f":"IF($B82=\"\",\"\",UPPER(Mainframe!I81))","v":""},{"$f":"IF(AB82=\"\",\"\",IF(NOT(ISNA(VLOOKUP(AB82,Answers!Y:AB,4,FALSE))),VLOOKUP(AB82,Answers!Y:AB,4,FALSE),\"Help!\"))","v":""},null,{"$f":"IF(AC82=\"\",\"\",AA82+IF(AC82=\"XX\",VLOOKUP(\"WRONG\",Answers!Y:AB,4,FALSE),AC82)+AD82)","v":""},{"$f":"IF($B82=\"\",\"\",UPPER(Mainframe!J81))","v":""},{"$f":"IF(AF82=\"\",\"\",IF(NOT(ISNA(VLOOKUP(AF82,Answers!AC:AF,4,FALSE))),VLOOKUP(AF82,Answers!AC:AF,4,FALSE),\"Help!\"))","v":""},null,{"$f":"IF(AG82=\"\",\"\",AE82+IF(AG82=\"XX\",VLOOKUP(\"WRONG\",Answers!AC:AF,4,FALSE),AG82)+AH82)","v":""},{"$f":"IF($B82=\"\",\"\",UPPER(Mainframe!K81))","v":""},{"$f":"IF(AJ82=\"\",\"\",IF(NOT(ISNA(VLOOKUP(AJ82,Answers!AG:AJ,4,FALSE))),VLOOKUP(AJ82,Answers!AG:AJ,4,FALSE),\"Help!\"))","v":""},null,{"$f":"IF(AK82=\"\",\"\",AI82+IF(AK82=\"XX\",VLOOKUP(\"WRONG\",Answers!AG:AJ,4,FALSE),AK82)+AL82)","v":""},{"$f":"IF($B82=\"\",\"\",UPPER(Mainframe!L81))","v":""},{"$f":"IF(AN82=\"\",\"\",IF(NOT(ISNA(VLOOKUP(AN82,Answers!AK:AN,4,FALSE))),VLOOKUP(AN82,Answers!AK:AN,4,FALSE),\"Help!\"))","v":""},null,{"$f":"IF(AO82=\"\",\"\",AM82+IF(AO82=\"XX\",VLOOKUP(\"WRONG\",Answers!AK:AN,4,FALSE),AO82)+AP82)","v":""},{"$f":"IF($B82=\"\",\"\",UPPER(Mainframe!M81))","v":""},{"$f":"IF(AR82=\"\",\"\",IF(NOT(ISNA(VLOOKUP(AR82,Answers!AO:AR,4,FALSE))),VLOOKUP(AR82,Answers!AO:AR,4,FALSE),\"Help!\"))","v":""},null,{"$f":"IF(AS82=\"\",\"\",AQ82+IF(AS82=\"XX\",VLOOKUP(\"WRONG\",Answers!AO:AR,4,FALSE),AS82)+AT82)","v":""},{"$f":"IF($B82=\"\",\"\",UPPER(Mainframe!N81))","v":""},{"$f":"IF(AV82=\"\",\"\",IF(NOT(ISNA(VLOOKUP(AV82,Answers!AS:AV,4,FALSE))),VLOOKUP(AV82,Answers!AS:AV,4,FALSE),\"Help!\"))","v":""},null,{"$f":"IF(AW82=\"\",\"\",AU82+IF(AW82=\"XX\",VLOOKUP(\"WRONG\",Answers!AS:AV,4,FALSE),AW82)+AX82)","v":""},{"$f":"IF($B82=\"\",\"\",UPPER(Mainframe!O81))","v":""},{"$f":"IF(AZ82=\"\",\"\",IF(NOT(ISNA(VLOOKUP(AZ82,Answers!AW:AZ,4,FALSE))),VLOOKUP(AZ82,Answers!AW:AZ,4,FALSE),\"Help!\"))","v":""},null,{"$f":"IF(BA82=\"\",\"\",AY82+IF(BA82=\"XX\",VLOOKUP(\"WRONG\",Answers!AW:AZ,4,FALSE),BA82)+BB82)","v":""},{"$f":"IF($B82=\"\",\"\",UPPER(Mainframe!P81))","v":""},{"$f":"IF(BD82=\"\",\"\",IF(NOT(ISNA(VLOOKUP(BD82,Answers!BA:BD,4,FALSE))),VLOOKUP(BD82,Answers!BA:BD,4,FALSE),\"Help!\"))","v":""},null,{"$f":"IF(BE82=\"\",\"\",BC82+IF(BE82=\"XX\",VLOOKUP(\"WRONG\",Answers!BA:BD,4,FALSE),BE82)+BF82)","v":""},{"$f":"IF($B82=\"\",\"\",UPPER(Mainframe!Q81))","v":""},{"$f":"IF(BH82=\"\",\"\",IF(NOT(ISNA(VLOOKUP(BH82,Answers!BE:BH,4,FALSE))),VLOOKUP(BH82,Answers!BE:BH,4,FALSE),\"Help!\"))","v":""},null,{"$f":"IF(BI82=\"\",\"\",BG82+IF(BI82=\"XX\",VLOOKUP(\"WRONG\",Answers!BE:BH,4,FALSE),BI82)+BJ82)","v":""},{"$f":"IF($B82=\"\",\"\",UPPER(Mainframe!R81))","v":""},{"$f":"IF(BL82=\"\",\"\",IF(NOT(ISNA(VLOOKUP(BL82,Answers!BI:BL,4,FALSE))),VLOOKUP(BL82,Answers!BI:BL,4,FALSE),\"Help!\"))","v":""},null,{"$f":"IF(BM82=\"\",\"\",BK82+IF(BM82=\"XX\",VLOOKUP(\"WRONG\",Answers!BI:BL,4,FALSE),BM82)+BN82)","v":""},{"$f":"IF($B82=\"\",\"\",UPPER(Mainframe!S81))","v":""},{"$f":"IF(BP82=\"\",\"\",IF(NOT(ISNA(VLOOKUP(BP82,Answers!BM:BP,4,FALSE))),VLOOKUP(BP82,Answers!BM:BP,4,FALSE),\"Help!\"))","v":""},null,{"$f":"IF(BQ82=\"\",\"\",BO82+IF(BQ82=\"XX\",VLOOKUP(\"WRONG\",Answers!BM:BP,4,FALSE),BQ82)+BR82)","v":""},{"$f":"IF($B82=\"\",\"\",UPPER(Mainframe!T81))","v":""},{"$f":"IF(BT82=\"\",\"\",IF(NOT(ISNA(VLOOKUP(BT82,Answers!BQ:BT,4,FALSE))),VLOOKUP(BT82,Answers!BQ:BT,4,FALSE),\"Help!\"))","v":""},null,{"$f":"IF(BU82=\"\",\"\",BS82+IF(BU82=\"XX\",VLOOKUP(\"WRONG\",Answers!BQ:BT,4,FALSE),BU82)+BV82)","v":""},{"$f":"IF($B82=\"\",\"\",UPPER(Mainframe!U81))","v":""},{"$f":"IF(BX82=\"\",\"\",IF(NOT(ISNA(VLOOKUP(BX82,Answers!BU:BX,4,FALSE))),VLOOKUP(BX82,Answers!BU:BX,4,FALSE),\"Help!\"))","v":""},null,{"$f":"IF(BY82=\"\",\"\",BW82+IF(BY82=\"XX\",VLOOKUP(\"WRONG\",Answers!BU:BX,4,FALSE),BY82)+BZ82)","v":""},{"$f":"IF($B82=\"\",\"\",UPPER(Mainframe!V81))","v":""},{"$f":"IF(CB82=\"\",\"\",IF(NOT(ISNA(VLOOKUP(CB82,Answers!BY:CB,4,FALSE))),VLOOKUP(CB82,Answers!BY:CB,4,FALSE),\"Help!\"))","v":""},null,{"$f":"IF(CC82=\"\",\"\",CA82+IF(CC82=\"XX\",VLOOKUP(\"WRONG\",Answers!BY:CB,4,FALSE),CC82)+CD82)","v":""},null,null,1,{"$f":"IF(INDEX($B:$CE,ROW(),QNO*4-1)=DROPNAME,DROPNAME,IF(INDEX($B:$CE,ROW(),QNO*4-1)=SHEEPNAME,SHEEPNAME,IF(INDEX($B:$CE,ROW(),QNO*4)=\"XX\",INDEX($B:$CE,ROW(),QNO*4-1),INDEX(OFFSET(Answers!B:B,0,(QNO-1)*4),MATCH(INDEX($A:$CB,ROW(),QNO*4),OFFSET(Answers!A:A,0,(QNO-1)*4),0))&\" — \"&IF(INDEX($B:$CE,ROW(),QNO*4)=1,\"[b]Singleton![/b]\",CONCATENATE(INDEX($B:$CE,ROW(),QNO*4),\" responses\")))))","v":{"$error":"#N/A"}},"//////////////////////////////////////////////////////////////////////////////////////////////////","No",{"$f":"IF(B82=0,\"\",CONCATENATE(INDEX($CH:$CL,ROW(),1),\". \",INDEX($B:$CE,ROW(),1),\" — [b]\")&IF(QNO=1,CONCATENATE(INDEX($B:$CE,ROW(),QNO*4+2),\"[/b] pts\"),CONCATENATE(INDEX($B:$CE,ROW(),QNO*4-2),\" + \",IF(INDEX($B:$CE,ROW(),QNO*4)=\"XX\",INDEX(Answers!$A:$ZZ,2,QNO*4),INDEX($B:$CE,ROW(),QNO*4)),\" = \",INDEX($B:$CE,ROW(),QNO*4+2),\"[/b] pts \",IF(INDEX($C:$CE,ROW(),QNO*4)>0,\"(penalty: +\"&INDEX($C:$CE,ROW(),QNO*4)&\") \",IF(INDEX($C:$CE,ROW(),QNO*4)<0,\"(bonus: \"&INDEX($C:$CE,ROW(),QNO*4)&\") \",\"\"))&\"[[b]\"&IF(CN82>0,\"[color=#00BF00]↑\"&CN82,IF(CN82<0,\"[color=#FF0000]↓\"&ABS(CN82),\"[color=#0000FF]unch\"))&\"[/b][/color]]\")))","v":"1.  — [b][/b] pts"},1,0]
["[*]",{"$f":"IF(Mainframe!B82=\"\",\"\",INDEX(Mainframe!$B:$B,C83+1,1))","v":""},81,{"$f":"IF($B83=\"\",\"\",UPPER(Mainframe!C82))","v":""},{"$f":"IF(D83=\"\",\"\",IF(NOT(ISNA(VLOOKUP(D83,Answers!A:D,4,FALSE))),VLOOKUP(D83,Answers!A:D,4,FALSE),\"Help!\"))","v":""},null,{"$f":"IF(E83=\"\",\"\",IF(E83=\"XX\",VLOOKUP(\"WRONG\",Answers!A:D,4,FALSE),E83)+F83)","v":""},{"$f":"IF($B83=\"\",\"\",UPPER(Mainframe!D82))","v":""},{"$f":"IF(H83=\"\",\"\",IF(NOT(ISNA(VLOOKUP(H83,Answers!E:H,4,FALSE))),VLOOKUP(H83,Answers!E:H,4,FALSE),\"Help!\"))","v":""},null,{"$f":"IF(I83=\"\",\"\",G83+IF(I83=\"XX\",VLOOKUP(\"WRONG\",Answers!E:H,4,FALSE),I83)+J83)","v":""},{"$f":"IF($B83=\"\",\"\",UPPER(Mainframe!E82))","v":""},{"$f":"IF(L83=\"\",\"\",IF(NOT(ISNA(VLOOKUP(L83,Answers!I:L,4,FALSE))),VLOOKUP(L83,Answers!I:L,4,FALSE),\"Help!\"))","v":""},null,{"$f":"IF(M83=\"\",\"\",K83+IF(M83=\"XX\",VLOOKUP(\"WRONG\",Answers!I:L,4,FALSE),M83)+N83)","v":""},{"$f":"IF($B83=\"\",\"\",UPPER(Mainframe!F82))","v":""},{"$f":"IF(P83=\"\",\"\",IF(NOT(ISNA(VLOOKUP(P83,Answers!M:P,4,FALSE))),VLOOKUP(P83,Answers!M:P,4,FALSE),\"Help!\"))","v":""},null,{"$f":"IF(Q83=\"\",\"\",O83+IF(Q83=\"XX\",VLOOKUP(\"WRONG\",Answers!M:P,4,FALSE),Q83)+R83)","v":""},{"$f":"IF($B83=\"\",\"\",UPPER(Mainframe!G82))","v":""},{"$f":"IF(T83=\"\",\"\",IF(NOT(ISNA(VLOOKUP(T83,Answers!Q:T,4,FALSE))),VLOOKUP(T83,Answers!Q:T,4,FALSE),\"Help!\"))","v":""},null,{"$f":"IF(U83=\"\",\"\",S83+IF(U83=\"XX\",VLOOKUP(\"WRONG\",Answers!Q:T,4,FALSE),U83)+V83)","v":""},{"$f":"IF($B83=\"\",\"\",UPPER(Mainframe!H82))","v":""},{"$f":"IF(X83=\"\",\"\",IF(NOT(ISNA(VLOOKUP(X83,Answers!U:X,4,FALSE))),VLOOKUP(X83,Answers!U:X,4,FALSE),\"Help!\"))","v":""},null,{"$f":"IF(Y83=\"\",\"\",W83+IF(Y83=\"XX\",VLOOKUP(\"WRONG\",Answers!U:X,4,FALSE),Y83)+Z83)","v":""},{"$f":"IF($B83=\"\",\"\",UPPER(Mainframe!I82))","v":""},{"$f":"IF(AB83=\"\",\"\",IF(NOT(ISNA(VLOOKUP(AB83,Answers!Y:AB,4,FALSE))),VLOOKUP(AB83,Answers!Y:AB,4,FALSE),\"Help!\"))","v":""},null,{"$f":"IF(AC83=\"\",\"\",AA83+IF(AC83=\"XX\",VLOOKUP(\"WRONG\",Answers!Y:AB,4,FALSE),AC83)+AD83)","v":""},{"$f":"IF($B83=\"\",\"\",UPPER(Mainframe!J82))","v":""},{"$f":"IF(AF83=\"\",\"\",IF(NOT(ISNA(VLOOKUP(AF83,Answers!AC:AF,4,FALSE))),VLOOKUP(AF83,Answers!AC:AF,4,FALSE),\"Help!\"))","v":""},null,{"$f":"IF(AG83=\"\",\"\",AE83+IF(AG83=\"XX\",VLOOKUP(\"WRONG\",Answers!AC:AF,4,FALSE),AG83)+AH83)","v":""},{"$f":"IF($B83=\"\",\"\",UPPER(Mainframe!K82))","v":""},{"$f":"IF(AJ83=\"\",\"\",IF(NOT(ISNA(VLOOKUP(AJ83,Answers!AG:AJ,4,FALSE))),VLOOKUP(AJ83,Answers!AG:AJ,4,FALSE),\"Help!\"))","v":""},null,{"$f":"IF(AK83=\"\",\"\",AI83+IF(AK83=\"XX\",VLOOKUP(\"WRONG\",Answers!AG:AJ,4,FALSE),AK83)+AL83)","v":""},{"$f":"IF($B83=\"\",\"\",UPPER(Mainframe!L82))","v":""},{"$f":"IF(AN83=\"\",\"\",IF(NOT(ISNA(VLOOKUP(AN83,Answers!AK:AN,4,FALSE))),VLOOKUP(AN83,Answers!AK:AN,4,FALSE),\"Help!\"))","v":""},null,{"$f":"IF(AO83=\"\",\"\",AM83+IF(AO83=\"XX\",VLOOKUP(\"WRONG\",Answers!AK:AN,4,FALSE),AO83)+AP83)","v":""},{"$f":"IF($B83=\"\",\"\",UPPER(Mainframe!M82))","v":""},{"$f":"IF(AR83=\"\",\"\",IF(NOT(ISNA(VLOOKUP(AR83,Answers!AO:AR,4,FALSE))),VLOOKUP(AR83,Answers!AO:AR,4,FALSE),\"Help!\"))","v":""},null,{"$f":"IF(AS83=\"\",\"\",AQ83+IF(AS83=\"XX\",VLOOKUP(\"WRONG\",Answers!AO:AR,4,FALSE),AS83)+AT83)","v":""},{"$f":"IF($B83=\"\",\"\",UPPER(Mainframe!N82))","v":""},{"$f":"IF(AV83=\"\",\"\",IF(NOT(ISNA(VLOOKUP(AV83,Answers!AS:AV,4,FALSE))),VLOOKUP(AV83,Answers!AS:AV,4,FALSE),\"Help!\"))","v":""},null,{"$f":"IF(AW83=\"\",\"\",AU83+IF(AW83=\"XX\",VLOOKUP(\"WRONG\",Answers!AS:AV,4,FALSE),AW83)+AX83)","v":""},{"$f":"IF($B83=\"\",\"\",UPPER(Mainframe!O82))","v":""},{"$f":"IF(AZ83=\"\",\"\",IF(NOT(ISNA(VLOOKUP(AZ83,Answers!AW:AZ,4,FALSE))),VLOOKUP(AZ83,Answers!AW:AZ,4,FALSE),\"Help!\"))","v":""},null,{"$f":"IF(BA83=\"\",\"\",AY83+IF(BA83=\"XX\",VLOOKUP(\"WRONG\",Answers!AW:AZ,4,FALSE),BA83)+BB83)","v":""},{"$f":"IF($B83=\"\",\"\",UPPER(Mainframe!P82))","v":""},{"$f":"IF(BD83=\"\",\"\",IF(NOT(ISNA(VLOOKUP(BD83,Answers!BA:BD,4,FALSE))),VLOOKUP(BD83,Answers!BA:BD,4,FALSE),\"Help!\"))","v":""},null,{"$f":"IF(BE83=\"\",\"\",BC83+IF(BE83=\"XX\",VLOOKUP(\"WRONG\",Answers!BA:BD,4,FALSE),BE83)+BF83)","v":""},{"$f":"IF($B83=\"\",\"\",UPPER(Mainframe!Q82))","v":""},{"$f":"IF(BH83=\"\",\"\",IF(NOT(ISNA(VLOOKUP(BH83,Answers!BE:BH,4,FALSE))),VLOOKUP(BH83,Answers!BE:BH,4,FALSE),\"Help!\"))","v":""},null,{"$f":"IF(BI83=\"\",\"\",BG83+IF(BI83=\"XX\",VLOOKUP(\"WRONG\",Answers!BE:BH,4,FALSE),BI83)+BJ83)","v":""},{"$f":"IF($B83=\"\",\"\",UPPER(Mainframe!R82))","v":""},{"$f":"IF(BL83=\"\",\"\",IF(NOT(ISNA(VLOOKUP(BL83,Answers!BI:BL,4,FALSE))),VLOOKUP(BL83,Answers!BI:BL,4,FALSE),\"Help!\"))","v":""},null,{"$f":"IF(BM83=\"\",\"\",BK83+IF(BM83=\"XX\",VLOOKUP(\"WRONG\",Answers!BI:BL,4,FALSE),BM83)+BN83)","v":""},{"$f":"IF($B83=\"\",\"\",UPPER(Mainframe!S82))","v":""},{"$f":"IF(BP83=\"\",\"\",IF(NOT(ISNA(VLOOKUP(BP83,Answers!BM:BP,4,FALSE))),VLOOKUP(BP83,Answers!BM:BP,4,FALSE),\"Help!\"))","v":""},null,{"$f":"IF(BQ83=\"\",\"\",BO83+IF(BQ83=\"XX\",VLOOKUP(\"WRONG\",Answers!BM:BP,4,FALSE),BQ83)+BR83)","v":""},{"$f":"IF($B83=\"\",\"\",UPPER(Mainframe!T82))","v":""},{"$f":"IF(BT83=\"\",\"\",IF(NOT(ISNA(VLOOKUP(BT83,Answers!BQ:BT,4,FALSE))),VLOOKUP(BT83,Answers!BQ:BT,4,FALSE),\"Help!\"))","v":""},null,{"$f":"IF(BU83=\"\",\"\",BS83+IF(BU83=\"XX\",VLOOKUP(\"WRONG\",Answers!BQ:BT,4,FALSE),BU83)+BV83)","v":""},{"$f":"IF($B83=\"\",\"\",UPPER(Mainframe!U82))","v":""},{"$f":"IF(BX83=\"\",\"\",IF(NOT(ISNA(VLOOKUP(BX83,Answers!BU:BX,4,FALSE))),VLOOKUP(BX83,Answers!BU:BX,4,FALSE),\"Help!\"))","v":""},null,{"$f":"IF(BY83=\"\",\"\",BW83+IF(BY83=\"XX\",VLOOKUP(\"WRONG\",Answers!BU:BX,4,FALSE),BY83)+BZ83)","v":""},{"$f":"IF($B83=\"\",\"\",UPPER(Mainframe!V82))","v":""},{"$f":"IF(CB83=\"\",\"\",IF(NOT(ISNA(VLOOKUP(CB83,Answers!BY:CB,4,FALSE))),VLOOKUP(CB83,Answers!BY:CB,4,FALSE),\"Help!\"))","v":""},null,{"$f":"IF(CC83=\"\",\"\",CA83+IF(CC83=\"XX\",VLOOKUP(\"WRONG\",Answers!BY:CB,4,FALSE),CC83)+CD83)","v":""},null,null,1,{"$f":"IF(INDEX($B:$CE,ROW(),QNO*4-1)=DROPNAME,DROPNAME,IF(INDEX($B:$CE,ROW(),QNO*4-1)=SHEEPNAME,SHEEPNAME,IF(INDEX($B:$CE,ROW(),QNO*4)=\"XX\",INDEX($B:$CE,ROW(),QNO*4-1),INDEX(OFFSET(Answers!B:B,0,(QNO-1)*4),MATCH(INDEX($A:$CB,ROW(),QNO*4),OFFSET(Answers!A:A,0,(QNO-1)*4),0))&\" — \"&IF(INDEX($B:$CE,ROW(),QNO*4)=1,\"[b]Singleton![/b]\",CONCATENATE(INDEX($B:$CE,ROW(),QNO*4),\" responses\")))))","v":{"$error":"#N/A"}},"////////////////////////////////////////////////////////////////////////////////////////////////","No",{"$f":"IF(B83=0,\"\",CONCATENATE(INDEX($CH:$CL,ROW(),1),\". \",INDEX($B:$CE,ROW(),1),\" — [b]\")&IF(QNO=1,CONCATENATE(INDEX($B:$CE,ROW(),QNO*4+2),\"[/b] pts\"),CONCATENATE(INDEX($B:$CE,ROW(),QNO*4-2),\" + \",IF(INDEX($B:$CE,ROW(),QNO*4)=\"XX\",INDEX(Answers!$A:$ZZ,2,QNO*4),INDEX($B:$CE,ROW(),QNO*4)),\" = \",INDEX($B:$CE,ROW(),QNO*4+2),\"[/b] pts \",IF(INDEX($C:$CE,ROW(),QNO*4)>0,\"(penalty: +\"&INDEX($C:$CE,ROW(),QNO*4)&\") \",IF(INDEX($C:$CE,ROW(),QNO*4)<0,\"(bonus: \"&INDEX($C:$CE,ROW(),QNO*4)&\") \",\"\"))&\"[[b]\"&IF(CN83>0,\"[color=#00BF00]↑\"&CN83,IF(CN83<0,\"[color=#FF0000]↓\"&ABS(CN83),\"[color=#0000FF]unch\"))&\"[/b][/color]]\")))","v":"1.  — [b][/b] pts"},1,0]
["[*]",{"$f":"IF(Mainframe!B83=\"\",\"\",INDEX(Mainframe!$B:$B,C84+1,1))","v":""},82,{"$f":"IF($B84=\"\",\"\",UPPER(Mainframe!C83))","v":""},{"$f":"IF(D84=\"\",\"\",IF(NOT(ISNA(VLOOKUP(D84,Answers!A:D,4,FALSE))),VLOOKUP(D84,Answers!A:D,4,FALSE),\"Help!\"))","v":""},null,{"$f":"IF(E84=\"\",\"\",IF(E84=\"XX\",VLOOKUP(\"WRONG\",Answers!A:D,4,FALSE),E84)+F84)","v":""},{"$f":"IF($B84=\"\",\"\",UPPER(Mainframe!D83))","v":""},{"$f":"IF(H84=\"\",\"\",IF(NOT(ISNA(VLOOKUP(H84,Answers!E:H,4,FALSE))),VLOOKUP(H84,Answers!E:H,4,FALSE),\"Help!\"))","v":""},null,{"$f":"IF(I84=\"\",\"\",G84+IF(I84=\"XX\",VLOOKUP(\"WRONG\",Answers!E:H,4,FALSE),I84)+J84)","v":""},{"$f":"IF($B84=\"\",\"\",UPPER(Mainframe!E83))","v":""},{"$f":"IF(L84=\"\",\"\",IF(NOT(ISNA(VLOOKUP(L84,Answers!I:L,4,FALSE))),VLOOKUP(L84,Answers!I:L,4,FALSE),\"Help!\"))","v":""},null,{"$f":"IF(M84=\"\",\"\",K84+IF(M84=\"XX\",VLOOKUP(\"WRONG\",Answers!I:L,4,FALSE),M84)+N84)","v":""},{"$f":"IF($B84=\"\",\"\",UPPER(Mainframe!F83))","v":""},{"$f":"IF(P84=\"\",\"\",IF(NOT(ISNA(VLOOKUP(P84,Answers!M:P,4,FALSE))),VLOOKUP(P84,Answers!M:P,4,FALSE),\"Help!\"))","v":""},null,{"$f":"IF(Q84=\"\",\"\",O84+IF(Q84=\"XX\",VLOOKUP(\"WRONG\",Answers!M:P,4,FALSE),Q84)+R84)","v":""},{"$f":"IF($B84=\"\",\"\",UPPER(Mainframe!G83))","v":""},{"$f":"IF(T84=\"\",\"\",IF(NOT(ISNA(VLOOKUP(T84,Answers!Q:T,4,FALSE))),VLOOKUP(T84,Answers!Q:T,4,FALSE),\"Help!\"))","v":""},null,{"$f":"IF(U84=\"\",\"\",S84+IF(U84=\"XX\",VLOOKUP(\"WRONG\",Answers!Q:T,4,FALSE),U84)+V84)","v":""},{"$f":"IF($B84=\"\",\"\",UPPER(Mainframe!H83))","v":""},{"$f":"IF(X84=\"\",\"\",IF(NOT(ISNA(VLOOKUP(X84,Answers!U:X,4,FALSE))),VLOOKUP(X84,Answers!U:X,4,FALSE),\"Help!\"))","v":""},null,{"$f":"IF(Y84=\"\",\"\",W84+IF(Y84=\"XX\",VLOOKUP(\"WRONG\",Answers!U:X,4,FALSE),Y84)+Z84)","v":""},{"$f":"IF($B84=\"\",\"\",UPPER(Mainframe!I83))","v":""},{"$f":"IF(AB84=\"\",\"\",IF(NOT(ISNA(VLOOKUP(AB84,Answers!Y:AB,4,FALSE))),VLOOKUP(AB84,Answers!Y:AB,4,FALSE),\"Help!\"))","v":""},null,{"$f":"IF(AC84=\"\",\"\",AA84+IF(AC84=\"XX\",VLOOKUP(\"WRONG\",Answers!Y:AB,4,FALSE),AC84)+AD84)","v":""},{"$f":"IF($B84=\"\",\"\",UPPER(Mainframe!J83))","v":""},{"$f":"IF(AF84=\"\",\"\",IF(NOT(ISNA(VLOOKUP(AF84,Answers!AC:AF,4,FALSE))),VLOOKUP(AF84,Answers!AC:AF,4,FALSE),\"Help!\"))","v":""},null,{"$f":"IF(AG84=\"\",\"\",AE84+IF(AG84=\"XX\",VLOOKUP(\"WRONG\",Answers!AC:AF,4,FALSE),AG84)+AH84)","v":""},{"$f":"IF($B84=\"\",\"\",UPPER(Mainframe!K83))","v":""},{"$f":"IF(AJ84=\"\",\"\",IF(NOT(ISNA(VLOOKUP(AJ84,Answers!AG:AJ,4,FALSE))),VLOOKUP(AJ84,Answers!AG:AJ,4,FALSE),\"Help!\"))","v":""},null,{"$f":"IF(AK84=\"\",\"\",AI84+IF(AK84=\"XX\",VLOOKUP(\"WRONG\",Answers!AG:AJ,4,FALSE),AK84)+AL84)","v":""},{"$f":"IF($B84=\"\",\"\",UPPER(Mainframe!L83))","v":""},{"$f":"IF(AN84=\"\",\"\",IF(NOT(ISNA(VLOOKUP(AN84,Answers!AK:AN,4,FALSE))),VLOOKUP(AN84,Answers!AK:AN,4,FALSE),\"Help!\"))","v":""},null,{"$f":"IF(AO84=\"\",\"\",AM84+IF(AO84=\"XX\",VLOOKUP(\"WRONG\",Answers!AK:AN,4,FALSE),AO84)+AP84)","v":""},{"$f":"IF($B84=\"\",\"\",UPPER(Mainframe!M83))","v":""},{"$f":"IF(AR84=\"\",\"\",IF(NOT(ISNA(VLOOKUP(AR84,Answers!AO:AR,4,FALSE))),VLOOKUP(AR84,Answers!AO:AR,4,FALSE),\"Help!\"))","v":""},null,{"$f":"IF(AS84=\"\",\"\",AQ84+IF(AS84=\"XX\",VLOOKUP(\"WRONG\",Answers!AO:AR,4,FALSE),AS84)+AT84)","v":""},{"$f":"IF($B84=\"\",\"\",UPPER(Mainframe!N83))","v":""},{"$f":"IF(AV84=\"\",\"\",IF(NOT(ISNA(VLOOKUP(AV84,Answers!AS:AV,4,FALSE))),VLOOKUP(AV84,Answers!AS:AV,4,FALSE),\"Help!\"))","v":""},null,{"$f":"IF(AW84=\"\",\"\",AU84+IF(AW84=\"XX\",VLOOKUP(\"WRONG\",Answers!AS:AV,4,FALSE),AW84)+AX84)","v":""},{"$f":"IF($B84=\"\",\"\",UPPER(Mainframe!O83))","v":""},{"$f":"IF(AZ84=\"\",\"\",IF(NOT(ISNA(VLOOKUP(AZ84,Answers!AW:AZ,4,FALSE))),VLOOKUP(AZ84,Answers!AW:AZ,4,FALSE),\"Help!\"))","v":""},null,{"$f":"IF(BA84=\"\",\"\",AY84+IF(BA84=\"XX\",VLOOKUP(\"WRONG\",Answers!AW:AZ,4,FALSE),BA84)+BB84)","v":""},{"$f":"IF($B84=\"\",\"\",UPPER(Mainframe!P83))","v":""},{"$f":"IF(BD84=\"\",\"\",IF(NOT(ISNA(VLOOKUP(BD84,Answers!BA:BD,4,FALSE))),VLOOKUP(BD84,Answers!BA:BD,4,FALSE),\"Help!\"))","v":""},null,{"$f":"IF(BE84=\"\",\"\",BC84+IF(BE84=\"XX\",VLOOKUP(\"WRONG\",Answers!BA:BD,4,FALSE),BE84)+BF84)","v":""},{"$f":"IF($B84=\"\",\"\",UPPER(Mainframe!Q83))","v":""},{"$f":"IF(BH84=\"\",\"\",IF(NOT(ISNA(VLOOKUP(BH84,Answers!BE:BH,4,FALSE))),VLOOKUP(BH84,Answers!BE:BH,4,FALSE),\"Help!\"))","v":""},null,{"$f":"IF(BI84=\"\",\"\",BG84+IF(BI84=\"XX\",VLOOKUP(\"WRONG\",Answers!BE:BH,4,FALSE),BI84)+BJ84)","v":""},{"$f":"IF($B84=\"\",\"\",UPPER(Mainframe!R83))","v":""},{"$f":"IF(BL84=\"\",\"\",IF(NOT(ISNA(VLOOKUP(BL84,Answers!BI:BL,4,FALSE))),VLOOKUP(BL84,Answers!BI:BL,4,FALSE),\"Help!\"))","v":""},null,{"$f":"IF(BM84=\"\",\"\",BK84+IF(BM84=\"XX\",VLOOKUP(\"WRONG\",Answers!BI:BL,4,FALSE),BM84)+BN84)","v":""},{"$f":"IF($B84=\"\",\"\",UPPER(Mainframe!S83))","v":""},{"$f":"IF(BP84=\"\",\"\",IF(NOT(ISNA(VLOOKUP(BP84,Answers!BM:BP,4,FALSE))),VLOOKUP(BP84,Answers!BM:BP,4,FALSE),\"Help!\"))","v":""},null,{"$f":"IF(BQ84=\"\",\"\",BO84+IF(BQ84=\"XX\",VLOOKUP(\"WRONG\",Answers!BM:BP,4,FALSE),BQ84)+BR84)","v":""},{"$f":"IF($B84=\"\",\"\",UPPER(Mainframe!T83))","v":""},{"$f":"IF(BT84=\"\",\"\",IF(NOT(ISNA(VLOOKUP(BT84,Answers!BQ:BT,4,FALSE))),VLOOKUP(BT84,Answers!BQ:BT,4,FALSE),\"Help!\"))","v":""},null,{"$f":"IF(BU84=\"\",\"\",BS84+IF(BU84=\"XX\",VLOOKUP(\"WRONG\",Answers!BQ:BT,4,FALSE),BU84)+BV84)","v":""},{"$f":"IF($B84=\"\",\"\",UPPER(Mainframe!U83))","v":""},{"$f":"IF(BX84=\"\",\"\",IF(NOT(ISNA(VLOOKUP(BX84,Answers!BU:BX,4,FALSE))),VLOOKUP(BX84,Answers!BU:BX,4,FALSE),\"Help!\"))","v":""},null,{"$f":"IF(BY84=\"\",\"\",BW84+IF(BY84=\"XX\",VLOOKUP(\"WRONG\",Answers!BU:BX,4,FALSE),BY84)+BZ84)","v":""},{"$f":"IF($B84=\"\",\"\",UPPER(Mainframe!V83))","v":""},{"$f":"IF(CB84=\"\",\"\",IF(NOT(ISNA(VLOOKUP(CB84,Answers!BY:CB,4,FALSE))),VLOOKUP(CB84,Answers!BY:CB,4,FALSE),\"Help!\"))","v":""},null,{"$f":"IF(CC84=\"\",\"\",CA84+IF(CC84=\"XX\",VLOOKUP(\"WRONG\",Answers!BY:CB,4,FALSE),CC84)+CD84)","v":""},null,null,1,{"$f":"IF(INDEX($B:$CE,ROW(),QNO*4-1)=DROPNAME,DROPNAME,IF(INDEX($B:$CE,ROW(),QNO*4-1)=SHEEPNAME,SHEEPNAME,IF(INDEX($B:$CE,ROW(),QNO*4)=\"XX\",INDEX($B:$CE,ROW(),QNO*4-1),INDEX(OFFSET(Answers!B:B,0,(QNO-1)*4),MATCH(INDEX($A:$CB,ROW(),QNO*4),OFFSET(Answers!A:A,0,(QNO-1)*4),0))&\" — \"&IF(INDEX($B:$CE,ROW(),QNO*4)=1,\"[b]Singleton![/b]\",CONCATENATE(INDEX($B:$CE,ROW(),QNO*4),\" responses\")))))","v":{"$error":"#N/A"}},"//////////////////////////////////////////////////////////////////////////////////////////////","No",{"$f":"IF(B84=0,\"\",CONCATENATE(INDEX($CH:$CL,ROW(),1),\". \",INDEX($B:$CE,ROW(),1),\" — [b]\")&IF(QNO=1,CONCATENATE(INDEX($B:$CE,ROW(),QNO*4+2),\"[/b] pts\"),CONCATENATE(INDEX($B:$CE,ROW(),QNO*4-2),\" + \",IF(INDEX($B:$CE,ROW(),QNO*4)=\"XX\",INDEX(Answers!$A:$ZZ,2,QNO*4),INDEX($B:$CE,ROW(),QNO*4)),\" = \",INDEX($B:$CE,ROW(),QNO*4+2),\"[/b] pts \",IF(INDEX($C:$CE,ROW(),QNO*4)>0,\"(penalty: +\"&INDEX($C:$CE,ROW(),QNO*4)&\") \",IF(INDEX($C:$CE,ROW(),QNO*4)<0,\"(bonus: \"&INDEX($C:$CE,ROW(),QNO*4)&\") \",\"\"))&\"[[b]\"&IF(CN84>0,\"[color=#00BF00]↑\"&CN84,IF(CN84<0,\"[color=#FF0000]↓\"&ABS(CN84),\"[color=#0000FF]unch\"))&\"[/b][/color]]\")))","v":"1.  — [b][/b] pts"},1,0]
["[*]",{"$f":"IF(Mainframe!B84=\"\",\"\",INDEX(Mainframe!$B:$B,C85+1,1))","v":""},83,{"$f":"IF($B85=\"\",\"\",UPPER(Mainframe!C84))","v":""},{"$f":"IF(D85=\"\",\"\",IF(NOT(ISNA(VLOOKUP(D85,Answers!A:D,4,FALSE))),VLOOKUP(D85,Answers!A:D,4,FALSE),\"Help!\"))","v":""},null,{"$f":"IF(E85=\"\",\"\",IF(E85=\"XX\",VLOOKUP(\"WRONG\",Answers!A:D,4,FALSE),E85)+F85)","v":""},{"$f":"IF($B85=\"\",\"\",UPPER(Mainframe!D84))","v":""},{"$f":"IF(H85=\"\",\"\",IF(NOT(ISNA(VLOOKUP(H85,Answers!E:H,4,FALSE))),VLOOKUP(H85,Answers!E:H,4,FALSE),\"Help!\"))","v":""},null,{"$f":"IF(I85=\"\",\"\",G85+IF(I85=\"XX\",VLOOKUP(\"WRONG\",Answers!E:H,4,FALSE),I85)+J85)","v":""},{"$f":"IF($B85=\"\",\"\",UPPER(Mainframe!E84))","v":""},{"$f":"IF(L85=\"\",\"\",IF(NOT(ISNA(VLOOKUP(L85,Answers!I:L,4,FALSE))),VLOOKUP(L85,Answers!I:L,4,FALSE),\"Help!\"))","v":""},null,{"$f":"IF(M85=\"\",\"\",K85+IF(M85=\"XX\",VLOOKUP(\"WRONG\",Answers!I:L,4,FALSE),M85)+N85)","v":""},{"$f":"IF($B85=\"\",\"\",UPPER(Mainframe!F84))","v":""},{"$f":"IF(P85=\"\",\"\",IF(NOT(ISNA(VLOOKUP(P85,Answers!M:P,4,FALSE))),VLOOKUP(P85,Answers!M:P,4,FALSE),\"Help!\"))","v":""},null,{"$f":"IF(Q85=\"\",\"\",O85+IF(Q85=\"XX\",VLOOKUP(\"WRONG\",Answers!M:P,4,FALSE),Q85)+R85)","v":""},{"$f":"IF($B85=\"\",\"\",UPPER(Mainframe!G84))","v":""},{"$f":"IF(T85=\"\",\"\",IF(NOT(ISNA(VLOOKUP(T85,Answers!Q:T,4,FALSE))),VLOOKUP(T85,Answers!Q:T,4,FALSE),\"Help!\"))","v":""},null,{"$f":"IF(U85=\"\",\"\",S85+IF(U85=\"XX\",VLOOKUP(\"WRONG\",Answers!Q:T,4,FALSE),U85)+V85)","v":""},{"$f":"IF($B85=\"\",\"\",UPPER(Mainframe!H84))","v":""},{"$f":"IF(X85=\"\",\"\",IF(NOT(ISNA(VLOOKUP(X85,Answers!U:X,4,FALSE))),VLOOKUP(X85,Answers!U:X,4,FALSE),\"Help!\"))","v":""},null,{"$f":"IF(Y85=\"\",\"\",W85+IF(Y85=\"XX\",VLOOKUP(\"WRONG\",Answers!U:X,4,FALSE),Y85)+Z85)","v":""},{"$f":"IF($B85=\"\",\"\",UPPER(Mainframe!I84))","v":""},{"$f":"IF(AB85=\"\",\"\",IF(NOT(ISNA(VLOOKUP(AB85,Answers!Y:AB,4,FALSE))),VLOOKUP(AB85,Answers!Y:AB,4,FALSE),\"Help!\"))","v":""},null,{"$f":"IF(AC85=\"\",\"\",AA85+IF(AC85=\"XX\",VLOOKUP(\"WRONG\",Answers!Y:AB,4,FALSE),AC85)+AD85)","v":""},{"$f":"IF($B85=\"\",\"\",UPPER(Mainframe!J84))","v":""},{"$f":"IF(AF85=\"\",\"\",IF(NOT(ISNA(VLOOKUP(AF85,Answers!AC:AF,4,FALSE))),VLOOKUP(AF85,Answers!AC:AF,4,FALSE),\"Help!\"))","v":""},null,{"$f":"IF(AG85=\"\",\"\",AE85+IF(AG85=\"XX\",VLOOKUP(\"WRONG\",Answers!AC:AF,4,FALSE),AG85)+AH85)","v":""},{"$f":"IF($B85=\"\",\"\",UPPER(Mainframe!K84))","v":""},{"$f":"IF(AJ85=\"\",\"\",IF(NOT(ISNA(VLOOKUP(AJ85,Answers!AG:AJ,4,FALSE))),VLOOKUP(AJ85,Answers!AG:AJ,4,FALSE),\"Help!\"))","v":""},null,{"$f":"IF(AK85=\"\",\"\",AI85+IF(AK85=\"XX\",VLOOKUP(\"WRONG\",Answers!AG:AJ,4,FALSE),AK85)+AL85)","v":""},{"$f":"IF($B85=\"\",\"\",UPPER(Mainframe!L84))","v":""},{"$f":"IF(AN85=\"\",\"\",IF(NOT(ISNA(VLOOKUP(AN85,Answers!AK:AN,4,FALSE))),VLOOKUP(AN85,Answers!AK:AN,4,FALSE),\"Help!\"))","v":""},null,{"$f":"IF(AO85=\"\",\"\",AM85+IF(AO85=\"XX\",VLOOKUP(\"WRONG\",Answers!AK:AN,4,FALSE),AO85)+AP85)","v":""},{"$f":"IF($B85=\"\",\"\",UPPER(Mainframe!M84))","v":""},{"$f":"IF(AR85=\"\",\"\",IF(NOT(ISNA(VLOOKUP(AR85,Answers!AO:AR,4,FALSE))),VLOOKUP(AR85,Answers!AO:AR,4,FALSE),\"Help!\"))","v":""},null,{"$f":"IF(AS85=\"\",\"\",AQ85+IF(AS85=\"XX\",VLOOKUP(\"WRONG\",Answers!AO:AR,4,FALSE),AS85)+AT85)","v":""},{"$f":"IF($B85=\"\",\"\",UPPER(Mainframe!N84))","v":""},{"$f":"IF(AV85=\"\",\"\",IF(NOT(ISNA(VLOOKUP(AV85,Answers!AS:AV,4,FALSE))),VLOOKUP(AV85,Answers!AS:AV,4,FALSE),\"Help!\"))","v":""},null,{"$f":"IF(AW85=\"\",\"\",AU85+IF(AW85=\"XX\",VLOOKUP(\"WRONG\",Answers!AS:AV,4,FALSE),AW85)+AX85)","v":""},{"$f":"IF($B85=\"\",\"\",UPPER(Mainframe!O84))","v":""},{"$f":"IF(AZ85=\"\",\"\",IF(NOT(ISNA(VLOOKUP(AZ85,Answers!AW:AZ,4,FALSE))),VLOOKUP(AZ85,Answers!AW:AZ,4,FALSE),\"Help!\"))","v":""},null,{"$f":"IF(BA85=\"\",\"\",AY85+IF(BA85=\"XX\",VLOOKUP(\"WRONG\",Answers!AW:AZ,4,FALSE),BA85)+BB85)","v":""},{"$f":"IF($B85=\"\",\"\",UPPER(Mainframe!P84))","v":""},{"$f":"IF(BD85=\"\",\"\",IF(NOT(ISNA(VLOOKUP(BD85,Answers!BA:BD,4,FALSE))),VLOOKUP(BD85,Answers!BA:BD,4,FALSE),\"Help!\"))","v":""},null,{"$f":"IF(BE85=\"\",\"\",BC85+IF(BE85=\"XX\",VLOOKUP(\"WRONG\",Answers!BA:BD,4,FALSE),BE85)+BF85)","v":""},{"$f":"IF($B85=\"\",\"\",UPPER(Mainframe!Q84))","v":""},{"$f":"IF(BH85=\"\",\"\",IF(NOT(ISNA(VLOOKUP(BH85,Answers!BE:BH,4,FALSE))),VLOOKUP(BH85,Answers!BE:BH,4,FALSE),\"Help!\"))","v":""},null,{"$f":"IF(BI85=\"\",\"\",BG85+IF(BI85=\"XX\",VLOOKUP(\"WRONG\",Answers!BE:BH,4,FALSE),BI85)+BJ85)","v":""},{"$f":"IF($B85=\"\",\"\",UPPER(Mainframe!R84))","v":""},{"$f":"IF(BL85=\"\",\"\",IF(NOT(ISNA(VLOOKUP(BL85,Answers!BI:BL,4,FALSE))),VLOOKUP(BL85,Answers!BI:BL,4,FALSE),\"Help!\"))","v":""},null,{"$f":"IF(BM85=\"\",\"\",BK85+IF(BM85=\"XX\",VLOOKUP(\"WRONG\",Answers!BI:BL,4,FALSE),BM85)+BN85)","v":""},{"$f":"IF($B85=\"\",\"\",UPPER(Mainframe!S84))","v":""},{"$f":"IF(BP85=\"\",\"\",IF(NOT(ISNA(VLOOKUP(BP85,Answers!BM:BP,4,FALSE))),VLOOKUP(BP85,Answers!BM:BP,4,FALSE),\"Help!\"))","v":""},null,{"$f":"IF(BQ85=\"\",\"\",BO85+IF(BQ85=\"XX\",VLOOKUP(\"WRONG\",Answers!BM:BP,4,FALSE),BQ85)+BR85)","v":""},{"$f":"IF($B85=\"\",\"\",UPPER(Mainframe!T84))","v":""},{"$f":"IF(BT85=\"\",\"\",IF(NOT(ISNA(VLOOKUP(BT85,Answers!BQ:BT,4,FALSE))),VLOOKUP(BT85,Answers!BQ:BT,4,FALSE),\"Help!\"))","v":""},null,{"$f":"IF(BU85=\"\",\"\",BS85+IF(BU85=\"XX\",VLOOKUP(\"WRONG\",Answers!BQ:BT,4,FALSE),BU85)+BV85)","v":""},{"$f":"IF($B85=\"\",\"\",UPPER(Mainframe!U84))","v":""},{"$f":"IF(BX85=\"\",\"\",IF(NOT(ISNA(VLOOKUP(BX85,Answers!BU:BX,4,FALSE))),VLOOKUP(BX85,Answers!BU:BX,4,FALSE),\"Help!\"))","v":""},null,{"$f":"IF(BY85=\"\",\"\",BW85+IF(BY85=\"XX\",VLOOKUP(\"WRONG\",Answers!BU:BX,4,FALSE),BY85)+BZ85)","v":""},{"$f":"IF($B85=\"\",\"\",UPPER(Mainframe!V84))","v":""},{"$f":"IF(CB85=\"\",\"\",IF(NOT(ISNA(VLOOKUP(CB85,Answers!BY:CB,4,FALSE))),VLOOKUP(CB85,Answers!BY:CB,4,FALSE),\"Help!\"))","v":""},null,{"$f":"IF(CC85=\"\",\"\",CA85+IF(CC85=\"XX\",VLOOKUP(\"WRONG\",Answers!BY:CB,4,FALSE),CC85)+CD85)","v":""},null,null,1,{"$f":"IF(INDEX($B:$CE,ROW(),QNO*4-1)=DROPNAME,DROPNAME,IF(INDEX($B:$CE,ROW(),QNO*4-1)=SHEEPNAME,SHEEPNAME,IF(INDEX($B:$CE,ROW(),QNO*4)=\"XX\",INDEX($B:$CE,ROW(),QNO*4-1),INDEX(OFFSET(Answers!B:B,0,(QNO-1)*4),MATCH(INDEX($A:$CB,ROW(),QNO*4),OFFSET(Answers!A:A,0,(QNO-1)*4),0))&\" — \"&IF(INDEX($B:$CE,ROW(),QNO*4)=1,\"[b]Singleton![/b]\",CONCATENATE(INDEX($B:$CE,ROW(),QNO*4),\" responses\")))))","v":{"$error":"#N/A"}},"////////////////////////////////////////////////////////////////////////////////////////////","No",{"$f":"IF(B85=0,\"\",CONCATENATE(INDEX($CH:$CL,ROW(),1),\". \",INDEX($B:$CE,ROW(),1),\" — [b]\")&IF(QNO=1,CONCATENATE(INDEX($B:$CE,ROW(),QNO*4+2),\"[/b] pts\"),CONCATENATE(INDEX($B:$CE,ROW(),QNO*4-2),\" + \",IF(INDEX($B:$CE,ROW(),QNO*4)=\"XX\",INDEX(Answers!$A:$ZZ,2,QNO*4),INDEX($B:$CE,ROW(),QNO*4)),\" = \",INDEX($B:$CE,ROW(),QNO*4+2),\"[/b] pts \",IF(INDEX($C:$CE,ROW(),QNO*4)>0,\"(penalty: +\"&INDEX($C:$CE,ROW(),QNO*4)&\") \",IF(INDEX($C:$CE,ROW(),QNO*4)<0,\"(bonus: \"&INDEX($C:$CE,ROW(),QNO*4)&\") \",\"\"))&\"[[b]\"&IF(CN85>0,\"[color=#00BF00]↑\"&CN85,IF(CN85<0,\"[color=#FF0000]↓\"&ABS(CN85),\"[color=#0000FF]unch\"))&\"[/b][/color]]\")))","v":"1.  — [b][/b] pts"},1,0]
["[*]",{"$f":"IF(Mainframe!B85=\"\",\"\",INDEX(Mainframe!$B:$B,C86+1,1))","v":""},84,{"$f":"IF($B86=\"\",\"\",UPPER(Mainframe!C85))","v":""},{"$f":"IF(D86=\"\",\"\",IF(NOT(ISNA(VLOOKUP(D86,Answers!A:D,4,FALSE))),VLOOKUP(D86,Answers!A:D,4,FALSE),\"Help!\"))","v":""},null,{"$f":"IF(E86=\"\",\"\",IF(E86=\"XX\",VLOOKUP(\"WRONG\",Answers!A:D,4,FALSE),E86)+F86)","v":""},{"$f":"IF($B86=\"\",\"\",UPPER(Mainframe!D85))","v":""},{"$f":"IF(H86=\"\",\"\",IF(NOT(ISNA(VLOOKUP(H86,Answers!E:H,4,FALSE))),VLOOKUP(H86,Answers!E:H,4,FALSE),\"Help!\"))","v":""},null,{"$f":"IF(I86=\"\",\"\",G86+IF(I86=\"XX\",VLOOKUP(\"WRONG\",Answers!E:H,4,FALSE),I86)+J86)","v":""},{"$f":"IF($B86=\"\",\"\",UPPER(Mainframe!E85))","v":""},{"$f":"IF(L86=\"\",\"\",IF(NOT(ISNA(VLOOKUP(L86,Answers!I:L,4,FALSE))),VLOOKUP(L86,Answers!I:L,4,FALSE),\"Help!\"))","v":""},null,{"$f":"IF(M86=\"\",\"\",K86+IF(M86=\"XX\",VLOOKUP(\"WRONG\",Answers!I:L,4,FALSE),M86)+N86)","v":""},{"$f":"IF($B86=\"\",\"\",UPPER(Mainframe!F85))","v":""},{"$f":"IF(P86=\"\",\"\",IF(NOT(ISNA(VLOOKUP(P86,Answers!M:P,4,FALSE))),VLOOKUP(P86,Answers!M:P,4,FALSE),\"Help!\"))","v":""},null,{"$f":"IF(Q86=\"\",\"\",O86+IF(Q86=\"XX\",VLOOKUP(\"WRONG\",Answers!M:P,4,FALSE),Q86)+R86)","v":""},{"$f":"IF($B86=\"\",\"\",UPPER(Mainframe!G85))","v":""},{"$f":"IF(T86=\"\",\"\",IF(NOT(ISNA(VLOOKUP(T86,Answers!Q:T,4,FALSE))),VLOOKUP(T86,Answers!Q:T,4,FALSE),\"Help!\"))","v":""},null,{"$f":"IF(U86=\"\",\"\",S86+IF(U86=\"XX\",VLOOKUP(\"WRONG\",Answers!Q:T,4,FALSE),U86)+V86)","v":""},{"$f":"IF($B86=\"\",\"\",UPPER(Mainframe!H85))","v":""},{"$f":"IF(X86=\"\",\"\",IF(NOT(ISNA(VLOOKUP(X86,Answers!U:X,4,FALSE))),VLOOKUP(X86,Answers!U:X,4,FALSE),\"Help!\"))","v":""},null,{"$f":"IF(Y86=\"\",\"\",W86+IF(Y86=\"XX\",VLOOKUP(\"WRONG\",Answers!U:X,4,FALSE),Y86)+Z86)","v":""},{"$f":"IF($B86=\"\",\"\",UPPER(Mainframe!I85))","v":""},{"$f":"IF(AB86=\"\",\"\",IF(NOT(ISNA(VLOOKUP(AB86,Answers!Y:AB,4,FALSE))),VLOOKUP(AB86,Answers!Y:AB,4,FALSE),\"Help!\"))","v":""},null,{"$f":"IF(AC86=\"\",\"\",AA86+IF(AC86=\"XX\",VLOOKUP(\"WRONG\",Answers!Y:AB,4,FALSE),AC86)+AD86)","v":""},{"$f":"IF($B86=\"\",\"\",UPPER(Mainframe!J85))","v":""},{"$f":"IF(AF86=\"\",\"\",IF(NOT(ISNA(VLOOKUP(AF86,Answers!AC:AF,4,FALSE))),VLOOKUP(AF86,Answers!AC:AF,4,FALSE),\"Help!\"))","v":""},null,{"$f":"IF(AG86=\"\",\"\",AE86+IF(AG86=\"XX\",VLOOKUP(\"WRONG\",Answers!AC:AF,4,FALSE),AG86)+AH86)","v":""},{"$f":"IF($B86=\"\",\"\",UPPER(Mainframe!K85))","v":""},{"$f":"IF(AJ86=\"\",\"\",IF(NOT(ISNA(VLOOKUP(AJ86,Answers!AG:AJ,4,FALSE))),VLOOKUP(AJ86,Answers!AG:AJ,4,FALSE),\"Help!\"))","v":""},null,{"$f":"IF(AK86=\"\",\"\",AI86+IF(AK86=\"XX\",VLOOKUP(\"WRONG\",Answers!AG:AJ,4,FALSE),AK86)+AL86)","v":""},{"$f":"IF($B86=\"\",\"\",UPPER(Mainframe!L85))","v":""},{"$f":"IF(AN86=\"\",\"\",IF(NOT(ISNA(VLOOKUP(AN86,Answers!AK:AN,4,FALSE))),VLOOKUP(AN86,Answers!AK:AN,4,FALSE),\"Help!\"))","v":""},null,{"$f":"IF(AO86=\"\",\"\",AM86+IF(AO86=\"XX\",VLOOKUP(\"WRONG\",Answers!AK:AN,4,FALSE),AO86)+AP86)","v":""},{"$f":"IF($B86=\"\",\"\",UPPER(Mainframe!M85))","v":""},{"$f":"IF(AR86=\"\",\"\",IF(NOT(ISNA(VLOOKUP(AR86,Answers!AO:AR,4,FALSE))),VLOOKUP(AR86,Answers!AO:AR,4,FALSE),\"Help!\"))","v":""},null,{"$f":"IF(AS86=\"\",\"\",AQ86+IF(AS86=\"XX\",VLOOKUP(\"WRONG\",Answers!AO:AR,4,FALSE),AS86)+AT86)","v":""},{"$f":"IF($B86=\"\",\"\",UPPER(Mainframe!N85))","v":""},{"$f":"IF(AV86=\"\",\"\",IF(NOT(ISNA(VLOOKUP(AV86,Answers!AS:AV,4,FALSE))),VLOOKUP(AV86,Answers!AS:AV,4,FALSE),\"Help!\"))","v":""},null,{"$f":"IF(AW86=\"\",\"\",AU86+IF(AW86=\"XX\",VLOOKUP(\"WRONG\",Answers!AS:AV,4,FALSE),AW86)+AX86)","v":""},{"$f":"IF($B86=\"\",\"\",UPPER(Mainframe!O85))","v":""},{"$f":"IF(AZ86=\"\",\"\",IF(NOT(ISNA(VLOOKUP(AZ86,Answers!AW:AZ,4,FALSE))),VLOOKUP(AZ86,Answers!AW:AZ,4,FALSE),\"Help!\"))","v":""},null,{"$f":"IF(BA86=\"\",\"\",AY86+IF(BA86=\"XX\",VLOOKUP(\"WRONG\",Answers!AW:AZ,4,FALSE),BA86)+BB86)","v":""},{"$f":"IF($B86=\"\",\"\",UPPER(Mainframe!P85))","v":""},{"$f":"IF(BD86=\"\",\"\",IF(NOT(ISNA(VLOOKUP(BD86,Answers!BA:BD,4,FALSE))),VLOOKUP(BD86,Answers!BA:BD,4,FALSE),\"Help!\"))","v":""},null,{"$f":"IF(BE86=\"\",\"\",BC86+IF(BE86=\"XX\",VLOOKUP(\"WRONG\",Answers!BA:BD,4,FALSE),BE86)+BF86)","v":""},{"$f":"IF($B86=\"\",\"\",UPPER(Mainframe!Q85))","v":""},{"$f":"IF(BH86=\"\",\"\",IF(NOT(ISNA(VLOOKUP(BH86,Answers!BE:BH,4,FALSE))),VLOOKUP(BH86,Answers!BE:BH,4,FALSE),\"Help!\"))","v":""},null,{"$f":"IF(BI86=\"\",\"\",BG86+IF(BI86=\"XX\",VLOOKUP(\"WRONG\",Answers!BE:BH,4,FALSE),BI86)+BJ86)","v":""},{"$f":"IF($B86=\"\",\"\",UPPER(Mainframe!R85))","v":""},{"$f":"IF(BL86=\"\",\"\",IF(NOT(ISNA(VLOOKUP(BL86,Answers!BI:BL,4,FALSE))),VLOOKUP(BL86,Answers!BI:BL,4,FALSE),\"Help!\"))","v":""},null,{"$f":"IF(BM86=\"\",\"\",BK86+IF(BM86=\"XX\",VLOOKUP(\"WRONG\",Answers!BI:BL,4,FALSE),BM86)+BN86)","v":""},{"$f":"IF($B86=\"\",\"\",UPPER(Mainframe!S85))","v":""},{"$f":"IF(BP86=\"\",\"\",IF(NOT(ISNA(VLOOKUP(BP86,Answers!BM:BP,4,FALSE))),VLOOKUP(BP86,Answers!BM:BP,4,FALSE),\"Help!\"))","v":""},null,{"$f":"IF(BQ86=\"\",\"\",BO86+IF(BQ86=\"XX\",VLOOKUP(\"WRONG\",Answers!BM:BP,4,FALSE),BQ86)+BR86)","v":""},{"$f":"IF($B86=\"\",\"\",UPPER(Mainframe!T85))","v":""},{"$f":"IF(BT86=\"\",\"\",IF(NOT(ISNA(VLOOKUP(BT86,Answers!BQ:BT,4,FALSE))),VLOOKUP(BT86,Answers!BQ:BT,4,FALSE),\"Help!\"))","v":""},null,{"$f":"IF(BU86=\"\",\"\",BS86+IF(BU86=\"XX\",VLOOKUP(\"WRONG\",Answers!BQ:BT,4,FALSE),BU86)+BV86)","v":""},{"$f":"IF($B86=\"\",\"\",UPPER(Mainframe!U85))","v":""},{"$f":"IF(BX86=\"\",\"\",IF(NOT(ISNA(VLOOKUP(BX86,Answers!BU:BX,4,FALSE))),VLOOKUP(BX86,Answers!BU:BX,4,FALSE),\"Help!\"))","v":""},null,{"$f":"IF(BY86=\"\",\"\",BW86+IF(BY86=\"XX\",VLOOKUP(\"WRONG\",Answers!BU:BX,4,FALSE),BY86)+BZ86)","v":""},{"$f":"IF($B86=\"\",\"\",UPPER(Mainframe!V85))","v":""},{"$f":"IF(CB86=\"\",\"\",IF(NOT(ISNA(VLOOKUP(CB86,Answers!BY:CB,4,FALSE))),VLOOKUP(CB86,Answers!BY:CB,4,FALSE),\"Help!\"))","v":""},null,{"$f":"IF(CC86=\"\",\"\",CA86+IF(CC86=\"XX\",VLOOKUP(\"WRONG\",Answers!BY:CB,4,FALSE),CC86)+CD86)","v":""},null,null,1,{"$f":"IF(INDEX($B:$CE,ROW(),QNO*4-1)=DROPNAME,DROPNAME,IF(INDEX($B:$CE,ROW(),QNO*4-1)=SHEEPNAME,SHEEPNAME,IF(INDEX($B:$CE,ROW(),QNO*4)=\"XX\",INDEX($B:$CE,ROW(),QNO*4-1),INDEX(OFFSET(Answers!B:B,0,(QNO-1)*4),MATCH(INDEX($A:$CB,ROW(),QNO*4),OFFSET(Answers!A:A,0,(QNO-1)*4),0))&\" — \"&IF(INDEX($B:$CE,ROW(),QNO*4)=1,\"[b]Singleton![/b]\",CONCATENATE(INDEX($B:$CE,ROW(),QNO*4),\" responses\")))))","v":{"$error":"#N/A"}},"//////////////////////////////////////////////////////////////////////////////////////////","No",{"$f":"IF(B86=0,\"\",CONCATENATE(INDEX($CH:$CL,ROW(),1),\". \",INDEX($B:$CE,ROW(),1),\" — [b]\")&IF(QNO=1,CONCATENATE(INDEX($B:$CE,ROW(),QNO*4+2),\"[/b] pts\"),CONCATENATE(INDEX($B:$CE,ROW(),QNO*4-2),\" + \",IF(INDEX($B:$CE,ROW(),QNO*4)=\"XX\",INDEX(Answers!$A:$ZZ,2,QNO*4),INDEX($B:$CE,ROW(),QNO*4)),\" = \",INDEX($B:$CE,ROW(),QNO*4+2),\"[/b] pts \",IF(INDEX($C:$CE,ROW(),QNO*4)>0,\"(penalty: +\"&INDEX($C:$CE,ROW(),QNO*4)&\") \",IF(INDEX($C:$CE,ROW(),QNO*4)<0,\"(bonus: \"&INDEX($C:$CE,ROW(),QNO*4)&\") \",\"\"))&\"[[b]\"&IF(CN86>0,\"[color=#00BF00]↑\"&CN86,IF(CN86<0,\"[color=#FF0000]↓\"&ABS(CN86),\"[color=#0000FF]unch\"))&\"[/b][/color]]\")))","v":"1.  — [b][/b] pts"},1,0]
["[*]",{"$f":"IF(Mainframe!B86=\"\",\"\",INDEX(Mainframe!$B:$B,C87+1,1))","v":""},85,{"$f":"IF($B87=\"\",\"\",UPPER(Mainframe!C86))","v":""},{"$f":"IF(D87=\"\",\"\",IF(NOT(ISNA(VLOOKUP(D87,Answers!A:D,4,FALSE))),VLOOKUP(D87,Answers!A:D,4,FALSE),\"Help!\"))","v":""},null,{"$f":"IF(E87=\"\",\"\",IF(E87=\"XX\",VLOOKUP(\"WRONG\",Answers!A:D,4,FALSE),E87)+F87)","v":""},{"$f":"IF($B87=\"\",\"\",UPPER(Mainframe!D86))","v":""},{"$f":"IF(H87=\"\",\"\",IF(NOT(ISNA(VLOOKUP(H87,Answers!E:H,4,FALSE))),VLOOKUP(H87,Answers!E:H,4,FALSE),\"Help!\"))","v":""},null,{"$f":"IF(I87=\"\",\"\",G87+IF(I87=\"XX\",VLOOKUP(\"WRONG\",Answers!E:H,4,FALSE),I87)+J87)","v":""},{"$f":"IF($B87=\"\",\"\",UPPER(Mainframe!E86))","v":""},{"$f":"IF(L87=\"\",\"\",IF(NOT(ISNA(VLOOKUP(L87,Answers!I:L,4,FALSE))),VLOOKUP(L87,Answers!I:L,4,FALSE),\"Help!\"))","v":""},null,{"$f":"IF(M87=\"\",\"\",K87+IF(M87=\"XX\",VLOOKUP(\"WRONG\",Answers!I:L,4,FALSE),M87)+N87)","v":""},{"$f":"IF($B87=\"\",\"\",UPPER(Mainframe!F86))","v":""},{"$f":"IF(P87=\"\",\"\",IF(NOT(ISNA(VLOOKUP(P87,Answers!M:P,4,FALSE))),VLOOKUP(P87,Answers!M:P,4,FALSE),\"Help!\"))","v":""},null,{"$f":"IF(Q87=\"\",\"\",O87+IF(Q87=\"XX\",VLOOKUP(\"WRONG\",Answers!M:P,4,FALSE),Q87)+R87)","v":""},{"$f":"IF($B87=\"\",\"\",UPPER(Mainframe!G86))","v":""},{"$f":"IF(T87=\"\",\"\",IF(NOT(ISNA(VLOOKUP(T87,Answers!Q:T,4,FALSE))),VLOOKUP(T87,Answers!Q:T,4,FALSE),\"Help!\"))","v":""},null,{"$f":"IF(U87=\"\",\"\",S87+IF(U87=\"XX\",VLOOKUP(\"WRONG\",Answers!Q:T,4,FALSE),U87)+V87)","v":""},{"$f":"IF($B87=\"\",\"\",UPPER(Mainframe!H86))","v":""},{"$f":"IF(X87=\"\",\"\",IF(NOT(ISNA(VLOOKUP(X87,Answers!U:X,4,FALSE))),VLOOKUP(X87,Answers!U:X,4,FALSE),\"Help!\"))","v":""},null,{"$f":"IF(Y87=\"\",\"\",W87+IF(Y87=\"XX\",VLOOKUP(\"WRONG\",Answers!U:X,4,FALSE),Y87)+Z87)","v":""},{"$f":"IF($B87=\"\",\"\",UPPER(Mainframe!I86))","v":""},{"$f":"IF(AB87=\"\",\"\",IF(NOT(ISNA(VLOOKUP(AB87,Answers!Y:AB,4,FALSE))),VLOOKUP(AB87,Answers!Y:AB,4,FALSE),\"Help!\"))","v":""},null,{"$f":"IF(AC87=\"\",\"\",AA87+IF(AC87=\"XX\",VLOOKUP(\"WRONG\",Answers!Y:AB,4,FALSE),AC87)+AD87)","v":""},{"$f":"IF($B87=\"\",\"\",UPPER(Mainframe!J86))","v":""},{"$f":"IF(AF87=\"\",\"\",IF(NOT(ISNA(VLOOKUP(AF87,Answers!AC:AF,4,FALSE))),VLOOKUP(AF87,Answers!AC:AF,4,FALSE),\"Help!\"))","v":""},null,{"$f":"IF(AG87=\"\",\"\",AE87+IF(AG87=\"XX\",VLOOKUP(\"WRONG\",Answers!AC:AF,4,FALSE),AG87)+AH87)","v":""},{"$f":"IF($B87=\"\",\"\",UPPER(Mainframe!K86))","v":""},{"$f":"IF(AJ87=\"\",\"\",IF(NOT(ISNA(VLOOKUP(AJ87,Answers!AG:AJ,4,FALSE))),VLOOKUP(AJ87,Answers!AG:AJ,4,FALSE),\"Help!\"))","v":""},null,{"$f":"IF(AK87=\"\",\"\",AI87+IF(AK87=\"XX\",VLOOKUP(\"WRONG\",Answers!AG:AJ,4,FALSE),AK87)+AL87)","v":""},{"$f":"IF($B87=\"\",\"\",UPPER(Mainframe!L86))","v":""},{"$f":"IF(AN87=\"\",\"\",IF(NOT(ISNA(VLOOKUP(AN87,Answers!AK:AN,4,FALSE))),VLOOKUP(AN87,Answers!AK:AN,4,FALSE),\"Help!\"))","v":""},null,{"$f":"IF(AO87=\"\",\"\",AM87+IF(AO87=\"XX\",VLOOKUP(\"WRONG\",Answers!AK:AN,4,FALSE),AO87)+AP87)","v":""},{"$f":"IF($B87=\"\",\"\",UPPER(Mainframe!M86))","v":""},{"$f":"IF(AR87=\"\",\"\",IF(NOT(ISNA(VLOOKUP(AR87,Answers!AO:AR,4,FALSE))),VLOOKUP(AR87,Answers!AO:AR,4,FALSE),\"Help!\"))","v":""},null,{"$f":"IF(AS87=\"\",\"\",AQ87+IF(AS87=\"XX\",VLOOKUP(\"WRONG\",Answers!AO:AR,4,FALSE),AS87)+AT87)","v":""},{"$f":"IF($B87=\"\",\"\",UPPER(Mainframe!N86))","v":""},{"$f":"IF(AV87=\"\",\"\",IF(NOT(ISNA(VLOOKUP(AV87,Answers!AS:AV,4,FALSE))),VLOOKUP(AV87,Answers!AS:AV,4,FALSE),\"Help!\"))","v":""},null,{"$f":"IF(AW87=\"\",\"\",AU87+IF(AW87=\"XX\",VLOOKUP(\"WRONG\",Answers!AS:AV,4,FALSE),AW87)+AX87)","v":""},{"$f":"IF($B87=\"\",\"\",UPPER(Mainframe!O86))","v":""},{"$f":"IF(AZ87=\"\",\"\",IF(NOT(ISNA(VLOOKUP(AZ87,Answers!AW:AZ,4,FALSE))),VLOOKUP(AZ87,Answers!AW:AZ,4,FALSE),\"Help!\"))","v":""},null,{"$f":"IF(BA87=\"\",\"\",AY87+IF(BA87=\"XX\",VLOOKUP(\"WRONG\",Answers!AW:AZ,4,FALSE),BA87)+BB87)","v":""},{"$f":"IF($B87=\"\",\"\",UPPER(Mainframe!P86))","v":""},{"$f":"IF(BD87=\"\",\"\",IF(NOT(ISNA(VLOOKUP(BD87,Answers!BA:BD,4,FALSE))),VLOOKUP(BD87,Answers!BA:BD,4,FALSE),\"Help!\"))","v":""},null,{"$f":"IF(BE87=\"\",\"\",BC87+IF(BE87=\"XX\",VLOOKUP(\"WRONG\",Answers!BA:BD,4,FALSE),BE87)+BF87)","v":""},{"$f":"IF($B87=\"\",\"\",UPPER(Mainframe!Q86))","v":""},{"$f":"IF(BH87=\"\",\"\",IF(NOT(ISNA(VLOOKUP(BH87,Answers!BE:BH,4,FALSE))),VLOOKUP(BH87,Answers!BE:BH,4,FALSE),\"Help!\"))","v":""},null,{"$f":"IF(BI87=\"\",\"\",BG87+IF(BI87=\"XX\",VLOOKUP(\"WRONG\",Answers!BE:BH,4,FALSE),BI87)+BJ87)","v":""},{"$f":"IF($B87=\"\",\"\",UPPER(Mainframe!R86))","v":""},{"$f":"IF(BL87=\"\",\"\",IF(NOT(ISNA(VLOOKUP(BL87,Answers!BI:BL,4,FALSE))),VLOOKUP(BL87,Answers!BI:BL,4,FALSE),\"Help!\"))","v":""},null,{"$f":"IF(BM87=\"\",\"\",BK87+IF(BM87=\"XX\",VLOOKUP(\"WRONG\",Answers!BI:BL,4,FALSE),BM87)+BN87)","v":""},{"$f":"IF($B87=\"\",\"\",UPPER(Mainframe!S86))","v":""},{"$f":"IF(BP87=\"\",\"\",IF(NOT(ISNA(VLOOKUP(BP87,Answers!BM:BP,4,FALSE))),VLOOKUP(BP87,Answers!BM:BP,4,FALSE),\"Help!\"))","v":""},null,{"$f":"IF(BQ87=\"\",\"\",BO87+IF(BQ87=\"XX\",VLOOKUP(\"WRONG\",Answers!BM:BP,4,FALSE),BQ87)+BR87)","v":""},{"$f":"IF($B87=\"\",\"\",UPPER(Mainframe!T86))","v":""},{"$f":"IF(BT87=\"\",\"\",IF(NOT(ISNA(VLOOKUP(BT87,Answers!BQ:BT,4,FALSE))),VLOOKUP(BT87,Answers!BQ:BT,4,FALSE),\"Help!\"))","v":""},null,{"$f":"IF(BU87=\"\",\"\",BS87+IF(BU87=\"XX\",VLOOKUP(\"WRONG\",Answers!BQ:BT,4,FALSE),BU87)+BV87)","v":""},{"$f":"IF($B87=\"\",\"\",UPPER(Mainframe!U86))","v":""},{"$f":"IF(BX87=\"\",\"\",IF(NOT(ISNA(VLOOKUP(BX87,Answers!BU:BX,4,FALSE))),VLOOKUP(BX87,Answers!BU:BX,4,FALSE),\"Help!\"))","v":""},null,{"$f":"IF(BY87=\"\",\"\",BW87+IF(BY87=\"XX\",VLOOKUP(\"WRONG\",Answers!BU:BX,4,FALSE),BY87)+BZ87)","v":""},{"$f":"IF($B87=\"\",\"\",UPPER(Mainframe!V86))","v":""},{"$f":"IF(CB87=\"\",\"\",IF(NOT(ISNA(VLOOKUP(CB87,Answers!BY:CB,4,FALSE))),VLOOKUP(CB87,Answers!BY:CB,4,FALSE),\"Help!\"))","v":""},null,{"$f":"IF(CC87=\"\",\"\",CA87+IF(CC87=\"XX\",VLOOKUP(\"WRONG\",Answers!BY:CB,4,FALSE),CC87)+CD87)","v":""},null,null,1,{"$f":"IF(INDEX($B:$CE,ROW(),QNO*4-1)=DROPNAME,DROPNAME,IF(INDEX($B:$CE,ROW(),QNO*4-1)=SHEEPNAME,SHEEPNAME,IF(INDEX($B:$CE,ROW(),QNO*4)=\"XX\",INDEX($B:$CE,ROW(),QNO*4-1),INDEX(OFFSET(Answers!B:B,0,(QNO-1)*4),MATCH(INDEX($A:$CB,ROW(),QNO*4),OFFSET(Answers!A:A,0,(QNO-1)*4),0))&\" — \"&IF(INDEX($B:$CE,ROW(),QNO*4)=1,\"[b]Singleton![/b]\",CONCATENATE(INDEX($B:$CE,ROW(),QNO*4),\" responses\")))))","v":{"$error":"#N/A"}},"////////////////////////////////////////////////////////////////////////////////////////","No",{"$f":"IF(B87=0,\"\",CONCATENATE(INDEX($CH:$CL,ROW(),1),\". \",INDEX($B:$CE,ROW(),1),\" — [b]\")&IF(QNO=1,CONCATENATE(INDEX($B:$CE,ROW(),QNO*4+2),\"[/b] pts\"),CONCATENATE(INDEX($B:$CE,ROW(),QNO*4-2),\" + \",IF(INDEX($B:$CE,ROW(),QNO*4)=\"XX\",INDEX(Answers!$A:$ZZ,2,QNO*4),INDEX($B:$CE,ROW(),QNO*4)),\" = \",INDEX($B:$CE,ROW(),QNO*4+2),\"[/b] pts \",IF(INDEX($C:$CE,ROW(),QNO*4)>0,\"(penalty: +\"&INDEX($C:$CE,ROW(),QNO*4)&\") \",IF(INDEX($C:$CE,ROW(),QNO*4)<0,\"(bonus: \"&INDEX($C:$CE,ROW(),QNO*4)&\") \",\"\"))&\"[[b]\"&IF(CN87>0,\"[color=#00BF00]↑\"&CN87,IF(CN87<0,\"[color=#FF0000]↓\"&ABS(CN87),\"[color=#0000FF]unch\"))&\"[/b][/color]]\")))","v":"1.  — [b][/b] pts"},1,0]
["[*]",{"$f":"IF(Mainframe!B87=\"\",\"\",INDEX(Mainframe!$B:$B,C88+1,1))","v":""},86,{"$f":"IF($B88=\"\",\"\",UPPER(Mainframe!C87))","v":""},{"$f":"IF(D88=\"\",\"\",IF(NOT(ISNA(VLOOKUP(D88,Answers!A:D,4,FALSE))),VLOOKUP(D88,Answers!A:D,4,FALSE),\"Help!\"))","v":""},null,{"$f":"IF(E88=\"\",\"\",IF(E88=\"XX\",VLOOKUP(\"WRONG\",Answers!A:D,4,FALSE),E88)+F88)","v":""},{"$f":"IF($B88=\"\",\"\",UPPER(Mainframe!D87))","v":""},{"$f":"IF(H88=\"\",\"\",IF(NOT(ISNA(VLOOKUP(H88,Answers!E:H,4,FALSE))),VLOOKUP(H88,Answers!E:H,4,FALSE),\"Help!\"))","v":""},null,{"$f":"IF(I88=\"\",\"\",G88+IF(I88=\"XX\",VLOOKUP(\"WRONG\",Answers!E:H,4,FALSE),I88)+J88)","v":""},{"$f":"IF($B88=\"\",\"\",UPPER(Mainframe!E87))","v":""},{"$f":"IF(L88=\"\",\"\",IF(NOT(ISNA(VLOOKUP(L88,Answers!I:L,4,FALSE))),VLOOKUP(L88,Answers!I:L,4,FALSE),\"Help!\"))","v":""},null,{"$f":"IF(M88=\"\",\"\",K88+IF(M88=\"XX\",VLOOKUP(\"WRONG\",Answers!I:L,4,FALSE),M88)+N88)","v":""},{"$f":"IF($B88=\"\",\"\",UPPER(Mainframe!F87))","v":""},{"$f":"IF(P88=\"\",\"\",IF(NOT(ISNA(VLOOKUP(P88,Answers!M:P,4,FALSE))),VLOOKUP(P88,Answers!M:P,4,FALSE),\"Help!\"))","v":""},null,{"$f":"IF(Q88=\"\",\"\",O88+IF(Q88=\"XX\",VLOOKUP(\"WRONG\",Answers!M:P,4,FALSE),Q88)+R88)","v":""},{"$f":"IF($B88=\"\",\"\",UPPER(Mainframe!G87))","v":""},{"$f":"IF(T88=\"\",\"\",IF(NOT(ISNA(VLOOKUP(T88,Answers!Q:T,4,FALSE))),VLOOKUP(T88,Answers!Q:T,4,FALSE),\"Help!\"))","v":""},null,{"$f":"IF(U88=\"\",\"\",S88+IF(U88=\"XX\",VLOOKUP(\"WRONG\",Answers!Q:T,4,FALSE),U88)+V88)","v":""},{"$f":"IF($B88=\"\",\"\",UPPER(Mainframe!H87))","v":""},{"$f":"IF(X88=\"\",\"\",IF(NOT(ISNA(VLOOKUP(X88,Answers!U:X,4,FALSE))),VLOOKUP(X88,Answers!U:X,4,FALSE),\"Help!\"))","v":""},null,{"$f":"IF(Y88=\"\",\"\",W88+IF(Y88=\"XX\",VLOOKUP(\"WRONG\",Answers!U:X,4,FALSE),Y88)+Z88)","v":""},{"$f":"IF($B88=\"\",\"\",UPPER(Mainframe!I87))","v":""},{"$f":"IF(AB88=\"\",\"\",IF(NOT(ISNA(VLOOKUP(AB88,Answers!Y:AB,4,FALSE))),VLOOKUP(AB88,Answers!Y:AB,4,FALSE),\"Help!\"))","v":""},null,{"$f":"IF(AC88=\"\",\"\",AA88+IF(AC88=\"XX\",VLOOKUP(\"WRONG\",Answers!Y:AB,4,FALSE),AC88)+AD88)","v":""},{"$f":"IF($B88=\"\",\"\",UPPER(Mainframe!J87))","v":""},{"$f":"IF(AF88=\"\",\"\",IF(NOT(ISNA(VLOOKUP(AF88,Answers!AC:AF,4,FALSE))),VLOOKUP(AF88,Answers!AC:AF,4,FALSE),\"Help!\"))","v":""},null,{"$f":"IF(AG88=\"\",\"\",AE88+IF(AG88=\"XX\",VLOOKUP(\"WRONG\",Answers!AC:AF,4,FALSE),AG88)+AH88)","v":""},{"$f":"IF($B88=\"\",\"\",UPPER(Mainframe!K87))","v":""},{"$f":"IF(AJ88=\"\",\"\",IF(NOT(ISNA(VLOOKUP(AJ88,Answers!AG:AJ,4,FALSE))),VLOOKUP(AJ88,Answers!AG:AJ,4,FALSE),\"Help!\"))","v":""},null,{"$f":"IF(AK88=\"\",\"\",AI88+IF(AK88=\"XX\",VLOOKUP(\"WRONG\",Answers!AG:AJ,4,FALSE),AK88)+AL88)","v":""},{"$f":"IF($B88=\"\",\"\",UPPER(Mainframe!L87))","v":""},{"$f":"IF(AN88=\"\",\"\",IF(NOT(ISNA(VLOOKUP(AN88,Answers!AK:AN,4,FALSE))),VLOOKUP(AN88,Answers!AK:AN,4,FALSE),\"Help!\"))","v":""},null,{"$f":"IF(AO88=\"\",\"\",AM88+IF(AO88=\"XX\",VLOOKUP(\"WRONG\",Answers!AK:AN,4,FALSE),AO88)+AP88)","v":""},{"$f":"IF($B88=\"\",\"\",UPPER(Mainframe!M87))","v":""},{"$f":"IF(AR88=\"\",\"\",IF(NOT(ISNA(VLOOKUP(AR88,Answers!AO:AR,4,FALSE))),VLOOKUP(AR88,Answers!AO:AR,4,FALSE),\"Help!\"))","v":""},null,{"$f":"IF(AS88=\"\",\"\",AQ88+IF(AS88=\"XX\",VLOOKUP(\"WRONG\",Answers!AO:AR,4,FALSE),AS88)+AT88)","v":""},{"$f":"IF($B88=\"\",\"\",UPPER(Mainframe!N87))","v":""},{"$f":"IF(AV88=\"\",\"\",IF(NOT(ISNA(VLOOKUP(AV88,Answers!AS:AV,4,FALSE))),VLOOKUP(AV88,Answers!AS:AV,4,FALSE),\"Help!\"))","v":""},null,{"$f":"IF(AW88=\"\",\"\",AU88+IF(AW88=\"XX\",VLOOKUP(\"WRONG\",Answers!AS:AV,4,FALSE),AW88)+AX88)","v":""},{"$f":"IF($B88=\"\",\"\",UPPER(Mainframe!O87))","v":""},{"$f":"IF(AZ88=\"\",\"\",IF(NOT(ISNA(VLOOKUP(AZ88,Answers!AW:AZ,4,FALSE))),VLOOKUP(AZ88,Answers!AW:AZ,4,FALSE),\"Help!\"))","v":""},null,{"$f":"IF(BA88=\"\",\"\",AY88+IF(BA88=\"XX\",VLOOKUP(\"WRONG\",Answers!AW:AZ,4,FALSE),BA88)+BB88)","v":""},{"$f":"IF($B88=\"\",\"\",UPPER(Mainframe!P87))","v":""},{"$f":"IF(BD88=\"\",\"\",IF(NOT(ISNA(VLOOKUP(BD88,Answers!BA:BD,4,FALSE))),VLOOKUP(BD88,Answers!BA:BD,4,FALSE),\"Help!\"))","v":""},null,{"$f":"IF(BE88=\"\",\"\",BC88+IF(BE88=\"XX\",VLOOKUP(\"WRONG\",Answers!BA:BD,4,FALSE),BE88)+BF88)","v":""},{"$f":"IF($B88=\"\",\"\",UPPER(Mainframe!Q87))","v":""},{"$f":"IF(BH88=\"\",\"\",IF(NOT(ISNA(VLOOKUP(BH88,Answers!BE:BH,4,FALSE))),VLOOKUP(BH88,Answers!BE:BH,4,FALSE),\"Help!\"))","v":""},null,{"$f":"IF(BI88=\"\",\"\",BG88+IF(BI88=\"XX\",VLOOKUP(\"WRONG\",Answers!BE:BH,4,FALSE),BI88)+BJ88)","v":""},{"$f":"IF($B88=\"\",\"\",UPPER(Mainframe!R87))","v":""},{"$f":"IF(BL88=\"\",\"\",IF(NOT(ISNA(VLOOKUP(BL88,Answers!BI:BL,4,FALSE))),VLOOKUP(BL88,Answers!BI:BL,4,FALSE),\"Help!\"))","v":""},null,{"$f":"IF(BM88=\"\",\"\",BK88+IF(BM88=\"XX\",VLOOKUP(\"WRONG\",Answers!BI:BL,4,FALSE),BM88)+BN88)","v":""},{"$f":"IF($B88=\"\",\"\",UPPER(Mainframe!S87))","v":""},{"$f":"IF(BP88=\"\",\"\",IF(NOT(ISNA(VLOOKUP(BP88,Answers!BM:BP,4,FALSE))),VLOOKUP(BP88,Answers!BM:BP,4,FALSE),\"Help!\"))","v":""},null,{"$f":"IF(BQ88=\"\",\"\",BO88+IF(BQ88=\"XX\",VLOOKUP(\"WRONG\",Answers!BM:BP,4,FALSE),BQ88)+BR88)","v":""},{"$f":"IF($B88=\"\",\"\",UPPER(Mainframe!T87))","v":""},{"$f":"IF(BT88=\"\",\"\",IF(NOT(ISNA(VLOOKUP(BT88,Answers!BQ:BT,4,FALSE))),VLOOKUP(BT88,Answers!BQ:BT,4,FALSE),\"Help!\"))","v":""},null,{"$f":"IF(BU88=\"\",\"\",BS88+IF(BU88=\"XX\",VLOOKUP(\"WRONG\",Answers!BQ:BT,4,FALSE),BU88)+BV88)","v":""},{"$f":"IF($B88=\"\",\"\",UPPER(Mainframe!U87))","v":""},{"$f":"IF(BX88=\"\",\"\",IF(NOT(ISNA(VLOOKUP(BX88,Answers!BU:BX,4,FALSE))),VLOOKUP(BX88,Answers!BU:BX,4,FALSE),\"Help!\"))","v":""},null,{"$f":"IF(BY88=\"\",\"\",BW88+IF(BY88=\"XX\",VLOOKUP(\"WRONG\",Answers!BU:BX,4,FALSE),BY88)+BZ88)","v":""},{"$f":"IF($B88=\"\",\"\",UPPER(Mainframe!V87))","v":""},{"$f":"IF(CB88=\"\",\"\",IF(NOT(ISNA(VLOOKUP(CB88,Answers!BY:CB,4,FALSE))),VLOOKUP(CB88,Answers!BY:CB,4,FALSE),\"Help!\"))","v":""},null,{"$f":"IF(CC88=\"\",\"\",CA88+IF(CC88=\"XX\",VLOOKUP(\"WRONG\",Answers!BY:CB,4,FALSE),CC88)+CD88)","v":""},null,null,1,{"$f":"IF(INDEX($B:$CE,ROW(),QNO*4-1)=DROPNAME,DROPNAME,IF(INDEX($B:$CE,ROW(),QNO*4-1)=SHEEPNAME,SHEEPNAME,IF(INDEX($B:$CE,ROW(),QNO*4)=\"XX\",INDEX($B:$CE,ROW(),QNO*4-1),INDEX(OFFSET(Answers!B:B,0,(QNO-1)*4),MATCH(INDEX($A:$CB,ROW(),QNO*4),OFFSET(Answers!A:A,0,(QNO-1)*4),0))&\" — \"&IF(INDEX($B:$CE,ROW(),QNO*4)=1,\"[b]Singleton![/b]\",CONCATENATE(INDEX($B:$CE,ROW(),QNO*4),\" responses\")))))","v":{"$error":"#N/A"}},"//////////////////////////////////////////////////////////////////////////////////////","No",{"$f":"IF(B88=0,\"\",CONCATENATE(INDEX($CH:$CL,ROW(),1),\". \",INDEX($B:$CE,ROW(),1),\" — [b]\")&IF(QNO=1,CONCATENATE(INDEX($B:$CE,ROW(),QNO*4+2),\"[/b] pts\"),CONCATENATE(INDEX($B:$CE,ROW(),QNO*4-2),\" + \",IF(INDEX($B:$CE,ROW(),QNO*4)=\"XX\",INDEX(Answers!$A:$ZZ,2,QNO*4),INDEX($B:$CE,ROW(),QNO*4)),\" = \",INDEX($B:$CE,ROW(),QNO*4+2),\"[/b] pts \",IF(INDEX($C:$CE,ROW(),QNO*4)>0,\"(penalty: +\"&INDEX($C:$CE,ROW(),QNO*4)&\") \",IF(INDEX($C:$CE,ROW(),QNO*4)<0,\"(bonus: \"&INDEX($C:$CE,ROW(),QNO*4)&\") \",\"\"))&\"[[b]\"&IF(CN88>0,\"[color=#00BF00]↑\"&CN88,IF(CN88<0,\"[color=#FF0000]↓\"&ABS(CN88),\"[color=#0000FF]unch\"))&\"[/b][/color]]\")))","v":"1.  — [b][/b] pts"},1,0]
["[*]",{"$f":"IF(Mainframe!B88=\"\",\"\",INDEX(Mainframe!$B:$B,C89+1,1))","v":""},87,{"$f":"IF($B89=\"\",\"\",UPPER(Mainframe!C88))","v":""},{"$f":"IF(D89=\"\",\"\",IF(NOT(ISNA(VLOOKUP(D89,Answers!A:D,4,FALSE))),VLOOKUP(D89,Answers!A:D,4,FALSE),\"Help!\"))","v":""},null,{"$f":"IF(E89=\"\",\"\",IF(E89=\"XX\",VLOOKUP(\"WRONG\",Answers!A:D,4,FALSE),E89)+F89)","v":""},{"$f":"IF($B89=\"\",\"\",UPPER(Mainframe!D88))","v":""},{"$f":"IF(H89=\"\",\"\",IF(NOT(ISNA(VLOOKUP(H89,Answers!E:H,4,FALSE))),VLOOKUP(H89,Answers!E:H,4,FALSE),\"Help!\"))","v":""},null,{"$f":"IF(I89=\"\",\"\",G89+IF(I89=\"XX\",VLOOKUP(\"WRONG\",Answers!E:H,4,FALSE),I89)+J89)","v":""},{"$f":"IF($B89=\"\",\"\",UPPER(Mainframe!E88))","v":""},{"$f":"IF(L89=\"\",\"\",IF(NOT(ISNA(VLOOKUP(L89,Answers!I:L,4,FALSE))),VLOOKUP(L89,Answers!I:L,4,FALSE),\"Help!\"))","v":""},null,{"$f":"IF(M89=\"\",\"\",K89+IF(M89=\"XX\",VLOOKUP(\"WRONG\",Answers!I:L,4,FALSE),M89)+N89)","v":""},{"$f":"IF($B89=\"\",\"\",UPPER(Mainframe!F88))","v":""},{"$f":"IF(P89=\"\",\"\",IF(NOT(ISNA(VLOOKUP(P89,Answers!M:P,4,FALSE))),VLOOKUP(P89,Answers!M:P,4,FALSE),\"Help!\"))","v":""},null,{"$f":"IF(Q89=\"\",\"\",O89+IF(Q89=\"XX\",VLOOKUP(\"WRONG\",Answers!M:P,4,FALSE),Q89)+R89)","v":""},{"$f":"IF($B89=\"\",\"\",UPPER(Mainframe!G88))","v":""},{"$f":"IF(T89=\"\",\"\",IF(NOT(ISNA(VLOOKUP(T89,Answers!Q:T,4,FALSE))),VLOOKUP(T89,Answers!Q:T,4,FALSE),\"Help!\"))","v":""},null,{"$f":"IF(U89=\"\",\"\",S89+IF(U89=\"XX\",VLOOKUP(\"WRONG\",Answers!Q:T,4,FALSE),U89)+V89)","v":""},{"$f":"IF($B89=\"\",\"\",UPPER(Mainframe!H88))","v":""},{"$f":"IF(X89=\"\",\"\",IF(NOT(ISNA(VLOOKUP(X89,Answers!U:X,4,FALSE))),VLOOKUP(X89,Answers!U:X,4,FALSE),\"Help!\"))","v":""},null,{"$f":"IF(Y89=\"\",\"\",W89+IF(Y89=\"XX\",VLOOKUP(\"WRONG\",Answers!U:X,4,FALSE),Y89)+Z89)","v":""},{"$f":"IF($B89=\"\",\"\",UPPER(Mainframe!I88))","v":""},{"$f":"IF(AB89=\"\",\"\",IF(NOT(ISNA(VLOOKUP(AB89,Answers!Y:AB,4,FALSE))),VLOOKUP(AB89,Answers!Y:AB,4,FALSE),\"Help!\"))","v":""},null,{"$f":"IF(AC89=\"\",\"\",AA89+IF(AC89=\"XX\",VLOOKUP(\"WRONG\",Answers!Y:AB,4,FALSE),AC89)+AD89)","v":""},{"$f":"IF($B89=\"\",\"\",UPPER(Mainframe!J88))","v":""},{"$f":"IF(AF89=\"\",\"\",IF(NOT(ISNA(VLOOKUP(AF89,Answers!AC:AF,4,FALSE))),VLOOKUP(AF89,Answers!AC:AF,4,FALSE),\"Help!\"))","v":""},null,{"$f":"IF(AG89=\"\",\"\",AE89+IF(AG89=\"XX\",VLOOKUP(\"WRONG\",Answers!AC:AF,4,FALSE),AG89)+AH89)","v":""},{"$f":"IF($B89=\"\",\"\",UPPER(Mainframe!K88))","v":""},{"$f":"IF(AJ89=\"\",\"\",IF(NOT(ISNA(VLOOKUP(AJ89,Answers!AG:AJ,4,FALSE))),VLOOKUP(AJ89,Answers!AG:AJ,4,FALSE),\"Help!\"))","v":""},null,{"$f":"IF(AK89=\"\",\"\",AI89+IF(AK89=\"XX\",VLOOKUP(\"WRONG\",Answers!AG:AJ,4,FALSE),AK89)+AL89)","v":""},{"$f":"IF($B89=\"\",\"\",UPPER(Mainframe!L88))","v":""},{"$f":"IF(AN89=\"\",\"\",IF(NOT(ISNA(VLOOKUP(AN89,Answers!AK:AN,4,FALSE))),VLOOKUP(AN89,Answers!AK:AN,4,FALSE),\"Help!\"))","v":""},null,{"$f":"IF(AO89=\"\",\"\",AM89+IF(AO89=\"XX\",VLOOKUP(\"WRONG\",Answers!AK:AN,4,FALSE),AO89)+AP89)","v":""},{"$f":"IF($B89=\"\",\"\",UPPER(Mainframe!M88))","v":""},{"$f":"IF(AR89=\"\",\"\",IF(NOT(ISNA(VLOOKUP(AR89,Answers!AO:AR,4,FALSE))),VLOOKUP(AR89,Answers!AO:AR,4,FALSE),\"Help!\"))","v":""},null,{"$f":"IF(AS89=\"\",\"\",AQ89+IF(AS89=\"XX\",VLOOKUP(\"WRONG\",Answers!AO:AR,4,FALSE),AS89)+AT89)","v":""},{"$f":"IF($B89=\"\",\"\",UPPER(Mainframe!N88))","v":""},{"$f":"IF(AV89=\"\",\"\",IF(NOT(ISNA(VLOOKUP(AV89,Answers!AS:AV,4,FALSE))),VLOOKUP(AV89,Answers!AS:AV,4,FALSE),\"Help!\"))","v":""},null,{"$f":"IF(AW89=\"\",\"\",AU89+IF(AW89=\"XX\",VLOOKUP(\"WRONG\",Answers!AS:AV,4,FALSE),AW89)+AX89)","v":""},{"$f":"IF($B89=\"\",\"\",UPPER(Mainframe!O88))","v":""},{"$f":"IF(AZ89=\"\",\"\",IF(NOT(ISNA(VLOOKUP(AZ89,Answers!AW:AZ,4,FALSE))),VLOOKUP(AZ89,Answers!AW:AZ,4,FALSE),\"Help!\"))","v":""},null,{"$f":"IF(BA89=\"\",\"\",AY89+IF(BA89=\"XX\",VLOOKUP(\"WRONG\",Answers!AW:AZ,4,FALSE),BA89)+BB89)","v":""},{"$f":"IF($B89=\"\",\"\",UPPER(Mainframe!P88))","v":""},{"$f":"IF(BD89=\"\",\"\",IF(NOT(ISNA(VLOOKUP(BD89,Answers!BA:BD,4,FALSE))),VLOOKUP(BD89,Answers!BA:BD,4,FALSE),\"Help!\"))","v":""},null,{"$f":"IF(BE89=\"\",\"\",BC89+IF(BE89=\"XX\",VLOOKUP(\"WRONG\",Answers!BA:BD,4,FALSE),BE89)+BF89)","v":""},{"$f":"IF($B89=\"\",\"\",UPPER(Mainframe!Q88))","v":""},{"$f":"IF(BH89=\"\",\"\",IF(NOT(ISNA(VLOOKUP(BH89,Answers!BE:BH,4,FALSE))),VLOOKUP(BH89,Answers!BE:BH,4,FALSE),\"Help!\"))","v":""},null,{"$f":"IF(BI89=\"\",\"\",BG89+IF(BI89=\"XX\",VLOOKUP(\"WRONG\",Answers!BE:BH,4,FALSE),BI89)+BJ89)","v":""},{"$f":"IF($B89=\"\",\"\",UPPER(Mainframe!R88))","v":""},{"$f":"IF(BL89=\"\",\"\",IF(NOT(ISNA(VLOOKUP(BL89,Answers!BI:BL,4,FALSE))),VLOOKUP(BL89,Answers!BI:BL,4,FALSE),\"Help!\"))","v":""},null,{"$f":"IF(BM89=\"\",\"\",BK89+IF(BM89=\"XX\",VLOOKUP(\"WRONG\",Answers!BI:BL,4,FALSE),BM89)+BN89)","v":""},{"$f":"IF($B89=\"\",\"\",UPPER(Mainframe!S88))","v":""},{"$f":"IF(BP89=\"\",\"\",IF(NOT(ISNA(VLOOKUP(BP89,Answers!BM:BP,4,FALSE))),VLOOKUP(BP89,Answers!BM:BP,4,FALSE),\"Help!\"))","v":""},null,{"$f":"IF(BQ89=\"\",\"\",BO89+IF(BQ89=\"XX\",VLOOKUP(\"WRONG\",Answers!BM:BP,4,FALSE),BQ89)+BR89)","v":""},{"$f":"IF($B89=\"\",\"\",UPPER(Mainframe!T88))","v":""},{"$f":"IF(BT89=\"\",\"\",IF(NOT(ISNA(VLOOKUP(BT89,Answers!BQ:BT,4,FALSE))),VLOOKUP(BT89,Answers!BQ:BT,4,FALSE),\"Help!\"))","v":""},null,{"$f":"IF(BU89=\"\",\"\",BS89+IF(BU89=\"XX\",VLOOKUP(\"WRONG\",Answers!BQ:BT,4,FALSE),BU89)+BV89)","v":""},{"$f":"IF($B89=\"\",\"\",UPPER(Mainframe!U88))","v":""},{"$f":"IF(BX89=\"\",\"\",IF(NOT(ISNA(VLOOKUP(BX89,Answers!BU:BX,4,FALSE))),VLOOKUP(BX89,Answers!BU:BX,4,FALSE),\"Help!\"))","v":""},null,{"$f":"IF(BY89=\"\",\"\",BW89+IF(BY89=\"XX\",VLOOKUP(\"WRONG\",Answers!BU:BX,4,FALSE),BY89)+BZ89)","v":""},{"$f":"IF($B89=\"\",\"\",UPPER(Mainframe!V88))","v":""},{"$f":"IF(CB89=\"\",\"\",IF(NOT(ISNA(VLOOKUP(CB89,Answers!BY:CB,4,FALSE))),VLOOKUP(CB89,Answers!BY:CB,4,FALSE),\"Help!\"))","v":""},null,{"$f":"IF(CC89=\"\",\"\",CA89+IF(CC89=\"XX\",VLOOKUP(\"WRONG\",Answers!BY:CB,4,FALSE),CC89)+CD89)","v":""},null,null,1,{"$f":"IF(INDEX($B:$CE,ROW(),QNO*4-1)=DROPNAME,DROPNAME,IF(INDEX($B:$CE,ROW(),QNO*4-1)=SHEEPNAME,SHEEPNAME,IF(INDEX($B:$CE,ROW(),QNO*4)=\"XX\",INDEX($B:$CE,ROW(),QNO*4-1),INDEX(OFFSET(Answers!B:B,0,(QNO-1)*4),MATCH(INDEX($A:$CB,ROW(),QNO*4),OFFSET(Answers!A:A,0,(QNO-1)*4),0))&\" — \"&IF(INDEX($B:$CE,ROW(),QNO*4)=1,\"[b]Singleton![/b]\",CONCATENATE(INDEX($B:$CE,ROW(),QNO*4),\" responses\")))))","v":{"$error":"#N/A"}},"////////////////////////////////////////////////////////////////////////////////////","No",{"$f":"IF(B89=0,\"\",CONCATENATE(INDEX($CH:$CL,ROW(),1),\". \",INDEX($B:$CE,ROW(),1),\" — [b]\")&IF(QNO=1,CONCATENATE(INDEX($B:$CE,ROW(),QNO*4+2),\"[/b] pts\"),CONCATENATE(INDEX($B:$CE,ROW(),QNO*4-2),\" + \",IF(INDEX($B:$CE,ROW(),QNO*4)=\"XX\",INDEX(Answers!$A:$ZZ,2,QNO*4),INDEX($B:$CE,ROW(),QNO*4)),\" = \",INDEX($B:$CE,ROW(),QNO*4+2),\"[/b] pts \",IF(INDEX($C:$CE,ROW(),QNO*4)>0,\"(penalty: +\"&INDEX($C:$CE,ROW(),QNO*4)&\") \",IF(INDEX($C:$CE,ROW(),QNO*4)<0,\"(bonus: \"&INDEX($C:$CE,ROW(),QNO*4)&\") \",\"\"))&\"[[b]\"&IF(CN89>0,\"[color=#00BF00]↑\"&CN89,IF(CN89<0,\"[color=#FF0000]↓\"&ABS(CN89),\"[color=#0000FF]unch\"))&\"[/b][/color]]\")))","v":"1.  — [b][/b] pts"},1,0]
["[*]",{"$f":"IF(Mainframe!B89=\"\",\"\",INDEX(Mainframe!$B:$B,C90+1,1))","v":""},88,{"$f":"IF($B90=\"\",\"\",UPPER(Mainframe!C89))","v":""},{"$f":"IF(D90=\"\",\"\",IF(NOT(ISNA(VLOOKUP(D90,Answers!A:D,4,FALSE))),VLOOKUP(D90,Answers!A:D,4,FALSE),\"Help!\"))","v":""},null,{"$f":"IF(E90=\"\",\"\",IF(E90=\"XX\",VLOOKUP(\"WRONG\",Answers!A:D,4,FALSE),E90)+F90)","v":""},{"$f":"IF($B90=\"\",\"\",UPPER(Mainframe!D89))","v":""},{"$f":"IF(H90=\"\",\"\",IF(NOT(ISNA(VLOOKUP(H90,Answers!E:H,4,FALSE))),VLOOKUP(H90,Answers!E:H,4,FALSE),\"Help!\"))","v":""},null,{"$f":"IF(I90=\"\",\"\",G90+IF(I90=\"XX\",VLOOKUP(\"WRONG\",Answers!E:H,4,FALSE),I90)+J90)","v":""},{"$f":"IF($B90=\"\",\"\",UPPER(Mainframe!E89))","v":""},{"$f":"IF(L90=\"\",\"\",IF(NOT(ISNA(VLOOKUP(L90,Answers!I:L,4,FALSE))),VLOOKUP(L90,Answers!I:L,4,FALSE),\"Help!\"))","v":""},null,{"$f":"IF(M90=\"\",\"\",K90+IF(M90=\"XX\",VLOOKUP(\"WRONG\",Answers!I:L,4,FALSE),M90)+N90)","v":""},{"$f":"IF($B90=\"\",\"\",UPPER(Mainframe!F89))","v":""},{"$f":"IF(P90=\"\",\"\",IF(NOT(ISNA(VLOOKUP(P90,Answers!M:P,4,FALSE))),VLOOKUP(P90,Answers!M:P,4,FALSE),\"Help!\"))","v":""},null,{"$f":"IF(Q90=\"\",\"\",O90+IF(Q90=\"XX\",VLOOKUP(\"WRONG\",Answers!M:P,4,FALSE),Q90)+R90)","v":""},{"$f":"IF($B90=\"\",\"\",UPPER(Mainframe!G89))","v":""},{"$f":"IF(T90=\"\",\"\",IF(NOT(ISNA(VLOOKUP(T90,Answers!Q:T,4,FALSE))),VLOOKUP(T90,Answers!Q:T,4,FALSE),\"Help!\"))","v":""},null,{"$f":"IF(U90=\"\",\"\",S90+IF(U90=\"XX\",VLOOKUP(\"WRONG\",Answers!Q:T,4,FALSE),U90)+V90)","v":""},{"$f":"IF($B90=\"\",\"\",UPPER(Mainframe!H89))","v":""},{"$f":"IF(X90=\"\",\"\",IF(NOT(ISNA(VLOOKUP(X90,Answers!U:X,4,FALSE))),VLOOKUP(X90,Answers!U:X,4,FALSE),\"Help!\"))","v":""},null,{"$f":"IF(Y90=\"\",\"\",W90+IF(Y90=\"XX\",VLOOKUP(\"WRONG\",Answers!U:X,4,FALSE),Y90)+Z90)","v":""},{"$f":"IF($B90=\"\",\"\",UPPER(Mainframe!I89))","v":""},{"$f":"IF(AB90=\"\",\"\",IF(NOT(ISNA(VLOOKUP(AB90,Answers!Y:AB,4,FALSE))),VLOOKUP(AB90,Answers!Y:AB,4,FALSE),\"Help!\"))","v":""},null,{"$f":"IF(AC90=\"\",\"\",AA90+IF(AC90=\"XX\",VLOOKUP(\"WRONG\",Answers!Y:AB,4,FALSE),AC90)+AD90)","v":""},{"$f":"IF($B90=\"\",\"\",UPPER(Mainframe!J89))","v":""},{"$f":"IF(AF90=\"\",\"\",IF(NOT(ISNA(VLOOKUP(AF90,Answers!AC:AF,4,FALSE))),VLOOKUP(AF90,Answers!AC:AF,4,FALSE),\"Help!\"))","v":""},null,{"$f":"IF(AG90=\"\",\"\",AE90+IF(AG90=\"XX\",VLOOKUP(\"WRONG\",Answers!AC:AF,4,FALSE),AG90)+AH90)","v":""},{"$f":"IF($B90=\"\",\"\",UPPER(Mainframe!K89))","v":""},{"$f":"IF(AJ90=\"\",\"\",IF(NOT(ISNA(VLOOKUP(AJ90,Answers!AG:AJ,4,FALSE))),VLOOKUP(AJ90,Answers!AG:AJ,4,FALSE),\"Help!\"))","v":""},null,{"$f":"IF(AK90=\"\",\"\",AI90+IF(AK90=\"XX\",VLOOKUP(\"WRONG\",Answers!AG:AJ,4,FALSE),AK90)+AL90)","v":""},{"$f":"IF($B90=\"\",\"\",UPPER(Mainframe!L89))","v":""},{"$f":"IF(AN90=\"\",\"\",IF(NOT(ISNA(VLOOKUP(AN90,Answers!AK:AN,4,FALSE))),VLOOKUP(AN90,Answers!AK:AN,4,FALSE),\"Help!\"))","v":""},null,{"$f":"IF(AO90=\"\",\"\",AM90+IF(AO90=\"XX\",VLOOKUP(\"WRONG\",Answers!AK:AN,4,FALSE),AO90)+AP90)","v":""},{"$f":"IF($B90=\"\",\"\",UPPER(Mainframe!M89))","v":""},{"$f":"IF(AR90=\"\",\"\",IF(NOT(ISNA(VLOOKUP(AR90,Answers!AO:AR,4,FALSE))),VLOOKUP(AR90,Answers!AO:AR,4,FALSE),\"Help!\"))","v":""},null,{"$f":"IF(AS90=\"\",\"\",AQ90+IF(AS90=\"XX\",VLOOKUP(\"WRONG\",Answers!AO:AR,4,FALSE),AS90)+AT90)","v":""},{"$f":"IF($B90=\"\",\"\",UPPER(Mainframe!N89))","v":""},{"$f":"IF(AV90=\"\",\"\",IF(NOT(ISNA(VLOOKUP(AV90,Answers!AS:AV,4,FALSE))),VLOOKUP(AV90,Answers!AS:AV,4,FALSE),\"Help!\"))","v":""},null,{"$f":"IF(AW90=\"\",\"\",AU90+IF(AW90=\"XX\",VLOOKUP(\"WRONG\",Answers!AS:AV,4,FALSE),AW90)+AX90)","v":""},{"$f":"IF($B90=\"\",\"\",UPPER(Mainframe!O89))","v":""},{"$f":"IF(AZ90=\"\",\"\",IF(NOT(ISNA(VLOOKUP(AZ90,Answers!AW:AZ,4,FALSE))),VLOOKUP(AZ90,Answers!AW:AZ,4,FALSE),\"Help!\"))","v":""},null,{"$f":"IF(BA90=\"\",\"\",AY90+IF(BA90=\"XX\",VLOOKUP(\"WRONG\",Answers!AW:AZ,4,FALSE),BA90)+BB90)","v":""},{"$f":"IF($B90=\"\",\"\",UPPER(Mainframe!P89))","v":""},{"$f":"IF(BD90=\"\",\"\",IF(NOT(ISNA(VLOOKUP(BD90,Answers!BA:BD,4,FALSE))),VLOOKUP(BD90,Answers!BA:BD,4,FALSE),\"Help!\"))","v":""},null,{"$f":"IF(BE90=\"\",\"\",BC90+IF(BE90=\"XX\",VLOOKUP(\"WRONG\",Answers!BA:BD,4,FALSE),BE90)+BF90)","v":""},{"$f":"IF($B90=\"\",\"\",UPPER(Mainframe!Q89))","v":""},{"$f":"IF(BH90=\"\",\"\",IF(NOT(ISNA(VLOOKUP(BH90,Answers!BE:BH,4,FALSE))),VLOOKUP(BH90,Answers!BE:BH,4,FALSE),\"Help!\"))","v":""},null,{"$f":"IF(BI90=\"\",\"\",BG90+IF(BI90=\"XX\",VLOOKUP(\"WRONG\",Answers!BE:BH,4,FALSE),BI90)+BJ90)","v":""},{"$f":"IF($B90=\"\",\"\",UPPER(Mainframe!R89))","v":""},{"$f":"IF(BL90=\"\",\"\",IF(NOT(ISNA(VLOOKUP(BL90,Answers!BI:BL,4,FALSE))),VLOOKUP(BL90,Answers!BI:BL,4,FALSE),\"Help!\"))","v":""},null,{"$f":"IF(BM90=\"\",\"\",BK90+IF(BM90=\"XX\",VLOOKUP(\"WRONG\",Answers!BI:BL,4,FALSE),BM90)+BN90)","v":""},{"$f":"IF($B90=\"\",\"\",UPPER(Mainframe!S89))","v":""},{"$f":"IF(BP90=\"\",\"\",IF(NOT(ISNA(VLOOKUP(BP90,Answers!BM:BP,4,FALSE))),VLOOKUP(BP90,Answers!BM:BP,4,FALSE),\"Help!\"))","v":""},null,{"$f":"IF(BQ90=\"\",\"\",BO90+IF(BQ90=\"XX\",VLOOKUP(\"WRONG\",Answers!BM:BP,4,FALSE),BQ90)+BR90)","v":""},{"$f":"IF($B90=\"\",\"\",UPPER(Mainframe!T89))","v":""},{"$f":"IF(BT90=\"\",\"\",IF(NOT(ISNA(VLOOKUP(BT90,Answers!BQ:BT,4,FALSE))),VLOOKUP(BT90,Answers!BQ:BT,4,FALSE),\"Help!\"))","v":""},null,{"$f":"IF(BU90=\"\",\"\",BS90+IF(BU90=\"XX\",VLOOKUP(\"WRONG\",Answers!BQ:BT,4,FALSE),BU90)+BV90)","v":""},{"$f":"IF($B90=\"\",\"\",UPPER(Mainframe!U89))","v":""},{"$f":"IF(BX90=\"\",\"\",IF(NOT(ISNA(VLOOKUP(BX90,Answers!BU:BX,4,FALSE))),VLOOKUP(BX90,Answers!BU:BX,4,FALSE),\"Help!\"))","v":""},null,{"$f":"IF(BY90=\"\",\"\",BW90+IF(BY90=\"XX\",VLOOKUP(\"WRONG\",Answers!BU:BX,4,FALSE),BY90)+BZ90)","v":""},{"$f":"IF($B90=\"\",\"\",UPPER(Mainframe!V89))","v":""},{"$f":"IF(CB90=\"\",\"\",IF(NOT(ISNA(VLOOKUP(CB90,Answers!BY:CB,4,FALSE))),VLOOKUP(CB90,Answers!BY:CB,4,FALSE),\"Help!\"))","v":""},null,{"$f":"IF(CC90=\"\",\"\",CA90+IF(CC90=\"XX\",VLOOKUP(\"WRONG\",Answers!BY:CB,4,FALSE),CC90)+CD90)","v":""},null,null,1,{"$f":"IF(INDEX($B:$CE,ROW(),QNO*4-1)=DROPNAME,DROPNAME,IF(INDEX($B:$CE,ROW(),QNO*4-1)=SHEEPNAME,SHEEPNAME,IF(INDEX($B:$CE,ROW(),QNO*4)=\"XX\",INDEX($B:$CE,ROW(),QNO*4-1),INDEX(OFFSET(Answers!B:B,0,(QNO-1)*4),MATCH(INDEX($A:$CB,ROW(),QNO*4),OFFSET(Answers!A:A,0,(QNO-1)*4),0))&\" — \"&IF(INDEX($B:$CE,ROW(),QNO*4)=1,\"[b]Singleton![/b]\",CONCATENATE(INDEX($B:$CE,ROW(),QNO*4),\" responses\")))))","v":{"$error":"#N/A"}},"//////////////////////////////////////////////////////////////////////////////////","No",{"$f":"IF(B90=0,\"\",CONCATENATE(INDEX($CH:$CL,ROW(),1),\". \",INDEX($B:$CE,ROW(),1),\" — [b]\")&IF(QNO=1,CONCATENATE(INDEX($B:$CE,ROW(),QNO*4+2),\"[/b] pts\"),CONCATENATE(INDEX($B:$CE,ROW(),QNO*4-2),\" + \",IF(INDEX($B:$CE,ROW(),QNO*4)=\"XX\",INDEX(Answers!$A:$ZZ,2,QNO*4),INDEX($B:$CE,ROW(),QNO*4)),\" = \",INDEX($B:$CE,ROW(),QNO*4+2),\"[/b] pts \",IF(INDEX($C:$CE,ROW(),QNO*4)>0,\"(penalty: +\"&INDEX($C:$CE,ROW(),QNO*4)&\") \",IF(INDEX($C:$CE,ROW(),QNO*4)<0,\"(bonus: \"&INDEX($C:$CE,ROW(),QNO*4)&\") \",\"\"))&\"[[b]\"&IF(CN90>0,\"[color=#00BF00]↑\"&CN90,IF(CN90<0,\"[color=#FF0000]↓\"&ABS(CN90),\"[color=#0000FF]unch\"))&\"[/b][/color]]\")))","v":"1.  — [b][/b] pts"},1,0]
["[*]",{"$f":"IF(Mainframe!B90=\"\",\"\",INDEX(Mainframe!$B:$B,C91+1,1))","v":""},89,{"$f":"IF($B91=\"\",\"\",UPPER(Mainframe!C90))","v":""},{"$f":"IF(D91=\"\",\"\",IF(NOT(ISNA(VLOOKUP(D91,Answers!A:D,4,FALSE))),VLOOKUP(D91,Answers!A:D,4,FALSE),\"Help!\"))","v":""},null,{"$f":"IF(E91=\"\",\"\",IF(E91=\"XX\",VLOOKUP(\"WRONG\",Answers!A:D,4,FALSE),E91)+F91)","v":""},{"$f":"IF($B91=\"\",\"\",UPPER(Mainframe!D90))","v":""},{"$f":"IF(H91=\"\",\"\",IF(NOT(ISNA(VLOOKUP(H91,Answers!E:H,4,FALSE))),VLOOKUP(H91,Answers!E:H,4,FALSE),\"Help!\"))","v":""},null,{"$f":"IF(I91=\"\",\"\",G91+IF(I91=\"XX\",VLOOKUP(\"WRONG\",Answers!E:H,4,FALSE),I91)+J91)","v":""},{"$f":"IF($B91=\"\",\"\",UPPER(Mainframe!E90))","v":""},{"$f":"IF(L91=\"\",\"\",IF(NOT(ISNA(VLOOKUP(L91,Answers!I:L,4,FALSE))),VLOOKUP(L91,Answers!I:L,4,FALSE),\"Help!\"))","v":""},null,{"$f":"IF(M91=\"\",\"\",K91+IF(M91=\"XX\",VLOOKUP(\"WRONG\",Answers!I:L,4,FALSE),M91)+N91)","v":""},{"$f":"IF($B91=\"\",\"\",UPPER(Mainframe!F90))","v":""},{"$f":"IF(P91=\"\",\"\",IF(NOT(ISNA(VLOOKUP(P91,Answers!M:P,4,FALSE))),VLOOKUP(P91,Answers!M:P,4,FALSE),\"Help!\"))","v":""},null,{"$f":"IF(Q91=\"\",\"\",O91+IF(Q91=\"XX\",VLOOKUP(\"WRONG\",Answers!M:P,4,FALSE),Q91)+R91)","v":""},{"$f":"IF($B91=\"\",\"\",UPPER(Mainframe!G90))","v":""},{"$f":"IF(T91=\"\",\"\",IF(NOT(ISNA(VLOOKUP(T91,Answers!Q:T,4,FALSE))),VLOOKUP(T91,Answers!Q:T,4,FALSE),\"Help!\"))","v":""},null,{"$f":"IF(U91=\"\",\"\",S91+IF(U91=\"XX\",VLOOKUP(\"WRONG\",Answers!Q:T,4,FALSE),U91)+V91)","v":""},{"$f":"IF($B91=\"\",\"\",UPPER(Mainframe!H90))","v":""},{"$f":"IF(X91=\"\",\"\",IF(NOT(ISNA(VLOOKUP(X91,Answers!U:X,4,FALSE))),VLOOKUP(X91,Answers!U:X,4,FALSE),\"Help!\"))","v":""},null,{"$f":"IF(Y91=\"\",\"\",W91+IF(Y91=\"XX\",VLOOKUP(\"WRONG\",Answers!U:X,4,FALSE),Y91)+Z91)","v":""},{"$f":"IF($B91=\"\",\"\",UPPER(Mainframe!I90))","v":""},{"$f":"IF(AB91=\"\",\"\",IF(NOT(ISNA(VLOOKUP(AB91,Answers!Y:AB,4,FALSE))),VLOOKUP(AB91,Answers!Y:AB,4,FALSE),\"Help!\"))","v":""},null,{"$f":"IF(AC91=\"\",\"\",AA91+IF(AC91=\"XX\",VLOOKUP(\"WRONG\",Answers!Y:AB,4,FALSE),AC91)+AD91)","v":""},{"$f":"IF($B91=\"\",\"\",UPPER(Mainframe!J90))","v":""},{"$f":"IF(AF91=\"\",\"\",IF(NOT(ISNA(VLOOKUP(AF91,Answers!AC:AF,4,FALSE))),VLOOKUP(AF91,Answers!AC:AF,4,FALSE),\"Help!\"))","v":""},null,{"$f":"IF(AG91=\"\",\"\",AE91+IF(AG91=\"XX\",VLOOKUP(\"WRONG\",Answers!AC:AF,4,FALSE),AG91)+AH91)","v":""},{"$f":"IF($B91=\"\",\"\",UPPER(Mainframe!K90))","v":""},{"$f":"IF(AJ91=\"\",\"\",IF(NOT(ISNA(VLOOKUP(AJ91,Answers!AG:AJ,4,FALSE))),VLOOKUP(AJ91,Answers!AG:AJ,4,FALSE),\"Help!\"))","v":""},null,{"$f":"IF(AK91=\"\",\"\",AI91+IF(AK91=\"XX\",VLOOKUP(\"WRONG\",Answers!AG:AJ,4,FALSE),AK91)+AL91)","v":""},{"$f":"IF($B91=\"\",\"\",UPPER(Mainframe!L90))","v":""},{"$f":"IF(AN91=\"\",\"\",IF(NOT(ISNA(VLOOKUP(AN91,Answers!AK:AN,4,FALSE))),VLOOKUP(AN91,Answers!AK:AN,4,FALSE),\"Help!\"))","v":""},null,{"$f":"IF(AO91=\"\",\"\",AM91+IF(AO91=\"XX\",VLOOKUP(\"WRONG\",Answers!AK:AN,4,FALSE),AO91)+AP91)","v":""},{"$f":"IF($B91=\"\",\"\",UPPER(Mainframe!M90))","v":""},{"$f":"IF(AR91=\"\",\"\",IF(NOT(ISNA(VLOOKUP(AR91,Answers!AO:AR,4,FALSE))),VLOOKUP(AR91,Answers!AO:AR,4,FALSE),\"Help!\"))","v":""},null,{"$f":"IF(AS91=\"\",\"\",AQ91+IF(AS91=\"XX\",VLOOKUP(\"WRONG\",Answers!AO:AR,4,FALSE),AS91)+AT91)","v":""},{"$f":"IF($B91=\"\",\"\",UPPER(Mainframe!N90))","v":""},{"$f":"IF(AV91=\"\",\"\",IF(NOT(ISNA(VLOOKUP(AV91,Answers!AS:AV,4,FALSE))),VLOOKUP(AV91,Answers!AS:AV,4,FALSE),\"Help!\"))","v":""},null,{"$f":"IF(AW91=\"\",\"\",AU91+IF(AW91=\"XX\",VLOOKUP(\"WRONG\",Answers!AS:AV,4,FALSE),AW91)+AX91)","v":""},{"$f":"IF($B91=\"\",\"\",UPPER(Mainframe!O90))","v":""},{"$f":"IF(AZ91=\"\",\"\",IF(NOT(ISNA(VLOOKUP(AZ91,Answers!AW:AZ,4,FALSE))),VLOOKUP(AZ91,Answers!AW:AZ,4,FALSE),\"Help!\"))","v":""},null,{"$f":"IF(BA91=\"\",\"\",AY91+IF(BA91=\"XX\",VLOOKUP(\"WRONG\",Answers!AW:AZ,4,FALSE),BA91)+BB91)","v":""},{"$f":"IF($B91=\"\",\"\",UPPER(Mainframe!P90))","v":""},{"$f":"IF(BD91=\"\",\"\",IF(NOT(ISNA(VLOOKUP(BD91,Answers!BA:BD,4,FALSE))),VLOOKUP(BD91,Answers!BA:BD,4,FALSE),\"Help!\"))","v":""},null,{"$f":"IF(BE91=\"\",\"\",BC91+IF(BE91=\"XX\",VLOOKUP(\"WRONG\",Answers!BA:BD,4,FALSE),BE91)+BF91)","v":""},{"$f":"IF($B91=\"\",\"\",UPPER(Mainframe!Q90))","v":""},{"$f":"IF(BH91=\"\",\"\",IF(NOT(ISNA(VLOOKUP(BH91,Answers!BE:BH,4,FALSE))),VLOOKUP(BH91,Answers!BE:BH,4,FALSE),\"Help!\"))","v":""},null,{"$f":"IF(BI91=\"\",\"\",BG91+IF(BI91=\"XX\",VLOOKUP(\"WRONG\",Answers!BE:BH,4,FALSE),BI91)+BJ91)","v":""},{"$f":"IF($B91=\"\",\"\",UPPER(Mainframe!R90))","v":""},{"$f":"IF(BL91=\"\",\"\",IF(NOT(ISNA(VLOOKUP(BL91,Answers!BI:BL,4,FALSE))),VLOOKUP(BL91,Answers!BI:BL,4,FALSE),\"Help!\"))","v":""},null,{"$f":"IF(BM91=\"\",\"\",BK91+IF(BM91=\"XX\",VLOOKUP(\"WRONG\",Answers!BI:BL,4,FALSE),BM91)+BN91)","v":""},{"$f":"IF($B91=\"\",\"\",UPPER(Mainframe!S90))","v":""},{"$f":"IF(BP91=\"\",\"\",IF(NOT(ISNA(VLOOKUP(BP91,Answers!BM:BP,4,FALSE))),VLOOKUP(BP91,Answers!BM:BP,4,FALSE),\"Help!\"))","v":""},null,{"$f":"IF(BQ91=\"\",\"\",BO91+IF(BQ91=\"XX\",VLOOKUP(\"WRONG\",Answers!BM:BP,4,FALSE),BQ91)+BR91)","v":""},{"$f":"IF($B91=\"\",\"\",UPPER(Mainframe!T90))","v":""},{"$f":"IF(BT91=\"\",\"\",IF(NOT(ISNA(VLOOKUP(BT91,Answers!BQ:BT,4,FALSE))),VLOOKUP(BT91,Answers!BQ:BT,4,FALSE),\"Help!\"))","v":""},null,{"$f":"IF(BU91=\"\",\"\",BS91+IF(BU91=\"XX\",VLOOKUP(\"WRONG\",Answers!BQ:BT,4,FALSE),BU91)+BV91)","v":""},{"$f":"IF($B91=\"\",\"\",UPPER(Mainframe!U90))","v":""},{"$f":"IF(BX91=\"\",\"\",IF(NOT(ISNA(VLOOKUP(BX91,Answers!BU:BX,4,FALSE))),VLOOKUP(BX91,Answers!BU:BX,4,FALSE),\"Help!\"))","v":""},null,{"$f":"IF(BY91=\"\",\"\",BW91+IF(BY91=\"XX\",VLOOKUP(\"WRONG\",Answers!BU:BX,4,FALSE),BY91)+BZ91)","v":""},{"$f":"IF($B91=\"\",\"\",UPPER(Mainframe!V90))","v":""},{"$f":"IF(CB91=\"\",\"\",IF(NOT(ISNA(VLOOKUP(CB91,Answers!BY:CB,4,FALSE))),VLOOKUP(CB91,Answers!BY:CB,4,FALSE),\"Help!\"))","v":""},null,{"$f":"IF(CC91=\"\",\"\",CA91+IF(CC91=\"XX\",VLOOKUP(\"WRONG\",Answers!BY:CB,4,FALSE),CC91)+CD91)","v":""},null,null,1,{"$f":"IF(INDEX($B:$CE,ROW(),QNO*4-1)=DROPNAME,DROPNAME,IF(INDEX($B:$CE,ROW(),QNO*4-1)=SHEEPNAME,SHEEPNAME,IF(INDEX($B:$CE,ROW(),QNO*4)=\"XX\",INDEX($B:$CE,ROW(),QNO*4-1),INDEX(OFFSET(Answers!B:B,0,(QNO-1)*4),MATCH(INDEX($A:$CB,ROW(),QNO*4),OFFSET(Answers!A:A,0,(QNO-1)*4),0))&\" — \"&IF(INDEX($B:$CE,ROW(),QNO*4)=1,\"[b]Singleton![/b]\",CONCATENATE(INDEX($B:$CE,ROW(),QNO*4),\" responses\")))))","v":{"$error":"#N/A"}},"////////////////////////////////////////////////////////////////////////////////","No",{"$f":"IF(B91=0,\"\",CONCATENATE(INDEX($CH:$CL,ROW(),1),\". \",INDEX($B:$CE,ROW(),1),\" — [b]\")&IF(QNO=1,CONCATENATE(INDEX($B:$CE,ROW(),QNO*4+2),\"[/b] pts\"),CONCATENATE(INDEX($B:$CE,ROW(),QNO*4-2),\" + \",IF(INDEX($B:$CE,ROW(),QNO*4)=\"XX\",INDEX(Answers!$A:$ZZ,2,QNO*4),INDEX($B:$CE,ROW(),QNO*4)),\" = \",INDEX($B:$CE,ROW(),QNO*4+2),\"[/b] pts \",IF(INDEX($C:$CE,ROW(),QNO*4)>0,\"(penalty: +\"&INDEX($C:$CE,ROW(),QNO*4)&\") \",IF(INDEX($C:$CE,ROW(),QNO*4)<0,\"(bonus: \"&INDEX($C:$CE,ROW(),QNO*4)&\") \",\"\"))&\"[[b]\"&IF(CN91>0,\"[color=#00BF00]↑\"&CN91,IF(CN91<0,\"[color=#FF0000]↓\"&ABS(CN91),\"[color=#0000FF]unch\"))&\"[/b][/color]]\")))","v":"1.  — [b][/b] pts"},1,0]
["[*]",{"$f":"IF(Mainframe!B91=\"\",\"\",INDEX(Mainframe!$B:$B,C92+1,1))","v":""},90,{"$f":"IF($B92=\"\",\"\",UPPER(Mainframe!C91))","v":""},{"$f":"IF(D92=\"\",\"\",IF(NOT(ISNA(VLOOKUP(D92,Answers!A:D,4,FALSE))),VLOOKUP(D92,Answers!A:D,4,FALSE),\"Help!\"))","v":""},null,{"$f":"IF(E92=\"\",\"\",IF(E92=\"XX\",VLOOKUP(\"WRONG\",Answers!A:D,4,FALSE),E92)+F92)","v":""},{"$f":"IF($B92=\"\",\"\",UPPER(Mainframe!D91))","v":""},{"$f":"IF(H92=\"\",\"\",IF(NOT(ISNA(VLOOKUP(H92,Answers!E:H,4,FALSE))),VLOOKUP(H92,Answers!E:H,4,FALSE),\"Help!\"))","v":""},null,{"$f":"IF(I92=\"\",\"\",G92+IF(I92=\"XX\",VLOOKUP(\"WRONG\",Answers!E:H,4,FALSE),I92)+J92)","v":""},{"$f":"IF($B92=\"\",\"\",UPPER(Mainframe!E91))","v":""},{"$f":"IF(L92=\"\",\"\",IF(NOT(ISNA(VLOOKUP(L92,Answers!I:L,4,FALSE))),VLOOKUP(L92,Answers!I:L,4,FALSE),\"Help!\"))","v":""},null,{"$f":"IF(M92=\"\",\"\",K92+IF(M92=\"XX\",VLOOKUP(\"WRONG\",Answers!I:L,4,FALSE),M92)+N92)","v":""},{"$f":"IF($B92=\"\",\"\",UPPER(Mainframe!F91))","v":""},{"$f":"IF(P92=\"\",\"\",IF(NOT(ISNA(VLOOKUP(P92,Answers!M:P,4,FALSE))),VLOOKUP(P92,Answers!M:P,4,FALSE),\"Help!\"))","v":""},null,{"$f":"IF(Q92=\"\",\"\",O92+IF(Q92=\"XX\",VLOOKUP(\"WRONG\",Answers!M:P,4,FALSE),Q92)+R92)","v":""},{"$f":"IF($B92=\"\",\"\",UPPER(Mainframe!G91))","v":""},{"$f":"IF(T92=\"\",\"\",IF(NOT(ISNA(VLOOKUP(T92,Answers!Q:T,4,FALSE))),VLOOKUP(T92,Answers!Q:T,4,FALSE),\"Help!\"))","v":""},null,{"$f":"IF(U92=\"\",\"\",S92+IF(U92=\"XX\",VLOOKUP(\"WRONG\",Answers!Q:T,4,FALSE),U92)+V92)","v":""},{"$f":"IF($B92=\"\",\"\",UPPER(Mainframe!H91))","v":""},{"$f":"IF(X92=\"\",\"\",IF(NOT(ISNA(VLOOKUP(X92,Answers!U:X,4,FALSE))),VLOOKUP(X92,Answers!U:X,4,FALSE),\"Help!\"))","v":""},null,{"$f":"IF(Y92=\"\",\"\",W92+IF(Y92=\"XX\",VLOOKUP(\"WRONG\",Answers!U:X,4,FALSE),Y92)+Z92)","v":""},{"$f":"IF($B92=\"\",\"\",UPPER(Mainframe!I91))","v":""},{"$f":"IF(AB92=\"\",\"\",IF(NOT(ISNA(VLOOKUP(AB92,Answers!Y:AB,4,FALSE))),VLOOKUP(AB92,Answers!Y:AB,4,FALSE),\"Help!\"))","v":""},null,{"$f":"IF(AC92=\"\",\"\",AA92+IF(AC92=\"XX\",VLOOKUP(\"WRONG\",Answers!Y:AB,4,FALSE),AC92)+AD92)","v":""},{"$f":"IF($B92=\"\",\"\",UPPER(Mainframe!J91))","v":""},{"$f":"IF(AF92=\"\",\"\",IF(NOT(ISNA(VLOOKUP(AF92,Answers!AC:AF,4,FALSE))),VLOOKUP(AF92,Answers!AC:AF,4,FALSE),\"Help!\"))","v":""},null,{"$f":"IF(AG92=\"\",\"\",AE92+IF(AG92=\"XX\",VLOOKUP(\"WRONG\",Answers!AC:AF,4,FALSE),AG92)+AH92)","v":""},{"$f":"IF($B92=\"\",\"\",UPPER(Mainframe!K91))","v":""},{"$f":"IF(AJ92=\"\",\"\",IF(NOT(ISNA(VLOOKUP(AJ92,Answers!AG:AJ,4,FALSE))),VLOOKUP(AJ92,Answers!AG:AJ,4,FALSE),\"Help!\"))","v":""},null,{"$f":"IF(AK92=\"\",\"\",AI92+IF(AK92=\"XX\",VLOOKUP(\"WRONG\",Answers!AG:AJ,4,FALSE),AK92)+AL92)","v":""},{"$f":"IF($B92=\"\",\"\",UPPER(Mainframe!L91))","v":""},{"$f":"IF(AN92=\"\",\"\",IF(NOT(ISNA(VLOOKUP(AN92,Answers!AK:AN,4,FALSE))),VLOOKUP(AN92,Answers!AK:AN,4,FALSE),\"Help!\"))","v":""},null,{"$f":"IF(AO92=\"\",\"\",AM92+IF(AO92=\"XX\",VLOOKUP(\"WRONG\",Answers!AK:AN,4,FALSE),AO92)+AP92)","v":""},{"$f":"IF($B92=\"\",\"\",UPPER(Mainframe!M91))","v":""},{"$f":"IF(AR92=\"\",\"\",IF(NOT(ISNA(VLOOKUP(AR92,Answers!AO:AR,4,FALSE))),VLOOKUP(AR92,Answers!AO:AR,4,FALSE),\"Help!\"))","v":""},null,{"$f":"IF(AS92=\"\",\"\",AQ92+IF(AS92=\"XX\",VLOOKUP(\"WRONG\",Answers!AO:AR,4,FALSE),AS92)+AT92)","v":""},{"$f":"IF($B92=\"\",\"\",UPPER(Mainframe!N91))","v":""},{"$f":"IF(AV92=\"\",\"\",IF(NOT(ISNA(VLOOKUP(AV92,Answers!AS:AV,4,FALSE))),VLOOKUP(AV92,Answers!AS:AV,4,FALSE),\"Help!\"))","v":""},null,{"$f":"IF(AW92=\"\",\"\",AU92+IF(AW92=\"XX\",VLOOKUP(\"WRONG\",Answers!AS:AV,4,FALSE),AW92)+AX92)","v":""},{"$f":"IF($B92=\"\",\"\",UPPER(Mainframe!O91))","v":""},{"$f":"IF(AZ92=\"\",\"\",IF(NOT(ISNA(VLOOKUP(AZ92,Answers!AW:AZ,4,FALSE))),VLOOKUP(AZ92,Answers!AW:AZ,4,FALSE),\"Help!\"))","v":""},null,{"$f":"IF(BA92=\"\",\"\",AY92+IF(BA92=\"XX\",VLOOKUP(\"WRONG\",Answers!AW:AZ,4,FALSE),BA92)+BB92)","v":""},{"$f":"IF($B92=\"\",\"\",UPPER(Mainframe!P91))","v":""},{"$f":"IF(BD92=\"\",\"\",IF(NOT(ISNA(VLOOKUP(BD92,Answers!BA:BD,4,FALSE))),VLOOKUP(BD92,Answers!BA:BD,4,FALSE),\"Help!\"))","v":""},null,{"$f":"IF(BE92=\"\",\"\",BC92+IF(BE92=\"XX\",VLOOKUP(\"WRONG\",Answers!BA:BD,4,FALSE),BE92)+BF92)","v":""},{"$f":"IF($B92=\"\",\"\",UPPER(Mainframe!Q91))","v":""},{"$f":"IF(BH92=\"\",\"\",IF(NOT(ISNA(VLOOKUP(BH92,Answers!BE:BH,4,FALSE))),VLOOKUP(BH92,Answers!BE:BH,4,FALSE),\"Help!\"))","v":""},null,{"$f":"IF(BI92=\"\",\"\",BG92+IF(BI92=\"XX\",VLOOKUP(\"WRONG\",Answers!BE:BH,4,FALSE),BI92)+BJ92)","v":""},{"$f":"IF($B92=\"\",\"\",UPPER(Mainframe!R91))","v":""},{"$f":"IF(BL92=\"\",\"\",IF(NOT(ISNA(VLOOKUP(BL92,Answers!BI:BL,4,FALSE))),VLOOKUP(BL92,Answers!BI:BL,4,FALSE),\"Help!\"))","v":""},null,{"$f":"IF(BM92=\"\",\"\",BK92+IF(BM92=\"XX\",VLOOKUP(\"WRONG\",Answers!BI:BL,4,FALSE),BM92)+BN92)","v":""},{"$f":"IF($B92=\"\",\"\",UPPER(Mainframe!S91))","v":""},{"$f":"IF(BP92=\"\",\"\",IF(NOT(ISNA(VLOOKUP(BP92,Answers!BM:BP,4,FALSE))),VLOOKUP(BP92,Answers!BM:BP,4,FALSE),\"Help!\"))","v":""},null,{"$f":"IF(BQ92=\"\",\"\",BO92+IF(BQ92=\"XX\",VLOOKUP(\"WRONG\",Answers!BM:BP,4,FALSE),BQ92)+BR92)","v":""},{"$f":"IF($B92=\"\",\"\",UPPER(Mainframe!T91))","v":""},{"$f":"IF(BT92=\"\",\"\",IF(NOT(ISNA(VLOOKUP(BT92,Answers!BQ:BT,4,FALSE))),VLOOKUP(BT92,Answers!BQ:BT,4,FALSE),\"Help!\"))","v":""},null,{"$f":"IF(BU92=\"\",\"\",BS92+IF(BU92=\"XX\",VLOOKUP(\"WRONG\",Answers!BQ:BT,4,FALSE),BU92)+BV92)","v":""},{"$f":"IF($B92=\"\",\"\",UPPER(Mainframe!U91))","v":""},{"$f":"IF(BX92=\"\",\"\",IF(NOT(ISNA(VLOOKUP(BX92,Answers!BU:BX,4,FALSE))),VLOOKUP(BX92,Answers!BU:BX,4,FALSE),\"Help!\"))","v":""},null,{"$f":"IF(BY92=\"\",\"\",BW92+IF(BY92=\"XX\",VLOOKUP(\"WRONG\",Answers!BU:BX,4,FALSE),BY92)+BZ92)","v":""},{"$f":"IF($B92=\"\",\"\",UPPER(Mainframe!V91))","v":""},{"$f":"IF(CB92=\"\",\"\",IF(NOT(ISNA(VLOOKUP(CB92,Answers!BY:CB,4,FALSE))),VLOOKUP(CB92,Answers!BY:CB,4,FALSE),\"Help!\"))","v":""},null,{"$f":"IF(CC92=\"\",\"\",CA92+IF(CC92=\"XX\",VLOOKUP(\"WRONG\",Answers!BY:CB,4,FALSE),CC92)+CD92)","v":""},null,null,1,{"$f":"IF(INDEX($B:$CE,ROW(),QNO*4-1)=DROPNAME,DROPNAME,IF(INDEX($B:$CE,ROW(),QNO*4-1)=SHEEPNAME,SHEEPNAME,IF(INDEX($B:$CE,ROW(),QNO*4)=\"XX\",INDEX($B:$CE,ROW(),QNO*4-1),INDEX(OFFSET(Answers!B:B,0,(QNO-1)*4),MATCH(INDEX($A:$CB,ROW(),QNO*4),OFFSET(Answers!A:A,0,(QNO-1)*4),0))&\" — \"&IF(INDEX($B:$CE,ROW(),QNO*4)=1,\"[b]Singleton![/b]\",CONCATENATE(INDEX($B:$CE,ROW(),QNO*4),\" responses\")))))","v":{"$error":"#N/A"}},"//////////////////////////////////////////////////////////////////////////////","No",{"$f":"IF(B92=0,\"\",CONCATENATE(INDEX($CH:$CL,ROW(),1),\". \",INDEX($B:$CE,ROW(),1),\" — [b]\")&IF(QNO=1,CONCATENATE(INDEX($B:$CE,ROW(),QNO*4+2),\"[/b] pts\"),CONCATENATE(INDEX($B:$CE,ROW(),QNO*4-2),\" + \",IF(INDEX($B:$CE,ROW(),QNO*4)=\"XX\",INDEX(Answers!$A:$ZZ,2,QNO*4),INDEX($B:$CE,ROW(),QNO*4)),\" = \",INDEX($B:$CE,ROW(),QNO*4+2),\"[/b] pts \",IF(INDEX($C:$CE,ROW(),QNO*4)>0,\"(penalty: +\"&INDEX($C:$CE,ROW(),QNO*4)&\") \",IF(INDEX($C:$CE,ROW(),QNO*4)<0,\"(bonus: \"&INDEX($C:$CE,ROW(),QNO*4)&\") \",\"\"))&\"[[b]\"&IF(CN92>0,\"[color=#00BF00]↑\"&CN92,IF(CN92<0,\"[color=#FF0000]↓\"&ABS(CN92),\"[color=#0000FF]unch\"))&\"[/b][/color]]\")))","v":"1.  — [b][/b] pts"},1,0]
["[*]",{"$f":"IF(Mainframe!B92=\"\",\"\",INDEX(Mainframe!$B:$B,C93+1,1))","v":""},91,{"$f":"IF($B93=\"\",\"\",UPPER(Mainframe!C92))","v":""},{"$f":"IF(D93=\"\",\"\",IF(NOT(ISNA(VLOOKUP(D93,Answers!A:D,4,FALSE))),VLOOKUP(D93,Answers!A:D,4,FALSE),\"Help!\"))","v":""},null,{"$f":"IF(E93=\"\",\"\",IF(E93=\"XX\",VLOOKUP(\"WRONG\",Answers!A:D,4,FALSE),E93)+F93)","v":""},{"$f":"IF($B93=\"\",\"\",UPPER(Mainframe!D92))","v":""},{"$f":"IF(H93=\"\",\"\",IF(NOT(ISNA(VLOOKUP(H93,Answers!E:H,4,FALSE))),VLOOKUP(H93,Answers!E:H,4,FALSE),\"Help!\"))","v":""},null,{"$f":"IF(I93=\"\",\"\",G93+IF(I93=\"XX\",VLOOKUP(\"WRONG\",Answers!E:H,4,FALSE),I93)+J93)","v":""},{"$f":"IF($B93=\"\",\"\",UPPER(Mainframe!E92))","v":""},{"$f":"IF(L93=\"\",\"\",IF(NOT(ISNA(VLOOKUP(L93,Answers!I:L,4,FALSE))),VLOOKUP(L93,Answers!I:L,4,FALSE),\"Help!\"))","v":""},null,{"$f":"IF(M93=\"\",\"\",K93+IF(M93=\"XX\",VLOOKUP(\"WRONG\",Answers!I:L,4,FALSE),M93)+N93)","v":""},{"$f":"IF($B93=\"\",\"\",UPPER(Mainframe!F92))","v":""},{"$f":"IF(P93=\"\",\"\",IF(NOT(ISNA(VLOOKUP(P93,Answers!M:P,4,FALSE))),VLOOKUP(P93,Answers!M:P,4,FALSE),\"Help!\"))","v":""},null,{"$f":"IF(Q93=\"\",\"\",O93+IF(Q93=\"XX\",VLOOKUP(\"WRONG\",Answers!M:P,4,FALSE),Q93)+R93)","v":""},{"$f":"IF($B93=\"\",\"\",UPPER(Mainframe!G92))","v":""},{"$f":"IF(T93=\"\",\"\",IF(NOT(ISNA(VLOOKUP(T93,Answers!Q:T,4,FALSE))),VLOOKUP(T93,Answers!Q:T,4,FALSE),\"Help!\"))","v":""},null,{"$f":"IF(U93=\"\",\"\",S93+IF(U93=\"XX\",VLOOKUP(\"WRONG\",Answers!Q:T,4,FALSE),U93)+V93)","v":""},{"$f":"IF($B93=\"\",\"\",UPPER(Mainframe!H92))","v":""},{"$f":"IF(X93=\"\",\"\",IF(NOT(ISNA(VLOOKUP(X93,Answers!U:X,4,FALSE))),VLOOKUP(X93,Answers!U:X,4,FALSE),\"Help!\"))","v":""},null,{"$f":"IF(Y93=\"\",\"\",W93+IF(Y93=\"XX\",VLOOKUP(\"WRONG\",Answers!U:X,4,FALSE),Y93)+Z93)","v":""},{"$f":"IF($B93=\"\",\"\",UPPER(Mainframe!I92))","v":""},{"$f":"IF(AB93=\"\",\"\",IF(NOT(ISNA(VLOOKUP(AB93,Answers!Y:AB,4,FALSE))),VLOOKUP(AB93,Answers!Y:AB,4,FALSE),\"Help!\"))","v":""},null,{"$f":"IF(AC93=\"\",\"\",AA93+IF(AC93=\"XX\",VLOOKUP(\"WRONG\",Answers!Y:AB,4,FALSE),AC93)+AD93)","v":""},{"$f":"IF($B93=\"\",\"\",UPPER(Mainframe!J92))","v":""},{"$f":"IF(AF93=\"\",\"\",IF(NOT(ISNA(VLOOKUP(AF93,Answers!AC:AF,4,FALSE))),VLOOKUP(AF93,Answers!AC:AF,4,FALSE),\"Help!\"))","v":""},null,{"$f":"IF(AG93=\"\",\"\",AE93+IF(AG93=\"XX\",VLOOKUP(\"WRONG\",Answers!AC:AF,4,FALSE),AG93)+AH93)","v":""},{"$f":"IF($B93=\"\",\"\",UPPER(Mainframe!K92))","v":""},{"$f":"IF(AJ93=\"\",\"\",IF(NOT(ISNA(VLOOKUP(AJ93,Answers!AG:AJ,4,FALSE))),VLOOKUP(AJ93,Answers!AG:AJ,4,FALSE),\"Help!\"))","v":""},null,{"$f":"IF(AK93=\"\",\"\",AI93+IF(AK93=\"XX\",VLOOKUP(\"WRONG\",Answers!AG:AJ,4,FALSE),AK93)+AL93)","v":""},{"$f":"IF($B93=\"\",\"\",UPPER(Mainframe!L92))","v":""},{"$f":"IF(AN93=\"\",\"\",IF(NOT(ISNA(VLOOKUP(AN93,Answers!AK:AN,4,FALSE))),VLOOKUP(AN93,Answers!AK:AN,4,FALSE),\"Help!\"))","v":""},null,{"$f":"IF(AO93=\"\",\"\",AM93+IF(AO93=\"XX\",VLOOKUP(\"WRONG\",Answers!AK:AN,4,FALSE),AO93)+AP93)","v":""},{"$f":"IF($B93=\"\",\"\",UPPER(Mainframe!M92))","v":""},{"$f":"IF(AR93=\"\",\"\",IF(NOT(ISNA(VLOOKUP(AR93,Answers!AO:AR,4,FALSE))),VLOOKUP(AR93,Answers!AO:AR,4,FALSE),\"Help!\"))","v":""},null,{"$f":"IF(AS93=\"\",\"\",AQ93+IF(AS93=\"XX\",VLOOKUP(\"WRONG\",Answers!AO:AR,4,FALSE),AS93)+AT93)","v":""},{"$f":"IF($B93=\"\",\"\",UPPER(Mainframe!N92))","v":""},{"$f":"IF(AV93=\"\",\"\",IF(NOT(ISNA(VLOOKUP(AV93,Answers!AS:AV,4,FALSE))),VLOOKUP(AV93,Answers!AS:AV,4,FALSE),\"Help!\"))","v":""},null,{"$f":"IF(AW93=\"\",\"\",AU93+IF(AW93=\"XX\",VLOOKUP(\"WRONG\",Answers!AS:AV,4,FALSE),AW93)+AX93)","v":""},{"$f":"IF($B93=\"\",\"\",UPPER(Mainframe!O92))","v":""},{"$f":"IF(AZ93=\"\",\"\",IF(NOT(ISNA(VLOOKUP(AZ93,Answers!AW:AZ,4,FALSE))),VLOOKUP(AZ93,Answers!AW:AZ,4,FALSE),\"Help!\"))","v":""},null,{"$f":"IF(BA93=\"\",\"\",AY93+IF(BA93=\"XX\",VLOOKUP(\"WRONG\",Answers!AW:AZ,4,FALSE),BA93)+BB93)","v":""},{"$f":"IF($B93=\"\",\"\",UPPER(Mainframe!P92))","v":""},{"$f":"IF(BD93=\"\",\"\",IF(NOT(ISNA(VLOOKUP(BD93,Answers!BA:BD,4,FALSE))),VLOOKUP(BD93,Answers!BA:BD,4,FALSE),\"Help!\"))","v":""},null,{"$f":"IF(BE93=\"\",\"\",BC93+IF(BE93=\"XX\",VLOOKUP(\"WRONG\",Answers!BA:BD,4,FALSE),BE93)+BF93)","v":""},{"$f":"IF($B93=\"\",\"\",UPPER(Mainframe!Q92))","v":""},{"$f":"IF(BH93=\"\",\"\",IF(NOT(ISNA(VLOOKUP(BH93,Answers!BE:BH,4,FALSE))),VLOOKUP(BH93,Answers!BE:BH,4,FALSE),\"Help!\"))","v":""},null,{"$f":"IF(BI93=\"\",\"\",BG93+IF(BI93=\"XX\",VLOOKUP(\"WRONG\",Answers!BE:BH,4,FALSE),BI93)+BJ93)","v":""},{"$f":"IF($B93=\"\",\"\",UPPER(Mainframe!R92))","v":""},{"$f":"IF(BL93=\"\",\"\",IF(NOT(ISNA(VLOOKUP(BL93,Answers!BI:BL,4,FALSE))),VLOOKUP(BL93,Answers!BI:BL,4,FALSE),\"Help!\"))","v":""},null,{"$f":"IF(BM93=\"\",\"\",BK93+IF(BM93=\"XX\",VLOOKUP(\"WRONG\",Answers!BI:BL,4,FALSE),BM93)+BN93)","v":""},{"$f":"IF($B93=\"\",\"\",UPPER(Mainframe!S92))","v":""},{"$f":"IF(BP93=\"\",\"\",IF(NOT(ISNA(VLOOKUP(BP93,Answers!BM:BP,4,FALSE))),VLOOKUP(BP93,Answers!BM:BP,4,FALSE),\"Help!\"))","v":""},null,{"$f":"IF(BQ93=\"\",\"\",BO93+IF(BQ93=\"XX\",VLOOKUP(\"WRONG\",Answers!BM:BP,4,FALSE),BQ93)+BR93)","v":""},{"$f":"IF($B93=\"\",\"\",UPPER(Mainframe!T92))","v":""},{"$f":"IF(BT93=\"\",\"\",IF(NOT(ISNA(VLOOKUP(BT93,Answers!BQ:BT,4,FALSE))),VLOOKUP(BT93,Answers!BQ:BT,4,FALSE),\"Help!\"))","v":""},null,{"$f":"IF(BU93=\"\",\"\",BS93+IF(BU93=\"XX\",VLOOKUP(\"WRONG\",Answers!BQ:BT,4,FALSE),BU93)+BV93)","v":""},{"$f":"IF($B93=\"\",\"\",UPPER(Mainframe!U92))","v":""},{"$f":"IF(BX93=\"\",\"\",IF(NOT(ISNA(VLOOKUP(BX93,Answers!BU:BX,4,FALSE))),VLOOKUP(BX93,Answers!BU:BX,4,FALSE),\"Help!\"))","v":""},null,{"$f":"IF(BY93=\"\",\"\",BW93+IF(BY93=\"XX\",VLOOKUP(\"WRONG\",Answers!BU:BX,4,FALSE),BY93)+BZ93)","v":""},{"$f":"IF($B93=\"\",\"\",UPPER(Mainframe!V92))","v":""},{"$f":"IF(CB93=\"\",\"\",IF(NOT(ISNA(VLOOKUP(CB93,Answers!BY:CB,4,FALSE))),VLOOKUP(CB93,Answers!BY:CB,4,FALSE),\"Help!\"))","v":""},null,{"$f":"IF(CC93=\"\",\"\",CA93+IF(CC93=\"XX\",VLOOKUP(\"WRONG\",Answers!BY:CB,4,FALSE),CC93)+CD93)","v":""},null,null,1,{"$f":"IF(INDEX($B:$CE,ROW(),QNO*4-1)=DROPNAME,DROPNAME,IF(INDEX($B:$CE,ROW(),QNO*4-1)=SHEEPNAME,SHEEPNAME,IF(INDEX($B:$CE,ROW(),QNO*4)=\"XX\",INDEX($B:$CE,ROW(),QNO*4-1),INDEX(OFFSET(Answers!B:B,0,(QNO-1)*4),MATCH(INDEX($A:$CB,ROW(),QNO*4),OFFSET(Answers!A:A,0,(QNO-1)*4),0))&\" — \"&IF(INDEX($B:$CE,ROW(),QNO*4)=1,\"[b]Singleton![/b]\",CONCATENATE(INDEX($B:$CE,ROW(),QNO*4),\" responses\")))))","v":{"$error":"#N/A"}},"////////////////////////////////////////////////////////////////////////////","No",{"$f":"IF(B93=0,\"\",CONCATENATE(INDEX($CH:$CL,ROW(),1),\". \",INDEX($B:$CE,ROW(),1),\" — [b]\")&IF(QNO=1,CONCATENATE(INDEX($B:$CE,ROW(),QNO*4+2),\"[/b] pts\"),CONCATENATE(INDEX($B:$CE,ROW(),QNO*4-2),\" + \",IF(INDEX($B:$CE,ROW(),QNO*4)=\"XX\",INDEX(Answers!$A:$ZZ,2,QNO*4),INDEX($B:$CE,ROW(),QNO*4)),\" = \",INDEX($B:$CE,ROW(),QNO*4+2),\"[/b] pts \",IF(INDEX($C:$CE,ROW(),QNO*4)>0,\"(penalty: +\"&INDEX($C:$CE,ROW(),QNO*4)&\") \",IF(INDEX($C:$CE,ROW(),QNO*4)<0,\"(bonus: \"&INDEX($C:$CE,ROW(),QNO*4)&\") \",\"\"))&\"[[b]\"&IF(CN93>0,\"[color=#00BF00]↑\"&CN93,IF(CN93<0,\"[color=#FF0000]↓\"&ABS(CN93),\"[color=#0000FF]unch\"))&\"[/b][/color]]\")))","v":"1.  — [b][/b] pts"},1,0]
["[*]",{"$f":"IF(Mainframe!B93=\"\",\"\",INDEX(Mainframe!$B:$B,C94+1,1))","v":""},92,{"$f":"IF($B94=\"\",\"\",UPPER(Mainframe!C93))","v":""},{"$f":"IF(D94=\"\",\"\",IF(NOT(ISNA(VLOOKUP(D94,Answers!A:D,4,FALSE))),VLOOKUP(D94,Answers!A:D,4,FALSE),\"Help!\"))","v":""},null,{"$f":"IF(E94=\"\",\"\",IF(E94=\"XX\",VLOOKUP(\"WRONG\",Answers!A:D,4,FALSE),E94)+F94)","v":""},{"$f":"IF($B94=\"\",\"\",UPPER(Mainframe!D93))","v":""},{"$f":"IF(H94=\"\",\"\",IF(NOT(ISNA(VLOOKUP(H94,Answers!E:H,4,FALSE))),VLOOKUP(H94,Answers!E:H,4,FALSE),\"Help!\"))","v":""},null,{"$f":"IF(I94=\"\",\"\",G94+IF(I94=\"XX\",VLOOKUP(\"WRONG\",Answers!E:H,4,FALSE),I94)+J94)","v":""},{"$f":"IF($B94=\"\",\"\",UPPER(Mainframe!E93))","v":""},{"$f":"IF(L94=\"\",\"\",IF(NOT(ISNA(VLOOKUP(L94,Answers!I:L,4,FALSE))),VLOOKUP(L94,Answers!I:L,4,FALSE),\"Help!\"))","v":""},null,{"$f":"IF(M94=\"\",\"\",K94+IF(M94=\"XX\",VLOOKUP(\"WRONG\",Answers!I:L,4,FALSE),M94)+N94)","v":""},{"$f":"IF($B94=\"\",\"\",UPPER(Mainframe!F93))","v":""},{"$f":"IF(P94=\"\",\"\",IF(NOT(ISNA(VLOOKUP(P94,Answers!M:P,4,FALSE))),VLOOKUP(P94,Answers!M:P,4,FALSE),\"Help!\"))","v":""},null,{"$f":"IF(Q94=\"\",\"\",O94+IF(Q94=\"XX\",VLOOKUP(\"WRONG\",Answers!M:P,4,FALSE),Q94)+R94)","v":""},{"$f":"IF($B94=\"\",\"\",UPPER(Mainframe!G93))","v":""},{"$f":"IF(T94=\"\",\"\",IF(NOT(ISNA(VLOOKUP(T94,Answers!Q:T,4,FALSE))),VLOOKUP(T94,Answers!Q:T,4,FALSE),\"Help!\"))","v":""},null,{"$f":"IF(U94=\"\",\"\",S94+IF(U94=\"XX\",VLOOKUP(\"WRONG\",Answers!Q:T,4,FALSE),U94)+V94)","v":""},{"$f":"IF($B94=\"\",\"\",UPPER(Mainframe!H93))","v":""},{"$f":"IF(X94=\"\",\"\",IF(NOT(ISNA(VLOOKUP(X94,Answers!U:X,4,FALSE))),VLOOKUP(X94,Answers!U:X,4,FALSE),\"Help!\"))","v":""},null,{"$f":"IF(Y94=\"\",\"\",W94+IF(Y94=\"XX\",VLOOKUP(\"WRONG\",Answers!U:X,4,FALSE),Y94)+Z94)","v":""},{"$f":"IF($B94=\"\",\"\",UPPER(Mainframe!I93))","v":""},{"$f":"IF(AB94=\"\",\"\",IF(NOT(ISNA(VLOOKUP(AB94,Answers!Y:AB,4,FALSE))),VLOOKUP(AB94,Answers!Y:AB,4,FALSE),\"Help!\"))","v":""},null,{"$f":"IF(AC94=\"\",\"\",AA94+IF(AC94=\"XX\",VLOOKUP(\"WRONG\",Answers!Y:AB,4,FALSE),AC94)+AD94)","v":""},{"$f":"IF($B94=\"\",\"\",UPPER(Mainframe!J93))","v":""},{"$f":"IF(AF94=\"\",\"\",IF(NOT(ISNA(VLOOKUP(AF94,Answers!AC:AF,4,FALSE))),VLOOKUP(AF94,Answers!AC:AF,4,FALSE),\"Help!\"))","v":""},null,{"$f":"IF(AG94=\"\",\"\",AE94+IF(AG94=\"XX\",VLOOKUP(\"WRONG\",Answers!AC:AF,4,FALSE),AG94)+AH94)","v":""},{"$f":"IF($B94=\"\",\"\",UPPER(Mainframe!K93))","v":""},{"$f":"IF(AJ94=\"\",\"\",IF(NOT(ISNA(VLOOKUP(AJ94,Answers!AG:AJ,4,FALSE))),VLOOKUP(AJ94,Answers!AG:AJ,4,FALSE),\"Help!\"))","v":""},null,{"$f":"IF(AK94=\"\",\"\",AI94+IF(AK94=\"XX\",VLOOKUP(\"WRONG\",Answers!AG:AJ,4,FALSE),AK94)+AL94)","v":""},{"$f":"IF($B94=\"\",\"\",UPPER(Mainframe!L93))","v":""},{"$f":"IF(AN94=\"\",\"\",IF(NOT(ISNA(VLOOKUP(AN94,Answers!AK:AN,4,FALSE))),VLOOKUP(AN94,Answers!AK:AN,4,FALSE),\"Help!\"))","v":""},null,{"$f":"IF(AO94=\"\",\"\",AM94+IF(AO94=\"XX\",VLOOKUP(\"WRONG\",Answers!AK:AN,4,FALSE),AO94)+AP94)","v":""},{"$f":"IF($B94=\"\",\"\",UPPER(Mainframe!M93))","v":""},{"$f":"IF(AR94=\"\",\"\",IF(NOT(ISNA(VLOOKUP(AR94,Answers!AO:AR,4,FALSE))),VLOOKUP(AR94,Answers!AO:AR,4,FALSE),\"Help!\"))","v":""},null,{"$f":"IF(AS94=\"\",\"\",AQ94+IF(AS94=\"XX\",VLOOKUP(\"WRONG\",Answers!AO:AR,4,FALSE),AS94)+AT94)","v":""},{"$f":"IF($B94=\"\",\"\",UPPER(Mainframe!N93))","v":""},{"$f":"IF(AV94=\"\",\"\",IF(NOT(ISNA(VLOOKUP(AV94,Answers!AS:AV,4,FALSE))),VLOOKUP(AV94,Answers!AS:AV,4,FALSE),\"Help!\"))","v":""},null,{"$f":"IF(AW94=\"\",\"\",AU94+IF(AW94=\"XX\",VLOOKUP(\"WRONG\",Answers!AS:AV,4,FALSE),AW94)+AX94)","v":""},{"$f":"IF($B94=\"\",\"\",UPPER(Mainframe!O93))","v":""},{"$f":"IF(AZ94=\"\",\"\",IF(NOT(ISNA(VLOOKUP(AZ94,Answers!AW:AZ,4,FALSE))),VLOOKUP(AZ94,Answers!AW:AZ,4,FALSE),\"Help!\"))","v":""},null,{"$f":"IF(BA94=\"\",\"\",AY94+IF(BA94=\"XX\",VLOOKUP(\"WRONG\",Answers!AW:AZ,4,FALSE),BA94)+BB94)","v":""},{"$f":"IF($B94=\"\",\"\",UPPER(Mainframe!P93))","v":""},{"$f":"IF(BD94=\"\",\"\",IF(NOT(ISNA(VLOOKUP(BD94,Answers!BA:BD,4,FALSE))),VLOOKUP(BD94,Answers!BA:BD,4,FALSE),\"Help!\"))","v":""},null,{"$f":"IF(BE94=\"\",\"\",BC94+IF(BE94=\"XX\",VLOOKUP(\"WRONG\",Answers!BA:BD,4,FALSE),BE94)+BF94)","v":""},{"$f":"IF($B94=\"\",\"\",UPPER(Mainframe!Q93))","v":""},{"$f":"IF(BH94=\"\",\"\",IF(NOT(ISNA(VLOOKUP(BH94,Answers!BE:BH,4,FALSE))),VLOOKUP(BH94,Answers!BE:BH,4,FALSE),\"Help!\"))","v":""},null,{"$f":"IF(BI94=\"\",\"\",BG94+IF(BI94=\"XX\",VLOOKUP(\"WRONG\",Answers!BE:BH,4,FALSE),BI94)+BJ94)","v":""},{"$f":"IF($B94=\"\",\"\",UPPER(Mainframe!R93))","v":""},{"$f":"IF(BL94=\"\",\"\",IF(NOT(ISNA(VLOOKUP(BL94,Answers!BI:BL,4,FALSE))),VLOOKUP(BL94,Answers!BI:BL,4,FALSE),\"Help!\"))","v":""},null,{"$f":"IF(BM94=\"\",\"\",BK94+IF(BM94=\"XX\",VLOOKUP(\"WRONG\",Answers!BI:BL,4,FALSE),BM94)+BN94)","v":""},{"$f":"IF($B94=\"\",\"\",UPPER(Mainframe!S93))","v":""},{"$f":"IF(BP94=\"\",\"\",IF(NOT(ISNA(VLOOKUP(BP94,Answers!BM:BP,4,FALSE))),VLOOKUP(BP94,Answers!BM:BP,4,FALSE),\"Help!\"))","v":""},null,{"$f":"IF(BQ94=\"\",\"\",BO94+IF(BQ94=\"XX\",VLOOKUP(\"WRONG\",Answers!BM:BP,4,FALSE),BQ94)+BR94)","v":""},{"$f":"IF($B94=\"\",\"\",UPPER(Mainframe!T93))","v":""},{"$f":"IF(BT94=\"\",\"\",IF(NOT(ISNA(VLOOKUP(BT94,Answers!BQ:BT,4,FALSE))),VLOOKUP(BT94,Answers!BQ:BT,4,FALSE),\"Help!\"))","v":""},null,{"$f":"IF(BU94=\"\",\"\",BS94+IF(BU94=\"XX\",VLOOKUP(\"WRONG\",Answers!BQ:BT,4,FALSE),BU94)+BV94)","v":""},{"$f":"IF($B94=\"\",\"\",UPPER(Mainframe!U93))","v":""},{"$f":"IF(BX94=\"\",\"\",IF(NOT(ISNA(VLOOKUP(BX94,Answers!BU:BX,4,FALSE))),VLOOKUP(BX94,Answers!BU:BX,4,FALSE),\"Help!\"))","v":""},null,{"$f":"IF(BY94=\"\",\"\",BW94+IF(BY94=\"XX\",VLOOKUP(\"WRONG\",Answers!BU:BX,4,FALSE),BY94)+BZ94)","v":""},{"$f":"IF($B94=\"\",\"\",UPPER(Mainframe!V93))","v":""},{"$f":"IF(CB94=\"\",\"\",IF(NOT(ISNA(VLOOKUP(CB94,Answers!BY:CB,4,FALSE))),VLOOKUP(CB94,Answers!BY:CB,4,FALSE),\"Help!\"))","v":""},null,{"$f":"IF(CC94=\"\",\"\",CA94+IF(CC94=\"XX\",VLOOKUP(\"WRONG\",Answers!BY:CB,4,FALSE),CC94)+CD94)","v":""},null,null,1,{"$f":"IF(INDEX($B:$CE,ROW(),QNO*4-1)=DROPNAME,DROPNAME,IF(INDEX($B:$CE,ROW(),QNO*4-1)=SHEEPNAME,SHEEPNAME,IF(INDEX($B:$CE,ROW(),QNO*4)=\"XX\",INDEX($B:$CE,ROW(),QNO*4-1),INDEX(OFFSET(Answers!B:B,0,(QNO-1)*4),MATCH(INDEX($A:$CB,ROW(),QNO*4),OFFSET(Answers!A:A,0,(QNO-1)*4),0))&\" — \"&IF(INDEX($B:$CE,ROW(),QNO*4)=1,\"[b]Singleton![/b]\",CONCATENATE(INDEX($B:$CE,ROW(),QNO*4),\" responses\")))))","v":{"$error":"#N/A"}},"//////////////////////////////////////////////////////////////////////////","No",{"$f":"IF(B94=0,\"\",CONCATENATE(INDEX($CH:$CL,ROW(),1),\". \",INDEX($B:$CE,ROW(),1),\" — [b]\")&IF(QNO=1,CONCATENATE(INDEX($B:$CE,ROW(),QNO*4+2),\"[/b] pts\"),CONCATENATE(INDEX($B:$CE,ROW(),QNO*4-2),\" + \",IF(INDEX($B:$CE,ROW(),QNO*4)=\"XX\",INDEX(Answers!$A:$ZZ,2,QNO*4),INDEX($B:$CE,ROW(),QNO*4)),\" = \",INDEX($B:$CE,ROW(),QNO*4+2),\"[/b] pts \",IF(INDEX($C:$CE,ROW(),QNO*4)>0,\"(penalty: +\"&INDEX($C:$CE,ROW(),QNO*4)&\") \",IF(INDEX($C:$CE,ROW(),QNO*4)<0,\"(bonus: \"&INDEX($C:$CE,ROW(),QNO*4)&\") \",\"\"))&\"[[b]\"&IF(CN94>0,\"[color=#00BF00]↑\"&CN94,IF(CN94<0,\"[color=#FF0000]↓\"&ABS(CN94),\"[color=#0000FF]unch\"))&\"[/b][/color]]\")))","v":"1.  — [b][/b] pts"},1,0]
["[*]",{"$f":"IF(Mainframe!B94=\"\",\"\",INDEX(Mainframe!$B:$B,C95+1,1))","v":""},93,{"$f":"IF($B95=\"\",\"\",UPPER(Mainframe!C94))","v":""},{"$f":"IF(D95=\"\",\"\",IF(NOT(ISNA(VLOOKUP(D95,Answers!A:D,4,FALSE))),VLOOKUP(D95,Answers!A:D,4,FALSE),\"Help!\"))","v":""},null,{"$f":"IF(E95=\"\",\"\",IF(E95=\"XX\",VLOOKUP(\"WRONG\",Answers!A:D,4,FALSE),E95)+F95)","v":""},{"$f":"IF($B95=\"\",\"\",UPPER(Mainframe!D94))","v":""},{"$f":"IF(H95=\"\",\"\",IF(NOT(ISNA(VLOOKUP(H95,Answers!E:H,4,FALSE))),VLOOKUP(H95,Answers!E:H,4,FALSE),\"Help!\"))","v":""},null,{"$f":"IF(I95=\"\",\"\",G95+IF(I95=\"XX\",VLOOKUP(\"WRONG\",Answers!E:H,4,FALSE),I95)+J95)","v":""},{"$f":"IF($B95=\"\",\"\",UPPER(Mainframe!E94))","v":""},{"$f":"IF(L95=\"\",\"\",IF(NOT(ISNA(VLOOKUP(L95,Answers!I:L,4,FALSE))),VLOOKUP(L95,Answers!I:L,4,FALSE),\"Help!\"))","v":""},null,{"$f":"IF(M95=\"\",\"\",K95+IF(M95=\"XX\",VLOOKUP(\"WRONG\",Answers!I:L,4,FALSE),M95)+N95)","v":""},{"$f":"IF($B95=\"\",\"\",UPPER(Mainframe!F94))","v":""},{"$f":"IF(P95=\"\",\"\",IF(NOT(ISNA(VLOOKUP(P95,Answers!M:P,4,FALSE))),VLOOKUP(P95,Answers!M:P,4,FALSE),\"Help!\"))","v":""},null,{"$f":"IF(Q95=\"\",\"\",O95+IF(Q95=\"XX\",VLOOKUP(\"WRONG\",Answers!M:P,4,FALSE),Q95)+R95)","v":""},{"$f":"IF($B95=\"\",\"\",UPPER(Mainframe!G94))","v":""},{"$f":"IF(T95=\"\",\"\",IF(NOT(ISNA(VLOOKUP(T95,Answers!Q:T,4,FALSE))),VLOOKUP(T95,Answers!Q:T,4,FALSE),\"Help!\"))","v":""},null,{"$f":"IF(U95=\"\",\"\",S95+IF(U95=\"XX\",VLOOKUP(\"WRONG\",Answers!Q:T,4,FALSE),U95)+V95)","v":""},{"$f":"IF($B95=\"\",\"\",UPPER(Mainframe!H94))","v":""},{"$f":"IF(X95=\"\",\"\",IF(NOT(ISNA(VLOOKUP(X95,Answers!U:X,4,FALSE))),VLOOKUP(X95,Answers!U:X,4,FALSE),\"Help!\"))","v":""},null,{"$f":"IF(Y95=\"\",\"\",W95+IF(Y95=\"XX\",VLOOKUP(\"WRONG\",Answers!U:X,4,FALSE),Y95)+Z95)","v":""},{"$f":"IF($B95=\"\",\"\",UPPER(Mainframe!I94))","v":""},{"$f":"IF(AB95=\"\",\"\",IF(NOT(ISNA(VLOOKUP(AB95,Answers!Y:AB,4,FALSE))),VLOOKUP(AB95,Answers!Y:AB,4,FALSE),\"Help!\"))","v":""},null,{"$f":"IF(AC95=\"\",\"\",AA95+IF(AC95=\"XX\",VLOOKUP(\"WRONG\",Answers!Y:AB,4,FALSE),AC95)+AD95)","v":""},{"$f":"IF($B95=\"\",\"\",UPPER(Mainframe!J94))","v":""},{"$f":"IF(AF95=\"\",\"\",IF(NOT(ISNA(VLOOKUP(AF95,Answers!AC:AF,4,FALSE))),VLOOKUP(AF95,Answers!AC:AF,4,FALSE),\"Help!\"))","v":""},null,{"$f":"IF(AG95=\"\",\"\",AE95+IF(AG95=\"XX\",VLOOKUP(\"WRONG\",Answers!AC:AF,4,FALSE),AG95)+AH95)","v":""},{"$f":"IF($B95=\"\",\"\",UPPER(Mainframe!K94))","v":""},{"$f":"IF(AJ95=\"\",\"\",IF(NOT(ISNA(VLOOKUP(AJ95,Answers!AG:AJ,4,FALSE))),VLOOKUP(AJ95,Answers!AG:AJ,4,FALSE),\"Help!\"))","v":""},null,{"$f":"IF(AK95=\"\",\"\",AI95+IF(AK95=\"XX\",VLOOKUP(\"WRONG\",Answers!AG:AJ,4,FALSE),AK95)+AL95)","v":""},{"$f":"IF($B95=\"\",\"\",UPPER(Mainframe!L94))","v":""},{"$f":"IF(AN95=\"\",\"\",IF(NOT(ISNA(VLOOKUP(AN95,Answers!AK:AN,4,FALSE))),VLOOKUP(AN95,Answers!AK:AN,4,FALSE),\"Help!\"))","v":""},null,{"$f":"IF(AO95=\"\",\"\",AM95+IF(AO95=\"XX\",VLOOKUP(\"WRONG\",Answers!AK:AN,4,FALSE),AO95)+AP95)","v":""},{"$f":"IF($B95=\"\",\"\",UPPER(Mainframe!M94))","v":""},{"$f":"IF(AR95=\"\",\"\",IF(NOT(ISNA(VLOOKUP(AR95,Answers!AO:AR,4,FALSE))),VLOOKUP(AR95,Answers!AO:AR,4,FALSE),\"Help!\"))","v":""},null,{"$f":"IF(AS95=\"\",\"\",AQ95+IF(AS95=\"XX\",VLOOKUP(\"WRONG\",Answers!AO:AR,4,FALSE),AS95)+AT95)","v":""},{"$f":"IF($B95=\"\",\"\",UPPER(Mainframe!N94))","v":""},{"$f":"IF(AV95=\"\",\"\",IF(NOT(ISNA(VLOOKUP(AV95,Answers!AS:AV,4,FALSE))),VLOOKUP(AV95,Answers!AS:AV,4,FALSE),\"Help!\"))","v":""},null,{"$f":"IF(AW95=\"\",\"\",AU95+IF(AW95=\"XX\",VLOOKUP(\"WRONG\",Answers!AS:AV,4,FALSE),AW95)+AX95)","v":""},{"$f":"IF($B95=\"\",\"\",UPPER(Mainframe!O94))","v":""},{"$f":"IF(AZ95=\"\",\"\",IF(NOT(ISNA(VLOOKUP(AZ95,Answers!AW:AZ,4,FALSE))),VLOOKUP(AZ95,Answers!AW:AZ,4,FALSE),\"Help!\"))","v":""},null,{"$f":"IF(BA95=\"\",\"\",AY95+IF(BA95=\"XX\",VLOOKUP(\"WRONG\",Answers!AW:AZ,4,FALSE),BA95)+BB95)","v":""},{"$f":"IF($B95=\"\",\"\",UPPER(Mainframe!P94))","v":""},{"$f":"IF(BD95=\"\",\"\",IF(NOT(ISNA(VLOOKUP(BD95,Answers!BA:BD,4,FALSE))),VLOOKUP(BD95,Answers!BA:BD,4,FALSE),\"Help!\"))","v":""},null,{"$f":"IF(BE95=\"\",\"\",BC95+IF(BE95=\"XX\",VLOOKUP(\"WRONG\",Answers!BA:BD,4,FALSE),BE95)+BF95)","v":""},{"$f":"IF($B95=\"\",\"\",UPPER(Mainframe!Q94))","v":""},{"$f":"IF(BH95=\"\",\"\",IF(NOT(ISNA(VLOOKUP(BH95,Answers!BE:BH,4,FALSE))),VLOOKUP(BH95,Answers!BE:BH,4,FALSE),\"Help!\"))","v":""},null,{"$f":"IF(BI95=\"\",\"\",BG95+IF(BI95=\"XX\",VLOOKUP(\"WRONG\",Answers!BE:BH,4,FALSE),BI95)+BJ95)","v":""},{"$f":"IF($B95=\"\",\"\",UPPER(Mainframe!R94))","v":""},{"$f":"IF(BL95=\"\",\"\",IF(NOT(ISNA(VLOOKUP(BL95,Answers!BI:BL,4,FALSE))),VLOOKUP(BL95,Answers!BI:BL,4,FALSE),\"Help!\"))","v":""},null,{"$f":"IF(BM95=\"\",\"\",BK95+IF(BM95=\"XX\",VLOOKUP(\"WRONG\",Answers!BI:BL,4,FALSE),BM95)+BN95)","v":""},{"$f":"IF($B95=\"\",\"\",UPPER(Mainframe!S94))","v":""},{"$f":"IF(BP95=\"\",\"\",IF(NOT(ISNA(VLOOKUP(BP95,Answers!BM:BP,4,FALSE))),VLOOKUP(BP95,Answers!BM:BP,4,FALSE),\"Help!\"))","v":""},null,{"$f":"IF(BQ95=\"\",\"\",BO95+IF(BQ95=\"XX\",VLOOKUP(\"WRONG\",Answers!BM:BP,4,FALSE),BQ95)+BR95)","v":""},{"$f":"IF($B95=\"\",\"\",UPPER(Mainframe!T94))","v":""},{"$f":"IF(BT95=\"\",\"\",IF(NOT(ISNA(VLOOKUP(BT95,Answers!BQ:BT,4,FALSE))),VLOOKUP(BT95,Answers!BQ:BT,4,FALSE),\"Help!\"))","v":""},null,{"$f":"IF(BU95=\"\",\"\",BS95+IF(BU95=\"XX\",VLOOKUP(\"WRONG\",Answers!BQ:BT,4,FALSE),BU95)+BV95)","v":""},{"$f":"IF($B95=\"\",\"\",UPPER(Mainframe!U94))","v":""},{"$f":"IF(BX95=\"\",\"\",IF(NOT(ISNA(VLOOKUP(BX95,Answers!BU:BX,4,FALSE))),VLOOKUP(BX95,Answers!BU:BX,4,FALSE),\"Help!\"))","v":""},null,{"$f":"IF(BY95=\"\",\"\",BW95+IF(BY95=\"XX\",VLOOKUP(\"WRONG\",Answers!BU:BX,4,FALSE),BY95)+BZ95)","v":""},{"$f":"IF($B95=\"\",\"\",UPPER(Mainframe!V94))","v":""},{"$f":"IF(CB95=\"\",\"\",IF(NOT(ISNA(VLOOKUP(CB95,Answers!BY:CB,4,FALSE))),VLOOKUP(CB95,Answers!BY:CB,4,FALSE),\"Help!\"))","v":""},null,{"$f":"IF(CC95=\"\",\"\",CA95+IF(CC95=\"XX\",VLOOKUP(\"WRONG\",Answers!BY:CB,4,FALSE),CC95)+CD95)","v":""},null,null,1,{"$f":"IF(INDEX($B:$CE,ROW(),QNO*4-1)=DROPNAME,DROPNAME,IF(INDEX($B:$CE,ROW(),QNO*4-1)=SHEEPNAME,SHEEPNAME,IF(INDEX($B:$CE,ROW(),QNO*4)=\"XX\",INDEX($B:$CE,ROW(),QNO*4-1),INDEX(OFFSET(Answers!B:B,0,(QNO-1)*4),MATCH(INDEX($A:$CB,ROW(),QNO*4),OFFSET(Answers!A:A,0,(QNO-1)*4),0))&\" — \"&IF(INDEX($B:$CE,ROW(),QNO*4)=1,\"[b]Singleton![/b]\",CONCATENATE(INDEX($B:$CE,ROW(),QNO*4),\" responses\")))))","v":{"$error":"#N/A"}},"////////////////////////////////////////////////////////////////////////","No",{"$f":"IF(B95=0,\"\",CONCATENATE(INDEX($CH:$CL,ROW(),1),\". \",INDEX($B:$CE,ROW(),1),\" — [b]\")&IF(QNO=1,CONCATENATE(INDEX($B:$CE,ROW(),QNO*4+2),\"[/b] pts\"),CONCATENATE(INDEX($B:$CE,ROW(),QNO*4-2),\" + \",IF(INDEX($B:$CE,ROW(),QNO*4)=\"XX\",INDEX(Answers!$A:$ZZ,2,QNO*4),INDEX($B:$CE,ROW(),QNO*4)),\" = \",INDEX($B:$CE,ROW(),QNO*4+2),\"[/b] pts \",IF(INDEX($C:$CE,ROW(),QNO*4)>0,\"(penalty: +\"&INDEX($C:$CE,ROW(),QNO*4)&\") \",IF(INDEX($C:$CE,ROW(),QNO*4)<0,\"(bonus: \"&INDEX($C:$CE,ROW(),QNO*4)&\") \",\"\"))&\"[[b]\"&IF(CN95>0,\"[color=#00BF00]↑\"&CN95,IF(CN95<0,\"[color=#FF0000]↓\"&ABS(CN95),\"[color=#0000FF]unch\"))&\"[/b][/color]]\")))","v":"1.  — [b][/b] pts"},1,0]
["[*]",{"$f":"IF(Mainframe!B95=\"\",\"\",INDEX(Mainframe!$B:$B,C96+1,1))","v":""},94,{"$f":"IF($B96=\"\",\"\",UPPER(Mainframe!C95))","v":""},{"$f":"IF(D96=\"\",\"\",IF(NOT(ISNA(VLOOKUP(D96,Answers!A:D,4,FALSE))),VLOOKUP(D96,Answers!A:D,4,FALSE),\"Help!\"))","v":""},null,{"$f":"IF(E96=\"\",\"\",IF(E96=\"XX\",VLOOKUP(\"WRONG\",Answers!A:D,4,FALSE),E96)+F96)","v":""},{"$f":"IF($B96=\"\",\"\",UPPER(Mainframe!D95))","v":""},{"$f":"IF(H96=\"\",\"\",IF(NOT(ISNA(VLOOKUP(H96,Answers!E:H,4,FALSE))),VLOOKUP(H96,Answers!E:H,4,FALSE),\"Help!\"))","v":""},null,{"$f":"IF(I96=\"\",\"\",G96+IF(I96=\"XX\",VLOOKUP(\"WRONG\",Answers!E:H,4,FALSE),I96)+J96)","v":""},{"$f":"IF($B96=\"\",\"\",UPPER(Mainframe!E95))","v":""},{"$f":"IF(L96=\"\",\"\",IF(NOT(ISNA(VLOOKUP(L96,Answers!I:L,4,FALSE))),VLOOKUP(L96,Answers!I:L,4,FALSE),\"Help!\"))","v":""},null,{"$f":"IF(M96=\"\",\"\",K96+IF(M96=\"XX\",VLOOKUP(\"WRONG\",Answers!I:L,4,FALSE),M96)+N96)","v":""},{"$f":"IF($B96=\"\",\"\",UPPER(Mainframe!F95))","v":""},{"$f":"IF(P96=\"\",\"\",IF(NOT(ISNA(VLOOKUP(P96,Answers!M:P,4,FALSE))),VLOOKUP(P96,Answers!M:P,4,FALSE),\"Help!\"))","v":""},null,{"$f":"IF(Q96=\"\",\"\",O96+IF(Q96=\"XX\",VLOOKUP(\"WRONG\",Answers!M:P,4,FALSE),Q96)+R96)","v":""},{"$f":"IF($B96=\"\",\"\",UPPER(Mainframe!G95))","v":""},{"$f":"IF(T96=\"\",\"\",IF(NOT(ISNA(VLOOKUP(T96,Answers!Q:T,4,FALSE))),VLOOKUP(T96,Answers!Q:T,4,FALSE),\"Help!\"))","v":""},null,{"$f":"IF(U96=\"\",\"\",S96+IF(U96=\"XX\",VLOOKUP(\"WRONG\",Answers!Q:T,4,FALSE),U96)+V96)","v":""},{"$f":"IF($B96=\"\",\"\",UPPER(Mainframe!H95))","v":""},{"$f":"IF(X96=\"\",\"\",IF(NOT(ISNA(VLOOKUP(X96,Answers!U:X,4,FALSE))),VLOOKUP(X96,Answers!U:X,4,FALSE),\"Help!\"))","v":""},null,{"$f":"IF(Y96=\"\",\"\",W96+IF(Y96=\"XX\",VLOOKUP(\"WRONG\",Answers!U:X,4,FALSE),Y96)+Z96)","v":""},{"$f":"IF($B96=\"\",\"\",UPPER(Mainframe!I95))","v":""},{"$f":"IF(AB96=\"\",\"\",IF(NOT(ISNA(VLOOKUP(AB96,Answers!Y:AB,4,FALSE))),VLOOKUP(AB96,Answers!Y:AB,4,FALSE),\"Help!\"))","v":""},null,{"$f":"IF(AC96=\"\",\"\",AA96+IF(AC96=\"XX\",VLOOKUP(\"WRONG\",Answers!Y:AB,4,FALSE),AC96)+AD96)","v":""},{"$f":"IF($B96=\"\",\"\",UPPER(Mainframe!J95))","v":""},{"$f":"IF(AF96=\"\",\"\",IF(NOT(ISNA(VLOOKUP(AF96,Answers!AC:AF,4,FALSE))),VLOOKUP(AF96,Answers!AC:AF,4,FALSE),\"Help!\"))","v":""},null,{"$f":"IF(AG96=\"\",\"\",AE96+IF(AG96=\"XX\",VLOOKUP(\"WRONG\",Answers!AC:AF,4,FALSE),AG96)+AH96)","v":""},{"$f":"IF($B96=\"\",\"\",UPPER(Mainframe!K95))","v":""},{"$f":"IF(AJ96=\"\",\"\",IF(NOT(ISNA(VLOOKUP(AJ96,Answers!AG:AJ,4,FALSE))),VLOOKUP(AJ96,Answers!AG:AJ,4,FALSE),\"Help!\"))","v":""},null,{"$f":"IF(AK96=\"\",\"\",AI96+IF(AK96=\"XX\",VLOOKUP(\"WRONG\",Answers!AG:AJ,4,FALSE),AK96)+AL96)","v":""},{"$f":"IF($B96=\"\",\"\",UPPER(Mainframe!L95))","v":""},{"$f":"IF(AN96=\"\",\"\",IF(NOT(ISNA(VLOOKUP(AN96,Answers!AK:AN,4,FALSE))),VLOOKUP(AN96,Answers!AK:AN,4,FALSE),\"Help!\"))","v":""},null,{"$f":"IF(AO96=\"\",\"\",AM96+IF(AO96=\"XX\",VLOOKUP(\"WRONG\",Answers!AK:AN,4,FALSE),AO96)+AP96)","v":""},{"$f":"IF($B96=\"\",\"\",UPPER(Mainframe!M95))","v":""},{"$f":"IF(AR96=\"\",\"\",IF(NOT(ISNA(VLOOKUP(AR96,Answers!AO:AR,4,FALSE))),VLOOKUP(AR96,Answers!AO:AR,4,FALSE),\"Help!\"))","v":""},null,{"$f":"IF(AS96=\"\",\"\",AQ96+IF(AS96=\"XX\",VLOOKUP(\"WRONG\",Answers!AO:AR,4,FALSE),AS96)+AT96)","v":""},{"$f":"IF($B96=\"\",\"\",UPPER(Mainframe!N95))","v":""},{"$f":"IF(AV96=\"\",\"\",IF(NOT(ISNA(VLOOKUP(AV96,Answers!AS:AV,4,FALSE))),VLOOKUP(AV96,Answers!AS:AV,4,FALSE),\"Help!\"))","v":""},null,{"$f":"IF(AW96=\"\",\"\",AU96+IF(AW96=\"XX\",VLOOKUP(\"WRONG\",Answers!AS:AV,4,FALSE),AW96)+AX96)","v":""},{"$f":"IF($B96=\"\",\"\",UPPER(Mainframe!O95))","v":""},{"$f":"IF(AZ96=\"\",\"\",IF(NOT(ISNA(VLOOKUP(AZ96,Answers!AW:AZ,4,FALSE))),VLOOKUP(AZ96,Answers!AW:AZ,4,FALSE),\"Help!\"))","v":""},null,{"$f":"IF(BA96=\"\",\"\",AY96+IF(BA96=\"XX\",VLOOKUP(\"WRONG\",Answers!AW:AZ,4,FALSE),BA96)+BB96)","v":""},{"$f":"IF($B96=\"\",\"\",UPPER(Mainframe!P95))","v":""},{"$f":"IF(BD96=\"\",\"\",IF(NOT(ISNA(VLOOKUP(BD96,Answers!BA:BD,4,FALSE))),VLOOKUP(BD96,Answers!BA:BD,4,FALSE),\"Help!\"))","v":""},null,{"$f":"IF(BE96=\"\",\"\",BC96+IF(BE96=\"XX\",VLOOKUP(\"WRONG\",Answers!BA:BD,4,FALSE),BE96)+BF96)","v":""},{"$f":"IF($B96=\"\",\"\",UPPER(Mainframe!Q95))","v":""},{"$f":"IF(BH96=\"\",\"\",IF(NOT(ISNA(VLOOKUP(BH96,Answers!BE:BH,4,FALSE))),VLOOKUP(BH96,Answers!BE:BH,4,FALSE),\"Help!\"))","v":""},null,{"$f":"IF(BI96=\"\",\"\",BG96+IF(BI96=\"XX\",VLOOKUP(\"WRONG\",Answers!BE:BH,4,FALSE),BI96)+BJ96)","v":""},{"$f":"IF($B96=\"\",\"\",UPPER(Mainframe!R95))","v":""},{"$f":"IF(BL96=\"\",\"\",IF(NOT(ISNA(VLOOKUP(BL96,Answers!BI:BL,4,FALSE))),VLOOKUP(BL96,Answers!BI:BL,4,FALSE),\"Help!\"))","v":""},null,{"$f":"IF(BM96=\"\",\"\",BK96+IF(BM96=\"XX\",VLOOKUP(\"WRONG\",Answers!BI:BL,4,FALSE),BM96)+BN96)","v":""},{"$f":"IF($B96=\"\",\"\",UPPER(Mainframe!S95))","v":""},{"$f":"IF(BP96=\"\",\"\",IF(NOT(ISNA(VLOOKUP(BP96,Answers!BM:BP,4,FALSE))),VLOOKUP(BP96,Answers!BM:BP,4,FALSE),\"Help!\"))","v":""},null,{"$f":"IF(BQ96=\"\",\"\",BO96+IF(BQ96=\"XX\",VLOOKUP(\"WRONG\",Answers!BM:BP,4,FALSE),BQ96)+BR96)","v":""},{"$f":"IF($B96=\"\",\"\",UPPER(Mainframe!T95))","v":""},{"$f":"IF(BT96=\"\",\"\",IF(NOT(ISNA(VLOOKUP(BT96,Answers!BQ:BT,4,FALSE))),VLOOKUP(BT96,Answers!BQ:BT,4,FALSE),\"Help!\"))","v":""},null,{"$f":"IF(BU96=\"\",\"\",BS96+IF(BU96=\"XX\",VLOOKUP(\"WRONG\",Answers!BQ:BT,4,FALSE),BU96)+BV96)","v":""},{"$f":"IF($B96=\"\",\"\",UPPER(Mainframe!U95))","v":""},{"$f":"IF(BX96=\"\",\"\",IF(NOT(ISNA(VLOOKUP(BX96,Answers!BU:BX,4,FALSE))),VLOOKUP(BX96,Answers!BU:BX,4,FALSE),\"Help!\"))","v":""},null,{"$f":"IF(BY96=\"\",\"\",BW96+IF(BY96=\"XX\",VLOOKUP(\"WRONG\",Answers!BU:BX,4,FALSE),BY96)+BZ96)","v":""},{"$f":"IF($B96=\"\",\"\",UPPER(Mainframe!V95))","v":""},{"$f":"IF(CB96=\"\",\"\",IF(NOT(ISNA(VLOOKUP(CB96,Answers!BY:CB,4,FALSE))),VLOOKUP(CB96,Answers!BY:CB,4,FALSE),\"Help!\"))","v":""},null,{"$f":"IF(CC96=\"\",\"\",CA96+IF(CC96=\"XX\",VLOOKUP(\"WRONG\",Answers!BY:CB,4,FALSE),CC96)+CD96)","v":""},null,null,1,{"$f":"IF(INDEX($B:$CE,ROW(),QNO*4-1)=DROPNAME,DROPNAME,IF(INDEX($B:$CE,ROW(),QNO*4-1)=SHEEPNAME,SHEEPNAME,IF(INDEX($B:$CE,ROW(),QNO*4)=\"XX\",INDEX($B:$CE,ROW(),QNO*4-1),INDEX(OFFSET(Answers!B:B,0,(QNO-1)*4),MATCH(INDEX($A:$CB,ROW(),QNO*4),OFFSET(Answers!A:A,0,(QNO-1)*4),0))&\" — \"&IF(INDEX($B:$CE,ROW(),QNO*4)=1,\"[b]Singleton![/b]\",CONCATENATE(INDEX($B:$CE,ROW(),QNO*4),\" responses\")))))","v":{"$error":"#N/A"}},"//////////////////////////////////////////////////////////////////////","No",{"$f":"IF(B96=0,\"\",CONCATENATE(INDEX($CH:$CL,ROW(),1),\". \",INDEX($B:$CE,ROW(),1),\" — [b]\")&IF(QNO=1,CONCATENATE(INDEX($B:$CE,ROW(),QNO*4+2),\"[/b] pts\"),CONCATENATE(INDEX($B:$CE,ROW(),QNO*4-2),\" + \",IF(INDEX($B:$CE,ROW(),QNO*4)=\"XX\",INDEX(Answers!$A:$ZZ,2,QNO*4),INDEX($B:$CE,ROW(),QNO*4)),\" = \",INDEX($B:$CE,ROW(),QNO*4+2),\"[/b] pts \",IF(INDEX($C:$CE,ROW(),QNO*4)>0,\"(penalty: +\"&INDEX($C:$CE,ROW(),QNO*4)&\") \",IF(INDEX($C:$CE,ROW(),QNO*4)<0,\"(bonus: \"&INDEX($C:$CE,ROW(),QNO*4)&\") \",\"\"))&\"[[b]\"&IF(CN96>0,\"[color=#00BF00]↑\"&CN96,IF(CN96<0,\"[color=#FF0000]↓\"&ABS(CN96),\"[color=#0000FF]unch\"))&\"[/b][/color]]\")))","v":"1.  — [b][/b] pts"},1,0]
["[*]",{"$f":"IF(Mainframe!B96=\"\",\"\",INDEX(Mainframe!$B:$B,C97+1,1))","v":""},95,{"$f":"IF($B97=\"\",\"\",UPPER(Mainframe!C96))","v":""},{"$f":"IF(D97=\"\",\"\",IF(NOT(ISNA(VLOOKUP(D97,Answers!A:D,4,FALSE))),VLOOKUP(D97,Answers!A:D,4,FALSE),\"Help!\"))","v":""},null,{"$f":"IF(E97=\"\",\"\",IF(E97=\"XX\",VLOOKUP(\"WRONG\",Answers!A:D,4,FALSE),E97)+F97)","v":""},{"$f":"IF($B97=\"\",\"\",UPPER(Mainframe!D96))","v":""},{"$f":"IF(H97=\"\",\"\",IF(NOT(ISNA(VLOOKUP(H97,Answers!E:H,4,FALSE))),VLOOKUP(H97,Answers!E:H,4,FALSE),\"Help!\"))","v":""},null,{"$f":"IF(I97=\"\",\"\",G97+IF(I97=\"XX\",VLOOKUP(\"WRONG\",Answers!E:H,4,FALSE),I97)+J97)","v":""},{"$f":"IF($B97=\"\",\"\",UPPER(Mainframe!E96))","v":""},{"$f":"IF(L97=\"\",\"\",IF(NOT(ISNA(VLOOKUP(L97,Answers!I:L,4,FALSE))),VLOOKUP(L97,Answers!I:L,4,FALSE),\"Help!\"))","v":""},null,{"$f":"IF(M97=\"\",\"\",K97+IF(M97=\"XX\",VLOOKUP(\"WRONG\",Answers!I:L,4,FALSE),M97)+N97)","v":""},{"$f":"IF($B97=\"\",\"\",UPPER(Mainframe!F96))","v":""},{"$f":"IF(P97=\"\",\"\",IF(NOT(ISNA(VLOOKUP(P97,Answers!M:P,4,FALSE))),VLOOKUP(P97,Answers!M:P,4,FALSE),\"Help!\"))","v":""},null,{"$f":"IF(Q97=\"\",\"\",O97+IF(Q97=\"XX\",VLOOKUP(\"WRONG\",Answers!M:P,4,FALSE),Q97)+R97)","v":""},{"$f":"IF($B97=\"\",\"\",UPPER(Mainframe!G96))","v":""},{"$f":"IF(T97=\"\",\"\",IF(NOT(ISNA(VLOOKUP(T97,Answers!Q:T,4,FALSE))),VLOOKUP(T97,Answers!Q:T,4,FALSE),\"Help!\"))","v":""},null,{"$f":"IF(U97=\"\",\"\",S97+IF(U97=\"XX\",VLOOKUP(\"WRONG\",Answers!Q:T,4,FALSE),U97)+V97)","v":""},{"$f":"IF($B97=\"\",\"\",UPPER(Mainframe!H96))","v":""},{"$f":"IF(X97=\"\",\"\",IF(NOT(ISNA(VLOOKUP(X97,Answers!U:X,4,FALSE))),VLOOKUP(X97,Answers!U:X,4,FALSE),\"Help!\"))","v":""},null,{"$f":"IF(Y97=\"\",\"\",W97+IF(Y97=\"XX\",VLOOKUP(\"WRONG\",Answers!U:X,4,FALSE),Y97)+Z97)","v":""},{"$f":"IF($B97=\"\",\"\",UPPER(Mainframe!I96))","v":""},{"$f":"IF(AB97=\"\",\"\",IF(NOT(ISNA(VLOOKUP(AB97,Answers!Y:AB,4,FALSE))),VLOOKUP(AB97,Answers!Y:AB,4,FALSE),\"Help!\"))","v":""},null,{"$f":"IF(AC97=\"\",\"\",AA97+IF(AC97=\"XX\",VLOOKUP(\"WRONG\",Answers!Y:AB,4,FALSE),AC97)+AD97)","v":""},{"$f":"IF($B97=\"\",\"\",UPPER(Mainframe!J96))","v":""},{"$f":"IF(AF97=\"\",\"\",IF(NOT(ISNA(VLOOKUP(AF97,Answers!AC:AF,4,FALSE))),VLOOKUP(AF97,Answers!AC:AF,4,FALSE),\"Help!\"))","v":""},null,{"$f":"IF(AG97=\"\",\"\",AE97+IF(AG97=\"XX\",VLOOKUP(\"WRONG\",Answers!AC:AF,4,FALSE),AG97)+AH97)","v":""},{"$f":"IF($B97=\"\",\"\",UPPER(Mainframe!K96))","v":""},{"$f":"IF(AJ97=\"\",\"\",IF(NOT(ISNA(VLOOKUP(AJ97,Answers!AG:AJ,4,FALSE))),VLOOKUP(AJ97,Answers!AG:AJ,4,FALSE),\"Help!\"))","v":""},null,{"$f":"IF(AK97=\"\",\"\",AI97+IF(AK97=\"XX\",VLOOKUP(\"WRONG\",Answers!AG:AJ,4,FALSE),AK97)+AL97)","v":""},{"$f":"IF($B97=\"\",\"\",UPPER(Mainframe!L96))","v":""},{"$f":"IF(AN97=\"\",\"\",IF(NOT(ISNA(VLOOKUP(AN97,Answers!AK:AN,4,FALSE))),VLOOKUP(AN97,Answers!AK:AN,4,FALSE),\"Help!\"))","v":""},null,{"$f":"IF(AO97=\"\",\"\",AM97+IF(AO97=\"XX\",VLOOKUP(\"WRONG\",Answers!AK:AN,4,FALSE),AO97)+AP97)","v":""},{"$f":"IF($B97=\"\",\"\",UPPER(Mainframe!M96))","v":""},{"$f":"IF(AR97=\"\",\"\",IF(NOT(ISNA(VLOOKUP(AR97,Answers!AO:AR,4,FALSE))),VLOOKUP(AR97,Answers!AO:AR,4,FALSE),\"Help!\"))","v":""},null,{"$f":"IF(AS97=\"\",\"\",AQ97+IF(AS97=\"XX\",VLOOKUP(\"WRONG\",Answers!AO:AR,4,FALSE),AS97)+AT97)","v":""},{"$f":"IF($B97=\"\",\"\",UPPER(Mainframe!N96))","v":""},{"$f":"IF(AV97=\"\",\"\",IF(NOT(ISNA(VLOOKUP(AV97,Answers!AS:AV,4,FALSE))),VLOOKUP(AV97,Answers!AS:AV,4,FALSE),\"Help!\"))","v":""},null,{"$f":"IF(AW97=\"\",\"\",AU97+IF(AW97=\"XX\",VLOOKUP(\"WRONG\",Answers!AS:AV,4,FALSE),AW97)+AX97)","v":""},{"$f":"IF($B97=\"\",\"\",UPPER(Mainframe!O96))","v":""},{"$f":"IF(AZ97=\"\",\"\",IF(NOT(ISNA(VLOOKUP(AZ97,Answers!AW:AZ,4,FALSE))),VLOOKUP(AZ97,Answers!AW:AZ,4,FALSE),\"Help!\"))","v":""},null,{"$f":"IF(BA97=\"\",\"\",AY97+IF(BA97=\"XX\",VLOOKUP(\"WRONG\",Answers!AW:AZ,4,FALSE),BA97)+BB97)","v":""},{"$f":"IF($B97=\"\",\"\",UPPER(Mainframe!P96))","v":""},{"$f":"IF(BD97=\"\",\"\",IF(NOT(ISNA(VLOOKUP(BD97,Answers!BA:BD,4,FALSE))),VLOOKUP(BD97,Answers!BA:BD,4,FALSE),\"Help!\"))","v":""},null,{"$f":"IF(BE97=\"\",\"\",BC97+IF(BE97=\"XX\",VLOOKUP(\"WRONG\",Answers!BA:BD,4,FALSE),BE97)+BF97)","v":""},{"$f":"IF($B97=\"\",\"\",UPPER(Mainframe!Q96))","v":""},{"$f":"IF(BH97=\"\",\"\",IF(NOT(ISNA(VLOOKUP(BH97,Answers!BE:BH,4,FALSE))),VLOOKUP(BH97,Answers!BE:BH,4,FALSE),\"Help!\"))","v":""},null,{"$f":"IF(BI97=\"\",\"\",BG97+IF(BI97=\"XX\",VLOOKUP(\"WRONG\",Answers!BE:BH,4,FALSE),BI97)+BJ97)","v":""},{"$f":"IF($B97=\"\",\"\",UPPER(Mainframe!R96))","v":""},{"$f":"IF(BL97=\"\",\"\",IF(NOT(ISNA(VLOOKUP(BL97,Answers!BI:BL,4,FALSE))),VLOOKUP(BL97,Answers!BI:BL,4,FALSE),\"Help!\"))","v":""},null,{"$f":"IF(BM97=\"\",\"\",BK97+IF(BM97=\"XX\",VLOOKUP(\"WRONG\",Answers!BI:BL,4,FALSE),BM97)+BN97)","v":""},{"$f":"IF($B97=\"\",\"\",UPPER(Mainframe!S96))","v":""},{"$f":"IF(BP97=\"\",\"\",IF(NOT(ISNA(VLOOKUP(BP97,Answers!BM:BP,4,FALSE))),VLOOKUP(BP97,Answers!BM:BP,4,FALSE),\"Help!\"))","v":""},null,{"$f":"IF(BQ97=\"\",\"\",BO97+IF(BQ97=\"XX\",VLOOKUP(\"WRONG\",Answers!BM:BP,4,FALSE),BQ97)+BR97)","v":""},{"$f":"IF($B97=\"\",\"\",UPPER(Mainframe!T96))","v":""},{"$f":"IF(BT97=\"\",\"\",IF(NOT(ISNA(VLOOKUP(BT97,Answers!BQ:BT,4,FALSE))),VLOOKUP(BT97,Answers!BQ:BT,4,FALSE),\"Help!\"))","v":""},null,{"$f":"IF(BU97=\"\",\"\",BS97+IF(BU97=\"XX\",VLOOKUP(\"WRONG\",Answers!BQ:BT,4,FALSE),BU97)+BV97)","v":""},{"$f":"IF($B97=\"\",\"\",UPPER(Mainframe!U96))","v":""},{"$f":"IF(BX97=\"\",\"\",IF(NOT(ISNA(VLOOKUP(BX97,Answers!BU:BX,4,FALSE))),VLOOKUP(BX97,Answers!BU:BX,4,FALSE),\"Help!\"))","v":""},null,{"$f":"IF(BY97=\"\",\"\",BW97+IF(BY97=\"XX\",VLOOKUP(\"WRONG\",Answers!BU:BX,4,FALSE),BY97)+BZ97)","v":""},{"$f":"IF($B97=\"\",\"\",UPPER(Mainframe!V96))","v":""},{"$f":"IF(CB97=\"\",\"\",IF(NOT(ISNA(VLOOKUP(CB97,Answers!BY:CB,4,FALSE))),VLOOKUP(CB97,Answers!BY:CB,4,FALSE),\"Help!\"))","v":""},null,{"$f":"IF(CC97=\"\",\"\",CA97+IF(CC97=\"XX\",VLOOKUP(\"WRONG\",Answers!BY:CB,4,FALSE),CC97)+CD97)","v":""},null,null,1,{"$f":"IF(INDEX($B:$CE,ROW(),QNO*4-1)=DROPNAME,DROPNAME,IF(INDEX($B:$CE,ROW(),QNO*4-1)=SHEEPNAME,SHEEPNAME,IF(INDEX($B:$CE,ROW(),QNO*4)=\"XX\",INDEX($B:$CE,ROW(),QNO*4-1),INDEX(OFFSET(Answers!B:B,0,(QNO-1)*4),MATCH(INDEX($A:$CB,ROW(),QNO*4),OFFSET(Answers!A:A,0,(QNO-1)*4),0))&\" — \"&IF(INDEX($B:$CE,ROW(),QNO*4)=1,\"[b]Singleton![/b]\",CONCATENATE(INDEX($B:$CE,ROW(),QNO*4),\" responses\")))))","v":{"$error":"#N/A"}},"////////////////////////////////////////////////////////////////////","No",{"$f":"IF(B97=0,\"\",CONCATENATE(INDEX($CH:$CL,ROW(),1),\". \",INDEX($B:$CE,ROW(),1),\" — [b]\")&IF(QNO=1,CONCATENATE(INDEX($B:$CE,ROW(),QNO*4+2),\"[/b] pts\"),CONCATENATE(INDEX($B:$CE,ROW(),QNO*4-2),\" + \",IF(INDEX($B:$CE,ROW(),QNO*4)=\"XX\",INDEX(Answers!$A:$ZZ,2,QNO*4),INDEX($B:$CE,ROW(),QNO*4)),\" = \",INDEX($B:$CE,ROW(),QNO*4+2),\"[/b] pts \",IF(INDEX($C:$CE,ROW(),QNO*4)>0,\"(penalty: +\"&INDEX($C:$CE,ROW(),QNO*4)&\") \",IF(INDEX($C:$CE,ROW(),QNO*4)<0,\"(bonus: \"&INDEX($C:$CE,ROW(),QNO*4)&\") \",\"\"))&\"[[b]\"&IF(CN97>0,\"[color=#00BF00]↑\"&CN97,IF(CN97<0,\"[color=#FF0000]↓\"&ABS(CN97),\"[color=#0000FF]unch\"))&\"[/b][/color]]\")))","v":"1.  — [b][/b] pts"},1,0]
["[*]",{"$f":"IF(Mainframe!B97=\"\",\"\",INDEX(Mainframe!$B:$B,C98+1,1))","v":""},96,{"$f":"IF($B98=\"\",\"\",UPPER(Mainframe!C97))","v":""},{"$f":"IF(D98=\"\",\"\",IF(NOT(ISNA(VLOOKUP(D98,Answers!A:D,4,FALSE))),VLOOKUP(D98,Answers!A:D,4,FALSE),\"Help!\"))","v":""},null,{"$f":"IF(E98=\"\",\"\",IF(E98=\"XX\",VLOOKUP(\"WRONG\",Answers!A:D,4,FALSE),E98)+F98)","v":""},{"$f":"IF($B98=\"\",\"\",UPPER(Mainframe!D97))","v":""},{"$f":"IF(H98=\"\",\"\",IF(NOT(ISNA(VLOOKUP(H98,Answers!E:H,4,FALSE))),VLOOKUP(H98,Answers!E:H,4,FALSE),\"Help!\"))","v":""},null,{"$f":"IF(I98=\"\",\"\",G98+IF(I98=\"XX\",VLOOKUP(\"WRONG\",Answers!E:H,4,FALSE),I98)+J98)","v":""},{"$f":"IF($B98=\"\",\"\",UPPER(Mainframe!E97))","v":""},{"$f":"IF(L98=\"\",\"\",IF(NOT(ISNA(VLOOKUP(L98,Answers!I:L,4,FALSE))),VLOOKUP(L98,Answers!I:L,4,FALSE),\"Help!\"))","v":""},null,{"$f":"IF(M98=\"\",\"\",K98+IF(M98=\"XX\",VLOOKUP(\"WRONG\",Answers!I:L,4,FALSE),M98)+N98)","v":""},{"$f":"IF($B98=\"\",\"\",UPPER(Mainframe!F97))","v":""},{"$f":"IF(P98=\"\",\"\",IF(NOT(ISNA(VLOOKUP(P98,Answers!M:P,4,FALSE))),VLOOKUP(P98,Answers!M:P,4,FALSE),\"Help!\"))","v":""},null,{"$f":"IF(Q98=\"\",\"\",O98+IF(Q98=\"XX\",VLOOKUP(\"WRONG\",Answers!M:P,4,FALSE),Q98)+R98)","v":""},{"$f":"IF($B98=\"\",\"\",UPPER(Mainframe!G97))","v":""},{"$f":"IF(T98=\"\",\"\",IF(NOT(ISNA(VLOOKUP(T98,Answers!Q:T,4,FALSE))),VLOOKUP(T98,Answers!Q:T,4,FALSE),\"Help!\"))","v":""},null,{"$f":"IF(U98=\"\",\"\",S98+IF(U98=\"XX\",VLOOKUP(\"WRONG\",Answers!Q:T,4,FALSE),U98)+V98)","v":""},{"$f":"IF($B98=\"\",\"\",UPPER(Mainframe!H97))","v":""},{"$f":"IF(X98=\"\",\"\",IF(NOT(ISNA(VLOOKUP(X98,Answers!U:X,4,FALSE))),VLOOKUP(X98,Answers!U:X,4,FALSE),\"Help!\"))","v":""},null,{"$f":"IF(Y98=\"\",\"\",W98+IF(Y98=\"XX\",VLOOKUP(\"WRONG\",Answers!U:X,4,FALSE),Y98)+Z98)","v":""},{"$f":"IF($B98=\"\",\"\",UPPER(Mainframe!I97))","v":""},{"$f":"IF(AB98=\"\",\"\",IF(NOT(ISNA(VLOOKUP(AB98,Answers!Y:AB,4,FALSE))),VLOOKUP(AB98,Answers!Y:AB,4,FALSE),\"Help!\"))","v":""},null,{"$f":"IF(AC98=\"\",\"\",AA98+IF(AC98=\"XX\",VLOOKUP(\"WRONG\",Answers!Y:AB,4,FALSE),AC98)+AD98)","v":""},{"$f":"IF($B98=\"\",\"\",UPPER(Mainframe!J97))","v":""},{"$f":"IF(AF98=\"\",\"\",IF(NOT(ISNA(VLOOKUP(AF98,Answers!AC:AF,4,FALSE))),VLOOKUP(AF98,Answers!AC:AF,4,FALSE),\"Help!\"))","v":""},null,{"$f":"IF(AG98=\"\",\"\",AE98+IF(AG98=\"XX\",VLOOKUP(\"WRONG\",Answers!AC:AF,4,FALSE),AG98)+AH98)","v":""},{"$f":"IF($B98=\"\",\"\",UPPER(Mainframe!K97))","v":""},{"$f":"IF(AJ98=\"\",\"\",IF(NOT(ISNA(VLOOKUP(AJ98,Answers!AG:AJ,4,FALSE))),VLOOKUP(AJ98,Answers!AG:AJ,4,FALSE),\"Help!\"))","v":""},null,{"$f":"IF(AK98=\"\",\"\",AI98+IF(AK98=\"XX\",VLOOKUP(\"WRONG\",Answers!AG:AJ,4,FALSE),AK98)+AL98)","v":""},{"$f":"IF($B98=\"\",\"\",UPPER(Mainframe!L97))","v":""},{"$f":"IF(AN98=\"\",\"\",IF(NOT(ISNA(VLOOKUP(AN98,Answers!AK:AN,4,FALSE))),VLOOKUP(AN98,Answers!AK:AN,4,FALSE),\"Help!\"))","v":""},null,{"$f":"IF(AO98=\"\",\"\",AM98+IF(AO98=\"XX\",VLOOKUP(\"WRONG\",Answers!AK:AN,4,FALSE),AO98)+AP98)","v":""},{"$f":"IF($B98=\"\",\"\",UPPER(Mainframe!M97))","v":""},{"$f":"IF(AR98=\"\",\"\",IF(NOT(ISNA(VLOOKUP(AR98,Answers!AO:AR,4,FALSE))),VLOOKUP(AR98,Answers!AO:AR,4,FALSE),\"Help!\"))","v":""},null,{"$f":"IF(AS98=\"\",\"\",AQ98+IF(AS98=\"XX\",VLOOKUP(\"WRONG\",Answers!AO:AR,4,FALSE),AS98)+AT98)","v":""},{"$f":"IF($B98=\"\",\"\",UPPER(Mainframe!N97))","v":""},{"$f":"IF(AV98=\"\",\"\",IF(NOT(ISNA(VLOOKUP(AV98,Answers!AS:AV,4,FALSE))),VLOOKUP(AV98,Answers!AS:AV,4,FALSE),\"Help!\"))","v":""},null,{"$f":"IF(AW98=\"\",\"\",AU98+IF(AW98=\"XX\",VLOOKUP(\"WRONG\",Answers!AS:AV,4,FALSE),AW98)+AX98)","v":""},{"$f":"IF($B98=\"\",\"\",UPPER(Mainframe!O97))","v":""},{"$f":"IF(AZ98=\"\",\"\",IF(NOT(ISNA(VLOOKUP(AZ98,Answers!AW:AZ,4,FALSE))),VLOOKUP(AZ98,Answers!AW:AZ,4,FALSE),\"Help!\"))","v":""},null,{"$f":"IF(BA98=\"\",\"\",AY98+IF(BA98=\"XX\",VLOOKUP(\"WRONG\",Answers!AW:AZ,4,FALSE),BA98)+BB98)","v":""},{"$f":"IF($B98=\"\",\"\",UPPER(Mainframe!P97))","v":""},{"$f":"IF(BD98=\"\",\"\",IF(NOT(ISNA(VLOOKUP(BD98,Answers!BA:BD,4,FALSE))),VLOOKUP(BD98,Answers!BA:BD,4,FALSE),\"Help!\"))","v":""},null,{"$f":"IF(BE98=\"\",\"\",BC98+IF(BE98=\"XX\",VLOOKUP(\"WRONG\",Answers!BA:BD,4,FALSE),BE98)+BF98)","v":""},{"$f":"IF($B98=\"\",\"\",UPPER(Mainframe!Q97))","v":""},{"$f":"IF(BH98=\"\",\"\",IF(NOT(ISNA(VLOOKUP(BH98,Answers!BE:BH,4,FALSE))),VLOOKUP(BH98,Answers!BE:BH,4,FALSE),\"Help!\"))","v":""},null,{"$f":"IF(BI98=\"\",\"\",BG98+IF(BI98=\"XX\",VLOOKUP(\"WRONG\",Answers!BE:BH,4,FALSE),BI98)+BJ98)","v":""},{"$f":"IF($B98=\"\",\"\",UPPER(Mainframe!R97))","v":""},{"$f":"IF(BL98=\"\",\"\",IF(NOT(ISNA(VLOOKUP(BL98,Answers!BI:BL,4,FALSE))),VLOOKUP(BL98,Answers!BI:BL,4,FALSE),\"Help!\"))","v":""},null,{"$f":"IF(BM98=\"\",\"\",BK98+IF(BM98=\"XX\",VLOOKUP(\"WRONG\",Answers!BI:BL,4,FALSE),BM98)+BN98)","v":""},{"$f":"IF($B98=\"\",\"\",UPPER(Mainframe!S97))","v":""},{"$f":"IF(BP98=\"\",\"\",IF(NOT(ISNA(VLOOKUP(BP98,Answers!BM:BP,4,FALSE))),VLOOKUP(BP98,Answers!BM:BP,4,FALSE),\"Help!\"))","v":""},null,{"$f":"IF(BQ98=\"\",\"\",BO98+IF(BQ98=\"XX\",VLOOKUP(\"WRONG\",Answers!BM:BP,4,FALSE),BQ98)+BR98)","v":""},{"$f":"IF($B98=\"\",\"\",UPPER(Mainframe!T97))","v":""},{"$f":"IF(BT98=\"\",\"\",IF(NOT(ISNA(VLOOKUP(BT98,Answers!BQ:BT,4,FALSE))),VLOOKUP(BT98,Answers!BQ:BT,4,FALSE),\"Help!\"))","v":""},null,{"$f":"IF(BU98=\"\",\"\",BS98+IF(BU98=\"XX\",VLOOKUP(\"WRONG\",Answers!BQ:BT,4,FALSE),BU98)+BV98)","v":""},{"$f":"IF($B98=\"\",\"\",UPPER(Mainframe!U97))","v":""},{"$f":"IF(BX98=\"\",\"\",IF(NOT(ISNA(VLOOKUP(BX98,Answers!BU:BX,4,FALSE))),VLOOKUP(BX98,Answers!BU:BX,4,FALSE),\"Help!\"))","v":""},null,{"$f":"IF(BY98=\"\",\"\",BW98+IF(BY98=\"XX\",VLOOKUP(\"WRONG\",Answers!BU:BX,4,FALSE),BY98)+BZ98)","v":""},{"$f":"IF($B98=\"\",\"\",UPPER(Mainframe!V97))","v":""},{"$f":"IF(CB98=\"\",\"\",IF(NOT(ISNA(VLOOKUP(CB98,Answers!BY:CB,4,FALSE))),VLOOKUP(CB98,Answers!BY:CB,4,FALSE),\"Help!\"))","v":""},null,{"$f":"IF(CC98=\"\",\"\",CA98+IF(CC98=\"XX\",VLOOKUP(\"WRONG\",Answers!BY:CB,4,FALSE),CC98)+CD98)","v":""},null,null,1,{"$f":"IF(INDEX($B:$CE,ROW(),QNO*4-1)=DROPNAME,DROPNAME,IF(INDEX($B:$CE,ROW(),QNO*4-1)=SHEEPNAME,SHEEPNAME,IF(INDEX($B:$CE,ROW(),QNO*4)=\"XX\",INDEX($B:$CE,ROW(),QNO*4-1),INDEX(OFFSET(Answers!B:B,0,(QNO-1)*4),MATCH(INDEX($A:$CB,ROW(),QNO*4),OFFSET(Answers!A:A,0,(QNO-1)*4),0))&\" — \"&IF(INDEX($B:$CE,ROW(),QNO*4)=1,\"[b]Singleton![/b]\",CONCATENATE(INDEX($B:$CE,ROW(),QNO*4),\" responses\")))))","v":{"$error":"#N/A"}},"//////////////////////////////////////////////////////////////////","No",{"$f":"IF(B98=0,\"\",CONCATENATE(INDEX($CH:$CL,ROW(),1),\". \",INDEX($B:$CE,ROW(),1),\" — [b]\")&IF(QNO=1,CONCATENATE(INDEX($B:$CE,ROW(),QNO*4+2),\"[/b] pts\"),CONCATENATE(INDEX($B:$CE,ROW(),QNO*4-2),\" + \",IF(INDEX($B:$CE,ROW(),QNO*4)=\"XX\",INDEX(Answers!$A:$ZZ,2,QNO*4),INDEX($B:$CE,ROW(),QNO*4)),\" = \",INDEX($B:$CE,ROW(),QNO*4+2),\"[/b] pts \",IF(INDEX($C:$CE,ROW(),QNO*4)>0,\"(penalty: +\"&INDEX($C:$CE,ROW(),QNO*4)&\") \",IF(INDEX($C:$CE,ROW(),QNO*4)<0,\"(bonus: \"&INDEX($C:$CE,ROW(),QNO*4)&\") \",\"\"))&\"[[b]\"&IF(CN98>0,\"[color=#00BF00]↑\"&CN98,IF(CN98<0,\"[color=#FF0000]↓\"&ABS(CN98),\"[color=#0000FF]unch\"))&\"[/b][/color]]\")))","v":"1.  — [b][/b] pts"},1,0]
["[*]",{"$f":"IF(Mainframe!B98=\"\",\"\",INDEX(Mainframe!$B:$B,C99+1,1))","v":""},97,{"$f":"IF($B99=\"\",\"\",UPPER(Mainframe!C98))","v":""},{"$f":"IF(D99=\"\",\"\",IF(NOT(ISNA(VLOOKUP(D99,Answers!A:D,4,FALSE))),VLOOKUP(D99,Answers!A:D,4,FALSE),\"Help!\"))","v":""},null,{"$f":"IF(E99=\"\",\"\",IF(E99=\"XX\",VLOOKUP(\"WRONG\",Answers!A:D,4,FALSE),E99)+F99)","v":""},{"$f":"IF($B99=\"\",\"\",UPPER(Mainframe!D98))","v":""},{"$f":"IF(H99=\"\",\"\",IF(NOT(ISNA(VLOOKUP(H99,Answers!E:H,4,FALSE))),VLOOKUP(H99,Answers!E:H,4,FALSE),\"Help!\"))","v":""},null,{"$f":"IF(I99=\"\",\"\",G99+IF(I99=\"XX\",VLOOKUP(\"WRONG\",Answers!E:H,4,FALSE),I99)+J99)","v":""},{"$f":"IF($B99=\"\",\"\",UPPER(Mainframe!E98))","v":""},{"$f":"IF(L99=\"\",\"\",IF(NOT(ISNA(VLOOKUP(L99,Answers!I:L,4,FALSE))),VLOOKUP(L99,Answers!I:L,4,FALSE),\"Help!\"))","v":""},null,{"$f":"IF(M99=\"\",\"\",K99+IF(M99=\"XX\",VLOOKUP(\"WRONG\",Answers!I:L,4,FALSE),M99)+N99)","v":""},{"$f":"IF($B99=\"\",\"\",UPPER(Mainframe!F98))","v":""},{"$f":"IF(P99=\"\",\"\",IF(NOT(ISNA(VLOOKUP(P99,Answers!M:P,4,FALSE))),VLOOKUP(P99,Answers!M:P,4,FALSE),\"Help!\"))","v":""},null,{"$f":"IF(Q99=\"\",\"\",O99+IF(Q99=\"XX\",VLOOKUP(\"WRONG\",Answers!M:P,4,FALSE),Q99)+R99)","v":""},{"$f":"IF($B99=\"\",\"\",UPPER(Mainframe!G98))","v":""},{"$f":"IF(T99=\"\",\"\",IF(NOT(ISNA(VLOOKUP(T99,Answers!Q:T,4,FALSE))),VLOOKUP(T99,Answers!Q:T,4,FALSE),\"Help!\"))","v":""},null,{"$f":"IF(U99=\"\",\"\",S99+IF(U99=\"XX\",VLOOKUP(\"WRONG\",Answers!Q:T,4,FALSE),U99)+V99)","v":""},{"$f":"IF($B99=\"\",\"\",UPPER(Mainframe!H98))","v":""},{"$f":"IF(X99=\"\",\"\",IF(NOT(ISNA(VLOOKUP(X99,Answers!U:X,4,FALSE))),VLOOKUP(X99,Answers!U:X,4,FALSE),\"Help!\"))","v":""},null,{"$f":"IF(Y99=\"\",\"\",W99+IF(Y99=\"XX\",VLOOKUP(\"WRONG\",Answers!U:X,4,FALSE),Y99)+Z99)","v":""},{"$f":"IF($B99=\"\",\"\",UPPER(Mainframe!I98))","v":""},{"$f":"IF(AB99=\"\",\"\",IF(NOT(ISNA(VLOOKUP(AB99,Answers!Y:AB,4,FALSE))),VLOOKUP(AB99,Answers!Y:AB,4,FALSE),\"Help!\"))","v":""},null,{"$f":"IF(AC99=\"\",\"\",AA99+IF(AC99=\"XX\",VLOOKUP(\"WRONG\",Answers!Y:AB,4,FALSE),AC99)+AD99)","v":""},{"$f":"IF($B99=\"\",\"\",UPPER(Mainframe!J98))","v":""},{"$f":"IF(AF99=\"\",\"\",IF(NOT(ISNA(VLOOKUP(AF99,Answers!AC:AF,4,FALSE))),VLOOKUP(AF99,Answers!AC:AF,4,FALSE),\"Help!\"))","v":""},null,{"$f":"IF(AG99=\"\",\"\",AE99+IF(AG99=\"XX\",VLOOKUP(\"WRONG\",Answers!AC:AF,4,FALSE),AG99)+AH99)","v":""},{"$f":"IF($B99=\"\",\"\",UPPER(Mainframe!K98))","v":""},{"$f":"IF(AJ99=\"\",\"\",IF(NOT(ISNA(VLOOKUP(AJ99,Answers!AG:AJ,4,FALSE))),VLOOKUP(AJ99,Answers!AG:AJ,4,FALSE),\"Help!\"))","v":""},null,{"$f":"IF(AK99=\"\",\"\",AI99+IF(AK99=\"XX\",VLOOKUP(\"WRONG\",Answers!AG:AJ,4,FALSE),AK99)+AL99)","v":""},{"$f":"IF($B99=\"\",\"\",UPPER(Mainframe!L98))","v":""},{"$f":"IF(AN99=\"\",\"\",IF(NOT(ISNA(VLOOKUP(AN99,Answers!AK:AN,4,FALSE))),VLOOKUP(AN99,Answers!AK:AN,4,FALSE),\"Help!\"))","v":""},null,{"$f":"IF(AO99=\"\",\"\",AM99+IF(AO99=\"XX\",VLOOKUP(\"WRONG\",Answers!AK:AN,4,FALSE),AO99)+AP99)","v":""},{"$f":"IF($B99=\"\",\"\",UPPER(Mainframe!M98))","v":""},{"$f":"IF(AR99=\"\",\"\",IF(NOT(ISNA(VLOOKUP(AR99,Answers!AO:AR,4,FALSE))),VLOOKUP(AR99,Answers!AO:AR,4,FALSE),\"Help!\"))","v":""},null,{"$f":"IF(AS99=\"\",\"\",AQ99+IF(AS99=\"XX\",VLOOKUP(\"WRONG\",Answers!AO:AR,4,FALSE),AS99)+AT99)","v":""},{"$f":"IF($B99=\"\",\"\",UPPER(Mainframe!N98))","v":""},{"$f":"IF(AV99=\"\",\"\",IF(NOT(ISNA(VLOOKUP(AV99,Answers!AS:AV,4,FALSE))),VLOOKUP(AV99,Answers!AS:AV,4,FALSE),\"Help!\"))","v":""},null,{"$f":"IF(AW99=\"\",\"\",AU99+IF(AW99=\"XX\",VLOOKUP(\"WRONG\",Answers!AS:AV,4,FALSE),AW99)+AX99)","v":""},{"$f":"IF($B99=\"\",\"\",UPPER(Mainframe!O98))","v":""},{"$f":"IF(AZ99=\"\",\"\",IF(NOT(ISNA(VLOOKUP(AZ99,Answers!AW:AZ,4,FALSE))),VLOOKUP(AZ99,Answers!AW:AZ,4,FALSE),\"Help!\"))","v":""},null,{"$f":"IF(BA99=\"\",\"\",AY99+IF(BA99=\"XX\",VLOOKUP(\"WRONG\",Answers!AW:AZ,4,FALSE),BA99)+BB99)","v":""},{"$f":"IF($B99=\"\",\"\",UPPER(Mainframe!P98))","v":""},{"$f":"IF(BD99=\"\",\"\",IF(NOT(ISNA(VLOOKUP(BD99,Answers!BA:BD,4,FALSE))),VLOOKUP(BD99,Answers!BA:BD,4,FALSE),\"Help!\"))","v":""},null,{"$f":"IF(BE99=\"\",\"\",BC99+IF(BE99=\"XX\",VLOOKUP(\"WRONG\",Answers!BA:BD,4,FALSE),BE99)+BF99)","v":""},{"$f":"IF($B99=\"\",\"\",UPPER(Mainframe!Q98))","v":""},{"$f":"IF(BH99=\"\",\"\",IF(NOT(ISNA(VLOOKUP(BH99,Answers!BE:BH,4,FALSE))),VLOOKUP(BH99,Answers!BE:BH,4,FALSE),\"Help!\"))","v":""},null,{"$f":"IF(BI99=\"\",\"\",BG99+IF(BI99=\"XX\",VLOOKUP(\"WRONG\",Answers!BE:BH,4,FALSE),BI99)+BJ99)","v":""},{"$f":"IF($B99=\"\",\"\",UPPER(Mainframe!R98))","v":""},{"$f":"IF(BL99=\"\",\"\",IF(NOT(ISNA(VLOOKUP(BL99,Answers!BI:BL,4,FALSE))),VLOOKUP(BL99,Answers!BI:BL,4,FALSE),\"Help!\"))","v":""},null,{"$f":"IF(BM99=\"\",\"\",BK99+IF(BM99=\"XX\",VLOOKUP(\"WRONG\",Answers!BI:BL,4,FALSE),BM99)+BN99)","v":""},{"$f":"IF($B99=\"\",\"\",UPPER(Mainframe!S98))","v":""},{"$f":"IF(BP99=\"\",\"\",IF(NOT(ISNA(VLOOKUP(BP99,Answers!BM:BP,4,FALSE))),VLOOKUP(BP99,Answers!BM:BP,4,FALSE),\"Help!\"))","v":""},null,{"$f":"IF(BQ99=\"\",\"\",BO99+IF(BQ99=\"XX\",VLOOKUP(\"WRONG\",Answers!BM:BP,4,FALSE),BQ99)+BR99)","v":""},{"$f":"IF($B99=\"\",\"\",UPPER(Mainframe!T98))","v":""},{"$f":"IF(BT99=\"\",\"\",IF(NOT(ISNA(VLOOKUP(BT99,Answers!BQ:BT,4,FALSE))),VLOOKUP(BT99,Answers!BQ:BT,4,FALSE),\"Help!\"))","v":""},null,{"$f":"IF(BU99=\"\",\"\",BS99+IF(BU99=\"XX\",VLOOKUP(\"WRONG\",Answers!BQ:BT,4,FALSE),BU99)+BV99)","v":""},{"$f":"IF($B99=\"\",\"\",UPPER(Mainframe!U98))","v":""},{"$f":"IF(BX99=\"\",\"\",IF(NOT(ISNA(VLOOKUP(BX99,Answers!BU:BX,4,FALSE))),VLOOKUP(BX99,Answers!BU:BX,4,FALSE),\"Help!\"))","v":""},null,{"$f":"IF(BY99=\"\",\"\",BW99+IF(BY99=\"XX\",VLOOKUP(\"WRONG\",Answers!BU:BX,4,FALSE),BY99)+BZ99)","v":""},{"$f":"IF($B99=\"\",\"\",UPPER(Mainframe!V98))","v":""},{"$f":"IF(CB99=\"\",\"\",IF(NOT(ISNA(VLOOKUP(CB99,Answers!BY:CB,4,FALSE))),VLOOKUP(CB99,Answers!BY:CB,4,FALSE),\"Help!\"))","v":""},null,{"$f":"IF(CC99=\"\",\"\",CA99+IF(CC99=\"XX\",VLOOKUP(\"WRONG\",Answers!BY:CB,4,FALSE),CC99)+CD99)","v":""},null,null,{"$f":"IF(B99=0,\"\",IF(INDEX($B:$CE,ROW(),1)=0,\"\",IF(INDEX($B:$CE,ROW(),4*QNO+2)=INDEX($B:$CE,ROW()-1,4*QNO+2),$CH98,ROW()-2)))","v":1},{"$f":"IF(INDEX($B:$CE,ROW(),QNO*4-1)=DROPNAME,DROPNAME,IF(INDEX($B:$CE,ROW(),QNO*4-1)=SHEEPNAME,SHEEPNAME,IF(INDEX($B:$CE,ROW(),QNO*4)=\"XX\",INDEX($B:$CE,ROW(),QNO*4-1),INDEX(OFFSET(Answers!B:B,0,(QNO-1)*4),MATCH(INDEX($A:$CB,ROW(),QNO*4),OFFSET(Answers!A:A,0,(QNO-1)*4),0))&\" — \"&IF(INDEX($B:$CE,ROW(),QNO*4)=1,\"[b]Singleton![/b]\",CONCATENATE(INDEX($B:$CE,ROW(),QNO*4),\" responses\")))))","v":{"$error":"#N/A"}},"////////////////////////////////////////////////////////////////","No",{"$f":"IF(B99=0,\"\",CONCATENATE(INDEX($CH:$CL,ROW(),1),\". \",INDEX($B:$CE,ROW(),1),\" — [b]\")&IF(QNO=1,CONCATENATE(INDEX($B:$CE,ROW(),QNO*4+2),\"[/b] pts\"),CONCATENATE(INDEX($B:$CE,ROW(),QNO*4-2),\" + \",IF(INDEX($B:$CE,ROW(),QNO*4)=\"XX\",INDEX(Answers!$A:$ZZ,2,QNO*4),INDEX($B:$CE,ROW(),QNO*4)),\" = \",INDEX($B:$CE,ROW(),QNO*4+2),\"[/b] pts \",IF(INDEX($C:$CE,ROW(),QNO*4)>0,\"(penalty: +\"&INDEX($C:$CE,ROW(),QNO*4)&\") \",IF(INDEX($C:$CE,ROW(),QNO*4)<0,\"(bonus: \"&INDEX($C:$CE,ROW(),QNO*4)&\") \",\"\"))&\"[[b]\"&IF(CN99>0,\"[color=#00BF00]↑\"&CN99,IF(CN99<0,\"[color=#FF0000]↓\"&ABS(CN99),\"[color=#0000FF]unch\"))&\"[/b][/color]]\")))","v":"1.  — [b][/b] pts"},1,0]
["[*]",{"$f":"IF(Mainframe!B99=\"\",\"\",INDEX(Mainframe!$B:$B,C100+1,1))","v":""},98,{"$f":"IF($B100=\"\",\"\",UPPER(Mainframe!C99))","v":""},{"$f":"IF(D100=\"\",\"\",IF(NOT(ISNA(VLOOKUP(D100,Answers!A:D,4,FALSE))),VLOOKUP(D100,Answers!A:D,4,FALSE),\"Help!\"))","v":""},null,{"$f":"IF(E100=\"\",\"\",IF(E100=\"XX\",VLOOKUP(\"WRONG\",Answers!A:D,4,FALSE),E100)+F100)","v":""},{"$f":"IF($B100=\"\",\"\",UPPER(Mainframe!D99))","v":""},{"$f":"IF(H100=\"\",\"\",IF(NOT(ISNA(VLOOKUP(H100,Answers!E:H,4,FALSE))),VLOOKUP(H100,Answers!E:H,4,FALSE),\"Help!\"))","v":""},null,{"$f":"IF(I100=\"\",\"\",G100+IF(I100=\"XX\",VLOOKUP(\"WRONG\",Answers!E:H,4,FALSE),I100)+J100)","v":""},{"$f":"IF($B100=\"\",\"\",UPPER(Mainframe!E99))","v":""},{"$f":"IF(L100=\"\",\"\",IF(NOT(ISNA(VLOOKUP(L100,Answers!I:L,4,FALSE))),VLOOKUP(L100,Answers!I:L,4,FALSE),\"Help!\"))","v":""},null,{"$f":"IF(M100=\"\",\"\",K100+IF(M100=\"XX\",VLOOKUP(\"WRONG\",Answers!I:L,4,FALSE),M100)+N100)","v":""},{"$f":"IF($B100=\"\",\"\",UPPER(Mainframe!F99))","v":""},{"$f":"IF(P100=\"\",\"\",IF(NOT(ISNA(VLOOKUP(P100,Answers!M:P,4,FALSE))),VLOOKUP(P100,Answers!M:P,4,FALSE),\"Help!\"))","v":""},null,{"$f":"IF(Q100=\"\",\"\",O100+IF(Q100=\"XX\",VLOOKUP(\"WRONG\",Answers!M:P,4,FALSE),Q100)+R100)","v":""},{"$f":"IF($B100=\"\",\"\",UPPER(Mainframe!G99))","v":""},{"$f":"IF(T100=\"\",\"\",IF(NOT(ISNA(VLOOKUP(T100,Answers!Q:T,4,FALSE))),VLOOKUP(T100,Answers!Q:T,4,FALSE),\"Help!\"))","v":""},null,{"$f":"IF(U100=\"\",\"\",S100+IF(U100=\"XX\",VLOOKUP(\"WRONG\",Answers!Q:T,4,FALSE),U100)+V100)","v":""},{"$f":"IF($B100=\"\",\"\",UPPER(Mainframe!H99))","v":""},{"$f":"IF(X100=\"\",\"\",IF(NOT(ISNA(VLOOKUP(X100,Answers!U:X,4,FALSE))),VLOOKUP(X100,Answers!U:X,4,FALSE),\"Help!\"))","v":""},null,{"$f":"IF(Y100=\"\",\"\",W100+IF(Y100=\"XX\",VLOOKUP(\"WRONG\",Answers!U:X,4,FALSE),Y100)+Z100)","v":""},{"$f":"IF($B100=\"\",\"\",UPPER(Mainframe!I99))","v":""},{"$f":"IF(AB100=\"\",\"\",IF(NOT(ISNA(VLOOKUP(AB100,Answers!Y:AB,4,FALSE))),VLOOKUP(AB100,Answers!Y:AB,4,FALSE),\"Help!\"))","v":""},null,{"$f":"IF(AC100=\"\",\"\",AA100+IF(AC100=\"XX\",VLOOKUP(\"WRONG\",Answers!Y:AB,4,FALSE),AC100)+AD100)","v":""},{"$f":"IF($B100=\"\",\"\",UPPER(Mainframe!J99))","v":""},{"$f":"IF(AF100=\"\",\"\",IF(NOT(ISNA(VLOOKUP(AF100,Answers!AC:AF,4,FALSE))),VLOOKUP(AF100,Answers!AC:AF,4,FALSE),\"Help!\"))","v":""},null,{"$f":"IF(AG100=\"\",\"\",AE100+IF(AG100=\"XX\",VLOOKUP(\"WRONG\",Answers!AC:AF,4,FALSE),AG100)+AH100)","v":""},{"$f":"IF($B100=\"\",\"\",UPPER(Mainframe!K99))","v":""},{"$f":"IF(AJ100=\"\",\"\",IF(NOT(ISNA(VLOOKUP(AJ100,Answers!AG:AJ,4,FALSE))),VLOOKUP(AJ100,Answers!AG:AJ,4,FALSE),\"Help!\"))","v":""},null,{"$f":"IF(AK100=\"\",\"\",AI100+IF(AK100=\"XX\",VLOOKUP(\"WRONG\",Answers!AG:AJ,4,FALSE),AK100)+AL100)","v":""},{"$f":"IF($B100=\"\",\"\",UPPER(Mainframe!L99))","v":""},{"$f":"IF(AN100=\"\",\"\",IF(NOT(ISNA(VLOOKUP(AN100,Answers!AK:AN,4,FALSE))),VLOOKUP(AN100,Answers!AK:AN,4,FALSE),\"Help!\"))","v":""},null,{"$f":"IF(AO100=\"\",\"\",AM100+IF(AO100=\"XX\",VLOOKUP(\"WRONG\",Answers!AK:AN,4,FALSE),AO100)+AP100)","v":""},{"$f":"IF($B100=\"\",\"\",UPPER(Mainframe!M99))","v":""},{"$f":"IF(AR100=\"\",\"\",IF(NOT(ISNA(VLOOKUP(AR100,Answers!AO:AR,4,FALSE))),VLOOKUP(AR100,Answers!AO:AR,4,FALSE),\"Help!\"))","v":""},null,{"$f":"IF(AS100=\"\",\"\",AQ100+IF(AS100=\"XX\",VLOOKUP(\"WRONG\",Answers!AO:AR,4,FALSE),AS100)+AT100)","v":""},{"$f":"IF($B100=\"\",\"\",UPPER(Mainframe!N99))","v":""},{"$f":"IF(AV100=\"\",\"\",IF(NOT(ISNA(VLOOKUP(AV100,Answers!AS:AV,4,FALSE))),VLOOKUP(AV100,Answers!AS:AV,4,FALSE),\"Help!\"))","v":""},null,{"$f":"IF(AW100=\"\",\"\",AU100+IF(AW100=\"XX\",VLOOKUP(\"WRONG\",Answers!AS:AV,4,FALSE),AW100)+AX100)","v":""},{"$f":"IF($B100=\"\",\"\",UPPER(Mainframe!O99))","v":""},{"$f":"IF(AZ100=\"\",\"\",IF(NOT(ISNA(VLOOKUP(AZ100,Answers!AW:AZ,4,FALSE))),VLOOKUP(AZ100,Answers!AW:AZ,4,FALSE),\"Help!\"))","v":""},null,{"$f":"IF(BA100=\"\",\"\",AY100+IF(BA100=\"XX\",VLOOKUP(\"WRONG\",Answers!AW:AZ,4,FALSE),BA100)+BB100)","v":""},{"$f":"IF($B100=\"\",\"\",UPPER(Mainframe!P99))","v":""},{"$f":"IF(BD100=\"\",\"\",IF(NOT(ISNA(VLOOKUP(BD100,Answers!BA:BD,4,FALSE))),VLOOKUP(BD100,Answers!BA:BD,4,FALSE),\"Help!\"))","v":""},null,{"$f":"IF(BE100=\"\",\"\",BC100+IF(BE100=\"XX\",VLOOKUP(\"WRONG\",Answers!BA:BD,4,FALSE),BE100)+BF100)","v":""},{"$f":"IF($B100=\"\",\"\",UPPER(Mainframe!Q99))","v":""},{"$f":"IF(BH100=\"\",\"\",IF(NOT(ISNA(VLOOKUP(BH100,Answers!BE:BH,4,FALSE))),VLOOKUP(BH100,Answers!BE:BH,4,FALSE),\"Help!\"))","v":""},null,{"$f":"IF(BI100=\"\",\"\",BG100+IF(BI100=\"XX\",VLOOKUP(\"WRONG\",Answers!BE:BH,4,FALSE),BI100)+BJ100)","v":""},{"$f":"IF($B100=\"\",\"\",UPPER(Mainframe!R99))","v":""},{"$f":"IF(BL100=\"\",\"\",IF(NOT(ISNA(VLOOKUP(BL100,Answers!BI:BL,4,FALSE))),VLOOKUP(BL100,Answers!BI:BL,4,FALSE),\"Help!\"))","v":""},null,{"$f":"IF(BM100=\"\",\"\",BK100+IF(BM100=\"XX\",VLOOKUP(\"WRONG\",Answers!BI:BL,4,FALSE),BM100)+BN100)","v":""},{"$f":"IF($B100=\"\",\"\",UPPER(Mainframe!S99))","v":""},{"$f":"IF(BP100=\"\",\"\",IF(NOT(ISNA(VLOOKUP(BP100,Answers!BM:BP,4,FALSE))),VLOOKUP(BP100,Answers!BM:BP,4,FALSE),\"Help!\"))","v":""},null,{"$f":"IF(BQ100=\"\",\"\",BO100+IF(BQ100=\"XX\",VLOOKUP(\"WRONG\",Answers!BM:BP,4,FALSE),BQ100)+BR100)","v":""},{"$f":"IF($B100=\"\",\"\",UPPER(Mainframe!T99))","v":""},{"$f":"IF(BT100=\"\",\"\",IF(NOT(ISNA(VLOOKUP(BT100,Answers!BQ:BT,4,FALSE))),VLOOKUP(BT100,Answers!BQ:BT,4,FALSE),\"Help!\"))","v":""},null,{"$f":"IF(BU100=\"\",\"\",BS100+IF(BU100=\"XX\",VLOOKUP(\"WRONG\",Answers!BQ:BT,4,FALSE),BU100)+BV100)","v":""},{"$f":"IF($B100=\"\",\"\",UPPER(Mainframe!U99))","v":""},{"$f":"IF(BX100=\"\",\"\",IF(NOT(ISNA(VLOOKUP(BX100,Answers!BU:BX,4,FALSE))),VLOOKUP(BX100,Answers!BU:BX,4,FALSE),\"Help!\"))","v":""},null,{"$f":"IF(BY100=\"\",\"\",BW100+IF(BY100=\"XX\",VLOOKUP(\"WRONG\",Answers!BU:BX,4,FALSE),BY100)+BZ100)","v":""},{"$f":"IF($B100=\"\",\"\",UPPER(Mainframe!V99))","v":""},{"$f":"IF(CB100=\"\",\"\",IF(NOT(ISNA(VLOOKUP(CB100,Answers!BY:CB,4,FALSE))),VLOOKUP(CB100,Answers!BY:CB,4,FALSE),\"Help!\"))","v":""},null,{"$f":"IF(CC100=\"\",\"\",CA100+IF(CC100=\"XX\",VLOOKUP(\"WRONG\",Answers!BY:CB,4,FALSE),CC100)+CD100)","v":""},null,null,1,{"$f":"IF(INDEX($B:$CE,ROW(),QNO*4-1)=DROPNAME,DROPNAME,IF(INDEX($B:$CE,ROW(),QNO*4-1)=SHEEPNAME,SHEEPNAME,IF(INDEX($B:$CE,ROW(),QNO*4)=\"XX\",INDEX($B:$CE,ROW(),QNO*4-1),INDEX(OFFSET(Answers!B:B,0,(QNO-1)*4),MATCH(INDEX($A:$CB,ROW(),QNO*4),OFFSET(Answers!A:A,0,(QNO-1)*4),0))&\" — \"&IF(INDEX($B:$CE,ROW(),QNO*4)=1,\"[b]Singleton![/b]\",CONCATENATE(INDEX($B:$CE,ROW(),QNO*4),\" responses\")))))","v":{"$error":"#N/A"}},"//////////////////////////////////////////////////////////////","No",{"$f":"IF(B100=0,\"\",CONCATENATE(INDEX($CH:$CL,ROW(),1),\". \",INDEX($B:$CE,ROW(),1),\" — [b]\")&IF(QNO=1,CONCATENATE(INDEX($B:$CE,ROW(),QNO*4+2),\"[/b] pts\"),CONCATENATE(INDEX($B:$CE,ROW(),QNO*4-2),\" + \",IF(INDEX($B:$CE,ROW(),QNO*4)=\"XX\",INDEX(Answers!$A:$ZZ,2,QNO*4),INDEX($B:$CE,ROW(),QNO*4)),\" = \",INDEX($B:$CE,ROW(),QNO*4+2),\"[/b] pts \",IF(INDEX($C:$CE,ROW(),QNO*4)>0,\"(penalty: +\"&INDEX($C:$CE,ROW(),QNO*4)&\") \",IF(INDEX($C:$CE,ROW(),QNO*4)<0,\"(bonus: \"&INDEX($C:$CE,ROW(),QNO*4)&\") \",\"\"))&\"[[b]\"&IF(CN100>0,\"[color=#00BF00]↑\"&CN100,IF(CN100<0,\"[color=#FF0000]↓\"&ABS(CN100),\"[color=#0000FF]unch\"))&\"[/b][/color]]\")))","v":"1.  — [b][/b] pts"},1,0]
["[*]",{"$f":"IF(Mainframe!B100=\"\",\"\",INDEX(Mainframe!$B:$B,C101+1,1))","v":""},99,{"$f":"IF($B101=\"\",\"\",UPPER(Mainframe!C100))","v":""},{"$f":"IF(D101=\"\",\"\",IF(NOT(ISNA(VLOOKUP(D101,Answers!A:D,4,FALSE))),VLOOKUP(D101,Answers!A:D,4,FALSE),\"Help!\"))","v":""},null,{"$f":"IF(E101=\"\",\"\",IF(E101=\"XX\",VLOOKUP(\"WRONG\",Answers!A:D,4,FALSE),E101)+F101)","v":""},{"$f":"IF($B101=\"\",\"\",UPPER(Mainframe!D100))","v":""},{"$f":"IF(H101=\"\",\"\",IF(NOT(ISNA(VLOOKUP(H101,Answers!E:H,4,FALSE))),VLOOKUP(H101,Answers!E:H,4,FALSE),\"Help!\"))","v":""},null,{"$f":"IF(I101=\"\",\"\",G101+IF(I101=\"XX\",VLOOKUP(\"WRONG\",Answers!E:H,4,FALSE),I101)+J101)","v":""},{"$f":"IF($B101=\"\",\"\",UPPER(Mainframe!E100))","v":""},{"$f":"IF(L101=\"\",\"\",IF(NOT(ISNA(VLOOKUP(L101,Answers!I:L,4,FALSE))),VLOOKUP(L101,Answers!I:L,4,FALSE),\"Help!\"))","v":""},null,{"$f":"IF(M101=\"\",\"\",K101+IF(M101=\"XX\",VLOOKUP(\"WRONG\",Answers!I:L,4,FALSE),M101)+N101)","v":""},{"$f":"IF($B101=\"\",\"\",UPPER(Mainframe!F100))","v":""},{"$f":"IF(P101=\"\",\"\",IF(NOT(ISNA(VLOOKUP(P101,Answers!M:P,4,FALSE))),VLOOKUP(P101,Answers!M:P,4,FALSE),\"Help!\"))","v":""},null,{"$f":"IF(Q101=\"\",\"\",O101+IF(Q101=\"XX\",VLOOKUP(\"WRONG\",Answers!M:P,4,FALSE),Q101)+R101)","v":""},{"$f":"IF($B101=\"\",\"\",UPPER(Mainframe!G100))","v":""},{"$f":"IF(T101=\"\",\"\",IF(NOT(ISNA(VLOOKUP(T101,Answers!Q:T,4,FALSE))),VLOOKUP(T101,Answers!Q:T,4,FALSE),\"Help!\"))","v":""},null,{"$f":"IF(U101=\"\",\"\",S101+IF(U101=\"XX\",VLOOKUP(\"WRONG\",Answers!Q:T,4,FALSE),U101)+V101)","v":""},{"$f":"IF($B101=\"\",\"\",UPPER(Mainframe!H100))","v":""},{"$f":"IF(X101=\"\",\"\",IF(NOT(ISNA(VLOOKUP(X101,Answers!U:X,4,FALSE))),VLOOKUP(X101,Answers!U:X,4,FALSE),\"Help!\"))","v":""},null,{"$f":"IF(Y101=\"\",\"\",W101+IF(Y101=\"XX\",VLOOKUP(\"WRONG\",Answers!U:X,4,FALSE),Y101)+Z101)","v":""},{"$f":"IF($B101=\"\",\"\",UPPER(Mainframe!I100))","v":""},{"$f":"IF(AB101=\"\",\"\",IF(NOT(ISNA(VLOOKUP(AB101,Answers!Y:AB,4,FALSE))),VLOOKUP(AB101,Answers!Y:AB,4,FALSE),\"Help!\"))","v":""},null,{"$f":"IF(AC101=\"\",\"\",AA101+IF(AC101=\"XX\",VLOOKUP(\"WRONG\",Answers!Y:AB,4,FALSE),AC101)+AD101)","v":""},{"$f":"IF($B101=\"\",\"\",UPPER(Mainframe!J100))","v":""},{"$f":"IF(AF101=\"\",\"\",IF(NOT(ISNA(VLOOKUP(AF101,Answers!AC:AF,4,FALSE))),VLOOKUP(AF101,Answers!AC:AF,4,FALSE),\"Help!\"))","v":""},null,{"$f":"IF(AG101=\"\",\"\",AE101+IF(AG101=\"XX\",VLOOKUP(\"WRONG\",Answers!AC:AF,4,FALSE),AG101)+AH101)","v":""},{"$f":"IF($B101=\"\",\"\",UPPER(Mainframe!K100))","v":""},{"$f":"IF(AJ101=\"\",\"\",IF(NOT(ISNA(VLOOKUP(AJ101,Answers!AG:AJ,4,FALSE))),VLOOKUP(AJ101,Answers!AG:AJ,4,FALSE),\"Help!\"))","v":""},null,{"$f":"IF(AK101=\"\",\"\",AI101+IF(AK101=\"XX\",VLOOKUP(\"WRONG\",Answers!AG:AJ,4,FALSE),AK101)+AL101)","v":""},{"$f":"IF($B101=\"\",\"\",UPPER(Mainframe!L100))","v":""},{"$f":"IF(AN101=\"\",\"\",IF(NOT(ISNA(VLOOKUP(AN101,Answers!AK:AN,4,FALSE))),VLOOKUP(AN101,Answers!AK:AN,4,FALSE),\"Help!\"))","v":""},null,{"$f":"IF(AO101=\"\",\"\",AM101+IF(AO101=\"XX\",VLOOKUP(\"WRONG\",Answers!AK:AN,4,FALSE),AO101)+AP101)","v":""},{"$f":"IF($B101=\"\",\"\",UPPER(Mainframe!M100))","v":""},{"$f":"IF(AR101=\"\",\"\",IF(NOT(ISNA(VLOOKUP(AR101,Answers!AO:AR,4,FALSE))),VLOOKUP(AR101,Answers!AO:AR,4,FALSE),\"Help!\"))","v":""},null,{"$f":"IF(AS101=\"\",\"\",AQ101+IF(AS101=\"XX\",VLOOKUP(\"WRONG\",Answers!AO:AR,4,FALSE),AS101)+AT101)","v":""},{"$f":"IF($B101=\"\",\"\",UPPER(Mainframe!N100))","v":""},{"$f":"IF(AV101=\"\",\"\",IF(NOT(ISNA(VLOOKUP(AV101,Answers!AS:AV,4,FALSE))),VLOOKUP(AV101,Answers!AS:AV,4,FALSE),\"Help!\"))","v":""},null,{"$f":"IF(AW101=\"\",\"\",AU101+IF(AW101=\"XX\",VLOOKUP(\"WRONG\",Answers!AS:AV,4,FALSE),AW101)+AX101)","v":""},{"$f":"IF($B101=\"\",\"\",UPPER(Mainframe!O100))","v":""},{"$f":"IF(AZ101=\"\",\"\",IF(NOT(ISNA(VLOOKUP(AZ101,Answers!AW:AZ,4,FALSE))),VLOOKUP(AZ101,Answers!AW:AZ,4,FALSE),\"Help!\"))","v":""},null,{"$f":"IF(BA101=\"\",\"\",AY101+IF(BA101=\"XX\",VLOOKUP(\"WRONG\",Answers!AW:AZ,4,FALSE),BA101)+BB101)","v":""},{"$f":"IF($B101=\"\",\"\",UPPER(Mainframe!P100))","v":""},{"$f":"IF(BD101=\"\",\"\",IF(NOT(ISNA(VLOOKUP(BD101,Answers!BA:BD,4,FALSE))),VLOOKUP(BD101,Answers!BA:BD,4,FALSE),\"Help!\"))","v":""},null,{"$f":"IF(BE101=\"\",\"\",BC101+IF(BE101=\"XX\",VLOOKUP(\"WRONG\",Answers!BA:BD,4,FALSE),BE101)+BF101)","v":""},{"$f":"IF($B101=\"\",\"\",UPPER(Mainframe!Q100))","v":""},{"$f":"IF(BH101=\"\",\"\",IF(NOT(ISNA(VLOOKUP(BH101,Answers!BE:BH,4,FALSE))),VLOOKUP(BH101,Answers!BE:BH,4,FALSE),\"Help!\"))","v":""},null,{"$f":"IF(BI101=\"\",\"\",BG101+IF(BI101=\"XX\",VLOOKUP(\"WRONG\",Answers!BE:BH,4,FALSE),BI101)+BJ101)","v":""},{"$f":"IF($B101=\"\",\"\",UPPER(Mainframe!R100))","v":""},{"$f":"IF(BL101=\"\",\"\",IF(NOT(ISNA(VLOOKUP(BL101,Answers!BI:BL,4,FALSE))),VLOOKUP(BL101,Answers!BI:BL,4,FALSE),\"Help!\"))","v":""},null,{"$f":"IF(BM101=\"\",\"\",BK101+IF(BM101=\"XX\",VLOOKUP(\"WRONG\",Answers!BI:BL,4,FALSE),BM101)+BN101)","v":""},{"$f":"IF($B101=\"\",\"\",UPPER(Mainframe!S100))","v":""},{"$f":"IF(BP101=\"\",\"\",IF(NOT(ISNA(VLOOKUP(BP101,Answers!BM:BP,4,FALSE))),VLOOKUP(BP101,Answers!BM:BP,4,FALSE),\"Help!\"))","v":""},null,{"$f":"IF(BQ101=\"\",\"\",BO101+IF(BQ101=\"XX\",VLOOKUP(\"WRONG\",Answers!BM:BP,4,FALSE),BQ101)+BR101)","v":""},{"$f":"IF($B101=\"\",\"\",UPPER(Mainframe!T100))","v":""},{"$f":"IF(BT101=\"\",\"\",IF(NOT(ISNA(VLOOKUP(BT101,Answers!BQ:BT,4,FALSE))),VLOOKUP(BT101,Answers!BQ:BT,4,FALSE),\"Help!\"))","v":""},null,{"$f":"IF(BU101=\"\",\"\",BS101+IF(BU101=\"XX\",VLOOKUP(\"WRONG\",Answers!BQ:BT,4,FALSE),BU101)+BV101)","v":""},{"$f":"IF($B101=\"\",\"\",UPPER(Mainframe!U100))","v":""},{"$f":"IF(BX101=\"\",\"\",IF(NOT(ISNA(VLOOKUP(BX101,Answers!BU:BX,4,FALSE))),VLOOKUP(BX101,Answers!BU:BX,4,FALSE),\"Help!\"))","v":""},null,{"$f":"IF(BY101=\"\",\"\",BW101+IF(BY101=\"XX\",VLOOKUP(\"WRONG\",Answers!BU:BX,4,FALSE),BY101)+BZ101)","v":""},{"$f":"IF($B101=\"\",\"\",UPPER(Mainframe!V100))","v":""},{"$f":"IF(CB101=\"\",\"\",IF(NOT(ISNA(VLOOKUP(CB101,Answers!BY:CB,4,FALSE))),VLOOKUP(CB101,Answers!BY:CB,4,FALSE),\"Help!\"))","v":""},null,{"$f":"IF(CC101=\"\",\"\",CA101+IF(CC101=\"XX\",VLOOKUP(\"WRONG\",Answers!BY:CB,4,FALSE),CC101)+CD101)","v":""},null,null,1,{"$f":"IF(INDEX($B:$CE,ROW(),QNO*4-1)=DROPNAME,DROPNAME,IF(INDEX($B:$CE,ROW(),QNO*4-1)=SHEEPNAME,SHEEPNAME,IF(INDEX($B:$CE,ROW(),QNO*4)=\"XX\",INDEX($B:$CE,ROW(),QNO*4-1),INDEX(OFFSET(Answers!B:B,0,(QNO-1)*4),MATCH(INDEX($A:$CB,ROW(),QNO*4),OFFSET(Answers!A:A,0,(QNO-1)*4),0))&\" — \"&IF(INDEX($B:$CE,ROW(),QNO*4)=1,\"[b]Singleton![/b]\",CONCATENATE(INDEX($B:$CE,ROW(),QNO*4),\" responses\")))))","v":{"$error":"#N/A"}},"////////////////////////////////////////////////////////////","No",{"$f":"IF(B101=0,\"\",CONCATENATE(INDEX($CH:$CL,ROW(),1),\". \",INDEX($B:$CE,ROW(),1),\" — [b]\")&IF(QNO=1,CONCATENATE(INDEX($B:$CE,ROW(),QNO*4+2),\"[/b] pts\"),CONCATENATE(INDEX($B:$CE,ROW(),QNO*4-2),\" + \",IF(INDEX($B:$CE,ROW(),QNO*4)=\"XX\",INDEX(Answers!$A:$ZZ,2,QNO*4),INDEX($B:$CE,ROW(),QNO*4)),\" = \",INDEX($B:$CE,ROW(),QNO*4+2),\"[/b] pts \",IF(INDEX($C:$CE,ROW(),QNO*4)>0,\"(penalty: +\"&INDEX($C:$CE,ROW(),QNO*4)&\") \",IF(INDEX($C:$CE,ROW(),QNO*4)<0,\"(bonus: \"&INDEX($C:$CE,ROW(),QNO*4)&\") \",\"\"))&\"[[b]\"&IF(CN101>0,\"[color=#00BF00]↑\"&CN101,IF(CN101<0,\"[color=#FF0000]↓\"&ABS(CN101),\"[color=#0000FF]unch\"))&\"[/b][/color]]\")))","v":"1.  — [b][/b] pts"},1,0]
["[*]",{"$f":"IF(Mainframe!B101=\"\",\"\",INDEX(Mainframe!$B:$B,C102+1,1))","v":""},100,{"$f":"IF($B102=\"\",\"\",UPPER(Mainframe!C101))","v":""},{"$f":"IF(D102=\"\",\"\",IF(NOT(ISNA(VLOOKUP(D102,Answers!A:D,4,FALSE))),VLOOKUP(D102,Answers!A:D,4,FALSE),\"Help!\"))","v":""},null,{"$f":"IF(E102=\"\",\"\",IF(E102=\"XX\",VLOOKUP(\"WRONG\",Answers!A:D,4,FALSE),E102)+F102)","v":""},{"$f":"IF($B102=\"\",\"\",UPPER(Mainframe!D101))","v":""},{"$f":"IF(H102=\"\",\"\",IF(NOT(ISNA(VLOOKUP(H102,Answers!E:H,4,FALSE))),VLOOKUP(H102,Answers!E:H,4,FALSE),\"Help!\"))","v":""},null,{"$f":"IF(I102=\"\",\"\",G102+IF(I102=\"XX\",VLOOKUP(\"WRONG\",Answers!E:H,4,FALSE),I102)+J102)","v":""},{"$f":"IF($B102=\"\",\"\",UPPER(Mainframe!E101))","v":""},{"$f":"IF(L102=\"\",\"\",IF(NOT(ISNA(VLOOKUP(L102,Answers!I:L,4,FALSE))),VLOOKUP(L102,Answers!I:L,4,FALSE),\"Help!\"))","v":""},null,{"$f":"IF(M102=\"\",\"\",K102+IF(M102=\"XX\",VLOOKUP(\"WRONG\",Answers!I:L,4,FALSE),M102)+N102)","v":""},{"$f":"IF($B102=\"\",\"\",UPPER(Mainframe!F101))","v":""},{"$f":"IF(P102=\"\",\"\",IF(NOT(ISNA(VLOOKUP(P102,Answers!M:P,4,FALSE))),VLOOKUP(P102,Answers!M:P,4,FALSE),\"Help!\"))","v":""},null,{"$f":"IF(Q102=\"\",\"\",O102+IF(Q102=\"XX\",VLOOKUP(\"WRONG\",Answers!M:P,4,FALSE),Q102)+R102)","v":""},{"$f":"IF($B102=\"\",\"\",UPPER(Mainframe!G101))","v":""},{"$f":"IF(T102=\"\",\"\",IF(NOT(ISNA(VLOOKUP(T102,Answers!Q:T,4,FALSE))),VLOOKUP(T102,Answers!Q:T,4,FALSE),\"Help!\"))","v":""},null,{"$f":"IF(U102=\"\",\"\",S102+IF(U102=\"XX\",VLOOKUP(\"WRONG\",Answers!Q:T,4,FALSE),U102)+V102)","v":""},{"$f":"IF($B102=\"\",\"\",UPPER(Mainframe!H101))","v":""},{"$f":"IF(X102=\"\",\"\",IF(NOT(ISNA(VLOOKUP(X102,Answers!U:X,4,FALSE))),VLOOKUP(X102,Answers!U:X,4,FALSE),\"Help!\"))","v":""},null,{"$f":"IF(Y102=\"\",\"\",W102+IF(Y102=\"XX\",VLOOKUP(\"WRONG\",Answers!U:X,4,FALSE),Y102)+Z102)","v":""},{"$f":"IF($B102=\"\",\"\",UPPER(Mainframe!I101))","v":""},{"$f":"IF(AB102=\"\",\"\",IF(NOT(ISNA(VLOOKUP(AB102,Answers!Y:AB,4,FALSE))),VLOOKUP(AB102,Answers!Y:AB,4,FALSE),\"Help!\"))","v":""},null,{"$f":"IF(AC102=\"\",\"\",AA102+IF(AC102=\"XX\",VLOOKUP(\"WRONG\",Answers!Y:AB,4,FALSE),AC102)+AD102)","v":""},{"$f":"IF($B102=\"\",\"\",UPPER(Mainframe!J101))","v":""},{"$f":"IF(AF102=\"\",\"\",IF(NOT(ISNA(VLOOKUP(AF102,Answers!AC:AF,4,FALSE))),VLOOKUP(AF102,Answers!AC:AF,4,FALSE),\"Help!\"))","v":""},null,{"$f":"IF(AG102=\"\",\"\",AE102+IF(AG102=\"XX\",VLOOKUP(\"WRONG\",Answers!AC:AF,4,FALSE),AG102)+AH102)","v":""},{"$f":"IF($B102=\"\",\"\",UPPER(Mainframe!K101))","v":""},{"$f":"IF(AJ102=\"\",\"\",IF(NOT(ISNA(VLOOKUP(AJ102,Answers!AG:AJ,4,FALSE))),VLOOKUP(AJ102,Answers!AG:AJ,4,FALSE),\"Help!\"))","v":""},null,{"$f":"IF(AK102=\"\",\"\",AI102+IF(AK102=\"XX\",VLOOKUP(\"WRONG\",Answers!AG:AJ,4,FALSE),AK102)+AL102)","v":""},{"$f":"IF($B102=\"\",\"\",UPPER(Mainframe!L101))","v":""},{"$f":"IF(AN102=\"\",\"\",IF(NOT(ISNA(VLOOKUP(AN102,Answers!AK:AN,4,FALSE))),VLOOKUP(AN102,Answers!AK:AN,4,FALSE),\"Help!\"))","v":""},null,{"$f":"IF(AO102=\"\",\"\",AM102+IF(AO102=\"XX\",VLOOKUP(\"WRONG\",Answers!AK:AN,4,FALSE),AO102)+AP102)","v":""},{"$f":"IF($B102=\"\",\"\",UPPER(Mainframe!M101))","v":""},{"$f":"IF(AR102=\"\",\"\",IF(NOT(ISNA(VLOOKUP(AR102,Answers!AO:AR,4,FALSE))),VLOOKUP(AR102,Answers!AO:AR,4,FALSE),\"Help!\"))","v":""},null,{"$f":"IF(AS102=\"\",\"\",AQ102+IF(AS102=\"XX\",VLOOKUP(\"WRONG\",Answers!AO:AR,4,FALSE),AS102)+AT102)","v":""},{"$f":"IF($B102=\"\",\"\",UPPER(Mainframe!N101))","v":""},{"$f":"IF(AV102=\"\",\"\",IF(NOT(ISNA(VLOOKUP(AV102,Answers!AS:AV,4,FALSE))),VLOOKUP(AV102,Answers!AS:AV,4,FALSE),\"Help!\"))","v":""},null,{"$f":"IF(AW102=\"\",\"\",AU102+IF(AW102=\"XX\",VLOOKUP(\"WRONG\",Answers!AS:AV,4,FALSE),AW102)+AX102)","v":""},{"$f":"IF($B102=\"\",\"\",UPPER(Mainframe!O101))","v":""},{"$f":"IF(AZ102=\"\",\"\",IF(NOT(ISNA(VLOOKUP(AZ102,Answers!AW:AZ,4,FALSE))),VLOOKUP(AZ102,Answers!AW:AZ,4,FALSE),\"Help!\"))","v":""},null,{"$f":"IF(BA102=\"\",\"\",AY102+IF(BA102=\"XX\",VLOOKUP(\"WRONG\",Answers!AW:AZ,4,FALSE),BA102)+BB102)","v":""},{"$f":"IF($B102=\"\",\"\",UPPER(Mainframe!P101))","v":""},{"$f":"IF(BD102=\"\",\"\",IF(NOT(ISNA(VLOOKUP(BD102,Answers!BA:BD,4,FALSE))),VLOOKUP(BD102,Answers!BA:BD,4,FALSE),\"Help!\"))","v":""},null,{"$f":"IF(BE102=\"\",\"\",BC102+IF(BE102=\"XX\",VLOOKUP(\"WRONG\",Answers!BA:BD,4,FALSE),BE102)+BF102)","v":""},{"$f":"IF($B102=\"\",\"\",UPPER(Mainframe!Q101))","v":""},{"$f":"IF(BH102=\"\",\"\",IF(NOT(ISNA(VLOOKUP(BH102,Answers!BE:BH,4,FALSE))),VLOOKUP(BH102,Answers!BE:BH,4,FALSE),\"Help!\"))","v":""},null,{"$f":"IF(BI102=\"\",\"\",BG102+IF(BI102=\"XX\",VLOOKUP(\"WRONG\",Answers!BE:BH,4,FALSE),BI102)+BJ102)","v":""},{"$f":"IF($B102=\"\",\"\",UPPER(Mainframe!R101))","v":""},{"$f":"IF(BL102=\"\",\"\",IF(NOT(ISNA(VLOOKUP(BL102,Answers!BI:BL,4,FALSE))),VLOOKUP(BL102,Answers!BI:BL,4,FALSE),\"Help!\"))","v":""},null,{"$f":"IF(BM102=\"\",\"\",BK102+IF(BM102=\"XX\",VLOOKUP(\"WRONG\",Answers!BI:BL,4,FALSE),BM102)+BN102)","v":""},{"$f":"IF($B102=\"\",\"\",UPPER(Mainframe!S101))","v":""},{"$f":"IF(BP102=\"\",\"\",IF(NOT(ISNA(VLOOKUP(BP102,Answers!BM:BP,4,FALSE))),VLOOKUP(BP102,Answers!BM:BP,4,FALSE),\"Help!\"))","v":""},null,{"$f":"IF(BQ102=\"\",\"\",BO102+IF(BQ102=\"XX\",VLOOKUP(\"WRONG\",Answers!BM:BP,4,FALSE),BQ102)+BR102)","v":""},{"$f":"IF($B102=\"\",\"\",UPPER(Mainframe!T101))","v":""},{"$f":"IF(BT102=\"\",\"\",IF(NOT(ISNA(VLOOKUP(BT102,Answers!BQ:BT,4,FALSE))),VLOOKUP(BT102,Answers!BQ:BT,4,FALSE),\"Help!\"))","v":""},null,{"$f":"IF(BU102=\"\",\"\",BS102+IF(BU102=\"XX\",VLOOKUP(\"WRONG\",Answers!BQ:BT,4,FALSE),BU102)+BV102)","v":""},{"$f":"IF($B102=\"\",\"\",UPPER(Mainframe!U101))","v":""},{"$f":"IF(BX102=\"\",\"\",IF(NOT(ISNA(VLOOKUP(BX102,Answers!BU:BX,4,FALSE))),VLOOKUP(BX102,Answers!BU:BX,4,FALSE),\"Help!\"))","v":""},null,{"$f":"IF(BY102=\"\",\"\",BW102+IF(BY102=\"XX\",VLOOKUP(\"WRONG\",Answers!BU:BX,4,FALSE),BY102)+BZ102)","v":""},{"$f":"IF($B102=\"\",\"\",UPPER(Mainframe!V101))","v":""},{"$f":"IF(CB102=\"\",\"\",IF(NOT(ISNA(VLOOKUP(CB102,Answers!BY:CB,4,FALSE))),VLOOKUP(CB102,Answers!BY:CB,4,FALSE),\"Help!\"))","v":""},null,{"$f":"IF(CC102=\"\",\"\",CA102+IF(CC102=\"XX\",VLOOKUP(\"WRONG\",Answers!BY:CB,4,FALSE),CC102)+CD102)","v":""},null,null,1,{"$f":"IF(INDEX($B:$CE,ROW(),QNO*4-1)=DROPNAME,DROPNAME,IF(INDEX($B:$CE,ROW(),QNO*4-1)=SHEEPNAME,SHEEPNAME,IF(INDEX($B:$CE,ROW(),QNO*4)=\"XX\",INDEX($B:$CE,ROW(),QNO*4-1),INDEX(OFFSET(Answers!B:B,0,(QNO-1)*4),MATCH(INDEX($A:$CB,ROW(),QNO*4),OFFSET(Answers!A:A,0,(QNO-1)*4),0))&\" — \"&IF(INDEX($B:$CE,ROW(),QNO*4)=1,\"[b]Singleton![/b]\",CONCATENATE(INDEX($B:$CE,ROW(),QNO*4),\" responses\")))))","v":{"$error":"#N/A"}},"//////////////////////////////////////////////////////////","No",{"$f":"IF(B102=0,\"\",CONCATENATE(INDEX($CH:$CL,ROW(),1),\". \",INDEX($B:$CE,ROW(),1),\" — [b]\")&IF(QNO=1,CONCATENATE(INDEX($B:$CE,ROW(),QNO*4+2),\"[/b] pts\"),CONCATENATE(INDEX($B:$CE,ROW(),QNO*4-2),\" + \",IF(INDEX($B:$CE,ROW(),QNO*4)=\"XX\",INDEX(Answers!$A:$ZZ,2,QNO*4),INDEX($B:$CE,ROW(),QNO*4)),\" = \",INDEX($B:$CE,ROW(),QNO*4+2),\"[/b] pts \",IF(INDEX($C:$CE,ROW(),QNO*4)>0,\"(penalty: +\"&INDEX($C:$CE,ROW(),QNO*4)&\") \",IF(INDEX($C:$CE,ROW(),QNO*4)<0,\"(bonus: \"&INDEX($C:$CE,ROW(),QNO*4)&\") \",\"\"))&\"[[b]\"&IF(CN102>0,\"[color=#00BF00]↑\"&CN102,IF(CN102<0,\"[color=#FF0000]↓\"&ABS(CN102),\"[color=#0000FF]unch\"))&\"[/b][/color]]\")))","v":"1.  — [b][/b] pts"},1,0]
["[*]",{"$f":"IF(Mainframe!B102=\"\",\"\",INDEX(Mainframe!$B:$B,C103+1,1))","v":""},101,{"$f":"IF($B103=\"\",\"\",UPPER(Mainframe!C102))","v":""},{"$f":"IF(D103=\"\",\"\",IF(NOT(ISNA(VLOOKUP(D103,Answers!A:D,4,FALSE))),VLOOKUP(D103,Answers!A:D,4,FALSE),\"Help!\"))","v":""},null,{"$f":"IF(E103=\"\",\"\",IF(E103=\"XX\",VLOOKUP(\"WRONG\",Answers!A:D,4,FALSE),E103)+F103)","v":""},{"$f":"IF($B103=\"\",\"\",UPPER(Mainframe!D102))","v":""},{"$f":"IF(H103=\"\",\"\",IF(NOT(ISNA(VLOOKUP(H103,Answers!E:H,4,FALSE))),VLOOKUP(H103,Answers!E:H,4,FALSE),\"Help!\"))","v":""},null,{"$f":"IF(I103=\"\",\"\",G103+IF(I103=\"XX\",VLOOKUP(\"WRONG\",Answers!E:H,4,FALSE),I103)+J103)","v":""},{"$f":"IF($B103=\"\",\"\",UPPER(Mainframe!E102))","v":""},{"$f":"IF(L103=\"\",\"\",IF(NOT(ISNA(VLOOKUP(L103,Answers!I:L,4,FALSE))),VLOOKUP(L103,Answers!I:L,4,FALSE),\"Help!\"))","v":""},null,{"$f":"IF(M103=\"\",\"\",K103+IF(M103=\"XX\",VLOOKUP(\"WRONG\",Answers!I:L,4,FALSE),M103)+N103)","v":""},{"$f":"IF($B103=\"\",\"\",UPPER(Mainframe!F102))","v":""},{"$f":"IF(P103=\"\",\"\",IF(NOT(ISNA(VLOOKUP(P103,Answers!M:P,4,FALSE))),VLOOKUP(P103,Answers!M:P,4,FALSE),\"Help!\"))","v":""},null,{"$f":"IF(Q103=\"\",\"\",O103+IF(Q103=\"XX\",VLOOKUP(\"WRONG\",Answers!M:P,4,FALSE),Q103)+R103)","v":""},{"$f":"IF($B103=\"\",\"\",UPPER(Mainframe!G102))","v":""},{"$f":"IF(T103=\"\",\"\",IF(NOT(ISNA(VLOOKUP(T103,Answers!Q:T,4,FALSE))),VLOOKUP(T103,Answers!Q:T,4,FALSE),\"Help!\"))","v":""},null,{"$f":"IF(U103=\"\",\"\",S103+IF(U103=\"XX\",VLOOKUP(\"WRONG\",Answers!Q:T,4,FALSE),U103)+V103)","v":""},{"$f":"IF($B103=\"\",\"\",UPPER(Mainframe!H102))","v":""},{"$f":"IF(X103=\"\",\"\",IF(NOT(ISNA(VLOOKUP(X103,Answers!U:X,4,FALSE))),VLOOKUP(X103,Answers!U:X,4,FALSE),\"Help!\"))","v":""},null,{"$f":"IF(Y103=\"\",\"\",W103+IF(Y103=\"XX\",VLOOKUP(\"WRONG\",Answers!U:X,4,FALSE),Y103)+Z103)","v":""},{"$f":"IF($B103=\"\",\"\",UPPER(Mainframe!I102))","v":""},{"$f":"IF(AB103=\"\",\"\",IF(NOT(ISNA(VLOOKUP(AB103,Answers!Y:AB,4,FALSE))),VLOOKUP(AB103,Answers!Y:AB,4,FALSE),\"Help!\"))","v":""},null,{"$f":"IF(AC103=\"\",\"\",AA103+IF(AC103=\"XX\",VLOOKUP(\"WRONG\",Answers!Y:AB,4,FALSE),AC103)+AD103)","v":""},{"$f":"IF($B103=\"\",\"\",UPPER(Mainframe!J102))","v":""},{"$f":"IF(AF103=\"\",\"\",IF(NOT(ISNA(VLOOKUP(AF103,Answers!AC:AF,4,FALSE))),VLOOKUP(AF103,Answers!AC:AF,4,FALSE),\"Help!\"))","v":""},null,{"$f":"IF(AG103=\"\",\"\",AE103+IF(AG103=\"XX\",VLOOKUP(\"WRONG\",Answers!AC:AF,4,FALSE),AG103)+AH103)","v":""},{"$f":"IF($B103=\"\",\"\",UPPER(Mainframe!K102))","v":""},{"$f":"IF(AJ103=\"\",\"\",IF(NOT(ISNA(VLOOKUP(AJ103,Answers!AG:AJ,4,FALSE))),VLOOKUP(AJ103,Answers!AG:AJ,4,FALSE),\"Help!\"))","v":""},null,{"$f":"IF(AK103=\"\",\"\",AI103+IF(AK103=\"XX\",VLOOKUP(\"WRONG\",Answers!AG:AJ,4,FALSE),AK103)+AL103)","v":""},{"$f":"IF($B103=\"\",\"\",UPPER(Mainframe!L102))","v":""},{"$f":"IF(AN103=\"\",\"\",IF(NOT(ISNA(VLOOKUP(AN103,Answers!AK:AN,4,FALSE))),VLOOKUP(AN103,Answers!AK:AN,4,FALSE),\"Help!\"))","v":""},null,{"$f":"IF(AO103=\"\",\"\",AM103+IF(AO103=\"XX\",VLOOKUP(\"WRONG\",Answers!AK:AN,4,FALSE),AO103)+AP103)","v":""},{"$f":"IF($B103=\"\",\"\",UPPER(Mainframe!M102))","v":""},{"$f":"IF(AR103=\"\",\"\",IF(NOT(ISNA(VLOOKUP(AR103,Answers!AO:AR,4,FALSE))),VLOOKUP(AR103,Answers!AO:AR,4,FALSE),\"Help!\"))","v":""},null,{"$f":"IF(AS103=\"\",\"\",AQ103+IF(AS103=\"XX\",VLOOKUP(\"WRONG\",Answers!AO:AR,4,FALSE),AS103)+AT103)","v":""},{"$f":"IF($B103=\"\",\"\",UPPER(Mainframe!N102))","v":""},{"$f":"IF(AV103=\"\",\"\",IF(NOT(ISNA(VLOOKUP(AV103,Answers!AS:AV,4,FALSE))),VLOOKUP(AV103,Answers!AS:AV,4,FALSE),\"Help!\"))","v":""},null,{"$f":"IF(AW103=\"\",\"\",AU103+IF(AW103=\"XX\",VLOOKUP(\"WRONG\",Answers!AS:AV,4,FALSE),AW103)+AX103)","v":""},{"$f":"IF($B103=\"\",\"\",UPPER(Mainframe!O102))","v":""},{"$f":"IF(AZ103=\"\",\"\",IF(NOT(ISNA(VLOOKUP(AZ103,Answers!AW:AZ,4,FALSE))),VLOOKUP(AZ103,Answers!AW:AZ,4,FALSE),\"Help!\"))","v":""},null,{"$f":"IF(BA103=\"\",\"\",AY103+IF(BA103=\"XX\",VLOOKUP(\"WRONG\",Answers!AW:AZ,4,FALSE),BA103)+BB103)","v":""},{"$f":"IF($B103=\"\",\"\",UPPER(Mainframe!P102))","v":""},{"$f":"IF(BD103=\"\",\"\",IF(NOT(ISNA(VLOOKUP(BD103,Answers!BA:BD,4,FALSE))),VLOOKUP(BD103,Answers!BA:BD,4,FALSE),\"Help!\"))","v":""},null,{"$f":"IF(BE103=\"\",\"\",BC103+IF(BE103=\"XX\",VLOOKUP(\"WRONG\",Answers!BA:BD,4,FALSE),BE103)+BF103)","v":""},{"$f":"IF($B103=\"\",\"\",UPPER(Mainframe!Q102))","v":""},{"$f":"IF(BH103=\"\",\"\",IF(NOT(ISNA(VLOOKUP(BH103,Answers!BE:BH,4,FALSE))),VLOOKUP(BH103,Answers!BE:BH,4,FALSE),\"Help!\"))","v":""},null,{"$f":"IF(BI103=\"\",\"\",BG103+IF(BI103=\"XX\",VLOOKUP(\"WRONG\",Answers!BE:BH,4,FALSE),BI103)+BJ103)","v":""},{"$f":"IF($B103=\"\",\"\",UPPER(Mainframe!R102))","v":""},{"$f":"IF(BL103=\"\",\"\",IF(NOT(ISNA(VLOOKUP(BL103,Answers!BI:BL,4,FALSE))),VLOOKUP(BL103,Answers!BI:BL,4,FALSE),\"Help!\"))","v":""},null,{"$f":"IF(BM103=\"\",\"\",BK103+IF(BM103=\"XX\",VLOOKUP(\"WRONG\",Answers!BI:BL,4,FALSE),BM103)+BN103)","v":""},{"$f":"IF($B103=\"\",\"\",UPPER(Mainframe!S102))","v":""},{"$f":"IF(BP103=\"\",\"\",IF(NOT(ISNA(VLOOKUP(BP103,Answers!BM:BP,4,FALSE))),VLOOKUP(BP103,Answers!BM:BP,4,FALSE),\"Help!\"))","v":""},null,{"$f":"IF(BQ103=\"\",\"\",BO103+IF(BQ103=\"XX\",VLOOKUP(\"WRONG\",Answers!BM:BP,4,FALSE),BQ103)+BR103)","v":""},{"$f":"IF($B103=\"\",\"\",UPPER(Mainframe!T102))","v":""},{"$f":"IF(BT103=\"\",\"\",IF(NOT(ISNA(VLOOKUP(BT103,Answers!BQ:BT,4,FALSE))),VLOOKUP(BT103,Answers!BQ:BT,4,FALSE),\"Help!\"))","v":""},null,{"$f":"IF(BU103=\"\",\"\",BS103+IF(BU103=\"XX\",VLOOKUP(\"WRONG\",Answers!BQ:BT,4,FALSE),BU103)+BV103)","v":""},{"$f":"IF($B103=\"\",\"\",UPPER(Mainframe!U102))","v":""},{"$f":"IF(BX103=\"\",\"\",IF(NOT(ISNA(VLOOKUP(BX103,Answers!BU:BX,4,FALSE))),VLOOKUP(BX103,Answers!BU:BX,4,FALSE),\"Help!\"))","v":""},null,{"$f":"IF(BY103=\"\",\"\",BW103+IF(BY103=\"XX\",VLOOKUP(\"WRONG\",Answers!BU:BX,4,FALSE),BY103)+BZ103)","v":""},{"$f":"IF($B103=\"\",\"\",UPPER(Mainframe!V102))","v":""},{"$f":"IF(CB103=\"\",\"\",IF(NOT(ISNA(VLOOKUP(CB103,Answers!BY:CB,4,FALSE))),VLOOKUP(CB103,Answers!BY:CB,4,FALSE),\"Help!\"))","v":""},null,{"$f":"IF(CC103=\"\",\"\",CA103+IF(CC103=\"XX\",VLOOKUP(\"WRONG\",Answers!BY:CB,4,FALSE),CC103)+CD103)","v":""},null,null,1,{"$f":"IF(INDEX($B:$CE,ROW(),QNO*4-1)=DROPNAME,DROPNAME,IF(INDEX($B:$CE,ROW(),QNO*4-1)=SHEEPNAME,SHEEPNAME,IF(INDEX($B:$CE,ROW(),QNO*4)=\"XX\",INDEX($B:$CE,ROW(),QNO*4-1),INDEX(OFFSET(Answers!B:B,0,(QNO-1)*4),MATCH(INDEX($A:$CB,ROW(),QNO*4),OFFSET(Answers!A:A,0,(QNO-1)*4),0))&\" — \"&IF(INDEX($B:$CE,ROW(),QNO*4)=1,\"[b]Singleton![/b]\",CONCATENATE(INDEX($B:$CE,ROW(),QNO*4),\" responses\")))))","v":{"$error":"#N/A"}},"////////////////////////////////////////////////////////","No",{"$f":"IF(B103=0,\"\",CONCATENATE(INDEX($CH:$CL,ROW(),1),\". \",INDEX($B:$CE,ROW(),1),\" — [b]\")&IF(QNO=1,CONCATENATE(INDEX($B:$CE,ROW(),QNO*4+2),\"[/b] pts\"),CONCATENATE(INDEX($B:$CE,ROW(),QNO*4-2),\" + \",IF(INDEX($B:$CE,ROW(),QNO*4)=\"XX\",INDEX(Answers!$A:$ZZ,2,QNO*4),INDEX($B:$CE,ROW(),QNO*4)),\" = \",INDEX($B:$CE,ROW(),QNO*4+2),\"[/b] pts \",IF(INDEX($C:$CE,ROW(),QNO*4)>0,\"(penalty: +\"&INDEX($C:$CE,ROW(),QNO*4)&\") \",IF(INDEX($C:$CE,ROW(),QNO*4)<0,\"(bonus: \"&INDEX($C:$CE,ROW(),QNO*4)&\") \",\"\"))&\"[[b]\"&IF(CN103>0,\"[color=#00BF00]↑\"&CN103,IF(CN103<0,\"[color=#FF0000]↓\"&ABS(CN103),\"[color=#0000FF]unch\"))&\"[/b][/color]]\")))","v":"1.  — [b][/b] pts"},1,0]
["[*]",{"$f":"IF(Mainframe!B103=\"\",\"\",INDEX(Mainframe!$B:$B,C104+1,1))","v":""},102,{"$f":"IF($B104=\"\",\"\",UPPER(Mainframe!C103))","v":""},{"$f":"IF(D104=\"\",\"\",IF(NOT(ISNA(VLOOKUP(D104,Answers!A:D,4,FALSE))),VLOOKUP(D104,Answers!A:D,4,FALSE),\"Help!\"))","v":""},null,{"$f":"IF(E104=\"\",\"\",IF(E104=\"XX\",VLOOKUP(\"WRONG\",Answers!A:D,4,FALSE),E104)+F104)","v":""},{"$f":"IF($B104=\"\",\"\",UPPER(Mainframe!D103))","v":""},{"$f":"IF(H104=\"\",\"\",IF(NOT(ISNA(VLOOKUP(H104,Answers!E:H,4,FALSE))),VLOOKUP(H104,Answers!E:H,4,FALSE),\"Help!\"))","v":""},null,{"$f":"IF(I104=\"\",\"\",G104+IF(I104=\"XX\",VLOOKUP(\"WRONG\",Answers!E:H,4,FALSE),I104)+J104)","v":""},{"$f":"IF($B104=\"\",\"\",UPPER(Mainframe!E103))","v":""},{"$f":"IF(L104=\"\",\"\",IF(NOT(ISNA(VLOOKUP(L104,Answers!I:L,4,FALSE))),VLOOKUP(L104,Answers!I:L,4,FALSE),\"Help!\"))","v":""},null,{"$f":"IF(M104=\"\",\"\",K104+IF(M104=\"XX\",VLOOKUP(\"WRONG\",Answers!I:L,4,FALSE),M104)+N104)","v":""},{"$f":"IF($B104=\"\",\"\",UPPER(Mainframe!F103))","v":""},{"$f":"IF(P104=\"\",\"\",IF(NOT(ISNA(VLOOKUP(P104,Answers!M:P,4,FALSE))),VLOOKUP(P104,Answers!M:P,4,FALSE),\"Help!\"))","v":""},null,{"$f":"IF(Q104=\"\",\"\",O104+IF(Q104=\"XX\",VLOOKUP(\"WRONG\",Answers!M:P,4,FALSE),Q104)+R104)","v":""},{"$f":"IF($B104=\"\",\"\",UPPER(Mainframe!G103))","v":""},{"$f":"IF(T104=\"\",\"\",IF(NOT(ISNA(VLOOKUP(T104,Answers!Q:T,4,FALSE))),VLOOKUP(T104,Answers!Q:T,4,FALSE),\"Help!\"))","v":""},null,{"$f":"IF(U104=\"\",\"\",S104+IF(U104=\"XX\",VLOOKUP(\"WRONG\",Answers!Q:T,4,FALSE),U104)+V104)","v":""},{"$f":"IF($B104=\"\",\"\",UPPER(Mainframe!H103))","v":""},{"$f":"IF(X104=\"\",\"\",IF(NOT(ISNA(VLOOKUP(X104,Answers!U:X,4,FALSE))),VLOOKUP(X104,Answers!U:X,4,FALSE),\"Help!\"))","v":""},null,{"$f":"IF(Y104=\"\",\"\",W104+IF(Y104=\"XX\",VLOOKUP(\"WRONG\",Answers!U:X,4,FALSE),Y104)+Z104)","v":""},{"$f":"IF($B104=\"\",\"\",UPPER(Mainframe!I103))","v":""},{"$f":"IF(AB104=\"\",\"\",IF(NOT(ISNA(VLOOKUP(AB104,Answers!Y:AB,4,FALSE))),VLOOKUP(AB104,Answers!Y:AB,4,FALSE),\"Help!\"))","v":""},null,{"$f":"IF(AC104=\"\",\"\",AA104+IF(AC104=\"XX\",VLOOKUP(\"WRONG\",Answers!Y:AB,4,FALSE),AC104)+AD104)","v":""},{"$f":"IF($B104=\"\",\"\",UPPER(Mainframe!J103))","v":""},{"$f":"IF(AF104=\"\",\"\",IF(NOT(ISNA(VLOOKUP(AF104,Answers!AC:AF,4,FALSE))),VLOOKUP(AF104,Answers!AC:AF,4,FALSE),\"Help!\"))","v":""},null,{"$f":"IF(AG104=\"\",\"\",AE104+IF(AG104=\"XX\",VLOOKUP(\"WRONG\",Answers!AC:AF,4,FALSE),AG104)+AH104)","v":""},{"$f":"IF($B104=\"\",\"\",UPPER(Mainframe!K103))","v":""},{"$f":"IF(AJ104=\"\",\"\",IF(NOT(ISNA(VLOOKUP(AJ104,Answers!AG:AJ,4,FALSE))),VLOOKUP(AJ104,Answers!AG:AJ,4,FALSE),\"Help!\"))","v":""},null,{"$f":"IF(AK104=\"\",\"\",AI104+IF(AK104=\"XX\",VLOOKUP(\"WRONG\",Answers!AG:AJ,4,FALSE),AK104)+AL104)","v":""},{"$f":"IF($B104=\"\",\"\",UPPER(Mainframe!L103))","v":""},{"$f":"IF(AN104=\"\",\"\",IF(NOT(ISNA(VLOOKUP(AN104,Answers!AK:AN,4,FALSE))),VLOOKUP(AN104,Answers!AK:AN,4,FALSE),\"Help!\"))","v":""},null,{"$f":"IF(AO104=\"\",\"\",AM104+IF(AO104=\"XX\",VLOOKUP(\"WRONG\",Answers!AK:AN,4,FALSE),AO104)+AP104)","v":""},{"$f":"IF($B104=\"\",\"\",UPPER(Mainframe!M103))","v":""},{"$f":"IF(AR104=\"\",\"\",IF(NOT(ISNA(VLOOKUP(AR104,Answers!AO:AR,4,FALSE))),VLOOKUP(AR104,Answers!AO:AR,4,FALSE),\"Help!\"))","v":""},null,{"$f":"IF(AS104=\"\",\"\",AQ104+IF(AS104=\"XX\",VLOOKUP(\"WRONG\",Answers!AO:AR,4,FALSE),AS104)+AT104)","v":""},{"$f":"IF($B104=\"\",\"\",UPPER(Mainframe!N103))","v":""},{"$f":"IF(AV104=\"\",\"\",IF(NOT(ISNA(VLOOKUP(AV104,Answers!AS:AV,4,FALSE))),VLOOKUP(AV104,Answers!AS:AV,4,FALSE),\"Help!\"))","v":""},null,{"$f":"IF(AW104=\"\",\"\",AU104+IF(AW104=\"XX\",VLOOKUP(\"WRONG\",Answers!AS:AV,4,FALSE),AW104)+AX104)","v":""},{"$f":"IF($B104=\"\",\"\",UPPER(Mainframe!O103))","v":""},{"$f":"IF(AZ104=\"\",\"\",IF(NOT(ISNA(VLOOKUP(AZ104,Answers!AW:AZ,4,FALSE))),VLOOKUP(AZ104,Answers!AW:AZ,4,FALSE),\"Help!\"))","v":""},null,{"$f":"IF(BA104=\"\",\"\",AY104+IF(BA104=\"XX\",VLOOKUP(\"WRONG\",Answers!AW:AZ,4,FALSE),BA104)+BB104)","v":""},{"$f":"IF($B104=\"\",\"\",UPPER(Mainframe!P103))","v":""},{"$f":"IF(BD104=\"\",\"\",IF(NOT(ISNA(VLOOKUP(BD104,Answers!BA:BD,4,FALSE))),VLOOKUP(BD104,Answers!BA:BD,4,FALSE),\"Help!\"))","v":""},null,{"$f":"IF(BE104=\"\",\"\",BC104+IF(BE104=\"XX\",VLOOKUP(\"WRONG\",Answers!BA:BD,4,FALSE),BE104)+BF104)","v":""},{"$f":"IF($B104=\"\",\"\",UPPER(Mainframe!Q103))","v":""},{"$f":"IF(BH104=\"\",\"\",IF(NOT(ISNA(VLOOKUP(BH104,Answers!BE:BH,4,FALSE))),VLOOKUP(BH104,Answers!BE:BH,4,FALSE),\"Help!\"))","v":""},null,{"$f":"IF(BI104=\"\",\"\",BG104+IF(BI104=\"XX\",VLOOKUP(\"WRONG\",Answers!BE:BH,4,FALSE),BI104)+BJ104)","v":""},{"$f":"IF($B104=\"\",\"\",UPPER(Mainframe!R103))","v":""},{"$f":"IF(BL104=\"\",\"\",IF(NOT(ISNA(VLOOKUP(BL104,Answers!BI:BL,4,FALSE))),VLOOKUP(BL104,Answers!BI:BL,4,FALSE),\"Help!\"))","v":""},null,{"$f":"IF(BM104=\"\",\"\",BK104+IF(BM104=\"XX\",VLOOKUP(\"WRONG\",Answers!BI:BL,4,FALSE),BM104)+BN104)","v":""},{"$f":"IF($B104=\"\",\"\",UPPER(Mainframe!S103))","v":""},{"$f":"IF(BP104=\"\",\"\",IF(NOT(ISNA(VLOOKUP(BP104,Answers!BM:BP,4,FALSE))),VLOOKUP(BP104,Answers!BM:BP,4,FALSE),\"Help!\"))","v":""},null,{"$f":"IF(BQ104=\"\",\"\",BO104+IF(BQ104=\"XX\",VLOOKUP(\"WRONG\",Answers!BM:BP,4,FALSE),BQ104)+BR104)","v":""},{"$f":"IF($B104=\"\",\"\",UPPER(Mainframe!T103))","v":""},{"$f":"IF(BT104=\"\",\"\",IF(NOT(ISNA(VLOOKUP(BT104,Answers!BQ:BT,4,FALSE))),VLOOKUP(BT104,Answers!BQ:BT,4,FALSE),\"Help!\"))","v":""},null,{"$f":"IF(BU104=\"\",\"\",BS104+IF(BU104=\"XX\",VLOOKUP(\"WRONG\",Answers!BQ:BT,4,FALSE),BU104)+BV104)","v":""},{"$f":"IF($B104=\"\",\"\",UPPER(Mainframe!U103))","v":""},{"$f":"IF(BX104=\"\",\"\",IF(NOT(ISNA(VLOOKUP(BX104,Answers!BU:BX,4,FALSE))),VLOOKUP(BX104,Answers!BU:BX,4,FALSE),\"Help!\"))","v":""},null,{"$f":"IF(BY104=\"\",\"\",BW104+IF(BY104=\"XX\",VLOOKUP(\"WRONG\",Answers!BU:BX,4,FALSE),BY104)+BZ104)","v":""},{"$f":"IF($B104=\"\",\"\",UPPER(Mainframe!V103))","v":""},{"$f":"IF(CB104=\"\",\"\",IF(NOT(ISNA(VLOOKUP(CB104,Answers!BY:CB,4,FALSE))),VLOOKUP(CB104,Answers!BY:CB,4,FALSE),\"Help!\"))","v":""},null,{"$f":"IF(CC104=\"\",\"\",CA104+IF(CC104=\"XX\",VLOOKUP(\"WRONG\",Answers!BY:CB,4,FALSE),CC104)+CD104)","v":""},null,null,1,{"$f":"IF(INDEX($B:$CE,ROW(),QNO*4-1)=DROPNAME,DROPNAME,IF(INDEX($B:$CE,ROW(),QNO*4-1)=SHEEPNAME,SHEEPNAME,IF(INDEX($B:$CE,ROW(),QNO*4)=\"XX\",INDEX($B:$CE,ROW(),QNO*4-1),INDEX(OFFSET(Answers!B:B,0,(QNO-1)*4),MATCH(INDEX($A:$CB,ROW(),QNO*4),OFFSET(Answers!A:A,0,(QNO-1)*4),0))&\" — \"&IF(INDEX($B:$CE,ROW(),QNO*4)=1,\"[b]Singleton![/b]\",CONCATENATE(INDEX($B:$CE,ROW(),QNO*4),\" responses\")))))","v":{"$error":"#N/A"}},"//////////////////////////////////////////////////////","No",{"$f":"IF(B104=0,\"\",CONCATENATE(INDEX($CH:$CL,ROW(),1),\". \",INDEX($B:$CE,ROW(),1),\" — [b]\")&IF(QNO=1,CONCATENATE(INDEX($B:$CE,ROW(),QNO*4+2),\"[/b] pts\"),CONCATENATE(INDEX($B:$CE,ROW(),QNO*4-2),\" + \",IF(INDEX($B:$CE,ROW(),QNO*4)=\"XX\",INDEX(Answers!$A:$ZZ,2,QNO*4),INDEX($B:$CE,ROW(),QNO*4)),\" = \",INDEX($B:$CE,ROW(),QNO*4+2),\"[/b] pts \",IF(INDEX($C:$CE,ROW(),QNO*4)>0,\"(penalty: +\"&INDEX($C:$CE,ROW(),QNO*4)&\") \",IF(INDEX($C:$CE,ROW(),QNO*4)<0,\"(bonus: \"&INDEX($C:$CE,ROW(),QNO*4)&\") \",\"\"))&\"[[b]\"&IF(CN104>0,\"[color=#00BF00]↑\"&CN104,IF(CN104<0,\"[color=#FF0000]↓\"&ABS(CN104),\"[color=#0000FF]unch\"))&\"[/b][/color]]\")))","v":"1.  — [b][/b] pts"},1,0]
["[*]",{"$f":"IF(Mainframe!B104=\"\",\"\",INDEX(Mainframe!$B:$B,C105+1,1))","v":""},103,{"$f":"IF($B105=\"\",\"\",UPPER(Mainframe!C104))","v":""},{"$f":"IF(D105=\"\",\"\",IF(NOT(ISNA(VLOOKUP(D105,Answers!A:D,4,FALSE))),VLOOKUP(D105,Answers!A:D,4,FALSE),\"Help!\"))","v":""},null,{"$f":"IF(E105=\"\",\"\",IF(E105=\"XX\",VLOOKUP(\"WRONG\",Answers!A:D,4,FALSE),E105)+F105)","v":""},{"$f":"IF($B105=\"\",\"\",UPPER(Mainframe!D104))","v":""},{"$f":"IF(H105=\"\",\"\",IF(NOT(ISNA(VLOOKUP(H105,Answers!E:H,4,FALSE))),VLOOKUP(H105,Answers!E:H,4,FALSE),\"Help!\"))","v":""},null,{"$f":"IF(I105=\"\",\"\",G105+IF(I105=\"XX\",VLOOKUP(\"WRONG\",Answers!E:H,4,FALSE),I105)+J105)","v":""},{"$f":"IF($B105=\"\",\"\",UPPER(Mainframe!E104))","v":""},{"$f":"IF(L105=\"\",\"\",IF(NOT(ISNA(VLOOKUP(L105,Answers!I:L,4,FALSE))),VLOOKUP(L105,Answers!I:L,4,FALSE),\"Help!\"))","v":""},null,{"$f":"IF(M105=\"\",\"\",K105+IF(M105=\"XX\",VLOOKUP(\"WRONG\",Answers!I:L,4,FALSE),M105)+N105)","v":""},{"$f":"IF($B105=\"\",\"\",UPPER(Mainframe!F104))","v":""},{"$f":"IF(P105=\"\",\"\",IF(NOT(ISNA(VLOOKUP(P105,Answers!M:P,4,FALSE))),VLOOKUP(P105,Answers!M:P,4,FALSE),\"Help!\"))","v":""},null,{"$f":"IF(Q105=\"\",\"\",O105+IF(Q105=\"XX\",VLOOKUP(\"WRONG\",Answers!M:P,4,FALSE),Q105)+R105)","v":""},{"$f":"IF($B105=\"\",\"\",UPPER(Mainframe!G104))","v":""},{"$f":"IF(T105=\"\",\"\",IF(NOT(ISNA(VLOOKUP(T105,Answers!Q:T,4,FALSE))),VLOOKUP(T105,Answers!Q:T,4,FALSE),\"Help!\"))","v":""},null,{"$f":"IF(U105=\"\",\"\",S105+IF(U105=\"XX\",VLOOKUP(\"WRONG\",Answers!Q:T,4,FALSE),U105)+V105)","v":""},{"$f":"IF($B105=\"\",\"\",UPPER(Mainframe!H104))","v":""},{"$f":"IF(X105=\"\",\"\",IF(NOT(ISNA(VLOOKUP(X105,Answers!U:X,4,FALSE))),VLOOKUP(X105,Answers!U:X,4,FALSE),\"Help!\"))","v":""},null,{"$f":"IF(Y105=\"\",\"\",W105+IF(Y105=\"XX\",VLOOKUP(\"WRONG\",Answers!U:X,4,FALSE),Y105)+Z105)","v":""},{"$f":"IF($B105=\"\",\"\",UPPER(Mainframe!I104))","v":""},{"$f":"IF(AB105=\"\",\"\",IF(NOT(ISNA(VLOOKUP(AB105,Answers!Y:AB,4,FALSE))),VLOOKUP(AB105,Answers!Y:AB,4,FALSE),\"Help!\"))","v":""},null,{"$f":"IF(AC105=\"\",\"\",AA105+IF(AC105=\"XX\",VLOOKUP(\"WRONG\",Answers!Y:AB,4,FALSE),AC105)+AD105)","v":""},{"$f":"IF($B105=\"\",\"\",UPPER(Mainframe!J104))","v":""},{"$f":"IF(AF105=\"\",\"\",IF(NOT(ISNA(VLOOKUP(AF105,Answers!AC:AF,4,FALSE))),VLOOKUP(AF105,Answers!AC:AF,4,FALSE),\"Help!\"))","v":""},null,{"$f":"IF(AG105=\"\",\"\",AE105+IF(AG105=\"XX\",VLOOKUP(\"WRONG\",Answers!AC:AF,4,FALSE),AG105)+AH105)","v":""},{"$f":"IF($B105=\"\",\"\",UPPER(Mainframe!K104))","v":""},{"$f":"IF(AJ105=\"\",\"\",IF(NOT(ISNA(VLOOKUP(AJ105,Answers!AG:AJ,4,FALSE))),VLOOKUP(AJ105,Answers!AG:AJ,4,FALSE),\"Help!\"))","v":""},null,{"$f":"IF(AK105=\"\",\"\",AI105+IF(AK105=\"XX\",VLOOKUP(\"WRONG\",Answers!AG:AJ,4,FALSE),AK105)+AL105)","v":""},{"$f":"IF($B105=\"\",\"\",UPPER(Mainframe!L104))","v":""},{"$f":"IF(AN105=\"\",\"\",IF(NOT(ISNA(VLOOKUP(AN105,Answers!AK:AN,4,FALSE))),VLOOKUP(AN105,Answers!AK:AN,4,FALSE),\"Help!\"))","v":""},null,{"$f":"IF(AO105=\"\",\"\",AM105+IF(AO105=\"XX\",VLOOKUP(\"WRONG\",Answers!AK:AN,4,FALSE),AO105)+AP105)","v":""},{"$f":"IF($B105=\"\",\"\",UPPER(Mainframe!M104))","v":""},{"$f":"IF(AR105=\"\",\"\",IF(NOT(ISNA(VLOOKUP(AR105,Answers!AO:AR,4,FALSE))),VLOOKUP(AR105,Answers!AO:AR,4,FALSE),\"Help!\"))","v":""},null,{"$f":"IF(AS105=\"\",\"\",AQ105+IF(AS105=\"XX\",VLOOKUP(\"WRONG\",Answers!AO:AR,4,FALSE),AS105)+AT105)","v":""},{"$f":"IF($B105=\"\",\"\",UPPER(Mainframe!N104))","v":""},{"$f":"IF(AV105=\"\",\"\",IF(NOT(ISNA(VLOOKUP(AV105,Answers!AS:AV,4,FALSE))),VLOOKUP(AV105,Answers!AS:AV,4,FALSE),\"Help!\"))","v":""},null,{"$f":"IF(AW105=\"\",\"\",AU105+IF(AW105=\"XX\",VLOOKUP(\"WRONG\",Answers!AS:AV,4,FALSE),AW105)+AX105)","v":""},{"$f":"IF($B105=\"\",\"\",UPPER(Mainframe!O104))","v":""},{"$f":"IF(AZ105=\"\",\"\",IF(NOT(ISNA(VLOOKUP(AZ105,Answers!AW:AZ,4,FALSE))),VLOOKUP(AZ105,Answers!AW:AZ,4,FALSE),\"Help!\"))","v":""},null,{"$f":"IF(BA105=\"\",\"\",AY105+IF(BA105=\"XX\",VLOOKUP(\"WRONG\",Answers!AW:AZ,4,FALSE),BA105)+BB105)","v":""},{"$f":"IF($B105=\"\",\"\",UPPER(Mainframe!P104))","v":""},{"$f":"IF(BD105=\"\",\"\",IF(NOT(ISNA(VLOOKUP(BD105,Answers!BA:BD,4,FALSE))),VLOOKUP(BD105,Answers!BA:BD,4,FALSE),\"Help!\"))","v":""},null,{"$f":"IF(BE105=\"\",\"\",BC105+IF(BE105=\"XX\",VLOOKUP(\"WRONG\",Answers!BA:BD,4,FALSE),BE105)+BF105)","v":""},{"$f":"IF($B105=\"\",\"\",UPPER(Mainframe!Q104))","v":""},{"$f":"IF(BH105=\"\",\"\",IF(NOT(ISNA(VLOOKUP(BH105,Answers!BE:BH,4,FALSE))),VLOOKUP(BH105,Answers!BE:BH,4,FALSE),\"Help!\"))","v":""},null,{"$f":"IF(BI105=\"\",\"\",BG105+IF(BI105=\"XX\",VLOOKUP(\"WRONG\",Answers!BE:BH,4,FALSE),BI105)+BJ105)","v":""},{"$f":"IF($B105=\"\",\"\",UPPER(Mainframe!R104))","v":""},{"$f":"IF(BL105=\"\",\"\",IF(NOT(ISNA(VLOOKUP(BL105,Answers!BI:BL,4,FALSE))),VLOOKUP(BL105,Answers!BI:BL,4,FALSE),\"Help!\"))","v":""},null,{"$f":"IF(BM105=\"\",\"\",BK105+IF(BM105=\"XX\",VLOOKUP(\"WRONG\",Answers!BI:BL,4,FALSE),BM105)+BN105)","v":""},{"$f":"IF($B105=\"\",\"\",UPPER(Mainframe!S104))","v":""},{"$f":"IF(BP105=\"\",\"\",IF(NOT(ISNA(VLOOKUP(BP105,Answers!BM:BP,4,FALSE))),VLOOKUP(BP105,Answers!BM:BP,4,FALSE),\"Help!\"))","v":""},null,{"$f":"IF(BQ105=\"\",\"\",BO105+IF(BQ105=\"XX\",VLOOKUP(\"WRONG\",Answers!BM:BP,4,FALSE),BQ105)+BR105)","v":""},{"$f":"IF($B105=\"\",\"\",UPPER(Mainframe!T104))","v":""},{"$f":"IF(BT105=\"\",\"\",IF(NOT(ISNA(VLOOKUP(BT105,Answers!BQ:BT,4,FALSE))),VLOOKUP(BT105,Answers!BQ:BT,4,FALSE),\"Help!\"))","v":""},null,{"$f":"IF(BU105=\"\",\"\",BS105+IF(BU105=\"XX\",VLOOKUP(\"WRONG\",Answers!BQ:BT,4,FALSE),BU105)+BV105)","v":""},{"$f":"IF($B105=\"\",\"\",UPPER(Mainframe!U104))","v":""},{"$f":"IF(BX105=\"\",\"\",IF(NOT(ISNA(VLOOKUP(BX105,Answers!BU:BX,4,FALSE))),VLOOKUP(BX105,Answers!BU:BX,4,FALSE),\"Help!\"))","v":""},null,{"$f":"IF(BY105=\"\",\"\",BW105+IF(BY105=\"XX\",VLOOKUP(\"WRONG\",Answers!BU:BX,4,FALSE),BY105)+BZ105)","v":""},{"$f":"IF($B105=\"\",\"\",UPPER(Mainframe!V104))","v":""},{"$f":"IF(CB105=\"\",\"\",IF(NOT(ISNA(VLOOKUP(CB105,Answers!BY:CB,4,FALSE))),VLOOKUP(CB105,Answers!BY:CB,4,FALSE),\"Help!\"))","v":""},null,{"$f":"IF(CC105=\"\",\"\",CA105+IF(CC105=\"XX\",VLOOKUP(\"WRONG\",Answers!BY:CB,4,FALSE),CC105)+CD105)","v":""},null,null,1,{"$f":"IF(INDEX($B:$CE,ROW(),QNO*4-1)=DROPNAME,DROPNAME,IF(INDEX($B:$CE,ROW(),QNO*4-1)=SHEEPNAME,SHEEPNAME,IF(INDEX($B:$CE,ROW(),QNO*4)=\"XX\",INDEX($B:$CE,ROW(),QNO*4-1),INDEX(OFFSET(Answers!B:B,0,(QNO-1)*4),MATCH(INDEX($A:$CB,ROW(),QNO*4),OFFSET(Answers!A:A,0,(QNO-1)*4),0))&\" — \"&IF(INDEX($B:$CE,ROW(),QNO*4)=1,\"[b]Singleton![/b]\",CONCATENATE(INDEX($B:$CE,ROW(),QNO*4),\" responses\")))))","v":{"$error":"#N/A"}},"////////////////////////////////////////////////////","No",{"$f":"IF(B105=0,\"\",CONCATENATE(INDEX($CH:$CL,ROW(),1),\". \",INDEX($B:$CE,ROW(),1),\" — [b]\")&IF(QNO=1,CONCATENATE(INDEX($B:$CE,ROW(),QNO*4+2),\"[/b] pts\"),CONCATENATE(INDEX($B:$CE,ROW(),QNO*4-2),\" + \",IF(INDEX($B:$CE,ROW(),QNO*4)=\"XX\",INDEX(Answers!$A:$ZZ,2,QNO*4),INDEX($B:$CE,ROW(),QNO*4)),\" = \",INDEX($B:$CE,ROW(),QNO*4+2),\"[/b] pts \",IF(INDEX($C:$CE,ROW(),QNO*4)>0,\"(penalty: +\"&INDEX($C:$CE,ROW(),QNO*4)&\") \",IF(INDEX($C:$CE,ROW(),QNO*4)<0,\"(bonus: \"&INDEX($C:$CE,ROW(),QNO*4)&\") \",\"\"))&\"[[b]\"&IF(CN105>0,\"[color=#00BF00]↑\"&CN105,IF(CN105<0,\"[color=#FF0000]↓\"&ABS(CN105),\"[color=#0000FF]unch\"))&\"[/b][/color]]\")))","v":"1.  — [b][/b] pts"},1,0]
["[*]",{"$f":"IF(Mainframe!B105=\"\",\"\",INDEX(Mainframe!$B:$B,C106+1,1))","v":""},104,{"$f":"IF($B106=\"\",\"\",UPPER(Mainframe!C105))","v":""},{"$f":"IF(D106=\"\",\"\",IF(NOT(ISNA(VLOOKUP(D106,Answers!A:D,4,FALSE))),VLOOKUP(D106,Answers!A:D,4,FALSE),\"Help!\"))","v":""},null,{"$f":"IF(E106=\"\",\"\",IF(E106=\"XX\",VLOOKUP(\"WRONG\",Answers!A:D,4,FALSE),E106)+F106)","v":""},{"$f":"IF($B106=\"\",\"\",UPPER(Mainframe!D105))","v":""},{"$f":"IF(H106=\"\",\"\",IF(NOT(ISNA(VLOOKUP(H106,Answers!E:H,4,FALSE))),VLOOKUP(H106,Answers!E:H,4,FALSE),\"Help!\"))","v":""},null,{"$f":"IF(I106=\"\",\"\",G106+IF(I106=\"XX\",VLOOKUP(\"WRONG\",Answers!E:H,4,FALSE),I106)+J106)","v":""},{"$f":"IF($B106=\"\",\"\",UPPER(Mainframe!E105))","v":""},{"$f":"IF(L106=\"\",\"\",IF(NOT(ISNA(VLOOKUP(L106,Answers!I:L,4,FALSE))),VLOOKUP(L106,Answers!I:L,4,FALSE),\"Help!\"))","v":""},null,{"$f":"IF(M106=\"\",\"\",K106+IF(M106=\"XX\",VLOOKUP(\"WRONG\",Answers!I:L,4,FALSE),M106)+N106)","v":""},{"$f":"IF($B106=\"\",\"\",UPPER(Mainframe!F105))","v":""},{"$f":"IF(P106=\"\",\"\",IF(NOT(ISNA(VLOOKUP(P106,Answers!M:P,4,FALSE))),VLOOKUP(P106,Answers!M:P,4,FALSE),\"Help!\"))","v":""},null,{"$f":"IF(Q106=\"\",\"\",O106+IF(Q106=\"XX\",VLOOKUP(\"WRONG\",Answers!M:P,4,FALSE),Q106)+R106)","v":""},{"$f":"IF($B106=\"\",\"\",UPPER(Mainframe!G105))","v":""},{"$f":"IF(T106=\"\",\"\",IF(NOT(ISNA(VLOOKUP(T106,Answers!Q:T,4,FALSE))),VLOOKUP(T106,Answers!Q:T,4,FALSE),\"Help!\"))","v":""},null,{"$f":"IF(U106=\"\",\"\",S106+IF(U106=\"XX\",VLOOKUP(\"WRONG\",Answers!Q:T,4,FALSE),U106)+V106)","v":""},{"$f":"IF($B106=\"\",\"\",UPPER(Mainframe!H105))","v":""},{"$f":"IF(X106=\"\",\"\",IF(NOT(ISNA(VLOOKUP(X106,Answers!U:X,4,FALSE))),VLOOKUP(X106,Answers!U:X,4,FALSE),\"Help!\"))","v":""},null,{"$f":"IF(Y106=\"\",\"\",W106+IF(Y106=\"XX\",VLOOKUP(\"WRONG\",Answers!U:X,4,FALSE),Y106)+Z106)","v":""},{"$f":"IF($B106=\"\",\"\",UPPER(Mainframe!I105))","v":""},{"$f":"IF(AB106=\"\",\"\",IF(NOT(ISNA(VLOOKUP(AB106,Answers!Y:AB,4,FALSE))),VLOOKUP(AB106,Answers!Y:AB,4,FALSE),\"Help!\"))","v":""},null,{"$f":"IF(AC106=\"\",\"\",AA106+IF(AC106=\"XX\",VLOOKUP(\"WRONG\",Answers!Y:AB,4,FALSE),AC106)+AD106)","v":""},{"$f":"IF($B106=\"\",\"\",UPPER(Mainframe!J105))","v":""},{"$f":"IF(AF106=\"\",\"\",IF(NOT(ISNA(VLOOKUP(AF106,Answers!AC:AF,4,FALSE))),VLOOKUP(AF106,Answers!AC:AF,4,FALSE),\"Help!\"))","v":""},null,{"$f":"IF(AG106=\"\",\"\",AE106+IF(AG106=\"XX\",VLOOKUP(\"WRONG\",Answers!AC:AF,4,FALSE),AG106)+AH106)","v":""},{"$f":"IF($B106=\"\",\"\",UPPER(Mainframe!K105))","v":""},{"$f":"IF(AJ106=\"\",\"\",IF(NOT(ISNA(VLOOKUP(AJ106,Answers!AG:AJ,4,FALSE))),VLOOKUP(AJ106,Answers!AG:AJ,4,FALSE),\"Help!\"))","v":""},null,{"$f":"IF(AK106=\"\",\"\",AI106+IF(AK106=\"XX\",VLOOKUP(\"WRONG\",Answers!AG:AJ,4,FALSE),AK106)+AL106)","v":""},{"$f":"IF($B106=\"\",\"\",UPPER(Mainframe!L105))","v":""},{"$f":"IF(AN106=\"\",\"\",IF(NOT(ISNA(VLOOKUP(AN106,Answers!AK:AN,4,FALSE))),VLOOKUP(AN106,Answers!AK:AN,4,FALSE),\"Help!\"))","v":""},null,{"$f":"IF(AO106=\"\",\"\",AM106+IF(AO106=\"XX\",VLOOKUP(\"WRONG\",Answers!AK:AN,4,FALSE),AO106)+AP106)","v":""},{"$f":"IF($B106=\"\",\"\",UPPER(Mainframe!M105))","v":""},{"$f":"IF(AR106=\"\",\"\",IF(NOT(ISNA(VLOOKUP(AR106,Answers!AO:AR,4,FALSE))),VLOOKUP(AR106,Answers!AO:AR,4,FALSE),\"Help!\"))","v":""},null,{"$f":"IF(AS106=\"\",\"\",AQ106+IF(AS106=\"XX\",VLOOKUP(\"WRONG\",Answers!AO:AR,4,FALSE),AS106)+AT106)","v":""},{"$f":"IF($B106=\"\",\"\",UPPER(Mainframe!N105))","v":""},{"$f":"IF(AV106=\"\",\"\",IF(NOT(ISNA(VLOOKUP(AV106,Answers!AS:AV,4,FALSE))),VLOOKUP(AV106,Answers!AS:AV,4,FALSE),\"Help!\"))","v":""},null,{"$f":"IF(AW106=\"\",\"\",AU106+IF(AW106=\"XX\",VLOOKUP(\"WRONG\",Answers!AS:AV,4,FALSE),AW106)+AX106)","v":""},{"$f":"IF($B106=\"\",\"\",UPPER(Mainframe!O105))","v":""},{"$f":"IF(AZ106=\"\",\"\",IF(NOT(ISNA(VLOOKUP(AZ106,Answers!AW:AZ,4,FALSE))),VLOOKUP(AZ106,Answers!AW:AZ,4,FALSE),\"Help!\"))","v":""},null,{"$f":"IF(BA106=\"\",\"\",AY106+IF(BA106=\"XX\",VLOOKUP(\"WRONG\",Answers!AW:AZ,4,FALSE),BA106)+BB106)","v":""},{"$f":"IF($B106=\"\",\"\",UPPER(Mainframe!P105))","v":""},{"$f":"IF(BD106=\"\",\"\",IF(NOT(ISNA(VLOOKUP(BD106,Answers!BA:BD,4,FALSE))),VLOOKUP(BD106,Answers!BA:BD,4,FALSE),\"Help!\"))","v":""},null,{"$f":"IF(BE106=\"\",\"\",BC106+IF(BE106=\"XX\",VLOOKUP(\"WRONG\",Answers!BA:BD,4,FALSE),BE106)+BF106)","v":""},{"$f":"IF($B106=\"\",\"\",UPPER(Mainframe!Q105))","v":""},{"$f":"IF(BH106=\"\",\"\",IF(NOT(ISNA(VLOOKUP(BH106,Answers!BE:BH,4,FALSE))),VLOOKUP(BH106,Answers!BE:BH,4,FALSE),\"Help!\"))","v":""},null,{"$f":"IF(BI106=\"\",\"\",BG106+IF(BI106=\"XX\",VLOOKUP(\"WRONG\",Answers!BE:BH,4,FALSE),BI106)+BJ106)","v":""},{"$f":"IF($B106=\"\",\"\",UPPER(Mainframe!R105))","v":""},{"$f":"IF(BL106=\"\",\"\",IF(NOT(ISNA(VLOOKUP(BL106,Answers!BI:BL,4,FALSE))),VLOOKUP(BL106,Answers!BI:BL,4,FALSE),\"Help!\"))","v":""},null,{"$f":"IF(BM106=\"\",\"\",BK106+IF(BM106=\"XX\",VLOOKUP(\"WRONG\",Answers!BI:BL,4,FALSE),BM106)+BN106)","v":""},{"$f":"IF($B106=\"\",\"\",UPPER(Mainframe!S105))","v":""},{"$f":"IF(BP106=\"\",\"\",IF(NOT(ISNA(VLOOKUP(BP106,Answers!BM:BP,4,FALSE))),VLOOKUP(BP106,Answers!BM:BP,4,FALSE),\"Help!\"))","v":""},null,{"$f":"IF(BQ106=\"\",\"\",BO106+IF(BQ106=\"XX\",VLOOKUP(\"WRONG\",Answers!BM:BP,4,FALSE),BQ106)+BR106)","v":""},{"$f":"IF($B106=\"\",\"\",UPPER(Mainframe!T105))","v":""},{"$f":"IF(BT106=\"\",\"\",IF(NOT(ISNA(VLOOKUP(BT106,Answers!BQ:BT,4,FALSE))),VLOOKUP(BT106,Answers!BQ:BT,4,FALSE),\"Help!\"))","v":""},null,{"$f":"IF(BU106=\"\",\"\",BS106+IF(BU106=\"XX\",VLOOKUP(\"WRONG\",Answers!BQ:BT,4,FALSE),BU106)+BV106)","v":""},{"$f":"IF($B106=\"\",\"\",UPPER(Mainframe!U105))","v":""},{"$f":"IF(BX106=\"\",\"\",IF(NOT(ISNA(VLOOKUP(BX106,Answers!BU:BX,4,FALSE))),VLOOKUP(BX106,Answers!BU:BX,4,FALSE),\"Help!\"))","v":""},null,{"$f":"IF(BY106=\"\",\"\",BW106+IF(BY106=\"XX\",VLOOKUP(\"WRONG\",Answers!BU:BX,4,FALSE),BY106)+BZ106)","v":""},{"$f":"IF($B106=\"\",\"\",UPPER(Mainframe!V105))","v":""},{"$f":"IF(CB106=\"\",\"\",IF(NOT(ISNA(VLOOKUP(CB106,Answers!BY:CB,4,FALSE))),VLOOKUP(CB106,Answers!BY:CB,4,FALSE),\"Help!\"))","v":""},null,{"$f":"IF(CC106=\"\",\"\",CA106+IF(CC106=\"XX\",VLOOKUP(\"WRONG\",Answers!BY:CB,4,FALSE),CC106)+CD106)","v":""},null,null,1,{"$f":"IF(INDEX($B:$CE,ROW(),QNO*4-1)=DROPNAME,DROPNAME,IF(INDEX($B:$CE,ROW(),QNO*4-1)=SHEEPNAME,SHEEPNAME,IF(INDEX($B:$CE,ROW(),QNO*4)=\"XX\",INDEX($B:$CE,ROW(),QNO*4-1),INDEX(OFFSET(Answers!B:B,0,(QNO-1)*4),MATCH(INDEX($A:$CB,ROW(),QNO*4),OFFSET(Answers!A:A,0,(QNO-1)*4),0))&\" — \"&IF(INDEX($B:$CE,ROW(),QNO*4)=1,\"[b]Singleton![/b]\",CONCATENATE(INDEX($B:$CE,ROW(),QNO*4),\" responses\")))))","v":{"$error":"#N/A"}},"//////////////////////////////////////////////////","No",{"$f":"IF(B106=0,\"\",CONCATENATE(INDEX($CH:$CL,ROW(),1),\". \",INDEX($B:$CE,ROW(),1),\" — [b]\")&IF(QNO=1,CONCATENATE(INDEX($B:$CE,ROW(),QNO*4+2),\"[/b] pts\"),CONCATENATE(INDEX($B:$CE,ROW(),QNO*4-2),\" + \",IF(INDEX($B:$CE,ROW(),QNO*4)=\"XX\",INDEX(Answers!$A:$ZZ,2,QNO*4),INDEX($B:$CE,ROW(),QNO*4)),\" = \",INDEX($B:$CE,ROW(),QNO*4+2),\"[/b] pts \",IF(INDEX($C:$CE,ROW(),QNO*4)>0,\"(penalty: +\"&INDEX($C:$CE,ROW(),QNO*4)&\") \",IF(INDEX($C:$CE,ROW(),QNO*4)<0,\"(bonus: \"&INDEX($C:$CE,ROW(),QNO*4)&\") \",\"\"))&\"[[b]\"&IF(CN106>0,\"[color=#00BF00]↑\"&CN106,IF(CN106<0,\"[color=#FF0000]↓\"&ABS(CN106),\"[color=#0000FF]unch\"))&\"[/b][/color]]\")))","v":"1.  — [b][/b] pts"},1,0]
["[*]",{"$f":"IF(Mainframe!B106=\"\",\"\",INDEX(Mainframe!$B:$B,C107+1,1))","v":""},105,{"$f":"IF($B107=\"\",\"\",UPPER(Mainframe!C106))","v":""},{"$f":"IF(D107=\"\",\"\",IF(NOT(ISNA(VLOOKUP(D107,Answers!A:D,4,FALSE))),VLOOKUP(D107,Answers!A:D,4,FALSE),\"Help!\"))","v":""},null,{"$f":"IF(E107=\"\",\"\",IF(E107=\"XX\",VLOOKUP(\"WRONG\",Answers!A:D,4,FALSE),E107)+F107)","v":""},{"$f":"IF($B107=\"\",\"\",UPPER(Mainframe!D106))","v":""},{"$f":"IF(H107=\"\",\"\",IF(NOT(ISNA(VLOOKUP(H107,Answers!E:H,4,FALSE))),VLOOKUP(H107,Answers!E:H,4,FALSE),\"Help!\"))","v":""},null,{"$f":"IF(I107=\"\",\"\",G107+IF(I107=\"XX\",VLOOKUP(\"WRONG\",Answers!E:H,4,FALSE),I107)+J107)","v":""},{"$f":"IF($B107=\"\",\"\",UPPER(Mainframe!E106))","v":""},{"$f":"IF(L107=\"\",\"\",IF(NOT(ISNA(VLOOKUP(L107,Answers!I:L,4,FALSE))),VLOOKUP(L107,Answers!I:L,4,FALSE),\"Help!\"))","v":""},null,{"$f":"IF(M107=\"\",\"\",K107+IF(M107=\"XX\",VLOOKUP(\"WRONG\",Answers!I:L,4,FALSE),M107)+N107)","v":""},{"$f":"IF($B107=\"\",\"\",UPPER(Mainframe!F106))","v":""},{"$f":"IF(P107=\"\",\"\",IF(NOT(ISNA(VLOOKUP(P107,Answers!M:P,4,FALSE))),VLOOKUP(P107,Answers!M:P,4,FALSE),\"Help!\"))","v":""},null,{"$f":"IF(Q107=\"\",\"\",O107+IF(Q107=\"XX\",VLOOKUP(\"WRONG\",Answers!M:P,4,FALSE),Q107)+R107)","v":""},{"$f":"IF($B107=\"\",\"\",UPPER(Mainframe!G106))","v":""},{"$f":"IF(T107=\"\",\"\",IF(NOT(ISNA(VLOOKUP(T107,Answers!Q:T,4,FALSE))),VLOOKUP(T107,Answers!Q:T,4,FALSE),\"Help!\"))","v":""},null,{"$f":"IF(U107=\"\",\"\",S107+IF(U107=\"XX\",VLOOKUP(\"WRONG\",Answers!Q:T,4,FALSE),U107)+V107)","v":""},{"$f":"IF($B107=\"\",\"\",UPPER(Mainframe!H106))","v":""},{"$f":"IF(X107=\"\",\"\",IF(NOT(ISNA(VLOOKUP(X107,Answers!U:X,4,FALSE))),VLOOKUP(X107,Answers!U:X,4,FALSE),\"Help!\"))","v":""},null,{"$f":"IF(Y107=\"\",\"\",W107+IF(Y107=\"XX\",VLOOKUP(\"WRONG\",Answers!U:X,4,FALSE),Y107)+Z107)","v":""},{"$f":"IF($B107=\"\",\"\",UPPER(Mainframe!I106))","v":""},{"$f":"IF(AB107=\"\",\"\",IF(NOT(ISNA(VLOOKUP(AB107,Answers!Y:AB,4,FALSE))),VLOOKUP(AB107,Answers!Y:AB,4,FALSE),\"Help!\"))","v":""},null,{"$f":"IF(AC107=\"\",\"\",AA107+IF(AC107=\"XX\",VLOOKUP(\"WRONG\",Answers!Y:AB,4,FALSE),AC107)+AD107)","v":""},{"$f":"IF($B107=\"\",\"\",UPPER(Mainframe!J106))","v":""},{"$f":"IF(AF107=\"\",\"\",IF(NOT(ISNA(VLOOKUP(AF107,Answers!AC:AF,4,FALSE))),VLOOKUP(AF107,Answers!AC:AF,4,FALSE),\"Help!\"))","v":""},null,{"$f":"IF(AG107=\"\",\"\",AE107+IF(AG107=\"XX\",VLOOKUP(\"WRONG\",Answers!AC:AF,4,FALSE),AG107)+AH107)","v":""},{"$f":"IF($B107=\"\",\"\",UPPER(Mainframe!K106))","v":""},{"$f":"IF(AJ107=\"\",\"\",IF(NOT(ISNA(VLOOKUP(AJ107,Answers!AG:AJ,4,FALSE))),VLOOKUP(AJ107,Answers!AG:AJ,4,FALSE),\"Help!\"))","v":""},null,{"$f":"IF(AK107=\"\",\"\",AI107+IF(AK107=\"XX\",VLOOKUP(\"WRONG\",Answers!AG:AJ,4,FALSE),AK107)+AL107)","v":""},{"$f":"IF($B107=\"\",\"\",UPPER(Mainframe!L106))","v":""},{"$f":"IF(AN107=\"\",\"\",IF(NOT(ISNA(VLOOKUP(AN107,Answers!AK:AN,4,FALSE))),VLOOKUP(AN107,Answers!AK:AN,4,FALSE),\"Help!\"))","v":""},null,{"$f":"IF(AO107=\"\",\"\",AM107+IF(AO107=\"XX\",VLOOKUP(\"WRONG\",Answers!AK:AN,4,FALSE),AO107)+AP107)","v":""},{"$f":"IF($B107=\"\",\"\",UPPER(Mainframe!M106))","v":""},{"$f":"IF(AR107=\"\",\"\",IF(NOT(ISNA(VLOOKUP(AR107,Answers!AO:AR,4,FALSE))),VLOOKUP(AR107,Answers!AO:AR,4,FALSE),\"Help!\"))","v":""},null,{"$f":"IF(AS107=\"\",\"\",AQ107+IF(AS107=\"XX\",VLOOKUP(\"WRONG\",Answers!AO:AR,4,FALSE),AS107)+AT107)","v":""},{"$f":"IF($B107=\"\",\"\",UPPER(Mainframe!N106))","v":""},{"$f":"IF(AV107=\"\",\"\",IF(NOT(ISNA(VLOOKUP(AV107,Answers!AS:AV,4,FALSE))),VLOOKUP(AV107,Answers!AS:AV,4,FALSE),\"Help!\"))","v":""},null,{"$f":"IF(AW107=\"\",\"\",AU107+IF(AW107=\"XX\",VLOOKUP(\"WRONG\",Answers!AS:AV,4,FALSE),AW107)+AX107)","v":""},{"$f":"IF($B107=\"\",\"\",UPPER(Mainframe!O106))","v":""},{"$f":"IF(AZ107=\"\",\"\",IF(NOT(ISNA(VLOOKUP(AZ107,Answers!AW:AZ,4,FALSE))),VLOOKUP(AZ107,Answers!AW:AZ,4,FALSE),\"Help!\"))","v":""},null,{"$f":"IF(BA107=\"\",\"\",AY107+IF(BA107=\"XX\",VLOOKUP(\"WRONG\",Answers!AW:AZ,4,FALSE),BA107)+BB107)","v":""},{"$f":"IF($B107=\"\",\"\",UPPER(Mainframe!P106))","v":""},{"$f":"IF(BD107=\"\",\"\",IF(NOT(ISNA(VLOOKUP(BD107,Answers!BA:BD,4,FALSE))),VLOOKUP(BD107,Answers!BA:BD,4,FALSE),\"Help!\"))","v":""},null,{"$f":"IF(BE107=\"\",\"\",BC107+IF(BE107=\"XX\",VLOOKUP(\"WRONG\",Answers!BA:BD,4,FALSE),BE107)+BF107)","v":""},{"$f":"IF($B107=\"\",\"\",UPPER(Mainframe!Q106))","v":""},{"$f":"IF(BH107=\"\",\"\",IF(NOT(ISNA(VLOOKUP(BH107,Answers!BE:BH,4,FALSE))),VLOOKUP(BH107,Answers!BE:BH,4,FALSE),\"Help!\"))","v":""},null,{"$f":"IF(BI107=\"\",\"\",BG107+IF(BI107=\"XX\",VLOOKUP(\"WRONG\",Answers!BE:BH,4,FALSE),BI107)+BJ107)","v":""},{"$f":"IF($B107=\"\",\"\",UPPER(Mainframe!R106))","v":""},{"$f":"IF(BL107=\"\",\"\",IF(NOT(ISNA(VLOOKUP(BL107,Answers!BI:BL,4,FALSE))),VLOOKUP(BL107,Answers!BI:BL,4,FALSE),\"Help!\"))","v":""},null,{"$f":"IF(BM107=\"\",\"\",BK107+IF(BM107=\"XX\",VLOOKUP(\"WRONG\",Answers!BI:BL,4,FALSE),BM107)+BN107)","v":""},{"$f":"IF($B107=\"\",\"\",UPPER(Mainframe!S106))","v":""},{"$f":"IF(BP107=\"\",\"\",IF(NOT(ISNA(VLOOKUP(BP107,Answers!BM:BP,4,FALSE))),VLOOKUP(BP107,Answers!BM:BP,4,FALSE),\"Help!\"))","v":""},null,{"$f":"IF(BQ107=\"\",\"\",BO107+IF(BQ107=\"XX\",VLOOKUP(\"WRONG\",Answers!BM:BP,4,FALSE),BQ107)+BR107)","v":""},{"$f":"IF($B107=\"\",\"\",UPPER(Mainframe!T106))","v":""},{"$f":"IF(BT107=\"\",\"\",IF(NOT(ISNA(VLOOKUP(BT107,Answers!BQ:BT,4,FALSE))),VLOOKUP(BT107,Answers!BQ:BT,4,FALSE),\"Help!\"))","v":""},null,{"$f":"IF(BU107=\"\",\"\",BS107+IF(BU107=\"XX\",VLOOKUP(\"WRONG\",Answers!BQ:BT,4,FALSE),BU107)+BV107)","v":""},{"$f":"IF($B107=\"\",\"\",UPPER(Mainframe!U106))","v":""},{"$f":"IF(BX107=\"\",\"\",IF(NOT(ISNA(VLOOKUP(BX107,Answers!BU:BX,4,FALSE))),VLOOKUP(BX107,Answers!BU:BX,4,FALSE),\"Help!\"))","v":""},null,{"$f":"IF(BY107=\"\",\"\",BW107+IF(BY107=\"XX\",VLOOKUP(\"WRONG\",Answers!BU:BX,4,FALSE),BY107)+BZ107)","v":""},{"$f":"IF($B107=\"\",\"\",UPPER(Mainframe!V106))","v":""},{"$f":"IF(CB107=\"\",\"\",IF(NOT(ISNA(VLOOKUP(CB107,Answers!BY:CB,4,FALSE))),VLOOKUP(CB107,Answers!BY:CB,4,FALSE),\"Help!\"))","v":""},null,{"$f":"IF(CC107=\"\",\"\",CA107+IF(CC107=\"XX\",VLOOKUP(\"WRONG\",Answers!BY:CB,4,FALSE),CC107)+CD107)","v":""},null,null,1,{"$f":"IF(INDEX($B:$CE,ROW(),QNO*4-1)=DROPNAME,DROPNAME,IF(INDEX($B:$CE,ROW(),QNO*4-1)=SHEEPNAME,SHEEPNAME,IF(INDEX($B:$CE,ROW(),QNO*4)=\"XX\",INDEX($B:$CE,ROW(),QNO*4-1),INDEX(OFFSET(Answers!B:B,0,(QNO-1)*4),MATCH(INDEX($A:$CB,ROW(),QNO*4),OFFSET(Answers!A:A,0,(QNO-1)*4),0))&\" — \"&IF(INDEX($B:$CE,ROW(),QNO*4)=1,\"[b]Singleton![/b]\",CONCATENATE(INDEX($B:$CE,ROW(),QNO*4),\" responses\")))))","v":{"$error":"#N/A"}},"////////////////////////////////////////////////","No",{"$f":"IF(B107=0,\"\",CONCATENATE(INDEX($CH:$CL,ROW(),1),\". \",INDEX($B:$CE,ROW(),1),\" — [b]\")&IF(QNO=1,CONCATENATE(INDEX($B:$CE,ROW(),QNO*4+2),\"[/b] pts\"),CONCATENATE(INDEX($B:$CE,ROW(),QNO*4-2),\" + \",IF(INDEX($B:$CE,ROW(),QNO*4)=\"XX\",INDEX(Answers!$A:$ZZ,2,QNO*4),INDEX($B:$CE,ROW(),QNO*4)),\" = \",INDEX($B:$CE,ROW(),QNO*4+2),\"[/b] pts \",IF(INDEX($C:$CE,ROW(),QNO*4)>0,\"(penalty: +\"&INDEX($C:$CE,ROW(),QNO*4)&\") \",IF(INDEX($C:$CE,ROW(),QNO*4)<0,\"(bonus: \"&INDEX($C:$CE,ROW(),QNO*4)&\") \",\"\"))&\"[[b]\"&IF(CN107>0,\"[color=#00BF00]↑\"&CN107,IF(CN107<0,\"[color=#FF0000]↓\"&ABS(CN107),\"[color=#0000FF]unch\"))&\"[/b][/color]]\")))","v":"1.  — [b][/b] pts"},1,0]
["[*]",{"$f":"IF(Mainframe!B107=\"\",\"\",INDEX(Mainframe!$B:$B,C108+1,1))","v":""},106,{"$f":"IF($B108=\"\",\"\",UPPER(Mainframe!C107))","v":""},{"$f":"IF(D108=\"\",\"\",IF(NOT(ISNA(VLOOKUP(D108,Answers!A:D,4,FALSE))),VLOOKUP(D108,Answers!A:D,4,FALSE),\"Help!\"))","v":""},null,{"$f":"IF(E108=\"\",\"\",IF(E108=\"XX\",VLOOKUP(\"WRONG\",Answers!A:D,4,FALSE),E108)+F108)","v":""},{"$f":"IF($B108=\"\",\"\",UPPER(Mainframe!D107))","v":""},{"$f":"IF(H108=\"\",\"\",IF(NOT(ISNA(VLOOKUP(H108,Answers!E:H,4,FALSE))),VLOOKUP(H108,Answers!E:H,4,FALSE),\"Help!\"))","v":""},null,{"$f":"IF(I108=\"\",\"\",G108+IF(I108=\"XX\",VLOOKUP(\"WRONG\",Answers!E:H,4,FALSE),I108)+J108)","v":""},{"$f":"IF($B108=\"\",\"\",UPPER(Mainframe!E107))","v":""},{"$f":"IF(L108=\"\",\"\",IF(NOT(ISNA(VLOOKUP(L108,Answers!I:L,4,FALSE))),VLOOKUP(L108,Answers!I:L,4,FALSE),\"Help!\"))","v":""},null,{"$f":"IF(M108=\"\",\"\",K108+IF(M108=\"XX\",VLOOKUP(\"WRONG\",Answers!I:L,4,FALSE),M108)+N108)","v":""},{"$f":"IF($B108=\"\",\"\",UPPER(Mainframe!F107))","v":""},{"$f":"IF(P108=\"\",\"\",IF(NOT(ISNA(VLOOKUP(P108,Answers!M:P,4,FALSE))),VLOOKUP(P108,Answers!M:P,4,FALSE),\"Help!\"))","v":""},null,{"$f":"IF(Q108=\"\",\"\",O108+IF(Q108=\"XX\",VLOOKUP(\"WRONG\",Answers!M:P,4,FALSE),Q108)+R108)","v":""},{"$f":"IF($B108=\"\",\"\",UPPER(Mainframe!G107))","v":""},{"$f":"IF(T108=\"\",\"\",IF(NOT(ISNA(VLOOKUP(T108,Answers!Q:T,4,FALSE))),VLOOKUP(T108,Answers!Q:T,4,FALSE),\"Help!\"))","v":""},null,{"$f":"IF(U108=\"\",\"\",S108+IF(U108=\"XX\",VLOOKUP(\"WRONG\",Answers!Q:T,4,FALSE),U108)+V108)","v":""},{"$f":"IF($B108=\"\",\"\",UPPER(Mainframe!H107))","v":""},{"$f":"IF(X108=\"\",\"\",IF(NOT(ISNA(VLOOKUP(X108,Answers!U:X,4,FALSE))),VLOOKUP(X108,Answers!U:X,4,FALSE),\"Help!\"))","v":""},null,{"$f":"IF(Y108=\"\",\"\",W108+IF(Y108=\"XX\",VLOOKUP(\"WRONG\",Answers!U:X,4,FALSE),Y108)+Z108)","v":""},{"$f":"IF($B108=\"\",\"\",UPPER(Mainframe!I107))","v":""},{"$f":"IF(AB108=\"\",\"\",IF(NOT(ISNA(VLOOKUP(AB108,Answers!Y:AB,4,FALSE))),VLOOKUP(AB108,Answers!Y:AB,4,FALSE),\"Help!\"))","v":""},null,{"$f":"IF(AC108=\"\",\"\",AA108+IF(AC108=\"XX\",VLOOKUP(\"WRONG\",Answers!Y:AB,4,FALSE),AC108)+AD108)","v":""},{"$f":"IF($B108=\"\",\"\",UPPER(Mainframe!J107))","v":""},{"$f":"IF(AF108=\"\",\"\",IF(NOT(ISNA(VLOOKUP(AF108,Answers!AC:AF,4,FALSE))),VLOOKUP(AF108,Answers!AC:AF,4,FALSE),\"Help!\"))","v":""},null,{"$f":"IF(AG108=\"\",\"\",AE108+IF(AG108=\"XX\",VLOOKUP(\"WRONG\",Answers!AC:AF,4,FALSE),AG108)+AH108)","v":""},{"$f":"IF($B108=\"\",\"\",UPPER(Mainframe!K107))","v":""},{"$f":"IF(AJ108=\"\",\"\",IF(NOT(ISNA(VLOOKUP(AJ108,Answers!AG:AJ,4,FALSE))),VLOOKUP(AJ108,Answers!AG:AJ,4,FALSE),\"Help!\"))","v":""},null,{"$f":"IF(AK108=\"\",\"\",AI108+IF(AK108=\"XX\",VLOOKUP(\"WRONG\",Answers!AG:AJ,4,FALSE),AK108)+AL108)","v":""},{"$f":"IF($B108=\"\",\"\",UPPER(Mainframe!L107))","v":""},{"$f":"IF(AN108=\"\",\"\",IF(NOT(ISNA(VLOOKUP(AN108,Answers!AK:AN,4,FALSE))),VLOOKUP(AN108,Answers!AK:AN,4,FALSE),\"Help!\"))","v":""},null,{"$f":"IF(AO108=\"\",\"\",AM108+IF(AO108=\"XX\",VLOOKUP(\"WRONG\",Answers!AK:AN,4,FALSE),AO108)+AP108)","v":""},{"$f":"IF($B108=\"\",\"\",UPPER(Mainframe!M107))","v":""},{"$f":"IF(AR108=\"\",\"\",IF(NOT(ISNA(VLOOKUP(AR108,Answers!AO:AR,4,FALSE))),VLOOKUP(AR108,Answers!AO:AR,4,FALSE),\"Help!\"))","v":""},null,{"$f":"IF(AS108=\"\",\"\",AQ108+IF(AS108=\"XX\",VLOOKUP(\"WRONG\",Answers!AO:AR,4,FALSE),AS108)+AT108)","v":""},{"$f":"IF($B108=\"\",\"\",UPPER(Mainframe!N107))","v":""},{"$f":"IF(AV108=\"\",\"\",IF(NOT(ISNA(VLOOKUP(AV108,Answers!AS:AV,4,FALSE))),VLOOKUP(AV108,Answers!AS:AV,4,FALSE),\"Help!\"))","v":""},null,{"$f":"IF(AW108=\"\",\"\",AU108+IF(AW108=\"XX\",VLOOKUP(\"WRONG\",Answers!AS:AV,4,FALSE),AW108)+AX108)","v":""},{"$f":"IF($B108=\"\",\"\",UPPER(Mainframe!O107))","v":""},{"$f":"IF(AZ108=\"\",\"\",IF(NOT(ISNA(VLOOKUP(AZ108,Answers!AW:AZ,4,FALSE))),VLOOKUP(AZ108,Answers!AW:AZ,4,FALSE),\"Help!\"))","v":""},null,{"$f":"IF(BA108=\"\",\"\",AY108+IF(BA108=\"XX\",VLOOKUP(\"WRONG\",Answers!AW:AZ,4,FALSE),BA108)+BB108)","v":""},{"$f":"IF($B108=\"\",\"\",UPPER(Mainframe!P107))","v":""},{"$f":"IF(BD108=\"\",\"\",IF(NOT(ISNA(VLOOKUP(BD108,Answers!BA:BD,4,FALSE))),VLOOKUP(BD108,Answers!BA:BD,4,FALSE),\"Help!\"))","v":""},null,{"$f":"IF(BE108=\"\",\"\",BC108+IF(BE108=\"XX\",VLOOKUP(\"WRONG\",Answers!BA:BD,4,FALSE),BE108)+BF108)","v":""},{"$f":"IF($B108=\"\",\"\",UPPER(Mainframe!Q107))","v":""},{"$f":"IF(BH108=\"\",\"\",IF(NOT(ISNA(VLOOKUP(BH108,Answers!BE:BH,4,FALSE))),VLOOKUP(BH108,Answers!BE:BH,4,FALSE),\"Help!\"))","v":""},null,{"$f":"IF(BI108=\"\",\"\",BG108+IF(BI108=\"XX\",VLOOKUP(\"WRONG\",Answers!BE:BH,4,FALSE),BI108)+BJ108)","v":""},{"$f":"IF($B108=\"\",\"\",UPPER(Mainframe!R107))","v":""},{"$f":"IF(BL108=\"\",\"\",IF(NOT(ISNA(VLOOKUP(BL108,Answers!BI:BL,4,FALSE))),VLOOKUP(BL108,Answers!BI:BL,4,FALSE),\"Help!\"))","v":""},null,{"$f":"IF(BM108=\"\",\"\",BK108+IF(BM108=\"XX\",VLOOKUP(\"WRONG\",Answers!BI:BL,4,FALSE),BM108)+BN108)","v":""},{"$f":"IF($B108=\"\",\"\",UPPER(Mainframe!S107))","v":""},{"$f":"IF(BP108=\"\",\"\",IF(NOT(ISNA(VLOOKUP(BP108,Answers!BM:BP,4,FALSE))),VLOOKUP(BP108,Answers!BM:BP,4,FALSE),\"Help!\"))","v":""},null,{"$f":"IF(BQ108=\"\",\"\",BO108+IF(BQ108=\"XX\",VLOOKUP(\"WRONG\",Answers!BM:BP,4,FALSE),BQ108)+BR108)","v":""},{"$f":"IF($B108=\"\",\"\",UPPER(Mainframe!T107))","v":""},{"$f":"IF(BT108=\"\",\"\",IF(NOT(ISNA(VLOOKUP(BT108,Answers!BQ:BT,4,FALSE))),VLOOKUP(BT108,Answers!BQ:BT,4,FALSE),\"Help!\"))","v":""},null,{"$f":"IF(BU108=\"\",\"\",BS108+IF(BU108=\"XX\",VLOOKUP(\"WRONG\",Answers!BQ:BT,4,FALSE),BU108)+BV108)","v":""},{"$f":"IF($B108=\"\",\"\",UPPER(Mainframe!U107))","v":""},{"$f":"IF(BX108=\"\",\"\",IF(NOT(ISNA(VLOOKUP(BX108,Answers!BU:BX,4,FALSE))),VLOOKUP(BX108,Answers!BU:BX,4,FALSE),\"Help!\"))","v":""},null,{"$f":"IF(BY108=\"\",\"\",BW108+IF(BY108=\"XX\",VLOOKUP(\"WRONG\",Answers!BU:BX,4,FALSE),BY108)+BZ108)","v":""},{"$f":"IF($B108=\"\",\"\",UPPER(Mainframe!V107))","v":""},{"$f":"IF(CB108=\"\",\"\",IF(NOT(ISNA(VLOOKUP(CB108,Answers!BY:CB,4,FALSE))),VLOOKUP(CB108,Answers!BY:CB,4,FALSE),\"Help!\"))","v":""},null,{"$f":"IF(CC108=\"\",\"\",CA108+IF(CC108=\"XX\",VLOOKUP(\"WRONG\",Answers!BY:CB,4,FALSE),CC108)+CD108)","v":""},null,null,1,{"$f":"IF(INDEX($B:$CE,ROW(),QNO*4-1)=DROPNAME,DROPNAME,IF(INDEX($B:$CE,ROW(),QNO*4-1)=SHEEPNAME,SHEEPNAME,IF(INDEX($B:$CE,ROW(),QNO*4)=\"XX\",INDEX($B:$CE,ROW(),QNO*4-1),INDEX(OFFSET(Answers!B:B,0,(QNO-1)*4),MATCH(INDEX($A:$CB,ROW(),QNO*4),OFFSET(Answers!A:A,0,(QNO-1)*4),0))&\" — \"&IF(INDEX($B:$CE,ROW(),QNO*4)=1,\"[b]Singleton![/b]\",CONCATENATE(INDEX($B:$CE,ROW(),QNO*4),\" responses\")))))","v":{"$error":"#N/A"}},"//////////////////////////////////////////////","No",{"$f":"IF(B108=0,\"\",CONCATENATE(INDEX($CH:$CL,ROW(),1),\". \",INDEX($B:$CE,ROW(),1),\" — [b]\")&IF(QNO=1,CONCATENATE(INDEX($B:$CE,ROW(),QNO*4+2),\"[/b] pts\"),CONCATENATE(INDEX($B:$CE,ROW(),QNO*4-2),\" + \",IF(INDEX($B:$CE,ROW(),QNO*4)=\"XX\",INDEX(Answers!$A:$ZZ,2,QNO*4),INDEX($B:$CE,ROW(),QNO*4)),\" = \",INDEX($B:$CE,ROW(),QNO*4+2),\"[/b] pts \",IF(INDEX($C:$CE,ROW(),QNO*4)>0,\"(penalty: +\"&INDEX($C:$CE,ROW(),QNO*4)&\") \",IF(INDEX($C:$CE,ROW(),QNO*4)<0,\"(bonus: \"&INDEX($C:$CE,ROW(),QNO*4)&\") \",\"\"))&\"[[b]\"&IF(CN108>0,\"[color=#00BF00]↑\"&CN108,IF(CN108<0,\"[color=#FF0000]↓\"&ABS(CN108),\"[color=#0000FF]unch\"))&\"[/b][/color]]\")))","v":"1.  — [b][/b] pts"},1,0]
["[*]",{"$f":"IF(Mainframe!B108=\"\",\"\",INDEX(Mainframe!$B:$B,C109+1,1))","v":""},107,{"$f":"IF($B109=\"\",\"\",UPPER(Mainframe!C108))","v":""},{"$f":"IF(D109=\"\",\"\",IF(NOT(ISNA(VLOOKUP(D109,Answers!A:D,4,FALSE))),VLOOKUP(D109,Answers!A:D,4,FALSE),\"Help!\"))","v":""},null,{"$f":"IF(E109=\"\",\"\",IF(E109=\"XX\",VLOOKUP(\"WRONG\",Answers!A:D,4,FALSE),E109)+F109)","v":""},{"$f":"IF($B109=\"\",\"\",UPPER(Mainframe!D108))","v":""},{"$f":"IF(H109=\"\",\"\",IF(NOT(ISNA(VLOOKUP(H109,Answers!E:H,4,FALSE))),VLOOKUP(H109,Answers!E:H,4,FALSE),\"Help!\"))","v":""},null,{"$f":"IF(I109=\"\",\"\",G109+IF(I109=\"XX\",VLOOKUP(\"WRONG\",Answers!E:H,4,FALSE),I109)+J109)","v":""},{"$f":"IF($B109=\"\",\"\",UPPER(Mainframe!E108))","v":""},{"$f":"IF(L109=\"\",\"\",IF(NOT(ISNA(VLOOKUP(L109,Answers!I:L,4,FALSE))),VLOOKUP(L109,Answers!I:L,4,FALSE),\"Help!\"))","v":""},null,{"$f":"IF(M109=\"\",\"\",K109+IF(M109=\"XX\",VLOOKUP(\"WRONG\",Answers!I:L,4,FALSE),M109)+N109)","v":""},{"$f":"IF($B109=\"\",\"\",UPPER(Mainframe!F108))","v":""},{"$f":"IF(P109=\"\",\"\",IF(NOT(ISNA(VLOOKUP(P109,Answers!M:P,4,FALSE))),VLOOKUP(P109,Answers!M:P,4,FALSE),\"Help!\"))","v":""},null,{"$f":"IF(Q109=\"\",\"\",O109+IF(Q109=\"XX\",VLOOKUP(\"WRONG\",Answers!M:P,4,FALSE),Q109)+R109)","v":""},{"$f":"IF($B109=\"\",\"\",UPPER(Mainframe!G108))","v":""},{"$f":"IF(T109=\"\",\"\",IF(NOT(ISNA(VLOOKUP(T109,Answers!Q:T,4,FALSE))),VLOOKUP(T109,Answers!Q:T,4,FALSE),\"Help!\"))","v":""},null,{"$f":"IF(U109=\"\",\"\",S109+IF(U109=\"XX\",VLOOKUP(\"WRONG\",Answers!Q:T,4,FALSE),U109)+V109)","v":""},{"$f":"IF($B109=\"\",\"\",UPPER(Mainframe!H108))","v":""},{"$f":"IF(X109=\"\",\"\",IF(NOT(ISNA(VLOOKUP(X109,Answers!U:X,4,FALSE))),VLOOKUP(X109,Answers!U:X,4,FALSE),\"Help!\"))","v":""},null,{"$f":"IF(Y109=\"\",\"\",W109+IF(Y109=\"XX\",VLOOKUP(\"WRONG\",Answers!U:X,4,FALSE),Y109)+Z109)","v":""},{"$f":"IF($B109=\"\",\"\",UPPER(Mainframe!I108))","v":""},{"$f":"IF(AB109=\"\",\"\",IF(NOT(ISNA(VLOOKUP(AB109,Answers!Y:AB,4,FALSE))),VLOOKUP(AB109,Answers!Y:AB,4,FALSE),\"Help!\"))","v":""},null,{"$f":"IF(AC109=\"\",\"\",AA109+IF(AC109=\"XX\",VLOOKUP(\"WRONG\",Answers!Y:AB,4,FALSE),AC109)+AD109)","v":""},{"$f":"IF($B109=\"\",\"\",UPPER(Mainframe!J108))","v":""},{"$f":"IF(AF109=\"\",\"\",IF(NOT(ISNA(VLOOKUP(AF109,Answers!AC:AF,4,FALSE))),VLOOKUP(AF109,Answers!AC:AF,4,FALSE),\"Help!\"))","v":""},null,{"$f":"IF(AG109=\"\",\"\",AE109+IF(AG109=\"XX\",VLOOKUP(\"WRONG\",Answers!AC:AF,4,FALSE),AG109)+AH109)","v":""},{"$f":"IF($B109=\"\",\"\",UPPER(Mainframe!K108))","v":""},{"$f":"IF(AJ109=\"\",\"\",IF(NOT(ISNA(VLOOKUP(AJ109,Answers!AG:AJ,4,FALSE))),VLOOKUP(AJ109,Answers!AG:AJ,4,FALSE),\"Help!\"))","v":""},null,{"$f":"IF(AK109=\"\",\"\",AI109+IF(AK109=\"XX\",VLOOKUP(\"WRONG\",Answers!AG:AJ,4,FALSE),AK109)+AL109)","v":""},{"$f":"IF($B109=\"\",\"\",UPPER(Mainframe!L108))","v":""},{"$f":"IF(AN109=\"\",\"\",IF(NOT(ISNA(VLOOKUP(AN109,Answers!AK:AN,4,FALSE))),VLOOKUP(AN109,Answers!AK:AN,4,FALSE),\"Help!\"))","v":""},null,{"$f":"IF(AO109=\"\",\"\",AM109+IF(AO109=\"XX\",VLOOKUP(\"WRONG\",Answers!AK:AN,4,FALSE),AO109)+AP109)","v":""},{"$f":"IF($B109=\"\",\"\",UPPER(Mainframe!M108))","v":""},{"$f":"IF(AR109=\"\",\"\",IF(NOT(ISNA(VLOOKUP(AR109,Answers!AO:AR,4,FALSE))),VLOOKUP(AR109,Answers!AO:AR,4,FALSE),\"Help!\"))","v":""},null,{"$f":"IF(AS109=\"\",\"\",AQ109+IF(AS109=\"XX\",VLOOKUP(\"WRONG\",Answers!AO:AR,4,FALSE),AS109)+AT109)","v":""},{"$f":"IF($B109=\"\",\"\",UPPER(Mainframe!N108))","v":""},{"$f":"IF(AV109=\"\",\"\",IF(NOT(ISNA(VLOOKUP(AV109,Answers!AS:AV,4,FALSE))),VLOOKUP(AV109,Answers!AS:AV,4,FALSE),\"Help!\"))","v":""},null,{"$f":"IF(AW109=\"\",\"\",AU109+IF(AW109=\"XX\",VLOOKUP(\"WRONG\",Answers!AS:AV,4,FALSE),AW109)+AX109)","v":""},{"$f":"IF($B109=\"\",\"\",UPPER(Mainframe!O108))","v":""},{"$f":"IF(AZ109=\"\",\"\",IF(NOT(ISNA(VLOOKUP(AZ109,Answers!AW:AZ,4,FALSE))),VLOOKUP(AZ109,Answers!AW:AZ,4,FALSE),\"Help!\"))","v":""},null,{"$f":"IF(BA109=\"\",\"\",AY109+IF(BA109=\"XX\",VLOOKUP(\"WRONG\",Answers!AW:AZ,4,FALSE),BA109)+BB109)","v":""},{"$f":"IF($B109=\"\",\"\",UPPER(Mainframe!P108))","v":""},{"$f":"IF(BD109=\"\",\"\",IF(NOT(ISNA(VLOOKUP(BD109,Answers!BA:BD,4,FALSE))),VLOOKUP(BD109,Answers!BA:BD,4,FALSE),\"Help!\"))","v":""},null,{"$f":"IF(BE109=\"\",\"\",BC109+IF(BE109=\"XX\",VLOOKUP(\"WRONG\",Answers!BA:BD,4,FALSE),BE109)+BF109)","v":""},{"$f":"IF($B109=\"\",\"\",UPPER(Mainframe!Q108))","v":""},{"$f":"IF(BH109=\"\",\"\",IF(NOT(ISNA(VLOOKUP(BH109,Answers!BE:BH,4,FALSE))),VLOOKUP(BH109,Answers!BE:BH,4,FALSE),\"Help!\"))","v":""},null,{"$f":"IF(BI109=\"\",\"\",BG109+IF(BI109=\"XX\",VLOOKUP(\"WRONG\",Answers!BE:BH,4,FALSE),BI109)+BJ109)","v":""},{"$f":"IF($B109=\"\",\"\",UPPER(Mainframe!R108))","v":""},{"$f":"IF(BL109=\"\",\"\",IF(NOT(ISNA(VLOOKUP(BL109,Answers!BI:BL,4,FALSE))),VLOOKUP(BL109,Answers!BI:BL,4,FALSE),\"Help!\"))","v":""},null,{"$f":"IF(BM109=\"\",\"\",BK109+IF(BM109=\"XX\",VLOOKUP(\"WRONG\",Answers!BI:BL,4,FALSE),BM109)+BN109)","v":""},{"$f":"IF($B109=\"\",\"\",UPPER(Mainframe!S108))","v":""},{"$f":"IF(BP109=\"\",\"\",IF(NOT(ISNA(VLOOKUP(BP109,Answers!BM:BP,4,FALSE))),VLOOKUP(BP109,Answers!BM:BP,4,FALSE),\"Help!\"))","v":""},null,{"$f":"IF(BQ109=\"\",\"\",BO109+IF(BQ109=\"XX\",VLOOKUP(\"WRONG\",Answers!BM:BP,4,FALSE),BQ109)+BR109)","v":""},{"$f":"IF($B109=\"\",\"\",UPPER(Mainframe!T108))","v":""},{"$f":"IF(BT109=\"\",\"\",IF(NOT(ISNA(VLOOKUP(BT109,Answers!BQ:BT,4,FALSE))),VLOOKUP(BT109,Answers!BQ:BT,4,FALSE),\"Help!\"))","v":""},null,{"$f":"IF(BU109=\"\",\"\",BS109+IF(BU109=\"XX\",VLOOKUP(\"WRONG\",Answers!BQ:BT,4,FALSE),BU109)+BV109)","v":""},{"$f":"IF($B109=\"\",\"\",UPPER(Mainframe!U108))","v":""},{"$f":"IF(BX109=\"\",\"\",IF(NOT(ISNA(VLOOKUP(BX109,Answers!BU:BX,4,FALSE))),VLOOKUP(BX109,Answers!BU:BX,4,FALSE),\"Help!\"))","v":""},null,{"$f":"IF(BY109=\"\",\"\",BW109+IF(BY109=\"XX\",VLOOKUP(\"WRONG\",Answers!BU:BX,4,FALSE),BY109)+BZ109)","v":""},{"$f":"IF($B109=\"\",\"\",UPPER(Mainframe!V108))","v":""},{"$f":"IF(CB109=\"\",\"\",IF(NOT(ISNA(VLOOKUP(CB109,Answers!BY:CB,4,FALSE))),VLOOKUP(CB109,Answers!BY:CB,4,FALSE),\"Help!\"))","v":""},null,{"$f":"IF(CC109=\"\",\"\",CA109+IF(CC109=\"XX\",VLOOKUP(\"WRONG\",Answers!BY:CB,4,FALSE),CC109)+CD109)","v":""},null,null,1,{"$f":"IF(INDEX($B:$CE,ROW(),QNO*4-1)=DROPNAME,DROPNAME,IF(INDEX($B:$CE,ROW(),QNO*4-1)=SHEEPNAME,SHEEPNAME,IF(INDEX($B:$CE,ROW(),QNO*4)=\"XX\",INDEX($B:$CE,ROW(),QNO*4-1),INDEX(OFFSET(Answers!B:B,0,(QNO-1)*4),MATCH(INDEX($A:$CB,ROW(),QNO*4),OFFSET(Answers!A:A,0,(QNO-1)*4),0))&\" — \"&IF(INDEX($B:$CE,ROW(),QNO*4)=1,\"[b]Singleton![/b]\",CONCATENATE(INDEX($B:$CE,ROW(),QNO*4),\" responses\")))))","v":{"$error":"#N/A"}},"////////////////////////////////////////////","No",{"$f":"IF(B109=0,\"\",CONCATENATE(INDEX($CH:$CL,ROW(),1),\". \",INDEX($B:$CE,ROW(),1),\" — [b]\")&IF(QNO=1,CONCATENATE(INDEX($B:$CE,ROW(),QNO*4+2),\"[/b] pts\"),CONCATENATE(INDEX($B:$CE,ROW(),QNO*4-2),\" + \",IF(INDEX($B:$CE,ROW(),QNO*4)=\"XX\",INDEX(Answers!$A:$ZZ,2,QNO*4),INDEX($B:$CE,ROW(),QNO*4)),\" = \",INDEX($B:$CE,ROW(),QNO*4+2),\"[/b] pts \",IF(INDEX($C:$CE,ROW(),QNO*4)>0,\"(penalty: +\"&INDEX($C:$CE,ROW(),QNO*4)&\") \",IF(INDEX($C:$CE,ROW(),QNO*4)<0,\"(bonus: \"&INDEX($C:$CE,ROW(),QNO*4)&\") \",\"\"))&\"[[b]\"&IF(CN109>0,\"[color=#00BF00]↑\"&CN109,IF(CN109<0,\"[color=#FF0000]↓\"&ABS(CN109),\"[color=#0000FF]unch\"))&\"[/b][/color]]\")))","v":"1.  — [b][/b] pts"},1,0]
["[*]",{"$f":"IF(Mainframe!B109=\"\",\"\",INDEX(Mainframe!$B:$B,C110+1,1))","v":""},108,{"$f":"IF($B110=\"\",\"\",UPPER(Mainframe!C109))","v":""},{"$f":"IF(D110=\"\",\"\",IF(NOT(ISNA(VLOOKUP(D110,Answers!A:D,4,FALSE))),VLOOKUP(D110,Answers!A:D,4,FALSE),\"Help!\"))","v":""},null,{"$f":"IF(E110=\"\",\"\",IF(E110=\"XX\",VLOOKUP(\"WRONG\",Answers!A:D,4,FALSE),E110)+F110)","v":""},{"$f":"IF($B110=\"\",\"\",UPPER(Mainframe!D109))","v":""},{"$f":"IF(H110=\"\",\"\",IF(NOT(ISNA(VLOOKUP(H110,Answers!E:H,4,FALSE))),VLOOKUP(H110,Answers!E:H,4,FALSE),\"Help!\"))","v":""},null,{"$f":"IF(I110=\"\",\"\",G110+IF(I110=\"XX\",VLOOKUP(\"WRONG\",Answers!E:H,4,FALSE),I110)+J110)","v":""},{"$f":"IF($B110=\"\",\"\",UPPER(Mainframe!E109))","v":""},{"$f":"IF(L110=\"\",\"\",IF(NOT(ISNA(VLOOKUP(L110,Answers!I:L,4,FALSE))),VLOOKUP(L110,Answers!I:L,4,FALSE),\"Help!\"))","v":""},null,{"$f":"IF(M110=\"\",\"\",K110+IF(M110=\"XX\",VLOOKUP(\"WRONG\",Answers!I:L,4,FALSE),M110)+N110)","v":""},{"$f":"IF($B110=\"\",\"\",UPPER(Mainframe!F109))","v":""},{"$f":"IF(P110=\"\",\"\",IF(NOT(ISNA(VLOOKUP(P110,Answers!M:P,4,FALSE))),VLOOKUP(P110,Answers!M:P,4,FALSE),\"Help!\"))","v":""},null,{"$f":"IF(Q110=\"\",\"\",O110+IF(Q110=\"XX\",VLOOKUP(\"WRONG\",Answers!M:P,4,FALSE),Q110)+R110)","v":""},{"$f":"IF($B110=\"\",\"\",UPPER(Mainframe!G109))","v":""},{"$f":"IF(T110=\"\",\"\",IF(NOT(ISNA(VLOOKUP(T110,Answers!Q:T,4,FALSE))),VLOOKUP(T110,Answers!Q:T,4,FALSE),\"Help!\"))","v":""},null,{"$f":"IF(U110=\"\",\"\",S110+IF(U110=\"XX\",VLOOKUP(\"WRONG\",Answers!Q:T,4,FALSE),U110)+V110)","v":""},{"$f":"IF($B110=\"\",\"\",UPPER(Mainframe!H109))","v":""},{"$f":"IF(X110=\"\",\"\",IF(NOT(ISNA(VLOOKUP(X110,Answers!U:X,4,FALSE))),VLOOKUP(X110,Answers!U:X,4,FALSE),\"Help!\"))","v":""},null,{"$f":"IF(Y110=\"\",\"\",W110+IF(Y110=\"XX\",VLOOKUP(\"WRONG\",Answers!U:X,4,FALSE),Y110)+Z110)","v":""},{"$f":"IF($B110=\"\",\"\",UPPER(Mainframe!I109))","v":""},{"$f":"IF(AB110=\"\",\"\",IF(NOT(ISNA(VLOOKUP(AB110,Answers!Y:AB,4,FALSE))),VLOOKUP(AB110,Answers!Y:AB,4,FALSE),\"Help!\"))","v":""},null,{"$f":"IF(AC110=\"\",\"\",AA110+IF(AC110=\"XX\",VLOOKUP(\"WRONG\",Answers!Y:AB,4,FALSE),AC110)+AD110)","v":""},{"$f":"IF($B110=\"\",\"\",UPPER(Mainframe!J109))","v":""},{"$f":"IF(AF110=\"\",\"\",IF(NOT(ISNA(VLOOKUP(AF110,Answers!AC:AF,4,FALSE))),VLOOKUP(AF110,Answers!AC:AF,4,FALSE),\"Help!\"))","v":""},null,{"$f":"IF(AG110=\"\",\"\",AE110+IF(AG110=\"XX\",VLOOKUP(\"WRONG\",Answers!AC:AF,4,FALSE),AG110)+AH110)","v":""},{"$f":"IF($B110=\"\",\"\",UPPER(Mainframe!K109))","v":""},{"$f":"IF(AJ110=\"\",\"\",IF(NOT(ISNA(VLOOKUP(AJ110,Answers!AG:AJ,4,FALSE))),VLOOKUP(AJ110,Answers!AG:AJ,4,FALSE),\"Help!\"))","v":""},null,{"$f":"IF(AK110=\"\",\"\",AI110+IF(AK110=\"XX\",VLOOKUP(\"WRONG\",Answers!AG:AJ,4,FALSE),AK110)+AL110)","v":""},{"$f":"IF($B110=\"\",\"\",UPPER(Mainframe!L109))","v":""},{"$f":"IF(AN110=\"\",\"\",IF(NOT(ISNA(VLOOKUP(AN110,Answers!AK:AN,4,FALSE))),VLOOKUP(AN110,Answers!AK:AN,4,FALSE),\"Help!\"))","v":""},null,{"$f":"IF(AO110=\"\",\"\",AM110+IF(AO110=\"XX\",VLOOKUP(\"WRONG\",Answers!AK:AN,4,FALSE),AO110)+AP110)","v":""},{"$f":"IF($B110=\"\",\"\",UPPER(Mainframe!M109))","v":""},{"$f":"IF(AR110=\"\",\"\",IF(NOT(ISNA(VLOOKUP(AR110,Answers!AO:AR,4,FALSE))),VLOOKUP(AR110,Answers!AO:AR,4,FALSE),\"Help!\"))","v":""},null,{"$f":"IF(AS110=\"\",\"\",AQ110+IF(AS110=\"XX\",VLOOKUP(\"WRONG\",Answers!AO:AR,4,FALSE),AS110)+AT110)","v":""},{"$f":"IF($B110=\"\",\"\",UPPER(Mainframe!N109))","v":""},{"$f":"IF(AV110=\"\",\"\",IF(NOT(ISNA(VLOOKUP(AV110,Answers!AS:AV,4,FALSE))),VLOOKUP(AV110,Answers!AS:AV,4,FALSE),\"Help!\"))","v":""},null,{"$f":"IF(AW110=\"\",\"\",AU110+IF(AW110=\"XX\",VLOOKUP(\"WRONG\",Answers!AS:AV,4,FALSE),AW110)+AX110)","v":""},{"$f":"IF($B110=\"\",\"\",UPPER(Mainframe!O109))","v":""},{"$f":"IF(AZ110=\"\",\"\",IF(NOT(ISNA(VLOOKUP(AZ110,Answers!AW:AZ,4,FALSE))),VLOOKUP(AZ110,Answers!AW:AZ,4,FALSE),\"Help!\"))","v":""},null,{"$f":"IF(BA110=\"\",\"\",AY110+IF(BA110=\"XX\",VLOOKUP(\"WRONG\",Answers!AW:AZ,4,FALSE),BA110)+BB110)","v":""},{"$f":"IF($B110=\"\",\"\",UPPER(Mainframe!P109))","v":""},{"$f":"IF(BD110=\"\",\"\",IF(NOT(ISNA(VLOOKUP(BD110,Answers!BA:BD,4,FALSE))),VLOOKUP(BD110,Answers!BA:BD,4,FALSE),\"Help!\"))","v":""},null,{"$f":"IF(BE110=\"\",\"\",BC110+IF(BE110=\"XX\",VLOOKUP(\"WRONG\",Answers!BA:BD,4,FALSE),BE110)+BF110)","v":""},{"$f":"IF($B110=\"\",\"\",UPPER(Mainframe!Q109))","v":""},{"$f":"IF(BH110=\"\",\"\",IF(NOT(ISNA(VLOOKUP(BH110,Answers!BE:BH,4,FALSE))),VLOOKUP(BH110,Answers!BE:BH,4,FALSE),\"Help!\"))","v":""},null,{"$f":"IF(BI110=\"\",\"\",BG110+IF(BI110=\"XX\",VLOOKUP(\"WRONG\",Answers!BE:BH,4,FALSE),BI110)+BJ110)","v":""},{"$f":"IF($B110=\"\",\"\",UPPER(Mainframe!R109))","v":""},{"$f":"IF(BL110=\"\",\"\",IF(NOT(ISNA(VLOOKUP(BL110,Answers!BI:BL,4,FALSE))),VLOOKUP(BL110,Answers!BI:BL,4,FALSE),\"Help!\"))","v":""},null,{"$f":"IF(BM110=\"\",\"\",BK110+IF(BM110=\"XX\",VLOOKUP(\"WRONG\",Answers!BI:BL,4,FALSE),BM110)+BN110)","v":""},{"$f":"IF($B110=\"\",\"\",UPPER(Mainframe!S109))","v":""},{"$f":"IF(BP110=\"\",\"\",IF(NOT(ISNA(VLOOKUP(BP110,Answers!BM:BP,4,FALSE))),VLOOKUP(BP110,Answers!BM:BP,4,FALSE),\"Help!\"))","v":""},null,{"$f":"IF(BQ110=\"\",\"\",BO110+IF(BQ110=\"XX\",VLOOKUP(\"WRONG\",Answers!BM:BP,4,FALSE),BQ110)+BR110)","v":""},{"$f":"IF($B110=\"\",\"\",UPPER(Mainframe!T109))","v":""},{"$f":"IF(BT110=\"\",\"\",IF(NOT(ISNA(VLOOKUP(BT110,Answers!BQ:BT,4,FALSE))),VLOOKUP(BT110,Answers!BQ:BT,4,FALSE),\"Help!\"))","v":""},null,{"$f":"IF(BU110=\"\",\"\",BS110+IF(BU110=\"XX\",VLOOKUP(\"WRONG\",Answers!BQ:BT,4,FALSE),BU110)+BV110)","v":""},{"$f":"IF($B110=\"\",\"\",UPPER(Mainframe!U109))","v":""},{"$f":"IF(BX110=\"\",\"\",IF(NOT(ISNA(VLOOKUP(BX110,Answers!BU:BX,4,FALSE))),VLOOKUP(BX110,Answers!BU:BX,4,FALSE),\"Help!\"))","v":""},null,{"$f":"IF(BY110=\"\",\"\",BW110+IF(BY110=\"XX\",VLOOKUP(\"WRONG\",Answers!BU:BX,4,FALSE),BY110)+BZ110)","v":""},{"$f":"IF($B110=\"\",\"\",UPPER(Mainframe!V109))","v":""},{"$f":"IF(CB110=\"\",\"\",IF(NOT(ISNA(VLOOKUP(CB110,Answers!BY:CB,4,FALSE))),VLOOKUP(CB110,Answers!BY:CB,4,FALSE),\"Help!\"))","v":""},null,{"$f":"IF(CC110=\"\",\"\",CA110+IF(CC110=\"XX\",VLOOKUP(\"WRONG\",Answers!BY:CB,4,FALSE),CC110)+CD110)","v":""},null,null,1,{"$f":"IF(INDEX($B:$CE,ROW(),QNO*4-1)=DROPNAME,DROPNAME,IF(INDEX($B:$CE,ROW(),QNO*4-1)=SHEEPNAME,SHEEPNAME,IF(INDEX($B:$CE,ROW(),QNO*4)=\"XX\",INDEX($B:$CE,ROW(),QNO*4-1),INDEX(OFFSET(Answers!B:B,0,(QNO-1)*4),MATCH(INDEX($A:$CB,ROW(),QNO*4),OFFSET(Answers!A:A,0,(QNO-1)*4),0))&\" — \"&IF(INDEX($B:$CE,ROW(),QNO*4)=1,\"[b]Singleton![/b]\",CONCATENATE(INDEX($B:$CE,ROW(),QNO*4),\" responses\")))))","v":{"$error":"#N/A"}},"//////////////////////////////////////////","No",{"$f":"IF(B110=0,\"\",CONCATENATE(INDEX($CH:$CL,ROW(),1),\". \",INDEX($B:$CE,ROW(),1),\" — [b]\")&IF(QNO=1,CONCATENATE(INDEX($B:$CE,ROW(),QNO*4+2),\"[/b] pts\"),CONCATENATE(INDEX($B:$CE,ROW(),QNO*4-2),\" + \",IF(INDEX($B:$CE,ROW(),QNO*4)=\"XX\",INDEX(Answers!$A:$ZZ,2,QNO*4),INDEX($B:$CE,ROW(),QNO*4)),\" = \",INDEX($B:$CE,ROW(),QNO*4+2),\"[/b] pts \",IF(INDEX($C:$CE,ROW(),QNO*4)>0,\"(penalty: +\"&INDEX($C:$CE,ROW(),QNO*4)&\") \",IF(INDEX($C:$CE,ROW(),QNO*4)<0,\"(bonus: \"&INDEX($C:$CE,ROW(),QNO*4)&\") \",\"\"))&\"[[b]\"&IF(CN110>0,\"[color=#00BF00]↑\"&CN110,IF(CN110<0,\"[color=#FF0000]↓\"&ABS(CN110),\"[color=#0000FF]unch\"))&\"[/b][/color]]\")))","v":"1.  — [b][/b] pts"},1,0]
["[*]",{"$f":"IF(Mainframe!B110=\"\",\"\",INDEX(Mainframe!$B:$B,C111+1,1))","v":""},109,{"$f":"IF($B111=\"\",\"\",UPPER(Mainframe!C110))","v":""},{"$f":"IF(D111=\"\",\"\",IF(NOT(ISNA(VLOOKUP(D111,Answers!A:D,4,FALSE))),VLOOKUP(D111,Answers!A:D,4,FALSE),\"Help!\"))","v":""},null,{"$f":"IF(E111=\"\",\"\",IF(E111=\"XX\",VLOOKUP(\"WRONG\",Answers!A:D,4,FALSE),E111)+F111)","v":""},{"$f":"IF($B111=\"\",\"\",UPPER(Mainframe!D110))","v":""},{"$f":"IF(H111=\"\",\"\",IF(NOT(ISNA(VLOOKUP(H111,Answers!E:H,4,FALSE))),VLOOKUP(H111,Answers!E:H,4,FALSE),\"Help!\"))","v":""},null,{"$f":"IF(I111=\"\",\"\",G111+IF(I111=\"XX\",VLOOKUP(\"WRONG\",Answers!E:H,4,FALSE),I111)+J111)","v":""},{"$f":"IF($B111=\"\",\"\",UPPER(Mainframe!E110))","v":""},{"$f":"IF(L111=\"\",\"\",IF(NOT(ISNA(VLOOKUP(L111,Answers!I:L,4,FALSE))),VLOOKUP(L111,Answers!I:L,4,FALSE),\"Help!\"))","v":""},null,{"$f":"IF(M111=\"\",\"\",K111+IF(M111=\"XX\",VLOOKUP(\"WRONG\",Answers!I:L,4,FALSE),M111)+N111)","v":""},{"$f":"IF($B111=\"\",\"\",UPPER(Mainframe!F110))","v":""},{"$f":"IF(P111=\"\",\"\",IF(NOT(ISNA(VLOOKUP(P111,Answers!M:P,4,FALSE))),VLOOKUP(P111,Answers!M:P,4,FALSE),\"Help!\"))","v":""},null,{"$f":"IF(Q111=\"\",\"\",O111+IF(Q111=\"XX\",VLOOKUP(\"WRONG\",Answers!M:P,4,FALSE),Q111)+R111)","v":""},{"$f":"IF($B111=\"\",\"\",UPPER(Mainframe!G110))","v":""},{"$f":"IF(T111=\"\",\"\",IF(NOT(ISNA(VLOOKUP(T111,Answers!Q:T,4,FALSE))),VLOOKUP(T111,Answers!Q:T,4,FALSE),\"Help!\"))","v":""},null,{"$f":"IF(U111=\"\",\"\",S111+IF(U111=\"XX\",VLOOKUP(\"WRONG\",Answers!Q:T,4,FALSE),U111)+V111)","v":""},{"$f":"IF($B111=\"\",\"\",UPPER(Mainframe!H110))","v":""},{"$f":"IF(X111=\"\",\"\",IF(NOT(ISNA(VLOOKUP(X111,Answers!U:X,4,FALSE))),VLOOKUP(X111,Answers!U:X,4,FALSE),\"Help!\"))","v":""},null,{"$f":"IF(Y111=\"\",\"\",W111+IF(Y111=\"XX\",VLOOKUP(\"WRONG\",Answers!U:X,4,FALSE),Y111)+Z111)","v":""},{"$f":"IF($B111=\"\",\"\",UPPER(Mainframe!I110))","v":""},{"$f":"IF(AB111=\"\",\"\",IF(NOT(ISNA(VLOOKUP(AB111,Answers!Y:AB,4,FALSE))),VLOOKUP(AB111,Answers!Y:AB,4,FALSE),\"Help!\"))","v":""},null,{"$f":"IF(AC111=\"\",\"\",AA111+IF(AC111=\"XX\",VLOOKUP(\"WRONG\",Answers!Y:AB,4,FALSE),AC111)+AD111)","v":""},{"$f":"IF($B111=\"\",\"\",UPPER(Mainframe!J110))","v":""},{"$f":"IF(AF111=\"\",\"\",IF(NOT(ISNA(VLOOKUP(AF111,Answers!AC:AF,4,FALSE))),VLOOKUP(AF111,Answers!AC:AF,4,FALSE),\"Help!\"))","v":""},null,{"$f":"IF(AG111=\"\",\"\",AE111+IF(AG111=\"XX\",VLOOKUP(\"WRONG\",Answers!AC:AF,4,FALSE),AG111)+AH111)","v":""},{"$f":"IF($B111=\"\",\"\",UPPER(Mainframe!K110))","v":""},{"$f":"IF(AJ111=\"\",\"\",IF(NOT(ISNA(VLOOKUP(AJ111,Answers!AG:AJ,4,FALSE))),VLOOKUP(AJ111,Answers!AG:AJ,4,FALSE),\"Help!\"))","v":""},null,{"$f":"IF(AK111=\"\",\"\",AI111+IF(AK111=\"XX\",VLOOKUP(\"WRONG\",Answers!AG:AJ,4,FALSE),AK111)+AL111)","v":""},{"$f":"IF($B111=\"\",\"\",UPPER(Mainframe!L110))","v":""},{"$f":"IF(AN111=\"\",\"\",IF(NOT(ISNA(VLOOKUP(AN111,Answers!AK:AN,4,FALSE))),VLOOKUP(AN111,Answers!AK:AN,4,FALSE),\"Help!\"))","v":""},null,{"$f":"IF(AO111=\"\",\"\",AM111+IF(AO111=\"XX\",VLOOKUP(\"WRONG\",Answers!AK:AN,4,FALSE),AO111)+AP111)","v":""},{"$f":"IF($B111=\"\",\"\",UPPER(Mainframe!M110))","v":""},{"$f":"IF(AR111=\"\",\"\",IF(NOT(ISNA(VLOOKUP(AR111,Answers!AO:AR,4,FALSE))),VLOOKUP(AR111,Answers!AO:AR,4,FALSE),\"Help!\"))","v":""},null,{"$f":"IF(AS111=\"\",\"\",AQ111+IF(AS111=\"XX\",VLOOKUP(\"WRONG\",Answers!AO:AR,4,FALSE),AS111)+AT111)","v":""},{"$f":"IF($B111=\"\",\"\",UPPER(Mainframe!N110))","v":""},{"$f":"IF(AV111=\"\",\"\",IF(NOT(ISNA(VLOOKUP(AV111,Answers!AS:AV,4,FALSE))),VLOOKUP(AV111,Answers!AS:AV,4,FALSE),\"Help!\"))","v":""},null,{"$f":"IF(AW111=\"\",\"\",AU111+IF(AW111=\"XX\",VLOOKUP(\"WRONG\",Answers!AS:AV,4,FALSE),AW111)+AX111)","v":""},{"$f":"IF($B111=\"\",\"\",UPPER(Mainframe!O110))","v":""},{"$f":"IF(AZ111=\"\",\"\",IF(NOT(ISNA(VLOOKUP(AZ111,Answers!AW:AZ,4,FALSE))),VLOOKUP(AZ111,Answers!AW:AZ,4,FALSE),\"Help!\"))","v":""},null,{"$f":"IF(BA111=\"\",\"\",AY111+IF(BA111=\"XX\",VLOOKUP(\"WRONG\",Answers!AW:AZ,4,FALSE),BA111)+BB111)","v":""},{"$f":"IF($B111=\"\",\"\",UPPER(Mainframe!P110))","v":""},{"$f":"IF(BD111=\"\",\"\",IF(NOT(ISNA(VLOOKUP(BD111,Answers!BA:BD,4,FALSE))),VLOOKUP(BD111,Answers!BA:BD,4,FALSE),\"Help!\"))","v":""},null,{"$f":"IF(BE111=\"\",\"\",BC111+IF(BE111=\"XX\",VLOOKUP(\"WRONG\",Answers!BA:BD,4,FALSE),BE111)+BF111)","v":""},{"$f":"IF($B111=\"\",\"\",UPPER(Mainframe!Q110))","v":""},{"$f":"IF(BH111=\"\",\"\",IF(NOT(ISNA(VLOOKUP(BH111,Answers!BE:BH,4,FALSE))),VLOOKUP(BH111,Answers!BE:BH,4,FALSE),\"Help!\"))","v":""},null,{"$f":"IF(BI111=\"\",\"\",BG111+IF(BI111=\"XX\",VLOOKUP(\"WRONG\",Answers!BE:BH,4,FALSE),BI111)+BJ111)","v":""},{"$f":"IF($B111=\"\",\"\",UPPER(Mainframe!R110))","v":""},{"$f":"IF(BL111=\"\",\"\",IF(NOT(ISNA(VLOOKUP(BL111,Answers!BI:BL,4,FALSE))),VLOOKUP(BL111,Answers!BI:BL,4,FALSE),\"Help!\"))","v":""},null,{"$f":"IF(BM111=\"\",\"\",BK111+IF(BM111=\"XX\",VLOOKUP(\"WRONG\",Answers!BI:BL,4,FALSE),BM111)+BN111)","v":""},{"$f":"IF($B111=\"\",\"\",UPPER(Mainframe!S110))","v":""},{"$f":"IF(BP111=\"\",\"\",IF(NOT(ISNA(VLOOKUP(BP111,Answers!BM:BP,4,FALSE))),VLOOKUP(BP111,Answers!BM:BP,4,FALSE),\"Help!\"))","v":""},null,{"$f":"IF(BQ111=\"\",\"\",BO111+IF(BQ111=\"XX\",VLOOKUP(\"WRONG\",Answers!BM:BP,4,FALSE),BQ111)+BR111)","v":""},{"$f":"IF($B111=\"\",\"\",UPPER(Mainframe!T110))","v":""},{"$f":"IF(BT111=\"\",\"\",IF(NOT(ISNA(VLOOKUP(BT111,Answers!BQ:BT,4,FALSE))),VLOOKUP(BT111,Answers!BQ:BT,4,FALSE),\"Help!\"))","v":""},null,{"$f":"IF(BU111=\"\",\"\",BS111+IF(BU111=\"XX\",VLOOKUP(\"WRONG\",Answers!BQ:BT,4,FALSE),BU111)+BV111)","v":""},{"$f":"IF($B111=\"\",\"\",UPPER(Mainframe!U110))","v":""},{"$f":"IF(BX111=\"\",\"\",IF(NOT(ISNA(VLOOKUP(BX111,Answers!BU:BX,4,FALSE))),VLOOKUP(BX111,Answers!BU:BX,4,FALSE),\"Help!\"))","v":""},null,{"$f":"IF(BY111=\"\",\"\",BW111+IF(BY111=\"XX\",VLOOKUP(\"WRONG\",Answers!BU:BX,4,FALSE),BY111)+BZ111)","v":""},{"$f":"IF($B111=\"\",\"\",UPPER(Mainframe!V110))","v":""},{"$f":"IF(CB111=\"\",\"\",IF(NOT(ISNA(VLOOKUP(CB111,Answers!BY:CB,4,FALSE))),VLOOKUP(CB111,Answers!BY:CB,4,FALSE),\"Help!\"))","v":""},null,{"$f":"IF(CC111=\"\",\"\",CA111+IF(CC111=\"XX\",VLOOKUP(\"WRONG\",Answers!BY:CB,4,FALSE),CC111)+CD111)","v":""},null,null,1,{"$f":"IF(INDEX($B:$CE,ROW(),QNO*4-1)=DROPNAME,DROPNAME,IF(INDEX($B:$CE,ROW(),QNO*4-1)=SHEEPNAME,SHEEPNAME,IF(INDEX($B:$CE,ROW(),QNO*4)=\"XX\",INDEX($B:$CE,ROW(),QNO*4-1),INDEX(OFFSET(Answers!B:B,0,(QNO-1)*4),MATCH(INDEX($A:$CB,ROW(),QNO*4),OFFSET(Answers!A:A,0,(QNO-1)*4),0))&\" — \"&IF(INDEX($B:$CE,ROW(),QNO*4)=1,\"[b]Singleton![/b]\",CONCATENATE(INDEX($B:$CE,ROW(),QNO*4),\" responses\")))))","v":{"$error":"#N/A"}},"////////////////////////////////////////","No",{"$f":"IF(B111=0,\"\",CONCATENATE(INDEX($CH:$CL,ROW(),1),\". \",INDEX($B:$CE,ROW(),1),\" — [b]\")&IF(QNO=1,CONCATENATE(INDEX($B:$CE,ROW(),QNO*4+2),\"[/b] pts\"),CONCATENATE(INDEX($B:$CE,ROW(),QNO*4-2),\" + \",IF(INDEX($B:$CE,ROW(),QNO*4)=\"XX\",INDEX(Answers!$A:$ZZ,2,QNO*4),INDEX($B:$CE,ROW(),QNO*4)),\" = \",INDEX($B:$CE,ROW(),QNO*4+2),\"[/b] pts \",IF(INDEX($C:$CE,ROW(),QNO*4)>0,\"(penalty: +\"&INDEX($C:$CE,ROW(),QNO*4)&\") \",IF(INDEX($C:$CE,ROW(),QNO*4)<0,\"(bonus: \"&INDEX($C:$CE,ROW(),QNO*4)&\") \",\"\"))&\"[[b]\"&IF(CN111>0,\"[color=#00BF00]↑\"&CN111,IF(CN111<0,\"[color=#FF0000]↓\"&ABS(CN111),\"[color=#0000FF]unch\"))&\"[/b][/color]]\")))","v":"1.  — [b][/b] pts"},1,0]
["[*]",{"$f":"IF(Mainframe!B111=\"\",\"\",INDEX(Mainframe!$B:$B,C112+1,1))","v":""},110,{"$f":"IF($B112=\"\",\"\",UPPER(Mainframe!C111))","v":""},{"$f":"IF(D112=\"\",\"\",IF(NOT(ISNA(VLOOKUP(D112,Answers!A:D,4,FALSE))),VLOOKUP(D112,Answers!A:D,4,FALSE),\"Help!\"))","v":""},null,{"$f":"IF(E112=\"\",\"\",IF(E112=\"XX\",VLOOKUP(\"WRONG\",Answers!A:D,4,FALSE),E112)+F112)","v":""},{"$f":"IF($B112=\"\",\"\",UPPER(Mainframe!D111))","v":""},{"$f":"IF(H112=\"\",\"\",IF(NOT(ISNA(VLOOKUP(H112,Answers!E:H,4,FALSE))),VLOOKUP(H112,Answers!E:H,4,FALSE),\"Help!\"))","v":""},null,{"$f":"IF(I112=\"\",\"\",G112+IF(I112=\"XX\",VLOOKUP(\"WRONG\",Answers!E:H,4,FALSE),I112)+J112)","v":""},{"$f":"IF($B112=\"\",\"\",UPPER(Mainframe!E111))","v":""},{"$f":"IF(L112=\"\",\"\",IF(NOT(ISNA(VLOOKUP(L112,Answers!I:L,4,FALSE))),VLOOKUP(L112,Answers!I:L,4,FALSE),\"Help!\"))","v":""},null,{"$f":"IF(M112=\"\",\"\",K112+IF(M112=\"XX\",VLOOKUP(\"WRONG\",Answers!I:L,4,FALSE),M112)+N112)","v":""},{"$f":"IF($B112=\"\",\"\",UPPER(Mainframe!F111))","v":""},{"$f":"IF(P112=\"\",\"\",IF(NOT(ISNA(VLOOKUP(P112,Answers!M:P,4,FALSE))),VLOOKUP(P112,Answers!M:P,4,FALSE),\"Help!\"))","v":""},null,{"$f":"IF(Q112=\"\",\"\",O112+IF(Q112=\"XX\",VLOOKUP(\"WRONG\",Answers!M:P,4,FALSE),Q112)+R112)","v":""},{"$f":"IF($B112=\"\",\"\",UPPER(Mainframe!G111))","v":""},{"$f":"IF(T112=\"\",\"\",IF(NOT(ISNA(VLOOKUP(T112,Answers!Q:T,4,FALSE))),VLOOKUP(T112,Answers!Q:T,4,FALSE),\"Help!\"))","v":""},null,{"$f":"IF(U112=\"\",\"\",S112+IF(U112=\"XX\",VLOOKUP(\"WRONG\",Answers!Q:T,4,FALSE),U112)+V112)","v":""},{"$f":"IF($B112=\"\",\"\",UPPER(Mainframe!H111))","v":""},{"$f":"IF(X112=\"\",\"\",IF(NOT(ISNA(VLOOKUP(X112,Answers!U:X,4,FALSE))),VLOOKUP(X112,Answers!U:X,4,FALSE),\"Help!\"))","v":""},null,{"$f":"IF(Y112=\"\",\"\",W112+IF(Y112=\"XX\",VLOOKUP(\"WRONG\",Answers!U:X,4,FALSE),Y112)+Z112)","v":""},{"$f":"IF($B112=\"\",\"\",UPPER(Mainframe!I111))","v":""},{"$f":"IF(AB112=\"\",\"\",IF(NOT(ISNA(VLOOKUP(AB112,Answers!Y:AB,4,FALSE))),VLOOKUP(AB112,Answers!Y:AB,4,FALSE),\"Help!\"))","v":""},null,{"$f":"IF(AC112=\"\",\"\",AA112+IF(AC112=\"XX\",VLOOKUP(\"WRONG\",Answers!Y:AB,4,FALSE),AC112)+AD112)","v":""},{"$f":"IF($B112=\"\",\"\",UPPER(Mainframe!J111))","v":""},{"$f":"IF(AF112=\"\",\"\",IF(NOT(ISNA(VLOOKUP(AF112,Answers!AC:AF,4,FALSE))),VLOOKUP(AF112,Answers!AC:AF,4,FALSE),\"Help!\"))","v":""},null,{"$f":"IF(AG112=\"\",\"\",AE112+IF(AG112=\"XX\",VLOOKUP(\"WRONG\",Answers!AC:AF,4,FALSE),AG112)+AH112)","v":""},{"$f":"IF($B112=\"\",\"\",UPPER(Mainframe!K111))","v":""},{"$f":"IF(AJ112=\"\",\"\",IF(NOT(ISNA(VLOOKUP(AJ112,Answers!AG:AJ,4,FALSE))),VLOOKUP(AJ112,Answers!AG:AJ,4,FALSE),\"Help!\"))","v":""},null,{"$f":"IF(AK112=\"\",\"\",AI112+IF(AK112=\"XX\",VLOOKUP(\"WRONG\",Answers!AG:AJ,4,FALSE),AK112)+AL112)","v":""},{"$f":"IF($B112=\"\",\"\",UPPER(Mainframe!L111))","v":""},{"$f":"IF(AN112=\"\",\"\",IF(NOT(ISNA(VLOOKUP(AN112,Answers!AK:AN,4,FALSE))),VLOOKUP(AN112,Answers!AK:AN,4,FALSE),\"Help!\"))","v":""},null,{"$f":"IF(AO112=\"\",\"\",AM112+IF(AO112=\"XX\",VLOOKUP(\"WRONG\",Answers!AK:AN,4,FALSE),AO112)+AP112)","v":""},{"$f":"IF($B112=\"\",\"\",UPPER(Mainframe!M111))","v":""},{"$f":"IF(AR112=\"\",\"\",IF(NOT(ISNA(VLOOKUP(AR112,Answers!AO:AR,4,FALSE))),VLOOKUP(AR112,Answers!AO:AR,4,FALSE),\"Help!\"))","v":""},null,{"$f":"IF(AS112=\"\",\"\",AQ112+IF(AS112=\"XX\",VLOOKUP(\"WRONG\",Answers!AO:AR,4,FALSE),AS112)+AT112)","v":""},{"$f":"IF($B112=\"\",\"\",UPPER(Mainframe!N111))","v":""},{"$f":"IF(AV112=\"\",\"\",IF(NOT(ISNA(VLOOKUP(AV112,Answers!AS:AV,4,FALSE))),VLOOKUP(AV112,Answers!AS:AV,4,FALSE),\"Help!\"))","v":""},null,{"$f":"IF(AW112=\"\",\"\",AU112+IF(AW112=\"XX\",VLOOKUP(\"WRONG\",Answers!AS:AV,4,FALSE),AW112)+AX112)","v":""},{"$f":"IF($B112=\"\",\"\",UPPER(Mainframe!O111))","v":""},{"$f":"IF(AZ112=\"\",\"\",IF(NOT(ISNA(VLOOKUP(AZ112,Answers!AW:AZ,4,FALSE))),VLOOKUP(AZ112,Answers!AW:AZ,4,FALSE),\"Help!\"))","v":""},null,{"$f":"IF(BA112=\"\",\"\",AY112+IF(BA112=\"XX\",VLOOKUP(\"WRONG\",Answers!AW:AZ,4,FALSE),BA112)+BB112)","v":""},{"$f":"IF($B112=\"\",\"\",UPPER(Mainframe!P111))","v":""},{"$f":"IF(BD112=\"\",\"\",IF(NOT(ISNA(VLOOKUP(BD112,Answers!BA:BD,4,FALSE))),VLOOKUP(BD112,Answers!BA:BD,4,FALSE),\"Help!\"))","v":""},null,{"$f":"IF(BE112=\"\",\"\",BC112+IF(BE112=\"XX\",VLOOKUP(\"WRONG\",Answers!BA:BD,4,FALSE),BE112)+BF112)","v":""},{"$f":"IF($B112=\"\",\"\",UPPER(Mainframe!Q111))","v":""},{"$f":"IF(BH112=\"\",\"\",IF(NOT(ISNA(VLOOKUP(BH112,Answers!BE:BH,4,FALSE))),VLOOKUP(BH112,Answers!BE:BH,4,FALSE),\"Help!\"))","v":""},null,{"$f":"IF(BI112=\"\",\"\",BG112+IF(BI112=\"XX\",VLOOKUP(\"WRONG\",Answers!BE:BH,4,FALSE),BI112)+BJ112)","v":""},{"$f":"IF($B112=\"\",\"\",UPPER(Mainframe!R111))","v":""},{"$f":"IF(BL112=\"\",\"\",IF(NOT(ISNA(VLOOKUP(BL112,Answers!BI:BL,4,FALSE))),VLOOKUP(BL112,Answers!BI:BL,4,FALSE),\"Help!\"))","v":""},null,{"$f":"IF(BM112=\"\",\"\",BK112+IF(BM112=\"XX\",VLOOKUP(\"WRONG\",Answers!BI:BL,4,FALSE),BM112)+BN112)","v":""},{"$f":"IF($B112=\"\",\"\",UPPER(Mainframe!S111))","v":""},{"$f":"IF(BP112=\"\",\"\",IF(NOT(ISNA(VLOOKUP(BP112,Answers!BM:BP,4,FALSE))),VLOOKUP(BP112,Answers!BM:BP,4,FALSE),\"Help!\"))","v":""},null,{"$f":"IF(BQ112=\"\",\"\",BO112+IF(BQ112=\"XX\",VLOOKUP(\"WRONG\",Answers!BM:BP,4,FALSE),BQ112)+BR112)","v":""},{"$f":"IF($B112=\"\",\"\",UPPER(Mainframe!T111))","v":""},{"$f":"IF(BT112=\"\",\"\",IF(NOT(ISNA(VLOOKUP(BT112,Answers!BQ:BT,4,FALSE))),VLOOKUP(BT112,Answers!BQ:BT,4,FALSE),\"Help!\"))","v":""},null,{"$f":"IF(BU112=\"\",\"\",BS112+IF(BU112=\"XX\",VLOOKUP(\"WRONG\",Answers!BQ:BT,4,FALSE),BU112)+BV112)","v":""},{"$f":"IF($B112=\"\",\"\",UPPER(Mainframe!U111))","v":""},{"$f":"IF(BX112=\"\",\"\",IF(NOT(ISNA(VLOOKUP(BX112,Answers!BU:BX,4,FALSE))),VLOOKUP(BX112,Answers!BU:BX,4,FALSE),\"Help!\"))","v":""},null,{"$f":"IF(BY112=\"\",\"\",BW112+IF(BY112=\"XX\",VLOOKUP(\"WRONG\",Answers!BU:BX,4,FALSE),BY112)+BZ112)","v":""},{"$f":"IF($B112=\"\",\"\",UPPER(Mainframe!V111))","v":""},{"$f":"IF(CB112=\"\",\"\",IF(NOT(ISNA(VLOOKUP(CB112,Answers!BY:CB,4,FALSE))),VLOOKUP(CB112,Answers!BY:CB,4,FALSE),\"Help!\"))","v":""},null,{"$f":"IF(CC112=\"\",\"\",CA112+IF(CC112=\"XX\",VLOOKUP(\"WRONG\",Answers!BY:CB,4,FALSE),CC112)+CD112)","v":""},null,null,1,{"$f":"IF(INDEX($B:$CE,ROW(),QNO*4-1)=DROPNAME,DROPNAME,IF(INDEX($B:$CE,ROW(),QNO*4-1)=SHEEPNAME,SHEEPNAME,IF(INDEX($B:$CE,ROW(),QNO*4)=\"XX\",INDEX($B:$CE,ROW(),QNO*4-1),INDEX(OFFSET(Answers!B:B,0,(QNO-1)*4),MATCH(INDEX($A:$CB,ROW(),QNO*4),OFFSET(Answers!A:A,0,(QNO-1)*4),0))&\" — \"&IF(INDEX($B:$CE,ROW(),QNO*4)=1,\"[b]Singleton![/b]\",CONCATENATE(INDEX($B:$CE,ROW(),QNO*4),\" responses\")))))","v":{"$error":"#N/A"}},"//////////////////////////////////////","No",{"$f":"IF(B112=0,\"\",CONCATENATE(INDEX($CH:$CL,ROW(),1),\". \",INDEX($B:$CE,ROW(),1),\" — [b]\")&IF(QNO=1,CONCATENATE(INDEX($B:$CE,ROW(),QNO*4+2),\"[/b] pts\"),CONCATENATE(INDEX($B:$CE,ROW(),QNO*4-2),\" + \",IF(INDEX($B:$CE,ROW(),QNO*4)=\"XX\",INDEX(Answers!$A:$ZZ,2,QNO*4),INDEX($B:$CE,ROW(),QNO*4)),\" = \",INDEX($B:$CE,ROW(),QNO*4+2),\"[/b] pts \",IF(INDEX($C:$CE,ROW(),QNO*4)>0,\"(penalty: +\"&INDEX($C:$CE,ROW(),QNO*4)&\") \",IF(INDEX($C:$CE,ROW(),QNO*4)<0,\"(bonus: \"&INDEX($C:$CE,ROW(),QNO*4)&\") \",\"\"))&\"[[b]\"&IF(CN112>0,\"[color=#00BF00]↑\"&CN112,IF(CN112<0,\"[color=#FF0000]↓\"&ABS(CN112),\"[color=#0000FF]unch\"))&\"[/b][/color]]\")))","v":"1.  — [b][/b] pts"},1,0]
["[*]",{"$f":"IF(Mainframe!B112=\"\",\"\",INDEX(Mainframe!$B:$B,C113+1,1))","v":""},111,{"$f":"IF($B113=\"\",\"\",UPPER(Mainframe!C112))","v":""},{"$f":"IF(D113=\"\",\"\",IF(NOT(ISNA(VLOOKUP(D113,Answers!A:D,4,FALSE))),VLOOKUP(D113,Answers!A:D,4,FALSE),\"Help!\"))","v":""},null,{"$f":"IF(E113=\"\",\"\",IF(E113=\"XX\",VLOOKUP(\"WRONG\",Answers!A:D,4,FALSE),E113)+F113)","v":""},{"$f":"IF($B113=\"\",\"\",UPPER(Mainframe!D112))","v":""},{"$f":"IF(H113=\"\",\"\",IF(NOT(ISNA(VLOOKUP(H113,Answers!E:H,4,FALSE))),VLOOKUP(H113,Answers!E:H,4,FALSE),\"Help!\"))","v":""},null,{"$f":"IF(I113=\"\",\"\",G113+IF(I113=\"XX\",VLOOKUP(\"WRONG\",Answers!E:H,4,FALSE),I113)+J113)","v":""},{"$f":"IF($B113=\"\",\"\",UPPER(Mainframe!E112))","v":""},{"$f":"IF(L113=\"\",\"\",IF(NOT(ISNA(VLOOKUP(L113,Answers!I:L,4,FALSE))),VLOOKUP(L113,Answers!I:L,4,FALSE),\"Help!\"))","v":""},null,{"$f":"IF(M113=\"\",\"\",K113+IF(M113=\"XX\",VLOOKUP(\"WRONG\",Answers!I:L,4,FALSE),M113)+N113)","v":""},{"$f":"IF($B113=\"\",\"\",UPPER(Mainframe!F112))","v":""},{"$f":"IF(P113=\"\",\"\",IF(NOT(ISNA(VLOOKUP(P113,Answers!M:P,4,FALSE))),VLOOKUP(P113,Answers!M:P,4,FALSE),\"Help!\"))","v":""},null,{"$f":"IF(Q113=\"\",\"\",O113+IF(Q113=\"XX\",VLOOKUP(\"WRONG\",Answers!M:P,4,FALSE),Q113)+R113)","v":""},{"$f":"IF($B113=\"\",\"\",UPPER(Mainframe!G112))","v":""},{"$f":"IF(T113=\"\",\"\",IF(NOT(ISNA(VLOOKUP(T113,Answers!Q:T,4,FALSE))),VLOOKUP(T113,Answers!Q:T,4,FALSE),\"Help!\"))","v":""},null,{"$f":"IF(U113=\"\",\"\",S113+IF(U113=\"XX\",VLOOKUP(\"WRONG\",Answers!Q:T,4,FALSE),U113)+V113)","v":""},{"$f":"IF($B113=\"\",\"\",UPPER(Mainframe!H112))","v":""},{"$f":"IF(X113=\"\",\"\",IF(NOT(ISNA(VLOOKUP(X113,Answers!U:X,4,FALSE))),VLOOKUP(X113,Answers!U:X,4,FALSE),\"Help!\"))","v":""},null,{"$f":"IF(Y113=\"\",\"\",W113+IF(Y113=\"XX\",VLOOKUP(\"WRONG\",Answers!U:X,4,FALSE),Y113)+Z113)","v":""},{"$f":"IF($B113=\"\",\"\",UPPER(Mainframe!I112))","v":""},{"$f":"IF(AB113=\"\",\"\",IF(NOT(ISNA(VLOOKUP(AB113,Answers!Y:AB,4,FALSE))),VLOOKUP(AB113,Answers!Y:AB,4,FALSE),\"Help!\"))","v":""},null,{"$f":"IF(AC113=\"\",\"\",AA113+IF(AC113=\"XX\",VLOOKUP(\"WRONG\",Answers!Y:AB,4,FALSE),AC113)+AD113)","v":""},{"$f":"IF($B113=\"\",\"\",UPPER(Mainframe!J112))","v":""},{"$f":"IF(AF113=\"\",\"\",IF(NOT(ISNA(VLOOKUP(AF113,Answers!AC:AF,4,FALSE))),VLOOKUP(AF113,Answers!AC:AF,4,FALSE),\"Help!\"))","v":""},null,{"$f":"IF(AG113=\"\",\"\",AE113+IF(AG113=\"XX\",VLOOKUP(\"WRONG\",Answers!AC:AF,4,FALSE),AG113)+AH113)","v":""},{"$f":"IF($B113=\"\",\"\",UPPER(Mainframe!K112))","v":""},{"$f":"IF(AJ113=\"\",\"\",IF(NOT(ISNA(VLOOKUP(AJ113,Answers!AG:AJ,4,FALSE))),VLOOKUP(AJ113,Answers!AG:AJ,4,FALSE),\"Help!\"))","v":""},null,{"$f":"IF(AK113=\"\",\"\",AI113+IF(AK113=\"XX\",VLOOKUP(\"WRONG\",Answers!AG:AJ,4,FALSE),AK113)+AL113)","v":""},{"$f":"IF($B113=\"\",\"\",UPPER(Mainframe!L112))","v":""},{"$f":"IF(AN113=\"\",\"\",IF(NOT(ISNA(VLOOKUP(AN113,Answers!AK:AN,4,FALSE))),VLOOKUP(AN113,Answers!AK:AN,4,FALSE),\"Help!\"))","v":""},null,{"$f":"IF(AO113=\"\",\"\",AM113+IF(AO113=\"XX\",VLOOKUP(\"WRONG\",Answers!AK:AN,4,FALSE),AO113)+AP113)","v":""},{"$f":"IF($B113=\"\",\"\",UPPER(Mainframe!M112))","v":""},{"$f":"IF(AR113=\"\",\"\",IF(NOT(ISNA(VLOOKUP(AR113,Answers!AO:AR,4,FALSE))),VLOOKUP(AR113,Answers!AO:AR,4,FALSE),\"Help!\"))","v":""},null,{"$f":"IF(AS113=\"\",\"\",AQ113+IF(AS113=\"XX\",VLOOKUP(\"WRONG\",Answers!AO:AR,4,FALSE),AS113)+AT113)","v":""},{"$f":"IF($B113=\"\",\"\",UPPER(Mainframe!N112))","v":""},{"$f":"IF(AV113=\"\",\"\",IF(NOT(ISNA(VLOOKUP(AV113,Answers!AS:AV,4,FALSE))),VLOOKUP(AV113,Answers!AS:AV,4,FALSE),\"Help!\"))","v":""},null,{"$f":"IF(AW113=\"\",\"\",AU113+IF(AW113=\"XX\",VLOOKUP(\"WRONG\",Answers!AS:AV,4,FALSE),AW113)+AX113)","v":""},{"$f":"IF($B113=\"\",\"\",UPPER(Mainframe!O112))","v":""},{"$f":"IF(AZ113=\"\",\"\",IF(NOT(ISNA(VLOOKUP(AZ113,Answers!AW:AZ,4,FALSE))),VLOOKUP(AZ113,Answers!AW:AZ,4,FALSE),\"Help!\"))","v":""},null,{"$f":"IF(BA113=\"\",\"\",AY113+IF(BA113=\"XX\",VLOOKUP(\"WRONG\",Answers!AW:AZ,4,FALSE),BA113)+BB113)","v":""},{"$f":"IF($B113=\"\",\"\",UPPER(Mainframe!P112))","v":""},{"$f":"IF(BD113=\"\",\"\",IF(NOT(ISNA(VLOOKUP(BD113,Answers!BA:BD,4,FALSE))),VLOOKUP(BD113,Answers!BA:BD,4,FALSE),\"Help!\"))","v":""},null,{"$f":"IF(BE113=\"\",\"\",BC113+IF(BE113=\"XX\",VLOOKUP(\"WRONG\",Answers!BA:BD,4,FALSE),BE113)+BF113)","v":""},{"$f":"IF($B113=\"\",\"\",UPPER(Mainframe!Q112))","v":""},{"$f":"IF(BH113=\"\",\"\",IF(NOT(ISNA(VLOOKUP(BH113,Answers!BE:BH,4,FALSE))),VLOOKUP(BH113,Answers!BE:BH,4,FALSE),\"Help!\"))","v":""},null,{"$f":"IF(BI113=\"\",\"\",BG113+IF(BI113=\"XX\",VLOOKUP(\"WRONG\",Answers!BE:BH,4,FALSE),BI113)+BJ113)","v":""},{"$f":"IF($B113=\"\",\"\",UPPER(Mainframe!R112))","v":""},{"$f":"IF(BL113=\"\",\"\",IF(NOT(ISNA(VLOOKUP(BL113,Answers!BI:BL,4,FALSE))),VLOOKUP(BL113,Answers!BI:BL,4,FALSE),\"Help!\"))","v":""},null,{"$f":"IF(BM113=\"\",\"\",BK113+IF(BM113=\"XX\",VLOOKUP(\"WRONG\",Answers!BI:BL,4,FALSE),BM113)+BN113)","v":""},{"$f":"IF($B113=\"\",\"\",UPPER(Mainframe!S112))","v":""},{"$f":"IF(BP113=\"\",\"\",IF(NOT(ISNA(VLOOKUP(BP113,Answers!BM:BP,4,FALSE))),VLOOKUP(BP113,Answers!BM:BP,4,FALSE),\"Help!\"))","v":""},null,{"$f":"IF(BQ113=\"\",\"\",BO113+IF(BQ113=\"XX\",VLOOKUP(\"WRONG\",Answers!BM:BP,4,FALSE),BQ113)+BR113)","v":""},{"$f":"IF($B113=\"\",\"\",UPPER(Mainframe!T112))","v":""},{"$f":"IF(BT113=\"\",\"\",IF(NOT(ISNA(VLOOKUP(BT113,Answers!BQ:BT,4,FALSE))),VLOOKUP(BT113,Answers!BQ:BT,4,FALSE),\"Help!\"))","v":""},null,{"$f":"IF(BU113=\"\",\"\",BS113+IF(BU113=\"XX\",VLOOKUP(\"WRONG\",Answers!BQ:BT,4,FALSE),BU113)+BV113)","v":""},{"$f":"IF($B113=\"\",\"\",UPPER(Mainframe!U112))","v":""},{"$f":"IF(BX113=\"\",\"\",IF(NOT(ISNA(VLOOKUP(BX113,Answers!BU:BX,4,FALSE))),VLOOKUP(BX113,Answers!BU:BX,4,FALSE),\"Help!\"))","v":""},null,{"$f":"IF(BY113=\"\",\"\",BW113+IF(BY113=\"XX\",VLOOKUP(\"WRONG\",Answers!BU:BX,4,FALSE),BY113)+BZ113)","v":""},{"$f":"IF($B113=\"\",\"\",UPPER(Mainframe!V112))","v":""},{"$f":"IF(CB113=\"\",\"\",IF(NOT(ISNA(VLOOKUP(CB113,Answers!BY:CB,4,FALSE))),VLOOKUP(CB113,Answers!BY:CB,4,FALSE),\"Help!\"))","v":""},null,{"$f":"IF(CC113=\"\",\"\",CA113+IF(CC113=\"XX\",VLOOKUP(\"WRONG\",Answers!BY:CB,4,FALSE),CC113)+CD113)","v":""},null,null,1,{"$f":"IF(INDEX($B:$CE,ROW(),QNO*4-1)=DROPNAME,DROPNAME,IF(INDEX($B:$CE,ROW(),QNO*4-1)=SHEEPNAME,SHEEPNAME,IF(INDEX($B:$CE,ROW(),QNO*4)=\"XX\",INDEX($B:$CE,ROW(),QNO*4-1),INDEX(OFFSET(Answers!B:B,0,(QNO-1)*4),MATCH(INDEX($A:$CB,ROW(),QNO*4),OFFSET(Answers!A:A,0,(QNO-1)*4),0))&\" — \"&IF(INDEX($B:$CE,ROW(),QNO*4)=1,\"[b]Singleton![/b]\",CONCATENATE(INDEX($B:$CE,ROW(),QNO*4),\" responses\")))))","v":{"$error":"#N/A"}},"////////////////////////////////////","No",{"$f":"IF(B113=0,\"\",CONCATENATE(INDEX($CH:$CL,ROW(),1),\". \",INDEX($B:$CE,ROW(),1),\" — [b]\")&IF(QNO=1,CONCATENATE(INDEX($B:$CE,ROW(),QNO*4+2),\"[/b] pts\"),CONCATENATE(INDEX($B:$CE,ROW(),QNO*4-2),\" + \",IF(INDEX($B:$CE,ROW(),QNO*4)=\"XX\",INDEX(Answers!$A:$ZZ,2,QNO*4),INDEX($B:$CE,ROW(),QNO*4)),\" = \",INDEX($B:$CE,ROW(),QNO*4+2),\"[/b] pts \",IF(INDEX($C:$CE,ROW(),QNO*4)>0,\"(penalty: +\"&INDEX($C:$CE,ROW(),QNO*4)&\") \",IF(INDEX($C:$CE,ROW(),QNO*4)<0,\"(bonus: \"&INDEX($C:$CE,ROW(),QNO*4)&\") \",\"\"))&\"[[b]\"&IF(CN113>0,\"[color=#00BF00]↑\"&CN113,IF(CN113<0,\"[color=#FF0000]↓\"&ABS(CN113),\"[color=#0000FF]unch\"))&\"[/b][/color]]\")))","v":"1.  — [b][/b] pts"},1,0]
["[*]",{"$f":"IF(Mainframe!B113=\"\",\"\",INDEX(Mainframe!$B:$B,C114+1,1))","v":""},112,{"$f":"IF($B114=\"\",\"\",UPPER(Mainframe!C113))","v":""},{"$f":"IF(D114=\"\",\"\",IF(NOT(ISNA(VLOOKUP(D114,Answers!A:D,4,FALSE))),VLOOKUP(D114,Answers!A:D,4,FALSE),\"Help!\"))","v":""},null,{"$f":"IF(E114=\"\",\"\",IF(E114=\"XX\",VLOOKUP(\"WRONG\",Answers!A:D,4,FALSE),E114)+F114)","v":""},{"$f":"IF($B114=\"\",\"\",UPPER(Mainframe!D113))","v":""},{"$f":"IF(H114=\"\",\"\",IF(NOT(ISNA(VLOOKUP(H114,Answers!E:H,4,FALSE))),VLOOKUP(H114,Answers!E:H,4,FALSE),\"Help!\"))","v":""},null,{"$f":"IF(I114=\"\",\"\",G114+IF(I114=\"XX\",VLOOKUP(\"WRONG\",Answers!E:H,4,FALSE),I114)+J114)","v":""},{"$f":"IF($B114=\"\",\"\",UPPER(Mainframe!E113))","v":""},{"$f":"IF(L114=\"\",\"\",IF(NOT(ISNA(VLOOKUP(L114,Answers!I:L,4,FALSE))),VLOOKUP(L114,Answers!I:L,4,FALSE),\"Help!\"))","v":""},null,{"$f":"IF(M114=\"\",\"\",K114+IF(M114=\"XX\",VLOOKUP(\"WRONG\",Answers!I:L,4,FALSE),M114)+N114)","v":""},{"$f":"IF($B114=\"\",\"\",UPPER(Mainframe!F113))","v":""},{"$f":"IF(P114=\"\",\"\",IF(NOT(ISNA(VLOOKUP(P114,Answers!M:P,4,FALSE))),VLOOKUP(P114,Answers!M:P,4,FALSE),\"Help!\"))","v":""},null,{"$f":"IF(Q114=\"\",\"\",O114+IF(Q114=\"XX\",VLOOKUP(\"WRONG\",Answers!M:P,4,FALSE),Q114)+R114)","v":""},{"$f":"IF($B114=\"\",\"\",UPPER(Mainframe!G113))","v":""},{"$f":"IF(T114=\"\",\"\",IF(NOT(ISNA(VLOOKUP(T114,Answers!Q:T,4,FALSE))),VLOOKUP(T114,Answers!Q:T,4,FALSE),\"Help!\"))","v":""},null,{"$f":"IF(U114=\"\",\"\",S114+IF(U114=\"XX\",VLOOKUP(\"WRONG\",Answers!Q:T,4,FALSE),U114)+V114)","v":""},{"$f":"IF($B114=\"\",\"\",UPPER(Mainframe!H113))","v":""},{"$f":"IF(X114=\"\",\"\",IF(NOT(ISNA(VLOOKUP(X114,Answers!U:X,4,FALSE))),VLOOKUP(X114,Answers!U:X,4,FALSE),\"Help!\"))","v":""},null,{"$f":"IF(Y114=\"\",\"\",W114+IF(Y114=\"XX\",VLOOKUP(\"WRONG\",Answers!U:X,4,FALSE),Y114)+Z114)","v":""},{"$f":"IF($B114=\"\",\"\",UPPER(Mainframe!I113))","v":""},{"$f":"IF(AB114=\"\",\"\",IF(NOT(ISNA(VLOOKUP(AB114,Answers!Y:AB,4,FALSE))),VLOOKUP(AB114,Answers!Y:AB,4,FALSE),\"Help!\"))","v":""},null,{"$f":"IF(AC114=\"\",\"\",AA114+IF(AC114=\"XX\",VLOOKUP(\"WRONG\",Answers!Y:AB,4,FALSE),AC114)+AD114)","v":""},{"$f":"IF($B114=\"\",\"\",UPPER(Mainframe!J113))","v":""},{"$f":"IF(AF114=\"\",\"\",IF(NOT(ISNA(VLOOKUP(AF114,Answers!AC:AF,4,FALSE))),VLOOKUP(AF114,Answers!AC:AF,4,FALSE),\"Help!\"))","v":""},null,{"$f":"IF(AG114=\"\",\"\",AE114+IF(AG114=\"XX\",VLOOKUP(\"WRONG\",Answers!AC:AF,4,FALSE),AG114)+AH114)","v":""},{"$f":"IF($B114=\"\",\"\",UPPER(Mainframe!K113))","v":""},{"$f":"IF(AJ114=\"\",\"\",IF(NOT(ISNA(VLOOKUP(AJ114,Answers!AG:AJ,4,FALSE))),VLOOKUP(AJ114,Answers!AG:AJ,4,FALSE),\"Help!\"))","v":""},null,{"$f":"IF(AK114=\"\",\"\",AI114+IF(AK114=\"XX\",VLOOKUP(\"WRONG\",Answers!AG:AJ,4,FALSE),AK114)+AL114)","v":""},{"$f":"IF($B114=\"\",\"\",UPPER(Mainframe!L113))","v":""},{"$f":"IF(AN114=\"\",\"\",IF(NOT(ISNA(VLOOKUP(AN114,Answers!AK:AN,4,FALSE))),VLOOKUP(AN114,Answers!AK:AN,4,FALSE),\"Help!\"))","v":""},null,{"$f":"IF(AO114=\"\",\"\",AM114+IF(AO114=\"XX\",VLOOKUP(\"WRONG\",Answers!AK:AN,4,FALSE),AO114)+AP114)","v":""},{"$f":"IF($B114=\"\",\"\",UPPER(Mainframe!M113))","v":""},{"$f":"IF(AR114=\"\",\"\",IF(NOT(ISNA(VLOOKUP(AR114,Answers!AO:AR,4,FALSE))),VLOOKUP(AR114,Answers!AO:AR,4,FALSE),\"Help!\"))","v":""},null,{"$f":"IF(AS114=\"\",\"\",AQ114+IF(AS114=\"XX\",VLOOKUP(\"WRONG\",Answers!AO:AR,4,FALSE),AS114)+AT114)","v":""},{"$f":"IF($B114=\"\",\"\",UPPER(Mainframe!N113))","v":""},{"$f":"IF(AV114=\"\",\"\",IF(NOT(ISNA(VLOOKUP(AV114,Answers!AS:AV,4,FALSE))),VLOOKUP(AV114,Answers!AS:AV,4,FALSE),\"Help!\"))","v":""},null,{"$f":"IF(AW114=\"\",\"\",AU114+IF(AW114=\"XX\",VLOOKUP(\"WRONG\",Answers!AS:AV,4,FALSE),AW114)+AX114)","v":""},{"$f":"IF($B114=\"\",\"\",UPPER(Mainframe!O113))","v":""},{"$f":"IF(AZ114=\"\",\"\",IF(NOT(ISNA(VLOOKUP(AZ114,Answers!AW:AZ,4,FALSE))),VLOOKUP(AZ114,Answers!AW:AZ,4,FALSE),\"Help!\"))","v":""},null,{"$f":"IF(BA114=\"\",\"\",AY114+IF(BA114=\"XX\",VLOOKUP(\"WRONG\",Answers!AW:AZ,4,FALSE),BA114)+BB114)","v":""},{"$f":"IF($B114=\"\",\"\",UPPER(Mainframe!P113))","v":""},{"$f":"IF(BD114=\"\",\"\",IF(NOT(ISNA(VLOOKUP(BD114,Answers!BA:BD,4,FALSE))),VLOOKUP(BD114,Answers!BA:BD,4,FALSE),\"Help!\"))","v":""},null,{"$f":"IF(BE114=\"\",\"\",BC114+IF(BE114=\"XX\",VLOOKUP(\"WRONG\",Answers!BA:BD,4,FALSE),BE114)+BF114)","v":""},{"$f":"IF($B114=\"\",\"\",UPPER(Mainframe!Q113))","v":""},{"$f":"IF(BH114=\"\",\"\",IF(NOT(ISNA(VLOOKUP(BH114,Answers!BE:BH,4,FALSE))),VLOOKUP(BH114,Answers!BE:BH,4,FALSE),\"Help!\"))","v":""},null,{"$f":"IF(BI114=\"\",\"\",BG114+IF(BI114=\"XX\",VLOOKUP(\"WRONG\",Answers!BE:BH,4,FALSE),BI114)+BJ114)","v":""},{"$f":"IF($B114=\"\",\"\",UPPER(Mainframe!R113))","v":""},{"$f":"IF(BL114=\"\",\"\",IF(NOT(ISNA(VLOOKUP(BL114,Answers!BI:BL,4,FALSE))),VLOOKUP(BL114,Answers!BI:BL,4,FALSE),\"Help!\"))","v":""},null,{"$f":"IF(BM114=\"\",\"\",BK114+IF(BM114=\"XX\",VLOOKUP(\"WRONG\",Answers!BI:BL,4,FALSE),BM114)+BN114)","v":""},{"$f":"IF($B114=\"\",\"\",UPPER(Mainframe!S113))","v":""},{"$f":"IF(BP114=\"\",\"\",IF(NOT(ISNA(VLOOKUP(BP114,Answers!BM:BP,4,FALSE))),VLOOKUP(BP114,Answers!BM:BP,4,FALSE),\"Help!\"))","v":""},null,{"$f":"IF(BQ114=\"\",\"\",BO114+IF(BQ114=\"XX\",VLOOKUP(\"WRONG\",Answers!BM:BP,4,FALSE),BQ114)+BR114)","v":""},{"$f":"IF($B114=\"\",\"\",UPPER(Mainframe!T113))","v":""},{"$f":"IF(BT114=\"\",\"\",IF(NOT(ISNA(VLOOKUP(BT114,Answers!BQ:BT,4,FALSE))),VLOOKUP(BT114,Answers!BQ:BT,4,FALSE),\"Help!\"))","v":""},null,{"$f":"IF(BU114=\"\",\"\",BS114+IF(BU114=\"XX\",VLOOKUP(\"WRONG\",Answers!BQ:BT,4,FALSE),BU114)+BV114)","v":""},{"$f":"IF($B114=\"\",\"\",UPPER(Mainframe!U113))","v":""},{"$f":"IF(BX114=\"\",\"\",IF(NOT(ISNA(VLOOKUP(BX114,Answers!BU:BX,4,FALSE))),VLOOKUP(BX114,Answers!BU:BX,4,FALSE),\"Help!\"))","v":""},null,{"$f":"IF(BY114=\"\",\"\",BW114+IF(BY114=\"XX\",VLOOKUP(\"WRONG\",Answers!BU:BX,4,FALSE),BY114)+BZ114)","v":""},{"$f":"IF($B114=\"\",\"\",UPPER(Mainframe!V113))","v":""},{"$f":"IF(CB114=\"\",\"\",IF(NOT(ISNA(VLOOKUP(CB114,Answers!BY:CB,4,FALSE))),VLOOKUP(CB114,Answers!BY:CB,4,FALSE),\"Help!\"))","v":""},null,{"$f":"IF(CC114=\"\",\"\",CA114+IF(CC114=\"XX\",VLOOKUP(\"WRONG\",Answers!BY:CB,4,FALSE),CC114)+CD114)","v":""},null,null,1,{"$f":"IF(INDEX($B:$CE,ROW(),QNO*4-1)=DROPNAME,DROPNAME,IF(INDEX($B:$CE,ROW(),QNO*4-1)=SHEEPNAME,SHEEPNAME,IF(INDEX($B:$CE,ROW(),QNO*4)=\"XX\",INDEX($B:$CE,ROW(),QNO*4-1),INDEX(OFFSET(Answers!B:B,0,(QNO-1)*4),MATCH(INDEX($A:$CB,ROW(),QNO*4),OFFSET(Answers!A:A,0,(QNO-1)*4),0))&\" — \"&IF(INDEX($B:$CE,ROW(),QNO*4)=1,\"[b]Singleton![/b]\",CONCATENATE(INDEX($B:$CE,ROW(),QNO*4),\" responses\")))))","v":{"$error":"#N/A"}},"//////////////////////////////////","No",{"$f":"IF(B114=0,\"\",CONCATENATE(INDEX($CH:$CL,ROW(),1),\". \",INDEX($B:$CE,ROW(),1),\" — [b]\")&IF(QNO=1,CONCATENATE(INDEX($B:$CE,ROW(),QNO*4+2),\"[/b] pts\"),CONCATENATE(INDEX($B:$CE,ROW(),QNO*4-2),\" + \",IF(INDEX($B:$CE,ROW(),QNO*4)=\"XX\",INDEX(Answers!$A:$ZZ,2,QNO*4),INDEX($B:$CE,ROW(),QNO*4)),\" = \",INDEX($B:$CE,ROW(),QNO*4+2),\"[/b] pts \",IF(INDEX($C:$CE,ROW(),QNO*4)>0,\"(penalty: +\"&INDEX($C:$CE,ROW(),QNO*4)&\") \",IF(INDEX($C:$CE,ROW(),QNO*4)<0,\"(bonus: \"&INDEX($C:$CE,ROW(),QNO*4)&\") \",\"\"))&\"[[b]\"&IF(CN114>0,\"[color=#00BF00]↑\"&CN114,IF(CN114<0,\"[color=#FF0000]↓\"&ABS(CN114),\"[color=#0000FF]unch\"))&\"[/b][/color]]\")))","v":"1.  — [b][/b] pts"},1,0]
["[*]",{"$f":"IF(Mainframe!B114=\"\",\"\",INDEX(Mainframe!$B:$B,C115+1,1))","v":""},113,{"$f":"IF($B115=\"\",\"\",UPPER(Mainframe!C114))","v":""},{"$f":"IF(D115=\"\",\"\",IF(NOT(ISNA(VLOOKUP(D115,Answers!A:D,4,FALSE))),VLOOKUP(D115,Answers!A:D,4,FALSE),\"Help!\"))","v":""},null,{"$f":"IF(E115=\"\",\"\",IF(E115=\"XX\",VLOOKUP(\"WRONG\",Answers!A:D,4,FALSE),E115)+F115)","v":""},{"$f":"IF($B115=\"\",\"\",UPPER(Mainframe!D114))","v":""},{"$f":"IF(H115=\"\",\"\",IF(NOT(ISNA(VLOOKUP(H115,Answers!E:H,4,FALSE))),VLOOKUP(H115,Answers!E:H,4,FALSE),\"Help!\"))","v":""},null,{"$f":"IF(I115=\"\",\"\",G115+IF(I115=\"XX\",VLOOKUP(\"WRONG\",Answers!E:H,4,FALSE),I115)+J115)","v":""},{"$f":"IF($B115=\"\",\"\",UPPER(Mainframe!E114))","v":""},{"$f":"IF(L115=\"\",\"\",IF(NOT(ISNA(VLOOKUP(L115,Answers!I:L,4,FALSE))),VLOOKUP(L115,Answers!I:L,4,FALSE),\"Help!\"))","v":""},null,{"$f":"IF(M115=\"\",\"\",K115+IF(M115=\"XX\",VLOOKUP(\"WRONG\",Answers!I:L,4,FALSE),M115)+N115)","v":""},{"$f":"IF($B115=\"\",\"\",UPPER(Mainframe!F114))","v":""},{"$f":"IF(P115=\"\",\"\",IF(NOT(ISNA(VLOOKUP(P115,Answers!M:P,4,FALSE))),VLOOKUP(P115,Answers!M:P,4,FALSE),\"Help!\"))","v":""},null,{"$f":"IF(Q115=\"\",\"\",O115+IF(Q115=\"XX\",VLOOKUP(\"WRONG\",Answers!M:P,4,FALSE),Q115)+R115)","v":""},{"$f":"IF($B115=\"\",\"\",UPPER(Mainframe!G114))","v":""},{"$f":"IF(T115=\"\",\"\",IF(NOT(ISNA(VLOOKUP(T115,Answers!Q:T,4,FALSE))),VLOOKUP(T115,Answers!Q:T,4,FALSE),\"Help!\"))","v":""},null,{"$f":"IF(U115=\"\",\"\",S115+IF(U115=\"XX\",VLOOKUP(\"WRONG\",Answers!Q:T,4,FALSE),U115)+V115)","v":""},{"$f":"IF($B115=\"\",\"\",UPPER(Mainframe!H114))","v":""},{"$f":"IF(X115=\"\",\"\",IF(NOT(ISNA(VLOOKUP(X115,Answers!U:X,4,FALSE))),VLOOKUP(X115,Answers!U:X,4,FALSE),\"Help!\"))","v":""},null,{"$f":"IF(Y115=\"\",\"\",W115+IF(Y115=\"XX\",VLOOKUP(\"WRONG\",Answers!U:X,4,FALSE),Y115)+Z115)","v":""},{"$f":"IF($B115=\"\",\"\",UPPER(Mainframe!I114))","v":""},{"$f":"IF(AB115=\"\",\"\",IF(NOT(ISNA(VLOOKUP(AB115,Answers!Y:AB,4,FALSE))),VLOOKUP(AB115,Answers!Y:AB,4,FALSE),\"Help!\"))","v":""},null,{"$f":"IF(AC115=\"\",\"\",AA115+IF(AC115=\"XX\",VLOOKUP(\"WRONG\",Answers!Y:AB,4,FALSE),AC115)+AD115)","v":""},{"$f":"IF($B115=\"\",\"\",UPPER(Mainframe!J114))","v":""},{"$f":"IF(AF115=\"\",\"\",IF(NOT(ISNA(VLOOKUP(AF115,Answers!AC:AF,4,FALSE))),VLOOKUP(AF115,Answers!AC:AF,4,FALSE),\"Help!\"))","v":""},null,{"$f":"IF(AG115=\"\",\"\",AE115+IF(AG115=\"XX\",VLOOKUP(\"WRONG\",Answers!AC:AF,4,FALSE),AG115)+AH115)","v":""},{"$f":"IF($B115=\"\",\"\",UPPER(Mainframe!K114))","v":""},{"$f":"IF(AJ115=\"\",\"\",IF(NOT(ISNA(VLOOKUP(AJ115,Answers!AG:AJ,4,FALSE))),VLOOKUP(AJ115,Answers!AG:AJ,4,FALSE),\"Help!\"))","v":""},null,{"$f":"IF(AK115=\"\",\"\",AI115+IF(AK115=\"XX\",VLOOKUP(\"WRONG\",Answers!AG:AJ,4,FALSE),AK115)+AL115)","v":""},{"$f":"IF($B115=\"\",\"\",UPPER(Mainframe!L114))","v":""},{"$f":"IF(AN115=\"\",\"\",IF(NOT(ISNA(VLOOKUP(AN115,Answers!AK:AN,4,FALSE))),VLOOKUP(AN115,Answers!AK:AN,4,FALSE),\"Help!\"))","v":""},null,{"$f":"IF(AO115=\"\",\"\",AM115+IF(AO115=\"XX\",VLOOKUP(\"WRONG\",Answers!AK:AN,4,FALSE),AO115)+AP115)","v":""},{"$f":"IF($B115=\"\",\"\",UPPER(Mainframe!M114))","v":""},{"$f":"IF(AR115=\"\",\"\",IF(NOT(ISNA(VLOOKUP(AR115,Answers!AO:AR,4,FALSE))),VLOOKUP(AR115,Answers!AO:AR,4,FALSE),\"Help!\"))","v":""},null,{"$f":"IF(AS115=\"\",\"\",AQ115+IF(AS115=\"XX\",VLOOKUP(\"WRONG\",Answers!AO:AR,4,FALSE),AS115)+AT115)","v":""},{"$f":"IF($B115=\"\",\"\",UPPER(Mainframe!N114))","v":""},{"$f":"IF(AV115=\"\",\"\",IF(NOT(ISNA(VLOOKUP(AV115,Answers!AS:AV,4,FALSE))),VLOOKUP(AV115,Answers!AS:AV,4,FALSE),\"Help!\"))","v":""},null,{"$f":"IF(AW115=\"\",\"\",AU115+IF(AW115=\"XX\",VLOOKUP(\"WRONG\",Answers!AS:AV,4,FALSE),AW115)+AX115)","v":""},{"$f":"IF($B115=\"\",\"\",UPPER(Mainframe!O114))","v":""},{"$f":"IF(AZ115=\"\",\"\",IF(NOT(ISNA(VLOOKUP(AZ115,Answers!AW:AZ,4,FALSE))),VLOOKUP(AZ115,Answers!AW:AZ,4,FALSE),\"Help!\"))","v":""},null,{"$f":"IF(BA115=\"\",\"\",AY115+IF(BA115=\"XX\",VLOOKUP(\"WRONG\",Answers!AW:AZ,4,FALSE),BA115)+BB115)","v":""},{"$f":"IF($B115=\"\",\"\",UPPER(Mainframe!P114))","v":""},{"$f":"IF(BD115=\"\",\"\",IF(NOT(ISNA(VLOOKUP(BD115,Answers!BA:BD,4,FALSE))),VLOOKUP(BD115,Answers!BA:BD,4,FALSE),\"Help!\"))","v":""},null,{"$f":"IF(BE115=\"\",\"\",BC115+IF(BE115=\"XX\",VLOOKUP(\"WRONG\",Answers!BA:BD,4,FALSE),BE115)+BF115)","v":""},{"$f":"IF($B115=\"\",\"\",UPPER(Mainframe!Q114))","v":""},{"$f":"IF(BH115=\"\",\"\",IF(NOT(ISNA(VLOOKUP(BH115,Answers!BE:BH,4,FALSE))),VLOOKUP(BH115,Answers!BE:BH,4,FALSE),\"Help!\"))","v":""},null,{"$f":"IF(BI115=\"\",\"\",BG115+IF(BI115=\"XX\",VLOOKUP(\"WRONG\",Answers!BE:BH,4,FALSE),BI115)+BJ115)","v":""},{"$f":"IF($B115=\"\",\"\",UPPER(Mainframe!R114))","v":""},{"$f":"IF(BL115=\"\",\"\",IF(NOT(ISNA(VLOOKUP(BL115,Answers!BI:BL,4,FALSE))),VLOOKUP(BL115,Answers!BI:BL,4,FALSE),\"Help!\"))","v":""},null,{"$f":"IF(BM115=\"\",\"\",BK115+IF(BM115=\"XX\",VLOOKUP(\"WRONG\",Answers!BI:BL,4,FALSE),BM115)+BN115)","v":""},{"$f":"IF($B115=\"\",\"\",UPPER(Mainframe!S114))","v":""},{"$f":"IF(BP115=\"\",\"\",IF(NOT(ISNA(VLOOKUP(BP115,Answers!BM:BP,4,FALSE))),VLOOKUP(BP115,Answers!BM:BP,4,FALSE),\"Help!\"))","v":""},null,{"$f":"IF(BQ115=\"\",\"\",BO115+IF(BQ115=\"XX\",VLOOKUP(\"WRONG\",Answers!BM:BP,4,FALSE),BQ115)+BR115)","v":""},{"$f":"IF($B115=\"\",\"\",UPPER(Mainframe!T114))","v":""},{"$f":"IF(BT115=\"\",\"\",IF(NOT(ISNA(VLOOKUP(BT115,Answers!BQ:BT,4,FALSE))),VLOOKUP(BT115,Answers!BQ:BT,4,FALSE),\"Help!\"))","v":""},null,{"$f":"IF(BU115=\"\",\"\",BS115+IF(BU115=\"XX\",VLOOKUP(\"WRONG\",Answers!BQ:BT,4,FALSE),BU115)+BV115)","v":""},{"$f":"IF($B115=\"\",\"\",UPPER(Mainframe!U114))","v":""},{"$f":"IF(BX115=\"\",\"\",IF(NOT(ISNA(VLOOKUP(BX115,Answers!BU:BX,4,FALSE))),VLOOKUP(BX115,Answers!BU:BX,4,FALSE),\"Help!\"))","v":""},null,{"$f":"IF(BY115=\"\",\"\",BW115+IF(BY115=\"XX\",VLOOKUP(\"WRONG\",Answers!BU:BX,4,FALSE),BY115)+BZ115)","v":""},{"$f":"IF($B115=\"\",\"\",UPPER(Mainframe!V114))","v":""},{"$f":"IF(CB115=\"\",\"\",IF(NOT(ISNA(VLOOKUP(CB115,Answers!BY:CB,4,FALSE))),VLOOKUP(CB115,Answers!BY:CB,4,FALSE),\"Help!\"))","v":""},null,{"$f":"IF(CC115=\"\",\"\",CA115+IF(CC115=\"XX\",VLOOKUP(\"WRONG\",Answers!BY:CB,4,FALSE),CC115)+CD115)","v":""},null,null,1,{"$f":"IF(INDEX($B:$CE,ROW(),QNO*4-1)=DROPNAME,DROPNAME,IF(INDEX($B:$CE,ROW(),QNO*4-1)=SHEEPNAME,SHEEPNAME,IF(INDEX($B:$CE,ROW(),QNO*4)=\"XX\",INDEX($B:$CE,ROW(),QNO*4-1),INDEX(OFFSET(Answers!B:B,0,(QNO-1)*4),MATCH(INDEX($A:$CB,ROW(),QNO*4),OFFSET(Answers!A:A,0,(QNO-1)*4),0))&\" — \"&IF(INDEX($B:$CE,ROW(),QNO*4)=1,\"[b]Singleton![/b]\",CONCATENATE(INDEX($B:$CE,ROW(),QNO*4),\" responses\")))))","v":{"$error":"#N/A"}},"////////////////////////////////","No",{"$f":"IF(B115=0,\"\",CONCATENATE(INDEX($CH:$CL,ROW(),1),\". \",INDEX($B:$CE,ROW(),1),\" — [b]\")&IF(QNO=1,CONCATENATE(INDEX($B:$CE,ROW(),QNO*4+2),\"[/b] pts\"),CONCATENATE(INDEX($B:$CE,ROW(),QNO*4-2),\" + \",IF(INDEX($B:$CE,ROW(),QNO*4)=\"XX\",INDEX(Answers!$A:$ZZ,2,QNO*4),INDEX($B:$CE,ROW(),QNO*4)),\" = \",INDEX($B:$CE,ROW(),QNO*4+2),\"[/b] pts \",IF(INDEX($C:$CE,ROW(),QNO*4)>0,\"(penalty: +\"&INDEX($C:$CE,ROW(),QNO*4)&\") \",IF(INDEX($C:$CE,ROW(),QNO*4)<0,\"(bonus: \"&INDEX($C:$CE,ROW(),QNO*4)&\") \",\"\"))&\"[[b]\"&IF(CN115>0,\"[color=#00BF00]↑\"&CN115,IF(CN115<0,\"[color=#FF0000]↓\"&ABS(CN115),\"[color=#0000FF]unch\"))&\"[/b][/color]]\")))","v":"1.  — [b][/b] pts"},1,0]
["[*]",{"$f":"IF(Mainframe!B115=\"\",\"\",INDEX(Mainframe!$B:$B,C116+1,1))","v":""},114,{"$f":"IF($B116=\"\",\"\",UPPER(Mainframe!C115))","v":""},{"$f":"IF(D116=\"\",\"\",IF(NOT(ISNA(VLOOKUP(D116,Answers!A:D,4,FALSE))),VLOOKUP(D116,Answers!A:D,4,FALSE),\"Help!\"))","v":""},null,{"$f":"IF(E116=\"\",\"\",IF(E116=\"XX\",VLOOKUP(\"WRONG\",Answers!A:D,4,FALSE),E116)+F116)","v":""},{"$f":"IF($B116=\"\",\"\",UPPER(Mainframe!D115))","v":""},{"$f":"IF(H116=\"\",\"\",IF(NOT(ISNA(VLOOKUP(H116,Answers!E:H,4,FALSE))),VLOOKUP(H116,Answers!E:H,4,FALSE),\"Help!\"))","v":""},null,{"$f":"IF(I116=\"\",\"\",G116+IF(I116=\"XX\",VLOOKUP(\"WRONG\",Answers!E:H,4,FALSE),I116)+J116)","v":""},{"$f":"IF($B116=\"\",\"\",UPPER(Mainframe!E115))","v":""},{"$f":"IF(L116=\"\",\"\",IF(NOT(ISNA(VLOOKUP(L116,Answers!I:L,4,FALSE))),VLOOKUP(L116,Answers!I:L,4,FALSE),\"Help!\"))","v":""},null,{"$f":"IF(M116=\"\",\"\",K116+IF(M116=\"XX\",VLOOKUP(\"WRONG\",Answers!I:L,4,FALSE),M116)+N116)","v":""},{"$f":"IF($B116=\"\",\"\",UPPER(Mainframe!F115))","v":""},{"$f":"IF(P116=\"\",\"\",IF(NOT(ISNA(VLOOKUP(P116,Answers!M:P,4,FALSE))),VLOOKUP(P116,Answers!M:P,4,FALSE),\"Help!\"))","v":""},null,{"$f":"IF(Q116=\"\",\"\",O116+IF(Q116=\"XX\",VLOOKUP(\"WRONG\",Answers!M:P,4,FALSE),Q116)+R116)","v":""},{"$f":"IF($B116=\"\",\"\",UPPER(Mainframe!G115))","v":""},{"$f":"IF(T116=\"\",\"\",IF(NOT(ISNA(VLOOKUP(T116,Answers!Q:T,4,FALSE))),VLOOKUP(T116,Answers!Q:T,4,FALSE),\"Help!\"))","v":""},null,{"$f":"IF(U116=\"\",\"\",S116+IF(U116=\"XX\",VLOOKUP(\"WRONG\",Answers!Q:T,4,FALSE),U116)+V116)","v":""},{"$f":"IF($B116=\"\",\"\",UPPER(Mainframe!H115))","v":""},{"$f":"IF(X116=\"\",\"\",IF(NOT(ISNA(VLOOKUP(X116,Answers!U:X,4,FALSE))),VLOOKUP(X116,Answers!U:X,4,FALSE),\"Help!\"))","v":""},null,{"$f":"IF(Y116=\"\",\"\",W116+IF(Y116=\"XX\",VLOOKUP(\"WRONG\",Answers!U:X,4,FALSE),Y116)+Z116)","v":""},{"$f":"IF($B116=\"\",\"\",UPPER(Mainframe!I115))","v":""},{"$f":"IF(AB116=\"\",\"\",IF(NOT(ISNA(VLOOKUP(AB116,Answers!Y:AB,4,FALSE))),VLOOKUP(AB116,Answers!Y:AB,4,FALSE),\"Help!\"))","v":""},null,{"$f":"IF(AC116=\"\",\"\",AA116+IF(AC116=\"XX\",VLOOKUP(\"WRONG\",Answers!Y:AB,4,FALSE),AC116)+AD116)","v":""},{"$f":"IF($B116=\"\",\"\",UPPER(Mainframe!J115))","v":""},{"$f":"IF(AF116=\"\",\"\",IF(NOT(ISNA(VLOOKUP(AF116,Answers!AC:AF,4,FALSE))),VLOOKUP(AF116,Answers!AC:AF,4,FALSE),\"Help!\"))","v":""},null,{"$f":"IF(AG116=\"\",\"\",AE116+IF(AG116=\"XX\",VLOOKUP(\"WRONG\",Answers!AC:AF,4,FALSE),AG116)+AH116)","v":""},{"$f":"IF($B116=\"\",\"\",UPPER(Mainframe!K115))","v":""},{"$f":"IF(AJ116=\"\",\"\",IF(NOT(ISNA(VLOOKUP(AJ116,Answers!AG:AJ,4,FALSE))),VLOOKUP(AJ116,Answers!AG:AJ,4,FALSE),\"Help!\"))","v":""},null,{"$f":"IF(AK116=\"\",\"\",AI116+IF(AK116=\"XX\",VLOOKUP(\"WRONG\",Answers!AG:AJ,4,FALSE),AK116)+AL116)","v":""},{"$f":"IF($B116=\"\",\"\",UPPER(Mainframe!L115))","v":""},{"$f":"IF(AN116=\"\",\"\",IF(NOT(ISNA(VLOOKUP(AN116,Answers!AK:AN,4,FALSE))),VLOOKUP(AN116,Answers!AK:AN,4,FALSE),\"Help!\"))","v":""},null,{"$f":"IF(AO116=\"\",\"\",AM116+IF(AO116=\"XX\",VLOOKUP(\"WRONG\",Answers!AK:AN,4,FALSE),AO116)+AP116)","v":""},{"$f":"IF($B116=\"\",\"\",UPPER(Mainframe!M115))","v":""},{"$f":"IF(AR116=\"\",\"\",IF(NOT(ISNA(VLOOKUP(AR116,Answers!AO:AR,4,FALSE))),VLOOKUP(AR116,Answers!AO:AR,4,FALSE),\"Help!\"))","v":""},null,{"$f":"IF(AS116=\"\",\"\",AQ116+IF(AS116=\"XX\",VLOOKUP(\"WRONG\",Answers!AO:AR,4,FALSE),AS116)+AT116)","v":""},{"$f":"IF($B116=\"\",\"\",UPPER(Mainframe!N115))","v":""},{"$f":"IF(AV116=\"\",\"\",IF(NOT(ISNA(VLOOKUP(AV116,Answers!AS:AV,4,FALSE))),VLOOKUP(AV116,Answers!AS:AV,4,FALSE),\"Help!\"))","v":""},null,{"$f":"IF(AW116=\"\",\"\",AU116+IF(AW116=\"XX\",VLOOKUP(\"WRONG\",Answers!AS:AV,4,FALSE),AW116)+AX116)","v":""},{"$f":"IF($B116=\"\",\"\",UPPER(Mainframe!O115))","v":""},{"$f":"IF(AZ116=\"\",\"\",IF(NOT(ISNA(VLOOKUP(AZ116,Answers!AW:AZ,4,FALSE))),VLOOKUP(AZ116,Answers!AW:AZ,4,FALSE),\"Help!\"))","v":""},null,{"$f":"IF(BA116=\"\",\"\",AY116+IF(BA116=\"XX\",VLOOKUP(\"WRONG\",Answers!AW:AZ,4,FALSE),BA116)+BB116)","v":""},{"$f":"IF($B116=\"\",\"\",UPPER(Mainframe!P115))","v":""},{"$f":"IF(BD116=\"\",\"\",IF(NOT(ISNA(VLOOKUP(BD116,Answers!BA:BD,4,FALSE))),VLOOKUP(BD116,Answers!BA:BD,4,FALSE),\"Help!\"))","v":""},null,{"$f":"IF(BE116=\"\",\"\",BC116+IF(BE116=\"XX\",VLOOKUP(\"WRONG\",Answers!BA:BD,4,FALSE),BE116)+BF116)","v":""},{"$f":"IF($B116=\"\",\"\",UPPER(Mainframe!Q115))","v":""},{"$f":"IF(BH116=\"\",\"\",IF(NOT(ISNA(VLOOKUP(BH116,Answers!BE:BH,4,FALSE))),VLOOKUP(BH116,Answers!BE:BH,4,FALSE),\"Help!\"))","v":""},null,{"$f":"IF(BI116=\"\",\"\",BG116+IF(BI116=\"XX\",VLOOKUP(\"WRONG\",Answers!BE:BH,4,FALSE),BI116)+BJ116)","v":""},{"$f":"IF($B116=\"\",\"\",UPPER(Mainframe!R115))","v":""},{"$f":"IF(BL116=\"\",\"\",IF(NOT(ISNA(VLOOKUP(BL116,Answers!BI:BL,4,FALSE))),VLOOKUP(BL116,Answers!BI:BL,4,FALSE),\"Help!\"))","v":""},null,{"$f":"IF(BM116=\"\",\"\",BK116+IF(BM116=\"XX\",VLOOKUP(\"WRONG\",Answers!BI:BL,4,FALSE),BM116)+BN116)","v":""},{"$f":"IF($B116=\"\",\"\",UPPER(Mainframe!S115))","v":""},{"$f":"IF(BP116=\"\",\"\",IF(NOT(ISNA(VLOOKUP(BP116,Answers!BM:BP,4,FALSE))),VLOOKUP(BP116,Answers!BM:BP,4,FALSE),\"Help!\"))","v":""},null,{"$f":"IF(BQ116=\"\",\"\",BO116+IF(BQ116=\"XX\",VLOOKUP(\"WRONG\",Answers!BM:BP,4,FALSE),BQ116)+BR116)","v":""},{"$f":"IF($B116=\"\",\"\",UPPER(Mainframe!T115))","v":""},{"$f":"IF(BT116=\"\",\"\",IF(NOT(ISNA(VLOOKUP(BT116,Answers!BQ:BT,4,FALSE))),VLOOKUP(BT116,Answers!BQ:BT,4,FALSE),\"Help!\"))","v":""},null,{"$f":"IF(BU116=\"\",\"\",BS116+IF(BU116=\"XX\",VLOOKUP(\"WRONG\",Answers!BQ:BT,4,FALSE),BU116)+BV116)","v":""},{"$f":"IF($B116=\"\",\"\",UPPER(Mainframe!U115))","v":""},{"$f":"IF(BX116=\"\",\"\",IF(NOT(ISNA(VLOOKUP(BX116,Answers!BU:BX,4,FALSE))),VLOOKUP(BX116,Answers!BU:BX,4,FALSE),\"Help!\"))","v":""},null,{"$f":"IF(BY116=\"\",\"\",BW116+IF(BY116=\"XX\",VLOOKUP(\"WRONG\",Answers!BU:BX,4,FALSE),BY116)+BZ116)","v":""},{"$f":"IF($B116=\"\",\"\",UPPER(Mainframe!V115))","v":""},{"$f":"IF(CB116=\"\",\"\",IF(NOT(ISNA(VLOOKUP(CB116,Answers!BY:CB,4,FALSE))),VLOOKUP(CB116,Answers!BY:CB,4,FALSE),\"Help!\"))","v":""},null,{"$f":"IF(CC116=\"\",\"\",CA116+IF(CC116=\"XX\",VLOOKUP(\"WRONG\",Answers!BY:CB,4,FALSE),CC116)+CD116)","v":""},null,null,1,{"$f":"IF(INDEX($B:$CE,ROW(),QNO*4-1)=DROPNAME,DROPNAME,IF(INDEX($B:$CE,ROW(),QNO*4-1)=SHEEPNAME,SHEEPNAME,IF(INDEX($B:$CE,ROW(),QNO*4)=\"XX\",INDEX($B:$CE,ROW(),QNO*4-1),INDEX(OFFSET(Answers!B:B,0,(QNO-1)*4),MATCH(INDEX($A:$CB,ROW(),QNO*4),OFFSET(Answers!A:A,0,(QNO-1)*4),0))&\" — \"&IF(INDEX($B:$CE,ROW(),QNO*4)=1,\"[b]Singleton![/b]\",CONCATENATE(INDEX($B:$CE,ROW(),QNO*4),\" responses\")))))","v":{"$error":"#N/A"}},"//////////////////////////////","No",{"$f":"IF(B116=0,\"\",CONCATENATE(INDEX($CH:$CL,ROW(),1),\". \",INDEX($B:$CE,ROW(),1),\" — [b]\")&IF(QNO=1,CONCATENATE(INDEX($B:$CE,ROW(),QNO*4+2),\"[/b] pts\"),CONCATENATE(INDEX($B:$CE,ROW(),QNO*4-2),\" + \",IF(INDEX($B:$CE,ROW(),QNO*4)=\"XX\",INDEX(Answers!$A:$ZZ,2,QNO*4),INDEX($B:$CE,ROW(),QNO*4)),\" = \",INDEX($B:$CE,ROW(),QNO*4+2),\"[/b] pts \",IF(INDEX($C:$CE,ROW(),QNO*4)>0,\"(penalty: +\"&INDEX($C:$CE,ROW(),QNO*4)&\") \",IF(INDEX($C:$CE,ROW(),QNO*4)<0,\"(bonus: \"&INDEX($C:$CE,ROW(),QNO*4)&\") \",\"\"))&\"[[b]\"&IF(CN116>0,\"[color=#00BF00]↑\"&CN116,IF(CN116<0,\"[color=#FF0000]↓\"&ABS(CN116),\"[color=#0000FF]unch\"))&\"[/b][/color]]\")))","v":"1.  — [b][/b] pts"},1,0]
["[*]",{"$f":"IF(Mainframe!B116=\"\",\"\",INDEX(Mainframe!$B:$B,C117+1,1))","v":""},115,{"$f":"IF($B117=\"\",\"\",UPPER(Mainframe!C116))","v":""},{"$f":"IF(D117=\"\",\"\",IF(NOT(ISNA(VLOOKUP(D117,Answers!A:D,4,FALSE))),VLOOKUP(D117,Answers!A:D,4,FALSE),\"Help!\"))","v":""},null,{"$f":"IF(E117=\"\",\"\",IF(E117=\"XX\",VLOOKUP(\"WRONG\",Answers!A:D,4,FALSE),E117)+F117)","v":""},{"$f":"IF($B117=\"\",\"\",UPPER(Mainframe!D116))","v":""},{"$f":"IF(H117=\"\",\"\",IF(NOT(ISNA(VLOOKUP(H117,Answers!E:H,4,FALSE))),VLOOKUP(H117,Answers!E:H,4,FALSE),\"Help!\"))","v":""},null,{"$f":"IF(I117=\"\",\"\",G117+IF(I117=\"XX\",VLOOKUP(\"WRONG\",Answers!E:H,4,FALSE),I117)+J117)","v":""},{"$f":"IF($B117=\"\",\"\",UPPER(Mainframe!E116))","v":""},{"$f":"IF(L117=\"\",\"\",IF(NOT(ISNA(VLOOKUP(L117,Answers!I:L,4,FALSE))),VLOOKUP(L117,Answers!I:L,4,FALSE),\"Help!\"))","v":""},null,{"$f":"IF(M117=\"\",\"\",K117+IF(M117=\"XX\",VLOOKUP(\"WRONG\",Answers!I:L,4,FALSE),M117)+N117)","v":""},{"$f":"IF($B117=\"\",\"\",UPPER(Mainframe!F116))","v":""},{"$f":"IF(P117=\"\",\"\",IF(NOT(ISNA(VLOOKUP(P117,Answers!M:P,4,FALSE))),VLOOKUP(P117,Answers!M:P,4,FALSE),\"Help!\"))","v":""},null,{"$f":"IF(Q117=\"\",\"\",O117+IF(Q117=\"XX\",VLOOKUP(\"WRONG\",Answers!M:P,4,FALSE),Q117)+R117)","v":""},{"$f":"IF($B117=\"\",\"\",UPPER(Mainframe!G116))","v":""},{"$f":"IF(T117=\"\",\"\",IF(NOT(ISNA(VLOOKUP(T117,Answers!Q:T,4,FALSE))),VLOOKUP(T117,Answers!Q:T,4,FALSE),\"Help!\"))","v":""},null,{"$f":"IF(U117=\"\",\"\",S117+IF(U117=\"XX\",VLOOKUP(\"WRONG\",Answers!Q:T,4,FALSE),U117)+V117)","v":""},{"$f":"IF($B117=\"\",\"\",UPPER(Mainframe!H116))","v":""},{"$f":"IF(X117=\"\",\"\",IF(NOT(ISNA(VLOOKUP(X117,Answers!U:X,4,FALSE))),VLOOKUP(X117,Answers!U:X,4,FALSE),\"Help!\"))","v":""},null,{"$f":"IF(Y117=\"\",\"\",W117+IF(Y117=\"XX\",VLOOKUP(\"WRONG\",Answers!U:X,4,FALSE),Y117)+Z117)","v":""},{"$f":"IF($B117=\"\",\"\",UPPER(Mainframe!I116))","v":""},{"$f":"IF(AB117=\"\",\"\",IF(NOT(ISNA(VLOOKUP(AB117,Answers!Y:AB,4,FALSE))),VLOOKUP(AB117,Answers!Y:AB,4,FALSE),\"Help!\"))","v":""},null,{"$f":"IF(AC117=\"\",\"\",AA117+IF(AC117=\"XX\",VLOOKUP(\"WRONG\",Answers!Y:AB,4,FALSE),AC117)+AD117)","v":""},{"$f":"IF($B117=\"\",\"\",UPPER(Mainframe!J116))","v":""},{"$f":"IF(AF117=\"\",\"\",IF(NOT(ISNA(VLOOKUP(AF117,Answers!AC:AF,4,FALSE))),VLOOKUP(AF117,Answers!AC:AF,4,FALSE),\"Help!\"))","v":""},null,{"$f":"IF(AG117=\"\",\"\",AE117+IF(AG117=\"XX\",VLOOKUP(\"WRONG\",Answers!AC:AF,4,FALSE),AG117)+AH117)","v":""},{"$f":"IF($B117=\"\",\"\",UPPER(Mainframe!K116))","v":""},{"$f":"IF(AJ117=\"\",\"\",IF(NOT(ISNA(VLOOKUP(AJ117,Answers!AG:AJ,4,FALSE))),VLOOKUP(AJ117,Answers!AG:AJ,4,FALSE),\"Help!\"))","v":""},null,{"$f":"IF(AK117=\"\",\"\",AI117+IF(AK117=\"XX\",VLOOKUP(\"WRONG\",Answers!AG:AJ,4,FALSE),AK117)+AL117)","v":""},{"$f":"IF($B117=\"\",\"\",UPPER(Mainframe!L116))","v":""},{"$f":"IF(AN117=\"\",\"\",IF(NOT(ISNA(VLOOKUP(AN117,Answers!AK:AN,4,FALSE))),VLOOKUP(AN117,Answers!AK:AN,4,FALSE),\"Help!\"))","v":""},null,{"$f":"IF(AO117=\"\",\"\",AM117+IF(AO117=\"XX\",VLOOKUP(\"WRONG\",Answers!AK:AN,4,FALSE),AO117)+AP117)","v":""},{"$f":"IF($B117=\"\",\"\",UPPER(Mainframe!M116))","v":""},{"$f":"IF(AR117=\"\",\"\",IF(NOT(ISNA(VLOOKUP(AR117,Answers!AO:AR,4,FALSE))),VLOOKUP(AR117,Answers!AO:AR,4,FALSE),\"Help!\"))","v":""},null,{"$f":"IF(AS117=\"\",\"\",AQ117+IF(AS117=\"XX\",VLOOKUP(\"WRONG\",Answers!AO:AR,4,FALSE),AS117)+AT117)","v":""},{"$f":"IF($B117=\"\",\"\",UPPER(Mainframe!N116))","v":""},{"$f":"IF(AV117=\"\",\"\",IF(NOT(ISNA(VLOOKUP(AV117,Answers!AS:AV,4,FALSE))),VLOOKUP(AV117,Answers!AS:AV,4,FALSE),\"Help!\"))","v":""},null,{"$f":"IF(AW117=\"\",\"\",AU117+IF(AW117=\"XX\",VLOOKUP(\"WRONG\",Answers!AS:AV,4,FALSE),AW117)+AX117)","v":""},{"$f":"IF($B117=\"\",\"\",UPPER(Mainframe!O116))","v":""},{"$f":"IF(AZ117=\"\",\"\",IF(NOT(ISNA(VLOOKUP(AZ117,Answers!AW:AZ,4,FALSE))),VLOOKUP(AZ117,Answers!AW:AZ,4,FALSE),\"Help!\"))","v":""},null,{"$f":"IF(BA117=\"\",\"\",AY117+IF(BA117=\"XX\",VLOOKUP(\"WRONG\",Answers!AW:AZ,4,FALSE),BA117)+BB117)","v":""},{"$f":"IF($B117=\"\",\"\",UPPER(Mainframe!P116))","v":""},{"$f":"IF(BD117=\"\",\"\",IF(NOT(ISNA(VLOOKUP(BD117,Answers!BA:BD,4,FALSE))),VLOOKUP(BD117,Answers!BA:BD,4,FALSE),\"Help!\"))","v":""},null,{"$f":"IF(BE117=\"\",\"\",BC117+IF(BE117=\"XX\",VLOOKUP(\"WRONG\",Answers!BA:BD,4,FALSE),BE117)+BF117)","v":""},{"$f":"IF($B117=\"\",\"\",UPPER(Mainframe!Q116))","v":""},{"$f":"IF(BH117=\"\",\"\",IF(NOT(ISNA(VLOOKUP(BH117,Answers!BE:BH,4,FALSE))),VLOOKUP(BH117,Answers!BE:BH,4,FALSE),\"Help!\"))","v":""},null,{"$f":"IF(BI117=\"\",\"\",BG117+IF(BI117=\"XX\",VLOOKUP(\"WRONG\",Answers!BE:BH,4,FALSE),BI117)+BJ117)","v":""},{"$f":"IF($B117=\"\",\"\",UPPER(Mainframe!R116))","v":""},{"$f":"IF(BL117=\"\",\"\",IF(NOT(ISNA(VLOOKUP(BL117,Answers!BI:BL,4,FALSE))),VLOOKUP(BL117,Answers!BI:BL,4,FALSE),\"Help!\"))","v":""},null,{"$f":"IF(BM117=\"\",\"\",BK117+IF(BM117=\"XX\",VLOOKUP(\"WRONG\",Answers!BI:BL,4,FALSE),BM117)+BN117)","v":""},{"$f":"IF($B117=\"\",\"\",UPPER(Mainframe!S116))","v":""},{"$f":"IF(BP117=\"\",\"\",IF(NOT(ISNA(VLOOKUP(BP117,Answers!BM:BP,4,FALSE))),VLOOKUP(BP117,Answers!BM:BP,4,FALSE),\"Help!\"))","v":""},null,{"$f":"IF(BQ117=\"\",\"\",BO117+IF(BQ117=\"XX\",VLOOKUP(\"WRONG\",Answers!BM:BP,4,FALSE),BQ117)+BR117)","v":""},{"$f":"IF($B117=\"\",\"\",UPPER(Mainframe!T116))","v":""},{"$f":"IF(BT117=\"\",\"\",IF(NOT(ISNA(VLOOKUP(BT117,Answers!BQ:BT,4,FALSE))),VLOOKUP(BT117,Answers!BQ:BT,4,FALSE),\"Help!\"))","v":""},null,{"$f":"IF(BU117=\"\",\"\",BS117+IF(BU117=\"XX\",VLOOKUP(\"WRONG\",Answers!BQ:BT,4,FALSE),BU117)+BV117)","v":""},{"$f":"IF($B117=\"\",\"\",UPPER(Mainframe!U116))","v":""},{"$f":"IF(BX117=\"\",\"\",IF(NOT(ISNA(VLOOKUP(BX117,Answers!BU:BX,4,FALSE))),VLOOKUP(BX117,Answers!BU:BX,4,FALSE),\"Help!\"))","v":""},null,{"$f":"IF(BY117=\"\",\"\",BW117+IF(BY117=\"XX\",VLOOKUP(\"WRONG\",Answers!BU:BX,4,FALSE),BY117)+BZ117)","v":""},{"$f":"IF($B117=\"\",\"\",UPPER(Mainframe!V116))","v":""},{"$f":"IF(CB117=\"\",\"\",IF(NOT(ISNA(VLOOKUP(CB117,Answers!BY:CB,4,FALSE))),VLOOKUP(CB117,Answers!BY:CB,4,FALSE),\"Help!\"))","v":""},null,{"$f":"IF(CC117=\"\",\"\",CA117+IF(CC117=\"XX\",VLOOKUP(\"WRONG\",Answers!BY:CB,4,FALSE),CC117)+CD117)","v":""},null,null,1,{"$f":"IF(INDEX($B:$CE,ROW(),QNO*4-1)=DROPNAME,DROPNAME,IF(INDEX($B:$CE,ROW(),QNO*4-1)=SHEEPNAME,SHEEPNAME,IF(INDEX($B:$CE,ROW(),QNO*4)=\"XX\",INDEX($B:$CE,ROW(),QNO*4-1),INDEX(OFFSET(Answers!B:B,0,(QNO-1)*4),MATCH(INDEX($A:$CB,ROW(),QNO*4),OFFSET(Answers!A:A,0,(QNO-1)*4),0))&\" — \"&IF(INDEX($B:$CE,ROW(),QNO*4)=1,\"[b]Singleton![/b]\",CONCATENATE(INDEX($B:$CE,ROW(),QNO*4),\" responses\")))))","v":{"$error":"#N/A"}},"////////////////////////////","No",{"$f":"IF(B117=0,\"\",CONCATENATE(INDEX($CH:$CL,ROW(),1),\". \",INDEX($B:$CE,ROW(),1),\" — [b]\")&IF(QNO=1,CONCATENATE(INDEX($B:$CE,ROW(),QNO*4+2),\"[/b] pts\"),CONCATENATE(INDEX($B:$CE,ROW(),QNO*4-2),\" + \",IF(INDEX($B:$CE,ROW(),QNO*4)=\"XX\",INDEX(Answers!$A:$ZZ,2,QNO*4),INDEX($B:$CE,ROW(),QNO*4)),\" = \",INDEX($B:$CE,ROW(),QNO*4+2),\"[/b] pts \",IF(INDEX($C:$CE,ROW(),QNO*4)>0,\"(penalty: +\"&INDEX($C:$CE,ROW(),QNO*4)&\") \",IF(INDEX($C:$CE,ROW(),QNO*4)<0,\"(bonus: \"&INDEX($C:$CE,ROW(),QNO*4)&\") \",\"\"))&\"[[b]\"&IF(CN117>0,\"[color=#00BF00]↑\"&CN117,IF(CN117<0,\"[color=#FF0000]↓\"&ABS(CN117),\"[color=#0000FF]unch\"))&\"[/b][/color]]\")))","v":"1.  — [b][/b] pts"},1,0]
["[*]",{"$f":"IF(Mainframe!B117=\"\",\"\",INDEX(Mainframe!$B:$B,C118+1,1))","v":""},116,{"$f":"IF($B118=\"\",\"\",UPPER(Mainframe!C117))","v":""},{"$f":"IF(D118=\"\",\"\",IF(NOT(ISNA(VLOOKUP(D118,Answers!A:D,4,FALSE))),VLOOKUP(D118,Answers!A:D,4,FALSE),\"Help!\"))","v":""},null,{"$f":"IF(E118=\"\",\"\",IF(E118=\"XX\",VLOOKUP(\"WRONG\",Answers!A:D,4,FALSE),E118)+F118)","v":""},{"$f":"IF($B118=\"\",\"\",UPPER(Mainframe!D117))","v":""},{"$f":"IF(H118=\"\",\"\",IF(NOT(ISNA(VLOOKUP(H118,Answers!E:H,4,FALSE))),VLOOKUP(H118,Answers!E:H,4,FALSE),\"Help!\"))","v":""},null,{"$f":"IF(I118=\"\",\"\",G118+IF(I118=\"XX\",VLOOKUP(\"WRONG\",Answers!E:H,4,FALSE),I118)+J118)","v":""},{"$f":"IF($B118=\"\",\"\",UPPER(Mainframe!E117))","v":""},{"$f":"IF(L118=\"\",\"\",IF(NOT(ISNA(VLOOKUP(L118,Answers!I:L,4,FALSE))),VLOOKUP(L118,Answers!I:L,4,FALSE),\"Help!\"))","v":""},null,{"$f":"IF(M118=\"\",\"\",K118+IF(M118=\"XX\",VLOOKUP(\"WRONG\",Answers!I:L,4,FALSE),M118)+N118)","v":""},{"$f":"IF($B118=\"\",\"\",UPPER(Mainframe!F117))","v":""},{"$f":"IF(P118=\"\",\"\",IF(NOT(ISNA(VLOOKUP(P118,Answers!M:P,4,FALSE))),VLOOKUP(P118,Answers!M:P,4,FALSE),\"Help!\"))","v":""},null,{"$f":"IF(Q118=\"\",\"\",O118+IF(Q118=\"XX\",VLOOKUP(\"WRONG\",Answers!M:P,4,FALSE),Q118)+R118)","v":""},{"$f":"IF($B118=\"\",\"\",UPPER(Mainframe!G117))","v":""},{"$f":"IF(T118=\"\",\"\",IF(NOT(ISNA(VLOOKUP(T118,Answers!Q:T,4,FALSE))),VLOOKUP(T118,Answers!Q:T,4,FALSE),\"Help!\"))","v":""},null,{"$f":"IF(U118=\"\",\"\",S118+IF(U118=\"XX\",VLOOKUP(\"WRONG\",Answers!Q:T,4,FALSE),U118)+V118)","v":""},{"$f":"IF($B118=\"\",\"\",UPPER(Mainframe!H117))","v":""},{"$f":"IF(X118=\"\",\"\",IF(NOT(ISNA(VLOOKUP(X118,Answers!U:X,4,FALSE))),VLOOKUP(X118,Answers!U:X,4,FALSE),\"Help!\"))","v":""},null,{"$f":"IF(Y118=\"\",\"\",W118+IF(Y118=\"XX\",VLOOKUP(\"WRONG\",Answers!U:X,4,FALSE),Y118)+Z118)","v":""},{"$f":"IF($B118=\"\",\"\",UPPER(Mainframe!I117))","v":""},{"$f":"IF(AB118=\"\",\"\",IF(NOT(ISNA(VLOOKUP(AB118,Answers!Y:AB,4,FALSE))),VLOOKUP(AB118,Answers!Y:AB,4,FALSE),\"Help!\"))","v":""},null,{"$f":"IF(AC118=\"\",\"\",AA118+IF(AC118=\"XX\",VLOOKUP(\"WRONG\",Answers!Y:AB,4,FALSE),AC118)+AD118)","v":""},{"$f":"IF($B118=\"\",\"\",UPPER(Mainframe!J117))","v":""},{"$f":"IF(AF118=\"\",\"\",IF(NOT(ISNA(VLOOKUP(AF118,Answers!AC:AF,4,FALSE))),VLOOKUP(AF118,Answers!AC:AF,4,FALSE),\"Help!\"))","v":""},null,{"$f":"IF(AG118=\"\",\"\",AE118+IF(AG118=\"XX\",VLOOKUP(\"WRONG\",Answers!AC:AF,4,FALSE),AG118)+AH118)","v":""},{"$f":"IF($B118=\"\",\"\",UPPER(Mainframe!K117))","v":""},{"$f":"IF(AJ118=\"\",\"\",IF(NOT(ISNA(VLOOKUP(AJ118,Answers!AG:AJ,4,FALSE))),VLOOKUP(AJ118,Answers!AG:AJ,4,FALSE),\"Help!\"))","v":""},null,{"$f":"IF(AK118=\"\",\"\",AI118+IF(AK118=\"XX\",VLOOKUP(\"WRONG\",Answers!AG:AJ,4,FALSE),AK118)+AL118)","v":""},{"$f":"IF($B118=\"\",\"\",UPPER(Mainframe!L117))","v":""},{"$f":"IF(AN118=\"\",\"\",IF(NOT(ISNA(VLOOKUP(AN118,Answers!AK:AN,4,FALSE))),VLOOKUP(AN118,Answers!AK:AN,4,FALSE),\"Help!\"))","v":""},null,{"$f":"IF(AO118=\"\",\"\",AM118+IF(AO118=\"XX\",VLOOKUP(\"WRONG\",Answers!AK:AN,4,FALSE),AO118)+AP118)","v":""},{"$f":"IF($B118=\"\",\"\",UPPER(Mainframe!M117))","v":""},{"$f":"IF(AR118=\"\",\"\",IF(NOT(ISNA(VLOOKUP(AR118,Answers!AO:AR,4,FALSE))),VLOOKUP(AR118,Answers!AO:AR,4,FALSE),\"Help!\"))","v":""},null,{"$f":"IF(AS118=\"\",\"\",AQ118+IF(AS118=\"XX\",VLOOKUP(\"WRONG\",Answers!AO:AR,4,FALSE),AS118)+AT118)","v":""},{"$f":"IF($B118=\"\",\"\",UPPER(Mainframe!N117))","v":""},{"$f":"IF(AV118=\"\",\"\",IF(NOT(ISNA(VLOOKUP(AV118,Answers!AS:AV,4,FALSE))),VLOOKUP(AV118,Answers!AS:AV,4,FALSE),\"Help!\"))","v":""},null,{"$f":"IF(AW118=\"\",\"\",AU118+IF(AW118=\"XX\",VLOOKUP(\"WRONG\",Answers!AS:AV,4,FALSE),AW118)+AX118)","v":""},{"$f":"IF($B118=\"\",\"\",UPPER(Mainframe!O117))","v":""},{"$f":"IF(AZ118=\"\",\"\",IF(NOT(ISNA(VLOOKUP(AZ118,Answers!AW:AZ,4,FALSE))),VLOOKUP(AZ118,Answers!AW:AZ,4,FALSE),\"Help!\"))","v":""},null,{"$f":"IF(BA118=\"\",\"\",AY118+IF(BA118=\"XX\",VLOOKUP(\"WRONG\",Answers!AW:AZ,4,FALSE),BA118)+BB118)","v":""},{"$f":"IF($B118=\"\",\"\",UPPER(Mainframe!P117))","v":""},{"$f":"IF(BD118=\"\",\"\",IF(NOT(ISNA(VLOOKUP(BD118,Answers!BA:BD,4,FALSE))),VLOOKUP(BD118,Answers!BA:BD,4,FALSE),\"Help!\"))","v":""},null,{"$f":"IF(BE118=\"\",\"\",BC118+IF(BE118=\"XX\",VLOOKUP(\"WRONG\",Answers!BA:BD,4,FALSE),BE118)+BF118)","v":""},{"$f":"IF($B118=\"\",\"\",UPPER(Mainframe!Q117))","v":""},{"$f":"IF(BH118=\"\",\"\",IF(NOT(ISNA(VLOOKUP(BH118,Answers!BE:BH,4,FALSE))),VLOOKUP(BH118,Answers!BE:BH,4,FALSE),\"Help!\"))","v":""},null,{"$f":"IF(BI118=\"\",\"\",BG118+IF(BI118=\"XX\",VLOOKUP(\"WRONG\",Answers!BE:BH,4,FALSE),BI118)+BJ118)","v":""},{"$f":"IF($B118=\"\",\"\",UPPER(Mainframe!R117))","v":""},{"$f":"IF(BL118=\"\",\"\",IF(NOT(ISNA(VLOOKUP(BL118,Answers!BI:BL,4,FALSE))),VLOOKUP(BL118,Answers!BI:BL,4,FALSE),\"Help!\"))","v":""},null,{"$f":"IF(BM118=\"\",\"\",BK118+IF(BM118=\"XX\",VLOOKUP(\"WRONG\",Answers!BI:BL,4,FALSE),BM118)+BN118)","v":""},{"$f":"IF($B118=\"\",\"\",UPPER(Mainframe!S117))","v":""},{"$f":"IF(BP118=\"\",\"\",IF(NOT(ISNA(VLOOKUP(BP118,Answers!BM:BP,4,FALSE))),VLOOKUP(BP118,Answers!BM:BP,4,FALSE),\"Help!\"))","v":""},null,{"$f":"IF(BQ118=\"\",\"\",BO118+IF(BQ118=\"XX\",VLOOKUP(\"WRONG\",Answers!BM:BP,4,FALSE),BQ118)+BR118)","v":""},{"$f":"IF($B118=\"\",\"\",UPPER(Mainframe!T117))","v":""},{"$f":"IF(BT118=\"\",\"\",IF(NOT(ISNA(VLOOKUP(BT118,Answers!BQ:BT,4,FALSE))),VLOOKUP(BT118,Answers!BQ:BT,4,FALSE),\"Help!\"))","v":""},null,{"$f":"IF(BU118=\"\",\"\",BS118+IF(BU118=\"XX\",VLOOKUP(\"WRONG\",Answers!BQ:BT,4,FALSE),BU118)+BV118)","v":""},{"$f":"IF($B118=\"\",\"\",UPPER(Mainframe!U117))","v":""},{"$f":"IF(BX118=\"\",\"\",IF(NOT(ISNA(VLOOKUP(BX118,Answers!BU:BX,4,FALSE))),VLOOKUP(BX118,Answers!BU:BX,4,FALSE),\"Help!\"))","v":""},null,{"$f":"IF(BY118=\"\",\"\",BW118+IF(BY118=\"XX\",VLOOKUP(\"WRONG\",Answers!BU:BX,4,FALSE),BY118)+BZ118)","v":""},{"$f":"IF($B118=\"\",\"\",UPPER(Mainframe!V117))","v":""},{"$f":"IF(CB118=\"\",\"\",IF(NOT(ISNA(VLOOKUP(CB118,Answers!BY:CB,4,FALSE))),VLOOKUP(CB118,Answers!BY:CB,4,FALSE),\"Help!\"))","v":""},null,{"$f":"IF(CC118=\"\",\"\",CA118+IF(CC118=\"XX\",VLOOKUP(\"WRONG\",Answers!BY:CB,4,FALSE),CC118)+CD118)","v":""},null,null,1,{"$f":"IF(INDEX($B:$CE,ROW(),QNO*4-1)=DROPNAME,DROPNAME,IF(INDEX($B:$CE,ROW(),QNO*4-1)=SHEEPNAME,SHEEPNAME,IF(INDEX($B:$CE,ROW(),QNO*4)=\"XX\",INDEX($B:$CE,ROW(),QNO*4-1),INDEX(OFFSET(Answers!B:B,0,(QNO-1)*4),MATCH(INDEX($A:$CB,ROW(),QNO*4),OFFSET(Answers!A:A,0,(QNO-1)*4),0))&\" — \"&IF(INDEX($B:$CE,ROW(),QNO*4)=1,\"[b]Singleton![/b]\",CONCATENATE(INDEX($B:$CE,ROW(),QNO*4),\" responses\")))))","v":{"$error":"#N/A"}},"//////////////////////////","No",{"$f":"IF(B118=0,\"\",CONCATENATE(INDEX($CH:$CL,ROW(),1),\". \",INDEX($B:$CE,ROW(),1),\" — [b]\")&IF(QNO=1,CONCATENATE(INDEX($B:$CE,ROW(),QNO*4+2),\"[/b] pts\"),CONCATENATE(INDEX($B:$CE,ROW(),QNO*4-2),\" + \",IF(INDEX($B:$CE,ROW(),QNO*4)=\"XX\",INDEX(Answers!$A:$ZZ,2,QNO*4),INDEX($B:$CE,ROW(),QNO*4)),\" = \",INDEX($B:$CE,ROW(),QNO*4+2),\"[/b] pts \",IF(INDEX($C:$CE,ROW(),QNO*4)>0,\"(penalty: +\"&INDEX($C:$CE,ROW(),QNO*4)&\") \",IF(INDEX($C:$CE,ROW(),QNO*4)<0,\"(bonus: \"&INDEX($C:$CE,ROW(),QNO*4)&\") \",\"\"))&\"[[b]\"&IF(CN118>0,\"[color=#00BF00]↑\"&CN118,IF(CN118<0,\"[color=#FF0000]↓\"&ABS(CN118),\"[color=#0000FF]unch\"))&\"[/b][/color]]\")))","v":"1.  — [b][/b] pts"},1,0]
["[*]",{"$f":"IF(Mainframe!B118=\"\",\"\",INDEX(Mainframe!$B:$B,C119+1,1))","v":""},117,{"$f":"IF($B119=\"\",\"\",UPPER(Mainframe!C118))","v":""},{"$f":"IF(D119=\"\",\"\",IF(NOT(ISNA(VLOOKUP(D119,Answers!A:D,4,FALSE))),VLOOKUP(D119,Answers!A:D,4,FALSE),\"Help!\"))","v":""},null,{"$f":"IF(E119=\"\",\"\",IF(E119=\"XX\",VLOOKUP(\"WRONG\",Answers!A:D,4,FALSE),E119)+F119)","v":""},{"$f":"IF($B119=\"\",\"\",UPPER(Mainframe!D118))","v":""},{"$f":"IF(H119=\"\",\"\",IF(NOT(ISNA(VLOOKUP(H119,Answers!E:H,4,FALSE))),VLOOKUP(H119,Answers!E:H,4,FALSE),\"Help!\"))","v":""},null,{"$f":"IF(I119=\"\",\"\",G119+IF(I119=\"XX\",VLOOKUP(\"WRONG\",Answers!E:H,4,FALSE),I119)+J119)","v":""},{"$f":"IF($B119=\"\",\"\",UPPER(Mainframe!E118))","v":""},{"$f":"IF(L119=\"\",\"\",IF(NOT(ISNA(VLOOKUP(L119,Answers!I:L,4,FALSE))),VLOOKUP(L119,Answers!I:L,4,FALSE),\"Help!\"))","v":""},null,{"$f":"IF(M119=\"\",\"\",K119+IF(M119=\"XX\",VLOOKUP(\"WRONG\",Answers!I:L,4,FALSE),M119)+N119)","v":""},{"$f":"IF($B119=\"\",\"\",UPPER(Mainframe!F118))","v":""},{"$f":"IF(P119=\"\",\"\",IF(NOT(ISNA(VLOOKUP(P119,Answers!M:P,4,FALSE))),VLOOKUP(P119,Answers!M:P,4,FALSE),\"Help!\"))","v":""},null,{"$f":"IF(Q119=\"\",\"\",O119+IF(Q119=\"XX\",VLOOKUP(\"WRONG\",Answers!M:P,4,FALSE),Q119)+R119)","v":""},{"$f":"IF($B119=\"\",\"\",UPPER(Mainframe!G118))","v":""},{"$f":"IF(T119=\"\",\"\",IF(NOT(ISNA(VLOOKUP(T119,Answers!Q:T,4,FALSE))),VLOOKUP(T119,Answers!Q:T,4,FALSE),\"Help!\"))","v":""},null,{"$f":"IF(U119=\"\",\"\",S119+IF(U119=\"XX\",VLOOKUP(\"WRONG\",Answers!Q:T,4,FALSE),U119)+V119)","v":""},{"$f":"IF($B119=\"\",\"\",UPPER(Mainframe!H118))","v":""},{"$f":"IF(X119=\"\",\"\",IF(NOT(ISNA(VLOOKUP(X119,Answers!U:X,4,FALSE))),VLOOKUP(X119,Answers!U:X,4,FALSE),\"Help!\"))","v":""},null,{"$f":"IF(Y119=\"\",\"\",W119+IF(Y119=\"XX\",VLOOKUP(\"WRONG\",Answers!U:X,4,FALSE),Y119)+Z119)","v":""},{"$f":"IF($B119=\"\",\"\",UPPER(Mainframe!I118))","v":""},{"$f":"IF(AB119=\"\",\"\",IF(NOT(ISNA(VLOOKUP(AB119,Answers!Y:AB,4,FALSE))),VLOOKUP(AB119,Answers!Y:AB,4,FALSE),\"Help!\"))","v":""},null,{"$f":"IF(AC119=\"\",\"\",AA119+IF(AC119=\"XX\",VLOOKUP(\"WRONG\",Answers!Y:AB,4,FALSE),AC119)+AD119)","v":""},{"$f":"IF($B119=\"\",\"\",UPPER(Mainframe!J118))","v":""},{"$f":"IF(AF119=\"\",\"\",IF(NOT(ISNA(VLOOKUP(AF119,Answers!AC:AF,4,FALSE))),VLOOKUP(AF119,Answers!AC:AF,4,FALSE),\"Help!\"))","v":""},null,{"$f":"IF(AG119=\"\",\"\",AE119+IF(AG119=\"XX\",VLOOKUP(\"WRONG\",Answers!AC:AF,4,FALSE),AG119)+AH119)","v":""},{"$f":"IF($B119=\"\",\"\",UPPER(Mainframe!K118))","v":""},{"$f":"IF(AJ119=\"\",\"\",IF(NOT(ISNA(VLOOKUP(AJ119,Answers!AG:AJ,4,FALSE))),VLOOKUP(AJ119,Answers!AG:AJ,4,FALSE),\"Help!\"))","v":""},null,{"$f":"IF(AK119=\"\",\"\",AI119+IF(AK119=\"XX\",VLOOKUP(\"WRONG\",Answers!AG:AJ,4,FALSE),AK119)+AL119)","v":""},{"$f":"IF($B119=\"\",\"\",UPPER(Mainframe!L118))","v":""},{"$f":"IF(AN119=\"\",\"\",IF(NOT(ISNA(VLOOKUP(AN119,Answers!AK:AN,4,FALSE))),VLOOKUP(AN119,Answers!AK:AN,4,FALSE),\"Help!\"))","v":""},null,{"$f":"IF(AO119=\"\",\"\",AM119+IF(AO119=\"XX\",VLOOKUP(\"WRONG\",Answers!AK:AN,4,FALSE),AO119)+AP119)","v":""},{"$f":"IF($B119=\"\",\"\",UPPER(Mainframe!M118))","v":""},{"$f":"IF(AR119=\"\",\"\",IF(NOT(ISNA(VLOOKUP(AR119,Answers!AO:AR,4,FALSE))),VLOOKUP(AR119,Answers!AO:AR,4,FALSE),\"Help!\"))","v":""},null,{"$f":"IF(AS119=\"\",\"\",AQ119+IF(AS119=\"XX\",VLOOKUP(\"WRONG\",Answers!AO:AR,4,FALSE),AS119)+AT119)","v":""},{"$f":"IF($B119=\"\",\"\",UPPER(Mainframe!N118))","v":""},{"$f":"IF(AV119=\"\",\"\",IF(NOT(ISNA(VLOOKUP(AV119,Answers!AS:AV,4,FALSE))),VLOOKUP(AV119,Answers!AS:AV,4,FALSE),\"Help!\"))","v":""},null,{"$f":"IF(AW119=\"\",\"\",AU119+IF(AW119=\"XX\",VLOOKUP(\"WRONG\",Answers!AS:AV,4,FALSE),AW119)+AX119)","v":""},{"$f":"IF($B119=\"\",\"\",UPPER(Mainframe!O118))","v":""},{"$f":"IF(AZ119=\"\",\"\",IF(NOT(ISNA(VLOOKUP(AZ119,Answers!AW:AZ,4,FALSE))),VLOOKUP(AZ119,Answers!AW:AZ,4,FALSE),\"Help!\"))","v":""},null,{"$f":"IF(BA119=\"\",\"\",AY119+IF(BA119=\"XX\",VLOOKUP(\"WRONG\",Answers!AW:AZ,4,FALSE),BA119)+BB119)","v":""},{"$f":"IF($B119=\"\",\"\",UPPER(Mainframe!P118))","v":""},{"$f":"IF(BD119=\"\",\"\",IF(NOT(ISNA(VLOOKUP(BD119,Answers!BA:BD,4,FALSE))),VLOOKUP(BD119,Answers!BA:BD,4,FALSE),\"Help!\"))","v":""},null,{"$f":"IF(BE119=\"\",\"\",BC119+IF(BE119=\"XX\",VLOOKUP(\"WRONG\",Answers!BA:BD,4,FALSE),BE119)+BF119)","v":""},{"$f":"IF($B119=\"\",\"\",UPPER(Mainframe!Q118))","v":""},{"$f":"IF(BH119=\"\",\"\",IF(NOT(ISNA(VLOOKUP(BH119,Answers!BE:BH,4,FALSE))),VLOOKUP(BH119,Answers!BE:BH,4,FALSE),\"Help!\"))","v":""},null,{"$f":"IF(BI119=\"\",\"\",BG119+IF(BI119=\"XX\",VLOOKUP(\"WRONG\",Answers!BE:BH,4,FALSE),BI119)+BJ119)","v":""},{"$f":"IF($B119=\"\",\"\",UPPER(Mainframe!R118))","v":""},{"$f":"IF(BL119=\"\",\"\",IF(NOT(ISNA(VLOOKUP(BL119,Answers!BI:BL,4,FALSE))),VLOOKUP(BL119,Answers!BI:BL,4,FALSE),\"Help!\"))","v":""},null,{"$f":"IF(BM119=\"\",\"\",BK119+IF(BM119=\"XX\",VLOOKUP(\"WRONG\",Answers!BI:BL,4,FALSE),BM119)+BN119)","v":""},{"$f":"IF($B119=\"\",\"\",UPPER(Mainframe!S118))","v":""},{"$f":"IF(BP119=\"\",\"\",IF(NOT(ISNA(VLOOKUP(BP119,Answers!BM:BP,4,FALSE))),VLOOKUP(BP119,Answers!BM:BP,4,FALSE),\"Help!\"))","v":""},null,{"$f":"IF(BQ119=\"\",\"\",BO119+IF(BQ119=\"XX\",VLOOKUP(\"WRONG\",Answers!BM:BP,4,FALSE),BQ119)+BR119)","v":""},{"$f":"IF($B119=\"\",\"\",UPPER(Mainframe!T118))","v":""},{"$f":"IF(BT119=\"\",\"\",IF(NOT(ISNA(VLOOKUP(BT119,Answers!BQ:BT,4,FALSE))),VLOOKUP(BT119,Answers!BQ:BT,4,FALSE),\"Help!\"))","v":""},null,{"$f":"IF(BU119=\"\",\"\",BS119+IF(BU119=\"XX\",VLOOKUP(\"WRONG\",Answers!BQ:BT,4,FALSE),BU119)+BV119)","v":""},{"$f":"IF($B119=\"\",\"\",UPPER(Mainframe!U118))","v":""},{"$f":"IF(BX119=\"\",\"\",IF(NOT(ISNA(VLOOKUP(BX119,Answers!BU:BX,4,FALSE))),VLOOKUP(BX119,Answers!BU:BX,4,FALSE),\"Help!\"))","v":""},null,{"$f":"IF(BY119=\"\",\"\",BW119+IF(BY119=\"XX\",VLOOKUP(\"WRONG\",Answers!BU:BX,4,FALSE),BY119)+BZ119)","v":""},{"$f":"IF($B119=\"\",\"\",UPPER(Mainframe!V118))","v":""},{"$f":"IF(CB119=\"\",\"\",IF(NOT(ISNA(VLOOKUP(CB119,Answers!BY:CB,4,FALSE))),VLOOKUP(CB119,Answers!BY:CB,4,FALSE),\"Help!\"))","v":""},null,{"$f":"IF(CC119=\"\",\"\",CA119+IF(CC119=\"XX\",VLOOKUP(\"WRONG\",Answers!BY:CB,4,FALSE),CC119)+CD119)","v":""},null,null,1,{"$f":"IF(INDEX($B:$CE,ROW(),QNO*4-1)=DROPNAME,DROPNAME,IF(INDEX($B:$CE,ROW(),QNO*4-1)=SHEEPNAME,SHEEPNAME,IF(INDEX($B:$CE,ROW(),QNO*4)=\"XX\",INDEX($B:$CE,ROW(),QNO*4-1),INDEX(OFFSET(Answers!B:B,0,(QNO-1)*4),MATCH(INDEX($A:$CB,ROW(),QNO*4),OFFSET(Answers!A:A,0,(QNO-1)*4),0))&\" — \"&IF(INDEX($B:$CE,ROW(),QNO*4)=1,\"[b]Singleton![/b]\",CONCATENATE(INDEX($B:$CE,ROW(),QNO*4),\" responses\")))))","v":{"$error":"#N/A"}},"////////////////////////","No",{"$f":"IF(B119=0,\"\",CONCATENATE(INDEX($CH:$CL,ROW(),1),\". \",INDEX($B:$CE,ROW(),1),\" — [b]\")&IF(QNO=1,CONCATENATE(INDEX($B:$CE,ROW(),QNO*4+2),\"[/b] pts\"),CONCATENATE(INDEX($B:$CE,ROW(),QNO*4-2),\" + \",IF(INDEX($B:$CE,ROW(),QNO*4)=\"XX\",INDEX(Answers!$A:$ZZ,2,QNO*4),INDEX($B:$CE,ROW(),QNO*4)),\" = \",INDEX($B:$CE,ROW(),QNO*4+2),\"[/b] pts \",IF(INDEX($C:$CE,ROW(),QNO*4)>0,\"(penalty: +\"&INDEX($C:$CE,ROW(),QNO*4)&\") \",IF(INDEX($C:$CE,ROW(),QNO*4)<0,\"(bonus: \"&INDEX($C:$CE,ROW(),QNO*4)&\") \",\"\"))&\"[[b]\"&IF(CN119>0,\"[color=#00BF00]↑\"&CN119,IF(CN119<0,\"[color=#FF0000]↓\"&ABS(CN119),\"[color=#0000FF]unch\"))&\"[/b][/color]]\")))","v":"1.  — [b][/b] pts"},1,0]
["[*]",{"$f":"IF(Mainframe!B119=\"\",\"\",INDEX(Mainframe!$B:$B,C120+1,1))","v":""},118,{"$f":"IF($B120=\"\",\"\",UPPER(Mainframe!C119))","v":""},{"$f":"IF(D120=\"\",\"\",IF(NOT(ISNA(VLOOKUP(D120,Answers!A:D,4,FALSE))),VLOOKUP(D120,Answers!A:D,4,FALSE),\"Help!\"))","v":""},null,{"$f":"IF(E120=\"\",\"\",IF(E120=\"XX\",VLOOKUP(\"WRONG\",Answers!A:D,4,FALSE),E120)+F120)","v":""},{"$f":"IF($B120=\"\",\"\",UPPER(Mainframe!D119))","v":""},{"$f":"IF(H120=\"\",\"\",IF(NOT(ISNA(VLOOKUP(H120,Answers!E:H,4,FALSE))),VLOOKUP(H120,Answers!E:H,4,FALSE),\"Help!\"))","v":""},null,{"$f":"IF(I120=\"\",\"\",G120+IF(I120=\"XX\",VLOOKUP(\"WRONG\",Answers!E:H,4,FALSE),I120)+J120)","v":""},{"$f":"IF($B120=\"\",\"\",UPPER(Mainframe!E119))","v":""},{"$f":"IF(L120=\"\",\"\",IF(NOT(ISNA(VLOOKUP(L120,Answers!I:L,4,FALSE))),VLOOKUP(L120,Answers!I:L,4,FALSE),\"Help!\"))","v":""},null,{"$f":"IF(M120=\"\",\"\",K120+IF(M120=\"XX\",VLOOKUP(\"WRONG\",Answers!I:L,4,FALSE),M120)+N120)","v":""},{"$f":"IF($B120=\"\",\"\",UPPER(Mainframe!F119))","v":""},{"$f":"IF(P120=\"\",\"\",IF(NOT(ISNA(VLOOKUP(P120,Answers!M:P,4,FALSE))),VLOOKUP(P120,Answers!M:P,4,FALSE),\"Help!\"))","v":""},null,{"$f":"IF(Q120=\"\",\"\",O120+IF(Q120=\"XX\",VLOOKUP(\"WRONG\",Answers!M:P,4,FALSE),Q120)+R120)","v":""},{"$f":"IF($B120=\"\",\"\",UPPER(Mainframe!G119))","v":""},{"$f":"IF(T120=\"\",\"\",IF(NOT(ISNA(VLOOKUP(T120,Answers!Q:T,4,FALSE))),VLOOKUP(T120,Answers!Q:T,4,FALSE),\"Help!\"))","v":""},null,{"$f":"IF(U120=\"\",\"\",S120+IF(U120=\"XX\",VLOOKUP(\"WRONG\",Answers!Q:T,4,FALSE),U120)+V120)","v":""},{"$f":"IF($B120=\"\",\"\",UPPER(Mainframe!H119))","v":""},{"$f":"IF(X120=\"\",\"\",IF(NOT(ISNA(VLOOKUP(X120,Answers!U:X,4,FALSE))),VLOOKUP(X120,Answers!U:X,4,FALSE),\"Help!\"))","v":""},null,{"$f":"IF(Y120=\"\",\"\",W120+IF(Y120=\"XX\",VLOOKUP(\"WRONG\",Answers!U:X,4,FALSE),Y120)+Z120)","v":""},{"$f":"IF($B120=\"\",\"\",UPPER(Mainframe!I119))","v":""},{"$f":"IF(AB120=\"\",\"\",IF(NOT(ISNA(VLOOKUP(AB120,Answers!Y:AB,4,FALSE))),VLOOKUP(AB120,Answers!Y:AB,4,FALSE),\"Help!\"))","v":""},null,{"$f":"IF(AC120=\"\",\"\",AA120+IF(AC120=\"XX\",VLOOKUP(\"WRONG\",Answers!Y:AB,4,FALSE),AC120)+AD120)","v":""},{"$f":"IF($B120=\"\",\"\",UPPER(Mainframe!J119))","v":""},{"$f":"IF(AF120=\"\",\"\",IF(NOT(ISNA(VLOOKUP(AF120,Answers!AC:AF,4,FALSE))),VLOOKUP(AF120,Answers!AC:AF,4,FALSE),\"Help!\"))","v":""},null,{"$f":"IF(AG120=\"\",\"\",AE120+IF(AG120=\"XX\",VLOOKUP(\"WRONG\",Answers!AC:AF,4,FALSE),AG120)+AH120)","v":""},{"$f":"IF($B120=\"\",\"\",UPPER(Mainframe!K119))","v":""},{"$f":"IF(AJ120=\"\",\"\",IF(NOT(ISNA(VLOOKUP(AJ120,Answers!AG:AJ,4,FALSE))),VLOOKUP(AJ120,Answers!AG:AJ,4,FALSE),\"Help!\"))","v":""},null,{"$f":"IF(AK120=\"\",\"\",AI120+IF(AK120=\"XX\",VLOOKUP(\"WRONG\",Answers!AG:AJ,4,FALSE),AK120)+AL120)","v":""},{"$f":"IF($B120=\"\",\"\",UPPER(Mainframe!L119))","v":""},{"$f":"IF(AN120=\"\",\"\",IF(NOT(ISNA(VLOOKUP(AN120,Answers!AK:AN,4,FALSE))),VLOOKUP(AN120,Answers!AK:AN,4,FALSE),\"Help!\"))","v":""},null,{"$f":"IF(AO120=\"\",\"\",AM120+IF(AO120=\"XX\",VLOOKUP(\"WRONG\",Answers!AK:AN,4,FALSE),AO120)+AP120)","v":""},{"$f":"IF($B120=\"\",\"\",UPPER(Mainframe!M119))","v":""},{"$f":"IF(AR120=\"\",\"\",IF(NOT(ISNA(VLOOKUP(AR120,Answers!AO:AR,4,FALSE))),VLOOKUP(AR120,Answers!AO:AR,4,FALSE),\"Help!\"))","v":""},null,{"$f":"IF(AS120=\"\",\"\",AQ120+IF(AS120=\"XX\",VLOOKUP(\"WRONG\",Answers!AO:AR,4,FALSE),AS120)+AT120)","v":""},{"$f":"IF($B120=\"\",\"\",UPPER(Mainframe!N119))","v":""},{"$f":"IF(AV120=\"\",\"\",IF(NOT(ISNA(VLOOKUP(AV120,Answers!AS:AV,4,FALSE))),VLOOKUP(AV120,Answers!AS:AV,4,FALSE),\"Help!\"))","v":""},null,{"$f":"IF(AW120=\"\",\"\",AU120+IF(AW120=\"XX\",VLOOKUP(\"WRONG\",Answers!AS:AV,4,FALSE),AW120)+AX120)","v":""},{"$f":"IF($B120=\"\",\"\",UPPER(Mainframe!O119))","v":""},{"$f":"IF(AZ120=\"\",\"\",IF(NOT(ISNA(VLOOKUP(AZ120,Answers!AW:AZ,4,FALSE))),VLOOKUP(AZ120,Answers!AW:AZ,4,FALSE),\"Help!\"))","v":""},null,{"$f":"IF(BA120=\"\",\"\",AY120+IF(BA120=\"XX\",VLOOKUP(\"WRONG\",Answers!AW:AZ,4,FALSE),BA120)+BB120)","v":""},{"$f":"IF($B120=\"\",\"\",UPPER(Mainframe!P119))","v":""},{"$f":"IF(BD120=\"\",\"\",IF(NOT(ISNA(VLOOKUP(BD120,Answers!BA:BD,4,FALSE))),VLOOKUP(BD120,Answers!BA:BD,4,FALSE),\"Help!\"))","v":""},null,{"$f":"IF(BE120=\"\",\"\",BC120+IF(BE120=\"XX\",VLOOKUP(\"WRONG\",Answers!BA:BD,4,FALSE),BE120)+BF120)","v":""},{"$f":"IF($B120=\"\",\"\",UPPER(Mainframe!Q119))","v":""},{"$f":"IF(BH120=\"\",\"\",IF(NOT(ISNA(VLOOKUP(BH120,Answers!BE:BH,4,FALSE))),VLOOKUP(BH120,Answers!BE:BH,4,FALSE),\"Help!\"))","v":""},null,{"$f":"IF(BI120=\"\",\"\",BG120+IF(BI120=\"XX\",VLOOKUP(\"WRONG\",Answers!BE:BH,4,FALSE),BI120)+BJ120)","v":""},{"$f":"IF($B120=\"\",\"\",UPPER(Mainframe!R119))","v":""},{"$f":"IF(BL120=\"\",\"\",IF(NOT(ISNA(VLOOKUP(BL120,Answers!BI:BL,4,FALSE))),VLOOKUP(BL120,Answers!BI:BL,4,FALSE),\"Help!\"))","v":""},null,{"$f":"IF(BM120=\"\",\"\",BK120+IF(BM120=\"XX\",VLOOKUP(\"WRONG\",Answers!BI:BL,4,FALSE),BM120)+BN120)","v":""},{"$f":"IF($B120=\"\",\"\",UPPER(Mainframe!S119))","v":""},{"$f":"IF(BP120=\"\",\"\",IF(NOT(ISNA(VLOOKUP(BP120,Answers!BM:BP,4,FALSE))),VLOOKUP(BP120,Answers!BM:BP,4,FALSE),\"Help!\"))","v":""},null,{"$f":"IF(BQ120=\"\",\"\",BO120+IF(BQ120=\"XX\",VLOOKUP(\"WRONG\",Answers!BM:BP,4,FALSE),BQ120)+BR120)","v":""},{"$f":"IF($B120=\"\",\"\",UPPER(Mainframe!T119))","v":""},{"$f":"IF(BT120=\"\",\"\",IF(NOT(ISNA(VLOOKUP(BT120,Answers!BQ:BT,4,FALSE))),VLOOKUP(BT120,Answers!BQ:BT,4,FALSE),\"Help!\"))","v":""},null,{"$f":"IF(BU120=\"\",\"\",BS120+IF(BU120=\"XX\",VLOOKUP(\"WRONG\",Answers!BQ:BT,4,FALSE),BU120)+BV120)","v":""},{"$f":"IF($B120=\"\",\"\",UPPER(Mainframe!U119))","v":""},{"$f":"IF(BX120=\"\",\"\",IF(NOT(ISNA(VLOOKUP(BX120,Answers!BU:BX,4,FALSE))),VLOOKUP(BX120,Answers!BU:BX,4,FALSE),\"Help!\"))","v":""},null,{"$f":"IF(BY120=\"\",\"\",BW120+IF(BY120=\"XX\",VLOOKUP(\"WRONG\",Answers!BU:BX,4,FALSE),BY120)+BZ120)","v":""},{"$f":"IF($B120=\"\",\"\",UPPER(Mainframe!V119))","v":""},{"$f":"IF(CB120=\"\",\"\",IF(NOT(ISNA(VLOOKUP(CB120,Answers!BY:CB,4,FALSE))),VLOOKUP(CB120,Answers!BY:CB,4,FALSE),\"Help!\"))","v":""},null,{"$f":"IF(CC120=\"\",\"\",CA120+IF(CC120=\"XX\",VLOOKUP(\"WRONG\",Answers!BY:CB,4,FALSE),CC120)+CD120)","v":""},null,null,1,{"$f":"IF(INDEX($B:$CE,ROW(),QNO*4-1)=DROPNAME,DROPNAME,IF(INDEX($B:$CE,ROW(),QNO*4-1)=SHEEPNAME,SHEEPNAME,IF(INDEX($B:$CE,ROW(),QNO*4)=\"XX\",INDEX($B:$CE,ROW(),QNO*4-1),INDEX(OFFSET(Answers!B:B,0,(QNO-1)*4),MATCH(INDEX($A:$CB,ROW(),QNO*4),OFFSET(Answers!A:A,0,(QNO-1)*4),0))&\" — \"&IF(INDEX($B:$CE,ROW(),QNO*4)=1,\"[b]Singleton![/b]\",CONCATENATE(INDEX($B:$CE,ROW(),QNO*4),\" responses\")))))","v":{"$error":"#N/A"}},"//////////////////////","No",{"$f":"IF(B120=0,\"\",CONCATENATE(INDEX($CH:$CL,ROW(),1),\". \",INDEX($B:$CE,ROW(),1),\" — [b]\")&IF(QNO=1,CONCATENATE(INDEX($B:$CE,ROW(),QNO*4+2),\"[/b] pts\"),CONCATENATE(INDEX($B:$CE,ROW(),QNO*4-2),\" + \",IF(INDEX($B:$CE,ROW(),QNO*4)=\"XX\",INDEX(Answers!$A:$ZZ,2,QNO*4),INDEX($B:$CE,ROW(),QNO*4)),\" = \",INDEX($B:$CE,ROW(),QNO*4+2),\"[/b] pts \",IF(INDEX($C:$CE,ROW(),QNO*4)>0,\"(penalty: +\"&INDEX($C:$CE,ROW(),QNO*4)&\") \",IF(INDEX($C:$CE,ROW(),QNO*4)<0,\"(bonus: \"&INDEX($C:$CE,ROW(),QNO*4)&\") \",\"\"))&\"[[b]\"&IF(CN120>0,\"[color=#00BF00]↑\"&CN120,IF(CN120<0,\"[color=#FF0000]↓\"&ABS(CN120),\"[color=#0000FF]unch\"))&\"[/b][/color]]\")))","v":"1.  — [b][/b] pts"},1,0]
["[*]",{"$f":"IF(Mainframe!B120=\"\",\"\",INDEX(Mainframe!$B:$B,C121+1,1))","v":""},119,{"$f":"IF($B121=\"\",\"\",UPPER(Mainframe!C120))","v":""},{"$f":"IF(D121=\"\",\"\",IF(NOT(ISNA(VLOOKUP(D121,Answers!A:D,4,FALSE))),VLOOKUP(D121,Answers!A:D,4,FALSE),\"Help!\"))","v":""},null,{"$f":"IF(E121=\"\",\"\",IF(E121=\"XX\",VLOOKUP(\"WRONG\",Answers!A:D,4,FALSE),E121)+F121)","v":""},{"$f":"IF($B121=\"\",\"\",UPPER(Mainframe!D120))","v":""},{"$f":"IF(H121=\"\",\"\",IF(NOT(ISNA(VLOOKUP(H121,Answers!E:H,4,FALSE))),VLOOKUP(H121,Answers!E:H,4,FALSE),\"Help!\"))","v":""},null,{"$f":"IF(I121=\"\",\"\",G121+IF(I121=\"XX\",VLOOKUP(\"WRONG\",Answers!E:H,4,FALSE),I121)+J121)","v":""},{"$f":"IF($B121=\"\",\"\",UPPER(Mainframe!E120))","v":""},{"$f":"IF(L121=\"\",\"\",IF(NOT(ISNA(VLOOKUP(L121,Answers!I:L,4,FALSE))),VLOOKUP(L121,Answers!I:L,4,FALSE),\"Help!\"))","v":""},null,{"$f":"IF(M121=\"\",\"\",K121+IF(M121=\"XX\",VLOOKUP(\"WRONG\",Answers!I:L,4,FALSE),M121)+N121)","v":""},{"$f":"IF($B121=\"\",\"\",UPPER(Mainframe!F120))","v":""},{"$f":"IF(P121=\"\",\"\",IF(NOT(ISNA(VLOOKUP(P121,Answers!M:P,4,FALSE))),VLOOKUP(P121,Answers!M:P,4,FALSE),\"Help!\"))","v":""},null,{"$f":"IF(Q121=\"\",\"\",O121+IF(Q121=\"XX\",VLOOKUP(\"WRONG\",Answers!M:P,4,FALSE),Q121)+R121)","v":""},{"$f":"IF($B121=\"\",\"\",UPPER(Mainframe!G120))","v":""},{"$f":"IF(T121=\"\",\"\",IF(NOT(ISNA(VLOOKUP(T121,Answers!Q:T,4,FALSE))),VLOOKUP(T121,Answers!Q:T,4,FALSE),\"Help!\"))","v":""},null,{"$f":"IF(U121=\"\",\"\",S121+IF(U121=\"XX\",VLOOKUP(\"WRONG\",Answers!Q:T,4,FALSE),U121)+V121)","v":""},{"$f":"IF($B121=\"\",\"\",UPPER(Mainframe!H120))","v":""},{"$f":"IF(X121=\"\",\"\",IF(NOT(ISNA(VLOOKUP(X121,Answers!U:X,4,FALSE))),VLOOKUP(X121,Answers!U:X,4,FALSE),\"Help!\"))","v":""},null,{"$f":"IF(Y121=\"\",\"\",W121+IF(Y121=\"XX\",VLOOKUP(\"WRONG\",Answers!U:X,4,FALSE),Y121)+Z121)","v":""},{"$f":"IF($B121=\"\",\"\",UPPER(Mainframe!I120))","v":""},{"$f":"IF(AB121=\"\",\"\",IF(NOT(ISNA(VLOOKUP(AB121,Answers!Y:AB,4,FALSE))),VLOOKUP(AB121,Answers!Y:AB,4,FALSE),\"Help!\"))","v":""},null,{"$f":"IF(AC121=\"\",\"\",AA121+IF(AC121=\"XX\",VLOOKUP(\"WRONG\",Answers!Y:AB,4,FALSE),AC121)+AD121)","v":""},{"$f":"IF($B121=\"\",\"\",UPPER(Mainframe!J120))","v":""},{"$f":"IF(AF121=\"\",\"\",IF(NOT(ISNA(VLOOKUP(AF121,Answers!AC:AF,4,FALSE))),VLOOKUP(AF121,Answers!AC:AF,4,FALSE),\"Help!\"))","v":""},null,{"$f":"IF(AG121=\"\",\"\",AE121+IF(AG121=\"XX\",VLOOKUP(\"WRONG\",Answers!AC:AF,4,FALSE),AG121)+AH121)","v":""},{"$f":"IF($B121=\"\",\"\",UPPER(Mainframe!K120))","v":""},{"$f":"IF(AJ121=\"\",\"\",IF(NOT(ISNA(VLOOKUP(AJ121,Answers!AG:AJ,4,FALSE))),VLOOKUP(AJ121,Answers!AG:AJ,4,FALSE),\"Help!\"))","v":""},null,{"$f":"IF(AK121=\"\",\"\",AI121+IF(AK121=\"XX\",VLOOKUP(\"WRONG\",Answers!AG:AJ,4,FALSE),AK121)+AL121)","v":""},{"$f":"IF($B121=\"\",\"\",UPPER(Mainframe!L120))","v":""},{"$f":"IF(AN121=\"\",\"\",IF(NOT(ISNA(VLOOKUP(AN121,Answers!AK:AN,4,FALSE))),VLOOKUP(AN121,Answers!AK:AN,4,FALSE),\"Help!\"))","v":""},null,{"$f":"IF(AO121=\"\",\"\",AM121+IF(AO121=\"XX\",VLOOKUP(\"WRONG\",Answers!AK:AN,4,FALSE),AO121)+AP121)","v":""},{"$f":"IF($B121=\"\",\"\",UPPER(Mainframe!M120))","v":""},{"$f":"IF(AR121=\"\",\"\",IF(NOT(ISNA(VLOOKUP(AR121,Answers!AO:AR,4,FALSE))),VLOOKUP(AR121,Answers!AO:AR,4,FALSE),\"Help!\"))","v":""},null,{"$f":"IF(AS121=\"\",\"\",AQ121+IF(AS121=\"XX\",VLOOKUP(\"WRONG\",Answers!AO:AR,4,FALSE),AS121)+AT121)","v":""},{"$f":"IF($B121=\"\",\"\",UPPER(Mainframe!N120))","v":""},{"$f":"IF(AV121=\"\",\"\",IF(NOT(ISNA(VLOOKUP(AV121,Answers!AS:AV,4,FALSE))),VLOOKUP(AV121,Answers!AS:AV,4,FALSE),\"Help!\"))","v":""},null,{"$f":"IF(AW121=\"\",\"\",AU121+IF(AW121=\"XX\",VLOOKUP(\"WRONG\",Answers!AS:AV,4,FALSE),AW121)+AX121)","v":""},{"$f":"IF($B121=\"\",\"\",UPPER(Mainframe!O120))","v":""},{"$f":"IF(AZ121=\"\",\"\",IF(NOT(ISNA(VLOOKUP(AZ121,Answers!AW:AZ,4,FALSE))),VLOOKUP(AZ121,Answers!AW:AZ,4,FALSE),\"Help!\"))","v":""},null,{"$f":"IF(BA121=\"\",\"\",AY121+IF(BA121=\"XX\",VLOOKUP(\"WRONG\",Answers!AW:AZ,4,FALSE),BA121)+BB121)","v":""},{"$f":"IF($B121=\"\",\"\",UPPER(Mainframe!P120))","v":""},{"$f":"IF(BD121=\"\",\"\",IF(NOT(ISNA(VLOOKUP(BD121,Answers!BA:BD,4,FALSE))),VLOOKUP(BD121,Answers!BA:BD,4,FALSE),\"Help!\"))","v":""},null,{"$f":"IF(BE121=\"\",\"\",BC121+IF(BE121=\"XX\",VLOOKUP(\"WRONG\",Answers!BA:BD,4,FALSE),BE121)+BF121)","v":""},{"$f":"IF($B121=\"\",\"\",UPPER(Mainframe!Q120))","v":""},{"$f":"IF(BH121=\"\",\"\",IF(NOT(ISNA(VLOOKUP(BH121,Answers!BE:BH,4,FALSE))),VLOOKUP(BH121,Answers!BE:BH,4,FALSE),\"Help!\"))","v":""},null,{"$f":"IF(BI121=\"\",\"\",BG121+IF(BI121=\"XX\",VLOOKUP(\"WRONG\",Answers!BE:BH,4,FALSE),BI121)+BJ121)","v":""},{"$f":"IF($B121=\"\",\"\",UPPER(Mainframe!R120))","v":""},{"$f":"IF(BL121=\"\",\"\",IF(NOT(ISNA(VLOOKUP(BL121,Answers!BI:BL,4,FALSE))),VLOOKUP(BL121,Answers!BI:BL,4,FALSE),\"Help!\"))","v":""},null,{"$f":"IF(BM121=\"\",\"\",BK121+IF(BM121=\"XX\",VLOOKUP(\"WRONG\",Answers!BI:BL,4,FALSE),BM121)+BN121)","v":""},{"$f":"IF($B121=\"\",\"\",UPPER(Mainframe!S120))","v":""},{"$f":"IF(BP121=\"\",\"\",IF(NOT(ISNA(VLOOKUP(BP121,Answers!BM:BP,4,FALSE))),VLOOKUP(BP121,Answers!BM:BP,4,FALSE),\"Help!\"))","v":""},null,{"$f":"IF(BQ121=\"\",\"\",BO121+IF(BQ121=\"XX\",VLOOKUP(\"WRONG\",Answers!BM:BP,4,FALSE),BQ121)+BR121)","v":""},{"$f":"IF($B121=\"\",\"\",UPPER(Mainframe!T120))","v":""},{"$f":"IF(BT121=\"\",\"\",IF(NOT(ISNA(VLOOKUP(BT121,Answers!BQ:BT,4,FALSE))),VLOOKUP(BT121,Answers!BQ:BT,4,FALSE),\"Help!\"))","v":""},null,{"$f":"IF(BU121=\"\",\"\",BS121+IF(BU121=\"XX\",VLOOKUP(\"WRONG\",Answers!BQ:BT,4,FALSE),BU121)+BV121)","v":""},{"$f":"IF($B121=\"\",\"\",UPPER(Mainframe!U120))","v":""},{"$f":"IF(BX121=\"\",\"\",IF(NOT(ISNA(VLOOKUP(BX121,Answers!BU:BX,4,FALSE))),VLOOKUP(BX121,Answers!BU:BX,4,FALSE),\"Help!\"))","v":""},null,{"$f":"IF(BY121=\"\",\"\",BW121+IF(BY121=\"XX\",VLOOKUP(\"WRONG\",Answers!BU:BX,4,FALSE),BY121)+BZ121)","v":""},{"$f":"IF($B121=\"\",\"\",UPPER(Mainframe!V120))","v":""},{"$f":"IF(CB121=\"\",\"\",IF(NOT(ISNA(VLOOKUP(CB121,Answers!BY:CB,4,FALSE))),VLOOKUP(CB121,Answers!BY:CB,4,FALSE),\"Help!\"))","v":""},null,{"$f":"IF(CC121=\"\",\"\",CA121+IF(CC121=\"XX\",VLOOKUP(\"WRONG\",Answers!BY:CB,4,FALSE),CC121)+CD121)","v":""},null,null,1,{"$f":"IF(INDEX($B:$CE,ROW(),QNO*4-1)=DROPNAME,DROPNAME,IF(INDEX($B:$CE,ROW(),QNO*4-1)=SHEEPNAME,SHEEPNAME,IF(INDEX($B:$CE,ROW(),QNO*4)=\"XX\",INDEX($B:$CE,ROW(),QNO*4-1),INDEX(OFFSET(Answers!B:B,0,(QNO-1)*4),MATCH(INDEX($A:$CB,ROW(),QNO*4),OFFSET(Answers!A:A,0,(QNO-1)*4),0))&\" — \"&IF(INDEX($B:$CE,ROW(),QNO*4)=1,\"[b]Singleton![/b]\",CONCATENATE(INDEX($B:$CE,ROW(),QNO*4),\" responses\")))))","v":{"$error":"#N/A"}},"////////////////////","No",{"$f":"IF(B121=0,\"\",CONCATENATE(INDEX($CH:$CL,ROW(),1),\". \",INDEX($B:$CE,ROW(),1),\" — [b]\")&IF(QNO=1,CONCATENATE(INDEX($B:$CE,ROW(),QNO*4+2),\"[/b] pts\"),CONCATENATE(INDEX($B:$CE,ROW(),QNO*4-2),\" + \",IF(INDEX($B:$CE,ROW(),QNO*4)=\"XX\",INDEX(Answers!$A:$ZZ,2,QNO*4),INDEX($B:$CE,ROW(),QNO*4)),\" = \",INDEX($B:$CE,ROW(),QNO*4+2),\"[/b] pts \",IF(INDEX($C:$CE,ROW(),QNO*4)>0,\"(penalty: +\"&INDEX($C:$CE,ROW(),QNO*4)&\") \",IF(INDEX($C:$CE,ROW(),QNO*4)<0,\"(bonus: \"&INDEX($C:$CE,ROW(),QNO*4)&\") \",\"\"))&\"[[b]\"&IF(CN121>0,\"[color=#00BF00]↑\"&CN121,IF(CN121<0,\"[color=#FF0000]↓\"&ABS(CN121),\"[color=#0000FF]unch\"))&\"[/b][/color]]\")))","v":"1.  — [b][/b] pts"},1,0]
["[*]",{"$f":"IF(Mainframe!B121=\"\",\"\",INDEX(Mainframe!$B:$B,C122+1,1))","v":""},120,{"$f":"IF($B122=\"\",\"\",UPPER(Mainframe!C121))","v":""},{"$f":"IF(D122=\"\",\"\",IF(NOT(ISNA(VLOOKUP(D122,Answers!A:D,4,FALSE))),VLOOKUP(D122,Answers!A:D,4,FALSE),\"Help!\"))","v":""},null,{"$f":"IF(E122=\"\",\"\",IF(E122=\"XX\",VLOOKUP(\"WRONG\",Answers!A:D,4,FALSE),E122)+F122)","v":""},{"$f":"IF($B122=\"\",\"\",UPPER(Mainframe!D121))","v":""},{"$f":"IF(H122=\"\",\"\",IF(NOT(ISNA(VLOOKUP(H122,Answers!E:H,4,FALSE))),VLOOKUP(H122,Answers!E:H,4,FALSE),\"Help!\"))","v":""},null,{"$f":"IF(I122=\"\",\"\",G122+IF(I122=\"XX\",VLOOKUP(\"WRONG\",Answers!E:H,4,FALSE),I122)+J122)","v":""},{"$f":"IF($B122=\"\",\"\",UPPER(Mainframe!E121))","v":""},{"$f":"IF(L122=\"\",\"\",IF(NOT(ISNA(VLOOKUP(L122,Answers!I:L,4,FALSE))),VLOOKUP(L122,Answers!I:L,4,FALSE),\"Help!\"))","v":""},null,{"$f":"IF(M122=\"\",\"\",K122+IF(M122=\"XX\",VLOOKUP(\"WRONG\",Answers!I:L,4,FALSE),M122)+N122)","v":""},{"$f":"IF($B122=\"\",\"\",UPPER(Mainframe!F121))","v":""},{"$f":"IF(P122=\"\",\"\",IF(NOT(ISNA(VLOOKUP(P122,Answers!M:P,4,FALSE))),VLOOKUP(P122,Answers!M:P,4,FALSE),\"Help!\"))","v":""},null,{"$f":"IF(Q122=\"\",\"\",O122+IF(Q122=\"XX\",VLOOKUP(\"WRONG\",Answers!M:P,4,FALSE),Q122)+R122)","v":""},{"$f":"IF($B122=\"\",\"\",UPPER(Mainframe!G121))","v":""},{"$f":"IF(T122=\"\",\"\",IF(NOT(ISNA(VLOOKUP(T122,Answers!Q:T,4,FALSE))),VLOOKUP(T122,Answers!Q:T,4,FALSE),\"Help!\"))","v":""},null,{"$f":"IF(U122=\"\",\"\",S122+IF(U122=\"XX\",VLOOKUP(\"WRONG\",Answers!Q:T,4,FALSE),U122)+V122)","v":""},{"$f":"IF($B122=\"\",\"\",UPPER(Mainframe!H121))","v":""},{"$f":"IF(X122=\"\",\"\",IF(NOT(ISNA(VLOOKUP(X122,Answers!U:X,4,FALSE))),VLOOKUP(X122,Answers!U:X,4,FALSE),\"Help!\"))","v":""},null,{"$f":"IF(Y122=\"\",\"\",W122+IF(Y122=\"XX\",VLOOKUP(\"WRONG\",Answers!U:X,4,FALSE),Y122)+Z122)","v":""},{"$f":"IF($B122=\"\",\"\",UPPER(Mainframe!I121))","v":""},{"$f":"IF(AB122=\"\",\"\",IF(NOT(ISNA(VLOOKUP(AB122,Answers!Y:AB,4,FALSE))),VLOOKUP(AB122,Answers!Y:AB,4,FALSE),\"Help!\"))","v":""},null,{"$f":"IF(AC122=\"\",\"\",AA122+IF(AC122=\"XX\",VLOOKUP(\"WRONG\",Answers!Y:AB,4,FALSE),AC122)+AD122)","v":""},{"$f":"IF($B122=\"\",\"\",UPPER(Mainframe!J121))","v":""},{"$f":"IF(AF122=\"\",\"\",IF(NOT(ISNA(VLOOKUP(AF122,Answers!AC:AF,4,FALSE))),VLOOKUP(AF122,Answers!AC:AF,4,FALSE),\"Help!\"))","v":""},null,{"$f":"IF(AG122=\"\",\"\",AE122+IF(AG122=\"XX\",VLOOKUP(\"WRONG\",Answers!AC:AF,4,FALSE),AG122)+AH122)","v":""},{"$f":"IF($B122=\"\",\"\",UPPER(Mainframe!K121))","v":""},{"$f":"IF(AJ122=\"\",\"\",IF(NOT(ISNA(VLOOKUP(AJ122,Answers!AG:AJ,4,FALSE))),VLOOKUP(AJ122,Answers!AG:AJ,4,FALSE),\"Help!\"))","v":""},null,{"$f":"IF(AK122=\"\",\"\",AI122+IF(AK122=\"XX\",VLOOKUP(\"WRONG\",Answers!AG:AJ,4,FALSE),AK122)+AL122)","v":""},{"$f":"IF($B122=\"\",\"\",UPPER(Mainframe!L121))","v":""},{"$f":"IF(AN122=\"\",\"\",IF(NOT(ISNA(VLOOKUP(AN122,Answers!AK:AN,4,FALSE))),VLOOKUP(AN122,Answers!AK:AN,4,FALSE),\"Help!\"))","v":""},null,{"$f":"IF(AO122=\"\",\"\",AM122+IF(AO122=\"XX\",VLOOKUP(\"WRONG\",Answers!AK:AN,4,FALSE),AO122)+AP122)","v":""},{"$f":"IF($B122=\"\",\"\",UPPER(Mainframe!M121))","v":""},{"$f":"IF(AR122=\"\",\"\",IF(NOT(ISNA(VLOOKUP(AR122,Answers!AO:AR,4,FALSE))),VLOOKUP(AR122,Answers!AO:AR,4,FALSE),\"Help!\"))","v":""},null,{"$f":"IF(AS122=\"\",\"\",AQ122+IF(AS122=\"XX\",VLOOKUP(\"WRONG\",Answers!AO:AR,4,FALSE),AS122)+AT122)","v":""},{"$f":"IF($B122=\"\",\"\",UPPER(Mainframe!N121))","v":""},{"$f":"IF(AV122=\"\",\"\",IF(NOT(ISNA(VLOOKUP(AV122,Answers!AS:AV,4,FALSE))),VLOOKUP(AV122,Answers!AS:AV,4,FALSE),\"Help!\"))","v":""},null,{"$f":"IF(AW122=\"\",\"\",AU122+IF(AW122=\"XX\",VLOOKUP(\"WRONG\",Answers!AS:AV,4,FALSE),AW122)+AX122)","v":""},{"$f":"IF($B122=\"\",\"\",UPPER(Mainframe!O121))","v":""},{"$f":"IF(AZ122=\"\",\"\",IF(NOT(ISNA(VLOOKUP(AZ122,Answers!AW:AZ,4,FALSE))),VLOOKUP(AZ122,Answers!AW:AZ,4,FALSE),\"Help!\"))","v":""},null,{"$f":"IF(BA122=\"\",\"\",AY122+IF(BA122=\"XX\",VLOOKUP(\"WRONG\",Answers!AW:AZ,4,FALSE),BA122)+BB122)","v":""},{"$f":"IF($B122=\"\",\"\",UPPER(Mainframe!P121))","v":""},{"$f":"IF(BD122=\"\",\"\",IF(NOT(ISNA(VLOOKUP(BD122,Answers!BA:BD,4,FALSE))),VLOOKUP(BD122,Answers!BA:BD,4,FALSE),\"Help!\"))","v":""},null,{"$f":"IF(BE122=\"\",\"\",BC122+IF(BE122=\"XX\",VLOOKUP(\"WRONG\",Answers!BA:BD,4,FALSE),BE122)+BF122)","v":""},{"$f":"IF($B122=\"\",\"\",UPPER(Mainframe!Q121))","v":""},{"$f":"IF(BH122=\"\",\"\",IF(NOT(ISNA(VLOOKUP(BH122,Answers!BE:BH,4,FALSE))),VLOOKUP(BH122,Answers!BE:BH,4,FALSE),\"Help!\"))","v":""},null,{"$f":"IF(BI122=\"\",\"\",BG122+IF(BI122=\"XX\",VLOOKUP(\"WRONG\",Answers!BE:BH,4,FALSE),BI122)+BJ122)","v":""},{"$f":"IF($B122=\"\",\"\",UPPER(Mainframe!R121))","v":""},{"$f":"IF(BL122=\"\",\"\",IF(NOT(ISNA(VLOOKUP(BL122,Answers!BI:BL,4,FALSE))),VLOOKUP(BL122,Answers!BI:BL,4,FALSE),\"Help!\"))","v":""},null,{"$f":"IF(BM122=\"\",\"\",BK122+IF(BM122=\"XX\",VLOOKUP(\"WRONG\",Answers!BI:BL,4,FALSE),BM122)+BN122)","v":""},{"$f":"IF($B122=\"\",\"\",UPPER(Mainframe!S121))","v":""},{"$f":"IF(BP122=\"\",\"\",IF(NOT(ISNA(VLOOKUP(BP122,Answers!BM:BP,4,FALSE))),VLOOKUP(BP122,Answers!BM:BP,4,FALSE),\"Help!\"))","v":""},null,{"$f":"IF(BQ122=\"\",\"\",BO122+IF(BQ122=\"XX\",VLOOKUP(\"WRONG\",Answers!BM:BP,4,FALSE),BQ122)+BR122)","v":""},{"$f":"IF($B122=\"\",\"\",UPPER(Mainframe!T121))","v":""},{"$f":"IF(BT122=\"\",\"\",IF(NOT(ISNA(VLOOKUP(BT122,Answers!BQ:BT,4,FALSE))),VLOOKUP(BT122,Answers!BQ:BT,4,FALSE),\"Help!\"))","v":""},null,{"$f":"IF(BU122=\"\",\"\",BS122+IF(BU122=\"XX\",VLOOKUP(\"WRONG\",Answers!BQ:BT,4,FALSE),BU122)+BV122)","v":""},{"$f":"IF($B122=\"\",\"\",UPPER(Mainframe!U121))","v":""},{"$f":"IF(BX122=\"\",\"\",IF(NOT(ISNA(VLOOKUP(BX122,Answers!BU:BX,4,FALSE))),VLOOKUP(BX122,Answers!BU:BX,4,FALSE),\"Help!\"))","v":""},null,{"$f":"IF(BY122=\"\",\"\",BW122+IF(BY122=\"XX\",VLOOKUP(\"WRONG\",Answers!BU:BX,4,FALSE),BY122)+BZ122)","v":""},{"$f":"IF($B122=\"\",\"\",UPPER(Mainframe!V121))","v":""},{"$f":"IF(CB122=\"\",\"\",IF(NOT(ISNA(VLOOKUP(CB122,Answers!BY:CB,4,FALSE))),VLOOKUP(CB122,Answers!BY:CB,4,FALSE),\"Help!\"))","v":""},null,{"$f":"IF(CC122=\"\",\"\",CA122+IF(CC122=\"XX\",VLOOKUP(\"WRONG\",Answers!BY:CB,4,FALSE),CC122)+CD122)","v":""},null,null,1,{"$f":"IF(INDEX($B:$CE,ROW(),QNO*4-1)=DROPNAME,DROPNAME,IF(INDEX($B:$CE,ROW(),QNO*4-1)=SHEEPNAME,SHEEPNAME,IF(INDEX($B:$CE,ROW(),QNO*4)=\"XX\",INDEX($B:$CE,ROW(),QNO*4-1),INDEX(OFFSET(Answers!B:B,0,(QNO-1)*4),MATCH(INDEX($A:$CB,ROW(),QNO*4),OFFSET(Answers!A:A,0,(QNO-1)*4),0))&\" — \"&IF(INDEX($B:$CE,ROW(),QNO*4)=1,\"[b]Singleton![/b]\",CONCATENATE(INDEX($B:$CE,ROW(),QNO*4),\" responses\")))))","v":{"$error":"#N/A"}},"//////////////////","No",{"$f":"IF(B122=0,\"\",CONCATENATE(INDEX($CH:$CL,ROW(),1),\". \",INDEX($B:$CE,ROW(),1),\" — [b]\")&IF(QNO=1,CONCATENATE(INDEX($B:$CE,ROW(),QNO*4+2),\"[/b] pts\"),CONCATENATE(INDEX($B:$CE,ROW(),QNO*4-2),\" + \",IF(INDEX($B:$CE,ROW(),QNO*4)=\"XX\",INDEX(Answers!$A:$ZZ,2,QNO*4),INDEX($B:$CE,ROW(),QNO*4)),\" = \",INDEX($B:$CE,ROW(),QNO*4+2),\"[/b] pts \",IF(INDEX($C:$CE,ROW(),QNO*4)>0,\"(penalty: +\"&INDEX($C:$CE,ROW(),QNO*4)&\") \",IF(INDEX($C:$CE,ROW(),QNO*4)<0,\"(bonus: \"&INDEX($C:$CE,ROW(),QNO*4)&\") \",\"\"))&\"[[b]\"&IF(CN122>0,\"[color=#00BF00]↑\"&CN122,IF(CN122<0,\"[color=#FF0000]↓\"&ABS(CN122),\"[color=#0000FF]unch\"))&\"[/b][/color]]\")))","v":"1.  — [b][/b] pts"},1,0]
["[*]",{"$f":"IF(Mainframe!B122=\"\",\"\",INDEX(Mainframe!$B:$B,C123+1,1))","v":""},121,{"$f":"IF($B123=\"\",\"\",UPPER(Mainframe!C122))","v":""},{"$f":"IF(D123=\"\",\"\",IF(NOT(ISNA(VLOOKUP(D123,Answers!A:D,4,FALSE))),VLOOKUP(D123,Answers!A:D,4,FALSE),\"Help!\"))","v":""},null,{"$f":"IF(E123=\"\",\"\",IF(E123=\"XX\",VLOOKUP(\"WRONG\",Answers!A:D,4,FALSE),E123)+F123)","v":""},{"$f":"IF($B123=\"\",\"\",UPPER(Mainframe!D122))","v":""},{"$f":"IF(H123=\"\",\"\",IF(NOT(ISNA(VLOOKUP(H123,Answers!E:H,4,FALSE))),VLOOKUP(H123,Answers!E:H,4,FALSE),\"Help!\"))","v":""},null,{"$f":"IF(I123=\"\",\"\",G123+IF(I123=\"XX\",VLOOKUP(\"WRONG\",Answers!E:H,4,FALSE),I123)+J123)","v":""},{"$f":"IF($B123=\"\",\"\",UPPER(Mainframe!E122))","v":""},{"$f":"IF(L123=\"\",\"\",IF(NOT(ISNA(VLOOKUP(L123,Answers!I:L,4,FALSE))),VLOOKUP(L123,Answers!I:L,4,FALSE),\"Help!\"))","v":""},null,{"$f":"IF(M123=\"\",\"\",K123+IF(M123=\"XX\",VLOOKUP(\"WRONG\",Answers!I:L,4,FALSE),M123)+N123)","v":""},{"$f":"IF($B123=\"\",\"\",UPPER(Mainframe!F122))","v":""},{"$f":"IF(P123=\"\",\"\",IF(NOT(ISNA(VLOOKUP(P123,Answers!M:P,4,FALSE))),VLOOKUP(P123,Answers!M:P,4,FALSE),\"Help!\"))","v":""},null,{"$f":"IF(Q123=\"\",\"\",O123+IF(Q123=\"XX\",VLOOKUP(\"WRONG\",Answers!M:P,4,FALSE),Q123)+R123)","v":""},{"$f":"IF($B123=\"\",\"\",UPPER(Mainframe!G122))","v":""},{"$f":"IF(T123=\"\",\"\",IF(NOT(ISNA(VLOOKUP(T123,Answers!Q:T,4,FALSE))),VLOOKUP(T123,Answers!Q:T,4,FALSE),\"Help!\"))","v":""},null,{"$f":"IF(U123=\"\",\"\",S123+IF(U123=\"XX\",VLOOKUP(\"WRONG\",Answers!Q:T,4,FALSE),U123)+V123)","v":""},{"$f":"IF($B123=\"\",\"\",UPPER(Mainframe!H122))","v":""},{"$f":"IF(X123=\"\",\"\",IF(NOT(ISNA(VLOOKUP(X123,Answers!U:X,4,FALSE))),VLOOKUP(X123,Answers!U:X,4,FALSE),\"Help!\"))","v":""},null,{"$f":"IF(Y123=\"\",\"\",W123+IF(Y123=\"XX\",VLOOKUP(\"WRONG\",Answers!U:X,4,FALSE),Y123)+Z123)","v":""},{"$f":"IF($B123=\"\",\"\",UPPER(Mainframe!I122))","v":""},{"$f":"IF(AB123=\"\",\"\",IF(NOT(ISNA(VLOOKUP(AB123,Answers!Y:AB,4,FALSE))),VLOOKUP(AB123,Answers!Y:AB,4,FALSE),\"Help!\"))","v":""},null,{"$f":"IF(AC123=\"\",\"\",AA123+IF(AC123=\"XX\",VLOOKUP(\"WRONG\",Answers!Y:AB,4,FALSE),AC123)+AD123)","v":""},{"$f":"IF($B123=\"\",\"\",UPPER(Mainframe!J122))","v":""},{"$f":"IF(AF123=\"\",\"\",IF(NOT(ISNA(VLOOKUP(AF123,Answers!AC:AF,4,FALSE))),VLOOKUP(AF123,Answers!AC:AF,4,FALSE),\"Help!\"))","v":""},null,{"$f":"IF(AG123=\"\",\"\",AE123+IF(AG123=\"XX\",VLOOKUP(\"WRONG\",Answers!AC:AF,4,FALSE),AG123)+AH123)","v":""},{"$f":"IF($B123=\"\",\"\",UPPER(Mainframe!K122))","v":""},{"$f":"IF(AJ123=\"\",\"\",IF(NOT(ISNA(VLOOKUP(AJ123,Answers!AG:AJ,4,FALSE))),VLOOKUP(AJ123,Answers!AG:AJ,4,FALSE),\"Help!\"))","v":""},null,{"$f":"IF(AK123=\"\",\"\",AI123+IF(AK123=\"XX\",VLOOKUP(\"WRONG\",Answers!AG:AJ,4,FALSE),AK123)+AL123)","v":""},{"$f":"IF($B123=\"\",\"\",UPPER(Mainframe!L122))","v":""},{"$f":"IF(AN123=\"\",\"\",IF(NOT(ISNA(VLOOKUP(AN123,Answers!AK:AN,4,FALSE))),VLOOKUP(AN123,Answers!AK:AN,4,FALSE),\"Help!\"))","v":""},null,{"$f":"IF(AO123=\"\",\"\",AM123+IF(AO123=\"XX\",VLOOKUP(\"WRONG\",Answers!AK:AN,4,FALSE),AO123)+AP123)","v":""},{"$f":"IF($B123=\"\",\"\",UPPER(Mainframe!M122))","v":""},{"$f":"IF(AR123=\"\",\"\",IF(NOT(ISNA(VLOOKUP(AR123,Answers!AO:AR,4,FALSE))),VLOOKUP(AR123,Answers!AO:AR,4,FALSE),\"Help!\"))","v":""},null,{"$f":"IF(AS123=\"\",\"\",AQ123+IF(AS123=\"XX\",VLOOKUP(\"WRONG\",Answers!AO:AR,4,FALSE),AS123)+AT123)","v":""},{"$f":"IF($B123=\"\",\"\",UPPER(Mainframe!N122))","v":""},{"$f":"IF(AV123=\"\",\"\",IF(NOT(ISNA(VLOOKUP(AV123,Answers!AS:AV,4,FALSE))),VLOOKUP(AV123,Answers!AS:AV,4,FALSE),\"Help!\"))","v":""},null,{"$f":"IF(AW123=\"\",\"\",AU123+IF(AW123=\"XX\",VLOOKUP(\"WRONG\",Answers!AS:AV,4,FALSE),AW123)+AX123)","v":""},{"$f":"IF($B123=\"\",\"\",UPPER(Mainframe!O122))","v":""},{"$f":"IF(AZ123=\"\",\"\",IF(NOT(ISNA(VLOOKUP(AZ123,Answers!AW:AZ,4,FALSE))),VLOOKUP(AZ123,Answers!AW:AZ,4,FALSE),\"Help!\"))","v":""},null,{"$f":"IF(BA123=\"\",\"\",AY123+IF(BA123=\"XX\",VLOOKUP(\"WRONG\",Answers!AW:AZ,4,FALSE),BA123)+BB123)","v":""},{"$f":"IF($B123=\"\",\"\",UPPER(Mainframe!P122))","v":""},{"$f":"IF(BD123=\"\",\"\",IF(NOT(ISNA(VLOOKUP(BD123,Answers!BA:BD,4,FALSE))),VLOOKUP(BD123,Answers!BA:BD,4,FALSE),\"Help!\"))","v":""},null,{"$f":"IF(BE123=\"\",\"\",BC123+IF(BE123=\"XX\",VLOOKUP(\"WRONG\",Answers!BA:BD,4,FALSE),BE123)+BF123)","v":""},{"$f":"IF($B123=\"\",\"\",UPPER(Mainframe!Q122))","v":""},{"$f":"IF(BH123=\"\",\"\",IF(NOT(ISNA(VLOOKUP(BH123,Answers!BE:BH,4,FALSE))),VLOOKUP(BH123,Answers!BE:BH,4,FALSE),\"Help!\"))","v":""},null,{"$f":"IF(BI123=\"\",\"\",BG123+IF(BI123=\"XX\",VLOOKUP(\"WRONG\",Answers!BE:BH,4,FALSE),BI123)+BJ123)","v":""},{"$f":"IF($B123=\"\",\"\",UPPER(Mainframe!R122))","v":""},{"$f":"IF(BL123=\"\",\"\",IF(NOT(ISNA(VLOOKUP(BL123,Answers!BI:BL,4,FALSE))),VLOOKUP(BL123,Answers!BI:BL,4,FALSE),\"Help!\"))","v":""},null,{"$f":"IF(BM123=\"\",\"\",BK123+IF(BM123=\"XX\",VLOOKUP(\"WRONG\",Answers!BI:BL,4,FALSE),BM123)+BN123)","v":""},{"$f":"IF($B123=\"\",\"\",UPPER(Mainframe!S122))","v":""},{"$f":"IF(BP123=\"\",\"\",IF(NOT(ISNA(VLOOKUP(BP123,Answers!BM:BP,4,FALSE))),VLOOKUP(BP123,Answers!BM:BP,4,FALSE),\"Help!\"))","v":""},null,{"$f":"IF(BQ123=\"\",\"\",BO123+IF(BQ123=\"XX\",VLOOKUP(\"WRONG\",Answers!BM:BP,4,FALSE),BQ123)+BR123)","v":""},{"$f":"IF($B123=\"\",\"\",UPPER(Mainframe!T122))","v":""},{"$f":"IF(BT123=\"\",\"\",IF(NOT(ISNA(VLOOKUP(BT123,Answers!BQ:BT,4,FALSE))),VLOOKUP(BT123,Answers!BQ:BT,4,FALSE),\"Help!\"))","v":""},null,{"$f":"IF(BU123=\"\",\"\",BS123+IF(BU123=\"XX\",VLOOKUP(\"WRONG\",Answers!BQ:BT,4,FALSE),BU123)+BV123)","v":""},{"$f":"IF($B123=\"\",\"\",UPPER(Mainframe!U122))","v":""},{"$f":"IF(BX123=\"\",\"\",IF(NOT(ISNA(VLOOKUP(BX123,Answers!BU:BX,4,FALSE))),VLOOKUP(BX123,Answers!BU:BX,4,FALSE),\"Help!\"))","v":""},null,{"$f":"IF(BY123=\"\",\"\",BW123+IF(BY123=\"XX\",VLOOKUP(\"WRONG\",Answers!BU:BX,4,FALSE),BY123)+BZ123)","v":""},{"$f":"IF($B123=\"\",\"\",UPPER(Mainframe!V122))","v":""},{"$f":"IF(CB123=\"\",\"\",IF(NOT(ISNA(VLOOKUP(CB123,Answers!BY:CB,4,FALSE))),VLOOKUP(CB123,Answers!BY:CB,4,FALSE),\"Help!\"))","v":""},null,{"$f":"IF(CC123=\"\",\"\",CA123+IF(CC123=\"XX\",VLOOKUP(\"WRONG\",Answers!BY:CB,4,FALSE),CC123)+CD123)","v":""},null,null,1,{"$f":"IF(INDEX($B:$CE,ROW(),QNO*4-1)=DROPNAME,DROPNAME,IF(INDEX($B:$CE,ROW(),QNO*4-1)=SHEEPNAME,SHEEPNAME,IF(INDEX($B:$CE,ROW(),QNO*4)=\"XX\",INDEX($B:$CE,ROW(),QNO*4-1),INDEX(OFFSET(Answers!B:B,0,(QNO-1)*4),MATCH(INDEX($A:$CB,ROW(),QNO*4),OFFSET(Answers!A:A,0,(QNO-1)*4),0))&\" — \"&IF(INDEX($B:$CE,ROW(),QNO*4)=1,\"[b]Singleton![/b]\",CONCATENATE(INDEX($B:$CE,ROW(),QNO*4),\" responses\")))))","v":{"$error":"#N/A"}},"////////////////","No",{"$f":"IF(B123=0,\"\",CONCATENATE(INDEX($CH:$CL,ROW(),1),\". \",INDEX($B:$CE,ROW(),1),\" — [b]\")&IF(QNO=1,CONCATENATE(INDEX($B:$CE,ROW(),QNO*4+2),\"[/b] pts\"),CONCATENATE(INDEX($B:$CE,ROW(),QNO*4-2),\" + \",IF(INDEX($B:$CE,ROW(),QNO*4)=\"XX\",INDEX(Answers!$A:$ZZ,2,QNO*4),INDEX($B:$CE,ROW(),QNO*4)),\" = \",INDEX($B:$CE,ROW(),QNO*4+2),\"[/b] pts \",IF(INDEX($C:$CE,ROW(),QNO*4)>0,\"(penalty: +\"&INDEX($C:$CE,ROW(),QNO*4)&\") \",IF(INDEX($C:$CE,ROW(),QNO*4)<0,\"(bonus: \"&INDEX($C:$CE,ROW(),QNO*4)&\") \",\"\"))&\"[[b]\"&IF(CN123>0,\"[color=#00BF00]↑\"&CN123,IF(CN123<0,\"[color=#FF0000]↓\"&ABS(CN123),\"[color=#0000FF]unch\"))&\"[/b][/color]]\")))","v":"1.  — [b][/b] pts"},1,0]
["[*]",{"$f":"IF(Mainframe!B123=\"\",\"\",INDEX(Mainframe!$B:$B,C124+1,1))","v":""},122,{"$f":"IF($B124=\"\",\"\",UPPER(Mainframe!C123))","v":""},{"$f":"IF(D124=\"\",\"\",IF(NOT(ISNA(VLOOKUP(D124,Answers!A:D,4,FALSE))),VLOOKUP(D124,Answers!A:D,4,FALSE),\"Help!\"))","v":""},null,{"$f":"IF(E124=\"\",\"\",IF(E124=\"XX\",VLOOKUP(\"WRONG\",Answers!A:D,4,FALSE),E124)+F124)","v":""},{"$f":"IF($B124=\"\",\"\",UPPER(Mainframe!D123))","v":""},{"$f":"IF(H124=\"\",\"\",IF(NOT(ISNA(VLOOKUP(H124,Answers!E:H,4,FALSE))),VLOOKUP(H124,Answers!E:H,4,FALSE),\"Help!\"))","v":""},null,{"$f":"IF(I124=\"\",\"\",G124+IF(I124=\"XX\",VLOOKUP(\"WRONG\",Answers!E:H,4,FALSE),I124)+J124)","v":""},{"$f":"IF($B124=\"\",\"\",UPPER(Mainframe!E123))","v":""},{"$f":"IF(L124=\"\",\"\",IF(NOT(ISNA(VLOOKUP(L124,Answers!I:L,4,FALSE))),VLOOKUP(L124,Answers!I:L,4,FALSE),\"Help!\"))","v":""},null,{"$f":"IF(M124=\"\",\"\",K124+IF(M124=\"XX\",VLOOKUP(\"WRONG\",Answers!I:L,4,FALSE),M124)+N124)","v":""},{"$f":"IF($B124=\"\",\"\",UPPER(Mainframe!F123))","v":""},{"$f":"IF(P124=\"\",\"\",IF(NOT(ISNA(VLOOKUP(P124,Answers!M:P,4,FALSE))),VLOOKUP(P124,Answers!M:P,4,FALSE),\"Help!\"))","v":""},null,{"$f":"IF(Q124=\"\",\"\",O124+IF(Q124=\"XX\",VLOOKUP(\"WRONG\",Answers!M:P,4,FALSE),Q124)+R124)","v":""},{"$f":"IF($B124=\"\",\"\",UPPER(Mainframe!G123))","v":""},{"$f":"IF(T124=\"\",\"\",IF(NOT(ISNA(VLOOKUP(T124,Answers!Q:T,4,FALSE))),VLOOKUP(T124,Answers!Q:T,4,FALSE),\"Help!\"))","v":""},null,{"$f":"IF(U124=\"\",\"\",S124+IF(U124=\"XX\",VLOOKUP(\"WRONG\",Answers!Q:T,4,FALSE),U124)+V124)","v":""},{"$f":"IF($B124=\"\",\"\",UPPER(Mainframe!H123))","v":""},{"$f":"IF(X124=\"\",\"\",IF(NOT(ISNA(VLOOKUP(X124,Answers!U:X,4,FALSE))),VLOOKUP(X124,Answers!U:X,4,FALSE),\"Help!\"))","v":""},null,{"$f":"IF(Y124=\"\",\"\",W124+IF(Y124=\"XX\",VLOOKUP(\"WRONG\",Answers!U:X,4,FALSE),Y124)+Z124)","v":""},{"$f":"IF($B124=\"\",\"\",UPPER(Mainframe!I123))","v":""},{"$f":"IF(AB124=\"\",\"\",IF(NOT(ISNA(VLOOKUP(AB124,Answers!Y:AB,4,FALSE))),VLOOKUP(AB124,Answers!Y:AB,4,FALSE),\"Help!\"))","v":""},null,{"$f":"IF(AC124=\"\",\"\",AA124+IF(AC124=\"XX\",VLOOKUP(\"WRONG\",Answers!Y:AB,4,FALSE),AC124)+AD124)","v":""},{"$f":"IF($B124=\"\",\"\",UPPER(Mainframe!J123))","v":""},{"$f":"IF(AF124=\"\",\"\",IF(NOT(ISNA(VLOOKUP(AF124,Answers!AC:AF,4,FALSE))),VLOOKUP(AF124,Answers!AC:AF,4,FALSE),\"Help!\"))","v":""},null,{"$f":"IF(AG124=\"\",\"\",AE124+IF(AG124=\"XX\",VLOOKUP(\"WRONG\",Answers!AC:AF,4,FALSE),AG124)+AH124)","v":""},{"$f":"IF($B124=\"\",\"\",UPPER(Mainframe!K123))","v":""},{"$f":"IF(AJ124=\"\",\"\",IF(NOT(ISNA(VLOOKUP(AJ124,Answers!AG:AJ,4,FALSE))),VLOOKUP(AJ124,Answers!AG:AJ,4,FALSE),\"Help!\"))","v":""},null,{"$f":"IF(AK124=\"\",\"\",AI124+IF(AK124=\"XX\",VLOOKUP(\"WRONG\",Answers!AG:AJ,4,FALSE),AK124)+AL124)","v":""},{"$f":"IF($B124=\"\",\"\",UPPER(Mainframe!L123))","v":""},{"$f":"IF(AN124=\"\",\"\",IF(NOT(ISNA(VLOOKUP(AN124,Answers!AK:AN,4,FALSE))),VLOOKUP(AN124,Answers!AK:AN,4,FALSE),\"Help!\"))","v":""},null,{"$f":"IF(AO124=\"\",\"\",AM124+IF(AO124=\"XX\",VLOOKUP(\"WRONG\",Answers!AK:AN,4,FALSE),AO124)+AP124)","v":""},{"$f":"IF($B124=\"\",\"\",UPPER(Mainframe!M123))","v":""},{"$f":"IF(AR124=\"\",\"\",IF(NOT(ISNA(VLOOKUP(AR124,Answers!AO:AR,4,FALSE))),VLOOKUP(AR124,Answers!AO:AR,4,FALSE),\"Help!\"))","v":""},null,{"$f":"IF(AS124=\"\",\"\",AQ124+IF(AS124=\"XX\",VLOOKUP(\"WRONG\",Answers!AO:AR,4,FALSE),AS124)+AT124)","v":""},{"$f":"IF($B124=\"\",\"\",UPPER(Mainframe!N123))","v":""},{"$f":"IF(AV124=\"\",\"\",IF(NOT(ISNA(VLOOKUP(AV124,Answers!AS:AV,4,FALSE))),VLOOKUP(AV124,Answers!AS:AV,4,FALSE),\"Help!\"))","v":""},null,{"$f":"IF(AW124=\"\",\"\",AU124+IF(AW124=\"XX\",VLOOKUP(\"WRONG\",Answers!AS:AV,4,FALSE),AW124)+AX124)","v":""},{"$f":"IF($B124=\"\",\"\",UPPER(Mainframe!O123))","v":""},{"$f":"IF(AZ124=\"\",\"\",IF(NOT(ISNA(VLOOKUP(AZ124,Answers!AW:AZ,4,FALSE))),VLOOKUP(AZ124,Answers!AW:AZ,4,FALSE),\"Help!\"))","v":""},null,{"$f":"IF(BA124=\"\",\"\",AY124+IF(BA124=\"XX\",VLOOKUP(\"WRONG\",Answers!AW:AZ,4,FALSE),BA124)+BB124)","v":""},{"$f":"IF($B124=\"\",\"\",UPPER(Mainframe!P123))","v":""},{"$f":"IF(BD124=\"\",\"\",IF(NOT(ISNA(VLOOKUP(BD124,Answers!BA:BD,4,FALSE))),VLOOKUP(BD124,Answers!BA:BD,4,FALSE),\"Help!\"))","v":""},null,{"$f":"IF(BE124=\"\",\"\",BC124+IF(BE124=\"XX\",VLOOKUP(\"WRONG\",Answers!BA:BD,4,FALSE),BE124)+BF124)","v":""},{"$f":"IF($B124=\"\",\"\",UPPER(Mainframe!Q123))","v":""},{"$f":"IF(BH124=\"\",\"\",IF(NOT(ISNA(VLOOKUP(BH124,Answers!BE:BH,4,FALSE))),VLOOKUP(BH124,Answers!BE:BH,4,FALSE),\"Help!\"))","v":""},null,{"$f":"IF(BI124=\"\",\"\",BG124+IF(BI124=\"XX\",VLOOKUP(\"WRONG\",Answers!BE:BH,4,FALSE),BI124)+BJ124)","v":""},{"$f":"IF($B124=\"\",\"\",UPPER(Mainframe!R123))","v":""},{"$f":"IF(BL124=\"\",\"\",IF(NOT(ISNA(VLOOKUP(BL124,Answers!BI:BL,4,FALSE))),VLOOKUP(BL124,Answers!BI:BL,4,FALSE),\"Help!\"))","v":""},null,{"$f":"IF(BM124=\"\",\"\",BK124+IF(BM124=\"XX\",VLOOKUP(\"WRONG\",Answers!BI:BL,4,FALSE),BM124)+BN124)","v":""},{"$f":"IF($B124=\"\",\"\",UPPER(Mainframe!S123))","v":""},{"$f":"IF(BP124=\"\",\"\",IF(NOT(ISNA(VLOOKUP(BP124,Answers!BM:BP,4,FALSE))),VLOOKUP(BP124,Answers!BM:BP,4,FALSE),\"Help!\"))","v":""},null,{"$f":"IF(BQ124=\"\",\"\",BO124+IF(BQ124=\"XX\",VLOOKUP(\"WRONG\",Answers!BM:BP,4,FALSE),BQ124)+BR124)","v":""},{"$f":"IF($B124=\"\",\"\",UPPER(Mainframe!T123))","v":""},{"$f":"IF(BT124=\"\",\"\",IF(NOT(ISNA(VLOOKUP(BT124,Answers!BQ:BT,4,FALSE))),VLOOKUP(BT124,Answers!BQ:BT,4,FALSE),\"Help!\"))","v":""},null,{"$f":"IF(BU124=\"\",\"\",BS124+IF(BU124=\"XX\",VLOOKUP(\"WRONG\",Answers!BQ:BT,4,FALSE),BU124)+BV124)","v":""},{"$f":"IF($B124=\"\",\"\",UPPER(Mainframe!U123))","v":""},{"$f":"IF(BX124=\"\",\"\",IF(NOT(ISNA(VLOOKUP(BX124,Answers!BU:BX,4,FALSE))),VLOOKUP(BX124,Answers!BU:BX,4,FALSE),\"Help!\"))","v":""},null,{"$f":"IF(BY124=\"\",\"\",BW124+IF(BY124=\"XX\",VLOOKUP(\"WRONG\",Answers!BU:BX,4,FALSE),BY124)+BZ124)","v":""},{"$f":"IF($B124=\"\",\"\",UPPER(Mainframe!V123))","v":""},{"$f":"IF(CB124=\"\",\"\",IF(NOT(ISNA(VLOOKUP(CB124,Answers!BY:CB,4,FALSE))),VLOOKUP(CB124,Answers!BY:CB,4,FALSE),\"Help!\"))","v":""},null,{"$f":"IF(CC124=\"\",\"\",CA124+IF(CC124=\"XX\",VLOOKUP(\"WRONG\",Answers!BY:CB,4,FALSE),CC124)+CD124)","v":""},null,null,1,{"$f":"IF(INDEX($B:$CE,ROW(),QNO*4-1)=DROPNAME,DROPNAME,IF(INDEX($B:$CE,ROW(),QNO*4-1)=SHEEPNAME,SHEEPNAME,IF(INDEX($B:$CE,ROW(),QNO*4)=\"XX\",INDEX($B:$CE,ROW(),QNO*4-1),INDEX(OFFSET(Answers!B:B,0,(QNO-1)*4),MATCH(INDEX($A:$CB,ROW(),QNO*4),OFFSET(Answers!A:A,0,(QNO-1)*4),0))&\" — \"&IF(INDEX($B:$CE,ROW(),QNO*4)=1,\"[b]Singleton![/b]\",CONCATENATE(INDEX($B:$CE,ROW(),QNO*4),\" responses\")))))","v":{"$error":"#N/A"}},"//////////////","No",{"$f":"IF(B124=0,\"\",CONCATENATE(INDEX($CH:$CL,ROW(),1),\". \",INDEX($B:$CE,ROW(),1),\" — [b]\")&IF(QNO=1,CONCATENATE(INDEX($B:$CE,ROW(),QNO*4+2),\"[/b] pts\"),CONCATENATE(INDEX($B:$CE,ROW(),QNO*4-2),\" + \",IF(INDEX($B:$CE,ROW(),QNO*4)=\"XX\",INDEX(Answers!$A:$ZZ,2,QNO*4),INDEX($B:$CE,ROW(),QNO*4)),\" = \",INDEX($B:$CE,ROW(),QNO*4+2),\"[/b] pts \",IF(INDEX($C:$CE,ROW(),QNO*4)>0,\"(penalty: +\"&INDEX($C:$CE,ROW(),QNO*4)&\") \",IF(INDEX($C:$CE,ROW(),QNO*4)<0,\"(bonus: \"&INDEX($C:$CE,ROW(),QNO*4)&\") \",\"\"))&\"[[b]\"&IF(CN124>0,\"[color=#00BF00]↑\"&CN124,IF(CN124<0,\"[color=#FF0000]↓\"&ABS(CN124),\"[color=#0000FF]unch\"))&\"[/b][/color]]\")))","v":"1.  — [b][/b] pts"},1,0]
["[*]",{"$f":"IF(Mainframe!B124=\"\",\"\",INDEX(Mainframe!$B:$B,C125+1,1))","v":""},123,{"$f":"IF($B125=\"\",\"\",UPPER(Mainframe!C124))","v":""},{"$f":"IF(D125=\"\",\"\",IF(NOT(ISNA(VLOOKUP(D125,Answers!A:D,4,FALSE))),VLOOKUP(D125,Answers!A:D,4,FALSE),\"Help!\"))","v":""},null,{"$f":"IF(E125=\"\",\"\",IF(E125=\"XX\",VLOOKUP(\"WRONG\",Answers!A:D,4,FALSE),E125)+F125)","v":""},{"$f":"IF($B125=\"\",\"\",UPPER(Mainframe!D124))","v":""},{"$f":"IF(H125=\"\",\"\",IF(NOT(ISNA(VLOOKUP(H125,Answers!E:H,4,FALSE))),VLOOKUP(H125,Answers!E:H,4,FALSE),\"Help!\"))","v":""},null,{"$f":"IF(I125=\"\",\"\",G125+IF(I125=\"XX\",VLOOKUP(\"WRONG\",Answers!E:H,4,FALSE),I125)+J125)","v":""},{"$f":"IF($B125=\"\",\"\",UPPER(Mainframe!E124))","v":""},{"$f":"IF(L125=\"\",\"\",IF(NOT(ISNA(VLOOKUP(L125,Answers!I:L,4,FALSE))),VLOOKUP(L125,Answers!I:L,4,FALSE),\"Help!\"))","v":""},null,{"$f":"IF(M125=\"\",\"\",K125+IF(M125=\"XX\",VLOOKUP(\"WRONG\",Answers!I:L,4,FALSE),M125)+N125)","v":""},{"$f":"IF($B125=\"\",\"\",UPPER(Mainframe!F124))","v":""},{"$f":"IF(P125=\"\",\"\",IF(NOT(ISNA(VLOOKUP(P125,Answers!M:P,4,FALSE))),VLOOKUP(P125,Answers!M:P,4,FALSE),\"Help!\"))","v":""},null,{"$f":"IF(Q125=\"\",\"\",O125+IF(Q125=\"XX\",VLOOKUP(\"WRONG\",Answers!M:P,4,FALSE),Q125)+R125)","v":""},{"$f":"IF($B125=\"\",\"\",UPPER(Mainframe!G124))","v":""},{"$f":"IF(T125=\"\",\"\",IF(NOT(ISNA(VLOOKUP(T125,Answers!Q:T,4,FALSE))),VLOOKUP(T125,Answers!Q:T,4,FALSE),\"Help!\"))","v":""},null,{"$f":"IF(U125=\"\",\"\",S125+IF(U125=\"XX\",VLOOKUP(\"WRONG\",Answers!Q:T,4,FALSE),U125)+V125)","v":""},{"$f":"IF($B125=\"\",\"\",UPPER(Mainframe!H124))","v":""},{"$f":"IF(X125=\"\",\"\",IF(NOT(ISNA(VLOOKUP(X125,Answers!U:X,4,FALSE))),VLOOKUP(X125,Answers!U:X,4,FALSE),\"Help!\"))","v":""},null,{"$f":"IF(Y125=\"\",\"\",W125+IF(Y125=\"XX\",VLOOKUP(\"WRONG\",Answers!U:X,4,FALSE),Y125)+Z125)","v":""},{"$f":"IF($B125=\"\",\"\",UPPER(Mainframe!I124))","v":""},{"$f":"IF(AB125=\"\",\"\",IF(NOT(ISNA(VLOOKUP(AB125,Answers!Y:AB,4,FALSE))),VLOOKUP(AB125,Answers!Y:AB,4,FALSE),\"Help!\"))","v":""},null,{"$f":"IF(AC125=\"\",\"\",AA125+IF(AC125=\"XX\",VLOOKUP(\"WRONG\",Answers!Y:AB,4,FALSE),AC125)+AD125)","v":""},{"$f":"IF($B125=\"\",\"\",UPPER(Mainframe!J124))","v":""},{"$f":"IF(AF125=\"\",\"\",IF(NOT(ISNA(VLOOKUP(AF125,Answers!AC:AF,4,FALSE))),VLOOKUP(AF125,Answers!AC:AF,4,FALSE),\"Help!\"))","v":""},null,{"$f":"IF(AG125=\"\",\"\",AE125+IF(AG125=\"XX\",VLOOKUP(\"WRONG\",Answers!AC:AF,4,FALSE),AG125)+AH125)","v":""},{"$f":"IF($B125=\"\",\"\",UPPER(Mainframe!K124))","v":""},{"$f":"IF(AJ125=\"\",\"\",IF(NOT(ISNA(VLOOKUP(AJ125,Answers!AG:AJ,4,FALSE))),VLOOKUP(AJ125,Answers!AG:AJ,4,FALSE),\"Help!\"))","v":""},null,{"$f":"IF(AK125=\"\",\"\",AI125+IF(AK125=\"XX\",VLOOKUP(\"WRONG\",Answers!AG:AJ,4,FALSE),AK125)+AL125)","v":""},{"$f":"IF($B125=\"\",\"\",UPPER(Mainframe!L124))","v":""},{"$f":"IF(AN125=\"\",\"\",IF(NOT(ISNA(VLOOKUP(AN125,Answers!AK:AN,4,FALSE))),VLOOKUP(AN125,Answers!AK:AN,4,FALSE),\"Help!\"))","v":""},null,{"$f":"IF(AO125=\"\",\"\",AM125+IF(AO125=\"XX\",VLOOKUP(\"WRONG\",Answers!AK:AN,4,FALSE),AO125)+AP125)","v":""},{"$f":"IF($B125=\"\",\"\",UPPER(Mainframe!M124))","v":""},{"$f":"IF(AR125=\"\",\"\",IF(NOT(ISNA(VLOOKUP(AR125,Answers!AO:AR,4,FALSE))),VLOOKUP(AR125,Answers!AO:AR,4,FALSE),\"Help!\"))","v":""},null,{"$f":"IF(AS125=\"\",\"\",AQ125+IF(AS125=\"XX\",VLOOKUP(\"WRONG\",Answers!AO:AR,4,FALSE),AS125)+AT125)","v":""},{"$f":"IF($B125=\"\",\"\",UPPER(Mainframe!N124))","v":""},{"$f":"IF(AV125=\"\",\"\",IF(NOT(ISNA(VLOOKUP(AV125,Answers!AS:AV,4,FALSE))),VLOOKUP(AV125,Answers!AS:AV,4,FALSE),\"Help!\"))","v":""},null,{"$f":"IF(AW125=\"\",\"\",AU125+IF(AW125=\"XX\",VLOOKUP(\"WRONG\",Answers!AS:AV,4,FALSE),AW125)+AX125)","v":""},{"$f":"IF($B125=\"\",\"\",UPPER(Mainframe!O124))","v":""},{"$f":"IF(AZ125=\"\",\"\",IF(NOT(ISNA(VLOOKUP(AZ125,Answers!AW:AZ,4,FALSE))),VLOOKUP(AZ125,Answers!AW:AZ,4,FALSE),\"Help!\"))","v":""},null,{"$f":"IF(BA125=\"\",\"\",AY125+IF(BA125=\"XX\",VLOOKUP(\"WRONG\",Answers!AW:AZ,4,FALSE),BA125)+BB125)","v":""},{"$f":"IF($B125=\"\",\"\",UPPER(Mainframe!P124))","v":""},{"$f":"IF(BD125=\"\",\"\",IF(NOT(ISNA(VLOOKUP(BD125,Answers!BA:BD,4,FALSE))),VLOOKUP(BD125,Answers!BA:BD,4,FALSE),\"Help!\"))","v":""},null,{"$f":"IF(BE125=\"\",\"\",BC125+IF(BE125=\"XX\",VLOOKUP(\"WRONG\",Answers!BA:BD,4,FALSE),BE125)+BF125)","v":""},{"$f":"IF($B125=\"\",\"\",UPPER(Mainframe!Q124))","v":""},{"$f":"IF(BH125=\"\",\"\",IF(NOT(ISNA(VLOOKUP(BH125,Answers!BE:BH,4,FALSE))),VLOOKUP(BH125,Answers!BE:BH,4,FALSE),\"Help!\"))","v":""},null,{"$f":"IF(BI125=\"\",\"\",BG125+IF(BI125=\"XX\",VLOOKUP(\"WRONG\",Answers!BE:BH,4,FALSE),BI125)+BJ125)","v":""},{"$f":"IF($B125=\"\",\"\",UPPER(Mainframe!R124))","v":""},{"$f":"IF(BL125=\"\",\"\",IF(NOT(ISNA(VLOOKUP(BL125,Answers!BI:BL,4,FALSE))),VLOOKUP(BL125,Answers!BI:BL,4,FALSE),\"Help!\"))","v":""},null,{"$f":"IF(BM125=\"\",\"\",BK125+IF(BM125=\"XX\",VLOOKUP(\"WRONG\",Answers!BI:BL,4,FALSE),BM125)+BN125)","v":""},{"$f":"IF($B125=\"\",\"\",UPPER(Mainframe!S124))","v":""},{"$f":"IF(BP125=\"\",\"\",IF(NOT(ISNA(VLOOKUP(BP125,Answers!BM:BP,4,FALSE))),VLOOKUP(BP125,Answers!BM:BP,4,FALSE),\"Help!\"))","v":""},null,{"$f":"IF(BQ125=\"\",\"\",BO125+IF(BQ125=\"XX\",VLOOKUP(\"WRONG\",Answers!BM:BP,4,FALSE),BQ125)+BR125)","v":""},{"$f":"IF($B125=\"\",\"\",UPPER(Mainframe!T124))","v":""},{"$f":"IF(BT125=\"\",\"\",IF(NOT(ISNA(VLOOKUP(BT125,Answers!BQ:BT,4,FALSE))),VLOOKUP(BT125,Answers!BQ:BT,4,FALSE),\"Help!\"))","v":""},null,{"$f":"IF(BU125=\"\",\"\",BS125+IF(BU125=\"XX\",VLOOKUP(\"WRONG\",Answers!BQ:BT,4,FALSE),BU125)+BV125)","v":""},{"$f":"IF($B125=\"\",\"\",UPPER(Mainframe!U124))","v":""},{"$f":"IF(BX125=\"\",\"\",IF(NOT(ISNA(VLOOKUP(BX125,Answers!BU:BX,4,FALSE))),VLOOKUP(BX125,Answers!BU:BX,4,FALSE),\"Help!\"))","v":""},null,{"$f":"IF(BY125=\"\",\"\",BW125+IF(BY125=\"XX\",VLOOKUP(\"WRONG\",Answers!BU:BX,4,FALSE),BY125)+BZ125)","v":""},{"$f":"IF($B125=\"\",\"\",UPPER(Mainframe!V124))","v":""},{"$f":"IF(CB125=\"\",\"\",IF(NOT(ISNA(VLOOKUP(CB125,Answers!BY:CB,4,FALSE))),VLOOKUP(CB125,Answers!BY:CB,4,FALSE),\"Help!\"))","v":""},null,{"$f":"IF(CC125=\"\",\"\",CA125+IF(CC125=\"XX\",VLOOKUP(\"WRONG\",Answers!BY:CB,4,FALSE),CC125)+CD125)","v":""},null,null,1,{"$f":"IF(INDEX($B:$CE,ROW(),QNO*4-1)=DROPNAME,DROPNAME,IF(INDEX($B:$CE,ROW(),QNO*4-1)=SHEEPNAME,SHEEPNAME,IF(INDEX($B:$CE,ROW(),QNO*4)=\"XX\",INDEX($B:$CE,ROW(),QNO*4-1),INDEX(OFFSET(Answers!B:B,0,(QNO-1)*4),MATCH(INDEX($A:$CB,ROW(),QNO*4),OFFSET(Answers!A:A,0,(QNO-1)*4),0))&\" — \"&IF(INDEX($B:$CE,ROW(),QNO*4)=1,\"[b]Singleton![/b]\",CONCATENATE(INDEX($B:$CE,ROW(),QNO*4),\" responses\")))))","v":{"$error":"#N/A"}},"////////////","No",{"$f":"IF(B125=0,\"\",CONCATENATE(INDEX($CH:$CL,ROW(),1),\". \",INDEX($B:$CE,ROW(),1),\" — [b]\")&IF(QNO=1,CONCATENATE(INDEX($B:$CE,ROW(),QNO*4+2),\"[/b] pts\"),CONCATENATE(INDEX($B:$CE,ROW(),QNO*4-2),\" + \",IF(INDEX($B:$CE,ROW(),QNO*4)=\"XX\",INDEX(Answers!$A:$ZZ,2,QNO*4),INDEX($B:$CE,ROW(),QNO*4)),\" = \",INDEX($B:$CE,ROW(),QNO*4+2),\"[/b] pts \",IF(INDEX($C:$CE,ROW(),QNO*4)>0,\"(penalty: +\"&INDEX($C:$CE,ROW(),QNO*4)&\") \",IF(INDEX($C:$CE,ROW(),QNO*4)<0,\"(bonus: \"&INDEX($C:$CE,ROW(),QNO*4)&\") \",\"\"))&\"[[b]\"&IF(CN125>0,\"[color=#00BF00]↑\"&CN125,IF(CN125<0,\"[color=#FF0000]↓\"&ABS(CN125),\"[color=#0000FF]unch\"))&\"[/b][/color]]\")))","v":"1.  — [b][/b] pts"},1,0]
["[*]",{"$f":"IF(Mainframe!B125=\"\",\"\",INDEX(Mainframe!$B:$B,C126+1,1))","v":""},124,{"$f":"IF($B126=\"\",\"\",UPPER(Mainframe!C125))","v":""},{"$f":"IF(D126=\"\",\"\",IF(NOT(ISNA(VLOOKUP(D126,Answers!A:D,4,FALSE))),VLOOKUP(D126,Answers!A:D,4,FALSE),\"Help!\"))","v":""},null,{"$f":"IF(E126=\"\",\"\",IF(E126=\"XX\",VLOOKUP(\"WRONG\",Answers!A:D,4,FALSE),E126)+F126)","v":""},{"$f":"IF($B126=\"\",\"\",UPPER(Mainframe!D125))","v":""},{"$f":"IF(H126=\"\",\"\",IF(NOT(ISNA(VLOOKUP(H126,Answers!E:H,4,FALSE))),VLOOKUP(H126,Answers!E:H,4,FALSE),\"Help!\"))","v":""},null,{"$f":"IF(I126=\"\",\"\",G126+IF(I126=\"XX\",VLOOKUP(\"WRONG\",Answers!E:H,4,FALSE),I126)+J126)","v":""},{"$f":"IF($B126=\"\",\"\",UPPER(Mainframe!E125))","v":""},{"$f":"IF(L126=\"\",\"\",IF(NOT(ISNA(VLOOKUP(L126,Answers!I:L,4,FALSE))),VLOOKUP(L126,Answers!I:L,4,FALSE),\"Help!\"))","v":""},null,{"$f":"IF(M126=\"\",\"\",K126+IF(M126=\"XX\",VLOOKUP(\"WRONG\",Answers!I:L,4,FALSE),M126)+N126)","v":""},{"$f":"IF($B126=\"\",\"\",UPPER(Mainframe!F125))","v":""},{"$f":"IF(P126=\"\",\"\",IF(NOT(ISNA(VLOOKUP(P126,Answers!M:P,4,FALSE))),VLOOKUP(P126,Answers!M:P,4,FALSE),\"Help!\"))","v":""},null,{"$f":"IF(Q126=\"\",\"\",O126+IF(Q126=\"XX\",VLOOKUP(\"WRONG\",Answers!M:P,4,FALSE),Q126)+R126)","v":""},{"$f":"IF($B126=\"\",\"\",UPPER(Mainframe!G125))","v":""},{"$f":"IF(T126=\"\",\"\",IF(NOT(ISNA(VLOOKUP(T126,Answers!Q:T,4,FALSE))),VLOOKUP(T126,Answers!Q:T,4,FALSE),\"Help!\"))","v":""},null,{"$f":"IF(U126=\"\",\"\",S126+IF(U126=\"XX\",VLOOKUP(\"WRONG\",Answers!Q:T,4,FALSE),U126)+V126)","v":""},{"$f":"IF($B126=\"\",\"\",UPPER(Mainframe!H125))","v":""},{"$f":"IF(X126=\"\",\"\",IF(NOT(ISNA(VLOOKUP(X126,Answers!U:X,4,FALSE))),VLOOKUP(X126,Answers!U:X,4,FALSE),\"Help!\"))","v":""},null,{"$f":"IF(Y126=\"\",\"\",W126+IF(Y126=\"XX\",VLOOKUP(\"WRONG\",Answers!U:X,4,FALSE),Y126)+Z126)","v":""},{"$f":"IF($B126=\"\",\"\",UPPER(Mainframe!I125))","v":""},{"$f":"IF(AB126=\"\",\"\",IF(NOT(ISNA(VLOOKUP(AB126,Answers!Y:AB,4,FALSE))),VLOOKUP(AB126,Answers!Y:AB,4,FALSE),\"Help!\"))","v":""},null,{"$f":"IF(AC126=\"\",\"\",AA126+IF(AC126=\"XX\",VLOOKUP(\"WRONG\",Answers!Y:AB,4,FALSE),AC126)+AD126)","v":""},{"$f":"IF($B126=\"\",\"\",UPPER(Mainframe!J125))","v":""},{"$f":"IF(AF126=\"\",\"\",IF(NOT(ISNA(VLOOKUP(AF126,Answers!AC:AF,4,FALSE))),VLOOKUP(AF126,Answers!AC:AF,4,FALSE),\"Help!\"))","v":""},null,{"$f":"IF(AG126=\"\",\"\",AE126+IF(AG126=\"XX\",VLOOKUP(\"WRONG\",Answers!AC:AF,4,FALSE),AG126)+AH126)","v":""},{"$f":"IF($B126=\"\",\"\",UPPER(Mainframe!K125))","v":""},{"$f":"IF(AJ126=\"\",\"\",IF(NOT(ISNA(VLOOKUP(AJ126,Answers!AG:AJ,4,FALSE))),VLOOKUP(AJ126,Answers!AG:AJ,4,FALSE),\"Help!\"))","v":""},null,{"$f":"IF(AK126=\"\",\"\",AI126+IF(AK126=\"XX\",VLOOKUP(\"WRONG\",Answers!AG:AJ,4,FALSE),AK126)+AL126)","v":""},{"$f":"IF($B126=\"\",\"\",UPPER(Mainframe!L125))","v":""},{"$f":"IF(AN126=\"\",\"\",IF(NOT(ISNA(VLOOKUP(AN126,Answers!AK:AN,4,FALSE))),VLOOKUP(AN126,Answers!AK:AN,4,FALSE),\"Help!\"))","v":""},null,{"$f":"IF(AO126=\"\",\"\",AM126+IF(AO126=\"XX\",VLOOKUP(\"WRONG\",Answers!AK:AN,4,FALSE),AO126)+AP126)","v":""},{"$f":"IF($B126=\"\",\"\",UPPER(Mainframe!M125))","v":""},{"$f":"IF(AR126=\"\",\"\",IF(NOT(ISNA(VLOOKUP(AR126,Answers!AO:AR,4,FALSE))),VLOOKUP(AR126,Answers!AO:AR,4,FALSE),\"Help!\"))","v":""},null,{"$f":"IF(AS126=\"\",\"\",AQ126+IF(AS126=\"XX\",VLOOKUP(\"WRONG\",Answers!AO:AR,4,FALSE),AS126)+AT126)","v":""},{"$f":"IF($B126=\"\",\"\",UPPER(Mainframe!N125))","v":""},{"$f":"IF(AV126=\"\",\"\",IF(NOT(ISNA(VLOOKUP(AV126,Answers!AS:AV,4,FALSE))),VLOOKUP(AV126,Answers!AS:AV,4,FALSE),\"Help!\"))","v":""},null,{"$f":"IF(AW126=\"\",\"\",AU126+IF(AW126=\"XX\",VLOOKUP(\"WRONG\",Answers!AS:AV,4,FALSE),AW126)+AX126)","v":""},{"$f":"IF($B126=\"\",\"\",UPPER(Mainframe!O125))","v":""},{"$f":"IF(AZ126=\"\",\"\",IF(NOT(ISNA(VLOOKUP(AZ126,Answers!AW:AZ,4,FALSE))),VLOOKUP(AZ126,Answers!AW:AZ,4,FALSE),\"Help!\"))","v":""},null,{"$f":"IF(BA126=\"\",\"\",AY126+IF(BA126=\"XX\",VLOOKUP(\"WRONG\",Answers!AW:AZ,4,FALSE),BA126)+BB126)","v":""},{"$f":"IF($B126=\"\",\"\",UPPER(Mainframe!P125))","v":""},{"$f":"IF(BD126=\"\",\"\",IF(NOT(ISNA(VLOOKUP(BD126,Answers!BA:BD,4,FALSE))),VLOOKUP(BD126,Answers!BA:BD,4,FALSE),\"Help!\"))","v":""},null,{"$f":"IF(BE126=\"\",\"\",BC126+IF(BE126=\"XX\",VLOOKUP(\"WRONG\",Answers!BA:BD,4,FALSE),BE126)+BF126)","v":""},{"$f":"IF($B126=\"\",\"\",UPPER(Mainframe!Q125))","v":""},{"$f":"IF(BH126=\"\",\"\",IF(NOT(ISNA(VLOOKUP(BH126,Answers!BE:BH,4,FALSE))),VLOOKUP(BH126,Answers!BE:BH,4,FALSE),\"Help!\"))","v":""},null,{"$f":"IF(BI126=\"\",\"\",BG126+IF(BI126=\"XX\",VLOOKUP(\"WRONG\",Answers!BE:BH,4,FALSE),BI126)+BJ126)","v":""},{"$f":"IF($B126=\"\",\"\",UPPER(Mainframe!R125))","v":""},{"$f":"IF(BL126=\"\",\"\",IF(NOT(ISNA(VLOOKUP(BL126,Answers!BI:BL,4,FALSE))),VLOOKUP(BL126,Answers!BI:BL,4,FALSE),\"Help!\"))","v":""},null,{"$f":"IF(BM126=\"\",\"\",BK126+IF(BM126=\"XX\",VLOOKUP(\"WRONG\",Answers!BI:BL,4,FALSE),BM126)+BN126)","v":""},{"$f":"IF($B126=\"\",\"\",UPPER(Mainframe!S125))","v":""},{"$f":"IF(BP126=\"\",\"\",IF(NOT(ISNA(VLOOKUP(BP126,Answers!BM:BP,4,FALSE))),VLOOKUP(BP126,Answers!BM:BP,4,FALSE),\"Help!\"))","v":""},null,{"$f":"IF(BQ126=\"\",\"\",BO126+IF(BQ126=\"XX\",VLOOKUP(\"WRONG\",Answers!BM:BP,4,FALSE),BQ126)+BR126)","v":""},{"$f":"IF($B126=\"\",\"\",UPPER(Mainframe!T125))","v":""},{"$f":"IF(BT126=\"\",\"\",IF(NOT(ISNA(VLOOKUP(BT126,Answers!BQ:BT,4,FALSE))),VLOOKUP(BT126,Answers!BQ:BT,4,FALSE),\"Help!\"))","v":""},null,{"$f":"IF(BU126=\"\",\"\",BS126+IF(BU126=\"XX\",VLOOKUP(\"WRONG\",Answers!BQ:BT,4,FALSE),BU126)+BV126)","v":""},{"$f":"IF($B126=\"\",\"\",UPPER(Mainframe!U125))","v":""},{"$f":"IF(BX126=\"\",\"\",IF(NOT(ISNA(VLOOKUP(BX126,Answers!BU:BX,4,FALSE))),VLOOKUP(BX126,Answers!BU:BX,4,FALSE),\"Help!\"))","v":""},null,{"$f":"IF(BY126=\"\",\"\",BW126+IF(BY126=\"XX\",VLOOKUP(\"WRONG\",Answers!BU:BX,4,FALSE),BY126)+BZ126)","v":""},{"$f":"IF($B126=\"\",\"\",UPPER(Mainframe!V125))","v":""},{"$f":"IF(CB126=\"\",\"\",IF(NOT(ISNA(VLOOKUP(CB126,Answers!BY:CB,4,FALSE))),VLOOKUP(CB126,Answers!BY:CB,4,FALSE),\"Help!\"))","v":""},null,{"$f":"IF(CC126=\"\",\"\",CA126+IF(CC126=\"XX\",VLOOKUP(\"WRONG\",Answers!BY:CB,4,FALSE),CC126)+CD126)","v":""},null,null,1,{"$f":"IF(INDEX($B:$CE,ROW(),QNO*4-1)=DROPNAME,DROPNAME,IF(INDEX($B:$CE,ROW(),QNO*4-1)=SHEEPNAME,SHEEPNAME,IF(INDEX($B:$CE,ROW(),QNO*4)=\"XX\",INDEX($B:$CE,ROW(),QNO*4-1),INDEX(OFFSET(Answers!B:B,0,(QNO-1)*4),MATCH(INDEX($A:$CB,ROW(),QNO*4),OFFSET(Answers!A:A,0,(QNO-1)*4),0))&\" — \"&IF(INDEX($B:$CE,ROW(),QNO*4)=1,\"[b]Singleton![/b]\",CONCATENATE(INDEX($B:$CE,ROW(),QNO*4),\" responses\")))))","v":{"$error":"#N/A"}},"//////////","No",{"$f":"IF(B126=0,\"\",CONCATENATE(INDEX($CH:$CL,ROW(),1),\". \",INDEX($B:$CE,ROW(),1),\" — [b]\")&IF(QNO=1,CONCATENATE(INDEX($B:$CE,ROW(),QNO*4+2),\"[/b] pts\"),CONCATENATE(INDEX($B:$CE,ROW(),QNO*4-2),\" + \",IF(INDEX($B:$CE,ROW(),QNO*4)=\"XX\",INDEX(Answers!$A:$ZZ,2,QNO*4),INDEX($B:$CE,ROW(),QNO*4)),\" = \",INDEX($B:$CE,ROW(),QNO*4+2),\"[/b] pts \",IF(INDEX($C:$CE,ROW(),QNO*4)>0,\"(penalty: +\"&INDEX($C:$CE,ROW(),QNO*4)&\") \",IF(INDEX($C:$CE,ROW(),QNO*4)<0,\"(bonus: \"&INDEX($C:$CE,ROW(),QNO*4)&\") \",\"\"))&\"[[b]\"&IF(CN126>0,\"[color=#00BF00]↑\"&CN126,IF(CN126<0,\"[color=#FF0000]↓\"&ABS(CN126),\"[color=#0000FF]unch\"))&\"[/b][/color]]\")))","v":"1.  — [b][/b] pts"},1,0]
["[*]",{"$f":"IF(Mainframe!B126=\"\",\"\",INDEX(Mainframe!$B:$B,C127+1,1))","v":""},125,{"$f":"IF($B127=\"\",\"\",UPPER(Mainframe!C126))","v":""},{"$f":"IF(D127=\"\",\"\",IF(NOT(ISNA(VLOOKUP(D127,Answers!A:D,4,FALSE))),VLOOKUP(D127,Answers!A:D,4,FALSE),\"Help!\"))","v":""},null,{"$f":"IF(E127=\"\",\"\",IF(E127=\"XX\",VLOOKUP(\"WRONG\",Answers!A:D,4,FALSE),E127)+F127)","v":""},{"$f":"IF($B127=\"\",\"\",UPPER(Mainframe!D126))","v":""},{"$f":"IF(H127=\"\",\"\",IF(NOT(ISNA(VLOOKUP(H127,Answers!E:H,4,FALSE))),VLOOKUP(H127,Answers!E:H,4,FALSE),\"Help!\"))","v":""},null,{"$f":"IF(I127=\"\",\"\",G127+IF(I127=\"XX\",VLOOKUP(\"WRONG\",Answers!E:H,4,FALSE),I127)+J127)","v":""},{"$f":"IF($B127=\"\",\"\",UPPER(Mainframe!E126))","v":""},{"$f":"IF(L127=\"\",\"\",IF(NOT(ISNA(VLOOKUP(L127,Answers!I:L,4,FALSE))),VLOOKUP(L127,Answers!I:L,4,FALSE),\"Help!\"))","v":""},null,{"$f":"IF(M127=\"\",\"\",K127+IF(M127=\"XX\",VLOOKUP(\"WRONG\",Answers!I:L,4,FALSE),M127)+N127)","v":""},{"$f":"IF($B127=\"\",\"\",UPPER(Mainframe!F126))","v":""},{"$f":"IF(P127=\"\",\"\",IF(NOT(ISNA(VLOOKUP(P127,Answers!M:P,4,FALSE))),VLOOKUP(P127,Answers!M:P,4,FALSE),\"Help!\"))","v":""},null,{"$f":"IF(Q127=\"\",\"\",O127+IF(Q127=\"XX\",VLOOKUP(\"WRONG\",Answers!M:P,4,FALSE),Q127)+R127)","v":""},{"$f":"IF($B127=\"\",\"\",UPPER(Mainframe!G126))","v":""},{"$f":"IF(T127=\"\",\"\",IF(NOT(ISNA(VLOOKUP(T127,Answers!Q:T,4,FALSE))),VLOOKUP(T127,Answers!Q:T,4,FALSE),\"Help!\"))","v":""},null,{"$f":"IF(U127=\"\",\"\",S127+IF(U127=\"XX\",VLOOKUP(\"WRONG\",Answers!Q:T,4,FALSE),U127)+V127)","v":""},{"$f":"IF($B127=\"\",\"\",UPPER(Mainframe!H126))","v":""},{"$f":"IF(X127=\"\",\"\",IF(NOT(ISNA(VLOOKUP(X127,Answers!U:X,4,FALSE))),VLOOKUP(X127,Answers!U:X,4,FALSE),\"Help!\"))","v":""},null,{"$f":"IF(Y127=\"\",\"\",W127+IF(Y127=\"XX\",VLOOKUP(\"WRONG\",Answers!U:X,4,FALSE),Y127)+Z127)","v":""},{"$f":"IF($B127=\"\",\"\",UPPER(Mainframe!I126))","v":""},{"$f":"IF(AB127=\"\",\"\",IF(NOT(ISNA(VLOOKUP(AB127,Answers!Y:AB,4,FALSE))),VLOOKUP(AB127,Answers!Y:AB,4,FALSE),\"Help!\"))","v":""},null,{"$f":"IF(AC127=\"\",\"\",AA127+IF(AC127=\"XX\",VLOOKUP(\"WRONG\",Answers!Y:AB,4,FALSE),AC127)+AD127)","v":""},{"$f":"IF($B127=\"\",\"\",UPPER(Mainframe!J126))","v":""},{"$f":"IF(AF127=\"\",\"\",IF(NOT(ISNA(VLOOKUP(AF127,Answers!AC:AF,4,FALSE))),VLOOKUP(AF127,Answers!AC:AF,4,FALSE),\"Help!\"))","v":""},null,{"$f":"IF(AG127=\"\",\"\",AE127+IF(AG127=\"XX\",VLOOKUP(\"WRONG\",Answers!AC:AF,4,FALSE),AG127)+AH127)","v":""},{"$f":"IF($B127=\"\",\"\",UPPER(Mainframe!K126))","v":""},{"$f":"IF(AJ127=\"\",\"\",IF(NOT(ISNA(VLOOKUP(AJ127,Answers!AG:AJ,4,FALSE))),VLOOKUP(AJ127,Answers!AG:AJ,4,FALSE),\"Help!\"))","v":""},null,{"$f":"IF(AK127=\"\",\"\",AI127+IF(AK127=\"XX\",VLOOKUP(\"WRONG\",Answers!AG:AJ,4,FALSE),AK127)+AL127)","v":""},{"$f":"IF($B127=\"\",\"\",UPPER(Mainframe!L126))","v":""},{"$f":"IF(AN127=\"\",\"\",IF(NOT(ISNA(VLOOKUP(AN127,Answers!AK:AN,4,FALSE))),VLOOKUP(AN127,Answers!AK:AN,4,FALSE),\"Help!\"))","v":""},null,{"$f":"IF(AO127=\"\",\"\",AM127+IF(AO127=\"XX\",VLOOKUP(\"WRONG\",Answers!AK:AN,4,FALSE),AO127)+AP127)","v":""},{"$f":"IF($B127=\"\",\"\",UPPER(Mainframe!M126))","v":""},{"$f":"IF(AR127=\"\",\"\",IF(NOT(ISNA(VLOOKUP(AR127,Answers!AO:AR,4,FALSE))),VLOOKUP(AR127,Answers!AO:AR,4,FALSE),\"Help!\"))","v":""},null,{"$f":"IF(AS127=\"\",\"\",AQ127+IF(AS127=\"XX\",VLOOKUP(\"WRONG\",Answers!AO:AR,4,FALSE),AS127)+AT127)","v":""},{"$f":"IF($B127=\"\",\"\",UPPER(Mainframe!N126))","v":""},{"$f":"IF(AV127=\"\",\"\",IF(NOT(ISNA(VLOOKUP(AV127,Answers!AS:AV,4,FALSE))),VLOOKUP(AV127,Answers!AS:AV,4,FALSE),\"Help!\"))","v":""},null,{"$f":"IF(AW127=\"\",\"\",AU127+IF(AW127=\"XX\",VLOOKUP(\"WRONG\",Answers!AS:AV,4,FALSE),AW127)+AX127)","v":""},{"$f":"IF($B127=\"\",\"\",UPPER(Mainframe!O126))","v":""},{"$f":"IF(AZ127=\"\",\"\",IF(NOT(ISNA(VLOOKUP(AZ127,Answers!AW:AZ,4,FALSE))),VLOOKUP(AZ127,Answers!AW:AZ,4,FALSE),\"Help!\"))","v":""},null,{"$f":"IF(BA127=\"\",\"\",AY127+IF(BA127=\"XX\",VLOOKUP(\"WRONG\",Answers!AW:AZ,4,FALSE),BA127)+BB127)","v":""},{"$f":"IF($B127=\"\",\"\",UPPER(Mainframe!P126))","v":""},{"$f":"IF(BD127=\"\",\"\",IF(NOT(ISNA(VLOOKUP(BD127,Answers!BA:BD,4,FALSE))),VLOOKUP(BD127,Answers!BA:BD,4,FALSE),\"Help!\"))","v":""},null,{"$f":"IF(BE127=\"\",\"\",BC127+IF(BE127=\"XX\",VLOOKUP(\"WRONG\",Answers!BA:BD,4,FALSE),BE127)+BF127)","v":""},{"$f":"IF($B127=\"\",\"\",UPPER(Mainframe!Q126))","v":""},{"$f":"IF(BH127=\"\",\"\",IF(NOT(ISNA(VLOOKUP(BH127,Answers!BE:BH,4,FALSE))),VLOOKUP(BH127,Answers!BE:BH,4,FALSE),\"Help!\"))","v":""},null,{"$f":"IF(BI127=\"\",\"\",BG127+IF(BI127=\"XX\",VLOOKUP(\"WRONG\",Answers!BE:BH,4,FALSE),BI127)+BJ127)","v":""},{"$f":"IF($B127=\"\",\"\",UPPER(Mainframe!R126))","v":""},{"$f":"IF(BL127=\"\",\"\",IF(NOT(ISNA(VLOOKUP(BL127,Answers!BI:BL,4,FALSE))),VLOOKUP(BL127,Answers!BI:BL,4,FALSE),\"Help!\"))","v":""},null,{"$f":"IF(BM127=\"\",\"\",BK127+IF(BM127=\"XX\",VLOOKUP(\"WRONG\",Answers!BI:BL,4,FALSE),BM127)+BN127)","v":""},{"$f":"IF($B127=\"\",\"\",UPPER(Mainframe!S126))","v":""},{"$f":"IF(BP127=\"\",\"\",IF(NOT(ISNA(VLOOKUP(BP127,Answers!BM:BP,4,FALSE))),VLOOKUP(BP127,Answers!BM:BP,4,FALSE),\"Help!\"))","v":""},null,{"$f":"IF(BQ127=\"\",\"\",BO127+IF(BQ127=\"XX\",VLOOKUP(\"WRONG\",Answers!BM:BP,4,FALSE),BQ127)+BR127)","v":""},{"$f":"IF($B127=\"\",\"\",UPPER(Mainframe!T126))","v":""},{"$f":"IF(BT127=\"\",\"\",IF(NOT(ISNA(VLOOKUP(BT127,Answers!BQ:BT,4,FALSE))),VLOOKUP(BT127,Answers!BQ:BT,4,FALSE),\"Help!\"))","v":""},null,{"$f":"IF(BU127=\"\",\"\",BS127+IF(BU127=\"XX\",VLOOKUP(\"WRONG\",Answers!BQ:BT,4,FALSE),BU127)+BV127)","v":""},{"$f":"IF($B127=\"\",\"\",UPPER(Mainframe!U126))","v":""},{"$f":"IF(BX127=\"\",\"\",IF(NOT(ISNA(VLOOKUP(BX127,Answers!BU:BX,4,FALSE))),VLOOKUP(BX127,Answers!BU:BX,4,FALSE),\"Help!\"))","v":""},null,{"$f":"IF(BY127=\"\",\"\",BW127+IF(BY127=\"XX\",VLOOKUP(\"WRONG\",Answers!BU:BX,4,FALSE),BY127)+BZ127)","v":""},{"$f":"IF($B127=\"\",\"\",UPPER(Mainframe!V126))","v":""},{"$f":"IF(CB127=\"\",\"\",IF(NOT(ISNA(VLOOKUP(CB127,Answers!BY:CB,4,FALSE))),VLOOKUP(CB127,Answers!BY:CB,4,FALSE),\"Help!\"))","v":""},null,{"$f":"IF(CC127=\"\",\"\",CA127+IF(CC127=\"XX\",VLOOKUP(\"WRONG\",Answers!BY:CB,4,FALSE),CC127)+CD127)","v":""},null,null,1,{"$f":"IF(INDEX($B:$CE,ROW(),QNO*4-1)=DROPNAME,DROPNAME,IF(INDEX($B:$CE,ROW(),QNO*4-1)=SHEEPNAME,SHEEPNAME,IF(INDEX($B:$CE,ROW(),QNO*4)=\"XX\",INDEX($B:$CE,ROW(),QNO*4-1),INDEX(OFFSET(Answers!B:B,0,(QNO-1)*4),MATCH(INDEX($A:$CB,ROW(),QNO*4),OFFSET(Answers!A:A,0,(QNO-1)*4),0))&\" — \"&IF(INDEX($B:$CE,ROW(),QNO*4)=1,\"[b]Singleton![/b]\",CONCATENATE(INDEX($B:$CE,ROW(),QNO*4),\" responses\")))))","v":{"$error":"#N/A"}},"////////","No",{"$f":"IF(B127=0,\"\",CONCATENATE(INDEX($CH:$CL,ROW(),1),\". \",INDEX($B:$CE,ROW(),1),\" — [b]\")&IF(QNO=1,CONCATENATE(INDEX($B:$CE,ROW(),QNO*4+2),\"[/b] pts\"),CONCATENATE(INDEX($B:$CE,ROW(),QNO*4-2),\" + \",IF(INDEX($B:$CE,ROW(),QNO*4)=\"XX\",INDEX(Answers!$A:$ZZ,2,QNO*4),INDEX($B:$CE,ROW(),QNO*4)),\" = \",INDEX($B:$CE,ROW(),QNO*4+2),\"[/b] pts \",IF(INDEX($C:$CE,ROW(),QNO*4)>0,\"(penalty: +\"&INDEX($C:$CE,ROW(),QNO*4)&\") \",IF(INDEX($C:$CE,ROW(),QNO*4)<0,\"(bonus: \"&INDEX($C:$CE,ROW(),QNO*4)&\") \",\"\"))&\"[[b]\"&IF(CN127>0,\"[color=#00BF00]↑\"&CN127,IF(CN127<0,\"[color=#FF0000]↓\"&ABS(CN127),\"[color=#0000FF]unch\"))&\"[/b][/color]]\")))","v":"1.  — [b][/b] pts"},1,0]
["[*]",{"$f":"IF(Mainframe!B127=\"\",\"\",INDEX(Mainframe!$B:$B,C128+1,1))","v":""},126,{"$f":"IF($B128=\"\",\"\",UPPER(Mainframe!C127))","v":""},{"$f":"IF(D128=\"\",\"\",IF(NOT(ISNA(VLOOKUP(D128,Answers!A:D,4,FALSE))),VLOOKUP(D128,Answers!A:D,4,FALSE),\"Help!\"))","v":""},null,{"$f":"IF(E128=\"\",\"\",IF(E128=\"XX\",VLOOKUP(\"WRONG\",Answers!A:D,4,FALSE),E128)+F128)","v":""},{"$f":"IF($B128=\"\",\"\",UPPER(Mainframe!D127))","v":""},{"$f":"IF(H128=\"\",\"\",IF(NOT(ISNA(VLOOKUP(H128,Answers!E:H,4,FALSE))),VLOOKUP(H128,Answers!E:H,4,FALSE),\"Help!\"))","v":""},null,{"$f":"IF(I128=\"\",\"\",G128+IF(I128=\"XX\",VLOOKUP(\"WRONG\",Answers!E:H,4,FALSE),I128)+J128)","v":""},{"$f":"IF($B128=\"\",\"\",UPPER(Mainframe!E127))","v":""},{"$f":"IF(L128=\"\",\"\",IF(NOT(ISNA(VLOOKUP(L128,Answers!I:L,4,FALSE))),VLOOKUP(L128,Answers!I:L,4,FALSE),\"Help!\"))","v":""},null,{"$f":"IF(M128=\"\",\"\",K128+IF(M128=\"XX\",VLOOKUP(\"WRONG\",Answers!I:L,4,FALSE),M128)+N128)","v":""},{"$f":"IF($B128=\"\",\"\",UPPER(Mainframe!F127))","v":""},{"$f":"IF(P128=\"\",\"\",IF(NOT(ISNA(VLOOKUP(P128,Answers!M:P,4,FALSE))),VLOOKUP(P128,Answers!M:P,4,FALSE),\"Help!\"))","v":""},null,{"$f":"IF(Q128=\"\",\"\",O128+IF(Q128=\"XX\",VLOOKUP(\"WRONG\",Answers!M:P,4,FALSE),Q128)+R128)","v":""},{"$f":"IF($B128=\"\",\"\",UPPER(Mainframe!G127))","v":""},{"$f":"IF(T128=\"\",\"\",IF(NOT(ISNA(VLOOKUP(T128,Answers!Q:T,4,FALSE))),VLOOKUP(T128,Answers!Q:T,4,FALSE),\"Help!\"))","v":""},null,{"$f":"IF(U128=\"\",\"\",S128+IF(U128=\"XX\",VLOOKUP(\"WRONG\",Answers!Q:T,4,FALSE),U128)+V128)","v":""},{"$f":"IF($B128=\"\",\"\",UPPER(Mainframe!H127))","v":""},{"$f":"IF(X128=\"\",\"\",IF(NOT(ISNA(VLOOKUP(X128,Answers!U:X,4,FALSE))),VLOOKUP(X128,Answers!U:X,4,FALSE),\"Help!\"))","v":""},null,{"$f":"IF(Y128=\"\",\"\",W128+IF(Y128=\"XX\",VLOOKUP(\"WRONG\",Answers!U:X,4,FALSE),Y128)+Z128)","v":""},{"$f":"IF($B128=\"\",\"\",UPPER(Mainframe!I127))","v":""},{"$f":"IF(AB128=\"\",\"\",IF(NOT(ISNA(VLOOKUP(AB128,Answers!Y:AB,4,FALSE))),VLOOKUP(AB128,Answers!Y:AB,4,FALSE),\"Help!\"))","v":""},null,{"$f":"IF(AC128=\"\",\"\",AA128+IF(AC128=\"XX\",VLOOKUP(\"WRONG\",Answers!Y:AB,4,FALSE),AC128)+AD128)","v":""},{"$f":"IF($B128=\"\",\"\",UPPER(Mainframe!J127))","v":""},{"$f":"IF(AF128=\"\",\"\",IF(NOT(ISNA(VLOOKUP(AF128,Answers!AC:AF,4,FALSE))),VLOOKUP(AF128,Answers!AC:AF,4,FALSE),\"Help!\"))","v":""},null,{"$f":"IF(AG128=\"\",\"\",AE128+IF(AG128=\"XX\",VLOOKUP(\"WRONG\",Answers!AC:AF,4,FALSE),AG128)+AH128)","v":""},{"$f":"IF($B128=\"\",\"\",UPPER(Mainframe!K127))","v":""},{"$f":"IF(AJ128=\"\",\"\",IF(NOT(ISNA(VLOOKUP(AJ128,Answers!AG:AJ,4,FALSE))),VLOOKUP(AJ128,Answers!AG:AJ,4,FALSE),\"Help!\"))","v":""},null,{"$f":"IF(AK128=\"\",\"\",AI128+IF(AK128=\"XX\",VLOOKUP(\"WRONG\",Answers!AG:AJ,4,FALSE),AK128)+AL128)","v":""},{"$f":"IF($B128=\"\",\"\",UPPER(Mainframe!L127))","v":""},{"$f":"IF(AN128=\"\",\"\",IF(NOT(ISNA(VLOOKUP(AN128,Answers!AK:AN,4,FALSE))),VLOOKUP(AN128,Answers!AK:AN,4,FALSE),\"Help!\"))","v":""},null,{"$f":"IF(AO128=\"\",\"\",AM128+IF(AO128=\"XX\",VLOOKUP(\"WRONG\",Answers!AK:AN,4,FALSE),AO128)+AP128)","v":""},{"$f":"IF($B128=\"\",\"\",UPPER(Mainframe!M127))","v":""},{"$f":"IF(AR128=\"\",\"\",IF(NOT(ISNA(VLOOKUP(AR128,Answers!AO:AR,4,FALSE))),VLOOKUP(AR128,Answers!AO:AR,4,FALSE),\"Help!\"))","v":""},null,{"$f":"IF(AS128=\"\",\"\",AQ128+IF(AS128=\"XX\",VLOOKUP(\"WRONG\",Answers!AO:AR,4,FALSE),AS128)+AT128)","v":""},{"$f":"IF($B128=\"\",\"\",UPPER(Mainframe!N127))","v":""},{"$f":"IF(AV128=\"\",\"\",IF(NOT(ISNA(VLOOKUP(AV128,Answers!AS:AV,4,FALSE))),VLOOKUP(AV128,Answers!AS:AV,4,FALSE),\"Help!\"))","v":""},null,{"$f":"IF(AW128=\"\",\"\",AU128+IF(AW128=\"XX\",VLOOKUP(\"WRONG\",Answers!AS:AV,4,FALSE),AW128)+AX128)","v":""},{"$f":"IF($B128=\"\",\"\",UPPER(Mainframe!O127))","v":""},{"$f":"IF(AZ128=\"\",\"\",IF(NOT(ISNA(VLOOKUP(AZ128,Answers!AW:AZ,4,FALSE))),VLOOKUP(AZ128,Answers!AW:AZ,4,FALSE),\"Help!\"))","v":""},null,{"$f":"IF(BA128=\"\",\"\",AY128+IF(BA128=\"XX\",VLOOKUP(\"WRONG\",Answers!AW:AZ,4,FALSE),BA128)+BB128)","v":""},{"$f":"IF($B128=\"\",\"\",UPPER(Mainframe!P127))","v":""},{"$f":"IF(BD128=\"\",\"\",IF(NOT(ISNA(VLOOKUP(BD128,Answers!BA:BD,4,FALSE))),VLOOKUP(BD128,Answers!BA:BD,4,FALSE),\"Help!\"))","v":""},null,{"$f":"IF(BE128=\"\",\"\",BC128+IF(BE128=\"XX\",VLOOKUP(\"WRONG\",Answers!BA:BD,4,FALSE),BE128)+BF128)","v":""},{"$f":"IF($B128=\"\",\"\",UPPER(Mainframe!Q127))","v":""},{"$f":"IF(BH128=\"\",\"\",IF(NOT(ISNA(VLOOKUP(BH128,Answers!BE:BH,4,FALSE))),VLOOKUP(BH128,Answers!BE:BH,4,FALSE),\"Help!\"))","v":""},null,{"$f":"IF(BI128=\"\",\"\",BG128+IF(BI128=\"XX\",VLOOKUP(\"WRONG\",Answers!BE:BH,4,FALSE),BI128)+BJ128)","v":""},{"$f":"IF($B128=\"\",\"\",UPPER(Mainframe!R127))","v":""},{"$f":"IF(BL128=\"\",\"\",IF(NOT(ISNA(VLOOKUP(BL128,Answers!BI:BL,4,FALSE))),VLOOKUP(BL128,Answers!BI:BL,4,FALSE),\"Help!\"))","v":""},null,{"$f":"IF(BM128=\"\",\"\",BK128+IF(BM128=\"XX\",VLOOKUP(\"WRONG\",Answers!BI:BL,4,FALSE),BM128)+BN128)","v":""},{"$f":"IF($B128=\"\",\"\",UPPER(Mainframe!S127))","v":""},{"$f":"IF(BP128=\"\",\"\",IF(NOT(ISNA(VLOOKUP(BP128,Answers!BM:BP,4,FALSE))),VLOOKUP(BP128,Answers!BM:BP,4,FALSE),\"Help!\"))","v":""},null,{"$f":"IF(BQ128=\"\",\"\",BO128+IF(BQ128=\"XX\",VLOOKUP(\"WRONG\",Answers!BM:BP,4,FALSE),BQ128)+BR128)","v":""},{"$f":"IF($B128=\"\",\"\",UPPER(Mainframe!T127))","v":""},{"$f":"IF(BT128=\"\",\"\",IF(NOT(ISNA(VLOOKUP(BT128,Answers!BQ:BT,4,FALSE))),VLOOKUP(BT128,Answers!BQ:BT,4,FALSE),\"Help!\"))","v":""},null,{"$f":"IF(BU128=\"\",\"\",BS128+IF(BU128=\"XX\",VLOOKUP(\"WRONG\",Answers!BQ:BT,4,FALSE),BU128)+BV128)","v":""},{"$f":"IF($B128=\"\",\"\",UPPER(Mainframe!U127))","v":""},{"$f":"IF(BX128=\"\",\"\",IF(NOT(ISNA(VLOOKUP(BX128,Answers!BU:BX,4,FALSE))),VLOOKUP(BX128,Answers!BU:BX,4,FALSE),\"Help!\"))","v":""},null,{"$f":"IF(BY128=\"\",\"\",BW128+IF(BY128=\"XX\",VLOOKUP(\"WRONG\",Answers!BU:BX,4,FALSE),BY128)+BZ128)","v":""},{"$f":"IF($B128=\"\",\"\",UPPER(Mainframe!V127))","v":""},{"$f":"IF(CB128=\"\",\"\",IF(NOT(ISNA(VLOOKUP(CB128,Answers!BY:CB,4,FALSE))),VLOOKUP(CB128,Answers!BY:CB,4,FALSE),\"Help!\"))","v":""},null,{"$f":"IF(CC128=\"\",\"\",CA128+IF(CC128=\"XX\",VLOOKUP(\"WRONG\",Answers!BY:CB,4,FALSE),CC128)+CD128)","v":""},null,null,1,{"$f":"IF(INDEX($B:$CE,ROW(),QNO*4-1)=DROPNAME,DROPNAME,IF(INDEX($B:$CE,ROW(),QNO*4-1)=SHEEPNAME,SHEEPNAME,IF(INDEX($B:$CE,ROW(),QNO*4)=\"XX\",INDEX($B:$CE,ROW(),QNO*4-1),INDEX(OFFSET(Answers!B:B,0,(QNO-1)*4),MATCH(INDEX($A:$CB,ROW(),QNO*4),OFFSET(Answers!A:A,0,(QNO-1)*4),0))&\" — \"&IF(INDEX($B:$CE,ROW(),QNO*4)=1,\"[b]Singleton![/b]\",CONCATENATE(INDEX($B:$CE,ROW(),QNO*4),\" responses\")))))","v":{"$error":"#N/A"}},"//////","No",{"$f":"IF(B128=0,\"\",CONCATENATE(INDEX($CH:$CL,ROW(),1),\". \",INDEX($B:$CE,ROW(),1),\" — [b]\")&IF(QNO=1,CONCATENATE(INDEX($B:$CE,ROW(),QNO*4+2),\"[/b] pts\"),CONCATENATE(INDEX($B:$CE,ROW(),QNO*4-2),\" + \",IF(INDEX($B:$CE,ROW(),QNO*4)=\"XX\",INDEX(Answers!$A:$ZZ,2,QNO*4),INDEX($B:$CE,ROW(),QNO*4)),\" = \",INDEX($B:$CE,ROW(),QNO*4+2),\"[/b] pts \",IF(INDEX($C:$CE,ROW(),QNO*4)>0,\"(penalty: +\"&INDEX($C:$CE,ROW(),QNO*4)&\") \",IF(INDEX($C:$CE,ROW(),QNO*4)<0,\"(bonus: \"&INDEX($C:$CE,ROW(),QNO*4)&\") \",\"\"))&\"[[b]\"&IF(CN128>0,\"[color=#00BF00]↑\"&CN128,IF(CN128<0,\"[color=#FF0000]↓\"&ABS(CN128),\"[color=#0000FF]unch\"))&\"[/b][/color]]\")))","v":"1.  — [b][/b] pts"},1,0]
["[*]",{"$f":"IF(Mainframe!B128=\"\",\"\",INDEX(Mainframe!$B:$B,C129+1,1))","v":""},127,{"$f":"IF($B129=\"\",\"\",UPPER(Mainframe!C128))","v":""},{"$f":"IF(D129=\"\",\"\",IF(NOT(ISNA(VLOOKUP(D129,Answers!A:D,4,FALSE))),VLOOKUP(D129,Answers!A:D,4,FALSE),\"Help!\"))","v":""},null,{"$f":"IF(E129=\"\",\"\",IF(E129=\"XX\",VLOOKUP(\"WRONG\",Answers!A:D,4,FALSE),E129)+F129)","v":""},{"$f":"IF($B129=\"\",\"\",UPPER(Mainframe!D128))","v":""},{"$f":"IF(H129=\"\",\"\",IF(NOT(ISNA(VLOOKUP(H129,Answers!E:H,4,FALSE))),VLOOKUP(H129,Answers!E:H,4,FALSE),\"Help!\"))","v":""},null,{"$f":"IF(I129=\"\",\"\",G129+IF(I129=\"XX\",VLOOKUP(\"WRONG\",Answers!E:H,4,FALSE),I129)+J129)","v":""},{"$f":"IF($B129=\"\",\"\",UPPER(Mainframe!E128))","v":""},{"$f":"IF(L129=\"\",\"\",IF(NOT(ISNA(VLOOKUP(L129,Answers!I:L,4,FALSE))),VLOOKUP(L129,Answers!I:L,4,FALSE),\"Help!\"))","v":""},null,{"$f":"IF(M129=\"\",\"\",K129+IF(M129=\"XX\",VLOOKUP(\"WRONG\",Answers!I:L,4,FALSE),M129)+N129)","v":""},{"$f":"IF($B129=\"\",\"\",UPPER(Mainframe!F128))","v":""},{"$f":"IF(P129=\"\",\"\",IF(NOT(ISNA(VLOOKUP(P129,Answers!M:P,4,FALSE))),VLOOKUP(P129,Answers!M:P,4,FALSE),\"Help!\"))","v":""},null,{"$f":"IF(Q129=\"\",\"\",O129+IF(Q129=\"XX\",VLOOKUP(\"WRONG\",Answers!M:P,4,FALSE),Q129)+R129)","v":""},{"$f":"IF($B129=\"\",\"\",UPPER(Mainframe!G128))","v":""},{"$f":"IF(T129=\"\",\"\",IF(NOT(ISNA(VLOOKUP(T129,Answers!Q:T,4,FALSE))),VLOOKUP(T129,Answers!Q:T,4,FALSE),\"Help!\"))","v":""},null,{"$f":"IF(U129=\"\",\"\",S129+IF(U129=\"XX\",VLOOKUP(\"WRONG\",Answers!Q:T,4,FALSE),U129)+V129)","v":""},{"$f":"IF($B129=\"\",\"\",UPPER(Mainframe!H128))","v":""},{"$f":"IF(X129=\"\",\"\",IF(NOT(ISNA(VLOOKUP(X129,Answers!U:X,4,FALSE))),VLOOKUP(X129,Answers!U:X,4,FALSE),\"Help!\"))","v":""},null,{"$f":"IF(Y129=\"\",\"\",W129+IF(Y129=\"XX\",VLOOKUP(\"WRONG\",Answers!U:X,4,FALSE),Y129)+Z129)","v":""},{"$f":"IF($B129=\"\",\"\",UPPER(Mainframe!I128))","v":""},{"$f":"IF(AB129=\"\",\"\",IF(NOT(ISNA(VLOOKUP(AB129,Answers!Y:AB,4,FALSE))),VLOOKUP(AB129,Answers!Y:AB,4,FALSE),\"Help!\"))","v":""},null,{"$f":"IF(AC129=\"\",\"\",AA129+IF(AC129=\"XX\",VLOOKUP(\"WRONG\",Answers!Y:AB,4,FALSE),AC129)+AD129)","v":""},{"$f":"IF($B129=\"\",\"\",UPPER(Mainframe!J128))","v":""},{"$f":"IF(AF129=\"\",\"\",IF(NOT(ISNA(VLOOKUP(AF129,Answers!AC:AF,4,FALSE))),VLOOKUP(AF129,Answers!AC:AF,4,FALSE),\"Help!\"))","v":""},null,{"$f":"IF(AG129=\"\",\"\",AE129+IF(AG129=\"XX\",VLOOKUP(\"WRONG\",Answers!AC:AF,4,FALSE),AG129)+AH129)","v":""},{"$f":"IF($B129=\"\",\"\",UPPER(Mainframe!K128))","v":""},{"$f":"IF(AJ129=\"\",\"\",IF(NOT(ISNA(VLOOKUP(AJ129,Answers!AG:AJ,4,FALSE))),VLOOKUP(AJ129,Answers!AG:AJ,4,FALSE),\"Help!\"))","v":""},null,{"$f":"IF(AK129=\"\",\"\",AI129+IF(AK129=\"XX\",VLOOKUP(\"WRONG\",Answers!AG:AJ,4,FALSE),AK129)+AL129)","v":""},{"$f":"IF($B129=\"\",\"\",UPPER(Mainframe!L128))","v":""},{"$f":"IF(AN129=\"\",\"\",IF(NOT(ISNA(VLOOKUP(AN129,Answers!AK:AN,4,FALSE))),VLOOKUP(AN129,Answers!AK:AN,4,FALSE),\"Help!\"))","v":""},null,{"$f":"IF(AO129=\"\",\"\",AM129+IF(AO129=\"XX\",VLOOKUP(\"WRONG\",Answers!AK:AN,4,FALSE),AO129)+AP129)","v":""},{"$f":"IF($B129=\"\",\"\",UPPER(Mainframe!M128))","v":""},{"$f":"IF(AR129=\"\",\"\",IF(NOT(ISNA(VLOOKUP(AR129,Answers!AO:AR,4,FALSE))),VLOOKUP(AR129,Answers!AO:AR,4,FALSE),\"Help!\"))","v":""},null,{"$f":"IF(AS129=\"\",\"\",AQ129+IF(AS129=\"XX\",VLOOKUP(\"WRONG\",Answers!AO:AR,4,FALSE),AS129)+AT129)","v":""},{"$f":"IF($B129=\"\",\"\",UPPER(Mainframe!N128))","v":""},{"$f":"IF(AV129=\"\",\"\",IF(NOT(ISNA(VLOOKUP(AV129,Answers!AS:AV,4,FALSE))),VLOOKUP(AV129,Answers!AS:AV,4,FALSE),\"Help!\"))","v":""},null,{"$f":"IF(AW129=\"\",\"\",AU129+IF(AW129=\"XX\",VLOOKUP(\"WRONG\",Answers!AS:AV,4,FALSE),AW129)+AX129)","v":""},{"$f":"IF($B129=\"\",\"\",UPPER(Mainframe!O128))","v":""},{"$f":"IF(AZ129=\"\",\"\",IF(NOT(ISNA(VLOOKUP(AZ129,Answers!AW:AZ,4,FALSE))),VLOOKUP(AZ129,Answers!AW:AZ,4,FALSE),\"Help!\"))","v":""},null,{"$f":"IF(BA129=\"\",\"\",AY129+IF(BA129=\"XX\",VLOOKUP(\"WRONG\",Answers!AW:AZ,4,FALSE),BA129)+BB129)","v":""},{"$f":"IF($B129=\"\",\"\",UPPER(Mainframe!P128))","v":""},{"$f":"IF(BD129=\"\",\"\",IF(NOT(ISNA(VLOOKUP(BD129,Answers!BA:BD,4,FALSE))),VLOOKUP(BD129,Answers!BA:BD,4,FALSE),\"Help!\"))","v":""},null,{"$f":"IF(BE129=\"\",\"\",BC129+IF(BE129=\"XX\",VLOOKUP(\"WRONG\",Answers!BA:BD,4,FALSE),BE129)+BF129)","v":""},{"$f":"IF($B129=\"\",\"\",UPPER(Mainframe!Q128))","v":""},{"$f":"IF(BH129=\"\",\"\",IF(NOT(ISNA(VLOOKUP(BH129,Answers!BE:BH,4,FALSE))),VLOOKUP(BH129,Answers!BE:BH,4,FALSE),\"Help!\"))","v":""},null,{"$f":"IF(BI129=\"\",\"\",BG129+IF(BI129=\"XX\",VLOOKUP(\"WRONG\",Answers!BE:BH,4,FALSE),BI129)+BJ129)","v":""},{"$f":"IF($B129=\"\",\"\",UPPER(Mainframe!R128))","v":""},{"$f":"IF(BL129=\"\",\"\",IF(NOT(ISNA(VLOOKUP(BL129,Answers!BI:BL,4,FALSE))),VLOOKUP(BL129,Answers!BI:BL,4,FALSE),\"Help!\"))","v":""},null,{"$f":"IF(BM129=\"\",\"\",BK129+IF(BM129=\"XX\",VLOOKUP(\"WRONG\",Answers!BI:BL,4,FALSE),BM129)+BN129)","v":""},{"$f":"IF($B129=\"\",\"\",UPPER(Mainframe!S128))","v":""},{"$f":"IF(BP129=\"\",\"\",IF(NOT(ISNA(VLOOKUP(BP129,Answers!BM:BP,4,FALSE))),VLOOKUP(BP129,Answers!BM:BP,4,FALSE),\"Help!\"))","v":""},null,{"$f":"IF(BQ129=\"\",\"\",BO129+IF(BQ129=\"XX\",VLOOKUP(\"WRONG\",Answers!BM:BP,4,FALSE),BQ129)+BR129)","v":""},{"$f":"IF($B129=\"\",\"\",UPPER(Mainframe!T128))","v":""},{"$f":"IF(BT129=\"\",\"\",IF(NOT(ISNA(VLOOKUP(BT129,Answers!BQ:BT,4,FALSE))),VLOOKUP(BT129,Answers!BQ:BT,4,FALSE),\"Help!\"))","v":""},null,{"$f":"IF(BU129=\"\",\"\",BS129+IF(BU129=\"XX\",VLOOKUP(\"WRONG\",Answers!BQ:BT,4,FALSE),BU129)+BV129)","v":""},{"$f":"IF($B129=\"\",\"\",UPPER(Mainframe!U128))","v":""},{"$f":"IF(BX129=\"\",\"\",IF(NOT(ISNA(VLOOKUP(BX129,Answers!BU:BX,4,FALSE))),VLOOKUP(BX129,Answers!BU:BX,4,FALSE),\"Help!\"))","v":""},null,{"$f":"IF(BY129=\"\",\"\",BW129+IF(BY129=\"XX\",VLOOKUP(\"WRONG\",Answers!BU:BX,4,FALSE),BY129)+BZ129)","v":""},{"$f":"IF($B129=\"\",\"\",UPPER(Mainframe!V128))","v":""},{"$f":"IF(CB129=\"\",\"\",IF(NOT(ISNA(VLOOKUP(CB129,Answers!BY:CB,4,FALSE))),VLOOKUP(CB129,Answers!BY:CB,4,FALSE),\"Help!\"))","v":""},null,{"$f":"IF(CC129=\"\",\"\",CA129+IF(CC129=\"XX\",VLOOKUP(\"WRONG\",Answers!BY:CB,4,FALSE),CC129)+CD129)","v":""},null,null,1,{"$f":"IF(INDEX($B:$CE,ROW(),QNO*4-1)=DROPNAME,DROPNAME,IF(INDEX($B:$CE,ROW(),QNO*4-1)=SHEEPNAME,SHEEPNAME,IF(INDEX($B:$CE,ROW(),QNO*4)=\"XX\",INDEX($B:$CE,ROW(),QNO*4-1),INDEX(OFFSET(Answers!B:B,0,(QNO-1)*4),MATCH(INDEX($A:$CB,ROW(),QNO*4),OFFSET(Answers!A:A,0,(QNO-1)*4),0))&\" — \"&IF(INDEX($B:$CE,ROW(),QNO*4)=1,\"[b]Singleton![/b]\",CONCATENATE(INDEX($B:$CE,ROW(),QNO*4),\" responses\")))))","v":{"$error":"#N/A"}},"////","No",{"$f":"IF(B129=0,\"\",CONCATENATE(INDEX($CH:$CL,ROW(),1),\". \",INDEX($B:$CE,ROW(),1),\" — [b]\")&IF(QNO=1,CONCATENATE(INDEX($B:$CE,ROW(),QNO*4+2),\"[/b] pts\"),CONCATENATE(INDEX($B:$CE,ROW(),QNO*4-2),\" + \",IF(INDEX($B:$CE,ROW(),QNO*4)=\"XX\",INDEX(Answers!$A:$ZZ,2,QNO*4),INDEX($B:$CE,ROW(),QNO*4)),\" = \",INDEX($B:$CE,ROW(),QNO*4+2),\"[/b] pts \",IF(INDEX($C:$CE,ROW(),QNO*4)>0,\"(penalty: +\"&INDEX($C:$CE,ROW(),QNO*4)&\") \",IF(INDEX($C:$CE,ROW(),QNO*4)<0,\"(bonus: \"&INDEX($C:$CE,ROW(),QNO*4)&\") \",\"\"))&\"[[b]\"&IF(CN129>0,\"[color=#00BF00]↑\"&CN129,IF(CN129<0,\"[color=#FF0000]↓\"&ABS(CN129),\"[color=#0000FF]unch\"))&\"[/b][/color]]\")))","v":"1.  — [b][/b] pts"},1,0]
["[*]",{"$f":"IF(Mainframe!B129=\"\",\"\",INDEX(Mainframe!$B:$B,C130+1,1))","v":""},128,{"$f":"IF($B130=\"\",\"\",UPPER(Mainframe!C129))","v":""},{"$f":"IF(D130=\"\",\"\",IF(NOT(ISNA(VLOOKUP(D130,Answers!A:D,4,FALSE))),VLOOKUP(D130,Answers!A:D,4,FALSE),\"Help!\"))","v":""},null,{"$f":"IF(E130=\"\",\"\",IF(E130=\"XX\",VLOOKUP(\"WRONG\",Answers!A:D,4,FALSE),E130)+F130)","v":""},{"$f":"IF($B130=\"\",\"\",UPPER(Mainframe!D129))","v":""},{"$f":"IF(H130=\"\",\"\",IF(NOT(ISNA(VLOOKUP(H130,Answers!E:H,4,FALSE))),VLOOKUP(H130,Answers!E:H,4,FALSE),\"Help!\"))","v":""},null,{"$f":"IF(I130=\"\",\"\",G130+IF(I130=\"XX\",VLOOKUP(\"WRONG\",Answers!E:H,4,FALSE),I130)+J130)","v":""},{"$f":"IF($B130=\"\",\"\",UPPER(Mainframe!E129))","v":""},{"$f":"IF(L130=\"\",\"\",IF(NOT(ISNA(VLOOKUP(L130,Answers!I:L,4,FALSE))),VLOOKUP(L130,Answers!I:L,4,FALSE),\"Help!\"))","v":""},null,{"$f":"IF(M130=\"\",\"\",K130+IF(M130=\"XX\",VLOOKUP(\"WRONG\",Answers!I:L,4,FALSE),M130)+N130)","v":""},{"$f":"IF($B130=\"\",\"\",UPPER(Mainframe!F129))","v":""},{"$f":"IF(P130=\"\",\"\",IF(NOT(ISNA(VLOOKUP(P130,Answers!M:P,4,FALSE))),VLOOKUP(P130,Answers!M:P,4,FALSE),\"Help!\"))","v":""},null,{"$f":"IF(Q130=\"\",\"\",O130+IF(Q130=\"XX\",VLOOKUP(\"WRONG\",Answers!M:P,4,FALSE),Q130)+R130)","v":""},{"$f":"IF($B130=\"\",\"\",UPPER(Mainframe!G129))","v":""},{"$f":"IF(T130=\"\",\"\",IF(NOT(ISNA(VLOOKUP(T130,Answers!Q:T,4,FALSE))),VLOOKUP(T130,Answers!Q:T,4,FALSE),\"Help!\"))","v":""},null,{"$f":"IF(U130=\"\",\"\",S130+IF(U130=\"XX\",VLOOKUP(\"WRONG\",Answers!Q:T,4,FALSE),U130)+V130)","v":""},{"$f":"IF($B130=\"\",\"\",UPPER(Mainframe!H129))","v":""},{"$f":"IF(X130=\"\",\"\",IF(NOT(ISNA(VLOOKUP(X130,Answers!U:X,4,FALSE))),VLOOKUP(X130,Answers!U:X,4,FALSE),\"Help!\"))","v":""},null,{"$f":"IF(Y130=\"\",\"\",W130+IF(Y130=\"XX\",VLOOKUP(\"WRONG\",Answers!U:X,4,FALSE),Y130)+Z130)","v":""},{"$f":"IF($B130=\"\",\"\",UPPER(Mainframe!I129))","v":""},{"$f":"IF(AB130=\"\",\"\",IF(NOT(ISNA(VLOOKUP(AB130,Answers!Y:AB,4,FALSE))),VLOOKUP(AB130,Answers!Y:AB,4,FALSE),\"Help!\"))","v":""},null,{"$f":"IF(AC130=\"\",\"\",AA130+IF(AC130=\"XX\",VLOOKUP(\"WRONG\",Answers!Y:AB,4,FALSE),AC130)+AD130)","v":""},{"$f":"IF($B130=\"\",\"\",UPPER(Mainframe!J129))","v":""},{"$f":"IF(AF130=\"\",\"\",IF(NOT(ISNA(VLOOKUP(AF130,Answers!AC:AF,4,FALSE))),VLOOKUP(AF130,Answers!AC:AF,4,FALSE),\"Help!\"))","v":""},null,{"$f":"IF(AG130=\"\",\"\",AE130+IF(AG130=\"XX\",VLOOKUP(\"WRONG\",Answers!AC:AF,4,FALSE),AG130)+AH130)","v":""},{"$f":"IF($B130=\"\",\"\",UPPER(Mainframe!K129))","v":""},{"$f":"IF(AJ130=\"\",\"\",IF(NOT(ISNA(VLOOKUP(AJ130,Answers!AG:AJ,4,FALSE))),VLOOKUP(AJ130,Answers!AG:AJ,4,FALSE),\"Help!\"))","v":""},null,{"$f":"IF(AK130=\"\",\"\",AI130+IF(AK130=\"XX\",VLOOKUP(\"WRONG\",Answers!AG:AJ,4,FALSE),AK130)+AL130)","v":""},{"$f":"IF($B130=\"\",\"\",UPPER(Mainframe!L129))","v":""},{"$f":"IF(AN130=\"\",\"\",IF(NOT(ISNA(VLOOKUP(AN130,Answers!AK:AN,4,FALSE))),VLOOKUP(AN130,Answers!AK:AN,4,FALSE),\"Help!\"))","v":""},null,{"$f":"IF(AO130=\"\",\"\",AM130+IF(AO130=\"XX\",VLOOKUP(\"WRONG\",Answers!AK:AN,4,FALSE),AO130)+AP130)","v":""},{"$f":"IF($B130=\"\",\"\",UPPER(Mainframe!M129))","v":""},{"$f":"IF(AR130=\"\",\"\",IF(NOT(ISNA(VLOOKUP(AR130,Answers!AO:AR,4,FALSE))),VLOOKUP(AR130,Answers!AO:AR,4,FALSE),\"Help!\"))","v":""},null,{"$f":"IF(AS130=\"\",\"\",AQ130+IF(AS130=\"XX\",VLOOKUP(\"WRONG\",Answers!AO:AR,4,FALSE),AS130)+AT130)","v":""},{"$f":"IF($B130=\"\",\"\",UPPER(Mainframe!N129))","v":""},{"$f":"IF(AV130=\"\",\"\",IF(NOT(ISNA(VLOOKUP(AV130,Answers!AS:AV,4,FALSE))),VLOOKUP(AV130,Answers!AS:AV,4,FALSE),\"Help!\"))","v":""},null,{"$f":"IF(AW130=\"\",\"\",AU130+IF(AW130=\"XX\",VLOOKUP(\"WRONG\",Answers!AS:AV,4,FALSE),AW130)+AX130)","v":""},{"$f":"IF($B130=\"\",\"\",UPPER(Mainframe!O129))","v":""},{"$f":"IF(AZ130=\"\",\"\",IF(NOT(ISNA(VLOOKUP(AZ130,Answers!AW:AZ,4,FALSE))),VLOOKUP(AZ130,Answers!AW:AZ,4,FALSE),\"Help!\"))","v":""},null,{"$f":"IF(BA130=\"\",\"\",AY130+IF(BA130=\"XX\",VLOOKUP(\"WRONG\",Answers!AW:AZ,4,FALSE),BA130)+BB130)","v":""},{"$f":"IF($B130=\"\",\"\",UPPER(Mainframe!P129))","v":""},{"$f":"IF(BD130=\"\",\"\",IF(NOT(ISNA(VLOOKUP(BD130,Answers!BA:BD,4,FALSE))),VLOOKUP(BD130,Answers!BA:BD,4,FALSE),\"Help!\"))","v":""},null,{"$f":"IF(BE130=\"\",\"\",BC130+IF(BE130=\"XX\",VLOOKUP(\"WRONG\",Answers!BA:BD,4,FALSE),BE130)+BF130)","v":""},{"$f":"IF($B130=\"\",\"\",UPPER(Mainframe!Q129))","v":""},{"$f":"IF(BH130=\"\",\"\",IF(NOT(ISNA(VLOOKUP(BH130,Answers!BE:BH,4,FALSE))),VLOOKUP(BH130,Answers!BE:BH,4,FALSE),\"Help!\"))","v":""},null,{"$f":"IF(BI130=\"\",\"\",BG130+IF(BI130=\"XX\",VLOOKUP(\"WRONG\",Answers!BE:BH,4,FALSE),BI130)+BJ130)","v":""},{"$f":"IF($B130=\"\",\"\",UPPER(Mainframe!R129))","v":""},{"$f":"IF(BL130=\"\",\"\",IF(NOT(ISNA(VLOOKUP(BL130,Answers!BI:BL,4,FALSE))),VLOOKUP(BL130,Answers!BI:BL,4,FALSE),\"Help!\"))","v":""},null,{"$f":"IF(BM130=\"\",\"\",BK130+IF(BM130=\"XX\",VLOOKUP(\"WRONG\",Answers!BI:BL,4,FALSE),BM130)+BN130)","v":""},{"$f":"IF($B130=\"\",\"\",UPPER(Mainframe!S129))","v":""},{"$f":"IF(BP130=\"\",\"\",IF(NOT(ISNA(VLOOKUP(BP130,Answers!BM:BP,4,FALSE))),VLOOKUP(BP130,Answers!BM:BP,4,FALSE),\"Help!\"))","v":""},null,{"$f":"IF(BQ130=\"\",\"\",BO130+IF(BQ130=\"XX\",VLOOKUP(\"WRONG\",Answers!BM:BP,4,FALSE),BQ130)+BR130)","v":""},{"$f":"IF($B130=\"\",\"\",UPPER(Mainframe!T129))","v":""},{"$f":"IF(BT130=\"\",\"\",IF(NOT(ISNA(VLOOKUP(BT130,Answers!BQ:BT,4,FALSE))),VLOOKUP(BT130,Answers!BQ:BT,4,FALSE),\"Help!\"))","v":""},null,{"$f":"IF(BU130=\"\",\"\",BS130+IF(BU130=\"XX\",VLOOKUP(\"WRONG\",Answers!BQ:BT,4,FALSE),BU130)+BV130)","v":""},{"$f":"IF($B130=\"\",\"\",UPPER(Mainframe!U129))","v":""},{"$f":"IF(BX130=\"\",\"\",IF(NOT(ISNA(VLOOKUP(BX130,Answers!BU:BX,4,FALSE))),VLOOKUP(BX130,Answers!BU:BX,4,FALSE),\"Help!\"))","v":""},null,{"$f":"IF(BY130=\"\",\"\",BW130+IF(BY130=\"XX\",VLOOKUP(\"WRONG\",Answers!BU:BX,4,FALSE),BY130)+BZ130)","v":""},{"$f":"IF($B130=\"\",\"\",UPPER(Mainframe!V129))","v":""},{"$f":"IF(CB130=\"\",\"\",IF(NOT(ISNA(VLOOKUP(CB130,Answers!BY:CB,4,FALSE))),VLOOKUP(CB130,Answers!BY:CB,4,FALSE),\"Help!\"))","v":""},null,{"$f":"IF(CC130=\"\",\"\",CA130+IF(CC130=\"XX\",VLOOKUP(\"WRONG\",Answers!BY:CB,4,FALSE),CC130)+CD130)","v":""},null,null,1,{"$f":"IF(INDEX($B:$CE,ROW(),QNO*4-1)=DROPNAME,DROPNAME,IF(INDEX($B:$CE,ROW(),QNO*4-1)=SHEEPNAME,SHEEPNAME,IF(INDEX($B:$CE,ROW(),QNO*4)=\"XX\",INDEX($B:$CE,ROW(),QNO*4-1),INDEX(OFFSET(Answers!B:B,0,(QNO-1)*4),MATCH(INDEX($A:$CB,ROW(),QNO*4),OFFSET(Answers!A:A,0,(QNO-1)*4),0))&\" — \"&IF(INDEX($B:$CE,ROW(),QNO*4)=1,\"[b]Singleton![/b]\",CONCATENATE(INDEX($B:$CE,ROW(),QNO*4),\" responses\")))))","v":{"$error":"#N/A"}},"//","No",{"$f":"IF(B130=0,\"\",CONCATENATE(INDEX($CH:$CL,ROW(),1),\". \",INDEX($B:$CE,ROW(),1),\" — [b]\")&IF(QNO=1,CONCATENATE(INDEX($B:$CE,ROW(),QNO*4+2),\"[/b] pts\"),CONCATENATE(INDEX($B:$CE,ROW(),QNO*4-2),\" + \",IF(INDEX($B:$CE,ROW(),QNO*4)=\"XX\",INDEX(Answers!$A:$ZZ,2,QNO*4),INDEX($B:$CE,ROW(),QNO*4)),\" = \",INDEX($B:$CE,ROW(),QNO*4+2),\"[/b] pts \",IF(INDEX($C:$CE,ROW(),QNO*4)>0,\"(penalty: +\"&INDEX($C:$CE,ROW(),QNO*4)&\") \",IF(INDEX($C:$CE,ROW(),QNO*4)<0,\"(bonus: \"&INDEX($C:$CE,ROW(),QNO*4)&\") \",\"\"))&\"[[b]\"&IF(CN130>0,\"[color=#00BF00]↑\"&CN130,IF(CN130<0,\"[color=#FF0000]↓\"&ABS(CN130),\"[color=#0000FF]unch\"))&\"[/b][/color]]\")))","v":"1.  — [b][/b] pts"},1,0]

{"sheet":"Answers","index":2,"n_rows":45,"n_cols":80,"rows_kept":45,"cut":false,"hidden":false,"merged":[]}
["Question 1",null,null,null,"Question 2",null,null,null,"Question 3",null,null,null,"Question 4",null,null,null,"Question 5",null,null,null,"Question 6",null,null,null,"Question 7",null,null,null,"Question 8",null,null,null,"Question 9",null,null,null,"Question 10",null,null,null,"Question 11",null,null,null,"Question 12",null,null,null,"Question 13",null,null,null,"Question 14",null,null,null,"Question 15",null,null,null,"Question 16",null,null,null,"Question 17",null,null,null,"Question 18",null,null,null,"Question 19",null,null,null,"Question 20"]
["WRONG",null,null,{"$f":"D4+5","v":5},"WRONG",null,null,{"$f":"H4+5","v":5},"WRONG",null,null,{"$f":"L4+5","v":5},"WRONG",null,null,{"$f":"P4+5","v":5},"WRONG",null,null,{"$f":"T4+5","v":5},"WRONG",null,null,{"$f":"X4+5","v":5},"WRONG",null,null,{"$f":"AB4+5","v":5},"WRONG",null,null,{"$f":"AF4+5","v":5},"WRONG",null,null,{"$f":"AJ4+5","v":5},"WRONG",null,null,{"$f":"AN4+5","v":5},"WRONG",null,null,{"$f":"AR4+5","v":5},"WRONG",null,null,{"$f":"AV4+5","v":5},"WRONG",null,null,{"$f":"AZ4+5","v":5},"WRONG",null,null,{"$f":"BD4+5","v":5},"WRONG",null,null,{"$f":"BH4+5","v":5},"WRONG",null,null,{"$f":"BL4+5","v":5},"WRONG",null,null,{"$f":"BP4+5","v":5},"WRONG",null,null,{"$f":"BT4+5","v":5},"WRONG",null,null,{"$f":"BX4+5","v":5},"WRONG",null,null,{"$f":"CB4+5","v":5}]
[{"$f":"DROPNAME","v":"FAIL WHALE"},null,null,{"$f":"DROPSCORE","v":0},{"$f":"DROPNAME","v":"FAIL WHALE"},null,null,{"$f":"DROPSCORE","v":0},{"$f":"DROPNAME","v":"FAIL WHALE"},null,null,{"$f":"DROPSCORE","v":0},{"$f":"DROPNAME","v":"FAIL WHALE"},null,null,{"$f":"DROPSCORE","v":0},{"$f":"DROPNAME","v":"FAIL WHALE"},null,null,{"$f":"DROPSCORE","v":0},{"$f":"DROPNAME","v":"FAIL WHALE"},null,null,{"$f":"DROPSCORE","v":0},{"$f":"DROPNAME","v":"FAIL WHALE"},null,null,{"$f":"DROPSCORE","v":0},{"$f":"DROPNAME","v":"FAIL WHALE"},null,null,{"$f":"DROPSCORE","v":0},{"$f":"DROPNAME","v":"FAIL WHALE"},null,null,{"$f":"DROPSCORE","v":0},{"$f":"DROPNAME","v":"FAIL WHALE"},null,null,{"$f":"DROPSCORE","v":0},{"$f":"DROPNAME","v":"FAIL WHALE"},null,null,{"$f":"DROPSCORE","v":0},{"$f":"DROPNAME","v":"FAIL WHALE"},null,null,{"$f":"DROPSCORE","v":0},{"$f":"DROPNAME","v":"FAIL WHALE"},null,null,{"$f":"DROPSCORE","v":0},{"$f":"DROPNAME","v":"FAIL WHALE"},null,null,{"$f":"DROPSCORE","v":0},{"$f":"DROPNAME","v":"FAIL WHALE"},null,null,{"$f":"DROPSCORE","v":0},{"$f":"DROPNAME","v":"FAIL WHALE"},null,null,{"$f":"DROPSCORE","v":0},{"$f":"DROPNAME","v":"FAIL WHALE"},null,null,{"$f":"DROPSCORE","v":0},{"$f":"DROPNAME","v":"FAIL WHALE"},null,null,{"$f":"DROPSCORE","v":0},{"$f":"DROPNAME","v":"FAIL WHALE"},null,null,{"$f":"DROPSCORE","v":0},{"$f":"DROPNAME","v":"FAIL WHALE"},null,null,{"$f":"DROPSCORE","v":0}]
[{"$f":"SHEEPNAME","v":"RETWEET"},null,null,{"$f":"MAX(D6:D46,IF(SHEEPYSHEEP=\"YES\",COUNTIF(Scoresheet!D:D,A4),0))","v":0},{"$f":"SHEEPNAME","v":"RETWEET"},null,null,{"$f":"MAX(H6:H46,IF(SHEEPYSHEEP=\"YES\",COUNTIF(Scoresheet!H:H,E4),0))","v":0},{"$f":"SHEEPNAME","v":"RETWEET"},null,null,{"$f":"MAX(L6:L46,IF(SHEEPYSHEEP=\"YES\",COUNTIF(Scoresheet!L:L,I4),0))","v":0},{"$f":"SHEEPNAME","v":"RETWEET"},null,null,{"$f":"MAX(P6:P46,IF(SHEEPYSHEEP=\"YES\",COUNTIF(Scoresheet!P:P,M4),0))","v":0},{"$f":"SHEEPNAME","v":"RETWEET"},null,null,{"$f":"MAX(T6:T46,IF(SHEEPYSHEEP=\"YES\",COUNTIF(Scoresheet!T:T,Q4),0))","v":0},{"$f":"SHEEPNAME","v":"RETWEET"},null,null,{"$f":"MAX(X6:X46,IF(SHEEPYSHEEP=\"YES\",COUNTIF(Scoresheet!X:X,U4),0))","v":0},{"$f":"SHEEPNAME","v":"RETWEET"},null,null,{"$f":"MAX(AB6:AB46,IF(SHEEPYSHEEP=\"YES\",COUNTIF(Scoresheet!AB:AB,Y4),0))","v":0},{"$f":"SHEEPNAME","v":"RETWEET"},null,null,{"$f":"MAX(AF6:AF46,IF(SHEEPYSHEEP=\"YES\",COUNTIF(Scoresheet!AF:AF,AC4),0))","v":0},{"$f":"SHEEPNAME","v":"RETWEET"},null,null,{"$f":"MAX(AJ6:AJ46,IF(SHEEPYSHEEP=\"YES\",COUNTIF(Scoresheet!AJ:AJ,AG4),0))","v":0},{"$f":"SHEEPNAME","v":"RETWEET"},null,null,{"$f":"MAX(AN6:AN46,IF(SHEEPYSHEEP=\"YES\",COUNTIF(Scoresheet!AN:AN,AK4),0))","v":0},{"$f":"SHEEPNAME","v":"RETWEET"},null,null,{"$f":"MAX(AR6:AR46,IF(SHEEPYSHEEP=\"YES\",COUNTIF(Scoresheet!AR:AR,AO4),0))","v":0},{"$f":"SHEEPNAME","v":"RETWEET"},null,null,{"$f":"MAX(AV6:AV46,IF(SHEEPYSHEEP=\"YES\",COUNTIF(Scoresheet!AV:AV,AS4),0))","v":0},{"$f":"SHEEPNAME","v":"RETWEET"},null,null,{"$f":"MAX(AZ6:AZ46,IF(SHEEPYSHEEP=\"YES\",COUNTIF(Scoresheet!AZ:AZ,AW4),0))","v":0},{"$f":"SHEEPNAME","v":"RETWEET"},null,null,{"$f":"MAX(BD6:BD46,IF(SHEEPYSHEEP=\"YES\",COUNTIF(Scoresheet!BD:BD,BA4),0))","v":0},{"$f":"SHEEPNAME","v":"RETWEET"},null,null,{"$f":"MAX(BH6:BH46,IF(SHEEPYSHEEP=\"YES\",COUNTIF(Scoresheet!BH:BH,BE4),0))","v":0},{"$f":"SHEEPNAME","v":"RETWEET"},null,null,{"$f":"MAX(BL6:BL46,IF(SHEEPYSHEEP=\"YES\",COUNTIF(Scoresheet!BL:BL,BI4),0))","v":0},{"$f":"SHEEPNAME","v":"RETWEET"},null,null,{"$f":"MAX(BP6:BP46,IF(SHEEPYSHEEP=\"YES\",COUNTIF(Scoresheet!BP:BP,BM4),0))","v":0},{"$f":"SHEEPNAME","v":"RETWEET"},null,null,{"$f":"MAX(BT6:BT46,IF(SHEEPYSHEEP=\"YES\",COUNTIF(Scoresheet!BT:BT,BQ4),0))","v":0},{"$f":"SHEEPNAME","v":"RETWEET"},null,null,{"$f":"MAX(BX6:BX46,IF(SHEEPYSHEEP=\"YES\",COUNTIF(Scoresheet!BX:BX,BU4),0))","v":0},{"$f":"SHEEPNAME","v":"RETWEET"},null,null,{"$f":"MAX(CB6:CB46,IF(SHEEPYSHEEP=\"YES\",COUNTIF(Scoresheet!CB:CB,BY4),0))","v":0}]
["Correct responses","Answer header","Additional info","#","Correct responses","Answer header","Additional info","#","Correct responses","Answer header","Additional info","#","Correct responses","Answer header","Additional info","#","Correct responses","Answer header","Additional info","#","Correct responses","Answer header","Additional info","#","Correct responses","Answer header","Additional info","#","Correct responses","Answer header","Additional info","#","Correct responses","Answer header","Additional info","#","Correct responses","Answer header","Additional info","#","Correct responses","Answer header","Additional info","#","Correct responses","Answer header","Additional info","#","Correct responses","Answer header","Additional info","#","Correct responses","Answer header","Additional info","#","Correct responses","Answer header","Additional info","#","Correct responses","Answer header","Additional info","#","Correct responses","Answer header","Additional info","#","Correct responses","Answer header","Additional info","#","Correct responses","Answer header","Additional info","#","Correct responses","Answer header","Additional info","#"]
["test","test",null,{"$f":"IF(ISBLANK(A6),\"\",COUNTIF(Scoresheet!D:D,A6))","v":0},"apple","APPLE",null,{"$f":"IF(ISBLANK(E6),\"\",COUNTIF(Scoresheet!H:H,E6))","v":0},null,null,null,{"$f":"IF(ISBLANK(I6),\"\",COUNTIF(Scoresheet!L:L,I6))","v":""},null,null,null,{"$f":"IF(ISBLANK(M6),\"\",COUNTIF(Scoresheet!P:P,M6))","v":""},null,null,null,{"$f":"IF(ISBLANK(Q6),\"\",COUNTIF(Scoresheet!T:T,Q6))","v":""},null,null,null,{"$f":"IF(ISBLANK(U6),\"\",COUNTIF(Scoresheet!X:X,U6))","v":""},null,null,null,{"$f":"IF(ISBLANK(Y6),\"\",COUNTIF(Scoresheet!AB:AB,Y6))","v":""},null,null,null,{"$f":"IF(ISBLANK(AC6),\"\",COUNTIF(Scoresheet!AF:AF,AC6))","v":""},null,null,null,{"$f":"IF(ISBLANK(AG6),\"\",COUNTIF(Scoresheet!AJ:AJ,AG6))","v":""},null,null,null,{"$f":"IF(ISBLANK(AK6),\"\",COUNTIF(Scoresheet!AN:AN,AK6))","v":""},null,null,null,{"$f":"IF(ISBLANK(AO6),\"\",COUNTIF(Scoresheet!AR:AR,AO6))","v":""},null,null,null,{"$f":"IF(ISBLANK(AS6),\"\",COUNTIF(Scoresheet!AV:AV,AS6))","v":""},null,null,null,{"$f":"IF(ISBLANK(AW6),\"\",COUNTIF(Scoresheet!AZ:AZ,AW6))","v":""},null,null,null,{"$f":"IF(ISBLANK(BA6),\"\",COUNTIF(Scoresheet!BD:BD,BA6))","v":""},null,null,null,{"$f":"IF(ISBLANK(BE6),\"\",COUNTIF(Scoresheet!BH:BH,BE6))","v":""},null,null,null,{"$f":"IF(ISBLANK(BI6),\"\",COUNTIF(Scoresheet!BL:BL,BI6))","v":""},null,null,null,{"$f":"IF(ISBLANK(BM6),\"\",COUNTIF(Scoresheet!BP:BP,BM6))","v":""},null,null,null,{"$f":"IF(ISBLANK(BQ6),\"\",COUNTIF(Scoresheet!BT:BT,BQ6))","v":""},null,null,null,{"$f":"IF(ISBLANK(BU6),\"\",COUNTIF(Scoresheet!BX:BX,BU6))","v":""},null,null,null,{"$f":"IF(ISBLANK(BY6),\"\",COUNTIF(Scoresheet!CB:CB,BY6))","v":""}]
[null,null,null,{"$f":"IF(ISBLANK(A7),\"\",COUNTIF(Scoresheet!D:D,A7))","v":""},"baker","BAKER",null,{"$f":"IF(ISBLANK(E7),\"\",COUNTIF(Scoresheet!H:H,E7))","v":0},null,null,null,{"$f":"IF(ISBLANK(I7),\"\",COUNTIF(Scoresheet!L:L,I7))","v":""},null,null,null,{"$f":"IF(ISBLANK(M7),\"\",COUNTIF(Scoresheet!P:P,M7))","v":""},null,null,null,{"$f":"IF(ISBLANK(Q7),\"\",COUNTIF(Scoresheet!T:T,Q7))","v":""},null,null,null,{"$f":"IF(ISBLANK(U7),\"\",COUNTIF(Scoresheet!X:X,U7))","v":""},null,null,null,{"$f":"IF(ISBLANK(Y7),\"\",COUNTIF(Scoresheet!AB:AB,Y7))","v":""},null,null,null,{"$f":"IF(ISBLANK(AC7),\"\",COUNTIF(Scoresheet!AF:AF,AC7))","v":""},null,null,null,{"$f":"IF(ISBLANK(AG7),\"\",COUNTIF(Scoresheet!AJ:AJ,AG7))","v":""},null,null,null,{"$f":"IF(ISBLANK(AK7),\"\",COUNTIF(Scoresheet!AN:AN,AK7))","v":""},null,null,null,{"$f":"IF(ISBLANK(AO7),\"\",COUNTIF(Scoresheet!AR:AR,AO7))","v":""},null,null,null,{"$f":"IF(ISBLANK(AS7),\"\",COUNTIF(Scoresheet!AV:AV,AS7))","v":""},null,null,null,{"$f":"IF(ISBLANK(AW7),\"\",COUNTIF(Scoresheet!AZ:AZ,AW7))","v":""},null,null,null,{"$f":"IF(ISBLANK(BA7),\"\",COUNTIF(Scoresheet!BD:BD,BA7))","v":""},null,null,null,{"$f":"IF(ISBLANK(BE7),\"\",COUNTIF(Scoresheet!BH:BH,BE7))","v":""},null,null,null,{"$f":"IF(ISBLANK(BI7),\"\",COUNTIF(Scoresheet!BL:BL,BI7))","v":""},null,null,null,{"$f":"IF(ISBLANK(BM7),\"\",COUNTIF(Scoresheet!BP:BP,BM7))","v":""},null,null,null,{"$f":"IF(ISBLANK(BQ7),\"\",COUNTIF(Scoresheet!BT:BT,BQ7))","v":""},null,null,null,{"$f":"IF(ISBLANK(BU7),\"\",COUNTIF(Scoresheet!BX:BX,BU7))","v":""},null,null,null,{"$f":"IF(ISBLANK(BY7),\"\",COUNTIF(Scoresheet!CB:CB,BY7))","v":""}]
[null,null,null,{"$f":"IF(ISBLANK(A8),\"\",COUNTIF(Scoresheet!D:D,A8))","v":""},"charlie","CHARLIE",null,{"$f":"IF(ISBLANK(E8),\"\",COUNTIF(Scoresheet!H:H,E8))","v":0},null,null,null,{"$f":"IF(ISBLANK(I8),\"\",COUNTIF(Scoresheet!L:L,I8))","v":""},null,null,null,{"$f":"IF(ISBLANK(M8),\"\",COUNTIF(Scoresheet!P:P,M8))","v":""},null,null,null,{"$f":"IF(ISBLANK(Q8),\"\",COUNTIF(Scoresheet!T:T,Q8))","v":""},null,null,null,{"$f":"IF(ISBLANK(U8),\"\",COUNTIF(Scoresheet!X:X,U8))","v":""},null,null,null,{"$f":"IF(ISBLANK(Y8),\"\",COUNTIF(Scoresheet!AB:AB,Y8))","v":""},null,null,null,{"$f":"IF(ISBLANK(AC8),\"\",COUNTIF(Scoresheet!AF:AF,AC8))","v":""},null,null,null,{"$f":"IF(ISBLANK(AG8),\"\",COUNTIF(Scoresheet!AJ:AJ,AG8))","v":""},null,null,null,{"$f":"IF(ISBLANK(AK8),\"\",COUNTIF(Scoresheet!AN:AN,AK8))","v":""},null,null,null,{"$f":"IF(ISBLANK(AO8),\"\",COUNTIF(Scoresheet!AR:AR,AO8))","v":""},null,null,null,{"$f":"IF(ISBLANK(AS8),\"\",COUNTIF(Scoresheet!AV:AV,AS8))","v":""},null,null,null,{"$f":"IF(ISBLANK(AW8),\"\",COUNTIF(Scoresheet!AZ:AZ,AW8))","v":""},null,null,null,{"$f":"IF(ISBLANK(BA8),\"\",COUNTIF(Scoresheet!BD:BD,BA8))","v":""},null,null,null,{"$f":"IF(ISBLANK(BE8),\"\",COUNTIF(Scoresheet!BH:BH,BE8))","v":""},null,null,null,{"$f":"IF(ISBLANK(BI8),\"\",COUNTIF(Scoresheet!BL:BL,BI8))","v":""},null,null,null,{"$f":"IF(ISBLANK(BM8),\"\",COUNTIF(Scoresheet!BP:BP,BM8))","v":""},null,null,null,{"$f":"IF(ISBLANK(BQ8),\"\",COUNTIF(Scoresheet!BT:BT,BQ8))","v":""},null,null,null,{"$f":"IF(ISBLANK(BU8),\"\",COUNTIF(Scoresheet!BX:BX,BU8))","v":""},null,null,null,{"$f":"IF(ISBLANK(BY8),\"\",COUNTIF(Scoresheet!CB:CB,BY8))","v":""}]
[null,null,null,{"$f":"IF(ISBLANK(A9),\"\",COUNTIF(Scoresheet!D:D,A9))","v":""},null,null,null,{"$f":"IF(ISBLANK(E9),\"\",COUNTIF(Scoresheet!H:H,E9))","v":""},null,null,null,{"$f":"IF(ISBLANK(I9),\"\",COUNTIF(Scoresheet!L:L,I9))","v":""},null,null,null,{"$f":"IF(ISBLANK(M9),\"\",COUNTIF(Scoresheet!P:P,M9))","v":""},null,null,null,{"$f":"IF(ISBLANK(Q9),\"\",COUNTIF(Scoresheet!T:T,Q9))","v":""},null,null,null,{"$f":"IF(ISBLANK(U9),\"\",COUNTIF(Scoresheet!X:X,U9))","v":""},null,null,null,{"$f":"IF(ISBLANK(Y9),\"\",COUNTIF(Scoresheet!AB:AB,Y9))","v":""},null,null,null,{"$f":"IF(ISBLANK(AC9),\"\",COUNTIF(Scoresheet!AF:AF,AC9))","v":""},null,null,null,{"$f":"IF(ISBLANK(AG9),\"\",COUNTIF(Scoresheet!AJ:AJ,AG9))","v":""},null,null,null,{"$f":"IF(ISBLANK(AK9),\"\",COUNTIF(Scoresheet!AN:AN,AK9))","v":""},null,null,null,{"$f":"IF(ISBLANK(AO9),\"\",COUNTIF(Scoresheet!AR:AR,AO9))","v":""},null,null,null,{"$f":"IF(ISBLANK(AS9),\"\",COUNTIF(Scoresheet!AV:AV,AS9))","v":""},null,null,null,{"$f":"IF(ISBLANK(AW9),\"\",COUNTIF(Scoresheet!AZ:AZ,AW9))","v":""},null,null,null,{"$f":"IF(ISBLANK(BA9),\"\",COUNTIF(Scoresheet!BD:BD,BA9))","v":""},null,null,null,{"$f":"IF(ISBLANK(BE9),\"\",COUNTIF(Scoresheet!BH:BH,BE9))","v":""},null,null,null,{"$f":"IF(ISBLANK(BI9),\"\",COUNTIF(Scoresheet!BL:BL,BI9))","v":""},null,null,null,{"$f":"IF(ISBLANK(BM9),\"\",COUNTIF(Scoresheet!BP:BP,BM9))","v":""},null,null,null,{"$f":"IF(ISBLANK(BQ9),\"\",COUNTIF(Scoresheet!BT:BT,BQ9))","v":""},null,null,null,{"$f":"IF(ISBLANK(BU9),\"\",COUNTIF(Scoresheet!BX:BX,BU9))","v":""},null,null,null,{"$f":"IF(ISBLANK(BY9),\"\",COUNTIF(Scoresheet!CB:CB,BY9))","v":""}]
[null,null,null,{"$f":"IF(ISBLANK(A10),\"\",COUNTIF(Scoresheet!D:D,A10))","v":""},null,null,null,{"$f":"IF(ISBLANK(E10),\"\",COUNTIF(Scoresheet!H:H,E10))","v":""},null,null,null,{"$f":"IF(ISBLANK(I10),\"\",COUNTIF(Scoresheet!L:L,I10))","v":""},null,null,null,{"$f":"IF(ISBLANK(M10),\"\",COUNTIF(Scoresheet!P:P,M10))","v":""},null,null,null,{"$f":"IF(ISBLANK(Q10),\"\",COUNTIF(Scoresheet!T:T,Q10))","v":""},null,null,null,{"$f":"IF(ISBLANK(U10),\"\",COUNTIF(Scoresheet!X:X,U10))","v":""},null,null,null,{"$f":"IF(ISBLANK(Y10),\"\",COUNTIF(Scoresheet!AB:AB,Y10))","v":""},null,null,null,{"$f":"IF(ISBLANK(AC10),\"\",COUNTIF(Scoresheet!AF:AF,AC10))","v":""},null,null,null,{"$f":"IF(ISBLANK(AG10),\"\",COUNTIF(Scoresheet!AJ:AJ,AG10))","v":""},null,null,null,{"$f":"IF(ISBLANK(AK10),\"\",COUNTIF(Scoresheet!AN:AN,AK10))","v":""},null,null,null,{"$f":"IF(ISBLANK(AO10),\"\",COUNTIF(Scoresheet!AR:AR,AO10))","v":""},null,null,null,{"$f":"IF(ISBLANK(AS10),\"\",COUNTIF(Scoresheet!AV:AV,AS10))","v":""},null,null,null,{"$f":"IF(ISBLANK(AW10),\"\",COUNTIF(Scoresheet!AZ:AZ,AW10))","v":""},null,null,null,{"$f":"IF(ISBLANK(BA10),\"\",COUNTIF(Scoresheet!BD:BD,BA10))","v":""},null,null,null,{"$f":"IF(ISBLANK(BE10),\"\",COUNTIF(Scoresheet!BH:BH,BE10))","v":""},null,null,null,{"$f":"IF(ISBLANK(BI10),\"\",COUNTIF(Scoresheet!BL:BL,BI10))","v":""},null,null,null,{"$f":"IF(ISBLANK(BM10),\"\",COUNTIF(Scoresheet!BP:BP,BM10))","v":""},null,null,null,{"$f":"IF(ISBLANK(BQ10),\"\",COUNTIF(Scoresheet!BT:BT,BQ10))","v":""},null,null,null,{"$f":"IF(ISBLANK(BU10),\"\",COUNTIF(Scoresheet!BX:BX,BU10))","v":""},null,null,null,{"$f":"IF(ISBLANK(BY10),\"\",COUNTIF(Scoresheet!CB:CB,BY10))","v":""}]
[null,null,null,{"$f":"IF(ISBLANK(A11),\"\",COUNTIF(Scoresheet!D:D,A11))","v":""},null,null,null,{"$f":"IF(ISBLANK(E11),\"\",COUNTIF(Scoresheet!H:H,E11))","v":""},null,null,null,{"$f":"IF(ISBLANK(I11),\"\",COUNTIF(Scoresheet!L:L,I11))","v":""},null,null,null,{"$f":"IF(ISBLANK(M11),\"\",COUNTIF(Scoresheet!P:P,M11))","v":""},null,null,null,{"$f":"IF(ISBLANK(Q11),\"\",COUNTIF(Scoresheet!T:T,Q11))","v":""},null,null,null,{"$f":"IF(ISBLANK(U11),\"\",COUNTIF(Scoresheet!X:X,U11))","v":""},null,null,null,{"$f":"IF(ISBLANK(Y11),\"\",COUNTIF(Scoresheet!AB:AB,Y11))","v":""},null,null,null,{"$f":"IF(ISBLANK(AC11),\"\",COUNTIF(Scoresheet!AF:AF,AC11))","v":""},null,null,null,{"$f":"IF(ISBLANK(AG11),\"\",COUNTIF(Scoresheet!AJ:AJ,AG11))","v":""},null,null,null,{"$f":"IF(ISBLANK(AK11),\"\",COUNTIF(Scoresheet!AN:AN,AK11))","v":""},null,null,null,{"$f":"IF(ISBLANK(AO11),\"\",COUNTIF(Scoresheet!AR:AR,AO11))","v":""},null,null,null,{"$f":"IF(ISBLANK(AS11),\"\",COUNTIF(Scoresheet!AV:AV,AS11))","v":""},null,null,null,{"$f":"IF(ISBLANK(AW11),\"\",COUNTIF(Scoresheet!AZ:AZ,AW11))","v":""},null,null,null,{"$f":"IF(ISBLANK(BA11),\"\",COUNTIF(Scoresheet!BD:BD,BA11))","v":""},null,null,null,{"$f":"IF(ISBLANK(BE11),\"\",COUNTIF(Scoresheet!BH:BH,BE11))","v":""},null,null,null,{"$f":"IF(ISBLANK(BI11),\"\",COUNTIF(Scoresheet!BL:BL,BI11))","v":""},null,null,null,{"$f":"IF(ISBLANK(BM11),\"\",COUNTIF(Scoresheet!BP:BP,BM11))","v":""},null,null,null,{"$f":"IF(ISBLANK(BQ11),\"\",COUNTIF(Scoresheet!BT:BT,BQ11))","v":""},null,null,null,{"$f":"IF(ISBLANK(BU11),\"\",COUNTIF(Scoresheet!BX:BX,BU11))","v":""},null,null,null,{"$f":"IF(ISBLANK(BY11),\"\",COUNTIF(Scoresheet!CB:CB,BY11))","v":""}]
[null,null,null,{"$f":"IF(ISBLANK(A12),\"\",COUNTIF(Scoresheet!D:D,A12))","v":""},null,null,null,{"$f":"IF(ISBLANK(E12),\"\",COUNTIF(Scoresheet!H:H,E12))","v":""},null,null,null,{"$f":"IF(ISBLANK(I12),\"\",COUNTIF(Scoresheet!L:L,I12))","v":""},null,null,null,{"$f":"IF(ISBLANK(M12),\"\",COUNTIF(Scoresheet!P:P,M12))","v":""},null,null,null,{"$f":"IF(ISBLANK(Q12),\"\",COUNTIF(Scoresheet!T:T,Q12))","v":""},null,null,null,{"$f":"IF(ISBLANK(U12),\"\",COUNTIF(Scoresheet!X:X,U12))","v":""},null,null,null,{"$f":"IF(ISBLANK(Y12),\"\",COUNTIF(Scoresheet!AB:AB,Y12))","v":""},null,null,null,{"$f":"IF(ISBLANK(AC12),\"\",COUNTIF(Scoresheet!AF:AF,AC12))","v":""},null,null,null,{"$f":"IF(ISBLANK(AG12),\"\",COUNTIF(Scoresheet!AJ:AJ,AG12))","v":""},null,null,null,{"$f":"IF(ISBLANK(AK12),\"\",COUNTIF(Scoresheet!AN:AN,AK12))","v":""},null,null,null,{"$f":"IF(ISBLANK(AO12),\"\",COUNTIF(Scoresheet!AR:AR,AO12))","v":""},null,null,null,{"$f":"IF(ISBLANK(AS12),\"\",COUNTIF(Scoresheet!AV:AV,AS12))","v":""},null,null,null,{"$f":"IF(ISBLANK(AW12),\"\",COUNTIF(Scoresheet!AZ:AZ,AW12))","v":""},null,null,null,{"$f":"IF(ISBLANK(BA12),\"\",COUNTIF(Scoresheet!BD:BD,BA12))","v":""},null,null,null,{"$f":"IF(ISBLANK(BE12),\"\",COUNTIF(Scoresheet!BH:BH,BE12))","v":""},null,null,null,{"$f":"IF(ISBLANK(BI12),\"\",COUNTIF(Scoresheet!BL:BL,BI12))","v":""},null,null,null,{"$f":"IF(ISBLANK(BM12),\"\",COUNTIF(Scoresheet!BP:BP,BM12))","v":""},null,null,null,{"$f":"IF(ISBLANK(BQ12),\"\",COUNTIF(Scoresheet!BT:BT,BQ12))","v":""},null,null,null,{"$f":"IF(ISBLANK(BU12),\"\",COUNTIF(Scoresheet!BX:BX,BU12))","v":""},null,null,null,{"$f":"IF(ISBLANK(BY12),\"\",COUNTIF(Scoresheet!CB:CB,BY12))","v":""}]
[null,null,null,{"$f":"IF(ISBLANK(A13),\"\",COUNTIF(Scoresheet!D:D,A13))","v":""},null,null,null,{"$f":"IF(ISBLANK(E13),\"\",COUNTIF(Scoresheet!H:H,E13))","v":""},null,null,null,{"$f":"IF(ISBLANK(I13),\"\",COUNTIF(Scoresheet!L:L,I13))","v":""},null,null,null,{"$f":"IF(ISBLANK(M13),\"\",COUNTIF(Scoresheet!P:P,M13))","v":""},null,null,null,{"$f":"IF(ISBLANK(Q13),\"\",COUNTIF(Scoresheet!T:T,Q13))","v":""},null,null,null,{"$f":"IF(ISBLANK(U13),\"\",COUNTIF(Scoresheet!X:X,U13))","v":""},null,null,null,{"$f":"IF(ISBLANK(Y13),\"\",COUNTIF(Scoresheet!AB:AB,Y13))","v":""},null,null,null,{"$f":"IF(ISBLANK(AC13),\"\",COUNTIF(Scoresheet!AF:AF,AC13))","v":""},null,null,null,{"$f":"IF(ISBLANK(AG13),\"\",COUNTIF(Scoresheet!AJ:AJ,AG13))","v":""},null,null,null,{"$f":"IF(ISBLANK(AK13),\"\",COUNTIF(Scoresheet!AN:AN,AK13))","v":""},null,null,null,{"$f":"IF(ISBLANK(AO13),\"\",COUNTIF(Scoresheet!AR:AR,AO13))","v":""},null,null,null,{"$f":"IF(ISBLANK(AS13),\"\",COUNTIF(Scoresheet!AV:AV,AS13))","v":""},null,null,null,{"$f":"IF(ISBLANK(AW13),\"\",COUNTIF(Scoresheet!AZ:AZ,AW13))","v":""},null,null,null,{"$f":"IF(ISBLANK(BA13),\"\",COUNTIF(Scoresheet!BD:BD,BA13))","v":""},null,null,null,{"$f":"IF(ISBLANK(BE13),\"\",COUNTIF(Scoresheet!BH:BH,BE13))","v":""},null,null,null,{"$f":"IF(ISBLANK(BI13),\"\",COUNTIF(Scoresheet!BL:BL,BI13))","v":""},null,null,null,{"$f":"IF(ISBLANK(BM13),\"\",COUNTIF(Scoresheet!BP:BP,BM13))","v":""},null,null,null,{"$f":"IF(ISBLANK(BQ13),\"\",COUNTIF(Scoresheet!BT:BT,BQ13))","v":""},null,null,null,{"$f":"IF(ISBLANK(BU13),\"\",COUNTIF(Scoresheet!BX:BX,BU13))","v":""},null,null,null,{"$f":"IF(ISBLANK(BY13),\"\",COUNTIF(Scoresheet!CB:CB,BY13))","v":""}]
[null,null,null,{"$f":"IF(ISBLANK(A14),\"\",COUNTIF(Scoresheet!D:D,A14))","v":""},null,null,null,{"$f":"IF(ISBLANK(E14),\"\",COUNTIF(Scoresheet!H:H,E14))","v":""},null,null,null,{"$f":"IF(ISBLANK(I14),\"\",COUNTIF(Scoresheet!L:L,I14))","v":""},null,null,null,{"$f":"IF(ISBLANK(M14),\"\",COUNTIF(Scoresheet!P:P,M14))","v":""},null,null,null,{"$f":"IF(ISBLANK(Q14),\"\",COUNTIF(Scoresheet!T:T,Q14))","v":""},null,null,null,{"$f":"IF(ISBLANK(U14),\"\",COUNTIF(Scoresheet!X:X,U14))","v":""},null,null,null,{"$f":"IF(ISBLANK(Y14),\"\",COUNTIF(Scoresheet!AB:AB,Y14))","v":""},null,null,null,{"$f":"IF(ISBLANK(AC14),\"\",COUNTIF(Scoresheet!AF:AF,AC14))","v":""},null,null,null,{"$f":"IF(ISBLANK(AG14),\"\",COUNTIF(Scoresheet!AJ:AJ,AG14))","v":""},null,null,null,{"$f":"IF(ISBLANK(AK14),\"\",COUNTIF(Scoresheet!AN:AN,AK14))","v":""},null,null,null,{"$f":"IF(ISBLANK(AO14),\"\",COUNTIF(Scoresheet!AR:AR,AO14))","v":""},null,null,null,{"$f":"IF(ISBLANK(AS14),\"\",COUNTIF(Scoresheet!AV:AV,AS14))","v":""},null,null,null,{"$f":"IF(ISBLANK(AW14),\"\",COUNTIF(Scoresheet!AZ:AZ,AW14))","v":""},null,null,null,{"$f":"IF(ISBLANK(BA14),\"\",COUNTIF(Scoresheet!BD:BD,BA14))","v":""},null,null,null,{"$f":"IF(ISBLANK(BE14),\"\",COUNTIF(Scoresheet!BH:BH,BE14))","v":""},null,null,null,{"$f":"IF(ISBLANK(BI14),\"\",COUNTIF(Scoresheet!BL:BL,BI14))","v":""},null,null,null,{"$f":"IF(ISBLANK(BM14),\"\",COUNTIF(Scoresheet!BP:BP,BM14))","v":""},null,null,null,{"$f":"IF(ISBLANK(BQ14),\"\",COUNTIF(Scoresheet!BT:BT,BQ14))","v":""},null,null,null,{"$f":"IF(ISBLANK(BU14),\"\",COUNTIF(Scoresheet!BX:BX,BU14))","v":""},null,null,null,{"$f":"IF(ISBLANK(BY14),\"\",COUNTIF(Scoresheet!CB:CB,BY14))","v":""}]
[null,null,null,{"$f":"IF(ISBLANK(A15),\"\",COUNTIF(Scoresheet!D:D,A15))","v":""},null,null,null,{"$f":"IF(ISBLANK(E15),\"\",COUNTIF(Scoresheet!H:H,E15))","v":""},null,null,null,{"$f":"IF(ISBLANK(I15),\"\",COUNTIF(Scoresheet!L:L,I15))","v":""},null,null,null,{"$f":"IF(ISBLANK(M15),\"\",COUNTIF(Scoresheet!P:P,M15))","v":""},null,null,null,{"$f":"IF(ISBLANK(Q15),\"\",COUNTIF(Scoresheet!T:T,Q15))","v":""},null,null,null,{"$f":"IF(ISBLANK(U15),\"\",COUNTIF(Scoresheet!X:X,U15))","v":""},null,null,null,{"$f":"IF(ISBLANK(Y15),\"\",COUNTIF(Scoresheet!AB:AB,Y15))","v":""},null,null,null,{"$f":"IF(ISBLANK(AC15),\"\",COUNTIF(Scoresheet!AF:AF,AC15))","v":""},null,null,null,{"$f":"IF(ISBLANK(AG15),\"\",COUNTIF(Scoresheet!AJ:AJ,AG15))","v":""},null,null,null,{"$f":"IF(ISBLANK(AK15),\"\",COUNTIF(Scoresheet!AN:AN,AK15))","v":""},null,null,null,{"$f":"IF(ISBLANK(AO15),\"\",COUNTIF(Scoresheet!AR:AR,AO15))","v":""},null,null,null,{"$f":"IF(ISBLANK(AS15),\"\",COUNTIF(Scoresheet!AV:AV,AS15))","v":""},null,null,null,{"$f":"IF(ISBLANK(AW15),\"\",COUNTIF(Scoresheet!AZ:AZ,AW15))","v":""},null,null,null,{"$f":"IF(ISBLANK(BA15),\"\",COUNTIF(Scoresheet!BD:BD,BA15))","v":""},null,null,null,{"$f":"IF(ISBLANK(BE15),\"\",COUNTIF(Scoresheet!BH:BH,BE15))","v":""},null,null,null,{"$f":"IF(ISBLANK(BI15),\"\",COUNTIF(Scoresheet!BL:BL,BI15))","v":""},null,null,null,{"$f":"IF(ISBLANK(BM15),\"\",COUNTIF(Scoresheet!BP:BP,BM15))","v":""},null,null,null,{"$f":"IF(ISBLANK(BQ15),\"\",COUNTIF(Scoresheet!BT:BT,BQ15))","v":""},null,null,null,{"$f":"IF(ISBLANK(BU15),\"\",COUNTIF(Scoresheet!BX:BX,BU15))","v":""},null,null,null,{"$f":"IF(ISBLANK(BY15),\"\",COUNTIF(Scoresheet!CB:CB,BY15))","v":""}]
[null,null,null,{"$f":"IF(ISBLANK(A16),\"\",COUNTIF(Scoresheet!D:D,A16))","v":""},null,null,null,{"$f":"IF(ISBLANK(E16),\"\",COUNTIF(Scoresheet!H:H,E16))","v":""},null,null,null,{"$f":"IF(ISBLANK(I16),\"\",COUNTIF(Scoresheet!L:L,I16))","v":""},null,null,null,{"$f":"IF(ISBLANK(M16),\"\",COUNTIF(Scoresheet!P:P,M16))","v":""},null,null,null,{"$f":"IF(ISBLANK(Q16),\"\",COUNTIF(Scoresheet!T:T,Q16))","v":""},null,null,null,{"$f":"IF(ISBLANK(U16),\"\",COUNTIF(Scoresheet!X:X,U16))","v":""},null,null,null,{"$f":"IF(ISBLANK(Y16),\"\",COUNTIF(Scoresheet!AB:AB,Y16))","v":""},null,null,null,{"$f":"IF(ISBLANK(AC16),\"\",COUNTIF(Scoresheet!AF:AF,AC16))","v":""},null,null,null,{"$f":"IF(ISBLANK(AG16),\"\",COUNTIF(Scoresheet!AJ:AJ,AG16))","v":""},null,null,null,{"$f":"IF(ISBLANK(AK16),\"\",COUNTIF(Scoresheet!AN:AN,AK16))","v":""},null,null,null,{"$f":"IF(ISBLANK(AO16),\"\",COUNTIF(Scoresheet!AR:AR,AO16))","v":""},null,null,null,{"$f":"IF(ISBLANK(AS16),\"\",COUNTIF(Scoresheet!AV:AV,AS16))","v":""},null,null,null,{"$f":"IF(ISBLANK(AW16),\"\",COUNTIF(Scoresheet!AZ:AZ,AW16))","v":""},null,null,null,{"$f":"IF(ISBLANK(BA16),\"\",COUNTIF(Scoresheet!BD:BD,BA16))","v":""},null,null,null,{"$f":"IF(ISBLANK(BE16),\"\",COUNTIF(Scoresheet!BH:BH,BE16))","v":""},null,null,null,{"$f":"IF(ISBLANK(BI16),\"\",COUNTIF(Scoresheet!BL:BL,BI16))","v":""},null,null,null,{"$f":"IF(ISBLANK(BM16),\"\",COUNTIF(Scoresheet!BP:BP,BM16))","v":""},null,null,null,{"$f":"IF(ISBLANK(BQ16),\"\",COUNTIF(Scoresheet!BT:BT,BQ16))","v":""},null,null,null,{"$f":"IF(ISBLANK(BU16),\"\",COUNTIF(Scoresheet!BX:BX,BU16))","v":""},null,null,null,{"$f":"IF(ISBLANK(BY16),\"\",COUNTIF(Scoresheet!CB:CB,BY16))","v":""}]
[null,null,null,{"$f":"IF(ISBLANK(A17),\"\",COUNTIF(Scoresheet!D:D,A17))","v":""},null,null,null,{"$f":"IF(ISBLANK(E17),\"\",COUNTIF(Scoresheet!H:H,E17))","v":""},null,null,null,{"$f":"IF(ISBLANK(I17),\"\",COUNTIF(Scoresheet!L:L,I17))","v":""},null,null,null,{"$f":"IF(ISBLANK(M17),\"\",COUNTIF(Scoresheet!P:P,M17))","v":""},null,null,null,{"$f":"IF(ISBLANK(Q17),\"\",COUNTIF(Scoresheet!T:T,Q17))","v":""},null,null,null,{"$f":"IF(ISBLANK(U17),\"\",COUNTIF(Scoresheet!X:X,U17))","v":""},null,null,null,{"$f":"IF(ISBLANK(Y17),\"\",COUNTIF(Scoresheet!AB:AB,Y17))","v":""},null,null,null,{"$f":"IF(ISBLANK(AC17),\"\",COUNTIF(Scoresheet!AF:AF,AC17))","v":""},null,null,null,{"$f":"IF(ISBLANK(AG17),\"\",COUNTIF(Scoresheet!AJ:AJ,AG17))","v":""},null,null,null,{"$f":"IF(ISBLANK(AK17),\"\",COUNTIF(Scoresheet!AN:AN,AK17))","v":""},null,null,null,{"$f":"IF(ISBLANK(AO17),\"\",COUNTIF(Scoresheet!AR:AR,AO17))","v":""},null,null,null,{"$f":"IF(ISBLANK(AS17),\"\",COUNTIF(Scoresheet!AV:AV,AS17))","v":""},null,null,null,{"$f":"IF(ISBLANK(AW17),\"\",COUNTIF(Scoresheet!AZ:AZ,AW17))","v":""},null,null,null,{"$f":"IF(ISBLANK(BA17),\"\",COUNTIF(Scoresheet!BD:BD,BA17))","v":""},null,null,null,{"$f":"IF(ISBLANK(BE17),\"\",COUNTIF(Scoresheet!BH:BH,BE17))","v":""},null,null,null,{"$f":"IF(ISBLANK(BI17),\"\",COUNTIF(Scoresheet!BL:BL,BI17))","v":""},null,null,null,{"$f":"IF(ISBLANK(BM17),\"\",COUNTIF(Scoresheet!BP:BP,BM17))","v":""},null,null,null,{"$f":"IF(ISBLANK(BQ17),\"\",COUNTIF(Scoresheet!BT:BT,BQ17))","v":""},null,null,null,{"$f":"IF(ISBLANK(BU17),\"\",COUNTIF(Scoresheet!BX:BX,BU17))","v":""},null,null,null,{"$f":"IF(ISBLANK(BY17),\"\",COUNTIF(Scoresheet!CB:CB,BY17))","v":""}]
[null,null,null,{"$f":"IF(ISBLANK(A18),\"\",COUNTIF(Scoresheet!D:D,A18))","v":""},null,null,null,{"$f":"IF(ISBLANK(E18),\"\",COUNTIF(Scoresheet!H:H,E18))","v":""},null,null,null,{"$f":"IF(ISBLANK(I18),\"\",COUNTIF(Scoresheet!L:L,I18))","v":""},null,null,null,{"$f":"IF(ISBLANK(M18),\"\",COUNTIF(Scoresheet!P:P,M18))","v":""},null,null,null,{"$f":"IF(ISBLANK(Q18),\"\",COUNTIF(Scoresheet!T:T,Q18))","v":""},null,null,null,{"$f":"IF(ISBLANK(U18),\"\",COUNTIF(Scoresheet!X:X,U18))","v":""},null,null,null,{"$f":"IF(ISBLANK(Y18),\"\",COUNTIF(Scoresheet!AB:AB,Y18))","v":""},null,null,null,{"$f":"IF(ISBLANK(AC18),\"\",COUNTIF(Scoresheet!AF:AF,AC18))","v":""},null,null,null,{"$f":"IF(ISBLANK(AG18),\"\",COUNTIF(Scoresheet!AJ:AJ,AG18))","v":""},null,null,null,{"$f":"IF(ISBLANK(AK18),\"\",COUNTIF(Scoresheet!AN:AN,AK18))","v":""},null,null,null,{"$f":"IF(ISBLANK(AO18),\"\",COUNTIF(Scoresheet!AR:AR,AO18))","v":""},null,null,null,{"$f":"IF(ISBLANK(AS18),\"\",COUNTIF(Scoresheet!AV:AV,AS18))","v":""},null,null,null,{"$f":"IF(ISBLANK(AW18),\"\",COUNTIF(Scoresheet!AZ:AZ,AW18))","v":""},null,null,null,{"$f":"IF(ISBLANK(BA18),\"\",COUNTIF(Scoresheet!BD:BD,BA18))","v":""},null,null,null,{"$f":"IF(ISBLANK(BE18),\"\",COUNTIF(Scoresheet!BH:BH,BE18))","v":""},null,null,null,{"$f":"IF(ISBLANK(BI18),\"\",COUNTIF(Scoresheet!BL:BL,BI18))","v":""},null,null,null,{"$f":"IF(ISBLANK(BM18),\"\",COUNTIF(Scoresheet!BP:BP,BM18))","v":""},null,null,null,{"$f":"IF(ISBLANK(BQ18),\"\",COUNTIF(Scoresheet!BT:BT,BQ18))","v":""},null,null,null,{"$f":"IF(ISBLANK(BU18),\"\",COUNTIF(Scoresheet!BX:BX,BU18))","v":""},null,null,null,{"$f":"IF(ISBLANK(BY18),\"\",COUNTIF(Scoresheet!CB:CB,BY18))","v":""}]
[null,null,null,{"$f":"IF(ISBLANK(A19),\"\",COUNTIF(Scoresheet!D:D,A19))","v":""},null,null,null,{"$f":"IF(ISBLANK(E19),\"\",COUNTIF(Scoresheet!H:H,E19))","v":""},null,null,null,{"$f":"IF(ISBLANK(I19),\"\",COUNTIF(Scoresheet!L:L,I19))","v":""},null,null,null,{"$f":"IF(ISBLANK(M19),\"\",COUNTIF(Scoresheet!P:P,M19))","v":""},null,null,null,{"$f":"IF(ISBLANK(Q19),\"\",COUNTIF(Scoresheet!T:T,Q19))","v":""},null,null,null,{"$f":"IF(ISBLANK(U19),\"\",COUNTIF(Scoresheet!X:X,U19))","v":""},null,null,null,{"$f":"IF(ISBLANK(Y19),\"\",COUNTIF(Scoresheet!AB:AB,Y19))","v":""},null,null,null,{"$f":"IF(ISBLANK(AC19),\"\",COUNTIF(Scoresheet!AF:AF,AC19))","v":""},null,null,null,{"$f":"IF(ISBLANK(AG19),\"\",COUNTIF(Scoresheet!AJ:AJ,AG19))","v":""},null,null,null,{"$f":"IF(ISBLANK(AK19),\"\",COUNTIF(Scoresheet!AN:AN,AK19))","v":""},null,null,null,{"$f":"IF(ISBLANK(AO19),\"\",COUNTIF(Scoresheet!AR:AR,AO19))","v":""},null,null,null,{"$f":"IF(ISBLANK(AS19),\"\",COUNTIF(Scoresheet!AV:AV,AS19))","v":""},null,null,null,{"$f":"IF(ISBLANK(AW19),\"\",COUNTIF(Scoresheet!AZ:AZ,AW19))","v":""},null,null,null,{"$f":"IF(ISBLANK(BA19),\"\",COUNTIF(Scoresheet!BD:BD,BA19))","v":""},null,null,null,{"$f":"IF(ISBLANK(BE19),\"\",COUNTIF(Scoresheet!BH:BH,BE19))","v":""},null,null,null,{"$f":"IF(ISBLANK(BI19),\"\",COUNTIF(Scoresheet!BL:BL,BI19))","v":""},null,null,null,{"$f":"IF(ISBLANK(BM19),\"\",COUNTIF(Scoresheet!BP:BP,BM19))","v":""},null,null,null,{"$f":"IF(ISBLANK(BQ19),\"\",COUNTIF(Scoresheet!BT:BT,BQ19))","v":""},null,null,null,{"$f":"IF(ISBLANK(BU19),\"\",COUNTIF(Scoresheet!BX:BX,BU19))","v":""},null,null,null,{"$f":"IF(ISBLANK(BY19),\"\",COUNTIF(Scoresheet!CB:CB,BY19))","v":""}]
[null,null,null,{"$f":"IF(ISBLANK(A20),\"\",COUNTIF(Scoresheet!D:D,A20))","v":""},null,null,null,{"$f":"IF(ISBLANK(E20),\"\",COUNTIF(Scoresheet!H:H,E20))","v":""},null,null,null,{"$f":"IF(ISBLANK(I20),\"\",COUNTIF(Scoresheet!L:L,I20))","v":""},null,null,null,{"$f":"IF(ISBLANK(M20),\"\",COUNTIF(Scoresheet!P:P,M20))","v":""},null,null,null,{"$f":"IF(ISBLANK(Q20),\"\",COUNTIF(Scoresheet!T:T,Q20))","v":""},null,null,null,{"$f":"IF(ISBLANK(U20),\"\",COUNTIF(Scoresheet!X:X,U20))","v":""},null,null,null,{"$f":"IF(ISBLANK(Y20),\"\",COUNTIF(Scoresheet!AB:AB,Y20))","v":""},null,null,null,{"$f":"IF(ISBLANK(AC20),\"\",COUNTIF(Scoresheet!AF:AF,AC20))","v":""},null,null,null,{"$f":"IF(ISBLANK(AG20),\"\",COUNTIF(Scoresheet!AJ:AJ,AG20))","v":""},null,null,null,{"$f":"IF(ISBLANK(AK20),\"\",COUNTIF(Scoresheet!AN:AN,AK20))","v":""},null,null,null,{"$f":"IF(ISBLANK(AO20),\"\",COUNTIF(Scoresheet!AR:AR,AO20))","v":""},null,null,null,{"$f":"IF(ISBLANK(AS20),\"\",COUNTIF(Scoresheet!AV:AV,AS20))","v":""},null,null,null,{"$f":"IF(ISBLANK(AW20),\"\",COUNTIF(Scoresheet!AZ:AZ,AW20))","v":""},null,null,null,{"$f":"IF(ISBLANK(BA20),\"\",COUNTIF(Scoresheet!BD:BD,BA20))","v":""},null,null,null,{"$f":"IF(ISBLANK(BE20),\"\",COUNTIF(Scoresheet!BH:BH,BE20))","v":""},null,null,null,{"$f":"IF(ISBLANK(BI20),\"\",COUNTIF(Scoresheet!BL:BL,BI20))","v":""},null,null,null,{"$f":"IF(ISBLANK(BM20),\"\",COUNTIF(Scoresheet!BP:BP,BM20))","v":""},null,null,null,{"$f":"IF(ISBLANK(BQ20),\"\",COUNTIF(Scoresheet!BT:BT,BQ20))","v":""},null,null,null,{"$f":"IF(ISBLANK(BU20),\"\",COUNTIF(Scoresheet!BX:BX,BU20))","v":""},null,null,null,{"$f":"IF(ISBLANK(BY20),\"\",COUNTIF(Scoresheet!CB:CB,BY20))","v":""}]
[null,null,null,{"$f":"IF(ISBLANK(A21),\"\",COUNTIF(Scoresheet!D:D,A21))","v":""},null,null,null,{"$f":"IF(ISBLANK(E21),\"\",COUNTIF(Scoresheet!H:H,E21))","v":""},null,null,null,{"$f":"IF(ISBLANK(I21),\"\",COUNTIF(Scoresheet!L:L,I21))","v":""},null,null,null,{"$f":"IF(ISBLANK(M21),\"\",COUNTIF(Scoresheet!P:P,M21))","v":""},null,null,null,{"$f":"IF(ISBLANK(Q21),\"\",COUNTIF(Scoresheet!T:T,Q21))","v":""},null,null,null,{"$f":"IF(ISBLANK(U21),\"\",COUNTIF(Scoresheet!X:X,U21))","v":""},null,null,null,{"$f":"IF(ISBLANK(Y21),\"\",COUNTIF(Scoresheet!AB:AB,Y21))","v":""},null,null,null,{"$f":"IF(ISBLANK(AC21),\"\",COUNTIF(Scoresheet!AF:AF,AC21))","v":""},null,null,null,{"$f":"IF(ISBLANK(AG21),\"\",COUNTIF(Scoresheet!AJ:AJ,AG21))","v":""},null,null,null,{"$f":"IF(ISBLANK(AK21),\"\",COUNTIF(Scoresheet!AN:AN,AK21))","v":""},null,null,null,{"$f":"IF(ISBLANK(AO21),\"\",COUNTIF(Scoresheet!AR:AR,AO21))","v":""},null,null,null,{"$f":"IF(ISBLANK(AS21),\"\",COUNTIF(Scoresheet!AV:AV,AS21))","v":""},null,null,null,{"$f":"IF(ISBLANK(AW21),\"\",COUNTIF(Scoresheet!AZ:AZ,AW21))","v":""},null,null,null,{"$f":"IF(ISBLANK(BA21),\"\",COUNTIF(Scoresheet!BD:BD,BA21))","v":""},null,null,null,{"$f":"IF(ISBLANK(BE21),\"\",COUNTIF(Scoresheet!BH:BH,BE21))","v":""},null,null,null,{"$f":"IF(ISBLANK(BI21),\"\",COUNTIF(Scoresheet!BL:BL,BI21))","v":""},null,null,null,{"$f":"IF(ISBLANK(BM21),\"\",COUNTIF(Scoresheet!BP:BP,BM21))","v":""},null,null,null,{"$f":"IF(ISBLANK(BQ21),\"\",COUNTIF(Scoresheet!BT:BT,BQ21))","v":""},null,null,null,{"$f":"IF(ISBLANK(BU21),\"\",COUNTIF(Scoresheet!BX:BX,BU21))","v":""},null,null,null,{"$f":"IF(ISBLANK(BY21),\"\",COUNTIF(Scoresheet!CB:CB,BY21))","v":""}]
[null,null,null,{"$f":"IF(ISBLANK(A22),\"\",COUNTIF(Scoresheet!D:D,A22))","v":""},null,null,null,{"$f":"IF(ISBLANK(E22),\"\",COUNTIF(Scoresheet!H:H,E22))","v":""},null,null,null,{"$f":"IF(ISBLANK(I22),\"\",COUNTIF(Scoresheet!L:L,I22))","v":""},null,null,null,{"$f":"IF(ISBLANK(M22),\"\",COUNTIF(Scoresheet!P:P,M22))","v":""},null,null,null,{"$f":"IF(ISBLANK(Q22),\"\",COUNTIF(Scoresheet!T:T,Q22))","v":""},null,null,null,{"$f":"IF(ISBLANK(U22),\"\",COUNTIF(Scoresheet!X:X,U22))","v":""},null,null,null,{"$f":"IF(ISBLANK(Y22),\"\",COUNTIF(Scoresheet!AB:AB,Y22))","v":""},null,null,null,{"$f":"IF(ISBLANK(AC22),\"\",COUNTIF(Scoresheet!AF:AF,AC22))","v":""},null,null,null,{"$f":"IF(ISBLANK(AG22),\"\",COUNTIF(Scoresheet!AJ:AJ,AG22))","v":""},null,null,null,{"$f":"IF(ISBLANK(AK22),\"\",COUNTIF(Scoresheet!AN:AN,AK22))","v":""},null,null,null,{"$f":"IF(ISBLANK(AO22),\"\",COUNTIF(Scoresheet!AR:AR,AO22))","v":""},null,null,null,{"$f":"IF(ISBLANK(AS22),\"\",COUNTIF(Scoresheet!AV:AV,AS22))","v":""},null,null,null,{"$f":"IF(ISBLANK(AW22),\"\",COUNTIF(Scoresheet!AZ:AZ,AW22))","v":""},null,null,null,{"$f":"IF(ISBLANK(BA22),\"\",COUNTIF(Scoresheet!BD:BD,BA22))","v":""},null,null,null,{"$f":"IF(ISBLANK(BE22),\"\",COUNTIF(Scoresheet!BH:BH,BE22))","v":""},null,null,null,{"$f":"IF(ISBLANK(BI22),\"\",COUNTIF(Scoresheet!BL:BL,BI22))","v":""},null,null,null,{"$f":"IF(ISBLANK(BM22),\"\",COUNTIF(Scoresheet!BP:BP,BM22))","v":""},null,null,null,{"$f":"IF(ISBLANK(BQ22),\"\",COUNTIF(Scoresheet!BT:BT,BQ22))","v":""},null,null,null,{"$f":"IF(ISBLANK(BU22),\"\",COUNTIF(Scoresheet!BX:BX,BU22))","v":""},null,null,null,{"$f":"IF(ISBLANK(BY22),\"\",COUNTIF(Scoresheet!CB:CB,BY22))","v":""}]
[null,null,null,{"$f":"IF(ISBLANK(A23),\"\",COUNTIF(Scoresheet!D:D,A23))","v":""},null,null,null,{"$f":"IF(ISBLANK(E23),\"\",COUNTIF(Scoresheet!H:H,E23))","v":""},null,null,null,{"$f":"IF(ISBLANK(I23),\"\",COUNTIF(Scoresheet!L:L,I23))","v":""},null,null,null,{"$f":"IF(ISBLANK(M23),\"\",COUNTIF(Scoresheet!P:P,M23))","v":""},null,null,null,{"$f":"IF(ISBLANK(Q23),\"\",COUNTIF(Scoresheet!T:T,Q23))","v":""},null,null,null,{"$f":"IF(ISBLANK(U23),\"\",COUNTIF(Scoresheet!X:X,U23))","v":""},null,null,null,{"$f":"IF(ISBLANK(Y23),\"\",COUNTIF(Scoresheet!AB:AB,Y23))","v":""},null,null,null,{"$f":"IF(ISBLANK(AC23),\"\",COUNTIF(Scoresheet!AF:AF,AC23))","v":""},null,null,null,{"$f":"IF(ISBLANK(AG23),\"\",COUNTIF(Scoresheet!AJ:AJ,AG23))","v":""},null,null,null,{"$f":"IF(ISBLANK(AK23),\"\",COUNTIF(Scoresheet!AN:AN,AK23))","v":""},null,null,null,{"$f":"IF(ISBLANK(AO23),\"\",COUNTIF(Scoresheet!AR:AR,AO23))","v":""},null,null,null,{"$f":"IF(ISBLANK(AS23),\"\",COUNTIF(Scoresheet!AV:AV,AS23))","v":""},null,null,null,{"$f":"IF(ISBLANK(AW23),\"\",COUNTIF(Scoresheet!AZ:AZ,AW23))","v":""},null,null,null,{"$f":"IF(ISBLANK(BA23),\"\",COUNTIF(Scoresheet!BD:BD,BA23))","v":""},null,null,null,{"$f":"IF(ISBLANK(BE23),\"\",COUNTIF(Scoresheet!BH:BH,BE23))","v":""},null,null,null,{"$f":"IF(ISBLANK(BI23),\"\",COUNTIF(Scoresheet!BL:BL,BI23))","v":""},null,null,null,{"$f":"IF(ISBLANK(BM23),\"\",COUNTIF(Scoresheet!BP:BP,BM23))","v":""},null,null,null,{"$f":"IF(ISBLANK(BQ23),\"\",COUNTIF(Scoresheet!BT:BT,BQ23))","v":""},null,null,null,{"$f":"IF(ISBLANK(BU23),\"\",COUNTIF(Scoresheet!BX:BX,BU23))","v":""},null,null,null,{"$f":"IF(ISBLANK(BY23),\"\",COUNTIF(Scoresheet!CB:CB,BY23))","v":""}]
[null,null,null,{"$f":"IF(ISBLANK(A24),\"\",COUNTIF(Scoresheet!D:D,A24))","v":""},null,null,null,{"$f":"IF(ISBLANK(E24),\"\",COUNTIF(Scoresheet!H:H,E24))","v":""},null,null,null,{"$f":"IF(ISBLANK(I24),\"\",COUNTIF(Scoresheet!L:L,I24))","v":""},null,null,null,{"$f":"IF(ISBLANK(M24),\"\",COUNTIF(Scoresheet!P:P,M24))","v":""},null,null,null,{"$f":"IF(ISBLANK(Q24),\"\",COUNTIF(Scoresheet!T:T,Q24))","v":""},null,null,null,{"$f":"IF(ISBLANK(U24),\"\",COUNTIF(Scoresheet!X:X,U24))","v":""},null,null,null,{"$f":"IF(ISBLANK(Y24),\"\",COUNTIF(Scoresheet!AB:AB,Y24))","v":""},null,null,null,{"$f":"IF(ISBLANK(AC24),\"\",COUNTIF(Scoresheet!AF:AF,AC24))","v":""},null,null,null,{"$f":"IF(ISBLANK(AG24),\"\",COUNTIF(Scoresheet!AJ:AJ,AG24))","v":""},null,null,null,{"$f":"IF(ISBLANK(AK24),\"\",COUNTIF(Scoresheet!AN:AN,AK24))","v":""},null,null,null,{"$f":"IF(ISBLANK(AO24),\"\",COUNTIF(Scoresheet!AR:AR,AO24))","v":""},null,null,null,{"$f":"IF(ISBLANK(AS24),\"\",COUNTIF(Scoresheet!AV:AV,AS24))","v":""},null,null,null,{"$f":"IF(ISBLANK(AW24),\"\",COUNTIF(Scoresheet!AZ:AZ,AW24))","v":""},null,null,null,{"$f":"IF(ISBLANK(BA24),\"\",COUNTIF(Scoresheet!BD:BD,BA24))","v":""},null,null,null,{"$f":"IF(ISBLANK(BE24),\"\",COUNTIF(Scoresheet!BH:BH,BE24))","v":""},null,null,null,{"$f":"IF(ISBLANK(BI24),\"\",COUNTIF(Scoresheet!BL:BL,BI24))","v":""},null,null,null,{"$f":"IF(ISBLANK(BM24),\"\",COUNTIF(Scoresheet!BP:BP,BM24))","v":""},null,null,null,{"$f":"IF(ISBLANK(BQ24),\"\",COUNTIF(Scoresheet!BT:BT,BQ24))","v":""},null,null,null,{"$f":"IF(ISBLANK(BU24),\"\",COUNTIF(Scoresheet!BX:BX,BU24))","v":""},null,null,null,{"$f":"IF(ISBLANK(BY24),\"\",COUNTIF(Scoresheet!CB:CB,BY24))","v":""}]
[null,null,null,{"$f":"IF(ISBLANK(A25),\"\",COUNTIF(Scoresheet!D:D,A25))","v":""},null,null,null,{"$f":"IF(ISBLANK(E25),\"\",COUNTIF(Scoresheet!H:H,E25))","v":""},null,null,null,{"$f":"IF(ISBLANK(I25),\"\",COUNTIF(Scoresheet!L:L,I25))","v":""},null,null,null,{"$f":"IF(ISBLANK(M25),\"\",COUNTIF(Scoresheet!P:P,M25))","v":""},null,null,null,{"$f":"IF(ISBLANK(Q25),\"\",COUNTIF(Scoresheet!T:T,Q25))","v":""},null,null,null,{"$f":"IF(ISBLANK(U25),\"\",COUNTIF(Scoresheet!X:X,U25))","v":""},null,null,null,{"$f":"IF(ISBLANK(Y25),\"\",COUNTIF(Scoresheet!AB:AB,Y25))","v":""},null,null,null,{"$f":"IF(ISBLANK(AC25),\"\",COUNTIF(Scoresheet!AF:AF,AC25))","v":""},null,null,null,{"$f":"IF(ISBLANK(AG25),\"\",COUNTIF(Scoresheet!AJ:AJ,AG25))","v":""},null,null,null,{"$f":"IF(ISBLANK(AK25),\"\",COUNTIF(Scoresheet!AN:AN,AK25))","v":""},null,null,null,{"$f":"IF(ISBLANK(AO25),\"\",COUNTIF(Scoresheet!AR:AR,AO25))","v":""},null,null,null,{"$f":"IF(ISBLANK(AS25),\"\",COUNTIF(Scoresheet!AV:AV,AS25))","v":""},null,null,null,{"$f":"IF(ISBLANK(AW25),\"\",COUNTIF(Scoresheet!AZ:AZ,AW25))","v":""},null,null,null,{"$f":"IF(ISBLANK(BA25),\"\",COUNTIF(Scoresheet!BD:BD,BA25))","v":""},null,null,null,{"$f":"IF(ISBLANK(BE25),\"\",COUNTIF(Scoresheet!BH:BH,BE25))","v":""},null,null,null,{"$f":"IF(ISBLANK(BI25),\"\",COUNTIF(Scoresheet!BL:BL,BI25))","v":""},null,null,null,{"$f":"IF(ISBLANK(BM25),\"\",COUNTIF(Scoresheet!BP:BP,BM25))","v":""},null,null,null,{"$f":"IF(ISBLANK(BQ25),\"\",COUNTIF(Scoresheet!BT:BT,BQ25))","v":""},null,null,null,{"$f":"IF(ISBLANK(BU25),\"\",COUNTIF(Scoresheet!BX:BX,BU25))","v":""},null,null,null,{"$f":"IF(ISBLANK(BY25),\"\",COUNTIF(Scoresheet!CB:CB,BY25))","v":""}]
[null,null,null,{"$f":"IF(ISBLANK(A26),\"\",COUNTIF(Scoresheet!D:D,A26))","v":""},null,null,null,{"$f":"IF(ISBLANK(E26),\"\",COUNTIF(Scoresheet!H:H,E26))","v":""},null,null,null,{"$f":"IF(ISBLANK(I26),\"\",COUNTIF(Scoresheet!L:L,I26))","v":""},null,null,null,{"$f":"IF(ISBLANK(M26),\"\",COUNTIF(Scoresheet!P:P,M26))","v":""},null,null,null,{"$f":"IF(ISBLANK(Q26),\"\",COUNTIF(Scoresheet!T:T,Q26))","v":""},null,null,null,{"$f":"IF(ISBLANK(U26),\"\",COUNTIF(Scoresheet!X:X,U26))","v":""},null,null,null,{"$f":"IF(ISBLANK(Y26),\"\",COUNTIF(Scoresheet!AB:AB,Y26))","v":""},null,null,null,{"$f":"IF(ISBLANK(AC26),\"\",COUNTIF(Scoresheet!AF:AF,AC26))","v":""},null,null,null,{"$f":"IF(ISBLANK(AG26),\"\",COUNTIF(Scoresheet!AJ:AJ,AG26))","v":""},null,null,null,{"$f":"IF(ISBLANK(AK26),\"\",COUNTIF(Scoresheet!AN:AN,AK26))","v":""},null,null,null,{"$f":"IF(ISBLANK(AO26),\"\",COUNTIF(Scoresheet!AR:AR,AO26))","v":""},null,null,null,{"$f":"IF(ISBLANK(AS26),\"\",COUNTIF(Scoresheet!AV:AV,AS26))","v":""},null,null,null,{"$f":"IF(ISBLANK(AW26),\"\",COUNTIF(Scoresheet!AZ:AZ,AW26))","v":""},null,null,null,{"$f":"IF(ISBLANK(BA26),\"\",COUNTIF(Scoresheet!BD:BD,BA26))","v":""},null,null,null,{"$f":"IF(ISBLANK(BE26),\"\",COUNTIF(Scoresheet!BH:BH,BE26))","v":""},null,null,null,{"$f":"IF(ISBLANK(BI26),\"\",COUNTIF(Scoresheet!BL:BL,BI26))","v":""},null,null,null,{"$f":"IF(ISBLANK(BM26),\"\",COUNTIF(Scoresheet!BP:BP,BM26))","v":""},null,null,null,{"$f":"IF(ISBLANK(BQ26),\"\",COUNTIF(Scoresheet!BT:BT,BQ26))","v":""},null,null,null,{"$f":"IF(ISBLANK(BU26),\"\",COUNTIF(Scoresheet!BX:BX,BU26))","v":""},null,null,null,{"$f":"IF(ISBLANK(BY26),\"\",COUNTIF(Scoresheet!CB:CB,BY26))","v":""}]
[null,null,null,{"$f":"IF(ISBLANK(A27),\"\",COUNTIF(Scoresheet!D:D,A27))","v":""},null,null,null,{"$f":"IF(ISBLANK(E27),\"\",COUNTIF(Scoresheet!H:H,E27))","v":""},null,null,null,{"$f":"IF(ISBLANK(I27),\"\",COUNTIF(Scoresheet!L:L,I27))","v":""},null,null,null,{"$f":"IF(ISBLANK(M27),\"\",COUNTIF(Scoresheet!P:P,M27))","v":""},null,null,null,{"$f":"IF(ISBLANK(Q27),\"\",COUNTIF(Scoresheet!T:T,Q27))","v":""},null,null,null,{"$f":"IF(ISBLANK(U27),\"\",COUNTIF(Scoresheet!X:X,U27))","v":""},null,null,null,{"$f":"IF(ISBLANK(Y27),\"\",COUNTIF(Scoresheet!AB:AB,Y27))","v":""},null,null,null,{"$f":"IF(ISBLANK(AC27),\"\",COUNTIF(Scoresheet!AF:AF,AC27))","v":""},null,null,null,{"$f":"IF(ISBLANK(AG27),\"\",COUNTIF(Scoresheet!AJ:AJ,AG27))","v":""},null,null,null,{"$f":"IF(ISBLANK(AK27),\"\",COUNTIF(Scoresheet!AN:AN,AK27))","v":""},null,null,null,{"$f":"IF(ISBLANK(AO27),\"\",COUNTIF(Scoresheet!AR:AR,AO27))","v":""},null,null,null,{"$f":"IF(ISBLANK(AS27),\"\",COUNTIF(Scoresheet!AV:AV,AS27))","v":""},null,null,null,{"$f":"IF(ISBLANK(AW27),\"\",COUNTIF(Scoresheet!AZ:AZ,AW27))","v":""},null,null,null,{"$f":"IF(ISBLANK(BA27),\"\",COUNTIF(Scoresheet!BD:BD,BA27))","v":""},null,null,null,{"$f":"IF(ISBLANK(BE27),\"\",COUNTIF(Scoresheet!BH:BH,BE27))","v":""},null,null,null,{"$f":"IF(ISBLANK(BI27),\"\",COUNTIF(Scoresheet!BL:BL,BI27))","v":""},null,null,null,{"$f":"IF(ISBLANK(BM27),\"\",COUNTIF(Scoresheet!BP:BP,BM27))","v":""},null,null,null,{"$f":"IF(ISBLANK(BQ27),\"\",COUNTIF(Scoresheet!BT:BT,BQ27))","v":""},null,null,null,{"$f":"IF(ISBLANK(BU27),\"\",COUNTIF(Scoresheet!BX:BX,BU27))","v":""},null,null,null,{"$f":"IF(ISBLANK(BY27),\"\",COUNTIF(Scoresheet!CB:CB,BY27))","v":""}]
[null,null,null,{"$f":"IF(ISBLANK(A28),\"\",COUNTIF(Scoresheet!D:D,A28))","v":""},null,null,null,{"$f":"IF(ISBLANK(E28),\"\",COUNTIF(Scoresheet!H:H,E28))","v":""},null,null,null,{"$f":"IF(ISBLANK(I28),\"\",COUNTIF(Scoresheet!L:L,I28))","v":""},null,null,null,{"$f":"IF(ISBLANK(M28),\"\",COUNTIF(Scoresheet!P:P,M28))","v":""},null,null,null,{"$f":"IF(ISBLANK(Q28),\"\",COUNTIF(Scoresheet!T:T,Q28))","v":""},null,null,null,{"$f":"IF(ISBLANK(U28),\"\",COUNTIF(Scoresheet!X:X,U28))","v":""},null,null,null,{"$f":"IF(ISBLANK(Y28),\"\",COUNTIF(Scoresheet!AB:AB,Y28))","v":""},null,null,null,{"$f":"IF(ISBLANK(AC28),\"\",COUNTIF(Scoresheet!AF:AF,AC28))","v":""},null,null,null,{"$f":"IF(ISBLANK(AG28),\"\",COUNTIF(Scoresheet!AJ:AJ,AG28))","v":""},null,null,null,{"$f":"IF(ISBLANK(AK28),\"\",COUNTIF(Scoresheet!AN:AN,AK28))","v":""},null,null,null,{"$f":"IF(ISBLANK(AO28),\"\",COUNTIF(Scoresheet!AR:AR,AO28))","v":""},null,null,null,{"$f":"IF(ISBLANK(AS28),\"\",COUNTIF(Scoresheet!AV:AV,AS28))","v":""},null,null,null,{"$f":"IF(ISBLANK(AW28),\"\",COUNTIF(Scoresheet!AZ:AZ,AW28))","v":""},null,null,null,{"$f":"IF(ISBLANK(BA28),\"\",COUNTIF(Scoresheet!BD:BD,BA28))","v":""},null,null,null,{"$f":"IF(ISBLANK(BE28),\"\",COUNTIF(Scoresheet!BH:BH,BE28))","v":""},null,null,null,{"$f":"IF(ISBLANK(BI28),\"\",COUNTIF(Scoresheet!BL:BL,BI28))","v":""},null,null,null,{"$f":"IF(ISBLANK(BM28),\"\",COUNTIF(Scoresheet!BP:BP,BM28))","v":""},null,null,null,{"$f":"IF(ISBLANK(BQ28),\"\",COUNTIF(Scoresheet!BT:BT,BQ28))","v":""},null,null,null,{"$f":"IF(ISBLANK(BU28),\"\",COUNTIF(Scoresheet!BX:BX,BU28))","v":""},null,null,null,{"$f":"IF(ISBLANK(BY28),\"\",COUNTIF(Scoresheet!CB:CB,BY28))","v":""}]
[null,null,null,{"$f":"IF(ISBLANK(A29),\"\",COUNTIF(Scoresheet!D:D,A29))","v":""},null,null,null,{"$f":"IF(ISBLANK(E29),\"\",COUNTIF(Scoresheet!H:H,E29))","v":""},null,null,null,{"$f":"IF(ISBLANK(I29),\"\",COUNTIF(Scoresheet!L:L,I29))","v":""},null,null,null,{"$f":"IF(ISBLANK(M29),\"\",COUNTIF(Scoresheet!P:P,M29))","v":""},null,null,null,{"$f":"IF(ISBLANK(Q29),\"\",COUNTIF(Scoresheet!T:T,Q29))","v":""},null,null,null,{"$f":"IF(ISBLANK(U29),\"\",COUNTIF(Scoresheet!X:X,U29))","v":""},null,null,null,{"$f":"IF(ISBLANK(Y29),\"\",COUNTIF(Scoresheet!AB:AB,Y29))","v":""},null,null,null,{"$f":"IF(ISBLANK(AC29),\"\",COUNTIF(Scoresheet!AF:AF,AC29))","v":""},null,null,null,{"$f":"IF(ISBLANK(AG29),\"\",COUNTIF(Scoresheet!AJ:AJ,AG29))","v":""},null,null,null,{"$f":"IF(ISBLANK(AK29),\"\",COUNTIF(Scoresheet!AN:AN,AK29))","v":""},null,null,null,{"$f":"IF(ISBLANK(AO29),\"\",COUNTIF(Scoresheet!AR:AR,AO29))","v":""},null,null,null,{"$f":"IF(ISBLANK(AS29),\"\",COUNTIF(Scoresheet!AV:AV,AS29))","v":""},null,null,null,{"$f":"IF(ISBLANK(AW29),\"\",COUNTIF(Scoresheet!AZ:AZ,AW29))","v":""},null,null,null,{"$f":"IF(ISBLANK(BA29),\"\",COUNTIF(Scoresheet!BD:BD,BA29))","v":""},null,null,null,{"$f":"IF(ISBLANK(BE29),\"\",COUNTIF(Scoresheet!BH:BH,BE29))","v":""},null,null,null,{"$f":"IF(ISBLANK(BI29),\"\",COUNTIF(Scoresheet!BL:BL,BI29))","v":""},null,null,null,{"$f":"IF(ISBLANK(BM29),\"\",COUNTIF(Scoresheet!BP:BP,BM29))","v":""},null,null,null,{"$f":"IF(ISBLANK(BQ29),\"\",COUNTIF(Scoresheet!BT:BT,BQ29))","v":""},null,null,null,{"$f":"IF(ISBLANK(BU29),\"\",COUNTIF(Scoresheet!BX:BX,BU29))","v":""},null,null,null,{"$f":"IF(ISBLANK(BY29),\"\",COUNTIF(Scoresheet!CB:CB,BY29))","v":""}]
[null,null,null,{"$f":"IF(ISBLANK(A30),\"\",COUNTIF(Scoresheet!D:D,A30))","v":""},null,null,null,{"$f":"IF(ISBLANK(E30),\"\",COUNTIF(Scoresheet!H:H,E30))","v":""},null,null,null,{"$f":"IF(ISBLANK(I30),\"\",COUNTIF(Scoresheet!L:L,I30))","v":""},null,null,null,{"$f":"IF(ISBLANK(M30),\"\",COUNTIF(Scoresheet!P:P,M30))","v":""},null,null,null,{"$f":"IF(ISBLANK(Q30),\"\",COUNTIF(Scoresheet!T:T,Q30))","v":""},null,null,null,{"$f":"IF(ISBLANK(U30),\"\",COUNTIF(Scoresheet!X:X,U30))","v":""},null,null,null,{"$f":"IF(ISBLANK(Y30),\"\",COUNTIF(Scoresheet!AB:AB,Y30))","v":""},null,null,null,{"$f":"IF(ISBLANK(AC30),\"\",COUNTIF(Scoresheet!AF:AF,AC30))","v":""},null,null,null,{"$f":"IF(ISBLANK(AG30),\"\",COUNTIF(Scoresheet!AJ:AJ,AG30))","v":""},null,null,null,{"$f":"IF(ISBLANK(AK30),\"\",COUNTIF(Scoresheet!AN:AN,AK30))","v":""},null,null,null,{"$f":"IF(ISBLANK(AO30),\"\",COUNTIF(Scoresheet!AR:AR,AO30))","v":""},null,null,null,{"$f":"IF(ISBLANK(AS30),\"\",COUNTIF(Scoresheet!AV:AV,AS30))","v":""},null,null,null,{"$f":"IF(ISBLANK(AW30),\"\",COUNTIF(Scoresheet!AZ:AZ,AW30))","v":""},null,null,null,{"$f":"IF(ISBLANK(BA30),\"\",COUNTIF(Scoresheet!BD:BD,BA30))","v":""},null,null,null,{"$f":"IF(ISBLANK(BE30),\"\",COUNTIF(Scoresheet!BH:BH,BE30))","v":""},null,null,null,{"$f":"IF(ISBLANK(BI30),\"\",COUNTIF(Scoresheet!BL:BL,BI30))","v":""},null,null,null,{"$f":"IF(ISBLANK(BM30),\"\",COUNTIF(Scoresheet!BP:BP,BM30))","v":""},null,null,null,{"$f":"IF(ISBLANK(BQ30),\"\",COUNTIF(Scoresheet!BT:BT,BQ30))","v":""},null,null,null,{"$f":"IF(ISBLANK(BU30),\"\",COUNTIF(Scoresheet!BX:BX,BU30))","v":""},null,null,null,{"$f":"IF(ISBLANK(BY30),\"\",COUNTIF(Scoresheet!CB:CB,BY30))","v":""}]
[null,null,null,{"$f":"IF(ISBLANK(A31),\"\",COUNTIF(Scoresheet!D:D,A31))","v":""},null,null,null,{"$f":"IF(ISBLANK(E31),\"\",COUNTIF(Scoresheet!H:H,E31))","v":""},null,null,null,{"$f":"IF(ISBLANK(I31),\"\",COUNTIF(Scoresheet!L:L,I31))","v":""},null,null,null,{"$f":"IF(ISBLANK(M31),\"\",COUNTIF(Scoresheet!P:P,M31))","v":""},null,null,null,{"$f":"IF(ISBLANK(Q31),\"\",COUNTIF(Scoresheet!T:T,Q31))","v":""},null,null,null,{"$f":"IF(ISBLANK(U31),\"\",COUNTIF(Scoresheet!X:X,U31))","v":""},null,null,null,{"$f":"IF(ISBLANK(Y31),\"\",COUNTIF(Scoresheet!AB:AB,Y31))","v":""},null,null,null,{"$f":"IF(ISBLANK(AC31),\"\",COUNTIF(Scoresheet!AF:AF,AC31))","v":""},null,null,null,{"$f":"IF(ISBLANK(AG31),\"\",COUNTIF(Scoresheet!AJ:AJ,AG31))","v":""},null,null,null,{"$f":"IF(ISBLANK(AK31),\"\",COUNTIF(Scoresheet!AN:AN,AK31))","v":""},null,null,null,{"$f":"IF(ISBLANK(AO31),\"\",COUNTIF(Scoresheet!AR:AR,AO31))","v":""},null,null,null,{"$f":"IF(ISBLANK(AS31),\"\",COUNTIF(Scoresheet!AV:AV,AS31))","v":""},null,null,null,{"$f":"IF(ISBLANK(AW31),\"\",COUNTIF(Scoresheet!AZ:AZ,AW31))","v":""},null,null,null,{"$f":"IF(ISBLANK(BA31),\"\",COUNTIF(Scoresheet!BD:BD,BA31))","v":""},null,null,null,{"$f":"IF(ISBLANK(BE31),\"\",COUNTIF(Scoresheet!BH:BH,BE31))","v":""},null,null,null,{"$f":"IF(ISBLANK(BI31),\"\",COUNTIF(Scoresheet!BL:BL,BI31))","v":""},null,null,null,{"$f":"IF(ISBLANK(BM31),\"\",COUNTIF(Scoresheet!BP:BP,BM31))","v":""},null,null,null,{"$f":"IF(ISBLANK(BQ31),\"\",COUNTIF(Scoresheet!BT:BT,BQ31))","v":""},null,null,null,{"$f":"IF(ISBLANK(BU31),\"\",COUNTIF(Scoresheet!BX:BX,BU31))","v":""},null,null,null,{"$f":"IF(ISBLANK(BY31),\"\",COUNTIF(Scoresheet!CB:CB,BY31))","v":""}]
[null,null,null,{"$f":"IF(ISBLANK(A32),\"\",COUNTIF(Scoresheet!D:D,A32))","v":""},null,null,null,{"$f":"IF(ISBLANK(E32),\"\",COUNTIF(Scoresheet!H:H,E32))","v":""},null,null,null,{"$f":"IF(ISBLANK(I32),\"\",COUNTIF(Scoresheet!L:L,I32))","v":""},null,null,null,{"$f":"IF(ISBLANK(M32),\"\",COUNTIF(Scoresheet!P:P,M32))","v":""},null,null,null,{"$f":"IF(ISBLANK(Q32),\"\",COUNTIF(Scoresheet!T:T,Q32))","v":""},null,null,null,{"$f":"IF(ISBLANK(U32),\"\",COUNTIF(Scoresheet!X:X,U32))","v":""},null,null,null,{"$f":"IF(ISBLANK(Y32),\"\",COUNTIF(Scoresheet!AB:AB,Y32))","v":""},null,null,null,{"$f":"IF(ISBLANK(AC32),\"\",COUNTIF(Scoresheet!AF:AF,AC32))","v":""},null,null,null,{"$f":"IF(ISBLANK(AG32),\"\",COUNTIF(Scoresheet!AJ:AJ,AG32))","v":""},null,null,null,{"$f":"IF(ISBLANK(AK32),\"\",COUNTIF(Scoresheet!AN:AN,AK32))","v":""},null,null,null,{"$f":"IF(ISBLANK(AO32),\"\",COUNTIF(Scoresheet!AR:AR,AO32))","v":""},null,null,null,{"$f":"IF(ISBLANK(AS32),\"\",COUNTIF(Scoresheet!AV:AV,AS32))","v":""},null,null,null,{"$f":"IF(ISBLANK(AW32),\"\",COUNTIF(Scoresheet!AZ:AZ,AW32))","v":""},null,null,null,{"$f":"IF(ISBLANK(BA32),\"\",COUNTIF(Scoresheet!BD:BD,BA32))","v":""},null,null,null,{"$f":"IF(ISBLANK(BE32),\"\",COUNTIF(Scoresheet!BH:BH,BE32))","v":""},null,null,null,{"$f":"IF(ISBLANK(BI32),\"\",COUNTIF(Scoresheet!BL:BL,BI32))","v":""},null,null,null,{"$f":"IF(ISBLANK(BM32),\"\",COUNTIF(Scoresheet!BP:BP,BM32))","v":""},null,null,null,{"$f":"IF(ISBLANK(BQ32),\"\",COUNTIF(Scoresheet!BT:BT,BQ32))","v":""},null,null,null,{"$f":"IF(ISBLANK(BU32),\"\",COUNTIF(Scoresheet!BX:BX,BU32))","v":""},null,null,null,{"$f":"IF(ISBLANK(BY32),\"\",COUNTIF(Scoresheet!CB:CB,BY32))","v":""}]
[null,null,null,{"$f":"IF(ISBLANK(A33),\"\",COUNTIF(Scoresheet!D:D,A33))","v":""},null,null,null,{"$f":"IF(ISBLANK(E33),\"\",COUNTIF(Scoresheet!H:H,E33))","v":""},null,null,null,{"$f":"IF(ISBLANK(I33),\"\",COUNTIF(Scoresheet!L:L,I33))","v":""},null,null,null,{"$f":"IF(ISBLANK(M33),\"\",COUNTIF(Scoresheet!P:P,M33))","v":""},null,null,null,{"$f":"IF(ISBLANK(Q33),\"\",COUNTIF(Scoresheet!T:T,Q33))","v":""},null,null,null,{"$f":"IF(ISBLANK(U33),\"\",COUNTIF(Scoresheet!X:X,U33))","v":""},null,null,null,{"$f":"IF(ISBLANK(Y33),\"\",COUNTIF(Scoresheet!AB:AB,Y33))","v":""},null,null,null,{"$f":"IF(ISBLANK(AC33),\"\",COUNTIF(Scoresheet!AF:AF,AC33))","v":""},null,null,null,{"$f":"IF(ISBLANK(AG33),\"\",COUNTIF(Scoresheet!AJ:AJ,AG33))","v":""},null,null,null,{"$f":"IF(ISBLANK(AK33),\"\",COUNTIF(Scoresheet!AN:AN,AK33))","v":""},null,null,null,{"$f":"IF(ISBLANK(AO33),\"\",COUNTIF(Scoresheet!AR:AR,AO33))","v":""},null,null,null,{"$f":"IF(ISBLANK(AS33),\"\",COUNTIF(Scoresheet!AV:AV,AS33))","v":""},null,null,null,{"$f":"IF(ISBLANK(AW33),\"\",COUNTIF(Scoresheet!AZ:AZ,AW33))","v":""},null,null,null,{"$f":"IF(ISBLANK(BA33),\"\",COUNTIF(Scoresheet!BD:BD,BA33))","v":""},null,null,null,{"$f":"IF(ISBLANK(BE33),\"\",COUNTIF(Scoresheet!BH:BH,BE33))","v":""},null,null,null,{"$f":"IF(ISBLANK(BI33),\"\",COUNTIF(Scoresheet!BL:BL,BI33))","v":""},null,null,null,{"$f":"IF(ISBLANK(BM33),\"\",COUNTIF(Scoresheet!BP:BP,BM33))","v":""},null,null,null,{"$f":"IF(ISBLANK(BQ33),\"\",COUNTIF(Scoresheet!BT:BT,BQ33))","v":""},null,null,null,{"$f":"IF(ISBLANK(BU33),\"\",COUNTIF(Scoresheet!BX:BX,BU33))","v":""},null,null,null,{"$f":"IF(ISBLANK(BY33),\"\",COUNTIF(Scoresheet!CB:CB,BY33))","v":""}]
[null,null,null,{"$f":"IF(ISBLANK(A34),\"\",COUNTIF(Scoresheet!D:D,A34))","v":""},null,null,null,{"$f":"IF(ISBLANK(E34),\"\",COUNTIF(Scoresheet!H:H,E34))","v":""},null,null,null,{"$f":"IF(ISBLANK(I34),\"\",COUNTIF(Scoresheet!L:L,I34))","v":""},null,null,null,{"$f":"IF(ISBLANK(M34),\"\",COUNTIF(Scoresheet!P:P,M34))","v":""},null,null,null,{"$f":"IF(ISBLANK(Q34),\"\",COUNTIF(Scoresheet!T:T,Q34))","v":""},null,null,null,{"$f":"IF(ISBLANK(U34),\"\",COUNTIF(Scoresheet!X:X,U34))","v":""},null,null,null,{"$f":"IF(ISBLANK(Y34),\"\",COUNTIF(Scoresheet!AB:AB,Y34))","v":""},null,null,null,{"$f":"IF(ISBLANK(AC34),\"\",COUNTIF(Scoresheet!AF:AF,AC34))","v":""},null,null,null,{"$f":"IF(ISBLANK(AG34),\"\",COUNTIF(Scoresheet!AJ:AJ,AG34))","v":""},null,null,null,{"$f":"IF(ISBLANK(AK34),\"\",COUNTIF(Scoresheet!AN:AN,AK34))","v":""},null,null,null,{"$f":"IF(ISBLANK(AO34),\"\",COUNTIF(Scoresheet!AR:AR,AO34))","v":""},null,null,null,{"$f":"IF(ISBLANK(AS34),\"\",COUNTIF(Scoresheet!AV:AV,AS34))","v":""},null,null,null,{"$f":"IF(ISBLANK(AW34),\"\",COUNTIF(Scoresheet!AZ:AZ,AW34))","v":""},null,null,null,{"$f":"IF(ISBLANK(BA34),\"\",COUNTIF(Scoresheet!BD:BD,BA34))","v":""},null,null,null,{"$f":"IF(ISBLANK(BE34),\"\",COUNTIF(Scoresheet!BH:BH,BE34))","v":""},null,null,null,{"$f":"IF(ISBLANK(BI34),\"\",COUNTIF(Scoresheet!BL:BL,BI34))","v":""},null,null,null,{"$f":"IF(ISBLANK(BM34),\"\",COUNTIF(Scoresheet!BP:BP,BM34))","v":""},null,null,null,{"$f":"IF(ISBLANK(BQ34),\"\",COUNTIF(Scoresheet!BT:BT,BQ34))","v":""},null,null,null,{"$f":"IF(ISBLANK(BU34),\"\",COUNTIF(Scoresheet!BX:BX,BU34))","v":""},null,null,null,{"$f":"IF(ISBLANK(BY34),\"\",COUNTIF(Scoresheet!CB:CB,BY34))","v":""}]
[null,null,null,{"$f":"IF(ISBLANK(A35),\"\",COUNTIF(Scoresheet!D:D,A35))","v":""},null,null,null,{"$f":"IF(ISBLANK(E35),\"\",COUNTIF(Scoresheet!H:H,E35))","v":""},null,null,null,{"$f":"IF(ISBLANK(I35),\"\",COUNTIF(Scoresheet!L:L,I35))","v":""},null,null,null,{"$f":"IF(ISBLANK(M35),\"\",COUNTIF(Scoresheet!P:P,M35))","v":""},null,null,null,{"$f":"IF(ISBLANK(Q35),\"\",COUNTIF(Scoresheet!T:T,Q35))","v":""},null,null,null,{"$f":"IF(ISBLANK(U35),\"\",COUNTIF(Scoresheet!X:X,U35))","v":""},null,null,null,{"$f":"IF(ISBLANK(Y35),\"\",COUNTIF(Scoresheet!AB:AB,Y35))","v":""},null,null,null,{"$f":"IF(ISBLANK(AC35),\"\",COUNTIF(Scoresheet!AF:AF,AC35))","v":""},null,null,null,{"$f":"IF(ISBLANK(AG35),\"\",COUNTIF(Scoresheet!AJ:AJ,AG35))","v":""},null,null,null,{"$f":"IF(ISBLANK(AK35),\"\",COUNTIF(Scoresheet!AN:AN,AK35))","v":""},null,null,null,{"$f":"IF(ISBLANK(AO35),\"\",COUNTIF(Scoresheet!AR:AR,AO35))","v":""},null,null,null,{"$f":"IF(ISBLANK(AS35),\"\",COUNTIF(Scoresheet!AV:AV,AS35))","v":""},null,null,null,{"$f":"IF(ISBLANK(AW35),\"\",COUNTIF(Scoresheet!AZ:AZ,AW35))","v":""},null,null,null,{"$f":"IF(ISBLANK(BA35),\"\",COUNTIF(Scoresheet!BD:BD,BA35))","v":""},null,null,null,{"$f":"IF(ISBLANK(BE35),\"\",COUNTIF(Scoresheet!BH:BH,BE35))","v":""},null,null,null,{"$f":"IF(ISBLANK(BI35),\"\",COUNTIF(Scoresheet!BL:BL,BI35))","v":""},null,null,null,{"$f":"IF(ISBLANK(BM35),\"\",COUNTIF(Scoresheet!BP:BP,BM35))","v":""},null,null,null,{"$f":"IF(ISBLANK(BQ35),\"\",COUNTIF(Scoresheet!BT:BT,BQ35))","v":""},null,null,null,{"$f":"IF(ISBLANK(BU35),\"\",COUNTIF(Scoresheet!BX:BX,BU35))","v":""},null,null,null,{"$f":"IF(ISBLANK(BY35),\"\",COUNTIF(Scoresheet!CB:CB,BY35))","v":""}]
[null,null,null,{"$f":"IF(ISBLANK(A36),\"\",COUNTIF(Scoresheet!D:D,A36))","v":""},null,null,null,{"$f":"IF(ISBLANK(E36),\"\",COUNTIF(Scoresheet!H:H,E36))","v":""},null,null,null,{"$f":"IF(ISBLANK(I36),\"\",COUNTIF(Scoresheet!L:L,I36))","v":""},null,null,null,{"$f":"IF(ISBLANK(M36),\"\",COUNTIF(Scoresheet!P:P,M36))","v":""},null,null,null,{"$f":"IF(ISBLANK(Q36),\"\",COUNTIF(Scoresheet!T:T,Q36))","v":""},null,null,null,{"$f":"IF(ISBLANK(U36),\"\",COUNTIF(Scoresheet!X:X,U36))","v":""},null,null,null,{"$f":"IF(ISBLANK(Y36),\"\",COUNTIF(Scoresheet!AB:AB,Y36))","v":""},null,null,null,{"$f":"IF(ISBLANK(AC36),\"\",COUNTIF(Scoresheet!AF:AF,AC36))","v":""},null,null,null,{"$f":"IF(ISBLANK(AG36),\"\",COUNTIF(Scoresheet!AJ:AJ,AG36))","v":""},null,null,null,{"$f":"IF(ISBLANK(AK36),\"\",COUNTIF(Scoresheet!AN:AN,AK36))","v":""},null,null,null,{"$f":"IF(ISBLANK(AO36),\"\",COUNTIF(Scoresheet!AR:AR,AO36))","v":""},null,null,null,{"$f":"IF(ISBLANK(AS36),\"\",COUNTIF(Scoresheet!AV:AV,AS36))","v":""},null,null,null,{"$f":"IF(ISBLANK(AW36),\"\",COUNTIF(Scoresheet!AZ:AZ,AW36))","v":""},null,null,null,{"$f":"IF(ISBLANK(BA36),\"\",COUNTIF(Scoresheet!BD:BD,BA36))","v":""},null,null,null,{"$f":"IF(ISBLANK(BE36),\"\",COUNTIF(Scoresheet!BH:BH,BE36))","v":""},null,null,null,{"$f":"IF(ISBLANK(BI36),\"\",COUNTIF(Scoresheet!BL:BL,BI36))","v":""},null,null,null,{"$f":"IF(ISBLANK(BM36),\"\",COUNTIF(Scoresheet!BP:BP,BM36))","v":""},null,null,null,{"$f":"IF(ISBLANK(BQ36),\"\",COUNTIF(Scoresheet!BT:BT,BQ36))","v":""},null,null,null,{"$f":"IF(ISBLANK(BU36),\"\",COUNTIF(Scoresheet!BX:BX,BU36))","v":""},null,null,null,{"$f":"IF(ISBLANK(BY36),\"\",COUNTIF(Scoresheet!CB:CB,BY36))","v":""}]
[null,null,null,{"$f":"IF(ISBLANK(A37),\"\",COUNTIF(Scoresheet!D:D,A37))","v":""},null,null,null,{"$f":"IF(ISBLANK(E37),\"\",COUNTIF(Scoresheet!H:H,E37))","v":""},null,null,null,{"$f":"IF(ISBLANK(I37),\"\",COUNTIF(Scoresheet!L:L,I37))","v":""},null,null,null,{"$f":"IF(ISBLANK(M37),\"\",COUNTIF(Scoresheet!P:P,M37))","v":""},null,null,null,{"$f":"IF(ISBLANK(Q37),\"\",COUNTIF(Scoresheet!T:T,Q37))","v":""},null,null,null,{"$f":"IF(ISBLANK(U37),\"\",COUNTIF(Scoresheet!X:X,U37))","v":""},null,null,null,{"$f":"IF(ISBLANK(Y37),\"\",COUNTIF(Scoresheet!AB:AB,Y37))","v":""},null,null,null,{"$f":"IF(ISBLANK(AC37),\"\",COUNTIF(Scoresheet!AF:AF,AC37))","v":""},null,null,null,{"$f":"IF(ISBLANK(AG37),\"\",COUNTIF(Scoresheet!AJ:AJ,AG37))","v":""},null,null,null,{"$f":"IF(ISBLANK(AK37),\"\",COUNTIF(Scoresheet!AN:AN,AK37))","v":""},null,null,null,{"$f":"IF(ISBLANK(AO37),\"\",COUNTIF(Scoresheet!AR:AR,AO37))","v":""},null,null,null,{"$f":"IF(ISBLANK(AS37),\"\",COUNTIF(Scoresheet!AV:AV,AS37))","v":""},null,null,null,{"$f":"IF(ISBLANK(AW37),\"\",COUNTIF(Scoresheet!AZ:AZ,AW37))","v":""},null,null,null,{"$f":"IF(ISBLANK(BA37),\"\",COUNTIF(Scoresheet!BD:BD,BA37))","v":""},null,null,null,{"$f":"IF(ISBLANK(BE37),\"\",COUNTIF(Scoresheet!BH:BH,BE37))","v":""},null,null,null,{"$f":"IF(ISBLANK(BI37),\"\",COUNTIF(Scoresheet!BL:BL,BI37))","v":""},null,null,null,{"$f":"IF(ISBLANK(BM37),\"\",COUNTIF(Scoresheet!BP:BP,BM37))","v":""},null,null,null,{"$f":"IF(ISBLANK(BQ37),\"\",COUNTIF(Scoresheet!BT:BT,BQ37))","v":""},null,null,null,{"$f":"IF(ISBLANK(BU37),\"\",COUNTIF(Scoresheet!BX:BX,BU37))","v":""},null,null,null,{"$f":"IF(ISBLANK(BY37),\"\",COUNTIF(Scoresheet!CB:CB,BY37))","v":""}]
[null,null,null,{"$f":"IF(ISBLANK(A38),\"\",COUNTIF(Scoresheet!D:D,A38))","v":""},null,null,null,{"$f":"IF(ISBLANK(E38),\"\",COUNTIF(Scoresheet!H:H,E38))","v":""},null,null,null,{"$f":"IF(ISBLANK(I38),\"\",COUNTIF(Scoresheet!L:L,I38))","v":""},null,null,null,{"$f":"IF(ISBLANK(M38),\"\",COUNTIF(Scoresheet!P:P,M38))","v":""},null,null,null,{"$f":"IF(ISBLANK(Q38),\"\",COUNTIF(Scoresheet!T:T,Q38))","v":""},null,null,null,{"$f":"IF(ISBLANK(U38),\"\",COUNTIF(Scoresheet!X:X,U38))","v":""},null,null,null,{"$f":"IF(ISBLANK(Y38),\"\",COUNTIF(Scoresheet!AB:AB,Y38))","v":""},null,null,null,{"$f":"IF(ISBLANK(AC38),\"\",COUNTIF(Scoresheet!AF:AF,AC38))","v":""},null,null,null,{"$f":"IF(ISBLANK(AG38),\"\",COUNTIF(Scoresheet!AJ:AJ,AG38))","v":""},null,null,null,{"$f":"IF(ISBLANK(AK38),\"\",COUNTIF(Scoresheet!AN:AN,AK38))","v":""},null,null,null,{"$f":"IF(ISBLANK(AO38),\"\",COUNTIF(Scoresheet!AR:AR,AO38))","v":""},null,null,null,{"$f":"IF(ISBLANK(AS38),\"\",COUNTIF(Scoresheet!AV:AV,AS38))","v":""},null,null,null,{"$f":"IF(ISBLANK(AW38),\"\",COUNTIF(Scoresheet!AZ:AZ,AW38))","v":""},null,null,null,{"$f":"IF(ISBLANK(BA38),\"\",COUNTIF(Scoresheet!BD:BD,BA38))","v":""},null,null,null,{"$f":"IF(ISBLANK(BE38),\"\",COUNTIF(Scoresheet!BH:BH,BE38))","v":""},null,null,null,{"$f":"IF(ISBLANK(BI38),\"\",COUNTIF(Scoresheet!BL:BL,BI38))","v":""},null,null,null,{"$f":"IF(ISBLANK(BM38),\"\",COUNTIF(Scoresheet!BP:BP,BM38))","v":""},null,null,null,{"$f":"IF(ISBLANK(BQ38),\"\",COUNTIF(Scoresheet!BT:BT,BQ38))","v":""},null,null,null,{"$f":"IF(ISBLANK(BU38),\"\",COUNTIF(Scoresheet!BX:BX,BU38))","v":""},null,null,null,{"$f":"IF(ISBLANK(BY38),\"\",COUNTIF(Scoresheet!CB:CB,BY38))","v":""}]
[null,null,null,{"$f":"IF(ISBLANK(A39),\"\",COUNTIF(Scoresheet!D:D,A39))","v":""},null,null,null,{"$f":"IF(ISBLANK(E39),\"\",COUNTIF(Scoresheet!H:H,E39))","v":""},null,null,null,{"$f":"IF(ISBLANK(I39),\"\",COUNTIF(Scoresheet!L:L,I39))","v":""},null,null,null,{"$f":"IF(ISBLANK(M39),\"\",COUNTIF(Scoresheet!P:P,M39))","v":""},null,null,null,{"$f":"IF(ISBLANK(Q39),\"\",COUNTIF(Scoresheet!T:T,Q39))","v":""},null,null,null,{"$f":"IF(ISBLANK(U39),\"\",COUNTIF(Scoresheet!X:X,U39))","v":""},null,null,null,{"$f":"IF(ISBLANK(Y39),\"\",COUNTIF(Scoresheet!AB:AB,Y39))","v":""},null,null,null,{"$f":"IF(ISBLANK(AC39),\"\",COUNTIF(Scoresheet!AF:AF,AC39))","v":""},null,null,null,{"$f":"IF(ISBLANK(AG39),\"\",COUNTIF(Scoresheet!AJ:AJ,AG39))","v":""},null,null,null,{"$f":"IF(ISBLANK(AK39),\"\",COUNTIF(Scoresheet!AN:AN,AK39))","v":""},null,null,null,{"$f":"IF(ISBLANK(AO39),\"\",COUNTIF(Scoresheet!AR:AR,AO39))","v":""},null,null,null,{"$f":"IF(ISBLANK(AS39),\"\",COUNTIF(Scoresheet!AV:AV,AS39))","v":""},null,null,null,{"$f":"IF(ISBLANK(AW39),\"\",COUNTIF(Scoresheet!AZ:AZ,AW39))","v":""},null,null,null,{"$f":"IF(ISBLANK(BA39),\"\",COUNTIF(Scoresheet!BD:BD,BA39))","v":""},null,null,null,{"$f":"IF(ISBLANK(BE39),\"\",COUNTIF(Scoresheet!BH:BH,BE39))","v":""},null,null,null,{"$f":"IF(ISBLANK(BI39),\"\",COUNTIF(Scoresheet!BL:BL,BI39))","v":""},null,null,null,{"$f":"IF(ISBLANK(BM39),\"\",COUNTIF(Scoresheet!BP:BP,BM39))","v":""},null,null,null,{"$f":"IF(ISBLANK(BQ39),\"\",COUNTIF(Scoresheet!BT:BT,BQ39))","v":""},null,null,null,{"$f":"IF(ISBLANK(BU39),\"\",COUNTIF(Scoresheet!BX:BX,BU39))","v":""},null,null,null,{"$f":"IF(ISBLANK(BY39),\"\",COUNTIF(Scoresheet!CB:CB,BY39))","v":""}]
[null,null,null,{"$f":"IF(ISBLANK(A40),\"\",COUNTIF(Scoresheet!D:D,A40))","v":""},null,null,null,{"$f":"IF(ISBLANK(E40),\"\",COUNTIF(Scoresheet!H:H,E40))","v":""},null,null,null,{"$f":"IF(ISBLANK(I40),\"\",COUNTIF(Scoresheet!L:L,I40))","v":""},null,null,null,{"$f":"IF(ISBLANK(M40),\"\",COUNTIF(Scoresheet!P:P,M40))","v":""},null,null,null,{"$f":"IF(ISBLANK(Q40),\"\",COUNTIF(Scoresheet!T:T,Q40))","v":""},null,null,null,{"$f":"IF(ISBLANK(U40),\"\",COUNTIF(Scoresheet!X:X,U40))","v":""},null,null,null,{"$f":"IF(ISBLANK(Y40),\"\",COUNTIF(Scoresheet!AB:AB,Y40))","v":""},null,null,null,{"$f":"IF(ISBLANK(AC40),\"\",COUNTIF(Scoresheet!AF:AF,AC40))","v":""},null,null,null,{"$f":"IF(ISBLANK(AG40),\"\",COUNTIF(Scoresheet!AJ:AJ,AG40))","v":""},null,null,null,{"$f":"IF(ISBLANK(AK40),\"\",COUNTIF(Scoresheet!AN:AN,AK40))","v":""},null,null,null,{"$f":"IF(ISBLANK(AO40),\"\",COUNTIF(Scoresheet!AR:AR,AO40))","v":""},null,null,null,{"$f":"IF(ISBLANK(AS40),\"\",COUNTIF(Scoresheet!AV:AV,AS40))","v":""},null,null,null,{"$f":"IF(ISBLANK(AW40),\"\",COUNTIF(Scoresheet!AZ:AZ,AW40))","v":""},null,null,null,{"$f":"IF(ISBLANK(BA40),\"\",COUNTIF(Scoresheet!BD:BD,BA40))","v":""},null,null,null,{"$f":"IF(ISBLANK(BE40),\"\",COUNTIF(Scoresheet!BH:BH,BE40))","v":""},null,null,null,{"$f":"IF(ISBLANK(BI40),\"\",COUNTIF(Scoresheet!BL:BL,BI40))","v":""},null,null,null,{"$f":"IF(ISBLANK(BM40),\"\",COUNTIF(Scoresheet!BP:BP,BM40))","v":""},null,null,null,{"$f":"IF(ISBLANK(BQ40),\"\",COUNTIF(Scoresheet!BT:BT,BQ40))","v":""},null,null,null,{"$f":"IF(ISBLANK(BU40),\"\",COUNTIF(Scoresheet!BX:BX,BU40))","v":""},null,null,null,{"$f":"IF(ISBLANK(BY40),\"\",COUNTIF(Scoresheet!CB:CB,BY40))","v":""}]
[null,null,null,{"$f":"IF(ISBLANK(A41),\"\",COUNTIF(Scoresheet!D:D,A41))","v":""},null,null,null,{"$f":"IF(ISBLANK(E41),\"\",COUNTIF(Scoresheet!H:H,E41))","v":""},null,null,null,{"$f":"IF(ISBLANK(I41),\"\",COUNTIF(Scoresheet!L:L,I41))","v":""},null,null,null,{"$f":"IF(ISBLANK(M41),\"\",COUNTIF(Scoresheet!P:P,M41))","v":""},null,null,null,{"$f":"IF(ISBLANK(Q41),\"\",COUNTIF(Scoresheet!T:T,Q41))","v":""},null,null,null,{"$f":"IF(ISBLANK(U41),\"\",COUNTIF(Scoresheet!X:X,U41))","v":""},null,null,null,{"$f":"IF(ISBLANK(Y41),\"\",COUNTIF(Scoresheet!AB:AB,Y41))","v":""},null,null,null,{"$f":"IF(ISBLANK(AC41),\"\",COUNTIF(Scoresheet!AF:AF,AC41))","v":""},null,null,null,{"$f":"IF(ISBLANK(AG41),\"\",COUNTIF(Scoresheet!AJ:AJ,AG41))","v":""},null,null,null,{"$f":"IF(ISBLANK(AK41),\"\",COUNTIF(Scoresheet!AN:AN,AK41))","v":""},null,null,null,{"$f":"IF(ISBLANK(AO41),\"\",COUNTIF(Scoresheet!AR:AR,AO41))","v":""},null,null,null,{"$f":"IF(ISBLANK(AS41),\"\",COUNTIF(Scoresheet!AV:AV,AS41))","v":""},null,null,null,{"$f":"IF(ISBLANK(AW41),\"\",COUNTIF(Scoresheet!AZ:AZ,AW41))","v":""},null,null,null,{"$f":"IF(ISBLANK(BA41),\"\",COUNTIF(Scoresheet!BD:BD,BA41))","v":""},null,null,null,{"$f":"IF(ISBLANK(BE41),\"\",COUNTIF(Scoresheet!BH:BH,BE41))","v":""},null,null,null,{"$f":"IF(ISBLANK(BI41),\"\",COUNTIF(Scoresheet!BL:BL,BI41))","v":""},null,null,null,{"$f":"IF(ISBLANK(BM41),\"\",COUNTIF(Scoresheet!BP:BP,BM41))","v":""},null,null,null,{"$f":"IF(ISBLANK(BQ41),\"\",COUNTIF(Scoresheet!BT:BT,BQ41))","v":""},null,null,null,{"$f":"IF(ISBLANK(BU41),\"\",COUNTIF(Scoresheet!BX:BX,BU41))","v":""},null,null,null,{"$f":"IF(ISBLANK(BY41),\"\",COUNTIF(Scoresheet!CB:CB,BY41))","v":""}]
[null,null,null,{"$f":"IF(ISBLANK(A42),\"\",COUNTIF(Scoresheet!D:D,A42))","v":""},null,null,null,{"$f":"IF(ISBLANK(E42),\"\",COUNTIF(Scoresheet!H:H,E42))","v":""},null,null,null,{"$f":"IF(ISBLANK(I42),\"\",COUNTIF(Scoresheet!L:L,I42))","v":""},null,null,null,{"$f":"IF(ISBLANK(M42),\"\",COUNTIF(Scoresheet!P:P,M42))","v":""},null,null,null,{"$f":"IF(ISBLANK(Q42),\"\",COUNTIF(Scoresheet!T:T,Q42))","v":""},null,null,null,{"$f":"IF(ISBLANK(U42),\"\",COUNTIF(Scoresheet!X:X,U42))","v":""},null,null,null,{"$f":"IF(ISBLANK(Y42),\"\",COUNTIF(Scoresheet!AB:AB,Y42))","v":""},null,null,null,{"$f":"IF(ISBLANK(AC42),\"\",COUNTIF(Scoresheet!AF:AF,AC42))","v":""},null,null,null,{"$f":"IF(ISBLANK(AG42),\"\",COUNTIF(Scoresheet!AJ:AJ,AG42))","v":""},null,null,null,{"$f":"IF(ISBLANK(AK42),\"\",COUNTIF(Scoresheet!AN:AN,AK42))","v":""},null,null,null,{"$f":"IF(ISBLANK(AO42),\"\",COUNTIF(Scoresheet!AR:AR,AO42))","v":""},null,null,null,{"$f":"IF(ISBLANK(AS42),\"\",COUNTIF(Scoresheet!AV:AV,AS42))","v":""},null,null,null,{"$f":"IF(ISBLANK(AW42),\"\",COUNTIF(Scoresheet!AZ:AZ,AW42))","v":""},null,null,null,{"$f":"IF(ISBLANK(BA42),\"\",COUNTIF(Scoresheet!BD:BD,BA42))","v":""},null,null,null,{"$f":"IF(ISBLANK(BE42),\"\",COUNTIF(Scoresheet!BH:BH,BE42))","v":""},null,null,null,{"$f":"IF(ISBLANK(BI42),\"\",COUNTIF(Scoresheet!BL:BL,BI42))","v":""},null,null,null,{"$f":"IF(ISBLANK(BM42),\"\",COUNTIF(Scoresheet!BP:BP,BM42))","v":""},null,null,null,{"$f":"IF(ISBLANK(BQ42),\"\",COUNTIF(Scoresheet!BT:BT,BQ42))","v":""},null,null,null,{"$f":"IF(ISBLANK(BU42),\"\",COUNTIF(Scoresheet!BX:BX,BU42))","v":""},null,null,null,{"$f":"IF(ISBLANK(BY42),\"\",COUNTIF(Scoresheet!CB:CB,BY42))","v":""}]
[null,null,null,{"$f":"IF(ISBLANK(A43),\"\",COUNTIF(Scoresheet!D:D,A43))","v":""},null,null,null,{"$f":"IF(ISBLANK(E43),\"\",COUNTIF(Scoresheet!H:H,E43))","v":""},null,null,null,{"$f":"IF(ISBLANK(I43),\"\",COUNTIF(Scoresheet!L:L,I43))","v":""},null,null,null,{"$f":"IF(ISBLANK(M43),\"\",COUNTIF(Scoresheet!P:P,M43))","v":""},null,null,null,{"$f":"IF(ISBLANK(Q43),\"\",COUNTIF(Scoresheet!T:T,Q43))","v":""},null,null,null,{"$f":"IF(ISBLANK(U43),\"\",COUNTIF(Scoresheet!X:X,U43))","v":""},null,null,null,{"$f":"IF(ISBLANK(Y43),\"\",COUNTIF(Scoresheet!AB:AB,Y43))","v":""},null,null,null,{"$f":"IF(ISBLANK(AC43),\"\",COUNTIF(Scoresheet!AF:AF,AC43))","v":""},null,null,null,{"$f":"IF(ISBLANK(AG43),\"\",COUNTIF(Scoresheet!AJ:AJ,AG43))","v":""},null,null,null,{"$f":"IF(ISBLANK(AK43),\"\",COUNTIF(Scoresheet!AN:AN,AK43))","v":""},null,null,null,{"$f":"IF(ISBLANK(AO43),\"\",COUNTIF(Scoresheet!AR:AR,AO43))","v":""},null,null,null,{"$f":"IF(ISBLANK(AS43),\"\",COUNTIF(Scoresheet!AV:AV,AS43))","v":""},null,null,null,{"$f":"IF(ISBLANK(AW43),\"\",COUNTIF(Scoresheet!AZ:AZ,AW43))","v":""},null,null,null,{"$f":"IF(ISBLANK(BA43),\"\",COUNTIF(Scoresheet!BD:BD,BA43))","v":""},null,null,null,{"$f":"IF(ISBLANK(BE43),\"\",COUNTIF(Scoresheet!BH:BH,BE43))","v":""},null,null,null,{"$f":"IF(ISBLANK(BI43),\"\",COUNTIF(Scoresheet!BL:BL,BI43))","v":""},null,null,null,{"$f":"IF(ISBLANK(BM43),\"\",COUNTIF(Scoresheet!BP:BP,BM43))","v":""},null,null,null,{"$f":"IF(ISBLANK(BQ43),\"\",COUNTIF(Scoresheet!BT:BT,BQ43))","v":""},null,null,null,{"$f":"IF(ISBLANK(BU43),\"\",COUNTIF(Scoresheet!BX:BX,BU43))","v":""},null,null,null,{"$f":"IF(ISBLANK(BY43),\"\",COUNTIF(Scoresheet!CB:CB,BY43))","v":""}]
[null,null,null,{"$f":"IF(ISBLANK(A44),\"\",COUNTIF(Scoresheet!D:D,A44))","v":""},null,null,null,{"$f":"IF(ISBLANK(E44),\"\",COUNTIF(Scoresheet!H:H,E44))","v":""},null,null,null,{"$f":"IF(ISBLANK(I44),\"\",COUNTIF(Scoresheet!L:L,I44))","v":""},null,null,null,{"$f":"IF(ISBLANK(M44),\"\",COUNTIF(Scoresheet!P:P,M44))","v":""},null,null,null,{"$f":"IF(ISBLANK(Q44),\"\",COUNTIF(Scoresheet!T:T,Q44))","v":""},null,null,null,{"$f":"IF(ISBLANK(U44),\"\",COUNTIF(Scoresheet!X:X,U44))","v":""},null,null,null,{"$f":"IF(ISBLANK(Y44),\"\",COUNTIF(Scoresheet!AB:AB,Y44))","v":""},null,null,null,{"$f":"IF(ISBLANK(AC44),\"\",COUNTIF(Scoresheet!AF:AF,AC44))","v":""},null,null,null,{"$f":"IF(ISBLANK(AG44),\"\",COUNTIF(Scoresheet!AJ:AJ,AG44))","v":""},null,null,null,{"$f":"IF(ISBLANK(AK44),\"\",COUNTIF(Scoresheet!AN:AN,AK44))","v":""},null,null,null,{"$f":"IF(ISBLANK(AO44),\"\",COUNTIF(Scoresheet!AR:AR,AO44))","v":""},null,null,null,{"$f":"IF(ISBLANK(AS44),\"\",COUNTIF(Scoresheet!AV:AV,AS44))","v":""},null,null,null,{"$f":"IF(ISBLANK(AW44),\"\",COUNTIF(Scoresheet!AZ:AZ,AW44))","v":""},null,null,null,{"$f":"IF(ISBLANK(BA44),\"\",COUNTIF(Scoresheet!BD:BD,BA44))","v":""},null,null,null,{"$f":"IF(ISBLANK(BE44),\"\",COUNTIF(Scoresheet!BH:BH,BE44))","v":""},null,null,null,{"$f":"IF(ISBLANK(BI44),\"\",COUNTIF(Scoresheet!BL:BL,BI44))","v":""},null,null,null,{"$f":"IF(ISBLANK(BM44),\"\",COUNTIF(Scoresheet!BP:BP,BM44))","v":""},null,null,null,{"$f":"IF(ISBLANK(BQ44),\"\",COUNTIF(Scoresheet!BT:BT,BQ44))","v":""},null,null,null,{"$f":"IF(ISBLANK(BU44),\"\",COUNTIF(Scoresheet!BX:BX,BU44))","v":""},null,null,null,{"$f":"IF(ISBLANK(BY44),\"\",COUNTIF(Scoresheet!CB:CB,BY44))","v":""}]
[null,null,null,{"$f":"IF(ISBLANK(A45),\"\",COUNTIF(Scoresheet!D:D,A45))","v":""},null,null,null,{"$f":"IF(ISBLANK(E45),\"\",COUNTIF(Scoresheet!H:H,E45))","v":""},null,null,null,{"$f":"IF(ISBLANK(I45),\"\",COUNTIF(Scoresheet!L:L,I45))","v":""},null,null,null,{"$f":"IF(ISBLANK(M45),\"\",COUNTIF(Scoresheet!P:P,M45))","v":""},null,null,null,{"$f":"IF(ISBLANK(Q45),\"\",COUNTIF(Scoresheet!T:T,Q45))","v":""},null,null,null,{"$f":"IF(ISBLANK(U45),\"\",COUNTIF(Scoresheet!X:X,U45))","v":""},null,null,null,{"$f":"IF(ISBLANK(Y45),\"\",COUNTIF(Scoresheet!AB:AB,Y45))","v":""},null,null,null,{"$f":"IF(ISBLANK(AC45),\"\",COUNTIF(Scoresheet!AF:AF,AC45))","v":""},null,null,null,{"$f":"IF(ISBLANK(AG45),\"\",COUNTIF(Scoresheet!AJ:AJ,AG45))","v":""},null,null,null,{"$f":"IF(ISBLANK(AK45),\"\",COUNTIF(Scoresheet!AN:AN,AK45))","v":""},null,null,null,{"$f":"IF(ISBLANK(AO45),\"\",COUNTIF(Scoresheet!AR:AR,AO45))","v":""},null,null,null,{"$f":"IF(ISBLANK(AS45),\"\",COUNTIF(Scoresheet!AV:AV,AS45))","v":""},null,null,null,{"$f":"IF(ISBLANK(AW45),\"\",COUNTIF(Scoresheet!AZ:AZ,AW45))","v":""},null,null,null,{"$f":"IF(ISBLANK(BA45),\"\",COUNTIF(Scoresheet!BD:BD,BA45))","v":""},null,null,null,{"$f":"IF(ISBLANK(BE45),\"\",COUNTIF(Scoresheet!BH:BH,BE45))","v":""},null,null,null,{"$f":"IF(ISBLANK(BI45),\"\",COUNTIF(Scoresheet!BL:BL,BI45))","v":""},null,null,null,{"$f":"IF(ISBLANK(BM45),\"\",COUNTIF(Scoresheet!BP:BP,BM45))","v":""},null,null,null,{"$f":"IF(ISBLANK(BQ45),\"\",COUNTIF(Scoresheet!BT:BT,BQ45))","v":""},null,null,null,{"$f":"IF(ISBLANK(BU45),\"\",COUNTIF(Scoresheet!BX:BX,BU45))","v":""},null,null,null,{"$f":"IF(ISBLANK(BY45),\"\",COUNTIF(Scoresheet!CB:CB,BY45))","v":""}]

{"sheet":"Backup 2","index":3,"n_rows":43,"n_cols":64,"rows_kept":43,"cut":false,"hidden":true,"merged":[[0,1,0,3],[0,4,0,11],[0,12,0,23],[0,24,0,39],[0,40,0,59]]}
[null,"Question 1 – VP -> Prez",null,null,"Question 2 – Greek letters",null,null,null,null,null,null,null,"Question 3 – Shakepseare plays",null,null,null,null,null,null,null,null,null,null,null,"Question 4 – Best Pictures",null,null,null,null,null,null,null,null,null,null,null,null,null,null,null,"Question 5 – African countries",null,null,null,null,null,null,null,null,null,null,null,null,null,null,null,null,null,null,null,null,null,null,5]
["Player",3,"Resp","Total",2,"Resp","Pts","Total",4,"Resp","Pts","Total",1,"Resp","Pts","Total",3,"Resp","Pts","Total",5,"Resp","Pts","Total",0,"Resp","Pts","Total",2,"Resp","Pts","Total",4,"Resp","Pts","Total",6,"Resp","Pts","Total",-1,"Resp","Pts","Total",1,"Resp","Pts","Total",3,"Resp","Pts","Total",5,"Resp","Pts","Total",7,"Resp","Pts","Total"]
["kingrat47","Martin Van Buren",{"$f":"IF(B3=0,\"\",IF(NOT(ISNA(VLOOKUP(B3,Answers!$A$6:$D$39,2,FALSE))),VLOOKUP(B3,Answers!$A$6:$D$39,2,FALSE),\"Help!\"))","v":"Help!"},{"$f":"IF(C3=\"\",\"\",C3*B$2)","v":{"$error":"#VALUE!"}},"Phi",{"$f":"IF(E3=0,\"\",IF(NOT(ISNA(VLOOKUP(E3,Answers!#REF!,2,FALSE))),VLOOKUP(E3,Answers!#REF!,2,FALSE),\"Help!\"))","v":{"$error":"#REF!"}},{"$f":"IF(F3=\"\",\"\",F3*E$2)","v":{"$error":"#REF!"}},{"$f":"IF(G3=\"\",\"\",D3+G3)","v":{"$error":"#REF!"}},"zeta",{"$f":"IF(I3=0,\"\",IF(NOT(ISNA(VLOOKUP(I3,Answers!#REF!,2,FALSE))),VLOOKUP(I3,Answers!#REF!,2,FALSE),\"Help!\"))","v":{"$error":"#REF!"}},{"$f":"IF(J3=\"\",\"\",J3*I$2)","v":{"$error":"#REF!"}},{"$f":"IF(K3=\"\",\"\",H3+K3)","v":{"$error":"#REF!"}},"The Comedy of Errors",{"$f":"IF(M3=0,\"\",IF(NOT(ISNA(VLOOKUP(M3,Answers!#REF!,2,FALSE))),VLOOKUP(M3,Answers!#REF!,2,FALSE),\"Help!\"))","v":{"$error":"#REF!"}},{"$f":"IF(N3=\"\",\"\",N3*M$2)","v":{"$error":"#REF!"}},{"$f":"IF(O3=\"\",\"\",L3+O3)","v":{"$error":"#REF!"}},"Coriolanus",{"$f":"IF(Q3=0,\"\",IF(NOT(ISNA(VLOOKUP(Q3,Answers!#REF!,2,FALSE))),VLOOKUP(Q3,Answers!#REF!,2,FALSE),\"Help!\"))","v":{"$error":"#REF!"}},{"$f":"IF(R3=\"\",\"\",R3*Q$2)","v":{"$error":"#REF!"}},{"$f":"IF(S3=\"\",\"\",P3+S3)","v":{"$error":"#REF!"}},"King John",{"$f":"IF(U3=0,\"\",IF(NOT(ISNA(VLOOKUP(U3,Answers!#REF!,2,FALSE))),VLOOKUP(U3,Answers!#REF!,2,FALSE),\"Help!\"))","v":{"$error":"#REF!"}},{"$f":"IF(V3=\"\",\"\",V3*U$2)","v":{"$error":"#REF!"}},{"$f":"IF(W3=\"\",\"\",T3+W3)","v":{"$error":"#REF!"}},"No Country for Old Men",{"$f":"IF(Y3=0,\"\",IF(NOT(ISNA(VLOOKUP(Y3,Answers!#REF!,3,FALSE))),VLOOKUP(Y3,Answers!#REF!,3,FALSE),\"Help!\"))","v":{"$error":"#REF!"}},{"$f":"IF(Z3=\"\",\"\",Z3*Y$2)","v":{"$error":"#REF!"}},{"$f":"IF(AA3=\"\",\"\",X3+AA3)","v":{"$error":"#REF!"}},"How Green Was My Valley",{"$f":"IF(AC3=0,\"\",IF(NOT(ISNA(VLOOKUP(AC3,Answers!#REF!,3,FALSE))),VLOOKUP(AC3,Answers!#REF!,3,FALSE),\"Help!\"))","v":{"$error":"#REF!"}},{"$f":"IF(AD3=\"\",\"\",AD3*AC$2)","v":{"$error":"#REF!"}},{"$f":"IF(AE3=\"\",\"\",AB3+AE3)","v":{"$error":"#REF!"}},"Around the World In 80 Days",{"$f":"IF(AG3=0,\"\",IF(NOT(ISNA(VLOOKUP(AG3,Answers!#REF!,3,FALSE))),VLOOKUP(AG3,Answers!#REF!,3,FALSE),\"Help!\"))","v":{"$error":"#REF!"}},{"$f":"IF(AH3=\"\",\"\",AH3*AG$2)","v":{"$error":"#REF!"}},{"$f":"IF(AI3=\"\",\"\",AF3+AI3)","v":{"$error":"#REF!"}},"In The Heat of the Night",{"$f":"IF(AK3=0,\"\",IF(NOT(ISNA(VLOOKUP(AK3,Answers!#REF!,3,FALSE))),VLOOKUP(AK3,Answers!#REF!,3,FALSE),\"Help!\"))","v":{"$error":"#REF!"}},{"$f":"IF(AL3=\"\",\"\",AL3*AK$2)","v":{"$error":"#REF!"}},{"$f":"IF(AM3=\"\",\"\",AJ3+AM3)","v":{"$error":"#REF!"}},"South Africa",{"$f":"IF(AO3=0,\"\",IF(NOT(ISNA(VLOOKUP(AO3,Answers!#REF!,2,FALSE))),VLOOKUP(AO3,Answers!#REF!,2,FALSE),\"Help!\"))","v":{"$error":"#REF!"}},{"$f":"IF(AP3=\"\",\"\",AP3*AO$2)","v":{"$error":"#REF!"}},{"$f":"IF(AQ3=\"\",\"\",AN3+AQ3)","v":{"$error":"#REF!"}},"Malawi",{"$f":"IF(AS3=0,\"\",IF(NOT(ISNA(VLOOKUP(AS3,Answers!#REF!,2,FALSE))),VLOOKUP(AS3,Answers!#REF!,2,FALSE),\"Help!\"))","v":{"$error":"#REF!"}},{"$f":"IF(AT3=\"\",\"\",AT3*AS$2)","v":{"$error":"#REF!"}},{"$f":"IF(AU3=\"\",\"\",AR3+AU3)","v":{"$error":"#REF!"}},"Central African Republic",{"$f":"IF(AW3=0,\"\",IF(NOT(ISNA(VLOOKUP(AW3,Answers!#REF!,2,FALSE))),VLOOKUP(AW3,Answers!#REF!,2,FALSE),\"Help!\"))","v":{"$error":"#REF!"}},{"$f":"IF(AX3=\"\",\"\",AX3*AW$2)","v":{"$error":"#REF!"}},{"$f":"IF(AY3=\"\",\"\",AV3+AY3)","v":{"$error":"#REF!"}},"Eritrea",{"$f":"IF(BA3=0,\"\",IF(NOT(ISNA(VLOOKUP(BA3,Answers!#REF!,2,FALSE))),VLOOKUP(BA3,Answers!#REF!,2,FALSE),\"Help!\"))","v":{"$error":"#REF!"}},{"$f":"IF(BB3=\"\",\"\",BB3*BA$2)","v":{"$error":"#REF!"}},{"$f":"IF(BC3=\"\",\"\",AZ3+BC3)","v":{"$error":"#REF!"}},"Mauritania",{"$f":"IF(BE3=0,\"\",IF(NOT(ISNA(VLOOKUP(BE3,Answers!#REF!,2,FALSE))),VLOOKUP(BE3,Answers!#REF!,2,FALSE),\"Help!\"))","v":{"$error":"#REF!"}},{"$f":"IF(BF3=\"\",\"\",BF3*BE$2)","v":{"$error":"#REF!"}},{"$f":"IF(BG3=\"\",\"\",BD3+BG3)","v":{"$error":"#REF!"}},1,null,{"$f":"IF(INDEX($A:$BH,ROW(),1)=0,\"\",IF(INDEX($A:$BH,ROW(),4*$BL$1)=INDEX($A:$BH,ROW()-1,4*$BL$1),BK2,ROW()-2))","v":{"$error":"#REF!"}},{"$f":"IF(A3=0,\"\",CONCATENATE(BK3, \". \", INDEX($A:$BH,ROW(),1), \" — \", INDEX($A:$BH,ROW(),4*$BL$1-4), \" + \", INDEX($A:$BH,ROW(),4*$BL$1-1), \" = [b]\", INDEX($A:$BH,ROW(),4*$BL$1), \"[/b] pts (\", BK3-BI3, \")\"))","v":{"$error":"#REF!"}}]
["Rackme32","George H. W. Bush",{"$f":"IF(B4=0,\"\",IF(NOT(ISNA(VLOOKUP(B4,Answers!$A$6:$D$39,2,FALSE))),VLOOKUP(B4,Answers!$A$6:$D$39,2,FALSE),\"Help!\"))","v":"Help!"},{"$error":"#VALUE!"},"Beta",{"$f":"IF(E4=0,\"\",IF(NOT(ISNA(VLOOKUP(E4,Answers!#REF!,2,FALSE))),VLOOKUP(E4,Answers!#REF!,2,FALSE),\"Help!\"))","v":{"$error":"#REF!"}},{"$error":"#REF!"},{"$error":"#REF!"},"Omega",{"$f":"IF(I4=0,\"\",IF(NOT(ISNA(VLOOKUP(I4,Answers!#REF!,2,FALSE))),VLOOKUP(I4,Answers!#REF!,2,FALSE),\"Help!\"))","v":{"$error":"#REF!"}},{"$error":"#REF!"},{"$error":"#REF!"},"Henry V",{"$f":"IF(M4=0,\"\",IF(NOT(ISNA(VLOOKUP(M4,Answers!#REF!,2,FALSE))),VLOOKUP(M4,Answers!#REF!,2,FALSE),\"Help!\"))","v":{"$error":"#REF!"}},{"$error":"#REF!"},{"$error":"#REF!"},"Hamlet",{"$f":"IF(Q4=0,\"\",IF(NOT(ISNA(VLOOKUP(Q4,Answers!#REF!,2,FALSE))),VLOOKUP(Q4,Answers!#REF!,2,FALSE),\"Help!\"))","v":{"$error":"#REF!"}},{"$error":"#REF!"},{"$error":"#REF!"},"Troilus and Cressida",{"$f":"IF(U4=0,\"\",IF(NOT(ISNA(VLOOKUP(U4,Answers!#REF!,2,FALSE))),VLOOKUP(U4,Answers!#REF!,2,FALSE),\"Help!\"))","v":{"$error":"#REF!"}},{"$error":"#REF!"},{"$error":"#REF!"},"It Happened One Night",{"$f":"IF(Y4=0,\"\",IF(NOT(ISNA(VLOOKUP(Y4,Answers!#REF!,3,FALSE))),VLOOKUP(Y4,Answers!#REF!,3,FALSE),\"Help!\"))","v":{"$error":"#REF!"}},{"$error":"#REF!"},{"$error":"#REF!"},"Terms Of Endearment",{"$f":"IF(AC4=0,\"\",IF(NOT(ISNA(VLOOKUP(AC4,Answers!#REF!,3,FALSE))),VLOOKUP(AC4,Answers!#REF!,3,FALSE),\"Help!\"))","v":{"$error":"#REF!"}},{"$error":"#REF!"},{"$error":"#REF!"},"Driving Miss Daisy",{"$f":"IF(AG4=0,\"\",IF(NOT(ISNA(VLOOKUP(AG4,Answers!#REF!,3,FALSE))),VLOOKUP(AG4,Answers!#REF!,3,FALSE),\"Help!\"))","v":{"$error":"#REF!"}},{"$error":"#REF!"},{"$error":"#REF!"},"Going My Way",{"$f":"IF(AK4=0,\"\",IF(NOT(ISNA(VLOOKUP(AK4,Answers!#REF!,3,FALSE))),VLOOKUP(AK4,Answers!#REF!,3,FALSE),\"Help!\"))","v":{"$error":"#REF!"}},{"$error":"#REF!"},{"$error":"#REF!"},"Egypt",{"$f":"IF(AO4=0,\"\",IF(NOT(ISNA(VLOOKUP(AO4,Answers!#REF!,2,FALSE))),VLOOKUP(AO4,Answers!#REF!,2,FALSE),\"Help!\"))","v":{"$error":"#REF!"}},{"$error":"#REF!"},{"$error":"#REF!"},"Tunisia",{"$f":"IF(AS4=0,\"\",IF(NOT(ISNA(VLOOKUP(AS4,Answers!#REF!,2,FALSE))),VLOOKUP(AS4,Answers!#REF!,2,FALSE),\"Help!\"))","v":{"$error":"#REF!"}},{"$error":"#REF!"},{"$error":"#REF!"},"South Africa",{"$f":"IF(AW4=0,\"\",IF(NOT(ISNA(VLOOKUP(AW4,Answers!#REF!,2,FALSE))),VLOOKUP(AW4,Answers!#REF!,2,FALSE),\"Help!\"))","v":{"$error":"#REF!"}},{"$error":"#REF!"},{"$error":"#REF!"},"Tanzania",{"$f":"IF(BA4=0,\"\",IF(NOT(ISNA(VLOOKUP(BA4,Answers!#REF!,2,FALSE))),VLOOKUP(BA4,Answers!#REF!,2,FALSE),\"Help!\"))","v":{"$error":"#REF!"}},{"$error":"#REF!"},{"$error":"#REF!"},"Sierra Leone",{"$f":"IF(BE4=0,\"\",IF(NOT(ISNA(VLOOKUP(BE4,Answers!#REF!,2,FALSE))),VLOOKUP(BE4,Answers!#REF!,2,FALSE),\"Help!\"))","v":{"$error":"#REF!"}},{"$error":"#REF!"},{"$error":"#REF!"},2,null,{"$error":"#REF!"},{"$f":"IF(A4=0,\"\",CONCATENATE(BK4, \". \", INDEX($A:$BH,ROW(),1), \" — \", INDEX($A:$BH,ROW(),4*$BL$1-4), \" + \", INDEX($A:$BH,ROW(),4*$BL$1-1), \" = [b]\", INDEX($A:$BH,ROW(),4*$BL$1), \"[/b] pts (\", BK4-BI4, \")\"))","v":{"$error":"#REF!"}}]
["econgator","Richard Nixon",{"$f":"IF(B5=0,\"\",IF(NOT(ISNA(VLOOKUP(B5,Answers!$A$6:$D$39,2,FALSE))),VLOOKUP(B5,Answers!$A$6:$D$39,2,FALSE),\"Help!\"))","v":"Help!"},{"$error":"#VALUE!"},"Chi",{"$f":"IF(E5=0,\"\",IF(NOT(ISNA(VLOOKUP(E5,Answers!#REF!,2,FALSE))),VLOOKUP(E5,Answers!#REF!,2,FALSE),\"Help!\"))","v":{"$error":"#REF!"}},{"$error":"#REF!"},{"$error":"#REF!"},"Xi",{"$f":"IF(I5=0,\"\",IF(NOT(ISNA(VLOOKUP(I5,Answers!#REF!,2,FALSE))),VLOOKUP(I5,Answers!#REF!,2,FALSE),\"Help!\"))","v":{"$error":"#REF!"}},{"$error":"#REF!"},{"$error":"#REF!"},"Twelfth Night",{"$f":"IF(M5=0,\"\",IF(NOT(ISNA(VLOOKUP(M5,Answers!#REF!,2,FALSE))),VLOOKUP(M5,Answers!#REF!,2,FALSE),\"Help!\"))","v":{"$error":"#REF!"}},{"$error":"#REF!"},{"$error":"#REF!"},"A Midsummer Night's Dream",{"$f":"IF(Q5=0,\"\",IF(NOT(ISNA(VLOOKUP(Q5,Answers!#REF!,2,FALSE))),VLOOKUP(Q5,Answers!#REF!,2,FALSE),\"Help!\"))","v":{"$error":"#REF!"}},{"$error":"#REF!"},{"$error":"#REF!"},"Timon of Athens",{"$f":"IF(U5=0,\"\",IF(NOT(ISNA(VLOOKUP(U5,Answers!#REF!,2,FALSE))),VLOOKUP(U5,Answers!#REF!,2,FALSE),\"Help!\"))","v":{"$error":"#REF!"}},{"$error":"#REF!"},{"$error":"#REF!"},"Gone with the Wind",{"$f":"IF(Y5=0,\"\",IF(NOT(ISNA(VLOOKUP(Y5,Answers!#REF!,3,FALSE))),VLOOKUP(Y5,Answers!#REF!,3,FALSE),\"Help!\"))","v":{"$error":"#REF!"}},{"$error":"#REF!"},{"$error":"#REF!"},"The Silence of the Lambs",{"$f":"IF(AC5=0,\"\",IF(NOT(ISNA(VLOOKUP(AC5,Answers!#REF!,3,FALSE))),VLOOKUP(AC5,Answers!#REF!,3,FALSE),\"Help!\"))","v":{"$error":"#REF!"}},{"$error":"#REF!"},{"$error":"#REF!"},"Kramer vs. Kramer",{"$f":"IF(AG5=0,\"\",IF(NOT(ISNA(VLOOKUP(AG5,Answers!#REF!,3,FALSE))),VLOOKUP(AG5,Answers!#REF!,3,FALSE),\"Help!\"))","v":{"$error":"#REF!"}},{"$error":"#REF!"},{"$error":"#REF!"},"The Bridge on the River Kwai",{"$f":"IF(AK5=0,\"\",IF(NOT(ISNA(VLOOKUP(AK5,Answers!#REF!,3,FALSE))),VLOOKUP(AK5,Answers!#REF!,3,FALSE),\"Help!\"))","v":{"$error":"#REF!"}},{"$error":"#REF!"},{"$error":"#REF!"},"Egypt",{"$f":"IF(AO5=0,\"\",IF(NOT(ISNA(VLOOKUP(AO5,Answers!#REF!,2,FALSE))),VLOOKUP(AO5,Answers!#REF!,2,FALSE),\"Help!\"))","v":{"$error":"#REF!"}},{"$error":"#REF!"},{"$error":"#REF!"},"South Africa",{"$f":"IF(AS5=0,\"\",IF(NOT(ISNA(VLOOKUP(AS5,Answers!#REF!,2,FALSE))),VLOOKUP(AS5,Answers!#REF!,2,FALSE),\"Help!\"))","v":{"$error":"#REF!"}},{"$error":"#REF!"},{"$error":"#REF!"},"Zambia",{"$f":"IF(AW5=0,\"\",IF(NOT(ISNA(VLOOKUP(AW5,Answers!#REF!,2,FALSE))),VLOOKUP(AW5,Answers!#REF!,2,FALSE),\"Help!\"))","v":{"$error":"#REF!"}},{"$error":"#REF!"},{"$error":"#REF!"},"Democratic Republic of the Congo",{"$f":"IF(BA5=0,\"\",IF(NOT(ISNA(VLOOKUP(BA5,Answers!#REF!,2,FALSE))),VLOOKUP(BA5,Answers!#REF!,2,FALSE),\"Help!\"))","v":{"$error":"#REF!"}},{"$error":"#REF!"},{"$error":"#REF!"},"Ethiopia",{"$f":"IF(BE5=0,\"\",IF(NOT(ISNA(VLOOKUP(BE5,Answers!#REF!,2,FALSE))),VLOOKUP(BE5,Answers!#REF!,2,FALSE),\"Help!\"))","v":{"$error":"#REF!"}},{"$error":"#REF!"},{"$error":"#REF!"},3,null,{"$error":"#REF!"},{"$error":"#REF!"}]
["mennoknight","Richard Nixon",{"$f":"IF(B6=0,\"\",IF(NOT(ISNA(VLOOKUP(B6,Answers!$A$6:$D$39,2,FALSE))),VLOOKUP(B6,Answers!$A$6:$D$39,2,FALSE),\"Help!\"))","v":"Help!"},{"$error":"#VALUE!"},"Lambda",{"$f":"IF(E6=0,\"\",IF(NOT(ISNA(VLOOKUP(E6,Answers!#REF!,2,FALSE))),VLOOKUP(E6,Answers!#REF!,2,FALSE),\"Help!\"))","v":{"$error":"#REF!"}},{"$error":"#REF!"},{"$error":"#REF!"},"Epsilon",{"$f":"IF(I6=0,\"\",IF(NOT(ISNA(VLOOKUP(I6,Answers!#REF!,2,FALSE))),VLOOKUP(I6,Answers!#REF!,2,FALSE),\"Help!\"))","v":{"$error":"#REF!"}},{"$error":"#REF!"},{"$error":"#REF!"},"King Lear",{"$f":"IF(M6=0,\"\",IF(NOT(ISNA(VLOOKUP(M6,Answers!#REF!,2,FALSE))),VLOOKUP(M6,Answers!#REF!,2,FALSE),\"Help!\"))","v":{"$error":"#REF!"}},{"$error":"#REF!"},{"$error":"#REF!"},"Richard III",{"$f":"IF(Q6=0,\"\",IF(NOT(ISNA(VLOOKUP(Q6,Answers!#REF!,2,FALSE))),VLOOKUP(Q6,Answers!#REF!,2,FALSE),\"Help!\"))","v":{"$error":"#REF!"}},{"$error":"#REF!"},{"$error":"#REF!"},"Romeo and Juliet",{"$f":"IF(U6=0,\"\",IF(NOT(ISNA(VLOOKUP(U6,Answers!#REF!,2,FALSE))),VLOOKUP(U6,Answers!#REF!,2,FALSE),\"Help!\"))","v":{"$error":"#REF!"}},{"$error":"#REF!"},{"$error":"#REF!"},"One Flew Over the Cuckoo's Nest",{"$f":"IF(Y6=0,\"\",IF(NOT(ISNA(VLOOKUP(Y6,Answers!#REF!,3,FALSE))),VLOOKUP(Y6,Answers!#REF!,3,FALSE),\"Help!\"))","v":{"$error":"#REF!"}},{"$error":"#REF!"},{"$error":"#REF!"},"No Country for Old Men",{"$f":"IF(AC6=0,\"\",IF(NOT(ISNA(VLOOKUP(AC6,Answers!#REF!,3,FALSE))),VLOOKUP(AC6,Answers!#REF!,3,FALSE),\"Help!\"))","v":{"$error":"#REF!"}},{"$error":"#REF!"},{"$error":"#REF!"},"The King's Speech",{"$f":"IF(AG6=0,\"\",IF(NOT(ISNA(VLOOKUP(AG6,Answers!#REF!,3,FALSE))),VLOOKUP(AG6,Answers!#REF!,3,FALSE),\"Help!\"))","v":{"$error":"#REF!"}},{"$error":"#REF!"},{"$error":"#REF!"},"Terms of Endearment",{"$f":"IF(AK6=0,\"\",IF(NOT(ISNA(VLOOKUP(AK6,Answers!#REF!,3,FALSE))),VLOOKUP(AK6,Answers!#REF!,3,FALSE),\"Help!\"))","v":{"$error":"#REF!"}},{"$error":"#REF!"},{"$error":"#REF!"},"Egypt",{"$f":"IF(AO6=0,\"\",IF(NOT(ISNA(VLOOKUP(AO6,Answers!#REF!,2,FALSE))),VLOOKUP(AO6,Answers!#REF!,2,FALSE),\"Help!\"))","v":{"$error":"#REF!"}},{"$error":"#REF!"},{"$error":"#REF!"},"Lesotho",{"$f":"IF(AS6=0,\"\",IF(NOT(ISNA(VLOOKUP(AS6,Answers!#REF!,2,FALSE))),VLOOKUP(AS6,Answers!#REF!,2,FALSE),\"Help!\"))","v":{"$error":"#REF!"}},{"$error":"#REF!"},{"$error":"#REF!"},"Ghana",{"$f":"IF(AW6=0,\"\",IF(NOT(ISNA(VLOOKUP(AW6,Answers!#REF!,2,FALSE))),VLOOKUP(AW6,Answers!#REF!,2,FALSE),\"Help!\"))","v":{"$error":"#REF!"}},{"$error":"#REF!"},{"$error":"#REF!"},"Gambia",{"$f":"IF(BA6=0,\"\",IF(NOT(ISNA(VLOOKUP(BA6,Answers!#REF!,2,FALSE))),VLOOKUP(BA6,Answers!#REF!,2,FALSE),\"Help!\"))","v":{"$error":"#REF!"}},{"$error":"#REF!"},{"$error":"#REF!"},"Guinea-Bissau",{"$f":"IF(BE6=0,\"\",IF(NOT(ISNA(VLOOKUP(BE6,Answers!#REF!,2,FALSE))),VLOOKUP(BE6,Answers!#REF!,2,FALSE),\"Help!\"))","v":{"$error":"#REF!"}},{"$error":"#REF!"},{"$error":"#REF!"},{"$error":"#REF!"},null,{"$error":"#REF!"},{"$error":"#REF!"}]
["nightreign","John Tyler",{"$f":"IF(B7=0,\"\",IF(NOT(ISNA(VLOOKUP(B7,Answers!$A$6:$D$39,2,FALSE))),VLOOKUP(B7,Answers!$A$6:$D$39,2,FALSE),\"Help!\"))","v":"Help!"},{"$error":"#VALUE!"},"Pi",{"$f":"IF(E7=0,\"\",IF(NOT(ISNA(VLOOKUP(E7,Answers!#REF!,2,FALSE))),VLOOKUP(E7,Answers!#REF!,2,FALSE),\"Help!\"))","v":{"$error":"#REF!"}},{"$error":"#REF!"},{"$error":"#REF!"},"Alpha",{"$f":"IF(I7=0,\"\",IF(NOT(ISNA(VLOOKUP(I7,Answers!#REF!,2,FALSE))),VLOOKUP(I7,Answers!#REF!,2,FALSE),\"Help!\"))","v":{"$error":"#REF!"}},{"$error":"#REF!"},{"$error":"#REF!"},"The Tempest",{"$f":"IF(M7=0,\"\",IF(NOT(ISNA(VLOOKUP(M7,Answers!#REF!,2,FALSE))),VLOOKUP(M7,Answers!#REF!,2,FALSE),\"Help!\"))","v":{"$error":"#REF!"}},{"$error":"#REF!"},{"$error":"#REF!"},"Hamlet",{"$f":"IF(Q7=0,\"\",IF(NOT(ISNA(VLOOKUP(Q7,Answers!#REF!,2,FALSE))),VLOOKUP(Q7,Answers!#REF!,2,FALSE),\"Help!\"))","v":{"$error":"#REF!"}},{"$error":"#REF!"},{"$error":"#REF!"},"The Merchant of Venice",{"$f":"IF(U7=0,\"\",IF(NOT(ISNA(VLOOKUP(U7,Answers!#REF!,2,FALSE))),VLOOKUP(U7,Answers!#REF!,2,FALSE),\"Help!\"))","v":{"$error":"#REF!"}},{"$error":"#REF!"},{"$error":"#REF!"},"The Silence of the Lambs",{"$f":"IF(Y7=0,\"\",IF(NOT(ISNA(VLOOKUP(Y7,Answers!#REF!,3,FALSE))),VLOOKUP(Y7,Answers!#REF!,3,FALSE),\"Help!\"))","v":{"$error":"#REF!"}},{"$error":"#REF!"},{"$error":"#REF!"},"As Good As It Gets",{"$f":"Mainframe!$S$1","v":"Question 17"},{"$error":"#VALUE!"},{"$error":"#VALUE!"},"The Hurt Locker",{"$f":"IF(AG7=0,\"\",IF(NOT(ISNA(VLOOKUP(AG7,Answers!#REF!,3,FALSE))),VLOOKUP(AG7,Answers!#REF!,3,FALSE),\"Help!\"))","v":{"$error":"#REF!"}},{"$error":"#REF!"},{"$error":"#REF!"},"12 Years a Slave",{"$f":"IF(AK7=0,\"\",IF(NOT(ISNA(VLOOKUP(AK7,Answers!#REF!,3,FALSE))),VLOOKUP(AK7,Answers!#REF!,3,FALSE),\"Help!\"))","v":{"$error":"#REF!"}},{"$error":"#REF!"},{"$error":"#REF!"},"South Africa",{"$f":"IF(AO7=0,\"\",IF(NOT(ISNA(VLOOKUP(AO7,Answers!#REF!,2,FALSE))),VLOOKUP(AO7,Answers!#REF!,2,FALSE),\"Help!\"))","v":{"$error":"#REF!"}},{"$error":"#REF!"},{"$error":"#REF!"},"Democratic Republic of the Congo",{"$f":"IF(AS7=0,\"\",IF(NOT(ISNA(VLOOKUP(AS7,Answers!#REF!,2,FALSE))),VLOOKUP(AS7,Answers!#REF!,2,FALSE),\"Help!\"))","v":{"$error":"#REF!"}},{"$error":"#REF!"},{"$error":"#REF!"},"Lesotho",{"$f":"IF(AW7=0,\"\",IF(NOT(ISNA(VLOOKUP(AW7,Answers!#REF!,2,FALSE))),VLOOKUP(AW7,Answers!#REF!,2,FALSE),\"Help!\"))","v":{"$error":"#REF!"}},{"$error":"#REF!"},{"$error":"#REF!"},"Mali",{"$f":"IF(BA7=0,\"\",IF(NOT(ISNA(VLOOKUP(BA7,Answers!#REF!,2,FALSE))),VLOOKUP(BA7,Answers!#REF!,2,FALSE),\"Help!\"))","v":{"$error":"#REF!"}},{"$error":"#REF!"},{"$error":"#REF!"},"Swaziland",{"$f":"IF(BE7=0,\"\",IF(NOT(ISNA(VLOOKUP(BE7,Answers!#REF!,2,FALSE))),VLOOKUP(BE7,Answers!#REF!,2,FALSE),\"Help!\"))","v":{"$error":"#REF!"}},{"$error":"#REF!"},{"$error":"#REF!"},5,null,{"$error":"#REF!"},{"$error":"#REF!"}]
["hscer","Chester A. Arthur",{"$f":"IF(B8=0,\"\",IF(NOT(ISNA(VLOOKUP(B8,Answers!$A$6:$D$39,2,FALSE))),VLOOKUP(B8,Answers!$A$6:$D$39,2,FALSE),\"Help!\"))","v":"Help!"},{"$error":"#VALUE!"},"gamma",{"$f":"IF(E8=0,\"\",IF(NOT(ISNA(VLOOKUP(E8,Answers!#REF!,2,FALSE))),VLOOKUP(E8,Answers!#REF!,2,FALSE),\"Help!\"))","v":{"$error":"#REF!"}},{"$error":"#REF!"},{"$error":"#REF!"},"omicron",{"$f":"IF(I8=0,\"\",IF(NOT(ISNA(VLOOKUP(I8,Answers!#REF!,2,FALSE))),VLOOKUP(I8,Answers!#REF!,2,FALSE),\"Help!\"))","v":{"$error":"#REF!"}},{"$error":"#REF!"},{"$error":"#REF!"},"The Two Gentlemen of Verona",{"$f":"IF(M8=0,\"\",IF(NOT(ISNA(VLOOKUP(M8,Answers!#REF!,2,FALSE))),VLOOKUP(M8,Answers!#REF!,2,FALSE),\"Help!\"))","v":{"$error":"#REF!"}},{"$error":"#REF!"},{"$error":"#REF!"},"Titus Andronicus",{"$f":"IF(Q8=0,\"\",IF(NOT(ISNA(VLOOKUP(Q8,Answers!#REF!,2,FALSE))),VLOOKUP(Q8,Answers!#REF!,2,FALSE),\"Help!\"))","v":{"$error":"#REF!"}},{"$error":"#REF!"},{"$error":"#REF!"},"All's Well That Ends Well",{"$f":"IF(U8=0,\"\",IF(NOT(ISNA(VLOOKUP(U8,Answers!#REF!,2,FALSE))),VLOOKUP(U8,Answers!#REF!,2,FALSE),\"Help!\"))","v":{"$error":"#REF!"}},{"$error":"#REF!"},{"$error":"#REF!"},"Gone with the Wind",{"$f":"IF(Y8=0,\"\",IF(NOT(ISNA(VLOOKUP(Y8,Answers!#REF!,3,FALSE))),VLOOKUP(Y8,Answers!#REF!,3,FALSE),\"Help!\"))","v":{"$error":"#REF!"}},{"$error":"#REF!"},{"$error":"#REF!"},"All Quiet on the Western Front",{"$f":"IF(AC8=0,\"\",IF(NOT(ISNA(VLOOKUP(AC8,Answers!#REF!,3,FALSE))),VLOOKUP(AC8,Answers!#REF!,3,FALSE),\"Help!\"))","v":{"$error":"#REF!"}},{"$error":"#REF!"},{"$error":"#REF!"},"The Lord of the Rings: The Return of the King",{"$f":"IF(AG8=0,\"\",IF(NOT(ISNA(VLOOKUP(AG8,Answers!#REF!,3,FALSE))),VLOOKUP(AG8,Answers!#REF!,3,FALSE),\"Help!\"))","v":{"$error":"#REF!"}},{"$error":"#REF!"},{"$error":"#REF!"},"The Greatest Show on Earth",{"$f":"IF(AK8=0,\"\",IF(NOT(ISNA(VLOOKUP(AK8,Answers!#REF!,3,FALSE))),VLOOKUP(AK8,Answers!#REF!,3,FALSE),\"Help!\"))","v":{"$error":"#REF!"}},{"$error":"#REF!"},{"$error":"#REF!"},"South Africa",{"$f":"IF(AO8=0,\"\",IF(NOT(ISNA(VLOOKUP(AO8,Answers!#REF!,2,FALSE))),VLOOKUP(AO8,Answers!#REF!,2,FALSE),\"Help!\"))","v":{"$error":"#REF!"}},{"$error":"#REF!"},{"$error":"#REF!"},"South Sudan",{"$f":"IF(AS8=0,\"\",IF(NOT(ISNA(VLOOKUP(AS8,Answers!#REF!,2,FALSE))),VLOOKUP(AS8,Answers!#REF!,2,FALSE),\"Help!\"))","v":{"$error":"#REF!"}},{"$error":"#REF!"},{"$error":"#REF!"},"Sierra Leone",{"$f":"IF(AW8=0,\"\",IF(NOT(ISNA(VLOOKUP(AW8,Answers!#REF!,2,FALSE))),VLOOKUP(AW8,Answers!#REF!,2,FALSE),\"Help!\"))","v":{"$error":"#REF!"}},{"$error":"#REF!"},{"$error":"#REF!"},"Senegal",{"$f":"IF(BA8=0,\"\",IF(NOT(ISNA(VLOOKUP(BA8,Answers!#REF!,2,FALSE))),VLOOKUP(BA8,Answers!#REF!,2,FALSE),\"Help!\"))","v":{"$error":"#REF!"}},{"$error":"#REF!"},{"$error":"#REF!"},"Seychelles",{"$f":"IF(BE8=0,\"\",IF(NOT(ISNA(VLOOKUP(BE8,Answers!#REF!,2,FALSE))),VLOOKUP(BE8,Answers!#REF!,2,FALSE),\"Help!\"))","v":{"$error":"#REF!"}},{"$error":"#REF!"},{"$error":"#REF!"},6,null,{"$error":"#REF!"},{"$error":"#REF!"}]
["Paucle","Chester A. Arthur",{"$f":"IF(B9=0,\"\",IF(NOT(ISNA(VLOOKUP(B9,Answers!$A$6:$D$39,2,FALSE))),VLOOKUP(B9,Answers!$A$6:$D$39,2,FALSE),\"Help!\"))","v":"Help!"},{"$error":"#VALUE!"},"upsilon",{"$f":"IF(E9=0,\"\",IF(NOT(ISNA(VLOOKUP(E9,Answers!#REF!,2,FALSE))),VLOOKUP(E9,Answers!#REF!,2,FALSE),\"Help!\"))","v":{"$error":"#REF!"}},{"$error":"#REF!"},{"$error":"#REF!"},"epsilon",{"$f":"IF(I9=0,\"\",IF(NOT(ISNA(VLOOKUP(I9,Answers!#REF!,2,FALSE))),VLOOKUP(I9,Answers!#REF!,2,FALSE),\"Help!\"))","v":{"$error":"#REF!"}},{"$error":"#REF!"},{"$error":"#REF!"},"troilus and cressida",{"$f":"IF(M9=0,\"\",IF(NOT(ISNA(VLOOKUP(M9,Answers!#REF!,2,FALSE))),VLOOKUP(M9,Answers!#REF!,2,FALSE),\"Help!\"))","v":{"$error":"#REF!"}},{"$error":"#REF!"},{"$error":"#REF!"},"coriolanus",{"$f":"IF(Q9=0,\"\",IF(NOT(ISNA(VLOOKUP(Q9,Answers!#REF!,2,FALSE))),VLOOKUP(Q9,Answers!#REF!,2,FALSE),\"Help!\"))","v":{"$error":"#REF!"}},{"$error":"#REF!"},{"$error":"#REF!"},"HENRY VI, PART 2",{"$f":"IF(U9=0,\"\",IF(NOT(ISNA(VLOOKUP(U9,Answers!#REF!,2,FALSE))),VLOOKUP(U9,Answers!#REF!,2,FALSE),\"Help!\"))","v":{"$error":"#REF!"}},{"$error":"#REF!"},{"$error":"#REF!"},"all quiet on the western front",{"$f":"IF(Y9=0,\"\",IF(NOT(ISNA(VLOOKUP(Y9,Answers!#REF!,3,FALSE))),VLOOKUP(Y9,Answers!#REF!,3,FALSE),\"Help!\"))","v":{"$error":"#REF!"}},{"$error":"#REF!"},{"$error":"#REF!"},"the lost weekend",{"$f":"IF(AC9=0,\"\",IF(NOT(ISNA(VLOOKUP(AC9,Answers!#REF!,3,FALSE))),VLOOKUP(AC9,Answers!#REF!,3,FALSE),\"Help!\"))","v":{"$error":"#REF!"}},{"$error":"#REF!"},{"$error":"#REF!"},"an American in Paris",{"$f":"IF(AG9=0,\"\",IF(NOT(ISNA(VLOOKUP(AG9,Answers!#REF!,3,FALSE))),VLOOKUP(AG9,Answers!#REF!,3,FALSE),\"Help!\"))","v":{"$error":"#REF!"}},{"$error":"#REF!"},{"$error":"#REF!"},"all about eve",{"$f":"IF(AK9=0,\"\",IF(NOT(ISNA(VLOOKUP(AK9,Answers!#REF!,3,FALSE))),VLOOKUP(AK9,Answers!#REF!,3,FALSE),\"Help!\"))","v":{"$error":"#REF!"}},{"$error":"#REF!"},{"$error":"#REF!"},"egypt",{"$f":"IF(AO9=0,\"\",IF(NOT(ISNA(VLOOKUP(AO9,Answers!#REF!,2,FALSE))),VLOOKUP(AO9,Answers!#REF!,2,FALSE),\"Help!\"))","v":{"$error":"#REF!"}},{"$error":"#REF!"},{"$error":"#REF!"},"chad",{"$f":"IF(AS9=0,\"\",IF(NOT(ISNA(VLOOKUP(AS9,Answers!#REF!,2,FALSE))),VLOOKUP(AS9,Answers!#REF!,2,FALSE),\"Help!\"))","v":{"$error":"#REF!"}},{"$error":"#REF!"},{"$error":"#REF!"},"comoros",{"$f":"IF(AW9=0,\"\",IF(NOT(ISNA(VLOOKUP(AW9,Answers!#REF!,2,FALSE))),VLOOKUP(AW9,Answers!#REF!,2,FALSE),\"Help!\"))","v":{"$error":"#REF!"}},{"$error":"#REF!"},{"$error":"#REF!"},"benin",{"$f":"IF(BA9=0,\"\",IF(NOT(ISNA(VLOOKUP(BA9,Answers!#REF!,2,FALSE))),VLOOKUP(BA9,Answers!#REF!,2,FALSE),\"Help!\"))","v":{"$error":"#REF!"}},{"$error":"#REF!"},{"$error":"#REF!"},"Réunion",{"$f":"Mainframe!$S$1","v":"Question 17"},{"$error":"#VALUE!"},{"$error":"#VALUE!"},{"$error":"#REF!"},null,{"$error":"#REF!"},{"$error":"#REF!"}]
["Woof","Calvin Coolidge",{"$f":"IF(B10=0,\"\",IF(NOT(ISNA(VLOOKUP(B10,Answers!$A$6:$D$39,2,FALSE))),VLOOKUP(B10,Answers!$A$6:$D$39,2,FALSE),\"Help!\"))","v":"Help!"},{"$error":"#VALUE!"},"eta",{"$f":"IF(E10=0,\"\",IF(NOT(ISNA(VLOOKUP(E10,Answers!#REF!,2,FALSE))),VLOOKUP(E10,Answers!#REF!,2,FALSE),\"Help!\"))","v":{"$error":"#REF!"}},{"$error":"#REF!"},{"$error":"#REF!"},"upsilon",{"$f":"IF(I10=0,\"\",IF(NOT(ISNA(VLOOKUP(I10,Answers!#REF!,2,FALSE))),VLOOKUP(I10,Answers!#REF!,2,FALSE),\"Help!\"))","v":{"$error":"#REF!"}},{"$error":"#REF!"},{"$error":"#REF!"},"Measure for Measure",{"$f":"IF(M10=0,\"\",IF(NOT(ISNA(VLOOKUP(M10,Answers!#REF!,2,FALSE))),VLOOKUP(M10,Answers!#REF!,2,FALSE),\"Help!\"))","v":{"$error":"#REF!"}},{"$error":"#REF!"},{"$error":"#REF!"},"Henry VIII",{"$f":"IF(Q10=0,\"\",IF(NOT(ISNA(VLOOKUP(Q10,Answers!#REF!,2,FALSE))),VLOOKUP(Q10,Answers!#REF!,2,FALSE),\"Help!\"))","v":{"$error":"#REF!"}},{"$error":"#REF!"},{"$error":"#REF!"},"Julius Caesar",{"$f":"IF(U10=0,\"\",IF(NOT(ISNA(VLOOKUP(U10,Answers!#REF!,2,FALSE))),VLOOKUP(U10,Answers!#REF!,2,FALSE),\"Help!\"))","v":{"$error":"#REF!"}},{"$error":"#REF!"},{"$error":"#REF!"},"All Quiet on the Western Front",{"$f":"IF(Y10=0,\"\",IF(NOT(ISNA(VLOOKUP(Y10,Answers!#REF!,3,FALSE))),VLOOKUP(Y10,Answers!#REF!,3,FALSE),\"Help!\"))","v":{"$error":"#REF!"}},{"$error":"#REF!"},{"$error":"#REF!"},"The Lord of the Rings: The Return of the King",{"$f":"IF(AC10=0,\"\",IF(NOT(ISNA(VLOOKUP(AC10,Answers!#REF!,3,FALSE))),VLOOKUP(AC10,Answers!#REF!,3,FALSE),\"Help!\"))","v":{"$error":"#REF!"}},{"$error":"#REF!"},{"$error":"#REF!"},"How Green Was My Valley",{"$f":"IF(AG10=0,\"\",IF(NOT(ISNA(VLOOKUP(AG10,Answers!#REF!,3,FALSE))),VLOOKUP(AG10,Answers!#REF!,3,FALSE),\"Help!\"))","v":{"$error":"#REF!"}},{"$error":"#REF!"},{"$error":"#REF!"},"It Happened One Night",{"$f":"IF(AK10=0,\"\",IF(NOT(ISNA(VLOOKUP(AK10,Answers!#REF!,3,FALSE))),VLOOKUP(AK10,Answers!#REF!,3,FALSE),\"Help!\"))","v":{"$error":"#REF!"}},{"$error":"#REF!"},{"$error":"#REF!"},"SÃO TOMÉ AND PRÍNCIPE",{"$f":"IF(AO10=0,\"\",IF(NOT(ISNA(VLOOKUP(AO10,Answers!#REF!,2,FALSE))),VLOOKUP(AO10,Answers!#REF!,2,FALSE),\"Help!\"))","v":{"$error":"#REF!"}},{"$error":"#REF!"},{"$error":"#REF!"},"Benin",{"$f":"IF(AS10=0,\"\",IF(NOT(ISNA(VLOOKUP(AS10,Answers!#REF!,2,FALSE))),VLOOKUP(AS10,Answers!#REF!,2,FALSE),\"Help!\"))","v":{"$error":"#REF!"}},{"$error":"#REF!"},{"$error":"#REF!"},"Burundi",{"$f":"IF(AW10=0,\"\",IF(NOT(ISNA(VLOOKUP(AW10,Answers!#REF!,2,FALSE))),VLOOKUP(AW10,Answers!#REF!,2,FALSE),\"Help!\"))","v":{"$error":"#REF!"}},{"$error":"#REF!"},{"$error":"#REF!"},"Mozambique",{"$f":"IF(BA10=0,\"\",IF(NOT(ISNA(VLOOKUP(BA10,Answers!#REF!,2,FALSE))),VLOOKUP(BA10,Answers!#REF!,2,FALSE),\"Help!\"))","v":{"$error":"#REF!"}},{"$error":"#REF!"},{"$error":"#REF!"},"Togo",{"$f":"IF(BE10=0,\"\",IF(NOT(ISNA(VLOOKUP(BE10,Answers!#REF!,2,FALSE))),VLOOKUP(BE10,Answers!#REF!,2,FALSE),\"Help!\"))","v":{"$error":"#REF!"}},{"$error":"#REF!"},{"$error":"#REF!"},8,null,{"$error":"#REF!"},{"$error":"#REF!"}]
["ElendilPickle","John Adams",{"$f":"IF(B11=0,\"\",IF(NOT(ISNA(VLOOKUP(B11,Answers!$A$6:$D$39,2,FALSE))),VLOOKUP(B11,Answers!$A$6:$D$39,2,FALSE),\"Help!\"))","v":"Help!"},{"$error":"#VALUE!"},"eta",{"$f":"IF(E11=0,\"\",IF(NOT(ISNA(VLOOKUP(E11,Answers!#REF!,2,FALSE))),VLOOKUP(E11,Answers!#REF!,2,FALSE),\"Help!\"))","v":{"$error":"#REF!"}},{"$error":"#REF!"},{"$error":"#REF!"},"mu",{"$f":"IF(I11=0,\"\",IF(NOT(ISNA(VLOOKUP(I11,Answers!#REF!,2,FALSE))),VLOOKUP(I11,Answers!#REF!,2,FALSE),\"Help!\"))","v":{"$error":"#REF!"}},{"$error":"#REF!"},{"$error":"#REF!"},"Twelfth Night",{"$f":"IF(M11=0,\"\",IF(NOT(ISNA(VLOOKUP(M11,Answers!#REF!,2,FALSE))),VLOOKUP(M11,Answers!#REF!,2,FALSE),\"Help!\"))","v":{"$error":"#REF!"}},{"$error":"#REF!"},{"$error":"#REF!"},"Henry V",{"$f":"IF(Q11=0,\"\",IF(NOT(ISNA(VLOOKUP(Q11,Answers!#REF!,2,FALSE))),VLOOKUP(Q11,Answers!#REF!,2,FALSE),\"Help!\"))","v":{"$error":"#REF!"}},{"$error":"#REF!"},{"$error":"#REF!"},"Love's Labour's Lost",{"$f":"IF(U11=0,\"\",IF(NOT(ISNA(VLOOKUP(U11,Answers!#REF!,2,FALSE))),VLOOKUP(U11,Answers!#REF!,2,FALSE),\"Help!\"))","v":{"$error":"#REF!"}},{"$error":"#REF!"},{"$error":"#REF!"},"The Lord of the Rings: The Return of the King",{"$f":"IF(Y11=0,\"\",IF(NOT(ISNA(VLOOKUP(Y11,Answers!#REF!,3,FALSE))),VLOOKUP(Y11,Answers!#REF!,3,FALSE),\"Help!\"))","v":{"$error":"#REF!"}},{"$error":"#REF!"},{"$error":"#REF!"},"The Hurt Locker",{"$f":"IF(AC11=0,\"\",IF(NOT(ISNA(VLOOKUP(AC11,Answers!#REF!,3,FALSE))),VLOOKUP(AC11,Answers!#REF!,3,FALSE),\"Help!\"))","v":{"$error":"#REF!"}},{"$error":"#REF!"},{"$error":"#REF!"},"Gone With the Wind",{"$f":"IF(AG11=0,\"\",IF(NOT(ISNA(VLOOKUP(AG11,Answers!#REF!,3,FALSE))),VLOOKUP(AG11,Answers!#REF!,3,FALSE),\"Help!\"))","v":{"$error":"#REF!"}},{"$error":"#REF!"},{"$error":"#REF!"},"West Side Story",{"$f":"IF(AK11=0,\"\",IF(NOT(ISNA(VLOOKUP(AK11,Answers!#REF!,3,FALSE))),VLOOKUP(AK11,Answers!#REF!,3,FALSE),\"Help!\"))","v":{"$error":"#REF!"}},{"$error":"#REF!"},{"$error":"#REF!"},"Kenya",{"$f":"IF(AO11=0,\"\",IF(NOT(ISNA(VLOOKUP(AO11,Answers!#REF!,2,FALSE))),VLOOKUP(AO11,Answers!#REF!,2,FALSE),\"Help!\"))","v":{"$error":"#REF!"}},{"$error":"#REF!"},{"$error":"#REF!"},"Morocco",{"$f":"IF(AS11=0,\"\",IF(NOT(ISNA(VLOOKUP(AS11,Answers!#REF!,2,FALSE))),VLOOKUP(AS11,Answers!#REF!,2,FALSE),\"Help!\"))","v":{"$error":"#REF!"}},{"$error":"#REF!"},{"$error":"#REF!"},"Algeria",{"$f":"IF(AW11=0,\"\",IF(NOT(ISNA(VLOOKUP(AW11,Answers!#REF!,2,FALSE))),VLOOKUP(AW11,Answers!#REF!,2,FALSE),\"Help!\"))","v":{"$error":"#REF!"}},{"$error":"#REF!"},{"$error":"#REF!"},"South Africa",{"$f":"IF(BA11=0,\"\",IF(NOT(ISNA(VLOOKUP(BA11,Answers!#REF!,2,FALSE))),VLOOKUP(BA11,Answers!#REF!,2,FALSE),\"Help!\"))","v":{"$error":"#REF!"}},{"$error":"#REF!"},{"$error":"#REF!"},"Guinea-Bissau",{"$f":"IF(BE11=0,\"\",IF(NOT(ISNA(VLOOKUP(BE11,Answers!#REF!,2,FALSE))),VLOOKUP(BE11,Answers!#REF!,2,FALSE),\"Help!\"))","v":{"$error":"#REF!"}},{"$error":"#REF!"},{"$error":"#REF!"},9,null,{"$error":"#REF!"},{"$error":"#REF!"}]
["cougarslav","Harry S Truman",{"$f":"IF(B12=0,\"\",IF(NOT(ISNA(VLOOKUP(B12,Answers!$A$6:$D$39,2,FALSE))),VLOOKUP(B12,Answers!$A$6:$D$39,2,FALSE),\"Help!\"))","v":"Help!"},{"$error":"#VALUE!"},"eta",{"$f":"IF(E12=0,\"\",IF(NOT(ISNA(VLOOKUP(E12,Answers!#REF!,2,FALSE))),VLOOKUP(E12,Answers!#REF!,2,FALSE),\"Help!\"))","v":{"$error":"#REF!"}},{"$error":"#REF!"},{"$error":"#REF!"},"alpha",{"$f":"IF(I12=0,\"\",IF(NOT(ISNA(VLOOKUP(I12,Answers!#REF!,2,FALSE))),VLOOKUP(I12,Answers!#REF!,2,FALSE),\"Help!\"))","v":{"$error":"#REF!"}},{"$error":"#REF!"},{"$error":"#REF!"},"The Two Gentlemen of Verona",{"$f":"IF(M12=0,\"\",IF(NOT(ISNA(VLOOKUP(M12,Answers!#REF!,2,FALSE))),VLOOKUP(M12,Answers!#REF!,2,FALSE),\"Help!\"))","v":{"$error":"#REF!"}},{"$error":"#REF!"},{"$error":"#REF!"},"As You Like It",{"$f":"IF(Q12=0,\"\",IF(NOT(ISNA(VLOOKUP(Q12,Answers!#REF!,2,FALSE))),VLOOKUP(Q12,Answers!#REF!,2,FALSE),\"Help!\"))","v":{"$error":"#REF!"}},{"$error":"#REF!"},{"$error":"#REF!"},"The Tempest",{"$f":"IF(U12=0,\"\",IF(NOT(ISNA(VLOOKUP(U12,Answers!#REF!,2,FALSE))),VLOOKUP(U12,Answers!#REF!,2,FALSE),\"Help!\"))","v":{"$error":"#REF!"}},{"$error":"#REF!"},{"$error":"#REF!"},"The King's Speech",{"$f":"IF(Y12=0,\"\",IF(NOT(ISNA(VLOOKUP(Y12,Answers!#REF!,3,FALSE))),VLOOKUP(Y12,Answers!#REF!,3,FALSE),\"Help!\"))","v":{"$error":"#REF!"}},{"$error":"#REF!"},{"$error":"#REF!"},"12 Years a Slave",{"$f":"IF(AC12=0,\"\",IF(NOT(ISNA(VLOOKUP(AC12,Answers!#REF!,3,FALSE))),VLOOKUP(AC12,Answers!#REF!,3,FALSE),\"Help!\"))","v":{"$error":"#REF!"}},{"$error":"#REF!"},{"$error":"#REF!"},"Around the World in 80 Days",{"$f":"IF(AG12=0,\"\",IF(NOT(ISNA(VLOOKUP(AG12,Answers!#REF!,3,FALSE))),VLOOKUP(AG12,Answers!#REF!,3,FALSE),\"Help!\"))","v":{"$error":"#REF!"}},{"$error":"#REF!"},{"$error":"#REF!"},"The Life of Emile Zola",{"$f":"IF(AK12=0,\"\",IF(NOT(ISNA(VLOOKUP(AK12,Answers!#REF!,3,FALSE))),VLOOKUP(AK12,Answers!#REF!,3,FALSE),\"Help!\"))","v":{"$error":"#REF!"}},{"$error":"#REF!"},{"$error":"#REF!"},"Cameroon",{"$f":"IF(AO12=0,\"\",IF(NOT(ISNA(VLOOKUP(AO12,Answers!#REF!,2,FALSE))),VLOOKUP(AO12,Answers!#REF!,2,FALSE),\"Help!\"))","v":{"$error":"#REF!"}},{"$error":"#REF!"},{"$error":"#REF!"},"Eritrea",{"$f":"IF(AS12=0,\"\",IF(NOT(ISNA(VLOOKUP(AS12,Answers!#REF!,2,FALSE))),VLOOKUP(AS12,Answers!#REF!,2,FALSE),\"Help!\"))","v":{"$error":"#REF!"}},{"$error":"#REF!"},{"$error":"#REF!"},"Zambia",{"$f":"IF(AW12=0,\"\",IF(NOT(ISNA(VLOOKUP(AW12,Answers!#REF!,2,FALSE))),VLOOKUP(AW12,Answers!#REF!,2,FALSE),\"Help!\"))","v":{"$error":"#REF!"}},{"$error":"#REF!"},{"$error":"#REF!"},"Kenya",{"$f":"IF(BA12=0,\"\",IF(NOT(ISNA(VLOOKUP(BA12,Answers!#REF!,2,FALSE))),VLOOKUP(BA12,Answers!#REF!,2,FALSE),\"Help!\"))","v":{"$error":"#REF!"}},{"$error":"#REF!"},{"$error":"#REF!"},"Togo",{"$f":"IF(BE12=0,\"\",IF(NOT(ISNA(VLOOKUP(BE12,Answers!#REF!,2,FALSE))),VLOOKUP(BE12,Answers!#REF!,2,FALSE),\"Help!\"))","v":{"$error":"#REF!"}},{"$error":"#REF!"},{"$error":"#REF!"},10,null,{"$error":"#REF!"},{"$error":"#REF!"}]
["Creed Bratton","Richard Nixon",{"$f":"IF(B13=0,\"\",IF(NOT(ISNA(VLOOKUP(B13,Answers!$A$6:$D$39,2,FALSE))),VLOOKUP(B13,Answers!$A$6:$D$39,2,FALSE),\"Help!\"))","v":"Help!"},{"$error":"#VALUE!"},"gamma",{"$f":"IF(E13=0,\"\",IF(NOT(ISNA(VLOOKUP(E13,Answers!#REF!,2,FALSE))),VLOOKUP(E13,Answers!#REF!,2,FALSE),\"Help!\"))","v":{"$error":"#REF!"}},{"$error":"#REF!"},{"$error":"#REF!"},"rho",{"$f":"IF(I13=0,\"\",IF(NOT(ISNA(VLOOKUP(I13,Answers!#REF!,2,FALSE))),VLOOKUP(I13,Answers!#REF!,2,FALSE),\"Help!\"))","v":{"$error":"#REF!"}},{"$error":"#REF!"},{"$error":"#REF!"},"King Lear",{"$f":"IF(M13=0,\"\",IF(NOT(ISNA(VLOOKUP(M13,Answers!#REF!,2,FALSE))),VLOOKUP(M13,Answers!#REF!,2,FALSE),\"Help!\"))","v":{"$error":"#REF!"}},{"$error":"#REF!"},{"$error":"#REF!"},"A Midsummer Night's Dream",{"$f":"IF(Q13=0,\"\",IF(NOT(ISNA(VLOOKUP(Q13,Answers!#REF!,2,FALSE))),VLOOKUP(Q13,Answers!#REF!,2,FALSE),\"Help!\"))","v":{"$error":"#REF!"}},{"$error":"#REF!"},{"$error":"#REF!"},"The Tempest",{"$f":"IF(U13=0,\"\",IF(NOT(ISNA(VLOOKUP(U13,Answers!#REF!,2,FALSE))),VLOOKUP(U13,Answers!#REF!,2,FALSE),\"Help!\"))","v":{"$error":"#REF!"}},{"$error":"#REF!"},{"$error":"#REF!"},"The Lord of the Rings: The Return of the King",{"$f":"IF(Y13=0,\"\",IF(NOT(ISNA(VLOOKUP(Y13,Answers!#REF!,3,FALSE))),VLOOKUP(Y13,Answers!#REF!,3,FALSE),\"Help!\"))","v":{"$error":"#REF!"}},{"$error":"#REF!"},{"$error":"#REF!"},"Gone with the Wind",{"$f":"IF(AC13=0,\"\",IF(NOT(ISNA(VLOOKUP(AC13,Answers!#REF!,3,FALSE))),VLOOKUP(AC13,Answers!#REF!,3,FALSE),\"Help!\"))","v":{"$error":"#REF!"}},{"$error":"#REF!"},{"$error":"#REF!"},"The Godfather Part II",{"$f":"IF(AG13=0,\"\",IF(NOT(ISNA(VLOOKUP(AG13,Answers!#REF!,3,FALSE))),VLOOKUP(AG13,Answers!#REF!,3,FALSE),\"Help!\"))","v":{"$error":"#REF!"}},{"$error":"#REF!"},{"$error":"#REF!"},"Chariots of Fire",{"$f":"IF(AK13=0,\"\",IF(NOT(ISNA(VLOOKUP(AK13,Answers!#REF!,3,FALSE))),VLOOKUP(AK13,Answers!#REF!,3,FALSE),\"Help!\"))","v":{"$error":"#REF!"}},{"$error":"#REF!"},{"$error":"#REF!"},"Egypt",{"$f":"IF(AO13=0,\"\",IF(NOT(ISNA(VLOOKUP(AO13,Answers!#REF!,2,FALSE))),VLOOKUP(AO13,Answers!#REF!,2,FALSE),\"Help!\"))","v":{"$error":"#REF!"}},{"$error":"#REF!"},{"$error":"#REF!"},"Benin",{"$f":"IF(AS13=0,\"\",IF(NOT(ISNA(VLOOKUP(AS13,Answers!#REF!,2,FALSE))),VLOOKUP(AS13,Answers!#REF!,2,FALSE),\"Help!\"))","v":{"$error":"#REF!"}},{"$error":"#REF!"},{"$error":"#REF!"},"Burkina Faso",{"$f":"IF(AW13=0,\"\",IF(NOT(ISNA(VLOOKUP(AW13,Answers!#REF!,2,FALSE))),VLOOKUP(AW13,Answers!#REF!,2,FALSE),\"Help!\"))","v":{"$error":"#REF!"}},{"$error":"#REF!"},{"$error":"#REF!"},"Togo",{"$f":"IF(BA13=0,\"\",IF(NOT(ISNA(VLOOKUP(BA13,Answers!#REF!,2,FALSE))),VLOOKUP(BA13,Answers!#REF!,2,FALSE),\"Help!\"))","v":{"$error":"#REF!"}},{"$error":"#REF!"},{"$error":"#REF!"},"Chad",{"$f":"IF(BE13=0,\"\",IF(NOT(ISNA(VLOOKUP(BE13,Answers!#REF!,2,FALSE))),VLOOKUP(BE13,Answers!#REF!,2,FALSE),\"Help!\"))","v":{"$error":"#REF!"}},{"$error":"#REF!"},{"$error":"#REF!"},11,null,{"$error":"#REF!"},{"$error":"#REF!"}]
["bkburner","John Tyler",{"$f":"IF(B14=0,\"\",IF(NOT(ISNA(VLOOKUP(B14,Answers!$A$6:$D$39,2,FALSE))),VLOOKUP(B14,Answers!$A$6:$D$39,2,FALSE),\"Help!\"))","v":"Help!"},{"$error":"#VALUE!"},"Eta",{"$f":"IF(E14=0,\"\",IF(NOT(ISNA(VLOOKUP(E14,Answers!#REF!,2,FALSE))),VLOOKUP(E14,Answers!#REF!,2,FALSE),\"Help!\"))","v":{"$error":"#REF!"}},{"$error":"#REF!"},{"$error":"#REF!"},"Omicron",{"$f":"IF(I14=0,\"\",IF(NOT(ISNA(VLOOKUP(I14,Answers!#REF!,2,FALSE))),VLOOKUP(I14,Answers!#REF!,2,FALSE),\"Help!\"))","v":{"$error":"#REF!"}},{"$error":"#REF!"},{"$error":"#REF!"},"The Two Gentlemen of Verona",{"$f":"IF(M14=0,\"\",IF(NOT(ISNA(VLOOKUP(M14,Answers!#REF!,2,FALSE))),VLOOKUP(M14,Answers!#REF!,2,FALSE),\"Help!\"))","v":{"$error":"#REF!"}},{"$error":"#REF!"},{"$error":"#REF!"},"As You Like It",{"$f":"IF(Q14=0,\"\",IF(NOT(ISNA(VLOOKUP(Q14,Answers!#REF!,2,FALSE))),VLOOKUP(Q14,Answers!#REF!,2,FALSE),\"Help!\"))","v":{"$error":"#REF!"}},{"$error":"#REF!"},{"$error":"#REF!"},"Richard II",{"$f":"IF(U14=0,\"\",IF(NOT(ISNA(VLOOKUP(U14,Answers!#REF!,2,FALSE))),VLOOKUP(U14,Answers!#REF!,2,FALSE),\"Help!\"))","v":{"$error":"#REF!"}},{"$error":"#REF!"},{"$error":"#REF!"},"Gone With The Wind",{"$f":"IF(Y14=0,\"\",IF(NOT(ISNA(VLOOKUP(Y14,Answers!#REF!,3,FALSE))),VLOOKUP(Y14,Answers!#REF!,3,FALSE),\"Help!\"))","v":{"$error":"#REF!"}},{"$error":"#REF!"},{"$error":"#REF!"},"Slumdog Millionaire",{"$f":"Mainframe!$S$1","v":"Question 17"},{"$error":"#VALUE!"},{"$error":"#VALUE!"},"Lawrence of Arabia",{"$f":"IF(AG14=0,\"\",IF(NOT(ISNA(VLOOKUP(AG14,Answers!#REF!,3,FALSE))),VLOOKUP(AG14,Answers!#REF!,3,FALSE),\"Help!\"))","v":{"$error":"#REF!"}},{"$error":"#REF!"},{"$error":"#REF!"},"Terms of Endearment",{"$f":"IF(AK14=0,\"\",IF(NOT(ISNA(VLOOKUP(AK14,Answers!#REF!,3,FALSE))),VLOOKUP(AK14,Answers!#REF!,3,FALSE),\"Help!\"))","v":{"$error":"#REF!"}},{"$error":"#REF!"},{"$error":"#REF!"},"South Africa",{"$f":"IF(AO14=0,\"\",IF(NOT(ISNA(VLOOKUP(AO14,Answers!#REF!,2,FALSE))),VLOOKUP(AO14,Answers!#REF!,2,FALSE),\"Help!\"))","v":{"$error":"#REF!"}},{"$error":"#REF!"},{"$error":"#REF!"},"Ethiopia",{"$f":"IF(AS14=0,\"\",IF(NOT(ISNA(VLOOKUP(AS14,Answers!#REF!,2,FALSE))),VLOOKUP(AS14,Answers!#REF!,2,FALSE),\"Help!\"))","v":{"$error":"#REF!"}},{"$error":"#REF!"},{"$error":"#REF!"},"Senegal",{"$f":"IF(AW14=0,\"\",IF(NOT(ISNA(VLOOKUP(AW14,Answers!#REF!,2,FALSE))),VLOOKUP(AW14,Answers!#REF!,2,FALSE),\"Help!\"))","v":{"$error":"#REF!"}},{"$error":"#REF!"},{"$error":"#REF!"},"Guinea-Bissau",{"$f":"IF(BA14=0,\"\",IF(NOT(ISNA(VLOOKUP(BA14,Answers!#REF!,2,FALSE))),VLOOKUP(BA14,Answers!#REF!,2,FALSE),\"Help!\"))","v":{"$error":"#REF!"}},{"$error":"#REF!"},{"$error":"#REF!"},"Malawi",{"$f":"IF(BE14=0,\"\",IF(NOT(ISNA(VLOOKUP(BE14,Answers!#REF!,2,FALSE))),VLOOKUP(BE14,Answers!#REF!,2,FALSE),\"Help!\"))","v":{"$error":"#REF!"}},{"$error":"#REF!"},{"$error":"#REF!"},12,null,{"$error":"#REF!"},{"$error":"#REF!"}]
["gamawire","Theodore Roosevelt",{"$f":"IF(B15=0,\"\",IF(NOT(ISNA(VLOOKUP(B15,Answers!$A$6:$D$39,2,FALSE))),VLOOKUP(B15,Answers!$A$6:$D$39,2,FALSE),\"Help!\"))","v":"Help!"},{"$error":"#VALUE!"},"Rho",{"$f":"IF(E15=0,\"\",IF(NOT(ISNA(VLOOKUP(E15,Answers!#REF!,2,FALSE))),VLOOKUP(E15,Answers!#REF!,2,FALSE),\"Help!\"))","v":{"$error":"#REF!"}},{"$error":"#REF!"},{"$error":"#REF!"},"Psi",{"$f":"IF(I15=0,\"\",IF(NOT(ISNA(VLOOKUP(I15,Answers!#REF!,2,FALSE))),VLOOKUP(I15,Answers!#REF!,2,FALSE),\"Help!\"))","v":{"$error":"#REF!"}},{"$error":"#REF!"},{"$error":"#REF!"},"The Tempest",{"$f":"IF(M15=0,\"\",IF(NOT(ISNA(VLOOKUP(M15,Answers!#REF!,2,FALSE))),VLOOKUP(M15,Answers!#REF!,2,FALSE),\"Help!\"))","v":{"$error":"#REF!"}},{"$error":"#REF!"},{"$error":"#REF!"},"Twelfth Night",{"$f":"IF(Q15=0,\"\",IF(NOT(ISNA(VLOOKUP(Q15,Answers!#REF!,2,FALSE))),VLOOKUP(Q15,Answers!#REF!,2,FALSE),\"Help!\"))","v":{"$error":"#REF!"}},{"$error":"#REF!"},{"$error":"#REF!"},"Love's Labour's Lost",{"$f":"IF(U15=0,\"\",IF(NOT(ISNA(VLOOKUP(U15,Answers!#REF!,2,FALSE))),VLOOKUP(U15,Answers!#REF!,2,FALSE),\"Help!\"))","v":{"$error":"#REF!"}},{"$error":"#REF!"},{"$error":"#REF!"},"Gone with the Wind",{"$f":"IF(Y15=0,\"\",IF(NOT(ISNA(VLOOKUP(Y15,Answers!#REF!,3,FALSE))),VLOOKUP(Y15,Answers!#REF!,3,FALSE),\"Help!\"))","v":{"$error":"#REF!"}},{"$error":"#REF!"},{"$error":"#REF!"},"Dances with Wolves",{"$f":"IF(AC15=0,\"\",IF(NOT(ISNA(VLOOKUP(AC15,Answers!#REF!,3,FALSE))),VLOOKUP(AC15,Answers!#REF!,3,FALSE),\"Help!\"))","v":{"$error":"#REF!"}},{"$error":"#REF!"},{"$error":"#REF!"},"The Blind Side",{"$f":"Mainframe!$S$1","v":"Question 17"},{"$error":"#VALUE!"},{"$error":"#VALUE!"},"Million Dollar Baby",{"$f":"IF(AK15=0,\"\",IF(NOT(ISNA(VLOOKUP(AK15,Answers!#REF!,3,FALSE))),VLOOKUP(AK15,Answers!#REF!,3,FALSE),\"Help!\"))","v":{"$error":"#REF!"}},{"$error":"#REF!"},{"$error":"#REF!"},"Egypt",{"$f":"IF(AO15=0,\"\",IF(NOT(ISNA(VLOOKUP(AO15,Answers!#REF!,2,FALSE))),VLOOKUP(AO15,Answers!#REF!,2,FALSE),\"Help!\"))","v":{"$error":"#REF!"}},{"$error":"#REF!"},{"$error":"#REF!"},"South Africa",{"$f":"IF(AS15=0,\"\",IF(NOT(ISNA(VLOOKUP(AS15,Answers!#REF!,2,FALSE))),VLOOKUP(AS15,Answers!#REF!,2,FALSE),\"Help!\"))","v":{"$error":"#REF!"}},{"$error":"#REF!"},{"$error":"#REF!"},"Kenya",{"$f":"IF(AW15=0,\"\",IF(NOT(ISNA(VLOOKUP(AW15,Answers!#REF!,2,FALSE))),VLOOKUP(AW15,Answers!#REF!,2,FALSE),\"Help!\"))","v":{"$error":"#REF!"}},{"$error":"#REF!"},{"$error":"#REF!"},"Namibia",{"$f":"IF(BA15=0,\"\",IF(NOT(ISNA(VLOOKUP(BA15,Answers!#REF!,2,FALSE))),VLOOKUP(BA15,Answers!#REF!,2,FALSE),\"Help!\"))","v":{"$error":"#REF!"}},{"$error":"#REF!"},{"$error":"#REF!"},"Nigeria",{"$f":"IF(BE15=0,\"\",IF(NOT(ISNA(VLOOKUP(BE15,Answers!#REF!,2,FALSE))),VLOOKUP(BE15,Answers!#REF!,2,FALSE),\"Help!\"))","v":{"$error":"#REF!"}},{"$error":"#REF!"},{"$error":"#REF!"},{"$error":"#REF!"},null,{"$error":"#REF!"},{"$error":"#REF!"}]
["Magna","Theodore Roosevelt",{"$f":"IF(B16=0,\"\",IF(NOT(ISNA(VLOOKUP(B16,Answers!$A$6:$D$39,2,FALSE))),VLOOKUP(B16,Answers!$A$6:$D$39,2,FALSE),\"Help!\"))","v":"Help!"},{"$error":"#VALUE!"},"rho",{"$f":"IF(E16=0,\"\",IF(NOT(ISNA(VLOOKUP(E16,Answers!#REF!,2,FALSE))),VLOOKUP(E16,Answers!#REF!,2,FALSE),\"Help!\"))","v":{"$error":"#REF!"}},{"$error":"#REF!"},{"$error":"#REF!"},"psi",{"$f":"IF(I16=0,\"\",IF(NOT(ISNA(VLOOKUP(I16,Answers!#REF!,2,FALSE))),VLOOKUP(I16,Answers!#REF!,2,FALSE),\"Help!\"))","v":{"$error":"#REF!"}},{"$error":"#REF!"},{"$error":"#REF!"},"Measure for Measure",{"$f":"IF(M16=0,\"\",IF(NOT(ISNA(VLOOKUP(M16,Answers!#REF!,2,FALSE))),VLOOKUP(M16,Answers!#REF!,2,FALSE),\"Help!\"))","v":{"$error":"#REF!"}},{"$error":"#REF!"},{"$error":"#REF!"},"The Two Gentlemen of Verona",{"$f":"IF(Q16=0,\"\",IF(NOT(ISNA(VLOOKUP(Q16,Answers!#REF!,2,FALSE))),VLOOKUP(Q16,Answers!#REF!,2,FALSE),\"Help!\"))","v":{"$error":"#REF!"}},{"$error":"#REF!"},{"$error":"#REF!"},"Troilus and Cressida",{"$f":"IF(U16=0,\"\",IF(NOT(ISNA(VLOOKUP(U16,Answers!#REF!,2,FALSE))),VLOOKUP(U16,Answers!#REF!,2,FALSE),\"Help!\"))","v":{"$error":"#REF!"}},{"$error":"#REF!"},{"$error":"#REF!"},"All About Eve",{"$f":"IF(Y16=0,\"\",IF(NOT(ISNA(VLOOKUP(Y16,Answers!#REF!,3,FALSE))),VLOOKUP(Y16,Answers!#REF!,3,FALSE),\"Help!\"))","v":{"$error":"#REF!"}},{"$error":"#REF!"},{"$error":"#REF!"},"One Flew Over the Cuckoo's Nest",{"$f":"IF(AC16=0,\"\",IF(NOT(ISNA(VLOOKUP(AC16,Answers!#REF!,3,FALSE))),VLOOKUP(AC16,Answers!#REF!,3,FALSE),\"Help!\"))","v":{"$error":"#REF!"}},{"$error":"#REF!"},{"$error":"#REF!"},"The Greatest Show on Earth",{"$f":"IF(AG16=0,\"\",IF(NOT(ISNA(VLOOKUP(AG16,Answers!#REF!,3,FALSE))),VLOOKUP(AG16,Answers!#REF!,3,FALSE),\"Help!\"))","v":{"$error":"#REF!"}},{"$error":"#REF!"},{"$error":"#REF!"},"The Lost Weekend",{"$f":"IF(AK16=0,\"\",IF(NOT(ISNA(VLOOKUP(AK16,Answers!#REF!,3,FALSE))),VLOOKUP(AK16,Answers!#REF!,3,FALSE),\"Help!\"))","v":{"$error":"#REF!"}},{"$error":"#REF!"},{"$error":"#REF!"},"Ethiopia",{"$f":"IF(AO16=0,\"\",IF(NOT(ISNA(VLOOKUP(AO16,Answers!#REF!,2,FALSE))),VLOOKUP(AO16,Answers!#REF!,2,FALSE),\"Help!\"))","v":{"$error":"#REF!"}},{"$error":"#REF!"},{"$error":"#REF!"},"Egypt",{"$f":"IF(AS16=0,\"\",IF(NOT(ISNA(VLOOKUP(AS16,Answers!#REF!,2,FALSE))),VLOOKUP(AS16,Answers!#REF!,2,FALSE),\"Help!\"))","v":{"$error":"#REF!"}},{"$error":"#REF!"},{"$error":"#REF!"},"Central African Republic",{"$f":"IF(AW16=0,\"\",IF(NOT(ISNA(VLOOKUP(AW16,Answers!#REF!,2,FALSE))),VLOOKUP(AW16,Answers!#REF!,2,FALSE),\"Help!\"))","v":{"$error":"#REF!"}},{"$error":"#REF!"},{"$error":"#REF!"},"Namibia",{"$f":"IF(BA16=0,\"\",IF(NOT(ISNA(VLOOKUP(BA16,Answers!#REF!,2,FALSE))),VLOOKUP(BA16,Answers!#REF!,2,FALSE),\"Help!\"))","v":{"$error":"#REF!"}},{"$error":"#REF!"},{"$error":"#REF!"},"Gabon",{"$f":"IF(BE16=0,\"\",IF(NOT(ISNA(VLOOKUP(BE16,Answers!#REF!,2,FALSE))),VLOOKUP(BE16,Answers!#REF!,2,FALSE),\"Help!\"))","v":{"$error":"#REF!"}},{"$error":"#REF!"},{"$error":"#REF!"},{"$error":"#REF!"},null,{"$error":"#REF!"},{"$error":"#REF!"}]
["dnbguy","Calvin Coolidge",{"$f":"IF(B17=0,\"\",IF(NOT(ISNA(VLOOKUP(B17,Answers!$A$6:$D$39,2,FALSE))),VLOOKUP(B17,Answers!$A$6:$D$39,2,FALSE),\"Help!\"))","v":"Help!"},{"$error":"#VALUE!"},"eta",{"$f":"IF(E17=0,\"\",IF(NOT(ISNA(VLOOKUP(E17,Answers!#REF!,2,FALSE))),VLOOKUP(E17,Answers!#REF!,2,FALSE),\"Help!\"))","v":{"$error":"#REF!"}},{"$error":"#REF!"},{"$error":"#REF!"},"mu",{"$f":"IF(I17=0,\"\",IF(NOT(ISNA(VLOOKUP(I17,Answers!#REF!,2,FALSE))),VLOOKUP(I17,Answers!#REF!,2,FALSE),\"Help!\"))","v":{"$error":"#REF!"}},{"$error":"#REF!"},{"$error":"#REF!"},"The Tempest",{"$f":"IF(M17=0,\"\",IF(NOT(ISNA(VLOOKUP(M17,Answers!#REF!,2,FALSE))),VLOOKUP(M17,Answers!#REF!,2,FALSE),\"Help!\"))","v":{"$error":"#REF!"}},{"$error":"#REF!"},{"$error":"#REF!"},"Titus Andronicus",{"$f":"IF(Q17=0,\"\",IF(NOT(ISNA(VLOOKUP(Q17,Answers!#REF!,2,FALSE))),VLOOKUP(Q17,Answers!#REF!,2,FALSE),\"Help!\"))","v":{"$error":"#REF!"}},{"$error":"#REF!"},{"$error":"#REF!"},"Troilus and Cressida",{"$f":"IF(U17=0,\"\",IF(NOT(ISNA(VLOOKUP(U17,Answers!#REF!,2,FALSE))),VLOOKUP(U17,Answers!#REF!,2,FALSE),\"Help!\"))","v":{"$error":"#REF!"}},{"$error":"#REF!"},{"$error":"#REF!"},"Saving Private Ryan",{"$f":"Mainframe!$S$1","v":"Question 17"},{"$error":"#VALUE!"},{"$error":"#VALUE!"},"The Hurt Locker",{"$f":"IF(AC17=0,\"\",IF(NOT(ISNA(VLOOKUP(AC17,Answers!#REF!,3,FALSE))),VLOOKUP(AC17,Answers!#REF!,3,FALSE),\"Help!\"))","v":{"$error":"#REF!"}},{"$error":"#REF!"},{"$error":"#REF!"},"From Here to Eternity",{"$f":"IF(AG17=0,\"\",IF(NOT(ISNA(VLOOKUP(AG17,Answers!#REF!,3,FALSE))),VLOOKUP(AG17,Answers!#REF!,3,FALSE),\"Help!\"))","v":{"$error":"#REF!"}},{"$error":"#REF!"},{"$error":"#REF!"},"Dances with Wolves",{"$f":"IF(AK17=0,\"\",IF(NOT(ISNA(VLOOKUP(AK17,Answers!#REF!,3,FALSE))),VLOOKUP(AK17,Answers!#REF!,3,FALSE),\"Help!\"))","v":{"$error":"#REF!"}},{"$error":"#REF!"},{"$error":"#REF!"},"Egypt",{"$f":"IF(AO17=0,\"\",IF(NOT(ISNA(VLOOKUP(AO17,Answers!#REF!,2,FALSE))),VLOOKUP(AO17,Answers!#REF!,2,FALSE),\"Help!\"))","v":{"$error":"#REF!"}},{"$error":"#REF!"},{"$error":"#REF!"},"Comoros",{"$f":"IF(AS17=0,\"\",IF(NOT(ISNA(VLOOKUP(AS17,Answers!#REF!,2,FALSE))),VLOOKUP(AS17,Answers!#REF!,2,FALSE),\"Help!\"))","v":{"$error":"#REF!"}},{"$error":"#REF!"},{"$error":"#REF!"},"Mauritania",{"$f":"IF(AW17=0,\"\",IF(NOT(ISNA(VLOOKUP(AW17,Answers!#REF!,2,FALSE))),VLOOKUP(AW17,Answers!#REF!,2,FALSE),\"Help!\"))","v":{"$error":"#REF!"}},{"$error":"#REF!"},{"$error":"#REF!"},"Mauritius",{"$f":"IF(BA17=0,\"\",IF(NOT(ISNA(VLOOKUP(BA17,Answers!#REF!,2,FALSE))),VLOOKUP(BA17,Answers!#REF!,2,FALSE),\"Help!\"))","v":{"$error":"#REF!"}},{"$error":"#REF!"},{"$error":"#REF!"},"Benin",{"$f":"IF(BE17=0,\"\",IF(NOT(ISNA(VLOOKUP(BE17,Answers!#REF!,2,FALSE))),VLOOKUP(BE17,Answers!#REF!,2,FALSE),\"Help!\"))","v":{"$error":"#REF!"}},{"$error":"#REF!"},{"$error":"#REF!"},15,null,{"$error":"#REF!"},{"$error":"#REF!"}]
[]
[{"$f":"Mainframe!B17","v":0},{"$f":"Mainframe!C17","v":0},{"$f":"IF(B19=0,\"\",IF(NOT(ISNA(VLOOKUP(B19,Answers!$A$6:$D$39,2,FALSE))),VLOOKUP(B19,Answers!$A$6:$D$39,2,FALSE),\"Help!\"))","v":""},{"$f":"IF(C19=\"\",\"\",C19*B$2)","v":""},{"$f":"Mainframe!D17","v":0},{"$f":"IF(E19=0,\"\",IF(NOT(ISNA(VLOOKUP(E19,Answers!#REF!,2,FALSE))),VLOOKUP(E19,Answers!#REF!,2,FALSE),\"Help!\"))","v":""},{"$f":"IF(F19=\"\",\"\",F19*E$2)","v":""},{"$f":"IF(G19=\"\",\"\",D19+G19)","v":""},{"$f":"Mainframe!E17","v":0},{"$f":"IF(I19=0,\"\",IF(NOT(ISNA(VLOOKUP(I19,Answers!#REF!,2,FALSE))),VLOOKUP(I19,Answers!#REF!,2,FALSE),\"Help!\"))","v":""},{"$f":"IF(J19=\"\",\"\",J19*I$2)","v":""},{"$f":"IF(K19=\"\",\"\",H19+K19)","v":""},{"$f":"Mainframe!F17","v":0},{"$f":"IF(M19=0,\"\",IF(NOT(ISNA(VLOOKUP(M19,Answers!#REF!,2,FALSE))),VLOOKUP(M19,Answers!#REF!,2,FALSE),\"Help!\"))","v":""},{"$f":"IF(N19=\"\",\"\",N19*M$2)","v":""},{"$f":"IF(O19=\"\",\"\",L19+O19)","v":""},{"$f":"Mainframe!G17","v":0},{"$f":"IF(Q19=0,\"\",IF(NOT(ISNA(VLOOKUP(Q19,Answers!#REF!,2,FALSE))),VLOOKUP(Q19,Answers!#REF!,2,FALSE),\"Help!\"))","v":""},{"$f":"IF(R19=\"\",\"\",R19*Q$2)","v":""},{"$f":"IF(S19=\"\",\"\",P19+S19)","v":""},{"$f":"Mainframe!H17","v":0},{"$f":"IF(U19=0,\"\",IF(NOT(ISNA(VLOOKUP(U19,Answers!#REF!,2,FALSE))),VLOOKUP(U19,Answers!#REF!,2,FALSE),\"Help!\"))","v":""},{"$f":"IF(V19=\"\",\"\",V19*U$2)","v":""},{"$f":"IF(W19=\"\",\"\",T19+W19)","v":""},{"$f":"Mainframe!I17","v":0},{"$f":"IF(Y19=0,\"\",IF(NOT(ISNA(VLOOKUP(Y19,Answers!#REF!,3,FALSE))),VLOOKUP(Y19,Answers!#REF!,3,FALSE),\"Help!\"))","v":""},{"$f":"IF(Z19=\"\",\"\",Z19*Y$2)","v":""},{"$f":"IF(AA19=\"\",\"\",X19+AA19)","v":""},{"$f":"Mainframe!J17","v":0},{"$f":"IF(AC19=0,\"\",IF(NOT(ISNA(VLOOKUP(AC19,Answers!#REF!,3,FALSE))),VLOOKUP(AC19,Answers!#REF!,3,FALSE),\"Help!\"))","v":""},{"$f":"IF(AD19=\"\",\"\",AD19*AC$2)","v":""},{"$f":"IF(AE19=\"\",\"\",AB19+AE19)","v":""},{"$f":"Mainframe!K17","v":0},{"$f":"IF(AG19=0,\"\",IF(NOT(ISNA(VLOOKUP(AG19,Answers!#REF!,3,FALSE))),VLOOKUP(AG19,Answers!#REF!,3,FALSE),\"Help!\"))","v":""},{"$f":"IF(AH19=\"\",\"\",AH19*AG$2)","v":""},{"$f":"IF(AI19=\"\",\"\",AF19+AI19)","v":""},{"$f":"Mainframe!L17","v":0},{"$f":"IF(AK19=0,\"\",IF(NOT(ISNA(VLOOKUP(AK19,Answers!#REF!,3,FALSE))),VLOOKUP(AK19,Answers!#REF!,3,FALSE),\"Help!\"))","v":""},{"$f":"IF(AL19=\"\",\"\",AL19*AK$2)","v":""},{"$f":"IF(AM19=\"\",\"\",AJ19+AM19)","v":""},{"$f":"Mainframe!M17","v":0},{"$f":"IF(AO19=0,\"\",IF(NOT(ISNA(VLOOKUP(AO19,Answers!#REF!,2,FALSE))),VLOOKUP(AO19,Answers!#REF!,2,FALSE),\"Help!\"))","v":""},{"$f":"IF(AP19=\"\",\"\",AP19*AO$2)","v":""},{"$f":"IF(AQ19=\"\",\"\",AN19+AQ19)","v":""},{"$f":"Mainframe!N17","v":0},{"$f":"IF(AS19=0,\"\",IF(NOT(ISNA(VLOOKUP(AS19,Answers!#REF!,2,FALSE))),VLOOKUP(AS19,Answers!#REF!,2,FALSE),\"Help!\"))","v":""},{"$f":"IF(AT19=\"\",\"\",AT19*AS$2)","v":""},{"$f":"IF(AU19=\"\",\"\",AR19+AU19)","v":""},{"$f":"Mainframe!O17","v":0},{"$f":"IF(AW19=0,\"\",IF(NOT(ISNA(VLOOKUP(AW19,Answers!#REF!,2,FALSE))),VLOOKUP(AW19,Answers!#REF!,2,FALSE),\"Help!\"))","v":""},{"$f":"IF(AX19=\"\",\"\",AX19*AW$2)","v":""},{"$f":"IF(AY19=\"\",\"\",AV19+AY19)","v":""},{"$f":"Mainframe!P17","v":0},{"$f":"IF(BA19=0,\"\",IF(NOT(ISNA(VLOOKUP(BA19,Answers!#REF!,2,FALSE))),VLOOKUP(BA19,Answers!#REF!,2,FALSE),\"Help!\"))","v":""},{"$f":"IF(BB19=\"\",\"\",BB19*BA$2)","v":""},{"$f":"IF(BC19=\"\",\"\",AZ19+BC19)","v":""},{"$f":"Mainframe!Q17","v":0},{"$f":"IF(BE19=0,\"\",IF(NOT(ISNA(VLOOKUP(BE19,Answers!#REF!,2,FALSE))),VLOOKUP(BE19,Answers!#REF!,2,FALSE),\"Help!\"))","v":""},{"$f":"IF(BF19=\"\",\"\",BF19*BE$2)","v":""},{"$f":"IF(BG19=\"\",\"\",BD19+BG19)","v":""},"",null,{"$f":"IF(INDEX($A:$BH,ROW(),1)=0,\"\",IF(INDEX($A:$BH,ROW(),4*$BL$1)=INDEX($A:$BH,ROW()-1,4*$BL$1),BK17,ROW()-2))","v":""},{"$f":"IF(A19=0,\"\",CONCATENATE(BK19, \". \", INDEX($A:$BH,ROW(),1), \" — \", INDEX($A:$BH,ROW(),4*$BL$1-4), \" + \", INDEX($A:$BH,ROW(),4*$BL$1-1), \" = [b]\", INDEX($A:$BH,ROW(),4*$BL$1), \"[/b] pts (\", BJ19, \")\"))","v":""}]
[{"$f":"Mainframe!B18","v":0},{"$f":"Mainframe!C18","v":0},{"$f":"IF(B20=0,\"\",IF(NOT(ISNA(VLOOKUP(B20,Answers!$A$6:$D$39,2,FALSE))),VLOOKUP(B20,Answers!$A$6:$D$39,2,FALSE),\"Help!\"))","v":""},"",{"$f":"Mainframe!D18","v":0},{"$f":"IF(E20=0,\"\",IF(NOT(ISNA(VLOOKUP(E20,Answers!#REF!,2,FALSE))),VLOOKUP(E20,Answers!#REF!,2,FALSE),\"Help!\"))","v":""},"","",{"$f":"Mainframe!E18","v":0},{"$f":"IF(I20=0,\"\",IF(NOT(ISNA(VLOOKUP(I20,Answers!#REF!,2,FALSE))),VLOOKUP(I20,Answers!#REF!,2,FALSE),\"Help!\"))","v":""},"","",{"$f":"Mainframe!F18","v":0},{"$f":"IF(M20=0,\"\",IF(NOT(ISNA(VLOOKUP(M20,Answers!#REF!,2,FALSE))),VLOOKUP(M20,Answers!#REF!,2,FALSE),\"Help!\"))","v":""},"","",{"$f":"Mainframe!G18","v":0},{"$f":"IF(Q20=0,\"\",IF(NOT(ISNA(VLOOKUP(Q20,Answers!#REF!,2,FALSE))),VLOOKUP(Q20,Answers!#REF!,2,FALSE),\"Help!\"))","v":""},"","",{"$f":"Mainframe!H18","v":0},{"$f":"IF(U20=0,\"\",IF(NOT(ISNA(VLOOKUP(U20,Answers!#REF!,2,FALSE))),VLOOKUP(U20,Answers!#REF!,2,FALSE),\"Help!\"))","v":""},"","",{"$f":"Mainframe!I18","v":0},{"$f":"IF(Y20=0,\"\",IF(NOT(ISNA(VLOOKUP(Y20,Answers!#REF!,3,FALSE))),VLOOKUP(Y20,Answers!#REF!,3,FALSE),\"Help!\"))","v":""},"","",{"$f":"Mainframe!J18","v":0},{"$f":"IF(AC20=0,\"\",IF(NOT(ISNA(VLOOKUP(AC20,Answers!#REF!,3,FALSE))),VLOOKUP(AC20,Answers!#REF!,3,FALSE),\"Help!\"))","v":""},"","",{"$f":"Mainframe!K18","v":0},{"$f":"IF(AG20=0,\"\",IF(NOT(ISNA(VLOOKUP(AG20,Answers!#REF!,3,FALSE))),VLOOKUP(AG20,Answers!#REF!,3,FALSE),\"Help!\"))","v":""},"","",{"$f":"Mainframe!L18","v":0},{"$f":"IF(AK20=0,\"\",IF(NOT(ISNA(VLOOKUP(AK20,Answers!#REF!,3,FALSE))),VLOOKUP(AK20,Answers!#REF!,3,FALSE),\"Help!\"))","v":""},"","",{"$f":"Mainframe!M18","v":0},{"$f":"IF(AO20=0,\"\",IF(NOT(ISNA(VLOOKUP(AO20,Answers!#REF!,2,FALSE))),VLOOKUP(AO20,Answers!#REF!,2,FALSE),\"Help!\"))","v":""},"","",{"$f":"Mainframe!N18","v":0},{"$f":"IF(AS20=0,\"\",IF(NOT(ISNA(VLOOKUP(AS20,Answers!#REF!,2,FALSE))),VLOOKUP(AS20,Answers!#REF!,2,FALSE),\"Help!\"))","v":""},"","",{"$f":"Mainframe!O18","v":0},{"$f":"IF(AW20=0,\"\",IF(NOT(ISNA(VLOOKUP(AW20,Answers!#REF!,2,FALSE))),VLOOKUP(AW20,Answers!#REF!,2,FALSE),\"Help!\"))","v":""},"","",{"$f":"Mainframe!P18","v":0},{"$f":"IF(BA20=0,\"\",IF(NOT(ISNA(VLOOKUP(BA20,Answers!#REF!,2,FALSE))),VLOOKUP(BA20,Answers!#REF!,2,FALSE),\"Help!\"))","v":""},"","",{"$f":"Mainframe!Q18","v":0},{"$f":"IF(BE20=0,\"\",IF(NOT(ISNA(VLOOKUP(BE20,Answers!#REF!,2,FALSE))),VLOOKUP(BE20,Answers!#REF!,2,FALSE),\"Help!\"))","v":""},"","","",null,{"$f":"IF(INDEX($A:$BH,ROW(),1)=0,\"\",IF(INDEX($A:$BH,ROW(),4*$BL$1)=INDEX($A:$BH,ROW()-1,4*$BL$1),BK19,ROW()-2))","v":""},""]
[{"$f":"Mainframe!B19","v":0},{"$f":"Mainframe!C19","v":0},{"$f":"IF(B21=0,\"\",IF(NOT(ISNA(VLOOKUP(B21,Answers!$A$6:$D$39,2,FALSE))),VLOOKUP(B21,Answers!$A$6:$D$39,2,FALSE),\"Help!\"))","v":""},"",{"$f":"Mainframe!D19","v":0},{"$f":"IF(E21=0,\"\",IF(NOT(ISNA(VLOOKUP(E21,Answers!#REF!,2,FALSE))),VLOOKUP(E21,Answers!#REF!,2,FALSE),\"Help!\"))","v":""},"","",{"$f":"Mainframe!E19","v":0},{"$f":"IF(I21=0,\"\",IF(NOT(ISNA(VLOOKUP(I21,Answers!#REF!,2,FALSE))),VLOOKUP(I21,Answers!#REF!,2,FALSE),\"Help!\"))","v":""},"","",{"$f":"Mainframe!F19","v":0},{"$f":"IF(M21=0,\"\",IF(NOT(ISNA(VLOOKUP(M21,Answers!#REF!,2,FALSE))),VLOOKUP(M21,Answers!#REF!,2,FALSE),\"Help!\"))","v":""},"","",{"$f":"Mainframe!G19","v":0},{"$f":"IF(Q21=0,\"\",IF(NOT(ISNA(VLOOKUP(Q21,Answers!#REF!,2,FALSE))),VLOOKUP(Q21,Answers!#REF!,2,FALSE),\"Help!\"))","v":""},"","",{"$f":"Mainframe!H19","v":0},{"$f":"IF(U21=0,\"\",IF(NOT(ISNA(VLOOKUP(U21,Answers!#REF!,2,FALSE))),VLOOKUP(U21,Answers!#REF!,2,FALSE),\"Help!\"))","v":""},"","",{"$f":"Mainframe!I19","v":0},{"$f":"IF(Y21=0,\"\",IF(NOT(ISNA(VLOOKUP(Y21,Answers!#REF!,3,FALSE))),VLOOKUP(Y21,Answers!#REF!,3,FALSE),\"Help!\"))","v":""},"","",{"$f":"Mainframe!J19","v":0},{"$f":"IF(AC21=0,\"\",IF(NOT(ISNA(VLOOKUP(AC21,Answers!#REF!,3,FALSE))),VLOOKUP(AC21,Answers!#REF!,3,FALSE),\"Help!\"))","v":""},"","",{"$f":"Mainframe!K19","v":0},{"$f":"IF(AG21=0,\"\",IF(NOT(ISNA(VLOOKUP(AG21,Answers!#REF!,3,FALSE))),VLOOKUP(AG21,Answers!#REF!,3,FALSE),\"Help!\"))","v":""},"","",{"$f":"Mainframe!L19","v":0},{"$f":"IF(AK21=0,\"\",IF(NOT(ISNA(VLOOKUP(AK21,Answers!#REF!,3,FALSE))),VLOOKUP(AK21,Answers!#REF!,3,FALSE),\"Help!\"))","v":""},"","",{"$f":"Mainframe!M19","v":0},{"$f":"IF(AO21=0,\"\",IF(NOT(ISNA(VLOOKUP(AO21,Answers!#REF!,2,FALSE))),VLOOKUP(AO21,Answers!#REF!,2,FALSE),\"Help!\"))","v":""},"","",{"$f":"Mainframe!N19","v":0},{"$f":"IF(AS21=0,\"\",IF(NOT(ISNA(VLOOKUP(AS21,Answers!#REF!,2,FALSE))),VLOOKUP(AS21,Answers!#REF!,2,FALSE),\"Help!\"))","v":""},"","",{"$f":"Mainframe!O19","v":0},{"$f":"IF(AW21=0,\"\",IF(NOT(ISNA(VLOOKUP(AW21,Answers!#REF!,2,FALSE))),VLOOKUP(AW21,Answers!#REF!,2,FALSE),\"Help!\"))","v":""},"","",{"$f":"Mainframe!P19","v":0},{"$f":"IF(BA21=0,\"\",IF(NOT(ISNA(VLOOKUP(BA21,Answers!#REF!,2,FALSE))),VLOOKUP(BA21,Answers!#REF!,2,FALSE),\"Help!\"))","v":""},"","",{"$f":"Mainframe!Q19","v":0},{"$f":"IF(BE21=0,\"\",IF(NOT(ISNA(VLOOKUP(BE21,Answers!#REF!,2,FALSE))),VLOOKUP(BE21,Answers!#REF!,2,FALSE),\"Help!\"))","v":""},"","","",null,"",""]
[{"$f":"Mainframe!B20","v":0},{"$f":"Mainframe!C20","v":0},{"$f":"IF(B22=0,\"\",IF(NOT(ISNA(VLOOKUP(B22,Answers!$A$6:$D$39,2,FALSE))),VLOOKUP(B22,Answers!$A$6:$D$39,2,FALSE),\"Help!\"))","v":""},"",{"$f":"Mainframe!D20","v":0},{"$f":"IF(E22=0,\"\",IF(NOT(ISNA(VLOOKUP(E22,Answers!#REF!,2,FALSE))),VLOOKUP(E22,Answers!#REF!,2,FALSE),\"Help!\"))","v":""},"","",{"$f":"Mainframe!E20","v":0},{"$f":"IF(I22=0,\"\",IF(NOT(ISNA(VLOOKUP(I22,Answers!#REF!,2,FALSE))),VLOOKUP(I22,Answers!#REF!,2,FALSE),\"Help!\"))","v":""},"","",{"$f":"Mainframe!F20","v":0},{"$f":"IF(M22=0,\"\",IF(NOT(ISNA(VLOOKUP(M22,Answers!#REF!,2,FALSE))),VLOOKUP(M22,Answers!#REF!,2,FALSE),\"Help!\"))","v":""},"","",{"$f":"Mainframe!G20","v":0},{"$f":"IF(Q22=0,\"\",IF(NOT(ISNA(VLOOKUP(Q22,Answers!#REF!,2,FALSE))),VLOOKUP(Q22,Answers!#REF!,2,FALSE),\"Help!\"))","v":""},"","",{"$f":"Mainframe!H20","v":0},{"$f":"IF(U22=0,\"\",IF(NOT(ISNA(VLOOKUP(U22,Answers!#REF!,2,FALSE))),VLOOKUP(U22,Answers!#REF!,2,FALSE),\"Help!\"))","v":""},"","",{"$f":"Mainframe!I20","v":0},{"$f":"IF(Y22=0,\"\",IF(NOT(ISNA(VLOOKUP(Y22,Answers!#REF!,3,FALSE))),VLOOKUP(Y22,Answers!#REF!,3,FALSE),\"Help!\"))","v":""},"","",{"$f":"Mainframe!J20","v":0},{"$f":"IF(AC22=0,\"\",IF(NOT(ISNA(VLOOKUP(AC22,Answers!#REF!,3,FALSE))),VLOOKUP(AC22,Answers!#REF!,3,FALSE),\"Help!\"))","v":""},"","",{"$f":"Mainframe!K20","v":0},{"$f":"IF(AG22=0,\"\",IF(NOT(ISNA(VLOOKUP(AG22,Answers!#REF!,3,FALSE))),VLOOKUP(AG22,Answers!#REF!,3,FALSE),\"Help!\"))","v":""},"","",{"$f":"Mainframe!L20","v":0},{"$f":"IF(AK22=0,\"\",IF(NOT(ISNA(VLOOKUP(AK22,Answers!#REF!,3,FALSE))),VLOOKUP(AK22,Answers!#REF!,3,FALSE),\"Help!\"))","v":""},"","",{"$f":"Mainframe!M20","v":0},{"$f":"IF(AO22=0,\"\",IF(NOT(ISNA(VLOOKUP(AO22,Answers!#REF!,2,FALSE))),VLOOKUP(AO22,Answers!#REF!,2,FALSE),\"Help!\"))","v":""},"","",{"$f":"Mainframe!N20","v":0},{"$f":"IF(AS22=0,\"\",IF(NOT(ISNA(VLOOKUP(AS22,Answers!#REF!,2,FALSE))),VLOOKUP(AS22,Answers!#REF!,2,FALSE),\"Help!\"))","v":""},"","",{"$f":"Mainframe!O20","v":0},{"$f":"IF(AW22=0,\"\",IF(NOT(ISNA(VLOOKUP(AW22,Answers!#REF!,2,FALSE))),VLOOKUP(AW22,Answers!#REF!,2,FALSE),\"Help!\"))","v":""},"","",{"$f":"Mainframe!P20","v":0},{"$f":"IF(BA22=0,\"\",IF(NOT(ISNA(VLOOKUP(BA22,Answers!#REF!,2,FALSE))),VLOOKUP(BA22,Answers!#REF!,2,FALSE),\"Help!\"))","v":""},"","",{"$f":"Mainframe!Q20","v":0},{"$f":"IF(BE22=0,\"\",IF(NOT(ISNA(VLOOKUP(BE22,Answers!#REF!,2,FALSE))),VLOOKUP(BE22,Answers!#REF!,2,FALSE),\"Help!\"))","v":""},"","","",null,"",""]
[{"$f":"Mainframe!B21","v":0},{"$f":"Mainframe!C21","v":0},{"$f":"IF(B23=0,\"\",IF(NOT(ISNA(VLOOKUP(B23,Answers!$A$6:$D$39,2,FALSE))),VLOOKUP(B23,Answers!$A$6:$D$39,2,FALSE),\"Help!\"))","v":""},"",{"$f":"Mainframe!D21","v":0},{"$f":"IF(E23=0,\"\",IF(NOT(ISNA(VLOOKUP(E23,Answers!#REF!,2,FALSE))),VLOOKUP(E23,Answers!#REF!,2,FALSE),\"Help!\"))","v":""},"","",{"$f":"Mainframe!E21","v":0},{"$f":"IF(I23=0,\"\",IF(NOT(ISNA(VLOOKUP(I23,Answers!#REF!,2,FALSE))),VLOOKUP(I23,Answers!#REF!,2,FALSE),\"Help!\"))","v":""},"","",{"$f":"Mainframe!F21","v":0},{"$f":"IF(M23=0,\"\",IF(NOT(ISNA(VLOOKUP(M23,Answers!#REF!,2,FALSE))),VLOOKUP(M23,Answers!#REF!,2,FALSE),\"Help!\"))","v":""},"","",{"$f":"Mainframe!G21","v":0},{"$f":"IF(Q23=0,\"\",IF(NOT(ISNA(VLOOKUP(Q23,Answers!#REF!,2,FALSE))),VLOOKUP(Q23,Answers!#REF!,2,FALSE),\"Help!\"))","v":""},"","",{"$f":"Mainframe!H21","v":0},{"$f":"IF(U23=0,\"\",IF(NOT(ISNA(VLOOKUP(U23,Answers!#REF!,2,FALSE))),VLOOKUP(U23,Answers!#REF!,2,FALSE),\"Help!\"))","v":""},"","",{"$f":"Mainframe!I21","v":0},{"$f":"IF(Y23=0,\"\",IF(NOT(ISNA(VLOOKUP(Y23,Answers!#REF!,3,FALSE))),VLOOKUP(Y23,Answers!#REF!,3,FALSE),\"Help!\"))","v":""},"","",{"$f":"Mainframe!J21","v":0},{"$f":"IF(AC23=0,\"\",IF(NOT(ISNA(VLOOKUP(AC23,Answers!#REF!,3,FALSE))),VLOOKUP(AC23,Answers!#REF!,3,FALSE),\"Help!\"))","v":""},"","",{"$f":"Mainframe!K21","v":0},{"$f":"IF(AG23=0,\"\",IF(NOT(ISNA(VLOOKUP(AG23,Answers!#REF!,3,FALSE))),VLOOKUP(AG23,Answers!#REF!,3,FALSE),\"Help!\"))","v":""},"","",{"$f":"Mainframe!L21","v":0},{"$f":"IF(AK23=0,\"\",IF(NOT(ISNA(VLOOKUP(AK23,Answers!#REF!,3,FALSE))),VLOOKUP(AK23,Answers!#REF!,3,FALSE),\"Help!\"))","v":""},"","",{"$f":"Mainframe!M21","v":0},{"$f":"IF(AO23=0,\"\",IF(NOT(ISNA(VLOOKUP(AO23,Answers!#REF!,2,FALSE))),VLOOKUP(AO23,Answers!#REF!,2,FALSE),\"Help!\"))","v":""},"","",{"$f":"Mainframe!N21","v":0},{"$f":"IF(AS23=0,\"\",IF(NOT(ISNA(VLOOKUP(AS23,Answers!#REF!,2,FALSE))),VLOOKUP(AS23,Answers!#REF!,2,FALSE),\"Help!\"))","v":""},"","",{"$f":"Mainframe!O21","v":0},{"$f":"IF(AW23=0,\"\",IF(NOT(ISNA(VLOOKUP(AW23,Answers!#REF!,2,FALSE))),VLOOKUP(AW23,Answers!#REF!,2,FALSE),\"Help!\"))","v":""},"","",{"$f":"Mainframe!P21","v":0},{"$f":"IF(BA23=0,\"\",IF(NOT(ISNA(VLOOKUP(BA23,Answers!#REF!,2,FALSE))),VLOOKUP(BA23,Answers!#REF!,2,FALSE),\"Help!\"))","v":""},"","",{"$f":"Mainframe!Q21","v":0},{"$f":"IF(BE23=0,\"\",IF(NOT(ISNA(VLOOKUP(BE23,Answers!#REF!,2,FALSE))),VLOOKUP(BE23,Answers!#REF!,2,FALSE),\"Help!\"))","v":""},"","","",null,"",""]
[{"$f":"Mainframe!B22","v":0},{"$f":"Mainframe!C22","v":0},{"$f":"IF(B24=0,\"\",IF(NOT(ISNA(VLOOKUP(B24,Answers!$A$6:$D$39,2,FALSE))),VLOOKUP(B24,Answers!$A$6:$D$39,2,FALSE),\"Help!\"))","v":""},"",{"$f":"Mainframe!D22","v":0},{"$f":"IF(E24=0,\"\",IF(NOT(ISNA(VLOOKUP(E24,Answers!#REF!,2,FALSE))),VLOOKUP(E24,Answers!#REF!,2,FALSE),\"Help!\"))","v":""},"","",{"$f":"Mainframe!E22","v":0},{"$f":"IF(I24=0,\"\",IF(NOT(ISNA(VLOOKUP(I24,Answers!#REF!,2,FALSE))),VLOOKUP(I24,Answers!#REF!,2,FALSE),\"Help!\"))","v":""},"","",{"$f":"Mainframe!F22","v":0},{"$f":"IF(M24=0,\"\",IF(NOT(ISNA(VLOOKUP(M24,Answers!#REF!,2,FALSE))),VLOOKUP(M24,Answers!#REF!,2,FALSE),\"Help!\"))","v":""},"","",{"$f":"Mainframe!G22","v":0},{"$f":"IF(Q24=0,\"\",IF(NOT(ISNA(VLOOKUP(Q24,Answers!#REF!,2,FALSE))),VLOOKUP(Q24,Answers!#REF!,2,FALSE),\"Help!\"))","v":""},"","",{"$f":"Mainframe!H22","v":0},{"$f":"IF(U24=0,\"\",IF(NOT(ISNA(VLOOKUP(U24,Answers!#REF!,2,FALSE))),VLOOKUP(U24,Answers!#REF!,2,FALSE),\"Help!\"))","v":""},"","",{"$f":"Mainframe!I22","v":0},{"$f":"IF(Y24=0,\"\",IF(NOT(ISNA(VLOOKUP(Y24,Answers!#REF!,3,FALSE))),VLOOKUP(Y24,Answers!#REF!,3,FALSE),\"Help!\"))","v":""},"","",{"$f":"Mainframe!J22","v":0},{"$f":"IF(AC24=0,\"\",IF(NOT(ISNA(VLOOKUP(AC24,Answers!#REF!,3,FALSE))),VLOOKUP(AC24,Answers!#REF!,3,FALSE),\"Help!\"))","v":""},"","",{"$f":"Mainframe!K22","v":0},{"$f":"IF(AG24=0,\"\",IF(NOT(ISNA(VLOOKUP(AG24,Answers!#REF!,3,FALSE))),VLOOKUP(AG24,Answers!#REF!,3,FALSE),\"Help!\"))","v":""},"","",{"$f":"Mainframe!L22","v":0},{"$f":"IF(AK24=0,\"\",IF(NOT(ISNA(VLOOKUP(AK24,Answers!#REF!,3,FALSE))),VLOOKUP(AK24,Answers!#REF!,3,FALSE),\"Help!\"))","v":""},"","",{"$f":"Mainframe!M22","v":0},{"$f":"IF(AO24=0,\"\",IF(NOT(ISNA(VLOOKUP(AO24,Answers!#REF!,2,FALSE))),VLOOKUP(AO24,Answers!#REF!,2,FALSE),\"Help!\"))","v":""},"","",{"$f":"Mainframe!N22","v":0},{"$f":"IF(AS24=0,\"\",IF(NOT(ISNA(VLOOKUP(AS24,Answers!#REF!,2,FALSE))),VLOOKUP(AS24,Answers!#REF!,2,FALSE),\"Help!\"))","v":""},"","",{"$f":"Mainframe!O22","v":0},{"$f":"IF(AW24=0,\"\",IF(NOT(ISNA(VLOOKUP(AW24,Answers!#REF!,2,FALSE))),VLOOKUP(AW24,Answers!#REF!,2,FALSE),\"Help!\"))","v":""},"","",{"$f":"Mainframe!P22","v":0},{"$f":"IF(BA24=0,\"\",IF(NOT(ISNA(VLOOKUP(BA24,Answers!#REF!,2,FALSE))),VLOOKUP(BA24,Answers!#REF!,2,FALSE),\"Help!\"))","v":""},"","",{"$f":"Mainframe!Q22","v":0},{"$f":"IF(BE24=0,\"\",IF(NOT(ISNA(VLOOKUP(BE24,Answers!#REF!,2,FALSE))),VLOOKUP(BE24,Answers!#REF!,2,FALSE),\"Help!\"))","v":""},"","","",null,"",""]
[{"$f":"Mainframe!B23","v":0},{"$f":"Mainframe!C23","v":0},{"$f":"IF(B25=0,\"\",IF(NOT(ISNA(VLOOKUP(B25,Answers!$A$6:$D$39,2,FALSE))),VLOOKUP(B25,Answers!$A$6:$D$39,2,FALSE),\"Help!\"))","v":""},"",{"$f":"Mainframe!D23","v":0},{"$f":"IF(E25=0,\"\",IF(NOT(ISNA(VLOOKUP(E25,Answers!#REF!,2,FALSE))),VLOOKUP(E25,Answers!#REF!,2,FALSE),\"Help!\"))","v":""},"","",{"$f":"Mainframe!E23","v":0},{"$f":"IF(I25=0,\"\",IF(NOT(ISNA(VLOOKUP(I25,Answers!#REF!,2,FALSE))),VLOOKUP(I25,Answers!#REF!,2,FALSE),\"Help!\"))","v":""},"","",{"$f":"Mainframe!F23","v":0},{"$f":"IF(M25=0,\"\",IF(NOT(ISNA(VLOOKUP(M25,Answers!#REF!,2,FALSE))),VLOOKUP(M25,Answers!#REF!,2,FALSE),\"Help!\"))","v":""},"","",{"$f":"Mainframe!G23","v":0},{"$f":"IF(Q25=0,\"\",IF(NOT(ISNA(VLOOKUP(Q25,Answers!#REF!,2,FALSE))),VLOOKUP(Q25,Answers!#REF!,2,FALSE),\"Help!\"))","v":""},"","",{"$f":"Mainframe!H23","v":0},{"$f":"IF(U25=0,\"\",IF(NOT(ISNA(VLOOKUP(U25,Answers!#REF!,2,FALSE))),VLOOKUP(U25,Answers!#REF!,2,FALSE),\"Help!\"))","v":""},"","",{"$f":"Mainframe!I23","v":0},{"$f":"IF(Y25=0,\"\",IF(NOT(ISNA(VLOOKUP(Y25,Answers!#REF!,3,FALSE))),VLOOKUP(Y25,Answers!#REF!,3,FALSE),\"Help!\"))","v":""},"","",{"$f":"Mainframe!J23","v":0},{"$f":"IF(AC25=0,\"\",IF(NOT(ISNA(VLOOKUP(AC25,Answers!#REF!,3,FALSE))),VLOOKUP(AC25,Answers!#REF!,3,FALSE),\"Help!\"))","v":""},"","",{"$f":"Mainframe!K23","v":0},{"$f":"IF(AG25=0,\"\",IF(NOT(ISNA(VLOOKUP(AG25,Answers!#REF!,3,FALSE))),VLOOKUP(AG25,Answers!#REF!,3,FALSE),\"Help!\"))","v":""},"","",{"$f":"Mainframe!L23","v":0},{"$f":"IF(AK25=0,\"\",IF(NOT(ISNA(VLOOKUP(AK25,Answers!#REF!,3,FALSE))),VLOOKUP(AK25,Answers!#REF!,3,FALSE),\"Help!\"))","v":""},"","",{"$f":"Mainframe!M23","v":0},{"$f":"IF(AO25=0,\"\",IF(NOT(ISNA(VLOOKUP(AO25,Answers!#REF!,2,FALSE))),VLOOKUP(AO25,Answers!#REF!,2,FALSE),\"Help!\"))","v":""},"","",{"$f":"Mainframe!N23","v":0},{"$f":"IF(AS25=0,\"\",IF(NOT(ISNA(VLOOKUP(AS25,Answers!#REF!,2,FALSE))),VLOOKUP(AS25,Answers!#REF!,2,FALSE),\"Help!\"))","v":""},"","",{"$f":"Mainframe!O23","v":0},{"$f":"IF(AW25=0,\"\",IF(NOT(ISNA(VLOOKUP(AW25,Answers!#REF!,2,FALSE))),VLOOKUP(AW25,Answers!#REF!,2,FALSE),\"Help!\"))","v":""},"","",{"$f":"Mainframe!P23","v":0},{"$f":"IF(BA25=0,\"\",IF(NOT(ISNA(VLOOKUP(BA25,Answers!#REF!,2,FALSE))),VLOOKUP(BA25,Answers!#REF!,2,FALSE),\"Help!\"))","v":""},"","",{"$f":"Mainframe!Q23","v":0},{"$f":"IF(BE25=0,\"\",IF(NOT(ISNA(VLOOKUP(BE25,Answers!#REF!,2,FALSE))),VLOOKUP(BE25,Answers!#REF!,2,FALSE),\"Help!\"))","v":""},"","","",null,"",""]
[{"$f":"Mainframe!B24","v":0},{"$f":"Mainframe!C24","v":0},{"$f":"IF(B26=0,\"\",IF(NOT(ISNA(VLOOKUP(B26,Answers!$A$6:$D$39,2,FALSE))),VLOOKUP(B26,Answers!$A$6:$D$39,2,FALSE),\"Help!\"))","v":""},"",{"$f":"Mainframe!D24","v":0},{"$f":"IF(E26=0,\"\",IF(NOT(ISNA(VLOOKUP(E26,Answers!#REF!,2,FALSE))),VLOOKUP(E26,Answers!#REF!,2,FALSE),\"Help!\"))","v":""},"","",{"$f":"Mainframe!E24","v":0},{"$f":"IF(I26=0,\"\",IF(NOT(ISNA(VLOOKUP(I26,Answers!#REF!,2,FALSE))),VLOOKUP(I26,Answers!#REF!,2,FALSE),\"Help!\"))","v":""},"","",{"$f":"Mainframe!F24","v":0},{"$f":"IF(M26=0,\"\",IF(NOT(ISNA(VLOOKUP(M26,Answers!#REF!,2,FALSE))),VLOOKUP(M26,Answers!#REF!,2,FALSE),\"Help!\"))","v":""},"","",{"$f":"Mainframe!G24","v":0},{"$f":"IF(Q26=0,\"\",IF(NOT(ISNA(VLOOKUP(Q26,Answers!#REF!,2,FALSE))),VLOOKUP(Q26,Answers!#REF!,2,FALSE),\"Help!\"))","v":""},"","",{"$f":"Mainframe!H24","v":0},{"$f":"IF(U26=0,\"\",IF(NOT(ISNA(VLOOKUP(U26,Answers!#REF!,2,FALSE))),VLOOKUP(U26,Answers!#REF!,2,FALSE),\"Help!\"))","v":""},"","",{"$f":"Mainframe!I24","v":0},{"$f":"IF(Y26=0,\"\",IF(NOT(ISNA(VLOOKUP(Y26,Answers!#REF!,3,FALSE))),VLOOKUP(Y26,Answers!#REF!,3,FALSE),\"Help!\"))","v":""},"","",{"$f":"Mainframe!J24","v":0},{"$f":"IF(AC26=0,\"\",IF(NOT(ISNA(VLOOKUP(AC26,Answers!#REF!,3,FALSE))),VLOOKUP(AC26,Answers!#REF!,3,FALSE),\"Help!\"))","v":""},"","",{"$f":"Mainframe!K24","v":0},{"$f":"IF(AG26=0,\"\",IF(NOT(ISNA(VLOOKUP(AG26,Answers!#REF!,3,FALSE))),VLOOKUP(AG26,Answers!#REF!,3,FALSE),\"Help!\"))","v":""},"","",{"$f":"Mainframe!L24","v":0},{"$f":"IF(AK26=0,\"\",IF(NOT(ISNA(VLOOKUP(AK26,Answers!#REF!,3,FALSE))),VLOOKUP(AK26,Answers!#REF!,3,FALSE),\"Help!\"))","v":""},"","",{"$f":"Mainframe!M24","v":0},{"$f":"IF(AO26=0,\"\",IF(NOT(ISNA(VLOOKUP(AO26,Answers!#REF!,2,FALSE))),VLOOKUP(AO26,Answers!#REF!,2,FALSE),\"Help!\"))","v":""},"","",{"$f":"Mainframe!N24","v":0},{"$f":"IF(AS26=0,\"\",IF(NOT(ISNA(VLOOKUP(AS26,Answers!#REF!,2,FALSE))),VLOOKUP(AS26,Answers!#REF!,2,FALSE),\"Help!\"))","v":""},"","",{"$f":"Mainframe!O24","v":0},{"$f":"IF(AW26=0,\"\",IF(NOT(ISNA(VLOOKUP(AW26,Answers!#REF!,2,FALSE))),VLOOKUP(AW26,Answers!#REF!,2,FALSE),\"Help!\"))","v":""},"","",{"$f":"Mainframe!P24","v":0},{"$f":"IF(BA26=0,\"\",IF(NOT(ISNA(VLOOKUP(BA26,Answers!#REF!,2,FALSE))),VLOOKUP(BA26,Answers!#REF!,2,FALSE),\"Help!\"))","v":""},"","",{"$f":"Mainframe!Q24","v":0},{"$f":"IF(BE26=0,\"\",IF(NOT(ISNA(VLOOKUP(BE26,Answers!#REF!,2,FALSE))),VLOOKUP(BE26,Answers!#REF!,2,FALSE),\"Help!\"))","v":""},"","","",null,"",""]
[{"$f":"Mainframe!B25","v":0},{"$f":"Mainframe!C25","v":0},{"$f":"IF(B27=0,\"\",IF(NOT(ISNA(VLOOKUP(B27,Answers!$A$6:$D$39,2,FALSE))),VLOOKUP(B27,Answers!$A$6:$D$39,2,FALSE),\"Help!\"))","v":""},"",{"$f":"Mainframe!D25","v":0},{"$f":"IF(E27=0,\"\",IF(NOT(ISNA(VLOOKUP(E27,Answers!#REF!,2,FALSE))),VLOOKUP(E27,Answers!#REF!,2,FALSE),\"Help!\"))","v":""},"","",{"$f":"Mainframe!E25","v":0},{"$f":"IF(I27=0,\"\",IF(NOT(ISNA(VLOOKUP(I27,Answers!#REF!,2,FALSE))),VLOOKUP(I27,Answers!#REF!,2,FALSE),\"Help!\"))","v":""},"","",{"$f":"Mainframe!F25","v":0},{"$f":"IF(M27=0,\"\",IF(NOT(ISNA(VLOOKUP(M27,Answers!#REF!,2,FALSE))),VLOOKUP(M27,Answers!#REF!,2,FALSE),\"Help!\"))","v":""},"","",{"$f":"Mainframe!G25","v":0},{"$f":"IF(Q27=0,\"\",IF(NOT(ISNA(VLOOKUP(Q27,Answers!#REF!,2,FALSE))),VLOOKUP(Q27,Answers!#REF!,2,FALSE),\"Help!\"))","v":""},"","",{"$f":"Mainframe!H25","v":0},{"$f":"IF(U27=0,\"\",IF(NOT(ISNA(VLOOKUP(U27,Answers!#REF!,2,FALSE))),VLOOKUP(U27,Answers!#REF!,2,FALSE),\"Help!\"))","v":""},"","",{"$f":"Mainframe!I25","v":0},{"$f":"IF(Y27=0,\"\",IF(NOT(ISNA(VLOOKUP(Y27,Answers!#REF!,3,FALSE))),VLOOKUP(Y27,Answers!#REF!,3,FALSE),\"Help!\"))","v":""},"","",{"$f":"Mainframe!J25","v":0},{"$f":"IF(AC27=0,\"\",IF(NOT(ISNA(VLOOKUP(AC27,Answers!#REF!,3,FALSE))),VLOOKUP(AC27,Answers!#REF!,3,FALSE),\"Help!\"))","v":""},"","",{"$f":"Mainframe!K25","v":0},{"$f":"IF(AG27=0,\"\",IF(NOT(ISNA(VLOOKUP(AG27,Answers!#REF!,3,FALSE))),VLOOKUP(AG27,Answers!#REF!,3,FALSE),\"Help!\"))","v":""},"","",{"$f":"Mainframe!L25","v":0},{"$f":"IF(AK27=0,\"\",IF(NOT(ISNA(VLOOKUP(AK27,Answers!#REF!,3,FALSE))),VLOOKUP(AK27,Answers!#REF!,3,FALSE),\"Help!\"))","v":""},"","",{"$f":"Mainframe!M25","v":0},{"$f":"IF(AO27=0,\"\",IF(NOT(ISNA(VLOOKUP(AO27,Answers!#REF!,2,FALSE))),VLOOKUP(AO27,Answers!#REF!,2,FALSE),\"Help!\"))","v":""},"","",{"$f":"Mainframe!N25","v":0},{"$f":"IF(AS27=0,\"\",IF(NOT(ISNA(VLOOKUP(AS27,Answers!#REF!,2,FALSE))),VLOOKUP(AS27,Answers!#REF!,2,FALSE),\"Help!\"))","v":""},"","",{"$f":"Mainframe!O25","v":0},{"$f":"IF(AW27=0,\"\",IF(NOT(ISNA(VLOOKUP(AW27,Answers!#REF!,2,FALSE))),VLOOKUP(AW27,Answers!#REF!,2,FALSE),\"Help!\"))","v":""},"","",{"$f":"Mainframe!P25","v":0},{"$f":"IF(BA27=0,\"\",IF(NOT(ISNA(VLOOKUP(BA27,Answers!#REF!,2,FALSE))),VLOOKUP(BA27,Answers!#REF!,2,FALSE),\"Help!\"))","v":""},"","",{"$f":"Mainframe!Q25","v":0},{"$f":"IF(BE27=0,\"\",IF(NOT(ISNA(VLOOKUP(BE27,Answers!#REF!,2,FALSE))),VLOOKUP(BE27,Answers!#REF!,2,FALSE),\"Help!\"))","v":""},"","","",null,"",""]
[{"$f":"Mainframe!B26","v":0},{"$f":"Mainframe!C26","v":0},{"$f":"IF(B28=0,\"\",IF(NOT(ISNA(VLOOKUP(B28,Answers!$A$6:$D$39,2,FALSE))),VLOOKUP(B28,Answers!$A$6:$D$39,2,FALSE),\"Help!\"))","v":""},"",{"$f":"Mainframe!D26","v":0},{"$f":"IF(E28=0,\"\",IF(NOT(ISNA(VLOOKUP(E28,Answers!#REF!,2,FALSE))),VLOOKUP(E28,Answers!#REF!,2,FALSE),\"Help!\"))","v":""},"","",{"$f":"Mainframe!E26","v":0},{"$f":"IF(I28=0,\"\",IF(NOT(ISNA(VLOOKUP(I28,Answers!#REF!,2,FALSE))),VLOOKUP(I28,Answers!#REF!,2,FALSE),\"Help!\"))","v":""},"","",{"$f":"Mainframe!F26","v":0},{"$f":"IF(M28=0,\"\",IF(NOT(ISNA(VLOOKUP(M28,Answers!#REF!,2,FALSE))),VLOOKUP(M28,Answers!#REF!,2,FALSE),\"Help!\"))","v":""},"","",{"$f":"Mainframe!G26","v":0},{"$f":"IF(Q28=0,\"\",IF(NOT(ISNA(VLOOKUP(Q28,Answers!#REF!,2,FALSE))),VLOOKUP(Q28,Answers!#REF!,2,FALSE),\"Help!\"))","v":""},"","",{"$f":"Mainframe!H26","v":0},{"$f":"IF(U28=0,\"\",IF(NOT(ISNA(VLOOKUP(U28,Answers!#REF!,2,FALSE))),VLOOKUP(U28,Answers!#REF!,2,FALSE),\"Help!\"))","v":""},"","",{"$f":"Mainframe!I26","v":0},{"$f":"IF(Y28=0,\"\",IF(NOT(ISNA(VLOOKUP(Y28,Answers!#REF!,3,FALSE))),VLOOKUP(Y28,Answers!#REF!,3,FALSE),\"Help!\"))","v":""},"","",{"$f":"Mainframe!J26","v":0},{"$f":"IF(AC28=0,\"\",IF(NOT(ISNA(VLOOKUP(AC28,Answers!#REF!,3,FALSE))),VLOOKUP(AC28,Answers!#REF!,3,FALSE),\"Help!\"))","v":""},"","",{"$f":"Mainframe!K26","v":0},{"$f":"IF(AG28=0,\"\",IF(NOT(ISNA(VLOOKUP(AG28,Answers!#REF!,3,FALSE))),VLOOKUP(AG28,Answers!#REF!,3,FALSE),\"Help!\"))","v":""},"","",{"$f":"Mainframe!L26","v":0},{"$f":"IF(AK28=0,\"\",IF(NOT(ISNA(VLOOKUP(AK28,Answers!#REF!,3,FALSE))),VLOOKUP(AK28,Answers!#REF!,3,FALSE),\"Help!\"))","v":""},"","",{"$f":"Mainframe!M26","v":0},{"$f":"IF(AO28=0,\"\",IF(NOT(ISNA(VLOOKUP(AO28,Answers!#REF!,2,FALSE))),VLOOKUP(AO28,Answers!#REF!,2,FALSE),\"Help!\"))","v":""},"","",{"$f":"Mainframe!N26","v":0},{"$f":"IF(AS28=0,\"\",IF(NOT(ISNA(VLOOKUP(AS28,Answers!#REF!,2,FALSE))),VLOOKUP(AS28,Answers!#REF!,2,FALSE),\"Help!\"))","v":""},"","",{"$f":"Mainframe!O26","v":0},{"$f":"IF(AW28=0,\"\",IF(NOT(ISNA(VLOOKUP(AW28,Answers!#REF!,2,FALSE))),VLOOKUP(AW28,Answers!#REF!,2,FALSE),\"Help!\"))","v":""},"","",{"$f":"Mainframe!P26","v":0},{"$f":"IF(BA28=0,\"\",IF(NOT(ISNA(VLOOKUP(BA28,Answers!#REF!,2,FALSE))),VLOOKUP(BA28,Answers!#REF!,2,FALSE),\"Help!\"))","v":""},"","",{"$f":"Mainframe!Q26","v":0},{"$f":"IF(BE28=0,\"\",IF(NOT(ISNA(VLOOKUP(BE28,Answers!#REF!,2,FALSE))),VLOOKUP(BE28,Answers!#REF!,2,FALSE),\"Help!\"))","v":""},"","","",null,"",""]
[{"$f":"Mainframe!B27","v":0},{"$f":"Mainframe!C27","v":0},{"$f":"IF(B29=0,\"\",IF(NOT(ISNA(VLOOKUP(B29,Answers!$A$6:$D$39,2,FALSE))),VLOOKUP(B29,Answers!$A$6:$D$39,2,FALSE),\"Help!\"))","v":""},"",{"$f":"Mainframe!D27","v":0},{"$f":"IF(E29=0,\"\",IF(NOT(ISNA(VLOOKUP(E29,Answers!#REF!,2,FALSE))),VLOOKUP(E29,Answers!#REF!,2,FALSE),\"Help!\"))","v":""},"","",{"$f":"Mainframe!E27","v":0},{"$f":"IF(I29=0,\"\",IF(NOT(ISNA(VLOOKUP(I29,Answers!#REF!,2,FALSE))),VLOOKUP(I29,Answers!#REF!,2,FALSE),\"Help!\"))","v":""},"","",{"$f":"Mainframe!F27","v":0},{"$f":"IF(M29=0,\"\",IF(NOT(ISNA(VLOOKUP(M29,Answers!#REF!,2,FALSE))),VLOOKUP(M29,Answers!#REF!,2,FALSE),\"Help!\"))","v":""},"","",{"$f":"Mainframe!G27","v":0},{"$f":"IF(Q29=0,\"\",IF(NOT(ISNA(VLOOKUP(Q29,Answers!#REF!,2,FALSE))),VLOOKUP(Q29,Answers!#REF!,2,FALSE),\"Help!\"))","v":""},"","",{"$f":"Mainframe!H27","v":0},{"$f":"IF(U29=0,\"\",IF(NOT(ISNA(VLOOKUP(U29,Answers!#REF!,2,FALSE))),VLOOKUP(U29,Answers!#REF!,2,FALSE),\"Help!\"))","v":""},"","",{"$f":"Mainframe!I27","v":0},{"$f":"IF(Y29=0,\"\",IF(NOT(ISNA(VLOOKUP(Y29,Answers!#REF!,3,FALSE))),VLOOKUP(Y29,Answers!#REF!,3,FALSE),\"Help!\"))","v":""},"","",{"$f":"Mainframe!J27","v":0},{"$f":"IF(AC29=0,\"\",IF(NOT(ISNA(VLOOKUP(AC29,Answers!#REF!,3,FALSE))),VLOOKUP(AC29,Answers!#REF!,3,FALSE),\"Help!\"))","v":""},"","",{"$f":"Mainframe!K27","v":0},{"$f":"IF(AG29=0,\"\",IF(NOT(ISNA(VLOOKUP(AG29,Answers!#REF!,3,FALSE))),VLOOKUP(AG29,Answers!#REF!,3,FALSE),\"Help!\"))","v":""},"","",{"$f":"Mainframe!L27","v":0},{"$f":"IF(AK29=0,\"\",IF(NOT(ISNA(VLOOKUP(AK29,Answers!#REF!,3,FALSE))),VLOOKUP(AK29,Answers!#REF!,3,FALSE),\"Help!\"))","v":""},"","",{"$f":"Mainframe!M27","v":0},{"$f":"IF(AO29=0,\"\",IF(NOT(ISNA(VLOOKUP(AO29,Answers!#REF!,2,FALSE))),VLOOKUP(AO29,Answers!#REF!,2,FALSE),\"Help!\"))","v":""},"","",{"$f":"Mainframe!N27","v":0},{"$f":"IF(AS29=0,\"\",IF(NOT(ISNA(VLOOKUP(AS29,Answers!#REF!,2,FALSE))),VLOOKUP(AS29,Answers!#REF!,2,FALSE),\"Help!\"))","v":""},"","",{"$f":"Mainframe!O27","v":0},{"$f":"IF(AW29=0,\"\",IF(NOT(ISNA(VLOOKUP(AW29,Answers!#REF!,2,FALSE))),VLOOKUP(AW29,Answers!#REF!,2,FALSE),\"Help!\"))","v":""},"","",{"$f":"Mainframe!P27","v":0},{"$f":"IF(BA29=0,\"\",IF(NOT(ISNA(VLOOKUP(BA29,Answers!#REF!,2,FALSE))),VLOOKUP(BA29,Answers!#REF!,2,FALSE),\"Help!\"))","v":""},"","",{"$f":"Mainframe!Q27","v":0},{"$f":"IF(BE29=0,\"\",IF(NOT(ISNA(VLOOKUP(BE29,Answers!#REF!,2,FALSE))),VLOOKUP(BE29,Answers!#REF!,2,FALSE),\"Help!\"))","v":""},"","","",null,"",""]
[{"$f":"Mainframe!B28","v":0},{"$f":"Mainframe!C28","v":0},{"$f":"IF(B30=0,\"\",IF(NOT(ISNA(VLOOKUP(B30,Answers!$A$6:$D$39,2,FALSE))),VLOOKUP(B30,Answers!$A$6:$D$39,2,FALSE),\"Help!\"))","v":""},"",{"$f":"Mainframe!D28","v":0},{"$f":"IF(E30=0,\"\",IF(NOT(ISNA(VLOOKUP(E30,Answers!#REF!,2,FALSE))),VLOOKUP(E30,Answers!#REF!,2,FALSE),\"Help!\"))","v":""},"","",{"$f":"Mainframe!E28","v":0},{"$f":"IF(I30=0,\"\",IF(NOT(ISNA(VLOOKUP(I30,Answers!#REF!,2,FALSE))),VLOOKUP(I30,Answers!#REF!,2,FALSE),\"Help!\"))","v":""},"","",{"$f":"Mainframe!F28","v":0},{"$f":"IF(M30=0,\"\",IF(NOT(ISNA(VLOOKUP(M30,Answers!#REF!,2,FALSE))),VLOOKUP(M30,Answers!#REF!,2,FALSE),\"Help!\"))","v":""},"","",{"$f":"Mainframe!G28","v":0},{"$f":"IF(Q30=0,\"\",IF(NOT(ISNA(VLOOKUP(Q30,Answers!#REF!,2,FALSE))),VLOOKUP(Q30,Answers!#REF!,2,FALSE),\"Help!\"))","v":""},"","",{"$f":"Mainframe!H28","v":0},{"$f":"IF(U30=0,\"\",IF(NOT(ISNA(VLOOKUP(U30,Answers!#REF!,2,FALSE))),VLOOKUP(U30,Answers!#REF!,2,FALSE),\"Help!\"))","v":""},"","",{"$f":"Mainframe!I28","v":0},{"$f":"IF(Y30=0,\"\",IF(NOT(ISNA(VLOOKUP(Y30,Answers!#REF!,3,FALSE))),VLOOKUP(Y30,Answers!#REF!,3,FALSE),\"Help!\"))","v":""},"","",{"$f":"Mainframe!J28","v":0},{"$f":"IF(AC30=0,\"\",IF(NOT(ISNA(VLOOKUP(AC30,Answers!#REF!,3,FALSE))),VLOOKUP(AC30,Answers!#REF!,3,FALSE),\"Help!\"))","v":""},"","",{"$f":"Mainframe!K28","v":0},{"$f":"IF(AG30=0,\"\",IF(NOT(ISNA(VLOOKUP(AG30,Answers!#REF!,3,FALSE))),VLOOKUP(AG30,Answers!#REF!,3,FALSE),\"Help!\"))","v":""},"","",{"$f":"Mainframe!L28","v":0},{"$f":"IF(AK30=0,\"\",IF(NOT(ISNA(VLOOKUP(AK30,Answers!#REF!,3,FALSE))),VLOOKUP(AK30,Answers!#REF!,3,FALSE),\"Help!\"))","v":""},"","",{"$f":"Mainframe!M28","v":0},{"$f":"IF(AO30=0,\"\",IF(NOT(ISNA(VLOOKUP(AO30,Answers!#REF!,2,FALSE))),VLOOKUP(AO30,Answers!#REF!,2,FALSE),\"Help!\"))","v":""},"","",{"$f":"Mainframe!N28","v":0},{"$f":"IF(AS30=0,\"\",IF(NOT(ISNA(VLOOKUP(AS30,Answers!#REF!,2,FALSE))),VLOOKUP(AS30,Answers!#REF!,2,FALSE),\"Help!\"))","v":""},"","",{"$f":"Mainframe!O28","v":0},{"$f":"IF(AW30=0,\"\",IF(NOT(ISNA(VLOOKUP(AW30,Answers!#REF!,2,FALSE))),VLOOKUP(AW30,Answers!#REF!,2,FALSE),\"Help!\"))","v":""},"","",{"$f":"Mainframe!P28","v":0},{"$f":"IF(BA30=0,\"\",IF(NOT(ISNA(VLOOKUP(BA30,Answers!#REF!,2,FALSE))),VLOOKUP(BA30,Answers!#REF!,2,FALSE),\"Help!\"))","v":""},"","",{"$f":"Mainframe!Q28","v":0},{"$f":"IF(BE30=0,\"\",IF(NOT(ISNA(VLOOKUP(BE30,Answers!#REF!,2,FALSE))),VLOOKUP(BE30,Answers!#REF!,2,FALSE),\"Help!\"))","v":""},"","","",null,"",""]
[{"$f":"Mainframe!B29","v":0},{"$f":"Mainframe!C29","v":0},{"$f":"IF(B31=0,\"\",IF(NOT(ISNA(VLOOKUP(B31,Answers!$A$6:$D$39,2,FALSE))),VLOOKUP(B31,Answers!$A$6:$D$39,2,FALSE),\"Help!\"))","v":""},"",{"$f":"Mainframe!D29","v":0},{"$f":"IF(E31=0,\"\",IF(NOT(ISNA(VLOOKUP(E31,Answers!#REF!,2,FALSE))),VLOOKUP(E31,Answers!#REF!,2,FALSE),\"Help!\"))","v":""},"","",{"$f":"Mainframe!E29","v":0},{"$f":"IF(I31=0,\"\",IF(NOT(ISNA(VLOOKUP(I31,Answers!#REF!,2,FALSE))),VLOOKUP(I31,Answers!#REF!,2,FALSE),\"Help!\"))","v":""},"","",{"$f":"Mainframe!F29","v":0},{"$f":"IF(M31=0,\"\",IF(NOT(ISNA(VLOOKUP(M31,Answers!#REF!,2,FALSE))),VLOOKUP(M31,Answers!#REF!,2,FALSE),\"Help!\"))","v":""},"","",{"$f":"Mainframe!G29","v":0},{"$f":"IF(Q31=0,\"\",IF(NOT(ISNA(VLOOKUP(Q31,Answers!#REF!,2,FALSE))),VLOOKUP(Q31,Answers!#REF!,2,FALSE),\"Help!\"))","v":""},"","",{"$f":"Mainframe!H29","v":0},{"$f":"IF(U31=0,\"\",IF(NOT(ISNA(VLOOKUP(U31,Answers!#REF!,2,FALSE))),VLOOKUP(U31,Answers!#REF!,2,FALSE),\"Help!\"))","v":""},"","",{"$f":"Mainframe!I29","v":0},{"$f":"IF(Y31=0,\"\",IF(NOT(ISNA(VLOOKUP(Y31,Answers!#REF!,3,FALSE))),VLOOKUP(Y31,Answers!#REF!,3,FALSE),\"Help!\"))","v":""},"","",{"$f":"Mainframe!J29","v":0},{"$f":"IF(AC31=0,\"\",IF(NOT(ISNA(VLOOKUP(AC31,Answers!#REF!,3,FALSE))),VLOOKUP(AC31,Answers!#REF!,3,FALSE),\"Help!\"))","v":""},"","",{"$f":"Mainframe!K29","v":0},{"$f":"IF(AG31=0,\"\",IF(NOT(ISNA(VLOOKUP(AG31,Answers!#REF!,3,FALSE))),VLOOKUP(AG31,Answers!#REF!,3,FALSE),\"Help!\"))","v":""},"","",{"$f":"Mainframe!L29","v":0},{"$f":"IF(AK31=0,\"\",IF(NOT(ISNA(VLOOKUP(AK31,Answers!#REF!,3,FALSE))),VLOOKUP(AK31,Answers!#REF!,3,FALSE),\"Help!\"))","v":""},"","",{"$f":"Mainframe!M29","v":0},{"$f":"IF(AO31=0,\"\",IF(NOT(ISNA(VLOOKUP(AO31,Answers!#REF!,2,FALSE))),VLOOKUP(AO31,Answers!#REF!,2,FALSE),\"Help!\"))","v":""},"","",{"$f":"Mainframe!N29","v":0},{"$f":"IF(AS31=0,\"\",IF(NOT(ISNA(VLOOKUP(AS31,Answers!#REF!,2,FALSE))),VLOOKUP(AS31,Answers!#REF!,2,FALSE),\"Help!\"))","v":""},"","",{"$f":"Mainframe!O29","v":0},{"$f":"IF(AW31=0,\"\",IF(NOT(ISNA(VLOOKUP(AW31,Answers!#REF!,2,FALSE))),VLOOKUP(AW31,Answers!#REF!,2,FALSE),\"Help!\"))","v":""},"","",{"$f":"Mainframe!P29","v":0},{"$f":"IF(BA31=0,\"\",IF(NOT(ISNA(VLOOKUP(BA31,Answers!#REF!,2,FALSE))),VLOOKUP(BA31,Answers!#REF!,2,FALSE),\"Help!\"))","v":""},"","",{"$f":"Mainframe!Q29","v":0},{"$f":"IF(BE31=0,\"\",IF(NOT(ISNA(VLOOKUP(BE31,Answers!#REF!,2,FALSE))),VLOOKUP(BE31,Answers!#REF!,2,FALSE),\"Help!\"))","v":""},"","","",null,"",""]
[{"$f":"Mainframe!B30","v":0},{"$f":"Mainframe!C30","v":0},{"$f":"IF(B32=0,\"\",IF(NOT(ISNA(VLOOKUP(B32,Answers!$A$6:$D$39,2,FALSE))),VLOOKUP(B32,Answers!$A$6:$D$39,2,FALSE),\"Help!\"))","v":""},"",{"$f":"Mainframe!D30","v":0},{"$f":"IF(E32=0,\"\",IF(NOT(ISNA(VLOOKUP(E32,Answers!#REF!,2,FALSE))),VLOOKUP(E32,Answers!#REF!,2,FALSE),\"Help!\"))","v":""},"","",{"$f":"Mainframe!E30","v":0},{"$f":"IF(I32=0,\"\",IF(NOT(ISNA(VLOOKUP(I32,Answers!#REF!,2,FALSE))),VLOOKUP(I32,Answers!#REF!,2,FALSE),\"Help!\"))","v":""},"","",{"$f":"Mainframe!F30","v":0},{"$f":"IF(M32=0,\"\",IF(NOT(ISNA(VLOOKUP(M32,Answers!#REF!,2,FALSE))),VLOOKUP(M32,Answers!#REF!,2,FALSE),\"Help!\"))","v":""},"","",{"$f":"Mainframe!G30","v":0},{"$f":"IF(Q32=0,\"\",IF(NOT(ISNA(VLOOKUP(Q32,Answers!#REF!,2,FALSE))),VLOOKUP(Q32,Answers!#REF!,2,FALSE),\"Help!\"))","v":""},"","",{"$f":"Mainframe!H30","v":0},{"$f":"IF(U32=0,\"\",IF(NOT(ISNA(VLOOKUP(U32,Answers!#REF!,2,FALSE))),VLOOKUP(U32,Answers!#REF!,2,FALSE),\"Help!\"))","v":""},"","",{"$f":"Mainframe!I30","v":0},{"$f":"IF(Y32=0,\"\",IF(NOT(ISNA(VLOOKUP(Y32,Answers!#REF!,3,FALSE))),VLOOKUP(Y32,Answers!#REF!,3,FALSE),\"Help!\"))","v":""},"","",{"$f":"Mainframe!J30","v":0},{"$f":"IF(AC32=0,\"\",IF(NOT(ISNA(VLOOKUP(AC32,Answers!#REF!,3,FALSE))),VLOOKUP(AC32,Answers!#REF!,3,FALSE),\"Help!\"))","v":""},"","",{"$f":"Mainframe!K30","v":0},{"$f":"IF(AG32=0,\"\",IF(NOT(ISNA(VLOOKUP(AG32,Answers!#REF!,3,FALSE))),VLOOKUP(AG32,Answers!#REF!,3,FALSE),\"Help!\"))","v":""},"","",{"$f":"Mainframe!L30","v":0},{"$f":"IF(AK32=0,\"\",IF(NOT(ISNA(VLOOKUP(AK32,Answers!#REF!,3,FALSE))),VLOOKUP(AK32,Answers!#REF!,3,FALSE),\"Help!\"))","v":""},"","",{"$f":"Mainframe!M30","v":0},{"$f":"IF(AO32=0,\"\",IF(NOT(ISNA(VLOOKUP(AO32,Answers!#REF!,2,FALSE))),VLOOKUP(AO32,Answers!#REF!,2,FALSE),\"Help!\"))","v":""},"","",{"$f":"Mainframe!N30","v":0},{"$f":"IF(AS32=0,\"\",IF(NOT(ISNA(VLOOKUP(AS32,Answers!#REF!,2,FALSE))),VLOOKUP(AS32,Answers!#REF!,2,FALSE),\"Help!\"))","v":""},"","",{"$f":"Mainframe!O30","v":0},{"$f":"IF(AW32=0,\"\",IF(NOT(ISNA(VLOOKUP(AW32,Answers!#REF!,2,FALSE))),VLOOKUP(AW32,Answers!#REF!,2,FALSE),\"Help!\"))","v":""},"","",{"$f":"Mainframe!P30","v":0},{"$f":"IF(BA32=0,\"\",IF(NOT(ISNA(VLOOKUP(BA32,Answers!#REF!,2,FALSE))),VLOOKUP(BA32,Answers!#REF!,2,FALSE),\"Help!\"))","v":""},"","",{"$f":"Mainframe!Q30","v":0},{"$f":"IF(BE32=0,\"\",IF(NOT(ISNA(VLOOKUP(BE32,Answers!#REF!,2,FALSE))),VLOOKUP(BE32,Answers!#REF!,2,FALSE),\"Help!\"))","v":""},"","","",null,"",""]
[{"$f":"Mainframe!B31","v":0},{"$f":"Mainframe!C31","v":0},{"$f":"IF(B33=0,\"\",IF(NOT(ISNA(VLOOKUP(B33,Answers!$A$6:$D$39,2,FALSE))),VLOOKUP(B33,Answers!$A$6:$D$39,2,FALSE),\"Help!\"))","v":""},"",{"$f":"Mainframe!D31","v":0},{"$f":"IF(E33=0,\"\",IF(NOT(ISNA(VLOOKUP(E33,Answers!#REF!,2,FALSE))),VLOOKUP(E33,Answers!#REF!,2,FALSE),\"Help!\"))","v":""},"","",{"$f":"Mainframe!E31","v":0},{"$f":"IF(I33=0,\"\",IF(NOT(ISNA(VLOOKUP(I33,Answers!#REF!,2,FALSE))),VLOOKUP(I33,Answers!#REF!,2,FALSE),\"Help!\"))","v":""},"","",{"$f":"Mainframe!F31","v":0},{"$f":"IF(M33=0,\"\",IF(NOT(ISNA(VLOOKUP(M33,Answers!#REF!,2,FALSE))),VLOOKUP(M33,Answers!#REF!,2,FALSE),\"Help!\"))","v":""},"","",{"$f":"Mainframe!G31","v":0},{"$f":"IF(Q33=0,\"\",IF(NOT(ISNA(VLOOKUP(Q33,Answers!#REF!,2,FALSE))),VLOOKUP(Q33,Answers!#REF!,2,FALSE),\"Help!\"))","v":""},"","",{"$f":"Mainframe!H31","v":0},{"$f":"IF(U33=0,\"\",IF(NOT(ISNA(VLOOKUP(U33,Answers!#REF!,2,FALSE))),VLOOKUP(U33,Answers!#REF!,2,FALSE),\"Help!\"))","v":""},"","",{"$f":"Mainframe!I31","v":0},{"$f":"IF(Y33=0,\"\",IF(NOT(ISNA(VLOOKUP(Y33,Answers!#REF!,3,FALSE))),VLOOKUP(Y33,Answers!#REF!,3,FALSE),\"Help!\"))","v":""},"","",{"$f":"Mainframe!J31","v":0},{"$f":"IF(AC33=0,\"\",IF(NOT(ISNA(VLOOKUP(AC33,Answers!#REF!,3,FALSE))),VLOOKUP(AC33,Answers!#REF!,3,FALSE),\"Help!\"))","v":""},"","",{"$f":"Mainframe!K31","v":0},{"$f":"IF(AG33=0,\"\",IF(NOT(ISNA(VLOOKUP(AG33,Answers!#REF!,3,FALSE))),VLOOKUP(AG33,Answers!#REF!,3,FALSE),\"Help!\"))","v":""},"","",{"$f":"Mainframe!L31","v":0},{"$f":"IF(AK33=0,\"\",IF(NOT(ISNA(VLOOKUP(AK33,Answers!#REF!,3,FALSE))),VLOOKUP(AK33,Answers!#REF!,3,FALSE),\"Help!\"))","v":""},"","",{"$f":"Mainframe!M31","v":0},{"$f":"IF(AO33=0,\"\",IF(NOT(ISNA(VLOOKUP(AO33,Answers!#REF!,2,FALSE))),VLOOKUP(AO33,Answers!#REF!,2,FALSE),\"Help!\"))","v":""},"","",{"$f":"Mainframe!N31","v":0},{"$f":"IF(AS33=0,\"\",IF(NOT(ISNA(VLOOKUP(AS33,Answers!#REF!,2,FALSE))),VLOOKUP(AS33,Answers!#REF!,2,FALSE),\"Help!\"))","v":""},"","",{"$f":"Mainframe!O31","v":0},{"$f":"IF(AW33=0,\"\",IF(NOT(ISNA(VLOOKUP(AW33,Answers!#REF!,2,FALSE))),VLOOKUP(AW33,Answers!#REF!,2,FALSE),\"Help!\"))","v":""},"","",{"$f":"Mainframe!P31","v":0},{"$f":"IF(BA33=0,\"\",IF(NOT(ISNA(VLOOKUP(BA33,Answers!#REF!,2,FALSE))),VLOOKUP(BA33,Answers!#REF!,2,FALSE),\"Help!\"))","v":""},"","",{"$f":"Mainframe!Q31","v":0},{"$f":"IF(BE33=0,\"\",IF(NOT(ISNA(VLOOKUP(BE33,Answers!#REF!,2,FALSE))),VLOOKUP(BE33,Answers!#REF!,2,FALSE),\"Help!\"))","v":""},"","","",null,"",""]
[{"$f":"Mainframe!B32","v":0},{"$f":"Mainframe!C32","v":0},{"$f":"IF(B34=0,\"\",IF(NOT(ISNA(VLOOKUP(B34,Answers!$A$6:$D$39,2,FALSE))),VLOOKUP(B34,Answers!$A$6:$D$39,2,FALSE),\"Help!\"))","v":""},"",{"$f":"Mainframe!D32","v":0},{"$f":"IF(E34=0,\"\",IF(NOT(ISNA(VLOOKUP(E34,Answers!#REF!,2,FALSE))),VLOOKUP(E34,Answers!#REF!,2,FALSE),\"Help!\"))","v":""},"","",{"$f":"Mainframe!E32","v":0},{"$f":"IF(I34=0,\"\",IF(NOT(ISNA(VLOOKUP(I34,Answers!#REF!,2,FALSE))),VLOOKUP(I34,Answers!#REF!,2,FALSE),\"Help!\"))","v":""},"","",{"$f":"Mainframe!F32","v":0},{"$f":"IF(M34=0,\"\",IF(NOT(ISNA(VLOOKUP(M34,Answers!#REF!,2,FALSE))),VLOOKUP(M34,Answers!#REF!,2,FALSE),\"Help!\"))","v":""},"","",{"$f":"Mainframe!G32","v":0},{"$f":"IF(Q34=0,\"\",IF(NOT(ISNA(VLOOKUP(Q34,Answers!#REF!,2,FALSE))),VLOOKUP(Q34,Answers!#REF!,2,FALSE),\"Help!\"))","v":""},"","",{"$f":"Mainframe!H32","v":0},{"$f":"IF(U34=0,\"\",IF(NOT(ISNA(VLOOKUP(U34,Answers!#REF!,2,FALSE))),VLOOKUP(U34,Answers!#REF!,2,FALSE),\"Help!\"))","v":""},"","",{"$f":"Mainframe!I32","v":0},{"$f":"IF(Y34=0,\"\",IF(NOT(ISNA(VLOOKUP(Y34,Answers!#REF!,3,FALSE))),VLOOKUP(Y34,Answers!#REF!,3,FALSE),\"Help!\"))","v":""},"","",{"$f":"Mainframe!J32","v":0},{"$f":"IF(AC34=0,\"\",IF(NOT(ISNA(VLOOKUP(AC34,Answers!#REF!,3,FALSE))),VLOOKUP(AC34,Answers!#REF!,3,FALSE),\"Help!\"))","v":""},"","",{"$f":"Mainframe!K32","v":0},{"$f":"IF(AG34=0,\"\",IF(NOT(ISNA(VLOOKUP(AG34,Answers!#REF!,3,FALSE))),VLOOKUP(AG34,Answers!#REF!,3,FALSE),\"Help!\"))","v":""},"","",{"$f":"Mainframe!L32","v":0},{"$f":"IF(AK34=0,\"\",IF(NOT(ISNA(VLOOKUP(AK34,Answers!#REF!,3,FALSE))),VLOOKUP(AK34,Answers!#REF!,3,FALSE),\"Help!\"))","v":""},"","",{"$f":"Mainframe!M32","v":0},{"$f":"IF(AO34=0,\"\",IF(NOT(ISNA(VLOOKUP(AO34,Answers!#REF!,2,FALSE))),VLOOKUP(AO34,Answers!#REF!,2,FALSE),\"Help!\"))","v":""},"","",{"$f":"Mainframe!N32","v":0},{"$f":"IF(AS34=0,\"\",IF(NOT(ISNA(VLOOKUP(AS34,Answers!#REF!,2,FALSE))),VLOOKUP(AS34,Answers!#REF!,2,FALSE),\"Help!\"))","v":""},"","",{"$f":"Mainframe!O32","v":0},{"$f":"IF(AW34=0,\"\",IF(NOT(ISNA(VLOOKUP(AW34,Answers!#REF!,2,FALSE))),VLOOKUP(AW34,Answers!#REF!,2,FALSE),\"Help!\"))","v":""},"","",{"$f":"Mainframe!P32","v":0},{"$f":"IF(BA34=0,\"\",IF(NOT(ISNA(VLOOKUP(BA34,Answers!#REF!,2,FALSE))),VLOOKUP(BA34,Answers!#REF!,2,FALSE),\"Help!\"))","v":""},"","",{"$f":"Mainframe!Q32","v":0},{"$f":"IF(BE34=0,\"\",IF(NOT(ISNA(VLOOKUP(BE34,Answers!#REF!,2,FALSE))),VLOOKUP(BE34,Answers!#REF!,2,FALSE),\"Help!\"))","v":""},"","","",null,"",""]
[{"$f":"Mainframe!B33","v":0},{"$f":"Mainframe!C33","v":0},{"$f":"IF(B35=0,\"\",IF(NOT(ISNA(VLOOKUP(B35,Answers!$A$6:$D$39,2,FALSE))),VLOOKUP(B35,Answers!$A$6:$D$39,2,FALSE),\"Help!\"))","v":""},"",{"$f":"Mainframe!D33","v":0},{"$f":"IF(E35=0,\"\",IF(NOT(ISNA(VLOOKUP(E35,Answers!#REF!,2,FALSE))),VLOOKUP(E35,Answers!#REF!,2,FALSE),\"Help!\"))","v":""},"","",{"$f":"Mainframe!E33","v":0},{"$f":"IF(I35=0,\"\",IF(NOT(ISNA(VLOOKUP(I35,Answers!#REF!,2,FALSE))),VLOOKUP(I35,Answers!#REF!,2,FALSE),\"Help!\"))","v":""},"","",{"$f":"Mainframe!F33","v":0},{"$f":"IF(M35=0,\"\",IF(NOT(ISNA(VLOOKUP(M35,Answers!#REF!,2,FALSE))),VLOOKUP(M35,Answers!#REF!,2,FALSE),\"Help!\"))","v":""},"","",{"$f":"Mainframe!G33","v":0},{"$f":"IF(Q35=0,\"\",IF(NOT(ISNA(VLOOKUP(Q35,Answers!#REF!,2,FALSE))),VLOOKUP(Q35,Answers!#REF!,2,FALSE),\"Help!\"))","v":""},"","",{"$f":"Mainframe!H33","v":0},{"$f":"IF(U35=0,\"\",IF(NOT(ISNA(VLOOKUP(U35,Answers!#REF!,2,FALSE))),VLOOKUP(U35,Answers!#REF!,2,FALSE),\"Help!\"))","v":""},"","",{"$f":"Mainframe!I33","v":0},{"$f":"IF(Y35=0,\"\",IF(NOT(ISNA(VLOOKUP(Y35,Answers!#REF!,3,FALSE))),VLOOKUP(Y35,Answers!#REF!,3,FALSE),\"Help!\"))","v":""},"","",{"$f":"Mainframe!J33","v":0},{"$f":"IF(AC35=0,\"\",IF(NOT(ISNA(VLOOKUP(AC35,Answers!#REF!,3,FALSE))),VLOOKUP(AC35,Answers!#REF!,3,FALSE),\"Help!\"))","v":""},"","",{"$f":"Mainframe!K33","v":0},{"$f":"IF(AG35=0,\"\",IF(NOT(ISNA(VLOOKUP(AG35,Answers!#REF!,3,FALSE))),VLOOKUP(AG35,Answers!#REF!,3,FALSE),\"Help!\"))","v":""},"","",{"$f":"Mainframe!L33","v":0},{"$f":"IF(AK35=0,\"\",IF(NOT(ISNA(VLOOKUP(AK35,Answers!#REF!,3,FALSE))),VLOOKUP(AK35,Answers!#REF!,3,FALSE),\"Help!\"))","v":""},"","",{"$f":"Mainframe!M33","v":0},{"$f":"IF(AO35=0,\"\",IF(NOT(ISNA(VLOOKUP(AO35,Answers!#REF!,2,FALSE))),VLOOKUP(AO35,Answers!#REF!,2,FALSE),\"Help!\"))","v":""},"","",{"$f":"Mainframe!N33","v":0},{"$f":"IF(AS35=0,\"\",IF(NOT(ISNA(VLOOKUP(AS35,Answers!#REF!,2,FALSE))),VLOOKUP(AS35,Answers!#REF!,2,FALSE),\"Help!\"))","v":""},"","",{"$f":"Mainframe!O33","v":0},{"$f":"IF(AW35=0,\"\",IF(NOT(ISNA(VLOOKUP(AW35,Answers!#REF!,2,FALSE))),VLOOKUP(AW35,Answers!#REF!,2,FALSE),\"Help!\"))","v":""},"","",{"$f":"Mainframe!P33","v":0},{"$f":"IF(BA35=0,\"\",IF(NOT(ISNA(VLOOKUP(BA35,Answers!#REF!,2,FALSE))),VLOOKUP(BA35,Answers!#REF!,2,FALSE),\"Help!\"))","v":""},"","",{"$f":"Mainframe!Q33","v":0},{"$f":"IF(BE35=0,\"\",IF(NOT(ISNA(VLOOKUP(BE35,Answers!#REF!,2,FALSE))),VLOOKUP(BE35,Answers!#REF!,2,FALSE),\"Help!\"))","v":""},"","","",null,"",""]
[{"$f":"Mainframe!B34","v":0},{"$f":"Mainframe!C34","v":0},{"$f":"IF(B36=0,\"\",IF(NOT(ISNA(VLOOKUP(B36,Answers!$A$6:$D$39,2,FALSE))),VLOOKUP(B36,Answers!$A$6:$D$39,2,FALSE),\"Help!\"))","v":""},"",{"$f":"Mainframe!D34","v":0},{"$f":"IF(E36=0,\"\",IF(NOT(ISNA(VLOOKUP(E36,Answers!#REF!,2,FALSE))),VLOOKUP(E36,Answers!#REF!,2,FALSE),\"Help!\"))","v":""},"","",{"$f":"Mainframe!E34","v":0},{"$f":"IF(I36=0,\"\",IF(NOT(ISNA(VLOOKUP(I36,Answers!#REF!,2,FALSE))),VLOOKUP(I36,Answers!#REF!,2,FALSE),\"Help!\"))","v":""},"","",{"$f":"Mainframe!F34","v":0},{"$f":"IF(M36=0,\"\",IF(NOT(ISNA(VLOOKUP(M36,Answers!#REF!,2,FALSE))),VLOOKUP(M36,Answers!#REF!,2,FALSE),\"Help!\"))","v":""},"","",{"$f":"Mainframe!G34","v":0},{"$f":"IF(Q36=0,\"\",IF(NOT(ISNA(VLOOKUP(Q36,Answers!#REF!,2,FALSE))),VLOOKUP(Q36,Answers!#REF!,2,FALSE),\"Help!\"))","v":""},"","",{"$f":"Mainframe!H34","v":0},{"$f":"IF(U36=0,\"\",IF(NOT(ISNA(VLOOKUP(U36,Answers!#REF!,2,FALSE))),VLOOKUP(U36,Answers!#REF!,2,FALSE),\"Help!\"))","v":""},"","",{"$f":"Mainframe!I34","v":0},{"$f":"IF(Y36=0,\"\",IF(NOT(ISNA(VLOOKUP(Y36,Answers!#REF!,3,FALSE))),VLOOKUP(Y36,Answers!#REF!,3,FALSE),\"Help!\"))","v":""},"","",{"$f":"Mainframe!J34","v":0},{"$f":"IF(AC36=0,\"\",IF(NOT(ISNA(VLOOKUP(AC36,Answers!#REF!,3,FALSE))),VLOOKUP(AC36,Answers!#REF!,3,FALSE),\"Help!\"))","v":""},"","",{"$f":"Mainframe!K34","v":0},{"$f":"IF(AG36=0,\"\",IF(NOT(ISNA(VLOOKUP(AG36,Answers!#REF!,3,FALSE))),VLOOKUP(AG36,Answers!#REF!,3,FALSE),\"Help!\"))","v":""},"","",{"$f":"Mainframe!L34","v":0},{"$f":"IF(AK36=0,\"\",IF(NOT(ISNA(VLOOKUP(AK36,Answers!#REF!,3,FALSE))),VLOOKUP(AK36,Answers!#REF!,3,FALSE),\"Help!\"))","v":""},"","",{"$f":"Mainframe!M34","v":0},{"$f":"IF(AO36=0,\"\",IF(NOT(ISNA(VLOOKUP(AO36,Answers!#REF!,2,FALSE))),VLOOKUP(AO36,Answers!#REF!,2,FALSE),\"Help!\"))","v":""},"","",{"$f":"Mainframe!N34","v":0},{"$f":"IF(AS36=0,\"\",IF(NOT(ISNA(VLOOKUP(AS36,Answers!#REF!,2,FALSE))),VLOOKUP(AS36,Answers!#REF!,2,FALSE),\"Help!\"))","v":""},"","",{"$f":"Mainframe!O34","v":0},{"$f":"IF(AW36=0,\"\",IF(NOT(ISNA(VLOOKUP(AW36,Answers!#REF!,2,FALSE))),VLOOKUP(AW36,Answers!#REF!,2,FALSE),\"Help!\"))","v":""},"","",{"$f":"Mainframe!P34","v":0},{"$f":"IF(BA36=0,\"\",IF(NOT(ISNA(VLOOKUP(BA36,Answers!#REF!,2,FALSE))),VLOOKUP(BA36,Answers!#REF!,2,FALSE),\"Help!\"))","v":""},"","",{"$f":"Mainframe!Q34","v":0},{"$f":"IF(BE36=0,\"\",IF(NOT(ISNA(VLOOKUP(BE36,Answers!#REF!,2,FALSE))),VLOOKUP(BE36,Answers!#REF!,2,FALSE),\"Help!\"))","v":""},"","","",null,"",""]
[{"$f":"Mainframe!B35","v":0},{"$f":"Mainframe!C35","v":0},{"$f":"IF(B37=0,\"\",IF(NOT(ISNA(VLOOKUP(B37,Answers!$A$6:$D$39,2,FALSE))),VLOOKUP(B37,Answers!$A$6:$D$39,2,FALSE),\"Help!\"))","v":""},"",{"$f":"Mainframe!D35","v":0},{"$f":"IF(E37=0,\"\",IF(NOT(ISNA(VLOOKUP(E37,Answers!#REF!,2,FALSE))),VLOOKUP(E37,Answers!#REF!,2,FALSE),\"Help!\"))","v":""},"","",{"$f":"Mainframe!E35","v":0},{"$f":"IF(I37=0,\"\",IF(NOT(ISNA(VLOOKUP(I37,Answers!#REF!,2,FALSE))),VLOOKUP(I37,Answers!#REF!,2,FALSE),\"Help!\"))","v":""},"","",{"$f":"Mainframe!F35","v":0},{"$f":"IF(M37=0,\"\",IF(NOT(ISNA(VLOOKUP(M37,Answers!#REF!,2,FALSE))),VLOOKUP(M37,Answers!#REF!,2,FALSE),\"Help!\"))","v":""},"","",{"$f":"Mainframe!G35","v":0},{"$f":"IF(Q37=0,\"\",IF(NOT(ISNA(VLOOKUP(Q37,Answers!#REF!,2,FALSE))),VLOOKUP(Q37,Answers!#REF!,2,FALSE),\"Help!\"))","v":""},"","",{"$f":"Mainframe!H35","v":0},{"$f":"IF(U37=0,\"\",IF(NOT(ISNA(VLOOKUP(U37,Answers!#REF!,2,FALSE))),VLOOKUP(U37,Answers!#REF!,2,FALSE),\"Help!\"))","v":""},"","",{"$f":"Mainframe!I35","v":0},{"$f":"IF(Y37=0,\"\",IF(NOT(ISNA(VLOOKUP(Y37,Answers!#REF!,3,FALSE))),VLOOKUP(Y37,Answers!#REF!,3,FALSE),\"Help!\"))","v":""},"","",{"$f":"Mainframe!J35","v":0},{"$f":"IF(AC37=0,\"\",IF(NOT(ISNA(VLOOKUP(AC37,Answers!#REF!,3,FALSE))),VLOOKUP(AC37,Answers!#REF!,3,FALSE),\"Help!\"))","v":""},"","",{"$f":"Mainframe!K35","v":0},{"$f":"IF(AG37=0,\"\",IF(NOT(ISNA(VLOOKUP(AG37,Answers!#REF!,3,FALSE))),VLOOKUP(AG37,Answers!#REF!,3,FALSE),\"Help!\"))","v":""},"","",{"$f":"Mainframe!L35","v":0},{"$f":"IF(AK37=0,\"\",IF(NOT(ISNA(VLOOKUP(AK37,Answers!#REF!,3,FALSE))),VLOOKUP(AK37,Answers!#REF!,3,FALSE),\"Help!\"))","v":""},"","",{"$f":"Mainframe!M35","v":0},{"$f":"IF(AO37=0,\"\",IF(NOT(ISNA(VLOOKUP(AO37,Answers!#REF!,2,FALSE))),VLOOKUP(AO37,Answers!#REF!,2,FALSE),\"Help!\"))","v":""},"","",{"$f":"Mainframe!N35","v":0},{"$f":"IF(AS37=0,\"\",IF(NOT(ISNA(VLOOKUP(AS37,Answers!#REF!,2,FALSE))),VLOOKUP(AS37,Answers!#REF!,2,FALSE),\"Help!\"))","v":""},"","",{"$f":"Mainframe!O35","v":0},{"$f":"IF(AW37=0,\"\",IF(NOT(ISNA(VLOOKUP(AW37,Answers!#REF!,2,FALSE))),VLOOKUP(AW37,Answers!#REF!,2,FALSE),\"Help!\"))","v":""},"","",{"$f":"Mainframe!P35","v":0},{"$f":"IF(BA37=0,\"\",IF(NOT(ISNA(VLOOKUP(BA37,Answers!#REF!,2,FALSE))),VLOOKUP(BA37,Answers!#REF!,2,FALSE),\"Help!\"))","v":""},"","",{"$f":"Mainframe!Q35","v":0},{"$f":"IF(BE37=0,\"\",IF(NOT(ISNA(VLOOKUP(BE37,Answers!#REF!,2,FALSE))),VLOOKUP(BE37,Answers!#REF!,2,FALSE),\"Help!\"))","v":""},"","","",null,"",""]
[{"$f":"Mainframe!B36","v":0},{"$f":"Mainframe!C36","v":0},{"$f":"IF(B38=0,\"\",IF(NOT(ISNA(VLOOKUP(B38,Answers!$A$6:$D$39,2,FALSE))),VLOOKUP(B38,Answers!$A$6:$D$39,2,FALSE),\"Help!\"))","v":""},"",{"$f":"Mainframe!D36","v":0},{"$f":"IF(E38=0,\"\",IF(NOT(ISNA(VLOOKUP(E38,Answers!#REF!,2,FALSE))),VLOOKUP(E38,Answers!#REF!,2,FALSE),\"Help!\"))","v":""},"","",{"$f":"Mainframe!E36","v":0},{"$f":"IF(I38=0,\"\",IF(NOT(ISNA(VLOOKUP(I38,Answers!#REF!,2,FALSE))),VLOOKUP(I38,Answers!#REF!,2,FALSE),\"Help!\"))","v":""},"","",{"$f":"Mainframe!F36","v":0},{"$f":"IF(M38=0,\"\",IF(NOT(ISNA(VLOOKUP(M38,Answers!#REF!,2,FALSE))),VLOOKUP(M38,Answers!#REF!,2,FALSE),\"Help!\"))","v":""},"","",{"$f":"Mainframe!G36","v":0},{"$f":"IF(Q38=0,\"\",IF(NOT(ISNA(VLOOKUP(Q38,Answers!#REF!,2,FALSE))),VLOOKUP(Q38,Answers!#REF!,2,FALSE),\"Help!\"))","v":""},"","",{"$f":"Mainframe!H36","v":0},{"$f":"IF(U38=0,\"\",IF(NOT(ISNA(VLOOKUP(U38,Answers!#REF!,2,FALSE))),VLOOKUP(U38,Answers!#REF!,2,FALSE),\"Help!\"))","v":""},"","",{"$f":"Mainframe!I36","v":0},{"$f":"IF(Y38=0,\"\",IF(NOT(ISNA(VLOOKUP(Y38,Answers!#REF!,3,FALSE))),VLOOKUP(Y38,Answers!#REF!,3,FALSE),\"Help!\"))","v":""},"","",{"$f":"Mainframe!J36","v":0},{"$f":"IF(AC38=0,\"\",IF(NOT(ISNA(VLOOKUP(AC38,Answers!#REF!,3,FALSE))),VLOOKUP(AC38,Answers!#REF!,3,FALSE),\"Help!\"))","v":""},"","",{"$f":"Mainframe!K36","v":0},{"$f":"IF(AG38=0,\"\",IF(NOT(ISNA(VLOOKUP(AG38,Answers!#REF!,3,FALSE))),VLOOKUP(AG38,Answers!#REF!,3,FALSE),\"Help!\"))","v":""},"","",{"$f":"Mainframe!L36","v":0},{"$f":"IF(AK38=0,\"\",IF(NOT(ISNA(VLOOKUP(AK38,Answers!#REF!,3,FALSE))),VLOOKUP(AK38,Answers!#REF!,3,FALSE),\"Help!\"))","v":""},"","",{"$f":"Mainframe!M36","v":0},{"$f":"IF(AO38=0,\"\",IF(NOT(ISNA(VLOOKUP(AO38,Answers!#REF!,2,FALSE))),VLOOKUP(AO38,Answers!#REF!,2,FALSE),\"Help!\"))","v":""},"","",{"$f":"Mainframe!N36","v":0},{"$f":"IF(AS38=0,\"\",IF(NOT(ISNA(VLOOKUP(AS38,Answers!#REF!,2,FALSE))),VLOOKUP(AS38,Answers!#REF!,2,FALSE),\"Help!\"))","v":""},"","",{"$f":"Mainframe!O36","v":0},{"$f":"IF(AW38=0,\"\",IF(NOT(ISNA(VLOOKUP(AW38,Answers!#REF!,2,FALSE))),VLOOKUP(AW38,Answers!#REF!,2,FALSE),\"Help!\"))","v":""},"","",{"$f":"Mainframe!P36","v":0},{"$f":"IF(BA38=0,\"\",IF(NOT(ISNA(VLOOKUP(BA38,Answers!#REF!,2,FALSE))),VLOOKUP(BA38,Answers!#REF!,2,FALSE),\"Help!\"))","v":""},"","",{"$f":"Mainframe!Q36","v":0},{"$f":"IF(BE38=0,\"\",IF(NOT(ISNA(VLOOKUP(BE38,Answers!#REF!,2,FALSE))),VLOOKUP(BE38,Answers!#REF!,2,FALSE),\"Help!\"))","v":""},"","","",null,"",""]
[{"$f":"Mainframe!B37","v":0},{"$f":"Mainframe!C37","v":0},{"$f":"IF(B39=0,\"\",IF(NOT(ISNA(VLOOKUP(B39,Answers!$A$6:$D$39,2,FALSE))),VLOOKUP(B39,Answers!$A$6:$D$39,2,FALSE),\"Help!\"))","v":""},"",{"$f":"Mainframe!D37","v":0},{"$f":"IF(E39=0,\"\",IF(NOT(ISNA(VLOOKUP(E39,Answers!#REF!,2,FALSE))),VLOOKUP(E39,Answers!#REF!,2,FALSE),\"Help!\"))","v":""},"","",{"$f":"Mainframe!E37","v":0},{"$f":"IF(I39=0,\"\",IF(NOT(ISNA(VLOOKUP(I39,Answers!#REF!,2,FALSE))),VLOOKUP(I39,Answers!#REF!,2,FALSE),\"Help!\"))","v":""},"","",{"$f":"Mainframe!F37","v":0},{"$f":"IF(M39=0,\"\",IF(NOT(ISNA(VLOOKUP(M39,Answers!#REF!,2,FALSE))),VLOOKUP(M39,Answers!#REF!,2,FALSE),\"Help!\"))","v":""},"","",{"$f":"Mainframe!G37","v":0},{"$f":"IF(Q39=0,\"\",IF(NOT(ISNA(VLOOKUP(Q39,Answers!#REF!,2,FALSE))),VLOOKUP(Q39,Answers!#REF!,2,FALSE),\"Help!\"))","v":""},"","",{"$f":"Mainframe!H37","v":0},{"$f":"IF(U39=0,\"\",IF(NOT(ISNA(VLOOKUP(U39,Answers!#REF!,2,FALSE))),VLOOKUP(U39,Answers!#REF!,2,FALSE),\"Help!\"))","v":""},"","",{"$f":"Mainframe!I37","v":0},{"$f":"IF(Y39=0,\"\",IF(NOT(ISNA(VLOOKUP(Y39,Answers!#REF!,3,FALSE))),VLOOKUP(Y39,Answers!#REF!,3,FALSE),\"Help!\"))","v":""},"","",{"$f":"Mainframe!J37","v":0},{"$f":"IF(AC39=0,\"\",IF(NOT(ISNA(VLOOKUP(AC39,Answers!#REF!,3,FALSE))),VLOOKUP(AC39,Answers!#REF!,3,FALSE),\"Help!\"))","v":""},"","",{"$f":"Mainframe!K37","v":0},{"$f":"IF(AG39=0,\"\",IF(NOT(ISNA(VLOOKUP(AG39,Answers!#REF!,3,FALSE))),VLOOKUP(AG39,Answers!#REF!,3,FALSE),\"Help!\"))","v":""},"","",{"$f":"Mainframe!L37","v":0},{"$f":"IF(AK39=0,\"\",IF(NOT(ISNA(VLOOKUP(AK39,Answers!#REF!,3,FALSE))),VLOOKUP(AK39,Answers!#REF!,3,FALSE),\"Help!\"))","v":""},"","",{"$f":"Mainframe!M37","v":0},{"$f":"IF(AO39=0,\"\",IF(NOT(ISNA(VLOOKUP(AO39,Answers!#REF!,2,FALSE))),VLOOKUP(AO39,Answers!#REF!,2,FALSE),\"Help!\"))","v":""},"","",{"$f":"Mainframe!N37","v":0},{"$f":"IF(AS39=0,\"\",IF(NOT(ISNA(VLOOKUP(AS39,Answers!#REF!,2,FALSE))),VLOOKUP(AS39,Answers!#REF!,2,FALSE),\"Help!\"))","v":""},"","",{"$f":"Mainframe!O37","v":0},{"$f":"IF(AW39=0,\"\",IF(NOT(ISNA(VLOOKUP(AW39,Answers!#REF!,2,FALSE))),VLOOKUP(AW39,Answers!#REF!,2,FALSE),\"Help!\"))","v":""},"","",{"$f":"Mainframe!P37","v":0},{"$f":"IF(BA39=0,\"\",IF(NOT(ISNA(VLOOKUP(BA39,Answers!#REF!,2,FALSE))),VLOOKUP(BA39,Answers!#REF!,2,FALSE),\"Help!\"))","v":""},"","",{"$f":"Mainframe!Q37","v":0},{"$f":"IF(BE39=0,\"\",IF(NOT(ISNA(VLOOKUP(BE39,Answers!#REF!,2,FALSE))),VLOOKUP(BE39,Answers!#REF!,2,FALSE),\"Help!\"))","v":""},"","","",null,"",""]
[{"$f":"Mainframe!B38","v":0},{"$f":"Mainframe!C38","v":0},{"$f":"IF(B40=0,\"\",IF(NOT(ISNA(VLOOKUP(B40,Answers!$A$6:$D$39,2,FALSE))),VLOOKUP(B40,Answers!$A$6:$D$39,2,FALSE),\"Help!\"))","v":""},"",{"$f":"Mainframe!D38","v":0},{"$f":"IF(E40=0,\"\",IF(NOT(ISNA(VLOOKUP(E40,Answers!#REF!,2,FALSE))),VLOOKUP(E40,Answers!#REF!,2,FALSE),\"Help!\"))","v":""},"","",{"$f":"Mainframe!E38","v":0},{"$f":"IF(I40=0,\"\",IF(NOT(ISNA(VLOOKUP(I40,Answers!#REF!,2,FALSE))),VLOOKUP(I40,Answers!#REF!,2,FALSE),\"Help!\"))","v":""},"","",{"$f":"Mainframe!F38","v":0},{"$f":"IF(M40=0,\"\",IF(NOT(ISNA(VLOOKUP(M40,Answers!#REF!,2,FALSE))),VLOOKUP(M40,Answers!#REF!,2,FALSE),\"Help!\"))","v":""},"","",{"$f":"Mainframe!G38","v":0},{"$f":"IF(Q40=0,\"\",IF(NOT(ISNA(VLOOKUP(Q40,Answers!#REF!,2,FALSE))),VLOOKUP(Q40,Answers!#REF!,2,FALSE),\"Help!\"))","v":""},"","",{"$f":"Mainframe!H38","v":0},{"$f":"IF(U40=0,\"\",IF(NOT(ISNA(VLOOKUP(U40,Answers!#REF!,2,FALSE))),VLOOKUP(U40,Answers!#REF!,2,FALSE),\"Help!\"))","v":""},"","",{"$f":"Mainframe!I38","v":0},{"$f":"IF(Y40=0,\"\",IF(NOT(ISNA(VLOOKUP(Y40,Answers!#REF!,3,FALSE))),VLOOKUP(Y40,Answers!#REF!,3,FALSE),\"Help!\"))","v":""},"","",{"$f":"Mainframe!J38","v":0},{"$f":"IF(AC40=0,\"\",IF(NOT(ISNA(VLOOKUP(AC40,Answers!#REF!,3,FALSE))),VLOOKUP(AC40,Answers!#REF!,3,FALSE),\"Help!\"))","v":""},"","",{"$f":"Mainframe!K38","v":0},{"$f":"IF(AG40=0,\"\",IF(NOT(ISNA(VLOOKUP(AG40,Answers!#REF!,3,FALSE))),VLOOKUP(AG40,Answers!#REF!,3,FALSE),\"Help!\"))","v":""},"","",{"$f":"Mainframe!L38","v":0},{"$f":"IF(AK40=0,\"\",IF(NOT(ISNA(VLOOKUP(AK40,Answers!#REF!,3,FALSE))),VLOOKUP(AK40,Answers!#REF!,3,FALSE),\"Help!\"))","v":""},"","",{"$f":"Mainframe!M38","v":0},{"$f":"IF(AO40=0,\"\",IF(NOT(ISNA(VLOOKUP(AO40,Answers!#REF!,2,FALSE))),VLOOKUP(AO40,Answers!#REF!,2,FALSE),\"Help!\"))","v":""},"","",{"$f":"Mainframe!N38","v":0},{"$f":"IF(AS40=0,\"\",IF(NOT(ISNA(VLOOKUP(AS40,Answers!#REF!,2,FALSE))),VLOOKUP(AS40,Answers!#REF!,2,FALSE),\"Help!\"))","v":""},"","",{"$f":"Mainframe!O38","v":0},{"$f":"IF(AW40=0,\"\",IF(NOT(ISNA(VLOOKUP(AW40,Answers!#REF!,2,FALSE))),VLOOKUP(AW40,Answers!#REF!,2,FALSE),\"Help!\"))","v":""},"","",{"$f":"Mainframe!P38","v":0},{"$f":"IF(BA40=0,\"\",IF(NOT(ISNA(VLOOKUP(BA40,Answers!#REF!,2,FALSE))),VLOOKUP(BA40,Answers!#REF!,2,FALSE),\"Help!\"))","v":""},"","",{"$f":"Mainframe!Q38","v":0},{"$f":"IF(BE40=0,\"\",IF(NOT(ISNA(VLOOKUP(BE40,Answers!#REF!,2,FALSE))),VLOOKUP(BE40,Answers!#REF!,2,FALSE),\"Help!\"))","v":""},"","","",null,"",""]
[{"$f":"Mainframe!B39","v":0},{"$f":"Mainframe!C39","v":0},{"$f":"IF(B41=0,\"\",IF(NOT(ISNA(VLOOKUP(B41,Answers!$A$6:$D$39,2,FALSE))),VLOOKUP(B41,Answers!$A$6:$D$39,2,FALSE),\"Help!\"))","v":""},"",{"$f":"Mainframe!D39","v":0},{"$f":"IF(E41=0,\"\",IF(NOT(ISNA(VLOOKUP(E41,Answers!#REF!,2,FALSE))),VLOOKUP(E41,Answers!#REF!,2,FALSE),\"Help!\"))","v":""},"","",{"$f":"Mainframe!E39","v":0},{"$f":"IF(I41=0,\"\",IF(NOT(ISNA(VLOOKUP(I41,Answers!#REF!,2,FALSE))),VLOOKUP(I41,Answers!#REF!,2,FALSE),\"Help!\"))","v":""},"","",{"$f":"Mainframe!F39","v":0},{"$f":"IF(M41=0,\"\",IF(NOT(ISNA(VLOOKUP(M41,Answers!#REF!,2,FALSE))),VLOOKUP(M41,Answers!#REF!,2,FALSE),\"Help!\"))","v":""},"","",{"$f":"Mainframe!G39","v":0},{"$f":"IF(Q41=0,\"\",IF(NOT(ISNA(VLOOKUP(Q41,Answers!#REF!,2,FALSE))),VLOOKUP(Q41,Answers!#REF!,2,FALSE),\"Help!\"))","v":""},"","",{"$f":"Mainframe!H39","v":0},{"$f":"IF(U41=0,\"\",IF(NOT(ISNA(VLOOKUP(U41,Answers!#REF!,2,FALSE))),VLOOKUP(U41,Answers!#REF!,2,FALSE),\"Help!\"))","v":""},"","",{"$f":"Mainframe!I39","v":0},{"$f":"IF(Y41=0,\"\",IF(NOT(ISNA(VLOOKUP(Y41,Answers!#REF!,3,FALSE))),VLOOKUP(Y41,Answers!#REF!,3,FALSE),\"Help!\"))","v":""},"","",{"$f":"Mainframe!J39","v":0},{"$f":"IF(AC41=0,\"\",IF(NOT(ISNA(VLOOKUP(AC41,Answers!#REF!,3,FALSE))),VLOOKUP(AC41,Answers!#REF!,3,FALSE),\"Help!\"))","v":""},"","",{"$f":"Mainframe!K39","v":0},{"$f":"IF(AG41=0,\"\",IF(NOT(ISNA(VLOOKUP(AG41,Answers!#REF!,3,FALSE))),VLOOKUP(AG41,Answers!#REF!,3,FALSE),\"Help!\"))","v":""},"","",{"$f":"Mainframe!L39","v":0},{"$f":"IF(AK41=0,\"\",IF(NOT(ISNA(VLOOKUP(AK41,Answers!#REF!,3,FALSE))),VLOOKUP(AK41,Answers!#REF!,3,FALSE),\"Help!\"))","v":""},"","",{"$f":"Mainframe!M39","v":0},{"$f":"IF(AO41=0,\"\",IF(NOT(ISNA(VLOOKUP(AO41,Answers!#REF!,2,FALSE))),VLOOKUP(AO41,Answers!#REF!,2,FALSE),\"Help!\"))","v":""},"","",{"$f":"Mainframe!N39","v":0},{"$f":"IF(AS41=0,\"\",IF(NOT(ISNA(VLOOKUP(AS41,Answers!#REF!,2,FALSE))),VLOOKUP(AS41,Answers!#REF!,2,FALSE),\"Help!\"))","v":""},"","",{"$f":"Mainframe!O39","v":0},{"$f":"IF(AW41=0,\"\",IF(NOT(ISNA(VLOOKUP(AW41,Answers!#REF!,2,FALSE))),VLOOKUP(AW41,Answers!#REF!,2,FALSE),\"Help!\"))","v":""},"","",{"$f":"Mainframe!P39","v":0},{"$f":"IF(BA41=0,\"\",IF(NOT(ISNA(VLOOKUP(BA41,Answers!#REF!,2,FALSE))),VLOOKUP(BA41,Answers!#REF!,2,FALSE),\"Help!\"))","v":""},"","",{"$f":"Mainframe!Q39","v":0},{"$f":"IF(BE41=0,\"\",IF(NOT(ISNA(VLOOKUP(BE41,Answers!#REF!,2,FALSE))),VLOOKUP(BE41,Answers!#REF!,2,FALSE),\"Help!\"))","v":""},"","","",null,"",""]
[{"$f":"Mainframe!B40","v":0},{"$f":"Mainframe!C40","v":0},{"$f":"IF(B42=0,\"\",IF(NOT(ISNA(VLOOKUP(B42,Answers!$A$6:$D$39,2,FALSE))),VLOOKUP(B42,Answers!$A$6:$D$39,2,FALSE),\"Help!\"))","v":""},"",{"$f":"Mainframe!D40","v":0},{"$f":"IF(E42=0,\"\",IF(NOT(ISNA(VLOOKUP(E42,Answers!#REF!,2,FALSE))),VLOOKUP(E42,Answers!#REF!,2,FALSE),\"Help!\"))","v":""},"","",{"$f":"Mainframe!E40","v":0},{"$f":"IF(I42=0,\"\",IF(NOT(ISNA(VLOOKUP(I42,Answers!#REF!,2,FALSE))),VLOOKUP(I42,Answers!#REF!,2,FALSE),\"Help!\"))","v":""},"","",{"$f":"Mainframe!F40","v":0},{"$f":"IF(M42=0,\"\",IF(NOT(ISNA(VLOOKUP(M42,Answers!#REF!,2,FALSE))),VLOOKUP(M42,Answers!#REF!,2,FALSE),\"Help!\"))","v":""},"","",{"$f":"Mainframe!G40","v":0},{"$f":"IF(Q42=0,\"\",IF(NOT(ISNA(VLOOKUP(Q42,Answers!#REF!,2,FALSE))),VLOOKUP(Q42,Answers!#REF!,2,FALSE),\"Help!\"))","v":""},"","",{"$f":"Mainframe!H40","v":0},{"$f":"IF(U42=0,\"\",IF(NOT(ISNA(VLOOKUP(U42,Answers!#REF!,2,FALSE))),VLOOKUP(U42,Answers!#REF!,2,FALSE),\"Help!\"))","v":""},"","",{"$f":"Mainframe!I40","v":0},{"$f":"IF(Y42=0,\"\",IF(NOT(ISNA(VLOOKUP(Y42,Answers!#REF!,3,FALSE))),VLOOKUP(Y42,Answers!#REF!,3,FALSE),\"Help!\"))","v":""},"","",{"$f":"Mainframe!J40","v":0},{"$f":"IF(AC42=0,\"\",IF(NOT(ISNA(VLOOKUP(AC42,Answers!#REF!,3,FALSE))),VLOOKUP(AC42,Answers!#REF!,3,FALSE),\"Help!\"))","v":""},"","",{"$f":"Mainframe!K40","v":0},{"$f":"IF(AG42=0,\"\",IF(NOT(ISNA(VLOOKUP(AG42,Answers!#REF!,3,FALSE))),VLOOKUP(AG42,Answers!#REF!,3,FALSE),\"Help!\"))","v":""},"","",{"$f":"Mainframe!L40","v":0},{"$f":"IF(AK42=0,\"\",IF(NOT(ISNA(VLOOKUP(AK42,Answers!#REF!,3,FALSE))),VLOOKUP(AK42,Answers!#REF!,3,FALSE),\"Help!\"))","v":""},"","",{"$f":"Mainframe!M40","v":0},{"$f":"IF(AO42=0,\"\",IF(NOT(ISNA(VLOOKUP(AO42,Answers!#REF!,2,FALSE))),VLOOKUP(AO42,Answers!#REF!,2,FALSE),\"Help!\"))","v":""},"","",{"$f":"Mainframe!N40","v":0},{"$f":"IF(AS42=0,\"\",IF(NOT(ISNA(VLOOKUP(AS42,Answers!#REF!,2,FALSE))),VLOOKUP(AS42,Answers!#REF!,2,FALSE),\"Help!\"))","v":""},"","",{"$f":"Mainframe!O40","v":0},{"$f":"IF(AW42=0,\"\",IF(NOT(ISNA(VLOOKUP(AW42,Answers!#REF!,2,FALSE))),VLOOKUP(AW42,Answers!#REF!,2,FALSE),\"Help!\"))","v":""},"","",{"$f":"Mainframe!P40","v":0},{"$f":"IF(BA42=0,\"\",IF(NOT(ISNA(VLOOKUP(BA42,Answers!#REF!,2,FALSE))),VLOOKUP(BA42,Answers!#REF!,2,FALSE),\"Help!\"))","v":""},"","",{"$f":"Mainframe!Q40","v":0},{"$f":"IF(BE42=0,\"\",IF(NOT(ISNA(VLOOKUP(BE42,Answers!#REF!,2,FALSE))),VLOOKUP(BE42,Answers!#REF!,2,FALSE),\"Help!\"))","v":""},"","","",null,"",""]
[{"$f":"Mainframe!B41","v":0},{"$f":"Mainframe!C41","v":0},{"$f":"IF(B43=0,\"\",IF(NOT(ISNA(VLOOKUP(B43,Answers!$A$6:$D$39,2,FALSE))),VLOOKUP(B43,Answers!$A$6:$D$39,2,FALSE),\"Help!\"))","v":""},"",{"$f":"Mainframe!D41","v":0},{"$f":"IF(E43=0,\"\",IF(NOT(ISNA(VLOOKUP(E43,Answers!#REF!,2,FALSE))),VLOOKUP(E43,Answers!#REF!,2,FALSE),\"Help!\"))","v":""},"","",{"$f":"Mainframe!E41","v":0},{"$f":"IF(I43=0,\"\",IF(NOT(ISNA(VLOOKUP(I43,Answers!#REF!,2,FALSE))),VLOOKUP(I43,Answers!#REF!,2,FALSE),\"Help!\"))","v":""},"","",{"$f":"Mainframe!F41","v":0},{"$f":"IF(M43=0,\"\",IF(NOT(ISNA(VLOOKUP(M43,Answers!#REF!,2,FALSE))),VLOOKUP(M43,Answers!#REF!,2,FALSE),\"Help!\"))","v":""},"","",{"$f":"Mainframe!G41","v":0},{"$f":"IF(Q43=0,\"\",IF(NOT(ISNA(VLOOKUP(Q43,Answers!#REF!,2,FALSE))),VLOOKUP(Q43,Answers!#REF!,2,FALSE),\"Help!\"))","v":""},"","",{"$f":"Mainframe!H41","v":0},{"$f":"IF(U43=0,\"\",IF(NOT(ISNA(VLOOKUP(U43,Answers!#REF!,2,FALSE))),VLOOKUP(U43,Answers!#REF!,2,FALSE),\"Help!\"))","v":""},"","",{"$f":"Mainframe!I41","v":0},{"$f":"IF(Y43=0,\"\",IF(NOT(ISNA(VLOOKUP(Y43,Answers!#REF!,3,FALSE))),VLOOKUP(Y43,Answers!#REF!,3,FALSE),\"Help!\"))","v":""},"","",{"$f":"Mainframe!J41","v":0},{"$f":"IF(AC43=0,\"\",IF(NOT(ISNA(VLOOKUP(AC43,Answers!#REF!,3,FALSE))),VLOOKUP(AC43,Answers!#REF!,3,FALSE),\"Help!\"))","v":""},"","",{"$f":"Mainframe!K41","v":0},{"$f":"IF(AG43=0,\"\",IF(NOT(ISNA(VLOOKUP(AG43,Answers!#REF!,3,FALSE))),VLOOKUP(AG43,Answers!#REF!,3,FALSE),\"Help!\"))","v":""},"","",{"$f":"Mainframe!L41","v":0},{"$f":"IF(AK43=0,\"\",IF(NOT(ISNA(VLOOKUP(AK43,Answers!#REF!,3,FALSE))),VLOOKUP(AK43,Answers!#REF!,3,FALSE),\"Help!\"))","v":""},"","",{"$f":"Mainframe!M41","v":0},{"$f":"IF(AO43=0,\"\",IF(NOT(ISNA(VLOOKUP(AO43,Answers!#REF!,2,FALSE))),VLOOKUP(AO43,Answers!#REF!,2,FALSE),\"Help!\"))","v":""},"","",{"$f":"Mainframe!N41","v":0},{"$f":"IF(AS43=0,\"\",IF(NOT(ISNA(VLOOKUP(AS43,Answers!#REF!,2,FALSE))),VLOOKUP(AS43,Answers!#REF!,2,FALSE),\"Help!\"))","v":""},"","",{"$f":"Mainframe!O41","v":0},{"$f":"IF(AW43=0,\"\",IF(NOT(ISNA(VLOOKUP(AW43,Answers!#REF!,2,FALSE))),VLOOKUP(AW43,Answers!#REF!,2,FALSE),\"Help!\"))","v":""},"","",{"$f":"Mainframe!P41","v":0},{"$f":"IF(BA43=0,\"\",IF(NOT(ISNA(VLOOKUP(BA43,Answers!#REF!,2,FALSE))),VLOOKUP(BA43,Answers!#REF!,2,FALSE),\"Help!\"))","v":""},"","",{"$f":"Mainframe!Q41","v":0},{"$f":"IF(BE43=0,\"\",IF(NOT(ISNA(VLOOKUP(BE43,Answers!#REF!,2,FALSE))),VLOOKUP(BE43,Answers!#REF!,2,FALSE),\"Help!\"))","v":""},"","","",null,"",""]

{"sheet":"Results","index":4,"n_rows":68,"n_cols":5,"rows_kept":68,"cut":false,"hidden":false,"merged":[]}
["Below you'll see the responses for the current question.",null,null,"Here are the standings for the current question."]
["Copy them over to Microsoft Word and do the find & replace.",null,null,"You can copy these directly to Jboard."]
["You'll need to manually replace any #N/A (wrong answers)."]
[]
[null,null,"",null,""]
[]
[]
[null,null,"",null,""]
[null,null,"",null,""]
[null,null,"",null,""]
[null,null,"",null,""]
[null,null,"",null,""]
[null,null,"",null,""]
[null,null,"",null,""]
[null,null,"",null,""]
[null,null,"",null,""]
[null,null,"",null,""]
[null,null,"",null,""]
[null,null,"",null,""]
[null,null,"",null,""]
[null,null,"",null,""]
[null,null,"",null,""]
[null,null,"",null,""]
[null,null,"",null,""]
[null,null,"",null,""]
[null,null,"",null,""]
[null,null,"",null,""]
[null,null,"",null,""]
[null,null,"",null,""]
[null,null,"",null,""]
[null,null,"",null,""]
[null,null,"",null,""]
[null,null,"",null,""]
[null,null,"",null,""]
[null,null,"",null,""]
[null,null,"",null,""]
[null,null,"",null,""]
[null,null,"",null,""]
[null,null,"",null,""]
[null,null,"",null,""]
[null,null,"",null,""]
[null,null,"",null,""]
[null,null,"",null,""]
[null,null,"",null,""]
[null,null,"",null,""]
[null,null,"",null,""]
[null,null,"",null,""]
[null,null,"",null,""]
[null,null,"",null,""]
[null,null,"",null,""]
[null,null,"",null,""]
[null,null,"",null,""]
[null,null,"",null,""]
[null,null,"",null,""]
[null,null,"",null,""]
[null,null,"",null,""]
[null,null,"",null,""]
[null,null,"",null,""]
[null,null,"",null,""]
[null,null,"",null,""]
[null,null,"",null,""]
[null,null,"",null,""]
[null,null,"",null,""]
[null,null,"",null,""]
[null,null,"",null,""]
[null,null,"",null,""]
[null,null,"",null,""]
[null,null,"",null,""]

{"sheet":"Options","index":5,"n_rows":3,"n_cols":4,"rows_kept":3,"cut":false,"hidden":false,"merged":[]}
["using the DROP phrase","FAIL WHALE","gives the player a score of",0]
["using the SHEEP phrase","RETWEET","gives the player the highest-scoring amount"]
[{"$f":"\"If more people pick \"\"\"&SHEEPNAME&\"\"\" than the actual SHEEP total, should we use that higher amount?\"","v":"If more people pick \"RETWEET\" than the actual SHEEP total, should we use that higher amount?"},"NO","(type \"YES\" in all caps to change this)"]